{"text_format":"1","workbook":"xlsx","n_sheets":5,"sheets":["Product SARF","Test Method List","Instruction","Import","Background DropDowns"],"not_rendered":{"charts":0,"images":3,"macros":1,"external_links":0,"defined_names":10,"comments":0,"pivot_tables":0},"unopened":[],"bounds":{"document_bytes":16777216,"sheet_cells":100000,"rows_first":2000,"rows_last":500,"rows_between":2000,"halvings":0,"cell_chars":16384,"cell_head_chars":4096},"cells_cut":0,"cells_raw":0,"read":"whole","date_system":"1900"}

{"sheet":"Product SARF","index":0,"n_rows":219,"n_cols":16,"rows_kept":219,"cut":false,"hidden":false,"merged":[[17,0,18,0],[15,1,18,1],[15,2,18,2],[15,3,18,3],[15,4,18,4],[14,4,14,12],[9,0,10,1],[7,0,8,1],[7,4,7,12],[8,4,8,12],[9,4,9,12],[10,4,10,12],[11,4,11,12],[12,4,12,12],[11,0,11,3],[13,4,13,12],[12,0,12,3],[13,0,13,3],[14,0,14,3],[9,2,10,3],[7,2,8,3],[0,3,0,9],[2,3,2,9],[1,3,1,9],[4,0,6,2],[2,10,2,12],[0,11,0,12],[1,11,1,12],[3,10,4,10],[3,11,4,12],[4,3,4,9],[5,3,5,9]]}
[null,null,null,"        Sample Analysis Request Form (SARF)                   ",null,null,null,null,null,null,"Date Sent:"]
[null,null,null,"    Phone: (219) 226-0001               ",null,null,null,null,null,null,"P.O. #"]
[null,null,null,"         Email To:  sampleadmin@donlevylab.com                    ",null,null,null,null,null,null,"FOR LAB USE ONLY"]
[null,null,null,null,null,null,null,null,null,null," Date Rec:"]
["11165 Delaware Parkway\nCrown Point, IN  46307\nwww.donlevylab.com\n",null,null,"       DonLevy Laboratories offers sample pick up service to the Chicagoland area daily.      "]
[null,null,null,"  To schedule a same day sample pick up, please contact the laboratory before 8:00 a.m.",null,null,null,null,null,null," Temp:",null," °C"]
[]
["Client Name:                                                                                                     ",null,"Generic",null,{"$f":"IF(F17=\"\",\"1) ...\",IFERROR(CONCATENATE(\"1) \",VLOOKUP(F18&F19,PTable[Concatenate]:PTable[Full Test Method],2,FALSE)),IF(F17=\"Other\",\"1) See Comments\",\"1) NA\")))","v":"1) Aerobic Plate Count (35°C) MB073.06 (AOAC-RI 051702)(Microfilm)"}]
[null,null,null,null,{"$f":"IF(G17=\"\",\"2) ...\",IFERROR(CONCATENATE(\"2) \",VLOOKUP(G18&G19,PTable[Concatenate]:PTable[Full Test Method],2,FALSE)),IF(G17=\"Other\",\"2) See Comments\",\"2) NA\")))","v":"2) E. coli MB072.04 (AOAC-RI 051702)(Microfilm)"}]
["Client Code: ",null,"Generic",null,{"$f":"IF(H17=\"\",\"3) ...\",IFERROR(CONCATENATE(\"3) \",VLOOKUP(H18&H19,PTable[Concatenate]:PTable[Full Test Method],2,FALSE)),IF(H17=\"Other\",\"3) See Comments\",\"3) NA\")))","v":"3) Coliform MB072.04 (AOAC-RI 051702)(Microfilm)"}]
[null,null,null,null,{"$f":"IF(I17=\"\",\"4) ...\",IFERROR(CONCATENATE(\"4) \",VLOOKUP(I18&I19,PTable[Concatenate]:PTable[Full Test Method],2,FALSE)),IF(I17=\"Other\",\"4) See Comments\",\"4) NA\")))","v":"4) Yeast MB074.03 (AOAC-RI 051702)(Microfilm)"}]
["COMMENTS/INSTRUCTIONS:",null,null,null,{"$f":"IF(J17=\"\",\"5) ...\",IFERROR(CONCATENATE(\"5) \",VLOOKUP(J18&J19,PTable[Concatenate]:PTable[Full Test Method],2,FALSE)),IF(J17=\"Other\",\"5) See Comments\",\"5) NA\")))","v":"5) Mold MB074.03 (AOAC-RI 051702)(Microfilm)"}]
[null,null,null,null,{"$f":"IF(K17=\"\",\"6) ...\",IFERROR(CONCATENATE(\"6) \",VLOOKUP(K18&K19,PTable[Concatenate]:PTable[Full Test Method],2,FALSE)),IF(K17=\"Other\",\"6) See Comments\",\"6) NA\")))","v":"6) ..."}]
[null,null,null,null,{"$f":"IF(L17=\"\",\"7) ...\",IFERROR(CONCATENATE(\"7) \",VLOOKUP(L18&L19,PTable[Concatenate]:PTable[Full Test Method],2,FALSE)),IF(L17=\"Other\",\"7) See Comments\",\"7) NA\")))","v":"7) Listeria species MB316.01 (AOAC-RI 021201)(PCR)(25g)"}]
[null,null,null,null,{"$f":"IF(M17=\"\",\"8) ...\",IFERROR(CONCATENATE(\"8) \",VLOOKUP(M18&M19,PTable[Concatenate]:PTable[Full Test Method],2,FALSE)),IF(M17=\"Other\",\"8) See Comments\",\"8) NA\")))","v":"8) Salmonella species MB217.01 (AOAC-RI 100701)(PCR)(25g)"}]
[null,"Date\nCollected\n(mm/dd/yy)","Sample Type\n(Required)","Lot","Description",1,2,3,4,5,6,7,8]
[null,null,null,null,null,"Quan","Quan","Quan","Quan","Quan",null,"Qual","Qual"]
["#",null,null,null,null,"APC35","EC","COLI","Y","M",null,"LG","SAL"]
[null,null,null,null,null,"MFg","MFg","MFg","MFg","MFg",null,"PCR25g","PCR25g",null,"#","SampleTypeList"]
[1,"2018-06-06","Type A","1234","post filler",null,null,null,null,null,null,null,null,null,1,"Type A"]
[{"$f":"1+A20","v":2},"2018-06-06","Type B","1234","ingredient ",null,null,null,null,null,null,null,null,null,{"$f":"1+O20","v":2},"Type B"]
[{"$f":"1+A21","v":3},"2018-06-06","Type B","5678","packaged",null,null,null,null,null,null,null,null,null,{"$f":"1+O21","v":3},"Type C"]
[4,null,null,null,null,null,null,null,null,null,null,null,null,null,4]
[5,null,null,null,null,null,null,null,null,null,null,null,null,null,5]
[6,null,null,null,null,null,null,null,null,null,null,null,null,null,6]
[7,null,null,null,null,null,null,null,null,null,null,null,null,null,7]
[8,null,null,null,null,null,null,null,null,null,null,null,null,null,8]
[9,null,null,null,null,null,null,null,null,null,null,null,null,null,9]
[10,null,null,null,null,null,null,null,null,null,null,null,null,null,10]
[11,null,null,null,null,null,null,null,null,null,null,null,null,null,11]
[12,null,null,null,null,null,null,null,null,null,null,null,null,null,{"$f":"1+O30","v":12}]
[13,null,null,null,null,null,null,null,null,null,null,null,null,null,13]
[14,null,null,null,null,null,null,null,null,null,null,null,null,null,14]
[15,null,null,null,null,null,null,null,null,null,null,null,null,null,15]
[16,null,null,null,null,null,null,null,null,null,null,null,null,null,16]
[17,null,null,null,null,null,null,null,null,null,null,null,null,null,17]
[18,null,null,null,null,null,null,null,null,null,null,null,null,null,{"$f":"1+O36","v":18}]
[19,null,null,null,null,null,null,null,null,null,null,null,null,null,19]
[20,null,null,null,null,null,null,null,null,null,null,null,null,null,20]
[21,null,null,null,null,null,null,null,null,null,null,null,null,null,{"$f":"1+O39","v":21}]
[22,null,null,null,null,null,null,null,null,null,null,null,null,null,22]
[23,null,null,null,null,null,null,null,null,null,null,null,null,null,23]
[24,null,null,null,null,null,null,null,null,null,null,null,null,null,24]
[25,null,null,null,null,null,null,null,null,null,null,null,null,null,25]
[26,null,null,null,null,null,null,null,null,null,null,null,null,null,{"$f":"1+O44","v":26}]
[27,null,null,null,null,null,null,null,null,null,null,null,null,null,27]
[28,null,null,null,null,null,null,null,null,null,null,null,null,null,28]
[29,null,null,null,null,null,null,null,null,null,null,null,null,null,29]
[30,null,null,null,null,null,null,null,null,null,null,null,null,null,30]
[31,null,null,null,null,null,null,null,null,null,null,null,null,null,31]
[32,null,null,null,null,null,null,null,null,null,null,null,null,null,32]
[33,null,null,null,null,null,null,null,null,null,null,null,null,null,33]
[34,null,null,null,null,null,null,null,null,null,null,null,null,null,34]
[35,null,null,null,null,null,null,null,null,null,null,null,null,null,35]
[36,null,null,null,null,null,null,null,null,null,null,null,null,null,36]
[37,null,null,null,null,null,null,null,null,null,null,null,null,null,37]
[38,null,null,null,null,null,null,null,null,null,null,null,null,null,38]
[39,null,null,null,null,null,null,null,null,null,null,null,null,null,39]
[40,null,null,null,null,null,null,null,null,null,null,null,null,null,40]
[41,null,null,null,null,null,null,null,null,null,null,null,null,null,41]
[42,null,null,null,null,null,null,null,null,null,null,null,null,null,42]
[43,null,null,null,null,null,null,null,null,null,null,null,null,null,43]
[44,null,null,null,null,null,null,null,null,null,null,null,null,null,44]
[45,null,null,null,null,null,null,null,null,null,null,null,null,null,45]
[46,null,null,null,null,null,null,null,null,null,null,null,null,null,46]
[47,null,null,null,null,null,null,null,null,null,null,null,null,null,47]
[48,null,null,null,null,null,null,null,null,null,null,null,null,null,48]
[49,null,null,null,null,null,null,null,null,null,null,null,null,null,49]
[50,null,null,null,null,null,null,null,null,null,null,null,null,null,50]
[51,null,null,null,null,null,null,null,null,null,null,null,null,null,51]
[52,null,null,null,null,null,null,null,null,null,null,null,null,null,52]
[53,null,null,null,null,null,null,null,null,null,null,null,null,null,53]
[54,null,null,null,null,null,null,null,null,null,null,null,null,null,54]
[55,null,null,null,null,null,null,null,null,null,null,null,null,null,{"$f":"1+O73","v":55}]
[56,null,null,null,null,null,null,null,null,null,null,null,null,null,56]
[57,null,null,null,null,null,null,null,null,null,null,null,null,null,57]
[58,null,null,null,null,null,null,null,null,null,null,null,null,null,58]
[59,null,null,null,null,null,null,null,null,null,null,null,null,null,59]
[60,null,null,null,null,null,null,null,null,null,null,null,null,null,60]
[61,null,null,null,null,null,null,null,null,null,null,null,null,null,61]
[62,null,null,null,null,null,null,null,null,null,null,null,null,null,62]
[63,null,null,null,null,null,null,null,null,null,null,null,null,null,63]
[64,null,null,null,null,null,null,null,null,null,null,null,null,null,64]
[65,null,null,null,null,null,null,null,null,null,null,null,null,null,65]
[66,null,null,null,null,null,null,null,null,null,null,null,null,null,66]
[{"$f":"1+A85","v":67},null,null,null,null,null,null,null,null,null,null,null,null,null,67]
[68,null,null,null,null,null,null,null,null,null,null,null,null,null,68]
[69,null,null,null,null,null,null,null,null,null,null,null,null,null,69]
[70,null,null,null,null,null,null,null,null,null,null,null,null,null,70]
[71,null,null,null,null,null,null,null,null,null,null,null,null,null,71]
[72,null,null,null,null,null,null,null,null,null,null,null,null,null,72]
[73,null,null,null,null,null,null,null,null,null,null,null,null,null,73]
[74,null,null,null,null,null,null,null,null,null,null,null,null,null,74]
[75,null,null,null,null,null,null,null,null,null,null,null,null,null,75]
[76,null,null,null,null,null,null,null,null,null,null,null,null,null,76]
[77,null,null,null,null,null,null,null,null,null,null,null,null,null,77]
[78,null,null,null,null,null,null,null,null,null,null,null,null,null,78]
[79,null,null,null,null,null,null,null,null,null,null,null,null,null,79]
[80,null,null,null,null,null,null,null,null,null,null,null,null,null,80]
[81,null,null,null,null,null,null,null,null,null,null,null,null,null,81]
[82,null,null,null,null,null,null,null,null,null,null,null,null,null,82]
[83,null,null,null,null,null,null,null,null,null,null,null,null,null,83]
[84,null,null,null,null,null,null,null,null,null,null,null,null,null,84]
[85,null,null,null,null,null,null,null,null,null,null,null,null,null,85]
[86,null,null,null,null,null,null,null,null,null,null,null,null,null,86]
[87,null,null,null,null,null,null,null,null,null,null,null,null,null,87]
[88,null,null,null,null,null,null,null,null,null,null,null,null,null,88]
[89,null,null,null,null,null,null,null,null,null,null,null,null,null,89]
[90,null,null,null,null,null,null,null,null,null,null,null,null,null,90]
[91,null,null,null,null,null,null,null,null,null,null,null,null,null,91]
[92,null,null,null,null,null,null,null,null,null,null,null,null,null,92]
[93,null,null,null,null,null,null,null,null,null,null,null,null,null,93]
[94,null,null,null,null,null,null,null,null,null,null,null,null,null,94]
[95,null,null,null,null,null,null,null,null,null,null,null,null,null,95]
[96,null,null,null,null,null,null,null,null,null,null,null,null,null,96]
[97,null,null,null,null,null,null,null,null,null,null,null,null,null,97]
[98,null,null,null,null,null,null,null,null,null,null,null,null,null,98]
[99,null,null,null,null,null,null,null,null,null,null,null,null,null,99]
[100,null,null,null,null,null,null,null,null,null,null,null,null,null,100]
[101]
[102]
[103]
[104]
[105]
[106]
[107]
[108]
[109]
[110]
[111]
[112]
[113]
[114]
[115]
[116]
[117]
[118]
[119]
[120]
[121]
[122]
[123]
[124]
[125]
[126]
[127]
[128]
[129]
[130]
[{"$f":"1+A149","v":131}]
[132]
[133]
[134]
[135]
[136]
[137]
[138]
[139]
[140]
[141]
[142]
[143]
[144]
[145]
[146]
[147]
[148]
[149]
[150]
[151]
[152]
[153]
[154]
[155]
[156]
[157]
[158]
[159]
[160]
[161]
[162]
[163]
[164]
[165]
[166]
[167]
[168]
[169]
[170]
[171]
[172]
[173]
[174]
[175]
[176]
[177]
[178]
[179]
[180]
[181]
[182]
[183]
[184]
[185]
[186]
[187]
[188]
[189]
[190]
[191]
[192]
[193]
[194]
[{"$f":"1+A213","v":195}]
[196]
[197]
[198]
[199]
[200]

{"sheet":"Test Method List","index":1,"n_rows":345,"n_cols":7,"rows_kept":345,"cut":false,"hidden":false,"merged":[]}
["1-Type","2-Test","3-Method","Concatenate","Full Test Method","Notes"]
["Allergen","Almond","Microbio",{"$f":"CONCATENATE(PTable[[#This Row],[2-Test]],PTable[[#This Row],[3-Method]])","v":"AlmondMicrobio"},"Almond Microbiologique AllergenControl / Elisa Systems Microwell (<1)"]
["Allergen","Brazil","Microbio",{"$f":"CONCATENATE(PTable[[#This Row],[2-Test]],PTable[[#This Row],[3-Method]])","v":"BrazilMicrobio"},"Brazil Nut Microbiologique AllergenControl / Elisa Systems Microwell (<1)",null,"General Info"]
["Allergen","Casein","Microbio",{"$f":"CONCATENATE(PTable[[#This Row],[2-Test]],PTable[[#This Row],[3-Method]])","v":"CaseinMicrobio"},"Casein Microbiologique AllergenControl / Elisa Systems Microwell (<0.1)",null,"no units in the Full Test Method typically report in \"g\" for Quantitative Microbiology"]
["Allergen","Cashew","Microbio",{"$f":"CONCATENATE(PTable[[#This Row],[2-Test]],PTable[[#This Row],[3-Method]])","v":"CashewMicrobio"},"Cashew Microbiologique AllergenControl / Elisa Systems Microwell (<1)",null,"for Method, lowercase \"m\" refers to \"modified\" for both Quantitative and Qualitative Microbiolgy"]
["Allergen","Coconut","Microbio",{"$f":"CONCATENATE(PTable[[#This Row],[2-Test]],PTable[[#This Row],[3-Method]])","v":"CoconutMicrobio"},"Coconut Microbiologique AllergenControl / Elisa Systems Microwell (<1)",null,"for Method, the lack of the lowercase \"m\" refers to a reference Method for both Quantitative and Qualitative Microbiolgy"]
["Allergen","Crust","Microbio",{"$f":"CONCATENATE(PTable[[#This Row],[2-Test]],PTable[[#This Row],[3-Method]])","v":"CrustMicrobio"},"Crustacean Microbiologique AllergenControl / Elisa Systems Microwell (<0.05)","5.9.18 (MM) - Added"]
["Allergen","Egg","Microbio",{"$f":"CONCATENATE(PTable[[#This Row],[2-Test]],PTable[[#This Row],[3-Method]])","v":"EggMicrobio"},"Egg Microbiologique AllergenControl / Elisa Systems Microwell (<1)"]
["Allergen","Gliadin","Alert",{"$f":"CONCATENATE(PTable[[#This Row],[2-Test]],PTable[[#This Row],[3-Method]])","v":"GliadinAlert"},"Gliadin Neogen Alert (<10)"]
["Allergen","Gliadin","Veratox",{"$f":"CONCATENATE(PTable[[#This Row],[2-Test]],PTable[[#This Row],[3-Method]])","v":"GliadinVeratox"},"Gliadin Neogen Veratox (Quantitative)"]
["Allergen","Gluten","Microbio",{"$f":"CONCATENATE(PTable[[#This Row],[2-Test]],PTable[[#This Row],[3-Method]])","v":"GlutenMicrobio"},"Gluten Microbiologique AllergenControl / Elisa Systems Microwell (<2)"]
["Allergen","Hazel","Microbio",{"$f":"CONCATENATE(PTable[[#This Row],[2-Test]],PTable[[#This Row],[3-Method]])","v":"HazelMicrobio"},"Hazelnut Microbiologique AllergenControl / Elisa Systems Microwell (<1)"]
["Allergen","Macadmi","Microbio",{"$f":"CONCATENATE(PTable[[#This Row],[2-Test]],PTable[[#This Row],[3-Method]])","v":"MacadmiMicrobio"},"Macadamia Nut Microbiologique AllergenControl / Elisa Systems Microwell (<1)"]
["Allergen","Milk","Microbio",{"$f":"CONCATENATE(PTable[[#This Row],[2-Test]],PTable[[#This Row],[3-Method]])","v":"MilkMicrobio"},"Total Milk Microbiologique AllergenControl / Elisa Systems Microwell (<0.1)"]
["Allergen","Peanut","Microbio",{"$f":"CONCATENATE(PTable[[#This Row],[2-Test]],PTable[[#This Row],[3-Method]])","v":"PeanutMicrobio"},"Peanut Microbiologique AllergenControl / Elisa Systems Microwell (<1)"]
["Allergen","Pecan","Microbio",{"$f":"CONCATENATE(PTable[[#This Row],[2-Test]],PTable[[#This Row],[3-Method]])","v":"PecanMicrobio"},"Pecan Microbiologique AllergenControl / Elisa Systems Microwell (<1)"]
["Allergen","Pine","Microbio",{"$f":"CONCATENATE(PTable[[#This Row],[2-Test]],PTable[[#This Row],[3-Method]])","v":"PineMicrobio"},"Pine Nut Microbiologique AllergenControl / Elisa Systems Microwell (<1)"]
["Allergen","Pist","Microbio",{"$f":"CONCATENATE(PTable[[#This Row],[2-Test]],PTable[[#This Row],[3-Method]])","v":"PistMicrobio"},"Pistachio Microbiologique AllergenControl / Elisa Systems Microwell (<1)"]
["Allergen","Sesame","Microbio",{"$f":"CONCATENATE(PTable[[#This Row],[2-Test]],PTable[[#This Row],[3-Method]])","v":"SesameMicrobio"},"Sesame Microbiologique AllergenControl / Elisa Systems Microwell (<1)"]
["Allergen","Soy","Microbio",{"$f":"CONCATENATE(PTable[[#This Row],[2-Test]],PTable[[#This Row],[3-Method]])","v":"SoyMicrobio"},"Soy Microbiologique AllergenControl / Elisa Systems Microwell (<1)"]
["Allergen","Walnut","Microbio",{"$f":"CONCATENATE(PTable[[#This Row],[2-Test]],PTable[[#This Row],[3-Method]])","v":"WalnutMicrobio"},"Walnut Microbiologique AllergenControl / Elisa Systems Microwell (<1)"]
["Chem","AIA","AOAC",{"$f":"CONCATENATE(PTable[[#This Row],[2-Test]],PTable[[#This Row],[3-Method]])","v":"AIAAOAC"},"Acid Insoluble Ash AOAC 941.12"]
["Chem","ASH","AOAC",{"$f":"CONCATENATE(PTable[[#This Row],[2-Test]],PTable[[#This Row],[3-Method]])","v":"ASHAOAC"},"Ash AOAC 923.03"]
["Chem","Aw","AOAC",{"$f":"CONCATENATE(PTable[[#This Row],[2-Test]],PTable[[#This Row],[3-Method]])","v":"AwAOAC"},"Water Activity AOAC 978.18 (dew point)"]
["Chem","Brix","Rfr",{"$f":"CONCATENATE(PTable[[#This Row],[2-Test]],PTable[[#This Row],[3-Method]])","v":"BrixRfr"},"Brix Refractometer"]
["Chem","Cal","USDA",{"$f":"CONCATENATE(PTable[[#This Row],[2-Test]],PTable[[#This Row],[3-Method]])","v":"CalUSDA"},"Calories USDA National Nutrient Database for Standardd Reference SR28"]
["Chem","CARB","USDA",{"$f":"CONCATENATE(PTable[[#This Row],[2-Test]],PTable[[#This Row],[3-Method]])","v":"CARBUSDA"},"Carbohydrate USDA National Nutrient Database for Standardd Reference SR28"]
["Chem","Cl","comb",{"$f":"CONCATENATE(PTable[[#This Row],[2-Test]],PTable[[#This Row],[3-Method]])","v":"Clcomb"},"Chlorine (combined)","8.29.18 (MM) - Changed \"CL\" to \"Cl\" for consistency with other element analytes"]
["Chem","Cl","free",{"$f":"CONCATENATE(PTable[[#This Row],[2-Test]],PTable[[#This Row],[3-Method]])","v":"Clfree"},"Chlorine (free available)","8.29.18 (MM) - Changed \"CL\" to \"Cl\" for consistency with other element analytes"]
["Chem","Cl","total",{"$f":"CONCATENATE(PTable[[#This Row],[2-Test]],PTable[[#This Row],[3-Method]])","v":"Cltotal"},"Chlorine (total residual)","8.29.18 (MM) - Changed \"CL\" to \"Cl\" for consistency with other element analytes"]
["Chem","CookTp","USDA",{"$f":"CONCATENATE(PTable[[#This Row],[2-Test]],PTable[[#This Row],[3-Method]])","v":"CookTpUSDA"},"Internal Cook Temperature USDA F07"]
["Chem","ExtColor","ASTAc",{"$f":"CONCATENATE(PTable[[#This Row],[2-Test]],PTable[[#This Row],[3-Method]])","v":"ExtColorASTAc"},"Extractable Color in Capsicums and Their Oleoresins ASTA 20.1 (capsicums)"]
["Chem","ExtColor","ASTAo",{"$f":"CONCATENATE(PTable[[#This Row],[2-Test]],PTable[[#This Row],[3-Method]])","v":"ExtColorASTAo"},"Extractable Color in Capsicums and Their Oleoresins ASTA 20.1 (oleoresins)"]
["Chem","Fat","AH",{"$f":"CONCATENATE(PTable[[#This Row],[2-Test]],PTable[[#This Row],[3-Method]])","v":"FatAH"},"Fat AOAC 948.15 (Acid Hydrolysis)"]
["Chem","Fat","Mojo",{"$f":"CONCATENATE(PTable[[#This Row],[2-Test]],PTable[[#This Row],[3-Method]])","v":"FatMojo"},"Fat AOAC 989.05 (Mojonnier)"]
["Chem","Fat","Soxhlet",{"$f":"CONCATENATE(PTable[[#This Row],[2-Test]],PTable[[#This Row],[3-Method]])","v":"FatSoxhlet"},"Fat AOAC 960.39 (Soxhlet)"]
["Chem","FFA","AOCS",{"$f":"CONCATENATE(PTable[[#This Row],[2-Test]],PTable[[#This Row],[3-Method]])","v":"FFAAOCS"},"Free Fatty Acid AOCS Ca5a-40"]
["Chem","Hardness","Ca",{"$f":"CONCATENATE(PTable[[#This Row],[2-Test]],PTable[[#This Row],[3-Method]])","v":"HardnessCa"},"Water Hardness Assay kit (calcium hardness)"]
["Chem","Hardness","Mg",{"$f":"CONCATENATE(PTable[[#This Row],[2-Test]],PTable[[#This Row],[3-Method]])","v":"HardnessMg"},"Water Hardness Assay kit (magnesium hardness)"]
["Chem","Hardness","total",{"$f":"CONCATENATE(PTable[[#This Row],[2-Test]],PTable[[#This Row],[3-Method]])","v":"Hardnesstotal"},"Water Hardness Assay kit (total hardness)"]
["Chem","Moist","CRA",{"$f":"CONCATENATE(PTable[[#This Row],[2-Test]],PTable[[#This Row],[3-Method]])","v":"MoistCRA"},"Moisture CRA MOIST.04"]
["Chem","Moist","flour",{"$f":"CONCATENATE(PTable[[#This Row],[2-Test]],PTable[[#This Row],[3-Method]])","v":"Moistflour"},"Moisture AOAC 925.09 (flour)"]
["Chem","Moist","KF",{"$f":"CONCATENATE(PTable[[#This Row],[2-Test]],PTable[[#This Row],[3-Method]])","v":"MoistKF"},"Moisture AOAC 2001.12 (Karl Fischer)"]
["Chem","Moist","meat",{"$f":"CONCATENATE(PTable[[#This Row],[2-Test]],PTable[[#This Row],[3-Method]])","v":"Moistmeat"},"Moisture AOAC 950.46B (meat)"]
["Chem","Moist","milk",{"$f":"CONCATENATE(PTable[[#This Row],[2-Test]],PTable[[#This Row],[3-Method]])","v":"Moistmilk"},"Moisture AOAC 990.20 (milk)"]
["Chem","Moist","sugar",{"$f":"CONCATENATE(PTable[[#This Row],[2-Test]],PTable[[#This Row],[3-Method]])","v":"Moistsugar"},"Moisture AOAC 925.45A (sugar)"]
["Chem","MPR","calc",{"$f":"CONCATENATE(PTable[[#This Row],[2-Test]],PTable[[#This Row],[3-Method]])","v":"MPRcalc"},"Moisture Protein Ratio"]
["Chem","Na","AOAC",{"$f":"CONCATENATE(PTable[[#This Row],[2-Test]],PTable[[#This Row],[3-Method]])","v":"NaAOAC"},"Sodium AOAC 976.25"]
["Chem","NO2","AOAC",{"$f":"CONCATENATE(PTable[[#This Row],[2-Test]],PTable[[#This Row],[3-Method]])","v":"NO2AOAC"},"Nitrite AOAC 973.31"]
["Chem","Perxdase","FAO",{"$f":"CONCATENATE(PTable[[#This Row],[2-Test]],PTable[[#This Row],[3-Method]])","v":"PerxdaseFAO"},"Peroxidase FAO Fruit and Veg. Processing"]
["Chem","PFF","calc",{"$f":"CONCATENATE(PTable[[#This Row],[2-Test]],PTable[[#This Row],[3-Method]])","v":"PFFcalc"},"Protein Fat Free"]
["Chem","pH","AOAC",{"$f":"CONCATENATE(PTable[[#This Row],[2-Test]],PTable[[#This Row],[3-Method]])","v":"pHAOAC"},"pH AOAC 981.12"]
["Chem","Protein","Kjeldahl",{"$f":"CONCATENATE(PTable[[#This Row],[2-Test]],PTable[[#This Row],[3-Method]])","v":"ProteinKjeldahl"},"Protein AOAC 2001.11"]
["Chem","Purge","HMPSQ",{"$f":"CONCATENATE(PTable[[#This Row],[2-Test]],PTable[[#This Row],[3-Method]])","v":"PurgeHMPSQ"},"Purge HMPSQ"]
["Chem","PV","AOCS",{"$f":"CONCATENATE(PTable[[#This Row],[2-Test]],PTable[[#This Row],[3-Method]])","v":"PVAOCS"},"Peroxide Value AOCS Cd8-53"]
["Chem","PV","AOCSe",{"$f":"CONCATENATE(PTable[[#This Row],[2-Test]],PTable[[#This Row],[3-Method]])","v":"PVAOCSe"},"Peroxide Value AOCS Cd8-53 (extraction)"]
["Chem","Salt","AOAC",{"$f":"CONCATENATE(PTable[[#This Row],[2-Test]],PTable[[#This Row],[3-Method]])","v":"SaltAOAC"},"Salt AOAC 983.14"]
["Chem","SG","hydro",{"$f":"CONCATENATE(PTable[[#This Row],[2-Test]],PTable[[#This Row],[3-Method]])","v":"SGhydro"},"Specific Gravity AOAC 932.14A (hydrometer)"]
["Chem","SG","pycno",{"$f":"CONCATENATE(PTable[[#This Row],[2-Test]],PTable[[#This Row],[3-Method]])","v":"SGpycno"},"Specific Gravity AOAC 945.06 (pycnometer)"]
["Chem","TA","acetic",{"$f":"CONCATENATE(PTable[[#This Row],[2-Test]],PTable[[#This Row],[3-Method]])","v":"TAacetic"},"Titratable Acidity AOAC 942.15 (acetic acid)"]
["Chem","TA","citric",{"$f":"CONCATENATE(PTable[[#This Row],[2-Test]],PTable[[#This Row],[3-Method]])","v":"TAcitric"},"Titratable Acidity AOAC 942.15 (citric acid)"]
["Chem","TA","lactic",{"$f":"CONCATENATE(PTable[[#This Row],[2-Test]],PTable[[#This Row],[3-Method]])","v":"TAlactic"},"Titratable Acidity AOAC 942.15 (lactic acid)"]
["Chem","TBA","AOCS",{"$f":"CONCATENATE(PTable[[#This Row],[2-Test]],PTable[[#This Row],[3-Method]])","v":"TBAAOCS"},"TBA (2-thiobarbituric acid) AOCS Cd 19-90"]
["Chem","TSS","SMEWW",{"$f":"CONCATENATE(PTable[[#This Row],[2-Test]],PTable[[#This Row],[3-Method]])","v":"TSSSMEWW"},"Total Suspended Solids SMEWW 2540D"]
["Chem","Viscosity","Brook",{"$f":"CONCATENATE(PTable[[#This Row],[2-Test]],PTable[[#This Row],[3-Method]])","v":"ViscosityBrook"},"Viscosity Brookfield"]
["Chem","VO","ASTA",{"$f":"CONCATENATE(PTable[[#This Row],[2-Test]],PTable[[#This Row],[3-Method]])","v":"VOASTA"},"Volatile Oil ASTA 5.2"]
["Chem","WPSC","calc",{"$f":"CONCATENATE(PTable[[#This Row],[2-Test]],PTable[[#This Row],[3-Method]])","v":"WPSCcalc"},"Water Phase Salt Content"]
["Orgnlptc","Organo","Color",{"$f":"CONCATENATE(PTable[[#This Row],[2-Test]],PTable[[#This Row],[3-Method]])","v":"OrganoColor"},"Color ISO 5492:2008"]
["Orgnlptc","Organo","Odor",{"$f":"CONCATENATE(PTable[[#This Row],[2-Test]],PTable[[#This Row],[3-Method]])","v":"OrganoOdor"},"Odor ISO 5492:2008"]
["Orgnlptc","Organo","PkgApp",{"$f":"CONCATENATE(PTable[[#This Row],[2-Test]],PTable[[#This Row],[3-Method]])","v":"OrganoPkgApp"},"Packaging Appearance ISO 5492:2008"]
["Orgnlptc","Organo","Prod.App",{"$f":"CONCATENATE(PTable[[#This Row],[2-Test]],PTable[[#This Row],[3-Method]])","v":"OrganoProd.App"},"Product Appearance ISO 5492:2008"]
["Orgnlptc","Organo","Taste",{"$f":"CONCATENATE(PTable[[#This Row],[2-Test]],PTable[[#This Row],[3-Method]])","v":"OrganoTaste"},"Taste ISO 5492:2008"]
["Orgnlptc","Organo","Texture",{"$f":"CONCATENATE(PTable[[#This Row],[2-Test]],PTable[[#This Row],[3-Method]])","v":"OrganoTexture"},"Texture ISO 5492:2008"]
["Qual","BTGN","USP10g",{"$f":"CONCATENATE(PTable[[#This Row],[2-Test]],PTable[[#This Row],[3-Method]])","v":"BTGNUSP10g"},"Bile-Tolerant Gram-Negative Bacteria USP-NF Ch.62 (10g)"]
["Qual","BTGN","USP11g",{"$f":"CONCATENATE(PTable[[#This Row],[2-Test]],PTable[[#This Row],[3-Method]])","v":"BTGNUSP11g"},"Bile-Tolerant Gram-Negative Bacteria USP-NF Ch.62 (11g)"]
["Qual","BTGN","USP1g",{"$f":"CONCATENATE(PTable[[#This Row],[2-Test]],PTable[[#This Row],[3-Method]])","v":"BTGNUSP1g"},"Bile-Tolerant Gram-Negative Bacteria USP-NF Ch.62 (1g)"]
["Qual","BTGN","USP25g",{"$f":"CONCATENATE(PTable[[#This Row],[2-Test]],PTable[[#This Row],[3-Method]])","v":"BTGNUSP25g"},"Bile-Tolerant Gram-Negative Bacteria USP-NF Ch.62 (25g)"]
["Qual","BTGN","USP5g",{"$f":"CONCATENATE(PTable[[#This Row],[2-Test]],PTable[[#This Row],[3-Method]])","v":"BTGNUSP5g"},"Bile-Tolerant Gram-Negative Bacteria USP-NF Ch.62 (5g)"]
["Qual","Campy","PCR1mL",{"$f":"CONCATENATE(PTable[[#This Row],[2-Test]],PTable[[#This Row],[3-Method]])","v":"CampyPCR1mL"},"Campylobacter species MB216.01 (PCR)(1mL)","8.29.18 (MM) - Changed \"30mL\" to \"1mL\" per change in analysis"]
["Qual","Campy","PCR25g",{"$f":"CONCATENATE(PTable[[#This Row],[2-Test]],PTable[[#This Row],[3-Method]])","v":"CampyPCR25g"},"Campylobacter species MB216.01 (PCR)(25g)"]
["Qual","COLIql","mSMEW",{"$f":"CONCATENATE(PTable[[#This Row],[2-Test]],PTable[[#This Row],[3-Method]])","v":"COLIqlmSMEW"},"Coliform Modified SMEWW Section 9223 B 21st Ed. (Colilert)","5.30.18 (MM) - Updated Test Method from \"Modified SMEWW Section 9221 D,E (Colilert)\" to \"Modified SMEWW Section 9223 B 21st Ed. (Colilert)\" per ISDH"]
["Qual","ECO157","PCR100m",{"$f":"CONCATENATE(PTable[[#This Row],[2-Test]],PTable[[#This Row],[3-Method]])","v":"ECO157PCR100m"},"E. coli O157 MB217.01 (AOAC-RI 100701)(PCR)(100mL)","4.13.18 (MM) - Added"]
["Qual","ECO157","PCR125g",{"$f":"CONCATENATE(PTable[[#This Row],[2-Test]],PTable[[#This Row],[3-Method]])","v":"ECO157PCR125g"},"E. coli O157 MB217.01 (AOAC-RI 100701)(PCR)(125g)","4.13.18 (MM) - Added"]
["Qual","ECO157","PCR25g",{"$f":"CONCATENATE(PTable[[#This Row],[2-Test]],PTable[[#This Row],[3-Method]])","v":"ECO157PCR25g"},"E. coli O157 MB217.01 (AOAC-RI 100701)(PCR)(25g)"]
["Qual","ECO157","PCR325g",{"$f":"CONCATENATE(PTable[[#This Row],[2-Test]],PTable[[#This Row],[3-Method]])","v":"ECO157PCR325g"},"E. coli O157 MB217.01 (AOAC-RI 100701)(PCR)(325g)"]
["Qual","ECO157","PCR375g",{"$f":"CONCATENATE(PTable[[#This Row],[2-Test]],PTable[[#This Row],[3-Method]])","v":"ECO157PCR375g"},"E. coli O157 MB217.01 (AOAC-RI 100701)(PCR)(375g)"]
["Qual","ECO157","PCRsam",{"$f":"CONCATENATE(PTable[[#This Row],[2-Test]],PTable[[#This Row],[3-Method]])","v":"ECO157PCRsam"},"E. coli O157 MB217.01 (AOAC-RI 100701)(PCR)(sample)","4.13.18 (MM) - Added"]
["Qual","ECql","mSMEW",{"$f":"CONCATENATE(PTable[[#This Row],[2-Test]],PTable[[#This Row],[3-Method]])","v":"ECqlmSMEW"},"E. coli Modified SMEWW Section 9223 B 21st Ed. (Colilert)","5.30.18 (MM) - Updated Test Method from \"Modified SMEWW Section 9221 D,E (Colilert)\" to \"Modified SMEWW Section 9223 B 21st Ed. (Colilert)\" per ISDH"]
["Qual","ECql","USP10g",{"$f":"CONCATENATE(PTable[[#This Row],[2-Test]],PTable[[#This Row],[3-Method]])","v":"ECqlUSP10g"},"E. coli USP-NF Ch.62 (10g)"]
["Qual","ECql","USP11g",{"$f":"CONCATENATE(PTable[[#This Row],[2-Test]],PTable[[#This Row],[3-Method]])","v":"ECqlUSP11g"},"E. coli USP-NF Ch.62 (11g)"]
["Qual","ECql","USP1g",{"$f":"CONCATENATE(PTable[[#This Row],[2-Test]],PTable[[#This Row],[3-Method]])","v":"ECqlUSP1g"},"E. coli USP-NF Ch.62 (1g)"]
["Qual","ECql","USP25g",{"$f":"CONCATENATE(PTable[[#This Row],[2-Test]],PTable[[#This Row],[3-Method]])","v":"ECqlUSP25g"},"E. coli USP-NF Ch.62 (25g)"]
["Qual","ECql","USP30g",{"$f":"CONCATENATE(PTable[[#This Row],[2-Test]],PTable[[#This Row],[3-Method]])","v":"ECqlUSP30g"},"E. coli USP-NF Ch.62 (30g)"]
["Qual","ECql","USP5g",{"$f":"CONCATENATE(PTable[[#This Row],[2-Test]],PTable[[#This Row],[3-Method]])","v":"ECqlUSP5g"},"E. coli USP-NF Ch.62 (5g)"]
["Qual","EHEC","PCR25g",{"$f":"CONCATENATE(PTable[[#This Row],[2-Test]],PTable[[#This Row],[3-Method]])","v":"EHECPCR25g"},"EHEC MB217.01 (AOAC-RI 100701)(PCR)(25g)","10.2.18 (MM) - Added"]
["Qual","EHEC","PCR325g",{"$f":"CONCATENATE(PTable[[#This Row],[2-Test]],PTable[[#This Row],[3-Method]])","v":"EHECPCR325g"},"EHEC MB217.01 (AOAC-RI 100701)(PCR)(325g)","10.2.18 (MM) - Added"]
["Qual","EHEC","PCR375g",{"$f":"CONCATENATE(PTable[[#This Row],[2-Test]],PTable[[#This Row],[3-Method]])","v":"EHECPCR375g"},"EHEC MB217.01 (AOAC-RI 100701)(PCR)(375g)","10.2.18 (MM) - Added"]
["Qual","FecCOLI","mSMEW",{"$f":"CONCATENATE(PTable[[#This Row],[2-Test]],PTable[[#This Row],[3-Method]])","v":"FecCOLImSMEW"},"Fecal Coliform Modified SMEWW Section 9223 B/9221 E 21st Ed. (Colilert)","5.30.18 (MM) - Updated Test Method from \"Modified SMEWW Section 9221 D,E (Colilert)\" to \"Modified SMEWW Section 9223 B/9221 E 21st Ed. (Colilert)\" per ISDH"]
["Qual","LG","mB24E25g",{"$f":"CONCATENATE(PTable[[#This Row],[2-Test]],PTable[[#This Row],[3-Method]])","v":"LGmB24E25g"},"Listeria species Modified AOAC-RI 050903 (BAX PCR 24E)(25g)","8.29.18 (MM) - Changed to Modified. Method: \"BX24E25g\" to \"mB24E25g\""]
["Qual","LG","mB24Esa",{"$f":"CONCATENATE(PTable[[#This Row],[2-Test]],PTable[[#This Row],[3-Method]])","v":"LGmB24Esa"},"Listeria species Modified AOAC-RI 050903 (BAX PCR 24E)(sample)"]
["Qual","LG","mBX125g",{"$f":"CONCATENATE(PTable[[#This Row],[2-Test]],PTable[[#This Row],[3-Method]])","v":"LGmBX125g"},"Listeria species Modified AOAC-RI 030502 (BAX PCR)(125g)"]
["Qual","LG","mBX250g",{"$f":"CONCATENATE(PTable[[#This Row],[2-Test]],PTable[[#This Row],[3-Method]])","v":"LGmBX250g"},"Listeria species Modified AOAC-RI 030502 (BAX PCR)(250g)"]
["Qual","LG","mBX25g",{"$f":"CONCATENATE(PTable[[#This Row],[2-Test]],PTable[[#This Row],[3-Method]])","v":"LGmBX25g"},"Listeria species Modified AOAC-RI 030502 (BAX PCR)(25g)","8.29.18 (MM) - Changed to Modified. Method: \"BAX25g\" to \"mBX25g\""]
["Qual","LG","mBX325g",{"$f":"CONCATENATE(PTable[[#This Row],[2-Test]],PTable[[#This Row],[3-Method]])","v":"LGmBX325g"},"Listeria species Modified AOAC-RI 030502 (BAX PCR)(325g)"]
["Qual","LG","mFDA25g",{"$f":"CONCATENATE(PTable[[#This Row],[2-Test]],PTable[[#This Row],[3-Method]])","v":"LGmFDA25g"},"Listeria species Modified FDA-BAM Ch.10 (25g)"]
["Qual","LG","mUS100g",{"$f":"CONCATENATE(PTable[[#This Row],[2-Test]],PTable[[#This Row],[3-Method]])","v":"LGmUS100g"},"Listeria species Modified USDA-FSIS MLG Ch.8.10 (100g)"]
["Qual","LG","mUS125g",{"$f":"CONCATENATE(PTable[[#This Row],[2-Test]],PTable[[#This Row],[3-Method]])","v":"LGmUS125g"},"Listeria species Modified USDA-FSIS MLG Ch.8.10 (125g)"]
["Qual","LG","mUS25g",{"$f":"CONCATENATE(PTable[[#This Row],[2-Test]],PTable[[#This Row],[3-Method]])","v":"LGmUS25g"},"Listeria species Modified USDA-FSIS MLG Ch.8.10 (25g)"]
["Qual","LG","mUS325g",{"$f":"CONCATENATE(PTable[[#This Row],[2-Test]],PTable[[#This Row],[3-Method]])","v":"LGmUS325g"},"Listeria species Modified USDA-FSIS MLG Ch.8.10 (325g)"]
["Qual","LG","mUS375g",{"$f":"CONCATENATE(PTable[[#This Row],[2-Test]],PTable[[#This Row],[3-Method]])","v":"LGmUS375g"},"Listeria species Modified USDA-FSIS MLG Ch.8.10 (375g)"]
["Qual","LG","mUSsam",{"$f":"CONCATENATE(PTable[[#This Row],[2-Test]],PTable[[#This Row],[3-Method]])","v":"LGmUSsam"},"Listeria species Modified USDA-FSIS MLG Ch.8.10 (sample)"]
["Qual","LG","PCR100g",{"$f":"CONCATENATE(PTable[[#This Row],[2-Test]],PTable[[#This Row],[3-Method]])","v":"LGPCR100g"},"Listeria species MB316.01 (AOAC-RI 021201)(PCR)(100g)","4.24.18 (MM) - Added"]
["Qual","LG","PCR125g",{"$f":"CONCATENATE(PTable[[#This Row],[2-Test]],PTable[[#This Row],[3-Method]])","v":"LGPCR125g"},"Listeria species MB316.01 (AOAC-RI 021201)(PCR)(125g)"]
["Qual","LG","PCR250g",{"$f":"CONCATENATE(PTable[[#This Row],[2-Test]],PTable[[#This Row],[3-Method]])","v":"LGPCR250g"},"Listeria species MB316.01 (AOAC-RI 021201)(PCR)(250g)"]
["Qual","LG","PCR25g",{"$f":"CONCATENATE(PTable[[#This Row],[2-Test]],PTable[[#This Row],[3-Method]])","v":"LGPCR25g"},"Listeria species MB316.01 (AOAC-RI 021201)(PCR)(25g)"]
["Qual","LG","PCR325g",{"$f":"CONCATENATE(PTable[[#This Row],[2-Test]],PTable[[#This Row],[3-Method]])","v":"LGPCR325g"},"Listeria species MB316.01 (AOAC-RI 021201)(PCR)(325g)"]
["Qual","LG","PCR375g",{"$f":"CONCATENATE(PTable[[#This Row],[2-Test]],PTable[[#This Row],[3-Method]])","v":"LGPCR375g"},"Listeria species MB316.01 (AOAC-RI 021201)(PCR)(375g)","4.24.18 (MM) - Added"]
["Qual","LG","PCRsam",{"$f":"CONCATENATE(PTable[[#This Row],[2-Test]],PTable[[#This Row],[3-Method]])","v":"LGPCRsam"},"Listeria species MB316.01 (AOAC-RI 021201)(PCR)(sample)","4.13.18 (MM) - Added"]
["Qual","LM","FDA25g",{"$f":"CONCATENATE(PTable[[#This Row],[2-Test]],PTable[[#This Row],[3-Method]])","v":"LMFDA25g"},"Listeria monocytogenes FDA-BAM Ch.10 (25g)"]
["Qual","LM","mB24E25g",{"$f":"CONCATENATE(PTable[[#This Row],[2-Test]],PTable[[#This Row],[3-Method]])","v":"LMmB24E25g"},"Listeria monocytogenes Modified AOAC-RI 080901 (BAX PCR 24E)(25g)","8.29.18 (MM) - Changed to Modified. Method: \"BX24E25g\" to \"mB24E25g\""]
["Qual","LM","mBe125g",{"$f":"CONCATENATE(PTable[[#This Row],[2-Test]],PTable[[#This Row],[3-Method]])","v":"LMmBe125g"},"Listeria monocytogenes Modified AOAC-RI 080901 (BAX PCR 24E)(125g)"]
["Qual","LM","mBe250g",{"$f":"CONCATENATE(PTable[[#This Row],[2-Test]],PTable[[#This Row],[3-Method]])","v":"LMmBe250g"},"Listeria monocytogenes Modified AOAC-RI 080901 (BAX PCR 24E)(250g)"]
["Qual","LM","mBe325g",{"$f":"CONCATENATE(PTable[[#This Row],[2-Test]],PTable[[#This Row],[3-Method]])","v":"LMmBe325g"},"Listeria monocytogenes Modified AOAC-RI 080901 (BAX PCR 24E)(325g)"]
["Qual","LM","mBesam",{"$f":"CONCATENATE(PTable[[#This Row],[2-Test]],PTable[[#This Row],[3-Method]])","v":"LMmBesam"},"Listeria monocytogenes Modified AOAC-RI 080901 (BAX PCR 24E)(sample)"]
["Qual","LM","mBX125g",{"$f":"CONCATENATE(PTable[[#This Row],[2-Test]],PTable[[#This Row],[3-Method]])","v":"LMmBX125g"},"Listeria monocytogenes Modified AOAC 2003.12 (BAX PCR)(125g)"]
["Qual","LM","mBX250g",{"$f":"CONCATENATE(PTable[[#This Row],[2-Test]],PTable[[#This Row],[3-Method]])","v":"LMmBX250g"},"Listeria monocytogenes Modified AOAC 2003.12 (BAX PCR)(250g)"]
["Qual","LM","mBX325g",{"$f":"CONCATENATE(PTable[[#This Row],[2-Test]],PTable[[#This Row],[3-Method]])","v":"LMmBX325g"},"Listeria monocytogenes Modified AOAC 2003.12 (BAX PCR)(325g)"]
["Qual","LM","mBXsam",{"$f":"CONCATENATE(PTable[[#This Row],[2-Test]],PTable[[#This Row],[3-Method]])","v":"LMmBXsam"},"Listeria monocytogenes Modified AOAC 2003.12 (BAX PCR)(sample)","4.16.18 (MM) - Added"]
["Qual","LM","mBXX25g",{"$f":"CONCATENATE(PTable[[#This Row],[2-Test]],PTable[[#This Row],[3-Method]])","v":"LMmBXX25g"},"Listeria monocytogenes Modified AOAC 2003.12 (BAX PCR)(25g)"]
["Qual","LM","mFD100g",{"$f":"CONCATENATE(PTable[[#This Row],[2-Test]],PTable[[#This Row],[3-Method]])","v":"LMmFD100g"},"Listeria monocytogenes Modified FDA-BAM Ch.10 (100g)"]
["Qual","LM","mFD125g",{"$f":"CONCATENATE(PTable[[#This Row],[2-Test]],PTable[[#This Row],[3-Method]])","v":"LMmFD125g"},"Listeria monocytogenes Modified FDA-BAM Ch.10 (125g)"]
["Qual","LM","mUS100g",{"$f":"CONCATENATE(PTable[[#This Row],[2-Test]],PTable[[#This Row],[3-Method]])","v":"LMmUS100g"},"Listeria monocytogenes Modified USDA-FSIS MLG Ch.8.10 (100g)"]
["Qual","LM","mUS125g",{"$f":"CONCATENATE(PTable[[#This Row],[2-Test]],PTable[[#This Row],[3-Method]])","v":"LMmUS125g"},"Listeria monocytogenes Modified USDA-FSIS MLG Ch.8.10 (125g)"]
["Qual","LM","mUS150g",{"$f":"CONCATENATE(PTable[[#This Row],[2-Test]],PTable[[#This Row],[3-Method]])","v":"LMmUS150g"},"Listeria monocytogenes Modified USDA-FSIS MLG Ch.8.10 (150g)"]
["Qual","LM","mUS200g",{"$f":"CONCATENATE(PTable[[#This Row],[2-Test]],PTable[[#This Row],[3-Method]])","v":"LMmUS200g"},"Listeria monocytogenes Modified USDA-FSIS MLG Ch.8.10 (200g)"]
["Qual","LM","mUS225g",{"$f":"CONCATENATE(PTable[[#This Row],[2-Test]],PTable[[#This Row],[3-Method]])","v":"LMmUS225g"},"Listeria monocytogenes Modified USDA-FSIS MLG Ch.8.10 (225g)"]
["Qual","LM","mUS250g",{"$f":"CONCATENATE(PTable[[#This Row],[2-Test]],PTable[[#This Row],[3-Method]])","v":"LMmUS250g"},"Listeria monocytogenes Modified USDA-FSIS MLG Ch.8.10 (250g)"]
["Qual","LM","mUS25g",{"$f":"CONCATENATE(PTable[[#This Row],[2-Test]],PTable[[#This Row],[3-Method]])","v":"LMmUS25g"},"Listeria monocytogenes Modified USDA-FSIS MLG Ch.8.10 (25g)"]
["Qual","LM","mUS325g",{"$f":"CONCATENATE(PTable[[#This Row],[2-Test]],PTable[[#This Row],[3-Method]])","v":"LMmUS325g"},"Listeria monocytogenes Modified USDA-FSIS MLG Ch.8.10 (325g)"]
["Qual","LM","mUS375g",{"$f":"CONCATENATE(PTable[[#This Row],[2-Test]],PTable[[#This Row],[3-Method]])","v":"LMmUS375g"},"Listeria monocytogenes Modified USDA-FSIS MLG Ch.8.10 (375g)"]
["Qual","LM","mUS50g",{"$f":"CONCATENATE(PTable[[#This Row],[2-Test]],PTable[[#This Row],[3-Method]])","v":"LMmUS50g"},"Listeria monocytogenes Modified USDA-FSIS MLG Ch.8.10 (50g)"]
["Qual","LM","mUS75g",{"$f":"CONCATENATE(PTable[[#This Row],[2-Test]],PTable[[#This Row],[3-Method]])","v":"LMmUS75g"},"Listeria monocytogenes Modified USDA-FSIS MLG Ch.8.10 (75g)"]
["Qual","LM","mUSsam",{"$f":"CONCATENATE(PTable[[#This Row],[2-Test]],PTable[[#This Row],[3-Method]])","v":"LMmUSsam"},"Listeria monocytogenes Modified USDA-FSIS MLG Ch.8.10 (sample)"]
["Qual","LM","PCR100g",{"$f":"CONCATENATE(PTable[[#This Row],[2-Test]],PTable[[#This Row],[3-Method]])","v":"LMPCR100g"},"Listeria monocytogenes MB316.01 (AOAC-RI 021201)(PCR)(100g)"]
["Qual","LM","PCR125g",{"$f":"CONCATENATE(PTable[[#This Row],[2-Test]],PTable[[#This Row],[3-Method]])","v":"LMPCR125g"},"Listeria monocytogenes MB316.01 (AOAC-RI 021201)(PCR)(125g)"]
["Qual","LM","PCR150g",{"$f":"CONCATENATE(PTable[[#This Row],[2-Test]],PTable[[#This Row],[3-Method]])","v":"LMPCR150g"},"Listeria monocytogenes MB316.01 (AOAC-RI 021201)(PCR)(150g)"]
["Qual","LM","PCR200g",{"$f":"CONCATENATE(PTable[[#This Row],[2-Test]],PTable[[#This Row],[3-Method]])","v":"LMPCR200g"},"Listeria monocytogenes MB316.01 (AOAC-RI 021201)(PCR)(200g)"]
["Qual","LM","PCR250g",{"$f":"CONCATENATE(PTable[[#This Row],[2-Test]],PTable[[#This Row],[3-Method]])","v":"LMPCR250g"},"Listeria monocytogenes MB316.01 (AOAC-RI 021201)(PCR)(250g)"]
["Qual","LM","PCR25g",{"$f":"CONCATENATE(PTable[[#This Row],[2-Test]],PTable[[#This Row],[3-Method]])","v":"LMPCR25g"},"Listeria monocytogenes MB316.01 (AOAC-RI 021201)(PCR)(25g)"]
["Qual","LM","PCR325g",{"$f":"CONCATENATE(PTable[[#This Row],[2-Test]],PTable[[#This Row],[3-Method]])","v":"LMPCR325g"},"Listeria monocytogenes MB316.01 (AOAC-RI 021201)(PCR)(325g)"]
["Qual","LM","PCR375g",{"$f":"CONCATENATE(PTable[[#This Row],[2-Test]],PTable[[#This Row],[3-Method]])","v":"LMPCR375g"},"Listeria monocytogenes MB316.01 (AOAC-RI 021201)(PCR)(375g)"]
["Qual","LM","PCR50g",{"$f":"CONCATENATE(PTable[[#This Row],[2-Test]],PTable[[#This Row],[3-Method]])","v":"LMPCR50g"},"Listeria monocytogenes MB316.01 (AOAC-RI 021201)(PCR)(50g)"]
["Qual","LM","PCRsam",{"$f":"CONCATENATE(PTable[[#This Row],[2-Test]],PTable[[#This Row],[3-Method]])","v":"LMPCRsam"},"Listeria monocytogenes MB316.01 (AOAC-RI 021201)(PCR)(sample)","4.13.18 (MM) - Added"]
["Qual","PCT","GNGP125",{"$f":"CONCATENATE(PTable[[#This Row],[2-Test]],PTable[[#This Row],[3-Method]])","v":"PCTGNGP125"},"Process Control Testing MB491.01 (PCR)(GNGP)(125g)","10.2.18 (MM) - Added"]
["Qual","PCT","GNGP25g",{"$f":"CONCATENATE(PTable[[#This Row],[2-Test]],PTable[[#This Row],[3-Method]])","v":"PCTGNGP25g"},"Process Control Testing MB491.01 (PCR)(GNGP)(25g)","10.2.18 (MM) - Removed \"-4\" from Method Name per SOP revision."]
["Qual","PCT","GNGP375",{"$f":"CONCATENATE(PTable[[#This Row],[2-Test]],PTable[[#This Row],[3-Method]])","v":"PCTGNGP375"},"Process Control Testing MB491.01 (PCR)(GNGP)(375g)","10.2.18 (MM) - Removed \"-4\" from Method Name per SOP revision."]
["Qual","PCT","GNO25g",{"$f":"CONCATENATE(PTable[[#This Row],[2-Test]],PTable[[#This Row],[3-Method]])","v":"PCTGNO25g"},"Process Control Testing MB491.01 (PCR)(GNO)(25g)","10.2.18 (MM) - Removed \"-4\" from Method Name per SOP revision."]
["Qual","PCT","GNO375g",{"$f":"CONCATENATE(PTable[[#This Row],[2-Test]],PTable[[#This Row],[3-Method]])","v":"PCTGNO375g"},"Process Control Testing MB491.01 (PCR)(GNO)(375g)","10.2.18 (MM) - Removed \"-4\" from Method Name per SOP revision."]
["Qual","PCT","GPO25g",{"$f":"CONCATENATE(PTable[[#This Row],[2-Test]],PTable[[#This Row],[3-Method]])","v":"PCTGPO25g"},"Process Control Testing MB491.01 (PCR)(GPO)(25g)","10.2.18 (MM) - Removed \"-4\" from Method Name per SOP revision."]
["Qual","PCT","GPO375g",{"$f":"CONCATENATE(PTable[[#This Row],[2-Test]],PTable[[#This Row],[3-Method]])","v":"PCTGPO375g"},"Process Control Testing MB491.01 (PCR)(GPO)(375g)","10.2.18 (MM) - Removed \"-4\" from Method Name per SOP revision."]
["Qual","PCT","LGmi",{"$f":"CONCATENATE(PTable[[#This Row],[2-Test]],PTable[[#This Row],[3-Method]])","v":"PCTLGmi"},"Listeria species Molecular Indicators MB491.01-MI (PCR)","10.2.18 (MM) - Added"]
["Qual","PCT","LMmi",{"$f":"CONCATENATE(PTable[[#This Row],[2-Test]],PTable[[#This Row],[3-Method]])","v":"PCTLMmi"},"Listeria monocytogenes Molecular Indicators MB491.01-MI (PCR)","10.2.18 (MM) - Added"]
["Qual","PCT","SALmi",{"$f":"CONCATENATE(PTable[[#This Row],[2-Test]],PTable[[#This Row],[3-Method]])","v":"PCTSALmi"},"Salmonella species Molecular Indicators MB491.01-MI (PCR)","10.2.18 (MM) - Added"]
["Qual","PCT","STECmi",{"$f":"CONCATENATE(PTable[[#This Row],[2-Test]],PTable[[#This Row],[3-Method]])","v":"PCTSTECmi"},"EHEC/pSTEC Molecular Indicators MB491.01-MI (PCR)","10.2.18 (MM) - Added"]
["Qual","Pseudo.a","USP10g",{"$f":"CONCATENATE(PTable[[#This Row],[2-Test]],PTable[[#This Row],[3-Method]])","v":"Pseudo.aUSP10g"},"Pseudomonas aeruginosa USP-NF Ch.62 (10g)"]
["Qual","Pseudo.a","USP11g",{"$f":"CONCATENATE(PTable[[#This Row],[2-Test]],PTable[[#This Row],[3-Method]])","v":"Pseudo.aUSP11g"},"Pseudomonas aeruginosa USP-NF Ch.62 (11g)"]
["Qual","Pseudo.a","USP1g",{"$f":"CONCATENATE(PTable[[#This Row],[2-Test]],PTable[[#This Row],[3-Method]])","v":"Pseudo.aUSP1g"},"Pseudomonas aeruginosa USP-NF Ch.62 (1g)"]
["Qual","Pseudo.a","USP25g",{"$f":"CONCATENATE(PTable[[#This Row],[2-Test]],PTable[[#This Row],[3-Method]])","v":"Pseudo.aUSP25g"},"Pseudomonas aeruginosa USP-NF Ch.62 (25g)"]
["Qual","Pseudo.a","USP5g",{"$f":"CONCATENATE(PTable[[#This Row],[2-Test]],PTable[[#This Row],[3-Method]])","v":"Pseudo.aUSP5g"},"Pseudomonas aeruginosa USP-NF Ch.62 (5g)"]
["Qual","SAL","BAX30mL",{"$f":"CONCATENATE(PTable[[#This Row],[2-Test]],PTable[[#This Row],[3-Method]])","v":"SALBAX30mL"},"Salmonella species USDA-FSIS MLG Ch.4C.07 (BAX PCR)(30mL)","4.13.18 (MM) - Added \"species\" to Salmonella Test Name to be consistent with other Tests"]
["Qual","SAL","FDA25g",{"$f":"CONCATENATE(PTable[[#This Row],[2-Test]],PTable[[#This Row],[3-Method]])","v":"SALFDA25g"},"Salmonella species FDA-BAM Ch.5 (25g)","4.13.18 (MM) - Added \"species\" to Salmonella Test Name to be consistent with other Tests"]
["Qual","SAL","FDA375g",{"$f":"CONCATENATE(PTable[[#This Row],[2-Test]],PTable[[#This Row],[3-Method]])","v":"SALFDA375g"},"Salmonella species FDA-BAM Ch.5 (375g)","4.13.18 (MM) - Added \"species\" to Salmonella Test Name to be consistent with other Tests"]
["Qual","SAL","mBX125g",{"$f":"CONCATENATE(PTable[[#This Row],[2-Test]],PTable[[#This Row],[3-Method]])","v":"SALmBX125g"},"Salmonella species Modified AOAC 2003.09 (BAX PCR)(125g)","4.13.18 (MM) - Added \"species\" to Salmonella Test Name to be consistent with other Tests"]
["Qual","SAL","mBX200g",{"$f":"CONCATENATE(PTable[[#This Row],[2-Test]],PTable[[#This Row],[3-Method]])","v":"SALmBX200g"},"Salmonella species Modified AOAC 2003.09 (BAX PCR)(200g)","4.13.18 (MM) - Added \"species\" to Salmonella Test Name to be consistent with other Tests"]
["Qual","SAL","mBX250g",{"$f":"CONCATENATE(PTable[[#This Row],[2-Test]],PTable[[#This Row],[3-Method]])","v":"SALmBX250g"},"Salmonella species Modified AOAC 2003.09 (BAX PCR)(250g)","8.29.18 (MM) - Added"]
["Qual","SAL","mBX25g",{"$f":"CONCATENATE(PTable[[#This Row],[2-Test]],PTable[[#This Row],[3-Method]])","v":"SALmBX25g"},"Salmonella species Modified AOAC 2003.09 (BAX PCR)(25g)","4.13.18 (MM) - Added \"species\" to Salmonella Test Name to be consistent with other Tests"]
["Qual","SAL","mBX325g",{"$f":"CONCATENATE(PTable[[#This Row],[2-Test]],PTable[[#This Row],[3-Method]])","v":"SALmBX325g"},"Salmonella species Modified AOAC 2003.09 (BAX PCR)(325g)","4.13.18 (MM) - Added \"species\" to Salmonella Test Name to be consistent with other Tests"]
["Qual","SAL","mBX375g",{"$f":"CONCATENATE(PTable[[#This Row],[2-Test]],PTable[[#This Row],[3-Method]])","v":"SALmBX375g"},"Salmonella species Modified AOAC 2003.09 (BAX PCR)(375g)","4.13.18 (MM) - Added \"species\" to Salmonella Test Name to be consistent with other Tests"]
["Qual","SAL","mBX75g",{"$f":"CONCATENATE(PTable[[#This Row],[2-Test]],PTable[[#This Row],[3-Method]])","v":"SALmBX75g"},"Salmonella species Modified AOAC 2003.09 (BAX PCR)(75g)","4.13.18 (MM) - Added \"species\" to Salmonella Test Name to be consistent with other Tests"]
["Qual","SAL","mBXsam",{"$f":"CONCATENATE(PTable[[#This Row],[2-Test]],PTable[[#This Row],[3-Method]])","v":"SALmBXsam"},"Salmonella species Modified AOAC 2003.09 (BAX PCR)(sample)","4.13.18 (MM) - Added \"species\" to Salmonella Test Name to be consistent with other Tests"]
["Qual","SAL","mFD100g",{"$f":"CONCATENATE(PTable[[#This Row],[2-Test]],PTable[[#This Row],[3-Method]])","v":"SALmFD100g"},"Salmonella species Modified FDA-BAM Ch.5 (100g)","4.13.18 (MM) - Added \"species\" to Salmonella Test Name to be consistent with other Tests"]
["Qual","SAL","mFD125g",{"$f":"CONCATENATE(PTable[[#This Row],[2-Test]],PTable[[#This Row],[3-Method]])","v":"SALmFD125g"},"Salmonella species Modified FDA-BAM Ch.5 (125g)","4.13.18 (MM) - Added \"species\" to Salmonella Test Name to be consistent with other Tests"]
["Qual","SAL","mFD150g",{"$f":"CONCATENATE(PTable[[#This Row],[2-Test]],PTable[[#This Row],[3-Method]])","v":"SALmFD150g"},"Salmonella species Modified FDA-BAM Ch.5 (150g)","4.13.18 (MM) - Added \"species\" to Salmonella Test Name to be consistent with other Tests"]
["Qual","SAL","mFD175g",{"$f":"CONCATENATE(PTable[[#This Row],[2-Test]],PTable[[#This Row],[3-Method]])","v":"SALmFD175g"},"Salmonella species Modified FDA-BAM Ch.5 (175g)","4.13.18 (MM) - Added \"species\" to Salmonella Test Name to be consistent with other Tests"]
["Qual","SAL","mFD200g",{"$f":"CONCATENATE(PTable[[#This Row],[2-Test]],PTable[[#This Row],[3-Method]])","v":"SALmFD200g"},"Salmonella species Modified FDA-BAM Ch.5 (200g)","4.13.18 (MM) - Added \"species\" to Salmonella Test Name to be consistent with other Tests"]
["Qual","SAL","mFD250g",{"$f":"CONCATENATE(PTable[[#This Row],[2-Test]],PTable[[#This Row],[3-Method]])","v":"SALmFD250g"},"Salmonella species Modified FDA-BAM Ch.5 (250g)","4.13.18 (MM) - Added \"species\" to Salmonella Test Name to be consistent with other Tests"]
["Qual","SAL","mFD25g",{"$f":"CONCATENATE(PTable[[#This Row],[2-Test]],PTable[[#This Row],[3-Method]])","v":"SALmFD25g"},"Salmonella species Modified FDA-BAM Ch.5 (25g)","4.13.18 (MM) - Added \"species\" to Salmonella Test Name to be consistent with other Tests"]
["Qual","SAL","mFD325g",{"$f":"CONCATENATE(PTable[[#This Row],[2-Test]],PTable[[#This Row],[3-Method]])","v":"SALmFD325g"},"Salmonella species Modified FDA-BAM Ch.5 (325g)","4.13.18 (MM) - Added \"species\" to Salmonella Test Name to be consistent with other Tests"]
["Qual","SAL","mFD375g",{"$f":"CONCATENATE(PTable[[#This Row],[2-Test]],PTable[[#This Row],[3-Method]])","v":"SALmFD375g"},"Salmonella species Modified FDA-BAM Ch.5 (375g)","4.13.18 (MM) - Added \"species\" to Salmonella Test Name to be consistent with other Tests"]
["Qual","SAL","mFD375m",{"$f":"CONCATENATE(PTable[[#This Row],[2-Test]],PTable[[#This Row],[3-Method]])","v":"SALmFD375m"},"Salmonella species Modified FDA-BAM Ch.5 (375mL)","4.13.18 (MM) - Added \"species\" to Salmonella Test Name to be consistent with other Tests"]
["Qual","SAL","mFD400g",{"$f":"CONCATENATE(PTable[[#This Row],[2-Test]],PTable[[#This Row],[3-Method]])","v":"SALmFD400g"},"Salmonella species Modified FDA-BAM Ch.5 (400g)","4.13.18 (MM) - Added \"species\" to Salmonella Test Name to be consistent with other Tests"]
["Qual","SAL","mFD50g",{"$f":"CONCATENATE(PTable[[#This Row],[2-Test]],PTable[[#This Row],[3-Method]])","v":"SALmFD50g"},"Salmonella species Modified FDA-BAM Ch.5 (50g)","4.13.18 (MM) - Added \"species\" to Salmonella Test Name to be consistent with other Tests"]
["Qual","SAL","mFD75g",{"$f":"CONCATENATE(PTable[[#This Row],[2-Test]],PTable[[#This Row],[3-Method]])","v":"SALmFD75g"},"Salmonella species Modified FDA-BAM Ch.5 (75g)","4.13.18 (MM) - Added \"species\" to Salmonella Test Name to be consistent with other Tests"]
["Qual","SAL","mFDsam",{"$f":"CONCATENATE(PTable[[#This Row],[2-Test]],PTable[[#This Row],[3-Method]])","v":"SALmFDsam"},"Salmonella species Modified FDA-BAM Ch.5 (sample)","4.13.18 (MM) - Added \"species\" to Salmonella Test Name to be consistent with other Tests"]
["Qual","SAL","PCR100g",{"$f":"CONCATENATE(PTable[[#This Row],[2-Test]],PTable[[#This Row],[3-Method]])","v":"SALPCR100g"},"Salmonella species MB217.01 (AOAC-RI 100701)(PCR)(100g)","4.13.18 (MM) - Added \"species\" to Salmonella Test Name to be consistent with other Tests"]
["Qual","SAL","PCR125g",{"$f":"CONCATENATE(PTable[[#This Row],[2-Test]],PTable[[#This Row],[3-Method]])","v":"SALPCR125g"},"Salmonella species MB217.01 (AOAC-RI 100701)(PCR)(125g)","4.13.18 (MM) - Added \"species\" to Salmonella Test Name to be consistent with other Tests"]
["Qual","SAL","PCR150g",{"$f":"CONCATENATE(PTable[[#This Row],[2-Test]],PTable[[#This Row],[3-Method]])","v":"SALPCR150g"},"Salmonella species MB217.01 (AOAC-RI 100701)(PCR)(150g)","4.13.18 (MM) - Added \"species\" to Salmonella Test Name to be consistent with other Tests"]
["Qual","SAL","PCR250g",{"$f":"CONCATENATE(PTable[[#This Row],[2-Test]],PTable[[#This Row],[3-Method]])","v":"SALPCR250g"},"Salmonella species MB217.01 (AOAC-RI 100701)(PCR)(250g)","4.13.18 (MM) - Added \"species\" to Salmonella Test Name to be consistent with other Tests"]
["Qual","SAL","PCR25g",{"$f":"CONCATENATE(PTable[[#This Row],[2-Test]],PTable[[#This Row],[3-Method]])","v":"SALPCR25g"},"Salmonella species MB217.01 (AOAC-RI 100701)(PCR)(25g)","4.13.18 (MM) - Added \"species\" to Salmonella Test Name to be consistent with other Tests"]
["Qual","SAL","PCR30mL",{"$f":"CONCATENATE(PTable[[#This Row],[2-Test]],PTable[[#This Row],[3-Method]])","v":"SALPCR30mL"},"Salmonella species MB217.01 (AOAC-RI 100701)(PCR)(30mL)","4.13.18 (MM) - Added \"species\" to Salmonella Test Name to be consistent with other Tests"]
["Qual","SAL","PCR325g",{"$f":"CONCATENATE(PTable[[#This Row],[2-Test]],PTable[[#This Row],[3-Method]])","v":"SALPCR325g"},"Salmonella species MB217.01 (AOAC-RI 100701)(PCR)(325g)","4.13.18 (MM) - Added \"species\" to Salmonella Test Name to be consistent with other Tests"]
["Qual","SAL","PCR375g",{"$f":"CONCATENATE(PTable[[#This Row],[2-Test]],PTable[[#This Row],[3-Method]])","v":"SALPCR375g"},"Salmonella species MB217.01 (AOAC-RI 100701)(PCR)(375g)","4.13.18 (MM) - Added \"species\" to Salmonella Test Name to be consistent with other Tests"]
["Qual","SAL","PCR375m",{"$f":"CONCATENATE(PTable[[#This Row],[2-Test]],PTable[[#This Row],[3-Method]])","v":"SALPCR375m"},"Salmonella species MB217.01 (AOAC-RI 100701)(PCR)(375mL)","4.13.18 (MM) - Added"]
["Qual","SAL","PCR750g",{"$f":"CONCATENATE(PTable[[#This Row],[2-Test]],PTable[[#This Row],[3-Method]])","v":"SALPCR750g"},"Salmonella species MB217.01 (AOAC-RI 100701)(PCR)(2x375g)","5.9.18 (MM) - Changed \"750g\" to \"2x375g\" in Full Test Method : 4.13.18 (MM) - Added \"species\" to Salmonella Test Name to be consistent with other Tests"]
["Qual","SAL","PCR75g",{"$f":"CONCATENATE(PTable[[#This Row],[2-Test]],PTable[[#This Row],[3-Method]])","v":"SALPCR75g"},"Salmonella species MB217.01 (AOAC-RI 100701)(PCR)(75g)","8.29.18 (MM) - Added"]
["Qual","SAL","PCRsam",{"$f":"CONCATENATE(PTable[[#This Row],[2-Test]],PTable[[#This Row],[3-Method]])","v":"SALPCRsam"},"Salmonella species MB217.01 (AOAC-RI 100701)(PCR)(sample)","4.13.18 (MM) - Added"]
["Qual","SAL","USD25g",{"$f":"CONCATENATE(PTable[[#This Row],[2-Test]],PTable[[#This Row],[3-Method]])","v":"SALUSD25g"},"Salmonella species USDA-FSIS MLG Ch.4.09 (25g)","4.13.18 (MM) - Added \"species\" to Salmonella Test Name to be consistent with other Tests"]
["Qual","SAL","USD325g",{"$f":"CONCATENATE(PTable[[#This Row],[2-Test]],PTable[[#This Row],[3-Method]])","v":"SALUSD325g"},"Salmonella species USDA-FSIS MLG Ch.4.09 (325g)","4.13.18 (MM) - Added \"species\" to Salmonella Test Name to be consistent with other Tests"]
["Qual","SAL","USP10g",{"$f":"CONCATENATE(PTable[[#This Row],[2-Test]],PTable[[#This Row],[3-Method]])","v":"SALUSP10g"},"Salmonella species USP-NF Ch.62 (10g)","4.13.18 (MM) - Added \"species\" to Salmonella Test Name to be consistent with other Tests"]
["Qual","SAL","USP11g",{"$f":"CONCATENATE(PTable[[#This Row],[2-Test]],PTable[[#This Row],[3-Method]])","v":"SALUSP11g"},"Salmonella species USP-NF Ch.62 (11g)","4.13.18 (MM) - Added \"species\" to Salmonella Test Name to be consistent with other Tests"]
["Qual","SAL","USP1g",{"$f":"CONCATENATE(PTable[[#This Row],[2-Test]],PTable[[#This Row],[3-Method]])","v":"SALUSP1g"},"Salmonella species USP-NF Ch.62 (1g)","4.13.18 (MM) - Added \"species\" to Salmonella Test Name to be consistent with other Tests"]
["Qual","SAL","USP25g",{"$f":"CONCATENATE(PTable[[#This Row],[2-Test]],PTable[[#This Row],[3-Method]])","v":"SALUSP25g"},"Salmonella species USP-NF Ch.62 (25g)","4.13.18 (MM) - Added \"species\" to Salmonella Test Name to be consistent with other Tests"]
["Qual","SAL","USP375g",{"$f":"CONCATENATE(PTable[[#This Row],[2-Test]],PTable[[#This Row],[3-Method]])","v":"SALUSP375g"},"Salmonella species USP-NF Ch.62 (375g)","4.13.18 (MM) - Added \"species\" to Salmonella Test Name to be consistent with other Tests"]
["Qual","SAL","USP5g",{"$f":"CONCATENATE(PTable[[#This Row],[2-Test]],PTable[[#This Row],[3-Method]])","v":"SALUSP5g"},"Salmonella species USP-NF Ch.62 (5g)","4.13.18 (MM) - Added \"species\" to Salmonella Test Name to be consistent with other Tests"]
["Qual","Shigella","mFDA25g",{"$f":"CONCATENATE(PTable[[#This Row],[2-Test]],PTable[[#This Row],[3-Method]])","v":"ShigellamFDA25g"},"Shigella species Modified FDA-BAM Ch.6 (25g)"]
["Qual","Sp.TAn","CMMEF",{"$f":"CONCATENATE(PTable[[#This Row],[2-Test]],PTable[[#This Row],[3-Method]])","v":"Sp.TAnCMMEF"},"Thermophilic Anaerobic Sporeformers CMMEF Ch.27 5th Ed."]
["Qual","Staph.A","USP10g",{"$f":"CONCATENATE(PTable[[#This Row],[2-Test]],PTable[[#This Row],[3-Method]])","v":"Staph.AUSP10g"},"Staphylococcus aureus USP-NF Ch.62 (10g)"]
["Qual","Staph.A","USP11g",{"$f":"CONCATENATE(PTable[[#This Row],[2-Test]],PTable[[#This Row],[3-Method]])","v":"Staph.AUSP11g"},"Staphylococcus aureus USP-NF Ch.62 (11g)"]
["Qual","Staph.A","USP1g",{"$f":"CONCATENATE(PTable[[#This Row],[2-Test]],PTable[[#This Row],[3-Method]])","v":"Staph.AUSP1g"},"Staphylococcus aureus USP-NF Ch.62 (1g)"]
["Qual","Staph.A","USP25g",{"$f":"CONCATENATE(PTable[[#This Row],[2-Test]],PTable[[#This Row],[3-Method]])","v":"Staph.AUSP25g"},"Staphylococcus aureus USP-NF Ch.62 (25g)"]
["Qual","Staph.A","USP5g",{"$f":"CONCATENATE(PTable[[#This Row],[2-Test]],PTable[[#This Row],[3-Method]])","v":"Staph.AUSP5g"},"Staphylococcus aureus USP-NF Ch.62 (5g)"]
["Qual","STEC","PCR125g",{"$f":"CONCATENATE(PTable[[#This Row],[2-Test]],PTable[[#This Row],[3-Method]])","v":"STECPCR125g"},"STEC MB217.01 (AOAC-RI 100701)(PCR)(125g)","10.2.18 (MM) - Added"]
["Qual","STEC","PCR25g",{"$f":"CONCATENATE(PTable[[#This Row],[2-Test]],PTable[[#This Row],[3-Method]])","v":"STECPCR25g"},"STEC MB217.01 (AOAC-RI 100701)(PCR)(25g)"]
["Qual","STEC","PCR325g",{"$f":"CONCATENATE(PTable[[#This Row],[2-Test]],PTable[[#This Row],[3-Method]])","v":"STECPCR325g"},"STEC MB217.01 (AOAC-RI 100701)(PCR)(325g)"]
["Qual","STEC","PCR375g",{"$f":"CONCATENATE(PTable[[#This Row],[2-Test]],PTable[[#This Row],[3-Method]])","v":"STECPCR375g"},"STEC MB217.01 (AOAC-RI 100701)(PCR)(375g)"]
["Qual","TAnNPHS","mAOAC",{"$f":"CONCATENATE(PTable[[#This Row],[2-Test]],PTable[[#This Row],[3-Method]])","v":"TAnNPHSmAOAC"},"Thermophilic Anaerobes Not Producing Hydrogen Sulfide Modified AOAC 972.45"]
["Quan","AB","LMFMg",{"$f":"CONCATENATE(PTable[[#This Row],[2-Test]],PTable[[#This Row],[3-Method]])","v":"ABLMFMg"},"Acetobacter/Gluconobacter LMiFM Ch.38"]
["Quan","AB","LMFMmL",{"$f":"CONCATENATE(PTable[[#This Row],[2-Test]],PTable[[#This Row],[3-Method]])","v":"ABLMFMmL"},"Acetobacter/Gluconobacter LMiFM Ch.38 (mL)"]
["Quan","AnAPC25","mCMEFg",{"$f":"CONCATENATE(PTable[[#This Row],[2-Test]],PTable[[#This Row],[3-Method]])","v":"AnAPC25mCMEFg"},"Anaerobic Plate Count (25°C) Modified CMMEF Ch.8 5th Ed."]
["Quan","AnAPC25","mCMEFm",{"$f":"CONCATENATE(PTable[[#This Row],[2-Test]],PTable[[#This Row],[3-Method]])","v":"AnAPC25mCMEFm"},"Anaerobic Plate Count (25°C) Modified CMMEF Ch.8 5th Ed. (mL)"]
["Quan","AnAPC35","mCMEFg",{"$f":"CONCATENATE(PTable[[#This Row],[2-Test]],PTable[[#This Row],[3-Method]])","v":"AnAPC35mCMEFg"},"Anaerobic Plate Count (35°C) Modified CMMEF Ch.8 5th Ed."]
["Quan","AnAPC35","mCMEFm",{"$f":"CONCATENATE(PTable[[#This Row],[2-Test]],PTable[[#This Row],[3-Method]])","v":"AnAPC35mCMEFm"},"Anaerobic Plate Count (35°C) Modified CMMEF Ch.8 5th Ed. (mL)"]
["Quan","AnAPC35","MFg",{"$f":"CONCATENATE(PTable[[#This Row],[2-Test]],PTable[[#This Row],[3-Method]])","v":"AnAPC35MFg"},"Anaerobic Plate Count (35°C) MB073.06 (AOAC-RI 051702)(Microfilm)","4.13.18 (MM) - Added"]
["Quan","AnAPC55","mCMEFg",{"$f":"CONCATENATE(PTable[[#This Row],[2-Test]],PTable[[#This Row],[3-Method]])","v":"AnAPC55mCMEFg"},"Anaerobic Plate Count (55°C) Modified SMEDP Ch.8 17th Ed."]
["Quan","AnAPC55","mCMEFm",{"$f":"CONCATENATE(PTable[[#This Row],[2-Test]],PTable[[#This Row],[3-Method]])","v":"AnAPC55mCMEFm"},"Anaerobic Plate Count (55°C) Modified SMEDP Ch.8 17th Ed. (mL)"]
["Quan","AnAPC7","mCMEFg",{"$f":"CONCATENATE(PTable[[#This Row],[2-Test]],PTable[[#This Row],[3-Method]])","v":"AnAPC7mCMEFg"},"Anaerobic Plate Count (7°C) Modified CMMEF Ch.13 5th Ed."]
["Quan","AnAPC7","mCMEFm",{"$f":"CONCATENATE(PTable[[#This Row],[2-Test]],PTable[[#This Row],[3-Method]])","v":"AnAPC7mCMEFm"},"Anaerobic Plate Count (7°C) Modified CMMEF Ch.13 5th Ed. (mL)"]
["Quan","APC25","mCMEFg",{"$f":"CONCATENATE(PTable[[#This Row],[2-Test]],PTable[[#This Row],[3-Method]])","v":"APC25mCMEFg"},"Aerobic Plate Count (25°C) Modified CMMEF Ch.8 5th Ed."]
["Quan","APC25","mCMEFm",{"$f":"CONCATENATE(PTable[[#This Row],[2-Test]],PTable[[#This Row],[3-Method]])","v":"APC25mCMEFm"},"Aerobic Plate Count (25°C) Modified CMMEF Ch.8 5th Ed. (mL)"]
["Quan","APC25","MFg",{"$f":"CONCATENATE(PTable[[#This Row],[2-Test]],PTable[[#This Row],[3-Method]])","v":"APC25MFg"},"Aerobic Plate Count (25°C) MB073.06 (AOAC-RI 051702)(Microfilm)"]
["Quan","APC25","MFmL",{"$f":"CONCATENATE(PTable[[#This Row],[2-Test]],PTable[[#This Row],[3-Method]])","v":"APC25MFmL"},"Aerobic Plate Count (25°C) MB073.06 (AOAC-RI 051702)(Microfilm)(mL)"]
["Quan","APC32","MFg",{"$f":"CONCATENATE(PTable[[#This Row],[2-Test]],PTable[[#This Row],[3-Method]])","v":"APC32MFg"},"Aerobic Plate Count (32°C) MB073.06 (AOAC-RI 051702)(Microfilm)","4.25.18 (MM) - Added"]
["Quan","APC32","MFmL",{"$f":"CONCATENATE(PTable[[#This Row],[2-Test]],PTable[[#This Row],[3-Method]])","v":"APC32MFmL"},"Aerobic Plate Count (32°C) MB073.06 (AOAC-RI 051702)(Microfilm)(mL)","4.25.18 (MM) - Added"]
["Quan","APC32","mSMDPg",{"$f":"CONCATENATE(PTable[[#This Row],[2-Test]],PTable[[#This Row],[3-Method]])","v":"APC32mSMDPg"},"Standard Plate Count (32°C) Modified SMEDP Ch.9 17th Ed."]
["Quan","APC32","mSMDPm",{"$f":"CONCATENATE(PTable[[#This Row],[2-Test]],PTable[[#This Row],[3-Method]])","v":"APC32mSMDPm"},"Standard Plate Count (32°C) Modified SMEDP Ch.9 17th Ed. (mL)"]
["Quan","APC35","mFDAg",{"$f":"CONCATENATE(PTable[[#This Row],[2-Test]],PTable[[#This Row],[3-Method]])","v":"APC35mFDAg"},"Aerobic Plate Count (35°C) Modified FDA-BAM Ch.3"]
["Quan","APC35","mFDAmL",{"$f":"CONCATENATE(PTable[[#This Row],[2-Test]],PTable[[#This Row],[3-Method]])","v":"APC35mFDAmL"},"Aerobic Plate Count (35°C) Modified FDA-BAM Ch.3 (mL)"]
["Quan","APC35","MFg",{"$f":"CONCATENATE(PTable[[#This Row],[2-Test]],PTable[[#This Row],[3-Method]])","v":"APC35MFg"},"Aerobic Plate Count (35°C) MB073.06 (AOAC-RI 051702)(Microfilm)"]
["Quan","APC35","MFmL",{"$f":"CONCATENATE(PTable[[#This Row],[2-Test]],PTable[[#This Row],[3-Method]])","v":"APC35MFmL"},"Aerobic Plate Count (35°C) MB073.06 (AOAC-RI 051702)(Microfilm)(mL)"]
["Quan","APC35","mSMWm",{"$f":"CONCATENATE(PTable[[#This Row],[2-Test]],PTable[[#This Row],[3-Method]])","v":"APC35mSMWm"},"Heterotrophic Plate Count Modified SMEWW Section 9215 A,B"]
["Quan","APC35","mUSPg",{"$f":"CONCATENATE(PTable[[#This Row],[2-Test]],PTable[[#This Row],[3-Method]])","v":"APC35mUSPg"},"Total Aerobic Microbial Count Modified USP-NF Ch.61"]
["Quan","APC35","mUSPmL",{"$f":"CONCATENATE(PTable[[#This Row],[2-Test]],PTable[[#This Row],[3-Method]])","v":"APC35mUSPmL"},"Total Aerobic Microbial Count Modified USP-NF Ch.61 (mL)"]
["Quan","APC55","MFg",{"$f":"CONCATENATE(PTable[[#This Row],[2-Test]],PTable[[#This Row],[3-Method]])","v":"APC55MFg"},"Aerobic Plate Count (55°C) MB073.06 (AOAC-RI 051702)(Microfilm)","4.25.18 (MM) - Added"]
["Quan","APC55","MFmL",{"$f":"CONCATENATE(PTable[[#This Row],[2-Test]],PTable[[#This Row],[3-Method]])","v":"APC55MFmL"},"Aerobic Plate Count (55°C) MB073.06 (AOAC-RI 051702)(Microfilm)(mL)","4.25.18 (MM) - Added"]
["Quan","APC7","mCMFg",{"$f":"CONCATENATE(PTable[[#This Row],[2-Test]],PTable[[#This Row],[3-Method]])","v":"APC7mCMFg"},"Aerobic Plate Count (7°C) Modified CMMEF Ch.13 5th Ed."]
["Quan","APC7","mCMFm",{"$f":"CONCATENATE(PTable[[#This Row],[2-Test]],PTable[[#This Row],[3-Method]])","v":"APC7mCMFm"},"Aerobic Plate Count (7°C) Modified CMMEF Ch.13 5th Ed. (mL)"]
["Quan","APC7","MFg",{"$f":"CONCATENATE(PTable[[#This Row],[2-Test]],PTable[[#This Row],[3-Method]])","v":"APC7MFg"},"Aerobic Plate Count (7°C) MB073.06 (AOAC-RI 051702)(Microfilm)","4.25.18 (MM) - Added"]
["Quan","APC7","MFmL",{"$f":"CONCATENATE(PTable[[#This Row],[2-Test]],PTable[[#This Row],[3-Method]])","v":"APC7MFmL"},"Aerobic Plate Count (7°C) MB073.06 (AOAC-RI 051702)(Microfilm)(mL)","4.25.18 (MM) - Added"]
["Quan","APRM","mCMFg",{"$f":"CONCATENATE(PTable[[#This Row],[2-Test]],PTable[[#This Row],[3-Method]])","v":"APRMmCMFg"},"Acid Preservative Resistant Mold Modified CMMEF Ch.21 5th Ed."]
["Quan","APRM","mCMFmL",{"$f":"CONCATENATE(PTable[[#This Row],[2-Test]],PTable[[#This Row],[3-Method]])","v":"APRMmCMFmL"},"Acid Preservative Resistant Mold Modified CMMEF Ch.21 5th Ed. (mL)"]
["Quan","APRY","mCMFg",{"$f":"CONCATENATE(PTable[[#This Row],[2-Test]],PTable[[#This Row],[3-Method]])","v":"APRYmCMFg"},"Acid Preservative Resistant Yeast Modified CMMEF Ch.21 5th Ed."]
["Quan","APRY","mCMFmL",{"$f":"CONCATENATE(PTable[[#This Row],[2-Test]],PTable[[#This Row],[3-Method]])","v":"APRYmCMFmL"},"Acid Preservative Resistant Yeast Modified CMMEF Ch.21 5th Ed. (mL)"]
["Quan","B.cereus","mFDAg",{"$f":"CONCATENATE(PTable[[#This Row],[2-Test]],PTable[[#This Row],[3-Method]])","v":"B.cereusmFDAg"},"Bacillus cereus Modified FDA-BAM Ch.14"]
["Quan","B.cereus","mFDAmL",{"$f":"CONCATENATE(PTable[[#This Row],[2-Test]],PTable[[#This Row],[3-Method]])","v":"B.cereusmFDAmL"},"Bacillus cereus Modified FDA-BAM Ch.14 (mL)"]
["Quan","BTGNqn","USPmpn",{"$f":"CONCATENATE(PTable[[#This Row],[2-Test]],PTable[[#This Row],[3-Method]])","v":"BTGNqnUSPmpn"},"Bile-Tolerant Gram-Negative Bacteria USP-NF Ch.62 (MPN)"]
["Quan","C.bot","mCMmp",{"$f":"CONCATENATE(PTable[[#This Row],[2-Test]],PTable[[#This Row],[3-Method]])","v":"C.botmCMmp"},"Clostridium botulinum Modified CMMEF Ch.32 5th Ed. (MPN)"]
["Quan","C.perf","mFDAg",{"$f":"CONCATENATE(PTable[[#This Row],[2-Test]],PTable[[#This Row],[3-Method]])","v":"C.perfmFDAg"},"Clostridium perfringens Modified FDA-BAM Ch.16"]
["Quan","C.perf","mFDAmL",{"$f":"CONCATENATE(PTable[[#This Row],[2-Test]],PTable[[#This Row],[3-Method]])","v":"C.perfmFDAmL"},"Clostridium perfringens Modified FDA-BAM Ch.16 (mL)"]
["Quan","Clost.SR","mIFFmpn",{"$f":"CONCATENATE(PTable[[#This Row],[2-Test]],PTable[[#This Row],[3-Method]])","v":"Clost.SRmIFFmpn"},"Sulfite-Reducing Clostridia Modified IFF 1017 (MPN)"]
["Quan","COLI","mFDAg",{"$f":"CONCATENATE(PTable[[#This Row],[2-Test]],PTable[[#This Row],[3-Method]])","v":"COLImFDAg"},"Coliform Modified FDA-BAM Ch.4"]
["Quan","COLI","mFDAmL",{"$f":"CONCATENATE(PTable[[#This Row],[2-Test]],PTable[[#This Row],[3-Method]])","v":"COLImFDAmL"},"Coliform Modified FDA-BAM Ch.4 (mL)"]
["Quan","COLI","mFDmpG",{"$f":"CONCATENATE(PTable[[#This Row],[2-Test]],PTable[[#This Row],[3-Method]])","v":"COLImFDmpG"},"Coliform Modified FDA-BAM Ch.4 (MPN)"]
["Quan","COLI","mFDmpM",{"$f":"CONCATENATE(PTable[[#This Row],[2-Test]],PTable[[#This Row],[3-Method]])","v":"COLImFDmpM"},"Coliform Modified FDA-BAM Ch.4 (MPN)(mL)"]
["Quan","COLI","MFg",{"$f":"CONCATENATE(PTable[[#This Row],[2-Test]],PTable[[#This Row],[3-Method]])","v":"COLIMFg"},"Coliform MB072.04 (AOAC-RI 051702)(Microfilm)"]
["Quan","COLI","MFmL",{"$f":"CONCATENATE(PTable[[#This Row],[2-Test]],PTable[[#This Row],[3-Method]])","v":"COLIMFmL"},"Coliform MB072.04 (AOAC-RI 051702)(Microfilm)(mL)"]
["Quan","COLI","mSMW10",{"$f":"CONCATENATE(PTable[[#This Row],[2-Test]],PTable[[#This Row],[3-Method]])","v":"COLImSMW10"},"Coliform Modified SMEWW Section 9221 A,B,C,E,F (Ten-tube)"]
["Quan","COLI32","mSMDPg",{"$f":"CONCATENATE(PTable[[#This Row],[2-Test]],PTable[[#This Row],[3-Method]])","v":"COLI32mSMDPg"},"Coliform (32°C) Modified SMEDP Ch.7"]
["Quan","COLI32","mSMDPm",{"$f":"CONCATENATE(PTable[[#This Row],[2-Test]],PTable[[#This Row],[3-Method]])","v":"COLI32mSMDPm"},"Coliform (32°C) Modified SMEDP Ch.7 17th Ed. (mL)"]
["Quan","EB","mCMF5g",{"$f":"CONCATENATE(PTable[[#This Row],[2-Test]],PTable[[#This Row],[3-Method]])","v":"EBmCMF5g"},"Enterobacteriaceae Modified CMMEF Ch.9 5th Ed. (5g)"]
["Quan","EB","mCMFg",{"$f":"CONCATENATE(PTable[[#This Row],[2-Test]],PTable[[#This Row],[3-Method]])","v":"EBmCMFg"},"Enterobacteriaceae Modified CMMEF Ch.9 5th Ed."]
["Quan","EB","mCMFmL",{"$f":"CONCATENATE(PTable[[#This Row],[2-Test]],PTable[[#This Row],[3-Method]])","v":"EBmCMFmL"},"Enterobacteriaceae Modified CMMEF Ch.9 5th Ed. (mL)"]
["Quan","EB","PFg",{"$f":"CONCATENATE(PTable[[#This Row],[2-Test]],PTable[[#This Row],[3-Method]])","v":"EBPFg"},"Enterobacteriaceae AOAC 2003.01 (Petrifilm)"]
["Quan","EB","PFmL",{"$f":"CONCATENATE(PTable[[#This Row],[2-Test]],PTable[[#This Row],[3-Method]])","v":"EBPFmL"},"Enterobacteriaceae AOAC 2003.01 (Petrifilm)(mL)"]
["Quan","EC","mFDAg",{"$f":"CONCATENATE(PTable[[#This Row],[2-Test]],PTable[[#This Row],[3-Method]])","v":"ECmFDAg"},"E. coli Modified FDA-BAM Ch.4"]
["Quan","EC","mFDAmL",{"$f":"CONCATENATE(PTable[[#This Row],[2-Test]],PTable[[#This Row],[3-Method]])","v":"ECmFDAmL"},"E. coli Modified FDA-BAM Ch.4 (mL)"]
["Quan","EC","mFDmpm",{"$f":"CONCATENATE(PTable[[#This Row],[2-Test]],PTable[[#This Row],[3-Method]])","v":"ECmFDmpm"},"E. coli Modified FDA-BAM Ch.4 (MPN)(mL)"]
["Quan","EC","mFDmpn",{"$f":"CONCATENATE(PTable[[#This Row],[2-Test]],PTable[[#This Row],[3-Method]])","v":"ECmFDmpn"},"E. coli Modified FDA-BAM Ch.4 (MPN)"]
["Quan","EC","MFg",{"$f":"CONCATENATE(PTable[[#This Row],[2-Test]],PTable[[#This Row],[3-Method]])","v":"ECMFg"},"E. coli MB072.04 (AOAC-RI 051702)(Microfilm)"]
["Quan","EC","MFmL",{"$f":"CONCATENATE(PTable[[#This Row],[2-Test]],PTable[[#This Row],[3-Method]])","v":"ECMFmL"},"E. coli MB072.04 (AOAC-RI 051702)(Microfilm)(mL)"]
["Quan","EC","mSMDPg",{"$f":"CONCATENATE(PTable[[#This Row],[2-Test]],PTable[[#This Row],[3-Method]])","v":"ECmSMDPg"},"E. coli (32°C) Modified SMEDP Ch.7"]
["Quan","EC","mSMDPm",{"$f":"CONCATENATE(PTable[[#This Row],[2-Test]],PTable[[#This Row],[3-Method]])","v":"ECmSMDPm"},"E. coli (32°C) Modified SMEDP Ch.7 17th Ed. (mL)"]
["Quan","EC","mSMWtn",{"$f":"CONCATENATE(PTable[[#This Row],[2-Test]],PTable[[#This Row],[3-Method]])","v":"ECmSMWtn"},"E. coli Modified SMEWW Section 9221 A,B,C,E,F (Ten-tube)"]
["Quan","Fec.COLI","FDAmpm",{"$f":"CONCATENATE(PTable[[#This Row],[2-Test]],PTable[[#This Row],[3-Method]])","v":"Fec.COLIFDAmpm"},"Fecal Coliform FDA-BAM Ch.4 (MPN)(mL)"]
["Quan","Fec.COLI","FDAmpn",{"$f":"CONCATENATE(PTable[[#This Row],[2-Test]],PTable[[#This Row],[3-Method]])","v":"Fec.COLIFDAmpn"},"Fecal Coliform FDA-BAM Ch.4 (MPN)"]
["Quan","Fec.COLI","mFDmpm",{"$f":"CONCATENATE(PTable[[#This Row],[2-Test]],PTable[[#This Row],[3-Method]])","v":"Fec.COLImFDmpm"},"Fecal Coliform Modified FDA-BAM Ch.4 (MPN)(mL)"]
["Quan","Fec.COLI","mFDmpn",{"$f":"CONCATENATE(PTable[[#This Row],[2-Test]],PTable[[#This Row],[3-Method]])","v":"Fec.COLImFDmpn"},"Fecal Coliform Modified FDA-BAM Ch.4 (MPN)"]
["Quan","Fec.COLI","mSMWtn",{"$f":"CONCATENATE(PTable[[#This Row],[2-Test]],PTable[[#This Row],[3-Method]])","v":"Fec.COLImSMWtn"},"Fecal Coliform Modified SMEWW Section 9221 A,B,C,E,F (Ten-tube)"]
["Quan","HLAB","mCMFmp",{"$f":"CONCATENATE(PTable[[#This Row],[2-Test]],PTable[[#This Row],[3-Method]])","v":"HLABmCMFmp"},"Heterofermentative Lactic Acid Bacteria Modified CMMEF Ch.19 5th Ed. (MPN)"]
["Quan","LAB","mCMFg",{"$f":"CONCATENATE(PTable[[#This Row],[2-Test]],PTable[[#This Row],[3-Method]])","v":"LABmCMFg"},"Lactic Acid Bacteria Modified CMMEF Ch.19 5th Ed."]
["Quan","LAB","mCMFmL",{"$f":"CONCATENATE(PTable[[#This Row],[2-Test]],PTable[[#This Row],[3-Method]])","v":"LABmCMFmL"},"Lactic Acid Bacteria Modified CMMEF Ch.19 5th Ed. (mL)"]
["Quan","Leuco","mCMFg",{"$f":"CONCATENATE(PTable[[#This Row],[2-Test]],PTable[[#This Row],[3-Method]])","v":"LeucomCMFg"},"Leuconostoc species Modified CMMEF Ch.19 5th Ed."]
["Quan","Leuco","mCMFmL",{"$f":"CONCATENATE(PTable[[#This Row],[2-Test]],PTable[[#This Row],[3-Method]])","v":"LeucomCMFmL"},"Leuconostoc species Modified CMMEF Ch.19 5th Ed. (mL)"]
["Quan","LMqn","mFDAmp",{"$f":"CONCATENATE(PTable[[#This Row],[2-Test]],PTable[[#This Row],[3-Method]])","v":"LMqnmFDAmp"},"Listeria monocytogenes Modified FDA-BAM Ch.10 (MPN)"]
["Quan","LMqn","mUSDmp",{"$f":"CONCATENATE(PTable[[#This Row],[2-Test]],PTable[[#This Row],[3-Method]])","v":"LMqnmUSDmp"},"Listeria monocytogenes Modified USDA-FSIS MLG Ch.8.10 (MPN)"]
["Quan","M","FDAg",{"$f":"CONCATENATE(PTable[[#This Row],[2-Test]],PTable[[#This Row],[3-Method]])","v":"MFDAg"},"Mold FDA-BAM Ch.18","4.13.18 (MM) - Added"]
["Quan","M","FDAmL",{"$f":"CONCATENATE(PTable[[#This Row],[2-Test]],PTable[[#This Row],[3-Method]])","v":"MFDAmL"},"Mold FDA-BAM Ch.18 (mL)","4.13.18 (MM) - Added"]
["Quan","M","mFDAg",{"$f":"CONCATENATE(PTable[[#This Row],[2-Test]],PTable[[#This Row],[3-Method]])","v":"MmFDAg"},"Mold Modified FDA-BAM Ch.18"]
["Quan","M","mFDAmL",{"$f":"CONCATENATE(PTable[[#This Row],[2-Test]],PTable[[#This Row],[3-Method]])","v":"MmFDAmL"},"Mold Modified FDA-BAM Ch.18 (mL)"]
["Quan","M","MFg",{"$f":"CONCATENATE(PTable[[#This Row],[2-Test]],PTable[[#This Row],[3-Method]])","v":"MMFg"},"Mold MB074.03 (AOAC-RI 051702)(Microfilm)"]
["Quan","M","MFmL",{"$f":"CONCATENATE(PTable[[#This Row],[2-Test]],PTable[[#This Row],[3-Method]])","v":"MMFmL"},"Mold MB074.03 (AOAC-RI 051702)(Microfilm)(mL)"]
["Quan","M","mUSPg",{"$f":"CONCATENATE(PTable[[#This Row],[2-Test]],PTable[[#This Row],[3-Method]])","v":"MmUSPg"},"Mold Modified USP-NF Ch.61","5.30.18 (MM) - Added \"m\" to Method"]
["Quan","M","mUSPmL",{"$f":"CONCATENATE(PTable[[#This Row],[2-Test]],PTable[[#This Row],[3-Method]])","v":"MmUSPmL"},"Mold Modified USP-NF Ch.61 (mL)","5.30.18 (MM) - Added \"m\" to Method"]
["Quan","Os.APC25","mCMFg",{"$f":"CONCATENATE(PTable[[#This Row],[2-Test]],PTable[[#This Row],[3-Method]])","v":"Os.APC25mCMFg"},"Osmophilic Aerobic Plate Count (25°C) Modified CMMEF Ch.8 5th Ed."]
["Quan","Os.APC25","mCMFmL",{"$f":"CONCATENATE(PTable[[#This Row],[2-Test]],PTable[[#This Row],[3-Method]])","v":"Os.APC25mCMFmL"},"Osmophilic Aerobic Plate Count (25°C) Modified CMMEF Ch.8 5th Ed. (mL)"]
["Quan","Os.APC35","mFDAg",{"$f":"CONCATENATE(PTable[[#This Row],[2-Test]],PTable[[#This Row],[3-Method]])","v":"Os.APC35mFDAg"},"Osmophilic Aerobic Plate Count (35°C) Modified FDA-BAM Ch.3"]
["Quan","Os.APC35","mFDAmL",{"$f":"CONCATENATE(PTable[[#This Row],[2-Test]],PTable[[#This Row],[3-Method]])","v":"Os.APC35mFDAmL"},"Osmophilic Aerobic Plate Count (35°C) Modified FDA-BAM Ch.3 (mL)"]
["Quan","Os.M","mFDAg",{"$f":"CONCATENATE(PTable[[#This Row],[2-Test]],PTable[[#This Row],[3-Method]])","v":"Os.MmFDAg"},"Osmophilic Mold Modified FDA-BAM Ch.18"]
["Quan","Os.M","mFDAmL",{"$f":"CONCATENATE(PTable[[#This Row],[2-Test]],PTable[[#This Row],[3-Method]])","v":"Os.MmFDAmL"},"Osmophilic Mold Modified FDA-BAM Ch.18 (mL)","5.9.18 (MM) - Added"]
["Quan","Os.Y","mFDAg",{"$f":"CONCATENATE(PTable[[#This Row],[2-Test]],PTable[[#This Row],[3-Method]])","v":"Os.YmFDAg"},"Osmophilic Yeast Modified FDA-BAM Ch.18"]
["Quan","Os.Y","mFDAmL",{"$f":"CONCATENATE(PTable[[#This Row],[2-Test]],PTable[[#This Row],[3-Method]])","v":"Os.YmFDAmL"},"Osmophilic Yeast Modified FDA-BAM Ch.18 (mL)","5.9.18 (MM) - Added"]
["Quan","Pseud.sp","mCMFg",{"$f":"CONCATENATE(PTable[[#This Row],[2-Test]],PTable[[#This Row],[3-Method]])","v":"Pseud.spmCMFg"},"Pseudomonas species Modified CMMEF Ch.8 5th Ed."]
["Quan","Pseud.sp","mCMFm",{"$f":"CONCATENATE(PTable[[#This Row],[2-Test]],PTable[[#This Row],[3-Method]])","v":"Pseud.spmCMFm"},"Pseudomonas species Modified CMMEF Ch.8 5th Ed. (mL)"]
["Quan","Sp.MAe","mCMFg",{"$f":"CONCATENATE(PTable[[#This Row],[2-Test]],PTable[[#This Row],[3-Method]])","v":"Sp.MAemCMFg"},"Mesophilic Aerobic Sporeformers Modified CMMEF Ch.23 5th Ed."]
["Quan","Sp.MAe","mCMFmL",{"$f":"CONCATENATE(PTable[[#This Row],[2-Test]],PTable[[#This Row],[3-Method]])","v":"Sp.MAemCMFmL"},"Mesophilic Aerobic Sporeformers Modified CMMEF Ch.23 5th Ed. (mL)"]
["Quan","Sp.MAn","mCMEF",{"$f":"CONCATENATE(PTable[[#This Row],[2-Test]],PTable[[#This Row],[3-Method]])","v":"Sp.MAnmCMEF"},"Mesophilic Anaerobic Sporeformers Modified CMMEF Ch.24 5th Ed."]
["Quan","Sp.Sulf.","mCMEF",{"$f":"CONCATENATE(PTable[[#This Row],[2-Test]],PTable[[#This Row],[3-Method]])","v":"Sp.Sulf.mCMEF"},"Sulfide Spoilage Sporeformers Modified CMMEF Ch.28 5th Ed."]
["Quan","Sp.Tflat","mCMEF",{"$f":"CONCATENATE(PTable[[#This Row],[2-Test]],PTable[[#This Row],[3-Method]])","v":"Sp.TflatmCMEF"},"Thermophilic Flat Sour Spores Modified CMMEF Ch.26 5th Ed."]
["Quan","Sp.TT","mCMEF",{"$f":"CONCATENATE(PTable[[#This Row],[2-Test]],PTable[[#This Row],[3-Method]])","v":"Sp.TTmCMEF"},"Total Thermophilic Spores Modified CMMEF Ch.26 5th Ed."]
["Quan","StaphA","mFDAg",{"$f":"CONCATENATE(PTable[[#This Row],[2-Test]],PTable[[#This Row],[3-Method]])","v":"StaphAmFDAg"},"Staphylococcus aureus Modified FDA-BAM Ch.12","4.13.18 (MM) - Added for \"CPS\" to \"S. aureus\" reportable switch. Deleted all CPS FDA analytes."]
["Quan","StaphA","mFDAmL",{"$f":"CONCATENATE(PTable[[#This Row],[2-Test]],PTable[[#This Row],[3-Method]])","v":"StaphAmFDAmL"},"Staphylococcus aureus Modified FDA-BAM Ch.12 (mL)","4.13.18 (MM) - Added for \"CPS\" to \"S. aureus\" reportable switch. Deleted all CPS FDA analytes."]
["Quan","StaphA","mFDmpn",{"$f":"CONCATENATE(PTable[[#This Row],[2-Test]],PTable[[#This Row],[3-Method]])","v":"StaphAmFDmpn"},"Staphylococcus aureus Modified FDA-BAM Ch.12 (MPN)","4.13.18 (MM) - Added for \"CPS\" to \"S. aureus\" reportable switch. Deleted all CPS FDA analytes."]
["Quan","StaphA","PFg",{"$f":"CONCATENATE(PTable[[#This Row],[2-Test]],PTable[[#This Row],[3-Method]])","v":"StaphAPFg"},"Staphylococcus aureus AOAC 2003.07 (Petrifilm)"]
["Quan","StaphA","PFmL",{"$f":"CONCATENATE(PTable[[#This Row],[2-Test]],PTable[[#This Row],[3-Method]])","v":"StaphAPFmL"},"Staphylococcus aureus AOAC 2003.07 (Petrifilm)(mL)"]
["Quan","TYMC","mUSPg",{"$f":"CONCATENATE(PTable[[#This Row],[2-Test]],PTable[[#This Row],[3-Method]])","v":"TYMCmUSPg"},"Total Yeast and Mold Count Modified USP-NF Ch.61"]
["Quan","TYMC","mUSPmL",{"$f":"CONCATENATE(PTable[[#This Row],[2-Test]],PTable[[#This Row],[3-Method]])","v":"TYMCmUSPmL"},"Total Yeast and Mold Count Modified USP-NF Ch.61 (mL)"]
["Quan","Y","FDAg",{"$f":"CONCATENATE(PTable[[#This Row],[2-Test]],PTable[[#This Row],[3-Method]])","v":"YFDAg"},"Yeast FDA-BAM Ch.18","4.13.18 (MM) - Added"]
["Quan","Y","FDAmL",{"$f":"CONCATENATE(PTable[[#This Row],[2-Test]],PTable[[#This Row],[3-Method]])","v":"YFDAmL"},"Yeast FDA-BAM Ch.18 (mL)","4.13.18 (MM) - Added"]
["Quan","Y","mFDAg",{"$f":"CONCATENATE(PTable[[#This Row],[2-Test]],PTable[[#This Row],[3-Method]])","v":"YmFDAg"},"Yeast Modified FDA-BAM Ch.18"]
["Quan","Y","mFDAmL",{"$f":"CONCATENATE(PTable[[#This Row],[2-Test]],PTable[[#This Row],[3-Method]])","v":"YmFDAmL"},"Yeast Modified FDA-BAM Ch.18 (mL)"]
["Quan","Y","MFg",{"$f":"CONCATENATE(PTable[[#This Row],[2-Test]],PTable[[#This Row],[3-Method]])","v":"YMFg"},"Yeast MB074.03 (AOAC-RI 051702)(Microfilm)"]
["Quan","Y","MFmL",{"$f":"CONCATENATE(PTable[[#This Row],[2-Test]],PTable[[#This Row],[3-Method]])","v":"YMFmL"},"Yeast MB074.03 (AOAC-RI 051702)(Microfilm)(mL)"]
["Quan","Y","mUSPg",{"$f":"CONCATENATE(PTable[[#This Row],[2-Test]],PTable[[#This Row],[3-Method]])","v":"YmUSPg"},"Yeast Modified USP-NF Ch.61"]
["Quan","Y","mUSPmL",{"$f":"CONCATENATE(PTable[[#This Row],[2-Test]],PTable[[#This Row],[3-Method]])","v":"YmUSPmL"},"Yeast Modified USP-NF Ch.61 (mL)"]
[]
[null,null,null,null,null,"8.29.18 (MM) - Deleted analytes for reference USDA and BAX Listeria"]

{"sheet":"Instruction","index":2,"n_rows":93,"n_cols":23,"rows_kept":93,"cut":false,"hidden":false,"merged":[[25,4,25,10],[29,4,29,10],[32,4,32,10],[33,3,33,10],[35,4,35,10],[27,11,27,12],[28,11,28,12],[29,11,29,12],[58,3,58,5],[57,3,57,5],[34,4,34,10],[36,3,36,10],[38,4,38,10],[68,17,68,18],[46,14,46,15],[47,14,47,15],[46,18,46,19],[47,18,47,19],[59,12,59,13],[58,12,58,13],[45,22,45,23],[46,22,46,23],[57,12,57,13],[20,5,20,10],[2,2,2,10],[4,2,4,10],[6,2,6,10],[13,3,13,10],[15,3,15,10]]}
[null,"The purpose of this SARF is twofold:"]
[]
[null,null,"The first is to benefit you.  We at DonLevy Laboratories want to ensure that you have access to your data in the format that works best for you.  By grouping your sample information into categories, it allows us to best display it on a Certificate of Analysis (CoA).  You also have access to our Customer Online Receiving and Reporting (CORR) website.  This website allows you to query your data to find CoAs, and it allows you to export data into a csv or excel format.  You reap the most benefits if you have your sample information grouped into \"sample types\", such as the different categories of product you manufacture.  You also need a field that is formatted to a date/time such  as \"collection date/time\".    Your lot number is also important to place into its own field.  Any other generic information would then be best suited to go into a generic \"description\" field."]
[]
[null,null,"The second reason for this SARF is to ensure that we at DonLevy Laboratories can reliably get you results as quickly as we can.  This SARF has background code that takes the sample information and testing methodology, and converts it into an easy to transfer format.  This allows us to import the information off this SARF directly into our Laboraty Information System (LIMS).  Not only does this allow us to get samples into the laboratory sooner so that you ultimately get results faster, but it prevents us from making transcription errors.  We also have a multitude of tests that we offer that can be reported out many ways (e.g., CFU/g versus CFU/mL).  By placing our methodology into the SARF, it allows us to consistently test your samples in the format you request."]
[]
[null,null,"The sample information columns that appear on this SARF will be the same columns that show up on your CoAs.  The methods that are requested on this SARF will be the same methods that show up on CoAs and invoices alike.  If you have any questions about this SARF please contact us at sampleadmin@donlevylab.com or call the laboratory and speak to one of our customer service representatives.  Our goal is to ensure that we provide you with consistent, reliable results."]
[]
[]
[null,"Instructions for Use:"]
[]
[null,null,"Both Editing and Macros must be enabled to get full functionality of this document"]
[]
[null,null,"1)","The \"SARF\" tab of this excel file is where you record your sample and testing information"]
[null,null,"2)","Client Name and Client Code should be prefilled when you receive the SARF"]
[null,null,"3)","The date the samples were sent can be recorded in the top right along with an optional PO number",null,null,null,null,null,null,null,null,null,"Color Code"]
[null,null,"4)","Sample information is recorded for every sample",null,null,null,null,null,null,null,null,null,"Quan","Microbiological Quantitative (final Test Method result is a number)"]
[null,null,"                                                               i.      Date Sent","a)","Date/Time Collected field",null,null,null,null,null,null,null,null,"Qual","Microbiological Qualitative (final Test Method result is something like positive/negative, present/absent, etc.)"]
[null,null,null,"b)","Sample Type field",null,null,null,null,null,null,null,null,"Chem","Chemistry"]
[null,null,null,null,"i)","This is a drop down list that you can control",null,null,null,null,null,null,null,"Allergen","Allergen"]
[null,null,null,null,"ii)","The contents are populated from the SampleTypeList on the right",null,null,null,null,null,null,null,"Orgnlptc","Organoleptics"]
[null,null,null,null,"iii)","You can add as many Sample Types as needed to the SampleTypeList",null,null,null,null,null,null,null,"Other","(please use the comments section on SARF to request testing)"]
[null,null,null,null,"iv)","These Sample Types should classify your data in groups"]
[null,null,"                                                             v.      Description","c)","Lot number field"]
[null,null,null,"d)","Description (for any other generic information)",null,null,null,null,null,null,null,null,{"$f":"IFERROR(CONCATENATE(\"1) \",VLOOKUP(N29&N30,PTable[Concatenate]:PTable[Full Test Method],2,FALSE)),IF(N28=\"Other\",\"1) See Comments\",\"1) NA\"))","v":"1) Listeria species MB316.01 (AOAC-RI 021201)(PCR)(25g)"}]
[null,null,null,"e)","Each line item will be tested individually.  If you need compositing done, put all sample information into a single line."]
[null,null,"5)","Test Method Selection",null,null,null,null,null,null,null,null,null,1]
[null,null,null,"a)","To select a full Test Method, it requires a selection from each of the three drop down lists",null,null,null,null,null,null,"!!! Click 1st---->   ",null,"Qual","1st drop down - Method Type"]
[null,null,null,"b)","The first drop down selects the Method Type",null,null,null,null,null,null,"!!! Click 2nd---->  ",null,"LG","2nd drop down - Test"]
[null,null,null,"c)","The second drop down has available Tests specific to the chosen Method Type",null,null,null,null,null,null,"!!! Click 3rd---->   ",null,"PCR25g","3rd drop down - Method/Unit"]
[null,null,null,"d)","The third drop down contains available Methods and units specific to the chosen Test"]
[null,null,null,"e)","Once all three drop downs are selected, the full Test Method will show above"]
[null,null,null,"f)","If you require a test that is not included in the list, select the Method Type \"Other\", and use the comments section to let us know what Test Method you would like performed"]
[null,null,"6)","If you cannot find a test you are looking for by utilizing the three drop down lists, use the \"Test Method List\" tab of this excel file for reference"]
[null,null,null,"a)","Navigate to the the \"Test Method List\" tab"]
[null,null,null,"b)","This list contains the abbreviations for all three drop down lists, along with the corresponding full Test Method name. It is in alphabetical order, grouped by Method Type."]
[null,null,"7)","Under each test column on the \"SARF\" tab, input \"x\" in the cell/box for each sample requiring that test"]
[null,null,"8)","Save the Excel File and Email to: sampleadmin@donlevylab.com"]
[null,null,null,"a)","All samples received on a SARF will be reported on the same Certificate of Analysis.  If you would like certain samples reported separately, please submit accordingly on individual SARF's."]
[]
[]
[null,null,"Microsoft Excel Tips"]
[]
[null,null,"-","the rectanglular boxes in Microsoft Excel are called \"cells\""]
[null,null,null,null,null,null,null,null,null,null,"step 1",null,"step 2",null,"step 3",null,null,null,"step4",null,null,null,"step 5"]
[null,null,"-","hold CTRL and press \"C\" to copy",null,null,null,null,null,null,"\"CTRL C\" this cell  ---->","TEST","\"CTRL V\" here",null,"you can also paste to multiple cells",null,null,null,"you can also copy from multiple cells",null,null,null,"click this cell ------->"]
[null,null,"-","hold CTRL and press \"V\" to paste",null,null,null,null,null,null,null,null,null,null,"highlight all the cells -------->",null,null,null,"highlight all the cells -------->",null,"TEST",null,"and press \"CTRL V\""]
[null,null,null,null,null,null,null,null,null,null,null,null,null,null,"and then \"CTRL V\"",null,null,null,"and press \"CTRL C\"",null,"TEST"]
[null,null,null,null,null,null,null,null,null,null,null,null,null,null,null,null,null,null,null,null,"TEST"]
[null,null,null,null,null,null,null,null,null,null,null,null,null,null,null,null,null,null,null,null,"TEST"]
[null,null,null,null,null,null,null,null,null,null,null,null,null,null,null,null,null,null,null,null,"TEST"]
[]
[]
[]
[null,null,"-","at the bottom right of any \"cell\" is a little square"]
[null,null,"-","this can be used to copy/paste with some added functionality"]
[]
[null,null,null,"step 1",null,null,null,"step 2",null,null,null,null,"step 3"]
[null,null,null,"click this cell ---->",null,null,"WORDS","click and hold the little square and drag it down, then release",null,null,null,null,"try it with numbers",null,null,"step 4"]
[null,null,null,null,null,null,null,null,null,null,null,null,"click this cell ------->",null,"1","click and hold the little square and drag it down, then release"]
[]
[]
[]
[]
[]
[null,null,null,null,null,null,null,null,null,null,"This concept can also be applied to a bigger selection, along with date/times and text fields that end with a number"]
[]
[null,null,null,null,null,null,null,null,null,null,"Date/Time\nCollected","Sample Type","Lot","Descr.","Test 1","Test 2","Test 3"]
[null,null,null,null,null,null,null,null,null,1,"2018-05-01T03:09:00","RTE","LOT3981","Pizza","x","x","x","<------ highlight all 7 cells (the blue)"]
[null,null,null,null,null,null,null,null,null,2]
[null,null,null,null,null,null,null,null,null,3,null,null,null,null,null,null,null,null,"step 6"]
[null,null,null,null,null,null,null,null,null,4,null,null,null,null,null,null,null,null,"click and hold the little square and drag it down, then release"]
[null,null,null,null,null,null,null,null,null,5,null,null,null,null,null,null,"stop here"]
[]
[]
[]
[null,null,null,null,null,null,null,null,null,null,"You then can combine copy/paste with the little square……."]
[]
[]
[null,null,null,null,null,null,null,null,null,null,"step 7"]
[null,null,null,null,null,null,null,null,null,null,"highlight all the blue cells above and \"CTRL C\" for copy"]
[]
[null,null,null,null,null,null,null,null,null,null,"Date/Time\nCollected","Sample Type","Lot","Descr.","Test 1","Test 2","Test 3"]
[null,null,null,null,null,null,null,null,"step 8",1,"click here","and press \"CTRL V\" to paste"]
[null,null,null,null,null,null,null,null,null,2]
[null,null,null,null,null,null,null,null,null,3]
[null,null,null,null,null,null,null,null,null,4]
[null,null,null,null,null,null,null,null,null,5]
[]
[]
[]
[]
[null,null,null,null,null,null,null,null,null,null,":)"]

{"sheet":"Import","index":3,"n_rows":201,"n_cols":10,"rows_kept":201,"cut":false,"hidden":true,"merged":[]}
["Collection Date","Sample Form","Sample Type","Lot","Description","Temp1","PO","Receiving Date","Due Date","Test"]
[{"$f":"IF(C2=\"\",\"\",IF('Product SARF'!B20=\"\",\"\",'Product SARF'!B20))","v":"2018-06-06"},{"$f":"IF('Product SARF'!C20=\"\",\"\",\"Sample\")","v":"Sample"},{"$f":"IF('Product SARF'!C20=\"\",\"\",'Product SARF'!C20)","v":"Type A"},{"$f":"IF(C2=\"\",\"\",IF('Product SARF'!D20=\"\",\"\",'Product SARF'!D20))","v":"1234"},{"$f":"IF(C2=\"\",\"\",IF('Product SARF'!E20=\"\",\"\",'Product SARF'!E20))","v":"post filler"},{"$f":"IF(C2=\"\",\"\",IF('Product SARF'!$L$6=\"\",\"\",CONCATENATE('Product SARF'!$L$6,'Product SARF'!$M$6)))","v":""},{"$f":"IF(C2=\"\",\"\",IF('Product SARF'!$L$2=\"\",\"\",'Product SARF'!$L$2))","v":""},{"$f":"IF(C2=\"\",\"\",IF('Product SARF'!$L$4=\"\",NOW(),'Product SARF'!$L$4))","v":"2019-08-06T09:41:05.870"},{"$f":"IF(C2=\"\",\"\",NOW())","v":"2019-08-06T09:41:05.870"},{"$f":"IF(C2=\"\",\"\", IF(AND(NOT(ISBLANK('Product SARF'!F20)),'Product SARF'!$E$8<>\"1) NA\",'Product SARF'!$E$8<>\"1) ...\"), \"   \"&CONCATENATE('Product SARF'!$F$18,'Product SARF'!$F$19),\"\") & IF(AND(NOT(ISBLANK('Product SARF'!G20)),'Product SARF'!$E$9<>\"2) NA\",'Product SARF'!$E$9<>\"2) ...\"), \"   \"&CONCATENATE('Product SARF'!$G$18,'Product SARF'!$G$19),\"\")& IF(AND(NOT(ISBLANK('Product SARF'!H20)),'Product SARF'!$E$10<>\"3) NA\",'Product SARF'!$E$10<>\"3) ...\"), \"   \"&CONCATENATE('Product SARF'!$H$18,'Product SARF'!$H$19),\"\") & IF(AND(NOT(ISBLANK('Product SARF'!I20)),'Product SARF'!$E$11<>\"4) NA\",'Product SARF'!$E$11<>\"4) ...\"), \"   \"&CONCATENATE('Product SARF'!$I$18,'Product SARF'!$I$19),\"\")& IF(AND(NOT(ISBLANK('Product SARF'!J20)),'Product SARF'!$E$12<>\"5) NA\",'Product SARF'!$E$12<>\"5) ...\"), \"   \"&CONCATENATE('Product SARF'!$J$18,'Product SARF'!$J$19),\"\")&IF(AND(NOT(ISBLANK('Product SARF'!K20)),'Product SARF'!$E$13<>\"6) NA\",'Product SARF'!$E$13<>\"6) ...\"), \"   \"&CONCATENATE('Product SARF'!$K$18,'Product SARF'!$K$19),\"\")&IF(AND(NOT(ISBLANK('Product SARF'!L20)),'Product SARF'!$E$14<>\"7) NA\",'Product SARF'!$E$14<>\"7) ...\"), \"   \"&CONCATENATE('Product SARF'!$L$18,'Product SARF'!$L$19),\"\") &IF(AND(NOT(ISBLANK('Product SARF'!M20)),'Product SARF'!$E$15<>\"8) NA\",'Product SARF'!$E$15<>\"8) ...\"), \"   \"&CONCATENATE('Product SARF'!$M$18,'Product SARF'!$M$19),\"\"))","v":""}]
[{"$f":"IF(C3=\"\",\"\",IF('Product SARF'!B21=\"\",\"\",'Product SARF'!B21))","v":"2018-06-06"},{"$f":"IF('Product SARF'!C21=\"\",\"\",\"Sample\")","v":"Sample"},{"$f":"IF('Product SARF'!C21=\"\",\"\",'Product SARF'!C21)","v":"Type B"},{"$f":"IF(C3=\"\",\"\",IF('Product SARF'!D21=\"\",\"\",'Product SARF'!D21))","v":"1234"},{"$f":"IF(C3=\"\",\"\",IF('Product SARF'!E21=\"\",\"\",'Product SARF'!E21))","v":"ingredient "},{"$f":"IF(C3=\"\",\"\",IF('Product SARF'!$L$6=\"\",\"\",CONCATENATE('Product SARF'!$L$6,'Product SARF'!$M$6)))","v":""},{"$f":"IF(C3=\"\",\"\",IF('Product SARF'!$L$2=\"\",\"\",'Product SARF'!$L$2))","v":""},{"$f":"IF(C3=\"\",\"\",IF('Product SARF'!$L$4=\"\",NOW(),'Product SARF'!$L$4))","v":"2019-08-06T09:41:05.870"},{"$f":"IF(C3=\"\",\"\",NOW())","v":"2019-08-06T09:41:05.870"},{"$f":"IF(C3=\"\",\"\", IF(AND(NOT(ISBLANK('Product SARF'!F21)),'Product SARF'!$E$8<>\"1) NA\",'Product SARF'!$E$8<>\"1) ...\"), \"   \"&CONCATENATE('Product SARF'!$F$18,'Product SARF'!$F$19),\"\") & IF(AND(NOT(ISBLANK('Product SARF'!G21)),'Product SARF'!$E$9<>\"2) NA\",'Product SARF'!$E$9<>\"2) ...\"), \"   \"&CONCATENATE('Product SARF'!$G$18,'Product SARF'!$G$19),\"\")& IF(AND(NOT(ISBLANK('Product SARF'!H21)),'Product SARF'!$E$10<>\"3) NA\",'Product SARF'!$E$10<>\"3) ...\"), \"   \"&CONCATENATE('Product SARF'!$H$18,'Product SARF'!$H$19),\"\") & IF(AND(NOT(ISBLANK('Product SARF'!I21)),'Product SARF'!$E$11<>\"4) NA\",'Product SARF'!$E$11<>\"4) ...\"), \"   \"&CONCATENATE('Product SARF'!$I$18,'Product SARF'!$I$19),\"\")& IF(AND(NOT(ISBLANK('Product SARF'!J21)),'Product SARF'!$E$12<>\"5) NA\",'Product SARF'!$E$12<>\"5) ...\"), \"   \"&CONCATENATE('Product SARF'!$J$18,'Product SARF'!$J$19),\"\")&IF(AND(NOT(ISBLANK('Product SARF'!K21)),'Product SARF'!$E$13<>\"6) NA\",'Product SARF'!$E$13<>\"6) ...\"), \"   \"&CONCATENATE('Product SARF'!$K$18,'Product SARF'!$K$19),\"\")&IF(AND(NOT(ISBLANK('Product SARF'!L21)),'Product SARF'!$E$14<>\"7) NA\",'Product SARF'!$E$14<>\"7) ...\"), \"   \"&CONCATENATE('Product SARF'!$L$18,'Product SARF'!$L$19),\"\") &IF(AND(NOT(ISBLANK('Product SARF'!M21)),'Product SARF'!$E$15<>\"8) NA\",'Product SARF'!$E$15<>\"8) ...\"), \"   \"&CONCATENATE('Product SARF'!$M$18,'Product SARF'!$M$19),\"\"))","v":""}]
[{"$f":"IF(C4=\"\",\"\",IF('Product SARF'!B22=\"\",\"\",'Product SARF'!B22))","v":"2018-06-06"},{"$f":"IF('Product SARF'!C22=\"\",\"\",\"Sample\")","v":"Sample"},{"$f":"IF('Product SARF'!C22=\"\",\"\",'Product SARF'!C22)","v":"Type B"},{"$f":"IF(C4=\"\",\"\",IF('Product SARF'!D22=\"\",\"\",'Product SARF'!D22))","v":"5678"},{"$f":"IF(C4=\"\",\"\",IF('Product SARF'!E22=\"\",\"\",'Product SARF'!E22))","v":"packaged"},{"$f":"IF(C4=\"\",\"\",IF('Product SARF'!$L$6=\"\",\"\",CONCATENATE('Product SARF'!$L$6,'Product SARF'!$M$6)))","v":""},{"$f":"IF(C4=\"\",\"\",IF('Product SARF'!$L$2=\"\",\"\",'Product SARF'!$L$2))","v":""},{"$f":"IF(C4=\"\",\"\",IF('Product SARF'!$L$4=\"\",NOW(),'Product SARF'!$L$4))","v":"2019-08-06T09:41:05.870"},"2019-08-06T09:41:05.870",{"$f":"IF(C4=\"\",\"\", IF(AND(NOT(ISBLANK('Product SARF'!F22)),'Product SARF'!$E$8<>\"1) NA\",'Product SARF'!$E$8<>\"1) ...\"), \"   \"&CONCATENATE('Product SARF'!$F$18,'Product SARF'!$F$19),\"\") & IF(AND(NOT(ISBLANK('Product SARF'!G22)),'Product SARF'!$E$9<>\"2) NA\",'Product SARF'!$E$9<>\"2) ...\"), \"   \"&CONCATENATE('Product SARF'!$G$18,'Product SARF'!$G$19),\"\")& IF(AND(NOT(ISBLANK('Product SARF'!H22)),'Product SARF'!$E$10<>\"3) NA\",'Product SARF'!$E$10<>\"3) ...\"), \"   \"&CONCATENATE('Product SARF'!$H$18,'Product SARF'!$H$19),\"\") & IF(AND(NOT(ISBLANK('Product SARF'!I22)),'Product SARF'!$E$11<>\"4) NA\",'Product SARF'!$E$11<>\"4) ...\"), \"   \"&CONCATENATE('Product SARF'!$I$18,'Product SARF'!$I$19),\"\")& IF(AND(NOT(ISBLANK('Product SARF'!J22)),'Product SARF'!$E$12<>\"5) NA\",'Product SARF'!$E$12<>\"5) ...\"), \"   \"&CONCATENATE('Product SARF'!$J$18,'Product SARF'!$J$19),\"\")&IF(AND(NOT(ISBLANK('Product SARF'!K22)),'Product SARF'!$E$13<>\"6) NA\",'Product SARF'!$E$13<>\"6) ...\"), \"   \"&CONCATENATE('Product SARF'!$K$18,'Product SARF'!$K$19),\"\")&IF(AND(NOT(ISBLANK('Product SARF'!L22)),'Product SARF'!$E$14<>\"7) NA\",'Product SARF'!$E$14<>\"7) ...\"), \"   \"&CONCATENATE('Product SARF'!$L$18,'Product SARF'!$L$19),\"\") &IF(AND(NOT(ISBLANK('Product SARF'!M22)),'Product SARF'!$E$15<>\"8) NA\",'Product SARF'!$E$15<>\"8) ...\"), \"   \"&CONCATENATE('Product SARF'!$M$18,'Product SARF'!$M$19),\"\"))","v":""}]
[{"$f":"IF(C5=\"\",\"\",IF('Product SARF'!B23=\"\",\"\",'Product SARF'!B23))","v":""},{"$f":"IF('Product SARF'!C23=\"\",\"\",\"Sample\")","v":""},{"$f":"IF('Product SARF'!C23=\"\",\"\",'Product SARF'!C23)","v":""},{"$f":"IF(C5=\"\",\"\",IF('Product SARF'!D23=\"\",\"\",'Product SARF'!D23))","v":""},{"$f":"IF(C5=\"\",\"\",IF('Product SARF'!E23=\"\",\"\",'Product SARF'!E23))","v":""},{"$f":"IF(C5=\"\",\"\",IF('Product SARF'!$L$6=\"\",\"\",CONCATENATE('Product SARF'!$L$6,'Product SARF'!$M$6)))","v":""},{"$f":"IF(C5=\"\",\"\",IF('Product SARF'!$L$2=\"\",\"\",'Product SARF'!$L$2))","v":""},{"$f":"IF(C5=\"\",\"\",IF('Product SARF'!$L$4=\"\",NOW(),'Product SARF'!$L$4))","v":""},"",{"$f":"IF(C5=\"\",\"\", IF(AND(NOT(ISBLANK('Product SARF'!F23)),'Product SARF'!$E$8<>\"1) NA\",'Product SARF'!$E$8<>\"1) ...\"), \"   \"&CONCATENATE('Product SARF'!$F$18,'Product SARF'!$F$19),\"\") & IF(AND(NOT(ISBLANK('Product SARF'!G23)),'Product SARF'!$E$9<>\"2) NA\",'Product SARF'!$E$9<>\"2) ...\"), \"   \"&CONCATENATE('Product SARF'!$G$18,'Product SARF'!$G$19),\"\")& IF(AND(NOT(ISBLANK('Product SARF'!H23)),'Product SARF'!$E$10<>\"3) NA\",'Product SARF'!$E$10<>\"3) ...\"), \"   \"&CONCATENATE('Product SARF'!$H$18,'Product SARF'!$H$19),\"\") & IF(AND(NOT(ISBLANK('Product SARF'!I23)),'Product SARF'!$E$11<>\"4) NA\",'Product SARF'!$E$11<>\"4) ...\"), \"   \"&CONCATENATE('Product SARF'!$I$18,'Product SARF'!$I$19),\"\")& IF(AND(NOT(ISBLANK('Product SARF'!J23)),'Product SARF'!$E$12<>\"5) NA\",'Product SARF'!$E$12<>\"5) ...\"), \"   \"&CONCATENATE('Product SARF'!$J$18,'Product SARF'!$J$19),\"\")&IF(AND(NOT(ISBLANK('Product SARF'!K23)),'Product SARF'!$E$13<>\"6) NA\",'Product SARF'!$E$13<>\"6) ...\"), \"   \"&CONCATENATE('Product SARF'!$K$18,'Product SARF'!$K$19),\"\")&IF(AND(NOT(ISBLANK('Product SARF'!L23)),'Product SARF'!$E$14<>\"7) NA\",'Product SARF'!$E$14<>\"7) ...\"), \"   \"&CONCATENATE('Product SARF'!$L$18,'Product SARF'!$L$19),\"\") &IF(AND(NOT(ISBLANK('Product SARF'!M23)),'Product SARF'!$E$15<>\"8) NA\",'Product SARF'!$E$15<>\"8) ...\"), \"   \"&CONCATENATE('Product SARF'!$M$18,'Product SARF'!$M$19),\"\"))","v":""}]
[{"$f":"IF(C6=\"\",\"\",IF('Product SARF'!B24=\"\",\"\",'Product SARF'!B24))","v":""},{"$f":"IF('Product SARF'!C24=\"\",\"\",\"Sample\")","v":""},{"$f":"IF('Product SARF'!C24=\"\",\"\",'Product SARF'!C24)","v":""},{"$f":"IF(C6=\"\",\"\",IF('Product SARF'!D24=\"\",\"\",'Product SARF'!D24))","v":""},{"$f":"IF(C6=\"\",\"\",IF('Product SARF'!E24=\"\",\"\",'Product SARF'!E24))","v":""},{"$f":"IF(C6=\"\",\"\",IF('Product SARF'!$L$6=\"\",\"\",CONCATENATE('Product SARF'!$L$6,'Product SARF'!$M$6)))","v":""},{"$f":"IF(C6=\"\",\"\",IF('Product SARF'!$L$2=\"\",\"\",'Product SARF'!$L$2))","v":""},{"$f":"IF(C6=\"\",\"\",IF('Product SARF'!$L$4=\"\",NOW(),'Product SARF'!$L$4))","v":""},"",{"$f":"IF(C6=\"\",\"\", IF(AND(NOT(ISBLANK('Product SARF'!F24)),'Product SARF'!$E$8<>\"1) NA\",'Product SARF'!$E$8<>\"1) ...\"), \"   \"&CONCATENATE('Product SARF'!$F$18,'Product SARF'!$F$19),\"\") & IF(AND(NOT(ISBLANK('Product SARF'!G24)),'Product SARF'!$E$9<>\"2) NA\",'Product SARF'!$E$9<>\"2) ...\"), \"   \"&CONCATENATE('Product SARF'!$G$18,'Product SARF'!$G$19),\"\")& IF(AND(NOT(ISBLANK('Product SARF'!H24)),'Product SARF'!$E$10<>\"3) NA\",'Product SARF'!$E$10<>\"3) ...\"), \"   \"&CONCATENATE('Product SARF'!$H$18,'Product SARF'!$H$19),\"\") & IF(AND(NOT(ISBLANK('Product SARF'!I24)),'Product SARF'!$E$11<>\"4) NA\",'Product SARF'!$E$11<>\"4) ...\"), \"   \"&CONCATENATE('Product SARF'!$I$18,'Product SARF'!$I$19),\"\")& IF(AND(NOT(ISBLANK('Product SARF'!J24)),'Product SARF'!$E$12<>\"5) NA\",'Product SARF'!$E$12<>\"5) ...\"), \"   \"&CONCATENATE('Product SARF'!$J$18,'Product SARF'!$J$19),\"\")&IF(AND(NOT(ISBLANK('Product SARF'!K24)),'Product SARF'!$E$13<>\"6) NA\",'Product SARF'!$E$13<>\"6) ...\"), \"   \"&CONCATENATE('Product SARF'!$K$18,'Product SARF'!$K$19),\"\")&IF(AND(NOT(ISBLANK('Product SARF'!L24)),'Product SARF'!$E$14<>\"7) NA\",'Product SARF'!$E$14<>\"7) ...\"), \"   \"&CONCATENATE('Product SARF'!$L$18,'Product SARF'!$L$19),\"\") &IF(AND(NOT(ISBLANK('Product SARF'!M24)),'Product SARF'!$E$15<>\"8) NA\",'Product SARF'!$E$15<>\"8) ...\"), \"   \"&CONCATENATE('Product SARF'!$M$18,'Product SARF'!$M$19),\"\"))","v":""}]
[{"$f":"IF(C7=\"\",\"\",IF('Product SARF'!B25=\"\",\"\",'Product SARF'!B25))","v":""},{"$f":"IF('Product SARF'!C25=\"\",\"\",\"Sample\")","v":""},{"$f":"IF('Product SARF'!C25=\"\",\"\",'Product SARF'!C25)","v":""},{"$f":"IF(C7=\"\",\"\",IF('Product SARF'!D25=\"\",\"\",'Product SARF'!D25))","v":""},{"$f":"IF(C7=\"\",\"\",IF('Product SARF'!E25=\"\",\"\",'Product SARF'!E25))","v":""},{"$f":"IF(C7=\"\",\"\",IF('Product SARF'!$L$6=\"\",\"\",CONCATENATE('Product SARF'!$L$6,'Product SARF'!$M$6)))","v":""},{"$f":"IF(C7=\"\",\"\",IF('Product SARF'!$L$2=\"\",\"\",'Product SARF'!$L$2))","v":""},{"$f":"IF(C7=\"\",\"\",IF('Product SARF'!$L$4=\"\",NOW(),'Product SARF'!$L$4))","v":""},"",{"$f":"IF(C7=\"\",\"\", IF(AND(NOT(ISBLANK('Product SARF'!F25)),'Product SARF'!$E$8<>\"1) NA\",'Product SARF'!$E$8<>\"1) ...\"), \"   \"&CONCATENATE('Product SARF'!$F$18,'Product SARF'!$F$19),\"\") & IF(AND(NOT(ISBLANK('Product SARF'!G25)),'Product SARF'!$E$9<>\"2) NA\",'Product SARF'!$E$9<>\"2) ...\"), \"   \"&CONCATENATE('Product SARF'!$G$18,'Product SARF'!$G$19),\"\")& IF(AND(NOT(ISBLANK('Product SARF'!H25)),'Product SARF'!$E$10<>\"3) NA\",'Product SARF'!$E$10<>\"3) ...\"), \"   \"&CONCATENATE('Product SARF'!$H$18,'Product SARF'!$H$19),\"\") & IF(AND(NOT(ISBLANK('Product SARF'!I25)),'Product SARF'!$E$11<>\"4) NA\",'Product SARF'!$E$11<>\"4) ...\"), \"   \"&CONCATENATE('Product SARF'!$I$18,'Product SARF'!$I$19),\"\")& IF(AND(NOT(ISBLANK('Product SARF'!J25)),'Product SARF'!$E$12<>\"5) NA\",'Product SARF'!$E$12<>\"5) ...\"), \"   \"&CONCATENATE('Product SARF'!$J$18,'Product SARF'!$J$19),\"\")&IF(AND(NOT(ISBLANK('Product SARF'!K25)),'Product SARF'!$E$13<>\"6) NA\",'Product SARF'!$E$13<>\"6) ...\"), \"   \"&CONCATENATE('Product SARF'!$K$18,'Product SARF'!$K$19),\"\")&IF(AND(NOT(ISBLANK('Product SARF'!L25)),'Product SARF'!$E$14<>\"7) NA\",'Product SARF'!$E$14<>\"7) ...\"), \"   \"&CONCATENATE('Product SARF'!$L$18,'Product SARF'!$L$19),\"\") &IF(AND(NOT(ISBLANK('Product SARF'!M25)),'Product SARF'!$E$15<>\"8) NA\",'Product SARF'!$E$15<>\"8) ...\"), \"   \"&CONCATENATE('Product SARF'!$M$18,'Product SARF'!$M$19),\"\"))","v":""}]
[{"$f":"IF(C8=\"\",\"\",IF('Product SARF'!B26=\"\",\"\",'Product SARF'!B26))","v":""},{"$f":"IF('Product SARF'!C26=\"\",\"\",\"Sample\")","v":""},{"$f":"IF('Product SARF'!C26=\"\",\"\",'Product SARF'!C26)","v":""},{"$f":"IF(C8=\"\",\"\",IF('Product SARF'!D26=\"\",\"\",'Product SARF'!D26))","v":""},{"$f":"IF(C8=\"\",\"\",IF('Product SARF'!E26=\"\",\"\",'Product SARF'!E26))","v":""},{"$f":"IF(C8=\"\",\"\",IF('Product SARF'!$L$6=\"\",\"\",CONCATENATE('Product SARF'!$L$6,'Product SARF'!$M$6)))","v":""},{"$f":"IF(C8=\"\",\"\",IF('Product SARF'!$L$2=\"\",\"\",'Product SARF'!$L$2))","v":""},{"$f":"IF(C8=\"\",\"\",IF('Product SARF'!$L$4=\"\",NOW(),'Product SARF'!$L$4))","v":""},"",{"$f":"IF(C8=\"\",\"\", IF(AND(NOT(ISBLANK('Product SARF'!F26)),'Product SARF'!$E$8<>\"1) NA\",'Product SARF'!$E$8<>\"1) ...\"), \"   \"&CONCATENATE('Product SARF'!$F$18,'Product SARF'!$F$19),\"\") & IF(AND(NOT(ISBLANK('Product SARF'!G26)),'Product SARF'!$E$9<>\"2) NA\",'Product SARF'!$E$9<>\"2) ...\"), \"   \"&CONCATENATE('Product SARF'!$G$18,'Product SARF'!$G$19),\"\")& IF(AND(NOT(ISBLANK('Product SARF'!H26)),'Product SARF'!$E$10<>\"3) NA\",'Product SARF'!$E$10<>\"3) ...\"), \"   \"&CONCATENATE('Product SARF'!$H$18,'Product SARF'!$H$19),\"\") & IF(AND(NOT(ISBLANK('Product SARF'!I26)),'Product SARF'!$E$11<>\"4) NA\",'Product SARF'!$E$11<>\"4) ...\"), \"   \"&CONCATENATE('Product SARF'!$I$18,'Product SARF'!$I$19),\"\")& IF(AND(NOT(ISBLANK('Product SARF'!J26)),'Product SARF'!$E$12<>\"5) NA\",'Product SARF'!$E$12<>\"5) ...\"), \"   \"&CONCATENATE('Product SARF'!$J$18,'Product SARF'!$J$19),\"\")&IF(AND(NOT(ISBLANK('Product SARF'!K26)),'Product SARF'!$E$13<>\"6) NA\",'Product SARF'!$E$13<>\"6) ...\"), \"   \"&CONCATENATE('Product SARF'!$K$18,'Product SARF'!$K$19),\"\")&IF(AND(NOT(ISBLANK('Product SARF'!L26)),'Product SARF'!$E$14<>\"7) NA\",'Product SARF'!$E$14<>\"7) ...\"), \"   \"&CONCATENATE('Product SARF'!$L$18,'Product SARF'!$L$19),\"\") &IF(AND(NOT(ISBLANK('Product SARF'!M26)),'Product SARF'!$E$15<>\"8) NA\",'Product SARF'!$E$15<>\"8) ...\"), \"   \"&CONCATENATE('Product SARF'!$M$18,'Product SARF'!$M$19),\"\"))","v":""}]
[{"$f":"IF(C9=\"\",\"\",IF('Product SARF'!B27=\"\",\"\",'Product SARF'!B27))","v":""},{"$f":"IF('Product SARF'!C27=\"\",\"\",\"Sample\")","v":""},{"$f":"IF('Product SARF'!C27=\"\",\"\",'Product SARF'!C27)","v":""},{"$f":"IF(C9=\"\",\"\",IF('Product SARF'!D27=\"\",\"\",'Product SARF'!D27))","v":""},{"$f":"IF(C9=\"\",\"\",IF('Product SARF'!E27=\"\",\"\",'Product SARF'!E27))","v":""},{"$f":"IF(C9=\"\",\"\",IF('Product SARF'!$L$6=\"\",\"\",CONCATENATE('Product SARF'!$L$6,'Product SARF'!$M$6)))","v":""},{"$f":"IF(C9=\"\",\"\",IF('Product SARF'!$L$2=\"\",\"\",'Product SARF'!$L$2))","v":""},{"$f":"IF(C9=\"\",\"\",IF('Product SARF'!$L$4=\"\",NOW(),'Product SARF'!$L$4))","v":""},"",{"$f":"IF(C9=\"\",\"\", IF(AND(NOT(ISBLANK('Product SARF'!F27)),'Product SARF'!$E$8<>\"1) NA\",'Product SARF'!$E$8<>\"1) ...\"), \"   \"&CONCATENATE('Product SARF'!$F$18,'Product SARF'!$F$19),\"\") & IF(AND(NOT(ISBLANK('Product SARF'!G27)),'Product SARF'!$E$9<>\"2) NA\",'Product SARF'!$E$9<>\"2) ...\"), \"   \"&CONCATENATE('Product SARF'!$G$18,'Product SARF'!$G$19),\"\")& IF(AND(NOT(ISBLANK('Product SARF'!H27)),'Product SARF'!$E$10<>\"3) NA\",'Product SARF'!$E$10<>\"3) ...\"), \"   \"&CONCATENATE('Product SARF'!$H$18,'Product SARF'!$H$19),\"\") & IF(AND(NOT(ISBLANK('Product SARF'!I27)),'Product SARF'!$E$11<>\"4) NA\",'Product SARF'!$E$11<>\"4) ...\"), \"   \"&CONCATENATE('Product SARF'!$I$18,'Product SARF'!$I$19),\"\")& IF(AND(NOT(ISBLANK('Product SARF'!J27)),'Product SARF'!$E$12<>\"5) NA\",'Product SARF'!$E$12<>\"5) ...\"), \"   \"&CONCATENATE('Product SARF'!$J$18,'Product SARF'!$J$19),\"\")&IF(AND(NOT(ISBLANK('Product SARF'!K27)),'Product SARF'!$E$13<>\"6) NA\",'Product SARF'!$E$13<>\"6) ...\"), \"   \"&CONCATENATE('Product SARF'!$K$18,'Product SARF'!$K$19),\"\")&IF(AND(NOT(ISBLANK('Product SARF'!L27)),'Product SARF'!$E$14<>\"7) NA\",'Product SARF'!$E$14<>\"7) ...\"), \"   \"&CONCATENATE('Product SARF'!$L$18,'Product SARF'!$L$19),\"\") &IF(AND(NOT(ISBLANK('Product SARF'!M27)),'Product SARF'!$E$15<>\"8) NA\",'Product SARF'!$E$15<>\"8) ...\"), \"   \"&CONCATENATE('Product SARF'!$M$18,'Product SARF'!$M$19),\"\"))","v":""}]
[{"$f":"IF(C10=\"\",\"\",IF('Product SARF'!B28=\"\",\"\",'Product SARF'!B28))","v":""},{"$f":"IF('Product SARF'!C28=\"\",\"\",\"Sample\")","v":""},{"$f":"IF('Product SARF'!C28=\"\",\"\",'Product SARF'!C28)","v":""},{"$f":"IF(C10=\"\",\"\",IF('Product SARF'!D28=\"\",\"\",'Product SARF'!D28))","v":""},{"$f":"IF(C10=\"\",\"\",IF('Product SARF'!E28=\"\",\"\",'Product SARF'!E28))","v":""},{"$f":"IF(C10=\"\",\"\",IF('Product SARF'!$L$6=\"\",\"\",CONCATENATE('Product SARF'!$L$6,'Product SARF'!$M$6)))","v":""},{"$f":"IF(C10=\"\",\"\",IF('Product SARF'!$L$2=\"\",\"\",'Product SARF'!$L$2))","v":""},{"$f":"IF(C10=\"\",\"\",IF('Product SARF'!$L$4=\"\",NOW(),'Product SARF'!$L$4))","v":""},"",{"$f":"IF(C10=\"\",\"\", IF(AND(NOT(ISBLANK('Product SARF'!F28)),'Product SARF'!$E$8<>\"1) NA\",'Product SARF'!$E$8<>\"1) ...\"), \"   \"&CONCATENATE('Product SARF'!$F$18,'Product SARF'!$F$19),\"\") & IF(AND(NOT(ISBLANK('Product SARF'!G28)),'Product SARF'!$E$9<>\"2) NA\",'Product SARF'!$E$9<>\"2) ...\"), \"   \"&CONCATENATE('Product SARF'!$G$18,'Product SARF'!$G$19),\"\")& IF(AND(NOT(ISBLANK('Product SARF'!H28)),'Product SARF'!$E$10<>\"3) NA\",'Product SARF'!$E$10<>\"3) ...\"), \"   \"&CONCATENATE('Product SARF'!$H$18,'Product SARF'!$H$19),\"\") & IF(AND(NOT(ISBLANK('Product SARF'!I28)),'Product SARF'!$E$11<>\"4) NA\",'Product SARF'!$E$11<>\"4) ...\"), \"   \"&CONCATENATE('Product SARF'!$I$18,'Product SARF'!$I$19),\"\")& IF(AND(NOT(ISBLANK('Product SARF'!J28)),'Product SARF'!$E$12<>\"5) NA\",'Product SARF'!$E$12<>\"5) ...\"), \"   \"&CONCATENATE('Product SARF'!$J$18,'Product SARF'!$J$19),\"\")&IF(AND(NOT(ISBLANK('Product SARF'!K28)),'Product SARF'!$E$13<>\"6) NA\",'Product SARF'!$E$13<>\"6) ...\"), \"   \"&CONCATENATE('Product SARF'!$K$18,'Product SARF'!$K$19),\"\")&IF(AND(NOT(ISBLANK('Product SARF'!L28)),'Product SARF'!$E$14<>\"7) NA\",'Product SARF'!$E$14<>\"7) ...\"), \"   \"&CONCATENATE('Product SARF'!$L$18,'Product SARF'!$L$19),\"\") &IF(AND(NOT(ISBLANK('Product SARF'!M28)),'Product SARF'!$E$15<>\"8) NA\",'Product SARF'!$E$15<>\"8) ...\"), \"   \"&CONCATENATE('Product SARF'!$M$18,'Product SARF'!$M$19),\"\"))","v":""}]
[{"$f":"IF(C11=\"\",\"\",IF('Product SARF'!B29=\"\",\"\",'Product SARF'!B29))","v":""},{"$f":"IF('Product SARF'!C29=\"\",\"\",\"Sample\")","v":""},{"$f":"IF('Product SARF'!C29=\"\",\"\",'Product SARF'!C29)","v":""},{"$f":"IF(C11=\"\",\"\",IF('Product SARF'!D29=\"\",\"\",'Product SARF'!D29))","v":""},{"$f":"IF(C11=\"\",\"\",IF('Product SARF'!E29=\"\",\"\",'Product SARF'!E29))","v":""},{"$f":"IF(C11=\"\",\"\",IF('Product SARF'!$L$6=\"\",\"\",CONCATENATE('Product SARF'!$L$6,'Product SARF'!$M$6)))","v":""},{"$f":"IF(C11=\"\",\"\",IF('Product SARF'!$L$2=\"\",\"\",'Product SARF'!$L$2))","v":""},{"$f":"IF(C11=\"\",\"\",IF('Product SARF'!$L$4=\"\",NOW(),'Product SARF'!$L$4))","v":""},"",{"$f":"IF(C11=\"\",\"\", IF(AND(NOT(ISBLANK('Product SARF'!F29)),'Product SARF'!$E$8<>\"1) NA\",'Product SARF'!$E$8<>\"1) ...\"), \"   \"&CONCATENATE('Product SARF'!$F$18,'Product SARF'!$F$19),\"\") & IF(AND(NOT(ISBLANK('Product SARF'!G29)),'Product SARF'!$E$9<>\"2) NA\",'Product SARF'!$E$9<>\"2) ...\"), \"   \"&CONCATENATE('Product SARF'!$G$18,'Product SARF'!$G$19),\"\")& IF(AND(NOT(ISBLANK('Product SARF'!H29)),'Product SARF'!$E$10<>\"3) NA\",'Product SARF'!$E$10<>\"3) ...\"), \"   \"&CONCATENATE('Product SARF'!$H$18,'Product SARF'!$H$19),\"\") & IF(AND(NOT(ISBLANK('Product SARF'!I29)),'Product SARF'!$E$11<>\"4) NA\",'Product SARF'!$E$11<>\"4) ...\"), \"   \"&CONCATENATE('Product SARF'!$I$18,'Product SARF'!$I$19),\"\")& IF(AND(NOT(ISBLANK('Product SARF'!J29)),'Product SARF'!$E$12<>\"5) NA\",'Product SARF'!$E$12<>\"5) ...\"), \"   \"&CONCATENATE('Product SARF'!$J$18,'Product SARF'!$J$19),\"\")&IF(AND(NOT(ISBLANK('Product SARF'!K29)),'Product SARF'!$E$13<>\"6) NA\",'Product SARF'!$E$13<>\"6) ...\"), \"   \"&CONCATENATE('Product SARF'!$K$18,'Product SARF'!$K$19),\"\")&IF(AND(NOT(ISBLANK('Product SARF'!L29)),'Product SARF'!$E$14<>\"7) NA\",'Product SARF'!$E$14<>\"7) ...\"), \"   \"&CONCATENATE('Product SARF'!$L$18,'Product SARF'!$L$19),\"\") &IF(AND(NOT(ISBLANK('Product SARF'!M29)),'Product SARF'!$E$15<>\"8) NA\",'Product SARF'!$E$15<>\"8) ...\"), \"   \"&CONCATENATE('Product SARF'!$M$18,'Product SARF'!$M$19),\"\"))","v":""}]
[{"$f":"IF(C12=\"\",\"\",IF('Product SARF'!B30=\"\",\"\",'Product SARF'!B30))","v":""},{"$f":"IF('Product SARF'!C30=\"\",\"\",\"Sample\")","v":""},{"$f":"IF('Product SARF'!C30=\"\",\"\",'Product SARF'!C30)","v":""},{"$f":"IF(C12=\"\",\"\",IF('Product SARF'!D30=\"\",\"\",'Product SARF'!D30))","v":""},{"$f":"IF(C12=\"\",\"\",IF('Product SARF'!E30=\"\",\"\",'Product SARF'!E30))","v":""},{"$f":"IF(C12=\"\",\"\",IF('Product SARF'!$L$6=\"\",\"\",CONCATENATE('Product SARF'!$L$6,'Product SARF'!$M$6)))","v":""},{"$f":"IF(C12=\"\",\"\",IF('Product SARF'!$L$2=\"\",\"\",'Product SARF'!$L$2))","v":""},{"$f":"IF(C12=\"\",\"\",IF('Product SARF'!$L$4=\"\",NOW(),'Product SARF'!$L$4))","v":""},"",{"$f":"IF(C12=\"\",\"\", IF(AND(NOT(ISBLANK('Product SARF'!F30)),'Product SARF'!$E$8<>\"1) NA\",'Product SARF'!$E$8<>\"1) ...\"), \"   \"&CONCATENATE('Product SARF'!$F$18,'Product SARF'!$F$19),\"\") & IF(AND(NOT(ISBLANK('Product SARF'!G30)),'Product SARF'!$E$9<>\"2) NA\",'Product SARF'!$E$9<>\"2) ...\"), \"   \"&CONCATENATE('Product SARF'!$G$18,'Product SARF'!$G$19),\"\")& IF(AND(NOT(ISBLANK('Product SARF'!H30)),'Product SARF'!$E$10<>\"3) NA\",'Product SARF'!$E$10<>\"3) ...\"), \"   \"&CONCATENATE('Product SARF'!$H$18,'Product SARF'!$H$19),\"\") & IF(AND(NOT(ISBLANK('Product SARF'!I30)),'Product SARF'!$E$11<>\"4) NA\",'Product SARF'!$E$11<>\"4) ...\"), \"   \"&CONCATENATE('Product SARF'!$I$18,'Product SARF'!$I$19),\"\")& IF(AND(NOT(ISBLANK('Product SARF'!J30)),'Product SARF'!$E$12<>\"5) NA\",'Product SARF'!$E$12<>\"5) ...\"), \"   \"&CONCATENATE('Product SARF'!$J$18,'Product SARF'!$J$19),\"\")&IF(AND(NOT(ISBLANK('Product SARF'!K30)),'Product SARF'!$E$13<>\"6) NA\",'Product SARF'!$E$13<>\"6) ...\"), \"   \"&CONCATENATE('Product SARF'!$K$18,'Product SARF'!$K$19),\"\")&IF(AND(NOT(ISBLANK('Product SARF'!L30)),'Product SARF'!$E$14<>\"7) NA\",'Product SARF'!$E$14<>\"7) ...\"), \"   \"&CONCATENATE('Product SARF'!$L$18,'Product SARF'!$L$19),\"\") &IF(AND(NOT(ISBLANK('Product SARF'!M30)),'Product SARF'!$E$15<>\"8) NA\",'Product SARF'!$E$15<>\"8) ...\"), \"   \"&CONCATENATE('Product SARF'!$M$18,'Product SARF'!$M$19),\"\"))","v":""}]
[{"$f":"IF(C13=\"\",\"\",IF('Product SARF'!B31=\"\",\"\",'Product SARF'!B31))","v":""},{"$f":"IF('Product SARF'!C31=\"\",\"\",\"Sample\")","v":""},{"$f":"IF('Product SARF'!C31=\"\",\"\",'Product SARF'!C31)","v":""},{"$f":"IF(C13=\"\",\"\",IF('Product SARF'!D31=\"\",\"\",'Product SARF'!D31))","v":""},{"$f":"IF(C13=\"\",\"\",IF('Product SARF'!E31=\"\",\"\",'Product SARF'!E31))","v":""},{"$f":"IF(C13=\"\",\"\",IF('Product SARF'!$L$6=\"\",\"\",CONCATENATE('Product SARF'!$L$6,'Product SARF'!$M$6)))","v":""},{"$f":"IF(C13=\"\",\"\",IF('Product SARF'!$L$2=\"\",\"\",'Product SARF'!$L$2))","v":""},{"$f":"IF(C13=\"\",\"\",IF('Product SARF'!$L$4=\"\",NOW(),'Product SARF'!$L$4))","v":""},"",{"$f":"IF(C13=\"\",\"\", IF(AND(NOT(ISBLANK('Product SARF'!F31)),'Product SARF'!$E$8<>\"1) NA\",'Product SARF'!$E$8<>\"1) ...\"), \"   \"&CONCATENATE('Product SARF'!$F$18,'Product SARF'!$F$19),\"\") & IF(AND(NOT(ISBLANK('Product SARF'!G31)),'Product SARF'!$E$9<>\"2) NA\",'Product SARF'!$E$9<>\"2) ...\"), \"   \"&CONCATENATE('Product SARF'!$G$18,'Product SARF'!$G$19),\"\")& IF(AND(NOT(ISBLANK('Product SARF'!H31)),'Product SARF'!$E$10<>\"3) NA\",'Product SARF'!$E$10<>\"3) ...\"), \"   \"&CONCATENATE('Product SARF'!$H$18,'Product SARF'!$H$19),\"\") & IF(AND(NOT(ISBLANK('Product SARF'!I31)),'Product SARF'!$E$11<>\"4) NA\",'Product SARF'!$E$11<>\"4) ...\"), \"   \"&CONCATENATE('Product SARF'!$I$18,'Product SARF'!$I$19),\"\")& IF(AND(NOT(ISBLANK('Product SARF'!J31)),'Product SARF'!$E$12<>\"5) NA\",'Product SARF'!$E$12<>\"5) ...\"), \"   \"&CONCATENATE('Product SARF'!$J$18,'Product SARF'!$J$19),\"\")&IF(AND(NOT(ISBLANK('Product SARF'!K31)),'Product SARF'!$E$13<>\"6) NA\",'Product SARF'!$E$13<>\"6) ...\"), \"   \"&CONCATENATE('Product SARF'!$K$18,'Product SARF'!$K$19),\"\")&IF(AND(NOT(ISBLANK('Product SARF'!L31)),'Product SARF'!$E$14<>\"7) NA\",'Product SARF'!$E$14<>\"7) ...\"), \"   \"&CONCATENATE('Product SARF'!$L$18,'Product SARF'!$L$19),\"\") &IF(AND(NOT(ISBLANK('Product SARF'!M31)),'Product SARF'!$E$15<>\"8) NA\",'Product SARF'!$E$15<>\"8) ...\"), \"   \"&CONCATENATE('Product SARF'!$M$18,'Product SARF'!$M$19),\"\"))","v":""}]
[{"$f":"IF(C14=\"\",\"\",IF('Product SARF'!B32=\"\",\"\",'Product SARF'!B32))","v":""},{"$f":"IF('Product SARF'!C32=\"\",\"\",\"Sample\")","v":""},{"$f":"IF('Product SARF'!C32=\"\",\"\",'Product SARF'!C32)","v":""},{"$f":"IF(C14=\"\",\"\",IF('Product SARF'!D32=\"\",\"\",'Product SARF'!D32))","v":""},{"$f":"IF(C14=\"\",\"\",IF('Product SARF'!E32=\"\",\"\",'Product SARF'!E32))","v":""},{"$f":"IF(C14=\"\",\"\",IF('Product SARF'!$L$6=\"\",\"\",CONCATENATE('Product SARF'!$L$6,'Product SARF'!$M$6)))","v":""},{"$f":"IF(C14=\"\",\"\",IF('Product SARF'!$L$2=\"\",\"\",'Product SARF'!$L$2))","v":""},{"$f":"IF(C14=\"\",\"\",IF('Product SARF'!$L$4=\"\",NOW(),'Product SARF'!$L$4))","v":""},"",{"$f":"IF(C14=\"\",\"\", IF(AND(NOT(ISBLANK('Product SARF'!F32)),'Product SARF'!$E$8<>\"1) NA\",'Product SARF'!$E$8<>\"1) ...\"), \"   \"&CONCATENATE('Product SARF'!$F$18,'Product SARF'!$F$19),\"\") & IF(AND(NOT(ISBLANK('Product SARF'!G32)),'Product SARF'!$E$9<>\"2) NA\",'Product SARF'!$E$9<>\"2) ...\"), \"   \"&CONCATENATE('Product SARF'!$G$18,'Product SARF'!$G$19),\"\")& IF(AND(NOT(ISBLANK('Product SARF'!H32)),'Product SARF'!$E$10<>\"3) NA\",'Product SARF'!$E$10<>\"3) ...\"), \"   \"&CONCATENATE('Product SARF'!$H$18,'Product SARF'!$H$19),\"\") & IF(AND(NOT(ISBLANK('Product SARF'!I32)),'Product SARF'!$E$11<>\"4) NA\",'Product SARF'!$E$11<>\"4) ...\"), \"   \"&CONCATENATE('Product SARF'!$I$18,'Product SARF'!$I$19),\"\")& IF(AND(NOT(ISBLANK('Product SARF'!J32)),'Product SARF'!$E$12<>\"5) NA\",'Product SARF'!$E$12<>\"5) ...\"), \"   \"&CONCATENATE('Product SARF'!$J$18,'Product SARF'!$J$19),\"\")&IF(AND(NOT(ISBLANK('Product SARF'!K32)),'Product SARF'!$E$13<>\"6) NA\",'Product SARF'!$E$13<>\"6) ...\"), \"   \"&CONCATENATE('Product SARF'!$K$18,'Product SARF'!$K$19),\"\")&IF(AND(NOT(ISBLANK('Product SARF'!L32)),'Product SARF'!$E$14<>\"7) NA\",'Product SARF'!$E$14<>\"7) ...\"), \"   \"&CONCATENATE('Product SARF'!$L$18,'Product SARF'!$L$19),\"\") &IF(AND(NOT(ISBLANK('Product SARF'!M32)),'Product SARF'!$E$15<>\"8) NA\",'Product SARF'!$E$15<>\"8) ...\"), \"   \"&CONCATENATE('Product SARF'!$M$18,'Product SARF'!$M$19),\"\"))","v":""}]
[{"$f":"IF(C15=\"\",\"\",IF('Product SARF'!B33=\"\",\"\",'Product SARF'!B33))","v":""},{"$f":"IF('Product SARF'!C33=\"\",\"\",\"Sample\")","v":""},{"$f":"IF('Product SARF'!C33=\"\",\"\",'Product SARF'!C33)","v":""},{"$f":"IF(C15=\"\",\"\",IF('Product SARF'!D33=\"\",\"\",'Product SARF'!D33))","v":""},{"$f":"IF(C15=\"\",\"\",IF('Product SARF'!E33=\"\",\"\",'Product SARF'!E33))","v":""},{"$f":"IF(C15=\"\",\"\",IF('Product SARF'!$L$6=\"\",\"\",CONCATENATE('Product SARF'!$L$6,'Product SARF'!$M$6)))","v":""},{"$f":"IF(C15=\"\",\"\",IF('Product SARF'!$L$2=\"\",\"\",'Product SARF'!$L$2))","v":""},{"$f":"IF(C15=\"\",\"\",IF('Product SARF'!$L$4=\"\",NOW(),'Product SARF'!$L$4))","v":""},"",{"$f":"IF(C15=\"\",\"\", IF(AND(NOT(ISBLANK('Product SARF'!F33)),'Product SARF'!$E$8<>\"1) NA\",'Product SARF'!$E$8<>\"1) ...\"), \"   \"&CONCATENATE('Product SARF'!$F$18,'Product SARF'!$F$19),\"\") & IF(AND(NOT(ISBLANK('Product SARF'!G33)),'Product SARF'!$E$9<>\"2) NA\",'Product SARF'!$E$9<>\"2) ...\"), \"   \"&CONCATENATE('Product SARF'!$G$18,'Product SARF'!$G$19),\"\")& IF(AND(NOT(ISBLANK('Product SARF'!H33)),'Product SARF'!$E$10<>\"3) NA\",'Product SARF'!$E$10<>\"3) ...\"), \"   \"&CONCATENATE('Product SARF'!$H$18,'Product SARF'!$H$19),\"\") & IF(AND(NOT(ISBLANK('Product SARF'!I33)),'Product SARF'!$E$11<>\"4) NA\",'Product SARF'!$E$11<>\"4) ...\"), \"   \"&CONCATENATE('Product SARF'!$I$18,'Product SARF'!$I$19),\"\")& IF(AND(NOT(ISBLANK('Product SARF'!J33)),'Product SARF'!$E$12<>\"5) NA\",'Product SARF'!$E$12<>\"5) ...\"), \"   \"&CONCATENATE('Product SARF'!$J$18,'Product SARF'!$J$19),\"\")&IF(AND(NOT(ISBLANK('Product SARF'!K33)),'Product SARF'!$E$13<>\"6) NA\",'Product SARF'!$E$13<>\"6) ...\"), \"   \"&CONCATENATE('Product SARF'!$K$18,'Product SARF'!$K$19),\"\")&IF(AND(NOT(ISBLANK('Product SARF'!L33)),'Product SARF'!$E$14<>\"7) NA\",'Product SARF'!$E$14<>\"7) ...\"), \"   \"&CONCATENATE('Product SARF'!$L$18,'Product SARF'!$L$19),\"\") &IF(AND(NOT(ISBLANK('Product SARF'!M33)),'Product SARF'!$E$15<>\"8) NA\",'Product SARF'!$E$15<>\"8) ...\"), \"   \"&CONCATENATE('Product SARF'!$M$18,'Product SARF'!$M$19),\"\"))","v":""}]
[{"$f":"IF(C16=\"\",\"\",IF('Product SARF'!B34=\"\",\"\",'Product SARF'!B34))","v":""},{"$f":"IF('Product SARF'!C34=\"\",\"\",\"Sample\")","v":""},{"$f":"IF('Product SARF'!C34=\"\",\"\",'Product SARF'!C34)","v":""},{"$f":"IF(C16=\"\",\"\",IF('Product SARF'!D34=\"\",\"\",'Product SARF'!D34))","v":""},{"$f":"IF(C16=\"\",\"\",IF('Product SARF'!E34=\"\",\"\",'Product SARF'!E34))","v":""},{"$f":"IF(C16=\"\",\"\",IF('Product SARF'!$L$6=\"\",\"\",CONCATENATE('Product SARF'!$L$6,'Product SARF'!$M$6)))","v":""},{"$f":"IF(C16=\"\",\"\",IF('Product SARF'!$L$2=\"\",\"\",'Product SARF'!$L$2))","v":""},{"$f":"IF(C16=\"\",\"\",IF('Product SARF'!$L$4=\"\",NOW(),'Product SARF'!$L$4))","v":""},"",{"$f":"IF(C16=\"\",\"\", IF(AND(NOT(ISBLANK('Product SARF'!F34)),'Product SARF'!$E$8<>\"1) NA\",'Product SARF'!$E$8<>\"1) ...\"), \"   \"&CONCATENATE('Product SARF'!$F$18,'Product SARF'!$F$19),\"\") & IF(AND(NOT(ISBLANK('Product SARF'!G34)),'Product SARF'!$E$9<>\"2) NA\",'Product SARF'!$E$9<>\"2) ...\"), \"   \"&CONCATENATE('Product SARF'!$G$18,'Product SARF'!$G$19),\"\")& IF(AND(NOT(ISBLANK('Product SARF'!H34)),'Product SARF'!$E$10<>\"3) NA\",'Product SARF'!$E$10<>\"3) ...\"), \"   \"&CONCATENATE('Product SARF'!$H$18,'Product SARF'!$H$19),\"\") & IF(AND(NOT(ISBLANK('Product SARF'!I34)),'Product SARF'!$E$11<>\"4) NA\",'Product SARF'!$E$11<>\"4) ...\"), \"   \"&CONCATENATE('Product SARF'!$I$18,'Product SARF'!$I$19),\"\")& IF(AND(NOT(ISBLANK('Product SARF'!J34)),'Product SARF'!$E$12<>\"5) NA\",'Product SARF'!$E$12<>\"5) ...\"), \"   \"&CONCATENATE('Product SARF'!$J$18,'Product SARF'!$J$19),\"\")&IF(AND(NOT(ISBLANK('Product SARF'!K34)),'Product SARF'!$E$13<>\"6) NA\",'Product SARF'!$E$13<>\"6) ...\"), \"   \"&CONCATENATE('Product SARF'!$K$18,'Product SARF'!$K$19),\"\")&IF(AND(NOT(ISBLANK('Product SARF'!L34)),'Product SARF'!$E$14<>\"7) NA\",'Product SARF'!$E$14<>\"7) ...\"), \"   \"&CONCATENATE('Product SARF'!$L$18,'Product SARF'!$L$19),\"\") &IF(AND(NOT(ISBLANK('Product SARF'!M34)),'Product SARF'!$E$15<>\"8) NA\",'Product SARF'!$E$15<>\"8) ...\"), \"   \"&CONCATENATE('Product SARF'!$M$18,'Product SARF'!$M$19),\"\"))","v":""}]
[{"$f":"IF(C17=\"\",\"\",IF('Product SARF'!B35=\"\",\"\",'Product SARF'!B35))","v":""},{"$f":"IF('Product SARF'!C35=\"\",\"\",\"Sample\")","v":""},{"$f":"IF('Product SARF'!C35=\"\",\"\",'Product SARF'!C35)","v":""},{"$f":"IF(C17=\"\",\"\",IF('Product SARF'!D35=\"\",\"\",'Product SARF'!D35))","v":""},{"$f":"IF(C17=\"\",\"\",IF('Product SARF'!E35=\"\",\"\",'Product SARF'!E35))","v":""},{"$f":"IF(C17=\"\",\"\",IF('Product SARF'!$L$6=\"\",\"\",CONCATENATE('Product SARF'!$L$6,'Product SARF'!$M$6)))","v":""},{"$f":"IF(C17=\"\",\"\",IF('Product SARF'!$L$2=\"\",\"\",'Product SARF'!$L$2))","v":""},{"$f":"IF(C17=\"\",\"\",IF('Product SARF'!$L$4=\"\",NOW(),'Product SARF'!$L$4))","v":""},"",{"$f":"IF(C17=\"\",\"\", IF(AND(NOT(ISBLANK('Product SARF'!F35)),'Product SARF'!$E$8<>\"1) NA\",'Product SARF'!$E$8<>\"1) ...\"), \"   \"&CONCATENATE('Product SARF'!$F$18,'Product SARF'!$F$19),\"\") & IF(AND(NOT(ISBLANK('Product SARF'!G35)),'Product SARF'!$E$9<>\"2) NA\",'Product SARF'!$E$9<>\"2) ...\"), \"   \"&CONCATENATE('Product SARF'!$G$18,'Product SARF'!$G$19),\"\")& IF(AND(NOT(ISBLANK('Product SARF'!H35)),'Product SARF'!$E$10<>\"3) NA\",'Product SARF'!$E$10<>\"3) ...\"), \"   \"&CONCATENATE('Product SARF'!$H$18,'Product SARF'!$H$19),\"\") & IF(AND(NOT(ISBLANK('Product SARF'!I35)),'Product SARF'!$E$11<>\"4) NA\",'Product SARF'!$E$11<>\"4) ...\"), \"   \"&CONCATENATE('Product SARF'!$I$18,'Product SARF'!$I$19),\"\")& IF(AND(NOT(ISBLANK('Product SARF'!J35)),'Product SARF'!$E$12<>\"5) NA\",'Product SARF'!$E$12<>\"5) ...\"), \"   \"&CONCATENATE('Product SARF'!$J$18,'Product SARF'!$J$19),\"\")&IF(AND(NOT(ISBLANK('Product SARF'!K35)),'Product SARF'!$E$13<>\"6) NA\",'Product SARF'!$E$13<>\"6) ...\"), \"   \"&CONCATENATE('Product SARF'!$K$18,'Product SARF'!$K$19),\"\")&IF(AND(NOT(ISBLANK('Product SARF'!L35)),'Product SARF'!$E$14<>\"7) NA\",'Product SARF'!$E$14<>\"7) ...\"), \"   \"&CONCATENATE('Product SARF'!$L$18,'Product SARF'!$L$19),\"\") &IF(AND(NOT(ISBLANK('Product SARF'!M35)),'Product SARF'!$E$15<>\"8) NA\",'Product SARF'!$E$15<>\"8) ...\"), \"   \"&CONCATENATE('Product SARF'!$M$18,'Product SARF'!$M$19),\"\"))","v":""}]
[{"$f":"IF(C18=\"\",\"\",IF('Product SARF'!B36=\"\",\"\",'Product SARF'!B36))","v":""},{"$f":"IF('Product SARF'!C36=\"\",\"\",\"Sample\")","v":""},{"$f":"IF('Product SARF'!C36=\"\",\"\",'Product SARF'!C36)","v":""},{"$f":"IF(C18=\"\",\"\",IF('Product SARF'!D36=\"\",\"\",'Product SARF'!D36))","v":""},{"$f":"IF(C18=\"\",\"\",IF('Product SARF'!E36=\"\",\"\",'Product SARF'!E36))","v":""},{"$f":"IF(C18=\"\",\"\",IF('Product SARF'!$L$6=\"\",\"\",CONCATENATE('Product SARF'!$L$6,'Product SARF'!$M$6)))","v":""},{"$f":"IF(C18=\"\",\"\",IF('Product SARF'!$L$2=\"\",\"\",'Product SARF'!$L$2))","v":""},{"$f":"IF(C18=\"\",\"\",IF('Product SARF'!$L$4=\"\",NOW(),'Product SARF'!$L$4))","v":""},"",{"$f":"IF(C18=\"\",\"\", IF(AND(NOT(ISBLANK('Product SARF'!F36)),'Product SARF'!$E$8<>\"1) NA\",'Product SARF'!$E$8<>\"1) ...\"), \"   \"&CONCATENATE('Product SARF'!$F$18,'Product SARF'!$F$19),\"\") & IF(AND(NOT(ISBLANK('Product SARF'!G36)),'Product SARF'!$E$9<>\"2) NA\",'Product SARF'!$E$9<>\"2) ...\"), \"   \"&CONCATENATE('Product SARF'!$G$18,'Product SARF'!$G$19),\"\")& IF(AND(NOT(ISBLANK('Product SARF'!H36)),'Product SARF'!$E$10<>\"3) NA\",'Product SARF'!$E$10<>\"3) ...\"), \"   \"&CONCATENATE('Product SARF'!$H$18,'Product SARF'!$H$19),\"\") & IF(AND(NOT(ISBLANK('Product SARF'!I36)),'Product SARF'!$E$11<>\"4) NA\",'Product SARF'!$E$11<>\"4) ...\"), \"   \"&CONCATENATE('Product SARF'!$I$18,'Product SARF'!$I$19),\"\")& IF(AND(NOT(ISBLANK('Product SARF'!J36)),'Product SARF'!$E$12<>\"5) NA\",'Product SARF'!$E$12<>\"5) ...\"), \"   \"&CONCATENATE('Product SARF'!$J$18,'Product SARF'!$J$19),\"\")&IF(AND(NOT(ISBLANK('Product SARF'!K36)),'Product SARF'!$E$13<>\"6) NA\",'Product SARF'!$E$13<>\"6) ...\"), \"   \"&CONCATENATE('Product SARF'!$K$18,'Product SARF'!$K$19),\"\")&IF(AND(NOT(ISBLANK('Product SARF'!L36)),'Product SARF'!$E$14<>\"7) NA\",'Product SARF'!$E$14<>\"7) ...\"), \"   \"&CONCATENATE('Product SARF'!$L$18,'Product SARF'!$L$19),\"\") &IF(AND(NOT(ISBLANK('Product SARF'!M36)),'Product SARF'!$E$15<>\"8) NA\",'Product SARF'!$E$15<>\"8) ...\"), \"   \"&CONCATENATE('Product SARF'!$M$18,'Product SARF'!$M$19),\"\"))","v":""}]
[{"$f":"IF(C19=\"\",\"\",IF('Product SARF'!B37=\"\",\"\",'Product SARF'!B37))","v":""},{"$f":"IF('Product SARF'!C37=\"\",\"\",\"Sample\")","v":""},{"$f":"IF('Product SARF'!C37=\"\",\"\",'Product SARF'!C37)","v":""},{"$f":"IF(C19=\"\",\"\",IF('Product SARF'!D37=\"\",\"\",'Product SARF'!D37))","v":""},{"$f":"IF(C19=\"\",\"\",IF('Product SARF'!E37=\"\",\"\",'Product SARF'!E37))","v":""},{"$f":"IF(C19=\"\",\"\",IF('Product SARF'!$L$6=\"\",\"\",CONCATENATE('Product SARF'!$L$6,'Product SARF'!$M$6)))","v":""},{"$f":"IF(C19=\"\",\"\",IF('Product SARF'!$L$2=\"\",\"\",'Product SARF'!$L$2))","v":""},{"$f":"IF(C19=\"\",\"\",IF('Product SARF'!$L$4=\"\",NOW(),'Product SARF'!$L$4))","v":""},{"$f":"IF(C19=\"\",\"\",NOW())","v":""},{"$f":"IF(C19=\"\",\"\", IF(AND(NOT(ISBLANK('Product SARF'!F37)),'Product SARF'!$E$8<>\"1) NA\",'Product SARF'!$E$8<>\"1) ...\"), \"   \"&CONCATENATE('Product SARF'!$F$18,'Product SARF'!$F$19),\"\") & IF(AND(NOT(ISBLANK('Product SARF'!G37)),'Product SARF'!$E$9<>\"2) NA\",'Product SARF'!$E$9<>\"2) ...\"), \"   \"&CONCATENATE('Product SARF'!$G$18,'Product SARF'!$G$19),\"\")& IF(AND(NOT(ISBLANK('Product SARF'!H37)),'Product SARF'!$E$10<>\"3) NA\",'Product SARF'!$E$10<>\"3) ...\"), \"   \"&CONCATENATE('Product SARF'!$H$18,'Product SARF'!$H$19),\"\") & IF(AND(NOT(ISBLANK('Product SARF'!I37)),'Product SARF'!$E$11<>\"4) NA\",'Product SARF'!$E$11<>\"4) ...\"), \"   \"&CONCATENATE('Product SARF'!$I$18,'Product SARF'!$I$19),\"\")& IF(AND(NOT(ISBLANK('Product SARF'!J37)),'Product SARF'!$E$12<>\"5) NA\",'Product SARF'!$E$12<>\"5) ...\"), \"   \"&CONCATENATE('Product SARF'!$J$18,'Product SARF'!$J$19),\"\")&IF(AND(NOT(ISBLANK('Product SARF'!K37)),'Product SARF'!$E$13<>\"6) NA\",'Product SARF'!$E$13<>\"6) ...\"), \"   \"&CONCATENATE('Product SARF'!$K$18,'Product SARF'!$K$19),\"\")&IF(AND(NOT(ISBLANK('Product SARF'!L37)),'Product SARF'!$E$14<>\"7) NA\",'Product SARF'!$E$14<>\"7) ...\"), \"   \"&CONCATENATE('Product SARF'!$L$18,'Product SARF'!$L$19),\"\") &IF(AND(NOT(ISBLANK('Product SARF'!M37)),'Product SARF'!$E$15<>\"8) NA\",'Product SARF'!$E$15<>\"8) ...\"), \"   \"&CONCATENATE('Product SARF'!$M$18,'Product SARF'!$M$19),\"\"))","v":""}]
[{"$f":"IF(C20=\"\",\"\",IF('Product SARF'!B38=\"\",\"\",'Product SARF'!B38))","v":""},{"$f":"IF('Product SARF'!C38=\"\",\"\",\"Sample\")","v":""},{"$f":"IF('Product SARF'!C38=\"\",\"\",'Product SARF'!C38)","v":""},{"$f":"IF(C20=\"\",\"\",IF('Product SARF'!D38=\"\",\"\",'Product SARF'!D38))","v":""},{"$f":"IF(C20=\"\",\"\",IF('Product SARF'!E38=\"\",\"\",'Product SARF'!E38))","v":""},{"$f":"IF(C20=\"\",\"\",IF('Product SARF'!$L$6=\"\",\"\",CONCATENATE('Product SARF'!$L$6,'Product SARF'!$M$6)))","v":""},{"$f":"IF(C20=\"\",\"\",IF('Product SARF'!$L$2=\"\",\"\",'Product SARF'!$L$2))","v":""},{"$f":"IF(C20=\"\",\"\",IF('Product SARF'!$L$4=\"\",NOW(),'Product SARF'!$L$4))","v":""},"",{"$f":"IF(C20=\"\",\"\", IF(AND(NOT(ISBLANK('Product SARF'!F38)),'Product SARF'!$E$8<>\"1) NA\",'Product SARF'!$E$8<>\"1) ...\"), \"   \"&CONCATENATE('Product SARF'!$F$18,'Product SARF'!$F$19),\"\") & IF(AND(NOT(ISBLANK('Product SARF'!G38)),'Product SARF'!$E$9<>\"2) NA\",'Product SARF'!$E$9<>\"2) ...\"), \"   \"&CONCATENATE('Product SARF'!$G$18,'Product SARF'!$G$19),\"\")& IF(AND(NOT(ISBLANK('Product SARF'!H38)),'Product SARF'!$E$10<>\"3) NA\",'Product SARF'!$E$10<>\"3) ...\"), \"   \"&CONCATENATE('Product SARF'!$H$18,'Product SARF'!$H$19),\"\") & IF(AND(NOT(ISBLANK('Product SARF'!I38)),'Product SARF'!$E$11<>\"4) NA\",'Product SARF'!$E$11<>\"4) ...\"), \"   \"&CONCATENATE('Product SARF'!$I$18,'Product SARF'!$I$19),\"\")& IF(AND(NOT(ISBLANK('Product SARF'!J38)),'Product SARF'!$E$12<>\"5) NA\",'Product SARF'!$E$12<>\"5) ...\"), \"   \"&CONCATENATE('Product SARF'!$J$18,'Product SARF'!$J$19),\"\")&IF(AND(NOT(ISBLANK('Product SARF'!K38)),'Product SARF'!$E$13<>\"6) NA\",'Product SARF'!$E$13<>\"6) ...\"), \"   \"&CONCATENATE('Product SARF'!$K$18,'Product SARF'!$K$19),\"\")&IF(AND(NOT(ISBLANK('Product SARF'!L38)),'Product SARF'!$E$14<>\"7) NA\",'Product SARF'!$E$14<>\"7) ...\"), \"   \"&CONCATENATE('Product SARF'!$L$18,'Product SARF'!$L$19),\"\") &IF(AND(NOT(ISBLANK('Product SARF'!M38)),'Product SARF'!$E$15<>\"8) NA\",'Product SARF'!$E$15<>\"8) ...\"), \"   \"&CONCATENATE('Product SARF'!$M$18,'Product SARF'!$M$19),\"\"))","v":""}]
[{"$f":"IF(C21=\"\",\"\",IF('Product SARF'!B39=\"\",\"\",'Product SARF'!B39))","v":""},{"$f":"IF('Product SARF'!C39=\"\",\"\",\"Sample\")","v":""},{"$f":"IF('Product SARF'!C39=\"\",\"\",'Product SARF'!C39)","v":""},{"$f":"IF(C21=\"\",\"\",IF('Product SARF'!D39=\"\",\"\",'Product SARF'!D39))","v":""},{"$f":"IF(C21=\"\",\"\",IF('Product SARF'!E39=\"\",\"\",'Product SARF'!E39))","v":""},{"$f":"IF(C21=\"\",\"\",IF('Product SARF'!$L$6=\"\",\"\",CONCATENATE('Product SARF'!$L$6,'Product SARF'!$M$6)))","v":""},{"$f":"IF(C21=\"\",\"\",IF('Product SARF'!$L$2=\"\",\"\",'Product SARF'!$L$2))","v":""},{"$f":"IF(C21=\"\",\"\",IF('Product SARF'!$L$4=\"\",NOW(),'Product SARF'!$L$4))","v":""},"",{"$f":"IF(C21=\"\",\"\", IF(AND(NOT(ISBLANK('Product SARF'!F39)),'Product SARF'!$E$8<>\"1) NA\",'Product SARF'!$E$8<>\"1) ...\"), \"   \"&CONCATENATE('Product SARF'!$F$18,'Product SARF'!$F$19),\"\") & IF(AND(NOT(ISBLANK('Product SARF'!G39)),'Product SARF'!$E$9<>\"2) NA\",'Product SARF'!$E$9<>\"2) ...\"), \"   \"&CONCATENATE('Product SARF'!$G$18,'Product SARF'!$G$19),\"\")& IF(AND(NOT(ISBLANK('Product SARF'!H39)),'Product SARF'!$E$10<>\"3) NA\",'Product SARF'!$E$10<>\"3) ...\"), \"   \"&CONCATENATE('Product SARF'!$H$18,'Product SARF'!$H$19),\"\") & IF(AND(NOT(ISBLANK('Product SARF'!I39)),'Product SARF'!$E$11<>\"4) NA\",'Product SARF'!$E$11<>\"4) ...\"), \"   \"&CONCATENATE('Product SARF'!$I$18,'Product SARF'!$I$19),\"\")& IF(AND(NOT(ISBLANK('Product SARF'!J39)),'Product SARF'!$E$12<>\"5) NA\",'Product SARF'!$E$12<>\"5) ...\"), \"   \"&CONCATENATE('Product SARF'!$J$18,'Product SARF'!$J$19),\"\")&IF(AND(NOT(ISBLANK('Product SARF'!K39)),'Product SARF'!$E$13<>\"6) NA\",'Product SARF'!$E$13<>\"6) ...\"), \"   \"&CONCATENATE('Product SARF'!$K$18,'Product SARF'!$K$19),\"\")&IF(AND(NOT(ISBLANK('Product SARF'!L39)),'Product SARF'!$E$14<>\"7) NA\",'Product SARF'!$E$14<>\"7) ...\"), \"   \"&CONCATENATE('Product SARF'!$L$18,'Product SARF'!$L$19),\"\") &IF(AND(NOT(ISBLANK('Product SARF'!M39)),'Product SARF'!$E$15<>\"8) NA\",'Product SARF'!$E$15<>\"8) ...\"), \"   \"&CONCATENATE('Product SARF'!$M$18,'Product SARF'!$M$19),\"\"))","v":""}]
[{"$f":"IF(C22=\"\",\"\",IF('Product SARF'!B40=\"\",\"\",'Product SARF'!B40))","v":""},{"$f":"IF('Product SARF'!C40=\"\",\"\",\"Sample\")","v":""},{"$f":"IF('Product SARF'!C40=\"\",\"\",'Product SARF'!C40)","v":""},{"$f":"IF(C22=\"\",\"\",IF('Product SARF'!D40=\"\",\"\",'Product SARF'!D40))","v":""},{"$f":"IF(C22=\"\",\"\",IF('Product SARF'!E40=\"\",\"\",'Product SARF'!E40))","v":""},{"$f":"IF(C22=\"\",\"\",IF('Product SARF'!$L$6=\"\",\"\",CONCATENATE('Product SARF'!$L$6,'Product SARF'!$M$6)))","v":""},{"$f":"IF(C22=\"\",\"\",IF('Product SARF'!$L$2=\"\",\"\",'Product SARF'!$L$2))","v":""},{"$f":"IF(C22=\"\",\"\",IF('Product SARF'!$L$4=\"\",NOW(),'Product SARF'!$L$4))","v":""},"",{"$f":"IF(C22=\"\",\"\", IF(AND(NOT(ISBLANK('Product SARF'!F40)),'Product SARF'!$E$8<>\"1) NA\",'Product SARF'!$E$8<>\"1) ...\"), \"   \"&CONCATENATE('Product SARF'!$F$18,'Product SARF'!$F$19),\"\") & IF(AND(NOT(ISBLANK('Product SARF'!G40)),'Product SARF'!$E$9<>\"2) NA\",'Product SARF'!$E$9<>\"2) ...\"), \"   \"&CONCATENATE('Product SARF'!$G$18,'Product SARF'!$G$19),\"\")& IF(AND(NOT(ISBLANK('Product SARF'!H40)),'Product SARF'!$E$10<>\"3) NA\",'Product SARF'!$E$10<>\"3) ...\"), \"   \"&CONCATENATE('Product SARF'!$H$18,'Product SARF'!$H$19),\"\") & IF(AND(NOT(ISBLANK('Product SARF'!I40)),'Product SARF'!$E$11<>\"4) NA\",'Product SARF'!$E$11<>\"4) ...\"), \"   \"&CONCATENATE('Product SARF'!$I$18,'Product SARF'!$I$19),\"\")& IF(AND(NOT(ISBLANK('Product SARF'!J40)),'Product SARF'!$E$12<>\"5) NA\",'Product SARF'!$E$12<>\"5) ...\"), \"   \"&CONCATENATE('Product SARF'!$J$18,'Product SARF'!$J$19),\"\")&IF(AND(NOT(ISBLANK('Product SARF'!K40)),'Product SARF'!$E$13<>\"6) NA\",'Product SARF'!$E$13<>\"6) ...\"), \"   \"&CONCATENATE('Product SARF'!$K$18,'Product SARF'!$K$19),\"\")&IF(AND(NOT(ISBLANK('Product SARF'!L40)),'Product SARF'!$E$14<>\"7) NA\",'Product SARF'!$E$14<>\"7) ...\"), \"   \"&CONCATENATE('Product SARF'!$L$18,'Product SARF'!$L$19),\"\") &IF(AND(NOT(ISBLANK('Product SARF'!M40)),'Product SARF'!$E$15<>\"8) NA\",'Product SARF'!$E$15<>\"8) ...\"), \"   \"&CONCATENATE('Product SARF'!$M$18,'Product SARF'!$M$19),\"\"))","v":""}]
[{"$f":"IF(C23=\"\",\"\",IF('Product SARF'!B41=\"\",\"\",'Product SARF'!B41))","v":""},{"$f":"IF('Product SARF'!C41=\"\",\"\",\"Sample\")","v":""},{"$f":"IF('Product SARF'!C41=\"\",\"\",'Product SARF'!C41)","v":""},{"$f":"IF(C23=\"\",\"\",IF('Product SARF'!D41=\"\",\"\",'Product SARF'!D41))","v":""},{"$f":"IF(C23=\"\",\"\",IF('Product SARF'!E41=\"\",\"\",'Product SARF'!E41))","v":""},{"$f":"IF(C23=\"\",\"\",IF('Product SARF'!$L$6=\"\",\"\",CONCATENATE('Product SARF'!$L$6,'Product SARF'!$M$6)))","v":""},{"$f":"IF(C23=\"\",\"\",IF('Product SARF'!$L$2=\"\",\"\",'Product SARF'!$L$2))","v":""},{"$f":"IF(C23=\"\",\"\",IF('Product SARF'!$L$4=\"\",NOW(),'Product SARF'!$L$4))","v":""},"",{"$f":"IF(C23=\"\",\"\", IF(AND(NOT(ISBLANK('Product SARF'!F41)),'Product SARF'!$E$8<>\"1) NA\",'Product SARF'!$E$8<>\"1) ...\"), \"   \"&CONCATENATE('Product SARF'!$F$18,'Product SARF'!$F$19),\"\") & IF(AND(NOT(ISBLANK('Product SARF'!G41)),'Product SARF'!$E$9<>\"2) NA\",'Product SARF'!$E$9<>\"2) ...\"), \"   \"&CONCATENATE('Product SARF'!$G$18,'Product SARF'!$G$19),\"\")& IF(AND(NOT(ISBLANK('Product SARF'!H41)),'Product SARF'!$E$10<>\"3) NA\",'Product SARF'!$E$10<>\"3) ...\"), \"   \"&CONCATENATE('Product SARF'!$H$18,'Product SARF'!$H$19),\"\") & IF(AND(NOT(ISBLANK('Product SARF'!I41)),'Product SARF'!$E$11<>\"4) NA\",'Product SARF'!$E$11<>\"4) ...\"), \"   \"&CONCATENATE('Product SARF'!$I$18,'Product SARF'!$I$19),\"\")& IF(AND(NOT(ISBLANK('Product SARF'!J41)),'Product SARF'!$E$12<>\"5) NA\",'Product SARF'!$E$12<>\"5) ...\"), \"   \"&CONCATENATE('Product SARF'!$J$18,'Product SARF'!$J$19),\"\")&IF(AND(NOT(ISBLANK('Product SARF'!K41)),'Product SARF'!$E$13<>\"6) NA\",'Product SARF'!$E$13<>\"6) ...\"), \"   \"&CONCATENATE('Product SARF'!$K$18,'Product SARF'!$K$19),\"\")&IF(AND(NOT(ISBLANK('Product SARF'!L41)),'Product SARF'!$E$14<>\"7) NA\",'Product SARF'!$E$14<>\"7) ...\"), \"   \"&CONCATENATE('Product SARF'!$L$18,'Product SARF'!$L$19),\"\") &IF(AND(NOT(ISBLANK('Product SARF'!M41)),'Product SARF'!$E$15<>\"8) NA\",'Product SARF'!$E$15<>\"8) ...\"), \"   \"&CONCATENATE('Product SARF'!$M$18,'Product SARF'!$M$19),\"\"))","v":""}]
[{"$f":"IF(C24=\"\",\"\",IF('Product SARF'!B42=\"\",\"\",'Product SARF'!B42))","v":""},{"$f":"IF('Product SARF'!C42=\"\",\"\",\"Sample\")","v":""},{"$f":"IF('Product SARF'!C42=\"\",\"\",'Product SARF'!C42)","v":""},{"$f":"IF(C24=\"\",\"\",IF('Product SARF'!D42=\"\",\"\",'Product SARF'!D42))","v":""},{"$f":"IF(C24=\"\",\"\",IF('Product SARF'!E42=\"\",\"\",'Product SARF'!E42))","v":""},{"$f":"IF(C24=\"\",\"\",IF('Product SARF'!$L$6=\"\",\"\",CONCATENATE('Product SARF'!$L$6,'Product SARF'!$M$6)))","v":""},{"$f":"IF(C24=\"\",\"\",IF('Product SARF'!$L$2=\"\",\"\",'Product SARF'!$L$2))","v":""},{"$f":"IF(C24=\"\",\"\",IF('Product SARF'!$L$4=\"\",NOW(),'Product SARF'!$L$4))","v":""},"",{"$f":"IF(C24=\"\",\"\", IF(AND(NOT(ISBLANK('Product SARF'!F42)),'Product SARF'!$E$8<>\"1) NA\",'Product SARF'!$E$8<>\"1) ...\"), \"   \"&CONCATENATE('Product SARF'!$F$18,'Product SARF'!$F$19),\"\") & IF(AND(NOT(ISBLANK('Product SARF'!G42)),'Product SARF'!$E$9<>\"2) NA\",'Product SARF'!$E$9<>\"2) ...\"), \"   \"&CONCATENATE('Product SARF'!$G$18,'Product SARF'!$G$19),\"\")& IF(AND(NOT(ISBLANK('Product SARF'!H42)),'Product SARF'!$E$10<>\"3) NA\",'Product SARF'!$E$10<>\"3) ...\"), \"   \"&CONCATENATE('Product SARF'!$H$18,'Product SARF'!$H$19),\"\") & IF(AND(NOT(ISBLANK('Product SARF'!I42)),'Product SARF'!$E$11<>\"4) NA\",'Product SARF'!$E$11<>\"4) ...\"), \"   \"&CONCATENATE('Product SARF'!$I$18,'Product SARF'!$I$19),\"\")& IF(AND(NOT(ISBLANK('Product SARF'!J42)),'Product SARF'!$E$12<>\"5) NA\",'Product SARF'!$E$12<>\"5) ...\"), \"   \"&CONCATENATE('Product SARF'!$J$18,'Product SARF'!$J$19),\"\")&IF(AND(NOT(ISBLANK('Product SARF'!K42)),'Product SARF'!$E$13<>\"6) NA\",'Product SARF'!$E$13<>\"6) ...\"), \"   \"&CONCATENATE('Product SARF'!$K$18,'Product SARF'!$K$19),\"\")&IF(AND(NOT(ISBLANK('Product SARF'!L42)),'Product SARF'!$E$14<>\"7) NA\",'Product SARF'!$E$14<>\"7) ...\"), \"   \"&CONCATENATE('Product SARF'!$L$18,'Product SARF'!$L$19),\"\") &IF(AND(NOT(ISBLANK('Product SARF'!M42)),'Product SARF'!$E$15<>\"8) NA\",'Product SARF'!$E$15<>\"8) ...\"), \"   \"&CONCATENATE('Product SARF'!$M$18,'Product SARF'!$M$19),\"\"))","v":""}]
[{"$f":"IF(C25=\"\",\"\",IF('Product SARF'!B43=\"\",\"\",'Product SARF'!B43))","v":""},{"$f":"IF('Product SARF'!C43=\"\",\"\",\"Sample\")","v":""},{"$f":"IF('Product SARF'!C43=\"\",\"\",'Product SARF'!C43)","v":""},{"$f":"IF(C25=\"\",\"\",IF('Product SARF'!D43=\"\",\"\",'Product SARF'!D43))","v":""},{"$f":"IF(C25=\"\",\"\",IF('Product SARF'!E43=\"\",\"\",'Product SARF'!E43))","v":""},{"$f":"IF(C25=\"\",\"\",IF('Product SARF'!$L$6=\"\",\"\",CONCATENATE('Product SARF'!$L$6,'Product SARF'!$M$6)))","v":""},{"$f":"IF(C25=\"\",\"\",IF('Product SARF'!$L$2=\"\",\"\",'Product SARF'!$L$2))","v":""},{"$f":"IF(C25=\"\",\"\",IF('Product SARF'!$L$4=\"\",NOW(),'Product SARF'!$L$4))","v":""},"",{"$f":"IF(C25=\"\",\"\", IF(AND(NOT(ISBLANK('Product SARF'!F43)),'Product SARF'!$E$8<>\"1) NA\",'Product SARF'!$E$8<>\"1) ...\"), \"   \"&CONCATENATE('Product SARF'!$F$18,'Product SARF'!$F$19),\"\") & IF(AND(NOT(ISBLANK('Product SARF'!G43)),'Product SARF'!$E$9<>\"2) NA\",'Product SARF'!$E$9<>\"2) ...\"), \"   \"&CONCATENATE('Product SARF'!$G$18,'Product SARF'!$G$19),\"\")& IF(AND(NOT(ISBLANK('Product SARF'!H43)),'Product SARF'!$E$10<>\"3) NA\",'Product SARF'!$E$10<>\"3) ...\"), \"   \"&CONCATENATE('Product SARF'!$H$18,'Product SARF'!$H$19),\"\") & IF(AND(NOT(ISBLANK('Product SARF'!I43)),'Product SARF'!$E$11<>\"4) NA\",'Product SARF'!$E$11<>\"4) ...\"), \"   \"&CONCATENATE('Product SARF'!$I$18,'Product SARF'!$I$19),\"\")& IF(AND(NOT(ISBLANK('Product SARF'!J43)),'Product SARF'!$E$12<>\"5) NA\",'Product SARF'!$E$12<>\"5) ...\"), \"   \"&CONCATENATE('Product SARF'!$J$18,'Product SARF'!$J$19),\"\")&IF(AND(NOT(ISBLANK('Product SARF'!K43)),'Product SARF'!$E$13<>\"6) NA\",'Product SARF'!$E$13<>\"6) ...\"), \"   \"&CONCATENATE('Product SARF'!$K$18,'Product SARF'!$K$19),\"\")&IF(AND(NOT(ISBLANK('Product SARF'!L43)),'Product SARF'!$E$14<>\"7) NA\",'Product SARF'!$E$14<>\"7) ...\"), \"   \"&CONCATENATE('Product SARF'!$L$18,'Product SARF'!$L$19),\"\") &IF(AND(NOT(ISBLANK('Product SARF'!M43)),'Product SARF'!$E$15<>\"8) NA\",'Product SARF'!$E$15<>\"8) ...\"), \"   \"&CONCATENATE('Product SARF'!$M$18,'Product SARF'!$M$19),\"\"))","v":""}]
[{"$f":"IF(C26=\"\",\"\",IF('Product SARF'!B44=\"\",\"\",'Product SARF'!B44))","v":""},{"$f":"IF('Product SARF'!C44=\"\",\"\",\"Sample\")","v":""},{"$f":"IF('Product SARF'!C44=\"\",\"\",'Product SARF'!C44)","v":""},{"$f":"IF(C26=\"\",\"\",IF('Product SARF'!D44=\"\",\"\",'Product SARF'!D44))","v":""},{"$f":"IF(C26=\"\",\"\",IF('Product SARF'!E44=\"\",\"\",'Product SARF'!E44))","v":""},{"$f":"IF(C26=\"\",\"\",IF('Product SARF'!$L$6=\"\",\"\",CONCATENATE('Product SARF'!$L$6,'Product SARF'!$M$6)))","v":""},{"$f":"IF(C26=\"\",\"\",IF('Product SARF'!$L$2=\"\",\"\",'Product SARF'!$L$2))","v":""},{"$f":"IF(C26=\"\",\"\",IF('Product SARF'!$L$4=\"\",NOW(),'Product SARF'!$L$4))","v":""},"",{"$f":"IF(C26=\"\",\"\", IF(AND(NOT(ISBLANK('Product SARF'!F44)),'Product SARF'!$E$8<>\"1) NA\",'Product SARF'!$E$8<>\"1) ...\"), \"   \"&CONCATENATE('Product SARF'!$F$18,'Product SARF'!$F$19),\"\") & IF(AND(NOT(ISBLANK('Product SARF'!G44)),'Product SARF'!$E$9<>\"2) NA\",'Product SARF'!$E$9<>\"2) ...\"), \"   \"&CONCATENATE('Product SARF'!$G$18,'Product SARF'!$G$19),\"\")& IF(AND(NOT(ISBLANK('Product SARF'!H44)),'Product SARF'!$E$10<>\"3) NA\",'Product SARF'!$E$10<>\"3) ...\"), \"   \"&CONCATENATE('Product SARF'!$H$18,'Product SARF'!$H$19),\"\") & IF(AND(NOT(ISBLANK('Product SARF'!I44)),'Product SARF'!$E$11<>\"4) NA\",'Product SARF'!$E$11<>\"4) ...\"), \"   \"&CONCATENATE('Product SARF'!$I$18,'Product SARF'!$I$19),\"\")& IF(AND(NOT(ISBLANK('Product SARF'!J44)),'Product SARF'!$E$12<>\"5) NA\",'Product SARF'!$E$12<>\"5) ...\"), \"   \"&CONCATENATE('Product SARF'!$J$18,'Product SARF'!$J$19),\"\")&IF(AND(NOT(ISBLANK('Product SARF'!K44)),'Product SARF'!$E$13<>\"6) NA\",'Product SARF'!$E$13<>\"6) ...\"), \"   \"&CONCATENATE('Product SARF'!$K$18,'Product SARF'!$K$19),\"\")&IF(AND(NOT(ISBLANK('Product SARF'!L44)),'Product SARF'!$E$14<>\"7) NA\",'Product SARF'!$E$14<>\"7) ...\"), \"   \"&CONCATENATE('Product SARF'!$L$18,'Product SARF'!$L$19),\"\") &IF(AND(NOT(ISBLANK('Product SARF'!M44)),'Product SARF'!$E$15<>\"8) NA\",'Product SARF'!$E$15<>\"8) ...\"), \"   \"&CONCATENATE('Product SARF'!$M$18,'Product SARF'!$M$19),\"\"))","v":""}]
[{"$f":"IF(C27=\"\",\"\",IF('Product SARF'!B45=\"\",\"\",'Product SARF'!B45))","v":""},{"$f":"IF('Product SARF'!C45=\"\",\"\",\"Sample\")","v":""},{"$f":"IF('Product SARF'!C45=\"\",\"\",'Product SARF'!C45)","v":""},{"$f":"IF(C27=\"\",\"\",IF('Product SARF'!D45=\"\",\"\",'Product SARF'!D45))","v":""},{"$f":"IF(C27=\"\",\"\",IF('Product SARF'!E45=\"\",\"\",'Product SARF'!E45))","v":""},{"$f":"IF(C27=\"\",\"\",IF('Product SARF'!$L$6=\"\",\"\",CONCATENATE('Product SARF'!$L$6,'Product SARF'!$M$6)))","v":""},{"$f":"IF(C27=\"\",\"\",IF('Product SARF'!$L$2=\"\",\"\",'Product SARF'!$L$2))","v":""},{"$f":"IF(C27=\"\",\"\",IF('Product SARF'!$L$4=\"\",NOW(),'Product SARF'!$L$4))","v":""},"",{"$f":"IF(C27=\"\",\"\", IF(AND(NOT(ISBLANK('Product SARF'!F45)),'Product SARF'!$E$8<>\"1) NA\",'Product SARF'!$E$8<>\"1) ...\"), \"   \"&CONCATENATE('Product SARF'!$F$18,'Product SARF'!$F$19),\"\") & IF(AND(NOT(ISBLANK('Product SARF'!G45)),'Product SARF'!$E$9<>\"2) NA\",'Product SARF'!$E$9<>\"2) ...\"), \"   \"&CONCATENATE('Product SARF'!$G$18,'Product SARF'!$G$19),\"\")& IF(AND(NOT(ISBLANK('Product SARF'!H45)),'Product SARF'!$E$10<>\"3) NA\",'Product SARF'!$E$10<>\"3) ...\"), \"   \"&CONCATENATE('Product SARF'!$H$18,'Product SARF'!$H$19),\"\") & IF(AND(NOT(ISBLANK('Product SARF'!I45)),'Product SARF'!$E$11<>\"4) NA\",'Product SARF'!$E$11<>\"4) ...\"), \"   \"&CONCATENATE('Product SARF'!$I$18,'Product SARF'!$I$19),\"\")& IF(AND(NOT(ISBLANK('Product SARF'!J45)),'Product SARF'!$E$12<>\"5) NA\",'Product SARF'!$E$12<>\"5) ...\"), \"   \"&CONCATENATE('Product SARF'!$J$18,'Product SARF'!$J$19),\"\")&IF(AND(NOT(ISBLANK('Product SARF'!K45)),'Product SARF'!$E$13<>\"6) NA\",'Product SARF'!$E$13<>\"6) ...\"), \"   \"&CONCATENATE('Product SARF'!$K$18,'Product SARF'!$K$19),\"\")&IF(AND(NOT(ISBLANK('Product SARF'!L45)),'Product SARF'!$E$14<>\"7) NA\",'Product SARF'!$E$14<>\"7) ...\"), \"   \"&CONCATENATE('Product SARF'!$L$18,'Product SARF'!$L$19),\"\") &IF(AND(NOT(ISBLANK('Product SARF'!M45)),'Product SARF'!$E$15<>\"8) NA\",'Product SARF'!$E$15<>\"8) ...\"), \"   \"&CONCATENATE('Product SARF'!$M$18,'Product SARF'!$M$19),\"\"))","v":""}]
[{"$f":"IF(C28=\"\",\"\",IF('Product SARF'!B46=\"\",\"\",'Product SARF'!B46))","v":""},{"$f":"IF('Product SARF'!C46=\"\",\"\",\"Sample\")","v":""},{"$f":"IF('Product SARF'!C46=\"\",\"\",'Product SARF'!C46)","v":""},{"$f":"IF(C28=\"\",\"\",IF('Product SARF'!D46=\"\",\"\",'Product SARF'!D46))","v":""},{"$f":"IF(C28=\"\",\"\",IF('Product SARF'!E46=\"\",\"\",'Product SARF'!E46))","v":""},{"$f":"IF(C28=\"\",\"\",IF('Product SARF'!$L$6=\"\",\"\",CONCATENATE('Product SARF'!$L$6,'Product SARF'!$M$6)))","v":""},{"$f":"IF(C28=\"\",\"\",IF('Product SARF'!$L$2=\"\",\"\",'Product SARF'!$L$2))","v":""},{"$f":"IF(C28=\"\",\"\",IF('Product SARF'!$L$4=\"\",NOW(),'Product SARF'!$L$4))","v":""},"",{"$f":"IF(C28=\"\",\"\", IF(AND(NOT(ISBLANK('Product SARF'!F46)),'Product SARF'!$E$8<>\"1) NA\",'Product SARF'!$E$8<>\"1) ...\"), \"   \"&CONCATENATE('Product SARF'!$F$18,'Product SARF'!$F$19),\"\") & IF(AND(NOT(ISBLANK('Product SARF'!G46)),'Product SARF'!$E$9<>\"2) NA\",'Product SARF'!$E$9<>\"2) ...\"), \"   \"&CONCATENATE('Product SARF'!$G$18,'Product SARF'!$G$19),\"\")& IF(AND(NOT(ISBLANK('Product SARF'!H46)),'Product SARF'!$E$10<>\"3) NA\",'Product SARF'!$E$10<>\"3) ...\"), \"   \"&CONCATENATE('Product SARF'!$H$18,'Product SARF'!$H$19),\"\") & IF(AND(NOT(ISBLANK('Product SARF'!I46)),'Product SARF'!$E$11<>\"4) NA\",'Product SARF'!$E$11<>\"4) ...\"), \"   \"&CONCATENATE('Product SARF'!$I$18,'Product SARF'!$I$19),\"\")& IF(AND(NOT(ISBLANK('Product SARF'!J46)),'Product SARF'!$E$12<>\"5) NA\",'Product SARF'!$E$12<>\"5) ...\"), \"   \"&CONCATENATE('Product SARF'!$J$18,'Product SARF'!$J$19),\"\")&IF(AND(NOT(ISBLANK('Product SARF'!K46)),'Product SARF'!$E$13<>\"6) NA\",'Product SARF'!$E$13<>\"6) ...\"), \"   \"&CONCATENATE('Product SARF'!$K$18,'Product SARF'!$K$19),\"\")&IF(AND(NOT(ISBLANK('Product SARF'!L46)),'Product SARF'!$E$14<>\"7) NA\",'Product SARF'!$E$14<>\"7) ...\"), \"   \"&CONCATENATE('Product SARF'!$L$18,'Product SARF'!$L$19),\"\") &IF(AND(NOT(ISBLANK('Product SARF'!M46)),'Product SARF'!$E$15<>\"8) NA\",'Product SARF'!$E$15<>\"8) ...\"), \"   \"&CONCATENATE('Product SARF'!$M$18,'Product SARF'!$M$19),\"\"))","v":""}]
[{"$f":"IF(C29=\"\",\"\",IF('Product SARF'!B47=\"\",\"\",'Product SARF'!B47))","v":""},{"$f":"IF('Product SARF'!C47=\"\",\"\",\"Sample\")","v":""},{"$f":"IF('Product SARF'!C47=\"\",\"\",'Product SARF'!C47)","v":""},{"$f":"IF(C29=\"\",\"\",IF('Product SARF'!D47=\"\",\"\",'Product SARF'!D47))","v":""},{"$f":"IF(C29=\"\",\"\",IF('Product SARF'!E47=\"\",\"\",'Product SARF'!E47))","v":""},{"$f":"IF(C29=\"\",\"\",IF('Product SARF'!$L$6=\"\",\"\",CONCATENATE('Product SARF'!$L$6,'Product SARF'!$M$6)))","v":""},{"$f":"IF(C29=\"\",\"\",IF('Product SARF'!$L$2=\"\",\"\",'Product SARF'!$L$2))","v":""},{"$f":"IF(C29=\"\",\"\",IF('Product SARF'!$L$4=\"\",NOW(),'Product SARF'!$L$4))","v":""},"",{"$f":"IF(C29=\"\",\"\", IF(AND(NOT(ISBLANK('Product SARF'!F47)),'Product SARF'!$E$8<>\"1) NA\",'Product SARF'!$E$8<>\"1) ...\"), \"   \"&CONCATENATE('Product SARF'!$F$18,'Product SARF'!$F$19),\"\") & IF(AND(NOT(ISBLANK('Product SARF'!G47)),'Product SARF'!$E$9<>\"2) NA\",'Product SARF'!$E$9<>\"2) ...\"), \"   \"&CONCATENATE('Product SARF'!$G$18,'Product SARF'!$G$19),\"\")& IF(AND(NOT(ISBLANK('Product SARF'!H47)),'Product SARF'!$E$10<>\"3) NA\",'Product SARF'!$E$10<>\"3) ...\"), \"   \"&CONCATENATE('Product SARF'!$H$18,'Product SARF'!$H$19),\"\") & IF(AND(NOT(ISBLANK('Product SARF'!I47)),'Product SARF'!$E$11<>\"4) NA\",'Product SARF'!$E$11<>\"4) ...\"), \"   \"&CONCATENATE('Product SARF'!$I$18,'Product SARF'!$I$19),\"\")& IF(AND(NOT(ISBLANK('Product SARF'!J47)),'Product SARF'!$E$12<>\"5) NA\",'Product SARF'!$E$12<>\"5) ...\"), \"   \"&CONCATENATE('Product SARF'!$J$18,'Product SARF'!$J$19),\"\")&IF(AND(NOT(ISBLANK('Product SARF'!K47)),'Product SARF'!$E$13<>\"6) NA\",'Product SARF'!$E$13<>\"6) ...\"), \"   \"&CONCATENATE('Product SARF'!$K$18,'Product SARF'!$K$19),\"\")&IF(AND(NOT(ISBLANK('Product SARF'!L47)),'Product SARF'!$E$14<>\"7) NA\",'Product SARF'!$E$14<>\"7) ...\"), \"   \"&CONCATENATE('Product SARF'!$L$18,'Product SARF'!$L$19),\"\") &IF(AND(NOT(ISBLANK('Product SARF'!M47)),'Product SARF'!$E$15<>\"8) NA\",'Product SARF'!$E$15<>\"8) ...\"), \"   \"&CONCATENATE('Product SARF'!$M$18,'Product SARF'!$M$19),\"\"))","v":""}]
[{"$f":"IF(C30=\"\",\"\",IF('Product SARF'!B48=\"\",\"\",'Product SARF'!B48))","v":""},{"$f":"IF('Product SARF'!C48=\"\",\"\",\"Sample\")","v":""},{"$f":"IF('Product SARF'!C48=\"\",\"\",'Product SARF'!C48)","v":""},{"$f":"IF(C30=\"\",\"\",IF('Product SARF'!D48=\"\",\"\",'Product SARF'!D48))","v":""},{"$f":"IF(C30=\"\",\"\",IF('Product SARF'!E48=\"\",\"\",'Product SARF'!E48))","v":""},{"$f":"IF(C30=\"\",\"\",IF('Product SARF'!$L$6=\"\",\"\",CONCATENATE('Product SARF'!$L$6,'Product SARF'!$M$6)))","v":""},{"$f":"IF(C30=\"\",\"\",IF('Product SARF'!$L$2=\"\",\"\",'Product SARF'!$L$2))","v":""},{"$f":"IF(C30=\"\",\"\",IF('Product SARF'!$L$4=\"\",NOW(),'Product SARF'!$L$4))","v":""},"",{"$f":"IF(C30=\"\",\"\", IF(AND(NOT(ISBLANK('Product SARF'!F48)),'Product SARF'!$E$8<>\"1) NA\",'Product SARF'!$E$8<>\"1) ...\"), \"   \"&CONCATENATE('Product SARF'!$F$18,'Product SARF'!$F$19),\"\") & IF(AND(NOT(ISBLANK('Product SARF'!G48)),'Product SARF'!$E$9<>\"2) NA\",'Product SARF'!$E$9<>\"2) ...\"), \"   \"&CONCATENATE('Product SARF'!$G$18,'Product SARF'!$G$19),\"\")& IF(AND(NOT(ISBLANK('Product SARF'!H48)),'Product SARF'!$E$10<>\"3) NA\",'Product SARF'!$E$10<>\"3) ...\"), \"   \"&CONCATENATE('Product SARF'!$H$18,'Product SARF'!$H$19),\"\") & IF(AND(NOT(ISBLANK('Product SARF'!I48)),'Product SARF'!$E$11<>\"4) NA\",'Product SARF'!$E$11<>\"4) ...\"), \"   \"&CONCATENATE('Product SARF'!$I$18,'Product SARF'!$I$19),\"\")& IF(AND(NOT(ISBLANK('Product SARF'!J48)),'Product SARF'!$E$12<>\"5) NA\",'Product SARF'!$E$12<>\"5) ...\"), \"   \"&CONCATENATE('Product SARF'!$J$18,'Product SARF'!$J$19),\"\")&IF(AND(NOT(ISBLANK('Product SARF'!K48)),'Product SARF'!$E$13<>\"6) NA\",'Product SARF'!$E$13<>\"6) ...\"), \"   \"&CONCATENATE('Product SARF'!$K$18,'Product SARF'!$K$19),\"\")&IF(AND(NOT(ISBLANK('Product SARF'!L48)),'Product SARF'!$E$14<>\"7) NA\",'Product SARF'!$E$14<>\"7) ...\"), \"   \"&CONCATENATE('Product SARF'!$L$18,'Product SARF'!$L$19),\"\") &IF(AND(NOT(ISBLANK('Product SARF'!M48)),'Product SARF'!$E$15<>\"8) NA\",'Product SARF'!$E$15<>\"8) ...\"), \"   \"&CONCATENATE('Product SARF'!$M$18,'Product SARF'!$M$19),\"\"))","v":""}]
[{"$f":"IF(C31=\"\",\"\",IF('Product SARF'!B49=\"\",\"\",'Product SARF'!B49))","v":""},{"$f":"IF('Product SARF'!C49=\"\",\"\",\"Sample\")","v":""},{"$f":"IF('Product SARF'!C49=\"\",\"\",'Product SARF'!C49)","v":""},{"$f":"IF(C31=\"\",\"\",IF('Product SARF'!D49=\"\",\"\",'Product SARF'!D49))","v":""},{"$f":"IF(C31=\"\",\"\",IF('Product SARF'!E49=\"\",\"\",'Product SARF'!E49))","v":""},{"$f":"IF(C31=\"\",\"\",IF('Product SARF'!$L$6=\"\",\"\",CONCATENATE('Product SARF'!$L$6,'Product SARF'!$M$6)))","v":""},{"$f":"IF(C31=\"\",\"\",IF('Product SARF'!$L$2=\"\",\"\",'Product SARF'!$L$2))","v":""},{"$f":"IF(C31=\"\",\"\",IF('Product SARF'!$L$4=\"\",NOW(),'Product SARF'!$L$4))","v":""},"",{"$f":"IF(C31=\"\",\"\", IF(AND(NOT(ISBLANK('Product SARF'!F49)),'Product SARF'!$E$8<>\"1) NA\",'Product SARF'!$E$8<>\"1) ...\"), \"   \"&CONCATENATE('Product SARF'!$F$18,'Product SARF'!$F$19),\"\") & IF(AND(NOT(ISBLANK('Product SARF'!G49)),'Product SARF'!$E$9<>\"2) NA\",'Product SARF'!$E$9<>\"2) ...\"), \"   \"&CONCATENATE('Product SARF'!$G$18,'Product SARF'!$G$19),\"\")& IF(AND(NOT(ISBLANK('Product SARF'!H49)),'Product SARF'!$E$10<>\"3) NA\",'Product SARF'!$E$10<>\"3) ...\"), \"   \"&CONCATENATE('Product SARF'!$H$18,'Product SARF'!$H$19),\"\") & IF(AND(NOT(ISBLANK('Product SARF'!I49)),'Product SARF'!$E$11<>\"4) NA\",'Product SARF'!$E$11<>\"4) ...\"), \"   \"&CONCATENATE('Product SARF'!$I$18,'Product SARF'!$I$19),\"\")& IF(AND(NOT(ISBLANK('Product SARF'!J49)),'Product SARF'!$E$12<>\"5) NA\",'Product SARF'!$E$12<>\"5) ...\"), \"   \"&CONCATENATE('Product SARF'!$J$18,'Product SARF'!$J$19),\"\")&IF(AND(NOT(ISBLANK('Product SARF'!K49)),'Product SARF'!$E$13<>\"6) NA\",'Product SARF'!$E$13<>\"6) ...\"), \"   \"&CONCATENATE('Product SARF'!$K$18,'Product SARF'!$K$19),\"\")&IF(AND(NOT(ISBLANK('Product SARF'!L49)),'Product SARF'!$E$14<>\"7) NA\",'Product SARF'!$E$14<>\"7) ...\"), \"   \"&CONCATENATE('Product SARF'!$L$18,'Product SARF'!$L$19),\"\") &IF(AND(NOT(ISBLANK('Product SARF'!M49)),'Product SARF'!$E$15<>\"8) NA\",'Product SARF'!$E$15<>\"8) ...\"), \"   \"&CONCATENATE('Product SARF'!$M$18,'Product SARF'!$M$19),\"\"))","v":""}]
[{"$f":"IF(C32=\"\",\"\",IF('Product SARF'!B50=\"\",\"\",'Product SARF'!B50))","v":""},{"$f":"IF('Product SARF'!C50=\"\",\"\",\"Sample\")","v":""},{"$f":"IF('Product SARF'!C50=\"\",\"\",'Product SARF'!C50)","v":""},{"$f":"IF(C32=\"\",\"\",IF('Product SARF'!D50=\"\",\"\",'Product SARF'!D50))","v":""},{"$f":"IF(C32=\"\",\"\",IF('Product SARF'!E50=\"\",\"\",'Product SARF'!E50))","v":""},{"$f":"IF(C32=\"\",\"\",IF('Product SARF'!$L$6=\"\",\"\",CONCATENATE('Product SARF'!$L$6,'Product SARF'!$M$6)))","v":""},{"$f":"IF(C32=\"\",\"\",IF('Product SARF'!$L$2=\"\",\"\",'Product SARF'!$L$2))","v":""},{"$f":"IF(C32=\"\",\"\",IF('Product SARF'!$L$4=\"\",NOW(),'Product SARF'!$L$4))","v":""},"",{"$f":"IF(C32=\"\",\"\", IF(AND(NOT(ISBLANK('Product SARF'!F50)),'Product SARF'!$E$8<>\"1) NA\",'Product SARF'!$E$8<>\"1) ...\"), \"   \"&CONCATENATE('Product SARF'!$F$18,'Product SARF'!$F$19),\"\") & IF(AND(NOT(ISBLANK('Product SARF'!G50)),'Product SARF'!$E$9<>\"2) NA\",'Product SARF'!$E$9<>\"2) ...\"), \"   \"&CONCATENATE('Product SARF'!$G$18,'Product SARF'!$G$19),\"\")& IF(AND(NOT(ISBLANK('Product SARF'!H50)),'Product SARF'!$E$10<>\"3) NA\",'Product SARF'!$E$10<>\"3) ...\"), \"   \"&CONCATENATE('Product SARF'!$H$18,'Product SARF'!$H$19),\"\") & IF(AND(NOT(ISBLANK('Product SARF'!I50)),'Product SARF'!$E$11<>\"4) NA\",'Product SARF'!$E$11<>\"4) ...\"), \"   \"&CONCATENATE('Product SARF'!$I$18,'Product SARF'!$I$19),\"\")& IF(AND(NOT(ISBLANK('Product SARF'!J50)),'Product SARF'!$E$12<>\"5) NA\",'Product SARF'!$E$12<>\"5) ...\"), \"   \"&CONCATENATE('Product SARF'!$J$18,'Product SARF'!$J$19),\"\")&IF(AND(NOT(ISBLANK('Product SARF'!K50)),'Product SARF'!$E$13<>\"6) NA\",'Product SARF'!$E$13<>\"6) ...\"), \"   \"&CONCATENATE('Product SARF'!$K$18,'Product SARF'!$K$19),\"\")&IF(AND(NOT(ISBLANK('Product SARF'!L50)),'Product SARF'!$E$14<>\"7) NA\",'Product SARF'!$E$14<>\"7) ...\"), \"   \"&CONCATENATE('Product SARF'!$L$18,'Product SARF'!$L$19),\"\") &IF(AND(NOT(ISBLANK('Product SARF'!M50)),'Product SARF'!$E$15<>\"8) NA\",'Product SARF'!$E$15<>\"8) ...\"), \"   \"&CONCATENATE('Product SARF'!$M$18,'Product SARF'!$M$19),\"\"))","v":""}]
[{"$f":"IF(C33=\"\",\"\",IF('Product SARF'!B51=\"\",\"\",'Product SARF'!B51))","v":""},{"$f":"IF('Product SARF'!C51=\"\",\"\",\"Sample\")","v":""},{"$f":"IF('Product SARF'!C51=\"\",\"\",'Product SARF'!C51)","v":""},{"$f":"IF(C33=\"\",\"\",IF('Product SARF'!D51=\"\",\"\",'Product SARF'!D51))","v":""},{"$f":"IF(C33=\"\",\"\",IF('Product SARF'!E51=\"\",\"\",'Product SARF'!E51))","v":""},{"$f":"IF(C33=\"\",\"\",IF('Product SARF'!$L$6=\"\",\"\",CONCATENATE('Product SARF'!$L$6,'Product SARF'!$M$6)))","v":""},{"$f":"IF(C33=\"\",\"\",IF('Product SARF'!$L$2=\"\",\"\",'Product SARF'!$L$2))","v":""},{"$f":"IF(C33=\"\",\"\",IF('Product SARF'!$L$4=\"\",NOW(),'Product SARF'!$L$4))","v":""},"",{"$f":"IF(C33=\"\",\"\", IF(AND(NOT(ISBLANK('Product SARF'!F51)),'Product SARF'!$E$8<>\"1) NA\",'Product SARF'!$E$8<>\"1) ...\"), \"   \"&CONCATENATE('Product SARF'!$F$18,'Product SARF'!$F$19),\"\") & IF(AND(NOT(ISBLANK('Product SARF'!G51)),'Product SARF'!$E$9<>\"2) NA\",'Product SARF'!$E$9<>\"2) ...\"), \"   \"&CONCATENATE('Product SARF'!$G$18,'Product SARF'!$G$19),\"\")& IF(AND(NOT(ISBLANK('Product SARF'!H51)),'Product SARF'!$E$10<>\"3) NA\",'Product SARF'!$E$10<>\"3) ...\"), \"   \"&CONCATENATE('Product SARF'!$H$18,'Product SARF'!$H$19),\"\") & IF(AND(NOT(ISBLANK('Product SARF'!I51)),'Product SARF'!$E$11<>\"4) NA\",'Product SARF'!$E$11<>\"4) ...\"), \"   \"&CONCATENATE('Product SARF'!$I$18,'Product SARF'!$I$19),\"\")& IF(AND(NOT(ISBLANK('Product SARF'!J51)),'Product SARF'!$E$12<>\"5) NA\",'Product SARF'!$E$12<>\"5) ...\"), \"   \"&CONCATENATE('Product SARF'!$J$18,'Product SARF'!$J$19),\"\")&IF(AND(NOT(ISBLANK('Product SARF'!K51)),'Product SARF'!$E$13<>\"6) NA\",'Product SARF'!$E$13<>\"6) ...\"), \"   \"&CONCATENATE('Product SARF'!$K$18,'Product SARF'!$K$19),\"\")&IF(AND(NOT(ISBLANK('Product SARF'!L51)),'Product SARF'!$E$14<>\"7) NA\",'Product SARF'!$E$14<>\"7) ...\"), \"   \"&CONCATENATE('Product SARF'!$L$18,'Product SARF'!$L$19),\"\") &IF(AND(NOT(ISBLANK('Product SARF'!M51)),'Product SARF'!$E$15<>\"8) NA\",'Product SARF'!$E$15<>\"8) ...\"), \"   \"&CONCATENATE('Product SARF'!$M$18,'Product SARF'!$M$19),\"\"))","v":""}]
[{"$f":"IF(C34=\"\",\"\",IF('Product SARF'!B52=\"\",\"\",'Product SARF'!B52))","v":""},{"$f":"IF('Product SARF'!C52=\"\",\"\",\"Sample\")","v":""},{"$f":"IF('Product SARF'!C52=\"\",\"\",'Product SARF'!C52)","v":""},{"$f":"IF(C34=\"\",\"\",IF('Product SARF'!D52=\"\",\"\",'Product SARF'!D52))","v":""},{"$f":"IF(C34=\"\",\"\",IF('Product SARF'!E52=\"\",\"\",'Product SARF'!E52))","v":""},{"$f":"IF(C34=\"\",\"\",IF('Product SARF'!$L$6=\"\",\"\",CONCATENATE('Product SARF'!$L$6,'Product SARF'!$M$6)))","v":""},{"$f":"IF(C34=\"\",\"\",IF('Product SARF'!$L$2=\"\",\"\",'Product SARF'!$L$2))","v":""},{"$f":"IF(C34=\"\",\"\",IF('Product SARF'!$L$4=\"\",NOW(),'Product SARF'!$L$4))","v":""},"",{"$f":"IF(C34=\"\",\"\", IF(AND(NOT(ISBLANK('Product SARF'!F52)),'Product SARF'!$E$8<>\"1) NA\",'Product SARF'!$E$8<>\"1) ...\"), \"   \"&CONCATENATE('Product SARF'!$F$18,'Product SARF'!$F$19),\"\") & IF(AND(NOT(ISBLANK('Product SARF'!G52)),'Product SARF'!$E$9<>\"2) NA\",'Product SARF'!$E$9<>\"2) ...\"), \"   \"&CONCATENATE('Product SARF'!$G$18,'Product SARF'!$G$19),\"\")& IF(AND(NOT(ISBLANK('Product SARF'!H52)),'Product SARF'!$E$10<>\"3) NA\",'Product SARF'!$E$10<>\"3) ...\"), \"   \"&CONCATENATE('Product SARF'!$H$18,'Product SARF'!$H$19),\"\") & IF(AND(NOT(ISBLANK('Product SARF'!I52)),'Product SARF'!$E$11<>\"4) NA\",'Product SARF'!$E$11<>\"4) ...\"), \"   \"&CONCATENATE('Product SARF'!$I$18,'Product SARF'!$I$19),\"\")& IF(AND(NOT(ISBLANK('Product SARF'!J52)),'Product SARF'!$E$12<>\"5) NA\",'Product SARF'!$E$12<>\"5) ...\"), \"   \"&CONCATENATE('Product SARF'!$J$18,'Product SARF'!$J$19),\"\")&IF(AND(NOT(ISBLANK('Product SARF'!K52)),'Product SARF'!$E$13<>\"6) NA\",'Product SARF'!$E$13<>\"6) ...\"), \"   \"&CONCATENATE('Product SARF'!$K$18,'Product SARF'!$K$19),\"\")&IF(AND(NOT(ISBLANK('Product SARF'!L52)),'Product SARF'!$E$14<>\"7) NA\",'Product SARF'!$E$14<>\"7) ...\"), \"   \"&CONCATENATE('Product SARF'!$L$18,'Product SARF'!$L$19),\"\") &IF(AND(NOT(ISBLANK('Product SARF'!M52)),'Product SARF'!$E$15<>\"8) NA\",'Product SARF'!$E$15<>\"8) ...\"), \"   \"&CONCATENATE('Product SARF'!$M$18,'Product SARF'!$M$19),\"\"))","v":""}]
[{"$f":"IF(C35=\"\",\"\",IF('Product SARF'!B53=\"\",\"\",'Product SARF'!B53))","v":""},{"$f":"IF('Product SARF'!C53=\"\",\"\",\"Sample\")","v":""},{"$f":"IF('Product SARF'!C53=\"\",\"\",'Product SARF'!C53)","v":""},{"$f":"IF(C35=\"\",\"\",IF('Product SARF'!D53=\"\",\"\",'Product SARF'!D53))","v":""},{"$f":"IF(C35=\"\",\"\",IF('Product SARF'!E53=\"\",\"\",'Product SARF'!E53))","v":""},{"$f":"IF(C35=\"\",\"\",IF('Product SARF'!$L$6=\"\",\"\",CONCATENATE('Product SARF'!$L$6,'Product SARF'!$M$6)))","v":""},{"$f":"IF(C35=\"\",\"\",IF('Product SARF'!$L$2=\"\",\"\",'Product SARF'!$L$2))","v":""},{"$f":"IF(C35=\"\",\"\",IF('Product SARF'!$L$4=\"\",NOW(),'Product SARF'!$L$4))","v":""},"",{"$f":"IF(C35=\"\",\"\", IF(AND(NOT(ISBLANK('Product SARF'!F53)),'Product SARF'!$E$8<>\"1) NA\",'Product SARF'!$E$8<>\"1) ...\"), \"   \"&CONCATENATE('Product SARF'!$F$18,'Product SARF'!$F$19),\"\") & IF(AND(NOT(ISBLANK('Product SARF'!G53)),'Product SARF'!$E$9<>\"2) NA\",'Product SARF'!$E$9<>\"2) ...\"), \"   \"&CONCATENATE('Product SARF'!$G$18,'Product SARF'!$G$19),\"\")& IF(AND(NOT(ISBLANK('Product SARF'!H53)),'Product SARF'!$E$10<>\"3) NA\",'Product SARF'!$E$10<>\"3) ...\"), \"   \"&CONCATENATE('Product SARF'!$H$18,'Product SARF'!$H$19),\"\") & IF(AND(NOT(ISBLANK('Product SARF'!I53)),'Product SARF'!$E$11<>\"4) NA\",'Product SARF'!$E$11<>\"4) ...\"), \"   \"&CONCATENATE('Product SARF'!$I$18,'Product SARF'!$I$19),\"\")& IF(AND(NOT(ISBLANK('Product SARF'!J53)),'Product SARF'!$E$12<>\"5) NA\",'Product SARF'!$E$12<>\"5) ...\"), \"   \"&CONCATENATE('Product SARF'!$J$18,'Product SARF'!$J$19),\"\")&IF(AND(NOT(ISBLANK('Product SARF'!K53)),'Product SARF'!$E$13<>\"6) NA\",'Product SARF'!$E$13<>\"6) ...\"), \"   \"&CONCATENATE('Product SARF'!$K$18,'Product SARF'!$K$19),\"\")&IF(AND(NOT(ISBLANK('Product SARF'!L53)),'Product SARF'!$E$14<>\"7) NA\",'Product SARF'!$E$14<>\"7) ...\"), \"   \"&CONCATENATE('Product SARF'!$L$18,'Product SARF'!$L$19),\"\") &IF(AND(NOT(ISBLANK('Product SARF'!M53)),'Product SARF'!$E$15<>\"8) NA\",'Product SARF'!$E$15<>\"8) ...\"), \"   \"&CONCATENATE('Product SARF'!$M$18,'Product SARF'!$M$19),\"\"))","v":""}]
[{"$f":"IF(C36=\"\",\"\",IF('Product SARF'!B54=\"\",\"\",'Product SARF'!B54))","v":""},{"$f":"IF('Product SARF'!C54=\"\",\"\",\"Sample\")","v":""},{"$f":"IF('Product SARF'!C54=\"\",\"\",'Product SARF'!C54)","v":""},{"$f":"IF(C36=\"\",\"\",IF('Product SARF'!D54=\"\",\"\",'Product SARF'!D54))","v":""},{"$f":"IF(C36=\"\",\"\",IF('Product SARF'!E54=\"\",\"\",'Product SARF'!E54))","v":""},{"$f":"IF(C36=\"\",\"\",IF('Product SARF'!$L$6=\"\",\"\",CONCATENATE('Product SARF'!$L$6,'Product SARF'!$M$6)))","v":""},{"$f":"IF(C36=\"\",\"\",IF('Product SARF'!$L$2=\"\",\"\",'Product SARF'!$L$2))","v":""},{"$f":"IF(C36=\"\",\"\",IF('Product SARF'!$L$4=\"\",NOW(),'Product SARF'!$L$4))","v":""},"",{"$f":"IF(C36=\"\",\"\", IF(AND(NOT(ISBLANK('Product SARF'!F54)),'Product SARF'!$E$8<>\"1) NA\",'Product SARF'!$E$8<>\"1) ...\"), \"   \"&CONCATENATE('Product SARF'!$F$18,'Product SARF'!$F$19),\"\") & IF(AND(NOT(ISBLANK('Product SARF'!G54)),'Product SARF'!$E$9<>\"2) NA\",'Product SARF'!$E$9<>\"2) ...\"), \"   \"&CONCATENATE('Product SARF'!$G$18,'Product SARF'!$G$19),\"\")& IF(AND(NOT(ISBLANK('Product SARF'!H54)),'Product SARF'!$E$10<>\"3) NA\",'Product SARF'!$E$10<>\"3) ...\"), \"   \"&CONCATENATE('Product SARF'!$H$18,'Product SARF'!$H$19),\"\") & IF(AND(NOT(ISBLANK('Product SARF'!I54)),'Product SARF'!$E$11<>\"4) NA\",'Product SARF'!$E$11<>\"4) ...\"), \"   \"&CONCATENATE('Product SARF'!$I$18,'Product SARF'!$I$19),\"\")& IF(AND(NOT(ISBLANK('Product SARF'!J54)),'Product SARF'!$E$12<>\"5) NA\",'Product SARF'!$E$12<>\"5) ...\"), \"   \"&CONCATENATE('Product SARF'!$J$18,'Product SARF'!$J$19),\"\")&IF(AND(NOT(ISBLANK('Product SARF'!K54)),'Product SARF'!$E$13<>\"6) NA\",'Product SARF'!$E$13<>\"6) ...\"), \"   \"&CONCATENATE('Product SARF'!$K$18,'Product SARF'!$K$19),\"\")&IF(AND(NOT(ISBLANK('Product SARF'!L54)),'Product SARF'!$E$14<>\"7) NA\",'Product SARF'!$E$14<>\"7) ...\"), \"   \"&CONCATENATE('Product SARF'!$L$18,'Product SARF'!$L$19),\"\") &IF(AND(NOT(ISBLANK('Product SARF'!M54)),'Product SARF'!$E$15<>\"8) NA\",'Product SARF'!$E$15<>\"8) ...\"), \"   \"&CONCATENATE('Product SARF'!$M$18,'Product SARF'!$M$19),\"\"))","v":""}]
[{"$f":"IF(C37=\"\",\"\",IF('Product SARF'!B55=\"\",\"\",'Product SARF'!B55))","v":""},{"$f":"IF('Product SARF'!C55=\"\",\"\",\"Sample\")","v":""},{"$f":"IF('Product SARF'!C55=\"\",\"\",'Product SARF'!C55)","v":""},{"$f":"IF(C37=\"\",\"\",IF('Product SARF'!D55=\"\",\"\",'Product SARF'!D55))","v":""},{"$f":"IF(C37=\"\",\"\",IF('Product SARF'!E55=\"\",\"\",'Product SARF'!E55))","v":""},{"$f":"IF(C37=\"\",\"\",IF('Product SARF'!$L$6=\"\",\"\",CONCATENATE('Product SARF'!$L$6,'Product SARF'!$M$6)))","v":""},{"$f":"IF(C37=\"\",\"\",IF('Product SARF'!$L$2=\"\",\"\",'Product SARF'!$L$2))","v":""},{"$f":"IF(C37=\"\",\"\",IF('Product SARF'!$L$4=\"\",NOW(),'Product SARF'!$L$4))","v":""},"",{"$f":"IF(C37=\"\",\"\", IF(AND(NOT(ISBLANK('Product SARF'!F55)),'Product SARF'!$E$8<>\"1) NA\",'Product SARF'!$E$8<>\"1) ...\"), \"   \"&CONCATENATE('Product SARF'!$F$18,'Product SARF'!$F$19),\"\") & IF(AND(NOT(ISBLANK('Product SARF'!G55)),'Product SARF'!$E$9<>\"2) NA\",'Product SARF'!$E$9<>\"2) ...\"), \"   \"&CONCATENATE('Product SARF'!$G$18,'Product SARF'!$G$19),\"\")& IF(AND(NOT(ISBLANK('Product SARF'!H55)),'Product SARF'!$E$10<>\"3) NA\",'Product SARF'!$E$10<>\"3) ...\"), \"   \"&CONCATENATE('Product SARF'!$H$18,'Product SARF'!$H$19),\"\") & IF(AND(NOT(ISBLANK('Product SARF'!I55)),'Product SARF'!$E$11<>\"4) NA\",'Product SARF'!$E$11<>\"4) ...\"), \"   \"&CONCATENATE('Product SARF'!$I$18,'Product SARF'!$I$19),\"\")& IF(AND(NOT(ISBLANK('Product SARF'!J55)),'Product SARF'!$E$12<>\"5) NA\",'Product SARF'!$E$12<>\"5) ...\"), \"   \"&CONCATENATE('Product SARF'!$J$18,'Product SARF'!$J$19),\"\")&IF(AND(NOT(ISBLANK('Product SARF'!K55)),'Product SARF'!$E$13<>\"6) NA\",'Product SARF'!$E$13<>\"6) ...\"), \"   \"&CONCATENATE('Product SARF'!$K$18,'Product SARF'!$K$19),\"\")&IF(AND(NOT(ISBLANK('Product SARF'!L55)),'Product SARF'!$E$14<>\"7) NA\",'Product SARF'!$E$14<>\"7) ...\"), \"   \"&CONCATENATE('Product SARF'!$L$18,'Product SARF'!$L$19),\"\") &IF(AND(NOT(ISBLANK('Product SARF'!M55)),'Product SARF'!$E$15<>\"8) NA\",'Product SARF'!$E$15<>\"8) ...\"), \"   \"&CONCATENATE('Product SARF'!$M$18,'Product SARF'!$M$19),\"\"))","v":""}]
[{"$f":"IF(C38=\"\",\"\",IF('Product SARF'!B56=\"\",\"\",'Product SARF'!B56))","v":""},{"$f":"IF('Product SARF'!C56=\"\",\"\",\"Sample\")","v":""},{"$f":"IF('Product SARF'!C56=\"\",\"\",'Product SARF'!C56)","v":""},{"$f":"IF(C38=\"\",\"\",IF('Product SARF'!D56=\"\",\"\",'Product SARF'!D56))","v":""},{"$f":"IF(C38=\"\",\"\",IF('Product SARF'!E56=\"\",\"\",'Product SARF'!E56))","v":""},{"$f":"IF(C38=\"\",\"\",IF('Product SARF'!$L$6=\"\",\"\",CONCATENATE('Product SARF'!$L$6,'Product SARF'!$M$6)))","v":""},{"$f":"IF(C38=\"\",\"\",IF('Product SARF'!$L$2=\"\",\"\",'Product SARF'!$L$2))","v":""},{"$f":"IF(C38=\"\",\"\",IF('Product SARF'!$L$4=\"\",NOW(),'Product SARF'!$L$4))","v":""},"",{"$f":"IF(C38=\"\",\"\", IF(AND(NOT(ISBLANK('Product SARF'!F56)),'Product SARF'!$E$8<>\"1) NA\",'Product SARF'!$E$8<>\"1) ...\"), \"   \"&CONCATENATE('Product SARF'!$F$18,'Product SARF'!$F$19),\"\") & IF(AND(NOT(ISBLANK('Product SARF'!G56)),'Product SARF'!$E$9<>\"2) NA\",'Product SARF'!$E$9<>\"2) ...\"), \"   \"&CONCATENATE('Product SARF'!$G$18,'Product SARF'!$G$19),\"\")& IF(AND(NOT(ISBLANK('Product SARF'!H56)),'Product SARF'!$E$10<>\"3) NA\",'Product SARF'!$E$10<>\"3) ...\"), \"   \"&CONCATENATE('Product SARF'!$H$18,'Product SARF'!$H$19),\"\") & IF(AND(NOT(ISBLANK('Product SARF'!I56)),'Product SARF'!$E$11<>\"4) NA\",'Product SARF'!$E$11<>\"4) ...\"), \"   \"&CONCATENATE('Product SARF'!$I$18,'Product SARF'!$I$19),\"\")& IF(AND(NOT(ISBLANK('Product SARF'!J56)),'Product SARF'!$E$12<>\"5) NA\",'Product SARF'!$E$12<>\"5) ...\"), \"   \"&CONCATENATE('Product SARF'!$J$18,'Product SARF'!$J$19),\"\")&IF(AND(NOT(ISBLANK('Product SARF'!K56)),'Product SARF'!$E$13<>\"6) NA\",'Product SARF'!$E$13<>\"6) ...\"), \"   \"&CONCATENATE('Product SARF'!$K$18,'Product SARF'!$K$19),\"\")&IF(AND(NOT(ISBLANK('Product SARF'!L56)),'Product SARF'!$E$14<>\"7) NA\",'Product SARF'!$E$14<>\"7) ...\"), \"   \"&CONCATENATE('Product SARF'!$L$18,'Product SARF'!$L$19),\"\") &IF(AND(NOT(ISBLANK('Product SARF'!M56)),'Product SARF'!$E$15<>\"8) NA\",'Product SARF'!$E$15<>\"8) ...\"), \"   \"&CONCATENATE('Product SARF'!$M$18,'Product SARF'!$M$19),\"\"))","v":""}]
[{"$f":"IF(C39=\"\",\"\",IF('Product SARF'!B57=\"\",\"\",'Product SARF'!B57))","v":""},{"$f":"IF('Product SARF'!C57=\"\",\"\",\"Sample\")","v":""},{"$f":"IF('Product SARF'!C57=\"\",\"\",'Product SARF'!C57)","v":""},{"$f":"IF(C39=\"\",\"\",IF('Product SARF'!D57=\"\",\"\",'Product SARF'!D57))","v":""},{"$f":"IF(C39=\"\",\"\",IF('Product SARF'!E57=\"\",\"\",'Product SARF'!E57))","v":""},{"$f":"IF(C39=\"\",\"\",IF('Product SARF'!$L$6=\"\",\"\",CONCATENATE('Product SARF'!$L$6,'Product SARF'!$M$6)))","v":""},{"$f":"IF(C39=\"\",\"\",IF('Product SARF'!$L$2=\"\",\"\",'Product SARF'!$L$2))","v":""},{"$f":"IF(C39=\"\",\"\",IF('Product SARF'!$L$4=\"\",NOW(),'Product SARF'!$L$4))","v":""},"",{"$f":"IF(C39=\"\",\"\", IF(AND(NOT(ISBLANK('Product SARF'!F57)),'Product SARF'!$E$8<>\"1) NA\",'Product SARF'!$E$8<>\"1) ...\"), \"   \"&CONCATENATE('Product SARF'!$F$18,'Product SARF'!$F$19),\"\") & IF(AND(NOT(ISBLANK('Product SARF'!G57)),'Product SARF'!$E$9<>\"2) NA\",'Product SARF'!$E$9<>\"2) ...\"), \"   \"&CONCATENATE('Product SARF'!$G$18,'Product SARF'!$G$19),\"\")& IF(AND(NOT(ISBLANK('Product SARF'!H57)),'Product SARF'!$E$10<>\"3) NA\",'Product SARF'!$E$10<>\"3) ...\"), \"   \"&CONCATENATE('Product SARF'!$H$18,'Product SARF'!$H$19),\"\") & IF(AND(NOT(ISBLANK('Product SARF'!I57)),'Product SARF'!$E$11<>\"4) NA\",'Product SARF'!$E$11<>\"4) ...\"), \"   \"&CONCATENATE('Product SARF'!$I$18,'Product SARF'!$I$19),\"\")& IF(AND(NOT(ISBLANK('Product SARF'!J57)),'Product SARF'!$E$12<>\"5) NA\",'Product SARF'!$E$12<>\"5) ...\"), \"   \"&CONCATENATE('Product SARF'!$J$18,'Product SARF'!$J$19),\"\")&IF(AND(NOT(ISBLANK('Product SARF'!K57)),'Product SARF'!$E$13<>\"6) NA\",'Product SARF'!$E$13<>\"6) ...\"), \"   \"&CONCATENATE('Product SARF'!$K$18,'Product SARF'!$K$19),\"\")&IF(AND(NOT(ISBLANK('Product SARF'!L57)),'Product SARF'!$E$14<>\"7) NA\",'Product SARF'!$E$14<>\"7) ...\"), \"   \"&CONCATENATE('Product SARF'!$L$18,'Product SARF'!$L$19),\"\") &IF(AND(NOT(ISBLANK('Product SARF'!M57)),'Product SARF'!$E$15<>\"8) NA\",'Product SARF'!$E$15<>\"8) ...\"), \"   \"&CONCATENATE('Product SARF'!$M$18,'Product SARF'!$M$19),\"\"))","v":""}]
[{"$f":"IF(C40=\"\",\"\",IF('Product SARF'!B58=\"\",\"\",'Product SARF'!B58))","v":""},{"$f":"IF('Product SARF'!C58=\"\",\"\",\"Sample\")","v":""},{"$f":"IF('Product SARF'!C58=\"\",\"\",'Product SARF'!C58)","v":""},{"$f":"IF(C40=\"\",\"\",IF('Product SARF'!D58=\"\",\"\",'Product SARF'!D58))","v":""},{"$f":"IF(C40=\"\",\"\",IF('Product SARF'!E58=\"\",\"\",'Product SARF'!E58))","v":""},{"$f":"IF(C40=\"\",\"\",IF('Product SARF'!$L$6=\"\",\"\",CONCATENATE('Product SARF'!$L$6,'Product SARF'!$M$6)))","v":""},{"$f":"IF(C40=\"\",\"\",IF('Product SARF'!$L$2=\"\",\"\",'Product SARF'!$L$2))","v":""},{"$f":"IF(C40=\"\",\"\",IF('Product SARF'!$L$4=\"\",NOW(),'Product SARF'!$L$4))","v":""},"",{"$f":"IF(C40=\"\",\"\", IF(AND(NOT(ISBLANK('Product SARF'!F58)),'Product SARF'!$E$8<>\"1) NA\",'Product SARF'!$E$8<>\"1) ...\"), \"   \"&CONCATENATE('Product SARF'!$F$18,'Product SARF'!$F$19),\"\") & IF(AND(NOT(ISBLANK('Product SARF'!G58)),'Product SARF'!$E$9<>\"2) NA\",'Product SARF'!$E$9<>\"2) ...\"), \"   \"&CONCATENATE('Product SARF'!$G$18,'Product SARF'!$G$19),\"\")& IF(AND(NOT(ISBLANK('Product SARF'!H58)),'Product SARF'!$E$10<>\"3) NA\",'Product SARF'!$E$10<>\"3) ...\"), \"   \"&CONCATENATE('Product SARF'!$H$18,'Product SARF'!$H$19),\"\") & IF(AND(NOT(ISBLANK('Product SARF'!I58)),'Product SARF'!$E$11<>\"4) NA\",'Product SARF'!$E$11<>\"4) ...\"), \"   \"&CONCATENATE('Product SARF'!$I$18,'Product SARF'!$I$19),\"\")& IF(AND(NOT(ISBLANK('Product SARF'!J58)),'Product SARF'!$E$12<>\"5) NA\",'Product SARF'!$E$12<>\"5) ...\"), \"   \"&CONCATENATE('Product SARF'!$J$18,'Product SARF'!$J$19),\"\")&IF(AND(NOT(ISBLANK('Product SARF'!K58)),'Product SARF'!$E$13<>\"6) NA\",'Product SARF'!$E$13<>\"6) ...\"), \"   \"&CONCATENATE('Product SARF'!$K$18,'Product SARF'!$K$19),\"\")&IF(AND(NOT(ISBLANK('Product SARF'!L58)),'Product SARF'!$E$14<>\"7) NA\",'Product SARF'!$E$14<>\"7) ...\"), \"   \"&CONCATENATE('Product SARF'!$L$18,'Product SARF'!$L$19),\"\") &IF(AND(NOT(ISBLANK('Product SARF'!M58)),'Product SARF'!$E$15<>\"8) NA\",'Product SARF'!$E$15<>\"8) ...\"), \"   \"&CONCATENATE('Product SARF'!$M$18,'Product SARF'!$M$19),\"\"))","v":""}]
[{"$f":"IF(C41=\"\",\"\",IF('Product SARF'!B59=\"\",\"\",'Product SARF'!B59))","v":""},{"$f":"IF('Product SARF'!C59=\"\",\"\",\"Sample\")","v":""},{"$f":"IF('Product SARF'!C59=\"\",\"\",'Product SARF'!C59)","v":""},{"$f":"IF(C41=\"\",\"\",IF('Product SARF'!D59=\"\",\"\",'Product SARF'!D59))","v":""},{"$f":"IF(C41=\"\",\"\",IF('Product SARF'!E59=\"\",\"\",'Product SARF'!E59))","v":""},{"$f":"IF(C41=\"\",\"\",IF('Product SARF'!$L$6=\"\",\"\",CONCATENATE('Product SARF'!$L$6,'Product SARF'!$M$6)))","v":""},{"$f":"IF(C41=\"\",\"\",IF('Product SARF'!$L$2=\"\",\"\",'Product SARF'!$L$2))","v":""},{"$f":"IF(C41=\"\",\"\",IF('Product SARF'!$L$4=\"\",NOW(),'Product SARF'!$L$4))","v":""},"",{"$f":"IF(C41=\"\",\"\", IF(AND(NOT(ISBLANK('Product SARF'!F59)),'Product SARF'!$E$8<>\"1) NA\",'Product SARF'!$E$8<>\"1) ...\"), \"   \"&CONCATENATE('Product SARF'!$F$18,'Product SARF'!$F$19),\"\") & IF(AND(NOT(ISBLANK('Product SARF'!G59)),'Product SARF'!$E$9<>\"2) NA\",'Product SARF'!$E$9<>\"2) ...\"), \"   \"&CONCATENATE('Product SARF'!$G$18,'Product SARF'!$G$19),\"\")& IF(AND(NOT(ISBLANK('Product SARF'!H59)),'Product SARF'!$E$10<>\"3) NA\",'Product SARF'!$E$10<>\"3) ...\"), \"   \"&CONCATENATE('Product SARF'!$H$18,'Product SARF'!$H$19),\"\") & IF(AND(NOT(ISBLANK('Product SARF'!I59)),'Product SARF'!$E$11<>\"4) NA\",'Product SARF'!$E$11<>\"4) ...\"), \"   \"&CONCATENATE('Product SARF'!$I$18,'Product SARF'!$I$19),\"\")& IF(AND(NOT(ISBLANK('Product SARF'!J59)),'Product SARF'!$E$12<>\"5) NA\",'Product SARF'!$E$12<>\"5) ...\"), \"   \"&CONCATENATE('Product SARF'!$J$18,'Product SARF'!$J$19),\"\")&IF(AND(NOT(ISBLANK('Product SARF'!K59)),'Product SARF'!$E$13<>\"6) NA\",'Product SARF'!$E$13<>\"6) ...\"), \"   \"&CONCATENATE('Product SARF'!$K$18,'Product SARF'!$K$19),\"\")&IF(AND(NOT(ISBLANK('Product SARF'!L59)),'Product SARF'!$E$14<>\"7) NA\",'Product SARF'!$E$14<>\"7) ...\"), \"   \"&CONCATENATE('Product SARF'!$L$18,'Product SARF'!$L$19),\"\") &IF(AND(NOT(ISBLANK('Product SARF'!M59)),'Product SARF'!$E$15<>\"8) NA\",'Product SARF'!$E$15<>\"8) ...\"), \"   \"&CONCATENATE('Product SARF'!$M$18,'Product SARF'!$M$19),\"\"))","v":""}]
[{"$f":"IF(C42=\"\",\"\",IF('Product SARF'!B60=\"\",\"\",'Product SARF'!B60))","v":""},{"$f":"IF('Product SARF'!C60=\"\",\"\",\"Sample\")","v":""},{"$f":"IF('Product SARF'!C60=\"\",\"\",'Product SARF'!C60)","v":""},{"$f":"IF(C42=\"\",\"\",IF('Product SARF'!D60=\"\",\"\",'Product SARF'!D60))","v":""},{"$f":"IF(C42=\"\",\"\",IF('Product SARF'!E60=\"\",\"\",'Product SARF'!E60))","v":""},{"$f":"IF(C42=\"\",\"\",IF('Product SARF'!$L$6=\"\",\"\",CONCATENATE('Product SARF'!$L$6,'Product SARF'!$M$6)))","v":""},{"$f":"IF(C42=\"\",\"\",IF('Product SARF'!$L$2=\"\",\"\",'Product SARF'!$L$2))","v":""},{"$f":"IF(C42=\"\",\"\",IF('Product SARF'!$L$4=\"\",NOW(),'Product SARF'!$L$4))","v":""},"",{"$f":"IF(C42=\"\",\"\", IF(AND(NOT(ISBLANK('Product SARF'!F60)),'Product SARF'!$E$8<>\"1) NA\",'Product SARF'!$E$8<>\"1) ...\"), \"   \"&CONCATENATE('Product SARF'!$F$18,'Product SARF'!$F$19),\"\") & IF(AND(NOT(ISBLANK('Product SARF'!G60)),'Product SARF'!$E$9<>\"2) NA\",'Product SARF'!$E$9<>\"2) ...\"), \"   \"&CONCATENATE('Product SARF'!$G$18,'Product SARF'!$G$19),\"\")& IF(AND(NOT(ISBLANK('Product SARF'!H60)),'Product SARF'!$E$10<>\"3) NA\",'Product SARF'!$E$10<>\"3) ...\"), \"   \"&CONCATENATE('Product SARF'!$H$18,'Product SARF'!$H$19),\"\") & IF(AND(NOT(ISBLANK('Product SARF'!I60)),'Product SARF'!$E$11<>\"4) NA\",'Product SARF'!$E$11<>\"4) ...\"), \"   \"&CONCATENATE('Product SARF'!$I$18,'Product SARF'!$I$19),\"\")& IF(AND(NOT(ISBLANK('Product SARF'!J60)),'Product SARF'!$E$12<>\"5) NA\",'Product SARF'!$E$12<>\"5) ...\"), \"   \"&CONCATENATE('Product SARF'!$J$18,'Product SARF'!$J$19),\"\")&IF(AND(NOT(ISBLANK('Product SARF'!K60)),'Product SARF'!$E$13<>\"6) NA\",'Product SARF'!$E$13<>\"6) ...\"), \"   \"&CONCATENATE('Product SARF'!$K$18,'Product SARF'!$K$19),\"\")&IF(AND(NOT(ISBLANK('Product SARF'!L60)),'Product SARF'!$E$14<>\"7) NA\",'Product SARF'!$E$14<>\"7) ...\"), \"   \"&CONCATENATE('Product SARF'!$L$18,'Product SARF'!$L$19),\"\") &IF(AND(NOT(ISBLANK('Product SARF'!M60)),'Product SARF'!$E$15<>\"8) NA\",'Product SARF'!$E$15<>\"8) ...\"), \"   \"&CONCATENATE('Product SARF'!$M$18,'Product SARF'!$M$19),\"\"))","v":""}]
[{"$f":"IF(C43=\"\",\"\",IF('Product SARF'!B61=\"\",\"\",'Product SARF'!B61))","v":""},{"$f":"IF('Product SARF'!C61=\"\",\"\",\"Sample\")","v":""},{"$f":"IF('Product SARF'!C61=\"\",\"\",'Product SARF'!C61)","v":""},{"$f":"IF(C43=\"\",\"\",IF('Product SARF'!D61=\"\",\"\",'Product SARF'!D61))","v":""},{"$f":"IF(C43=\"\",\"\",IF('Product SARF'!E61=\"\",\"\",'Product SARF'!E61))","v":""},{"$f":"IF(C43=\"\",\"\",IF('Product SARF'!$L$6=\"\",\"\",CONCATENATE('Product SARF'!$L$6,'Product SARF'!$M$6)))","v":""},{"$f":"IF(C43=\"\",\"\",IF('Product SARF'!$L$2=\"\",\"\",'Product SARF'!$L$2))","v":""},{"$f":"IF(C43=\"\",\"\",IF('Product SARF'!$L$4=\"\",NOW(),'Product SARF'!$L$4))","v":""},"",{"$f":"IF(C43=\"\",\"\", IF(AND(NOT(ISBLANK('Product SARF'!F61)),'Product SARF'!$E$8<>\"1) NA\",'Product SARF'!$E$8<>\"1) ...\"), \"   \"&CONCATENATE('Product SARF'!$F$18,'Product SARF'!$F$19),\"\") & IF(AND(NOT(ISBLANK('Product SARF'!G61)),'Product SARF'!$E$9<>\"2) NA\",'Product SARF'!$E$9<>\"2) ...\"), \"   \"&CONCATENATE('Product SARF'!$G$18,'Product SARF'!$G$19),\"\")& IF(AND(NOT(ISBLANK('Product SARF'!H61)),'Product SARF'!$E$10<>\"3) NA\",'Product SARF'!$E$10<>\"3) ...\"), \"   \"&CONCATENATE('Product SARF'!$H$18,'Product SARF'!$H$19),\"\") & IF(AND(NOT(ISBLANK('Product SARF'!I61)),'Product SARF'!$E$11<>\"4) NA\",'Product SARF'!$E$11<>\"4) ...\"), \"   \"&CONCATENATE('Product SARF'!$I$18,'Product SARF'!$I$19),\"\")& IF(AND(NOT(ISBLANK('Product SARF'!J61)),'Product SARF'!$E$12<>\"5) NA\",'Product SARF'!$E$12<>\"5) ...\"), \"   \"&CONCATENATE('Product SARF'!$J$18,'Product SARF'!$J$19),\"\")&IF(AND(NOT(ISBLANK('Product SARF'!K61)),'Product SARF'!$E$13<>\"6) NA\",'Product SARF'!$E$13<>\"6) ...\"), \"   \"&CONCATENATE('Product SARF'!$K$18,'Product SARF'!$K$19),\"\")&IF(AND(NOT(ISBLANK('Product SARF'!L61)),'Product SARF'!$E$14<>\"7) NA\",'Product SARF'!$E$14<>\"7) ...\"), \"   \"&CONCATENATE('Product SARF'!$L$18,'Product SARF'!$L$19),\"\") &IF(AND(NOT(ISBLANK('Product SARF'!M61)),'Product SARF'!$E$15<>\"8) NA\",'Product SARF'!$E$15<>\"8) ...\"), \"   \"&CONCATENATE('Product SARF'!$M$18,'Product SARF'!$M$19),\"\"))","v":""}]
[{"$f":"IF(C44=\"\",\"\",IF('Product SARF'!B62=\"\",\"\",'Product SARF'!B62))","v":""},{"$f":"IF('Product SARF'!C62=\"\",\"\",\"Sample\")","v":""},{"$f":"IF('Product SARF'!C62=\"\",\"\",'Product SARF'!C62)","v":""},{"$f":"IF(C44=\"\",\"\",IF('Product SARF'!D62=\"\",\"\",'Product SARF'!D62))","v":""},{"$f":"IF(C44=\"\",\"\",IF('Product SARF'!E62=\"\",\"\",'Product SARF'!E62))","v":""},{"$f":"IF(C44=\"\",\"\",IF('Product SARF'!$L$6=\"\",\"\",CONCATENATE('Product SARF'!$L$6,'Product SARF'!$M$6)))","v":""},{"$f":"IF(C44=\"\",\"\",IF('Product SARF'!$L$2=\"\",\"\",'Product SARF'!$L$2))","v":""},{"$f":"IF(C44=\"\",\"\",IF('Product SARF'!$L$4=\"\",NOW(),'Product SARF'!$L$4))","v":""},"",{"$f":"IF(C44=\"\",\"\", IF(AND(NOT(ISBLANK('Product SARF'!F62)),'Product SARF'!$E$8<>\"1) NA\",'Product SARF'!$E$8<>\"1) ...\"), \"   \"&CONCATENATE('Product SARF'!$F$18,'Product SARF'!$F$19),\"\") & IF(AND(NOT(ISBLANK('Product SARF'!G62)),'Product SARF'!$E$9<>\"2) NA\",'Product SARF'!$E$9<>\"2) ...\"), \"   \"&CONCATENATE('Product SARF'!$G$18,'Product SARF'!$G$19),\"\")& IF(AND(NOT(ISBLANK('Product SARF'!H62)),'Product SARF'!$E$10<>\"3) NA\",'Product SARF'!$E$10<>\"3) ...\"), \"   \"&CONCATENATE('Product SARF'!$H$18,'Product SARF'!$H$19),\"\") & IF(AND(NOT(ISBLANK('Product SARF'!I62)),'Product SARF'!$E$11<>\"4) NA\",'Product SARF'!$E$11<>\"4) ...\"), \"   \"&CONCATENATE('Product SARF'!$I$18,'Product SARF'!$I$19),\"\")& IF(AND(NOT(ISBLANK('Product SARF'!J62)),'Product SARF'!$E$12<>\"5) NA\",'Product SARF'!$E$12<>\"5) ...\"), \"   \"&CONCATENATE('Product SARF'!$J$18,'Product SARF'!$J$19),\"\")&IF(AND(NOT(ISBLANK('Product SARF'!K62)),'Product SARF'!$E$13<>\"6) NA\",'Product SARF'!$E$13<>\"6) ...\"), \"   \"&CONCATENATE('Product SARF'!$K$18,'Product SARF'!$K$19),\"\")&IF(AND(NOT(ISBLANK('Product SARF'!L62)),'Product SARF'!$E$14<>\"7) NA\",'Product SARF'!$E$14<>\"7) ...\"), \"   \"&CONCATENATE('Product SARF'!$L$18,'Product SARF'!$L$19),\"\") &IF(AND(NOT(ISBLANK('Product SARF'!M62)),'Product SARF'!$E$15<>\"8) NA\",'Product SARF'!$E$15<>\"8) ...\"), \"   \"&CONCATENATE('Product SARF'!$M$18,'Product SARF'!$M$19),\"\"))","v":""}]
[{"$f":"IF(C45=\"\",\"\",IF('Product SARF'!B63=\"\",\"\",'Product SARF'!B63))","v":""},{"$f":"IF('Product SARF'!C63=\"\",\"\",\"Sample\")","v":""},{"$f":"IF('Product SARF'!C63=\"\",\"\",'Product SARF'!C63)","v":""},{"$f":"IF(C45=\"\",\"\",IF('Product SARF'!D63=\"\",\"\",'Product SARF'!D63))","v":""},{"$f":"IF(C45=\"\",\"\",IF('Product SARF'!E63=\"\",\"\",'Product SARF'!E63))","v":""},{"$f":"IF(C45=\"\",\"\",IF('Product SARF'!$L$6=\"\",\"\",CONCATENATE('Product SARF'!$L$6,'Product SARF'!$M$6)))","v":""},{"$f":"IF(C45=\"\",\"\",IF('Product SARF'!$L$2=\"\",\"\",'Product SARF'!$L$2))","v":""},{"$f":"IF(C45=\"\",\"\",IF('Product SARF'!$L$4=\"\",NOW(),'Product SARF'!$L$4))","v":""},"",{"$f":"IF(C45=\"\",\"\", IF(AND(NOT(ISBLANK('Product SARF'!F63)),'Product SARF'!$E$8<>\"1) NA\",'Product SARF'!$E$8<>\"1) ...\"), \"   \"&CONCATENATE('Product SARF'!$F$18,'Product SARF'!$F$19),\"\") & IF(AND(NOT(ISBLANK('Product SARF'!G63)),'Product SARF'!$E$9<>\"2) NA\",'Product SARF'!$E$9<>\"2) ...\"), \"   \"&CONCATENATE('Product SARF'!$G$18,'Product SARF'!$G$19),\"\")& IF(AND(NOT(ISBLANK('Product SARF'!H63)),'Product SARF'!$E$10<>\"3) NA\",'Product SARF'!$E$10<>\"3) ...\"), \"   \"&CONCATENATE('Product SARF'!$H$18,'Product SARF'!$H$19),\"\") & IF(AND(NOT(ISBLANK('Product SARF'!I63)),'Product SARF'!$E$11<>\"4) NA\",'Product SARF'!$E$11<>\"4) ...\"), \"   \"&CONCATENATE('Product SARF'!$I$18,'Product SARF'!$I$19),\"\")& IF(AND(NOT(ISBLANK('Product SARF'!J63)),'Product SARF'!$E$12<>\"5) NA\",'Product SARF'!$E$12<>\"5) ...\"), \"   \"&CONCATENATE('Product SARF'!$J$18,'Product SARF'!$J$19),\"\")&IF(AND(NOT(ISBLANK('Product SARF'!K63)),'Product SARF'!$E$13<>\"6) NA\",'Product SARF'!$E$13<>\"6) ...\"), \"   \"&CONCATENATE('Product SARF'!$K$18,'Product SARF'!$K$19),\"\")&IF(AND(NOT(ISBLANK('Product SARF'!L63)),'Product SARF'!$E$14<>\"7) NA\",'Product SARF'!$E$14<>\"7) ...\"), \"   \"&CONCATENATE('Product SARF'!$L$18,'Product SARF'!$L$19),\"\") &IF(AND(NOT(ISBLANK('Product SARF'!M63)),'Product SARF'!$E$15<>\"8) NA\",'Product SARF'!$E$15<>\"8) ...\"), \"   \"&CONCATENATE('Product SARF'!$M$18,'Product SARF'!$M$19),\"\"))","v":""}]
[{"$f":"IF(C46=\"\",\"\",IF('Product SARF'!B64=\"\",\"\",'Product SARF'!B64))","v":""},{"$f":"IF('Product SARF'!C64=\"\",\"\",\"Sample\")","v":""},{"$f":"IF('Product SARF'!C64=\"\",\"\",'Product SARF'!C64)","v":""},{"$f":"IF(C46=\"\",\"\",IF('Product SARF'!D64=\"\",\"\",'Product SARF'!D64))","v":""},{"$f":"IF(C46=\"\",\"\",IF('Product SARF'!E64=\"\",\"\",'Product SARF'!E64))","v":""},{"$f":"IF(C46=\"\",\"\",IF('Product SARF'!$L$6=\"\",\"\",CONCATENATE('Product SARF'!$L$6,'Product SARF'!$M$6)))","v":""},{"$f":"IF(C46=\"\",\"\",IF('Product SARF'!$L$2=\"\",\"\",'Product SARF'!$L$2))","v":""},{"$f":"IF(C46=\"\",\"\",IF('Product SARF'!$L$4=\"\",NOW(),'Product SARF'!$L$4))","v":""},"",{"$f":"IF(C46=\"\",\"\", IF(AND(NOT(ISBLANK('Product SARF'!F64)),'Product SARF'!$E$8<>\"1) NA\",'Product SARF'!$E$8<>\"1) ...\"), \"   \"&CONCATENATE('Product SARF'!$F$18,'Product SARF'!$F$19),\"\") & IF(AND(NOT(ISBLANK('Product SARF'!G64)),'Product SARF'!$E$9<>\"2) NA\",'Product SARF'!$E$9<>\"2) ...\"), \"   \"&CONCATENATE('Product SARF'!$G$18,'Product SARF'!$G$19),\"\")& IF(AND(NOT(ISBLANK('Product SARF'!H64)),'Product SARF'!$E$10<>\"3) NA\",'Product SARF'!$E$10<>\"3) ...\"), \"   \"&CONCATENATE('Product SARF'!$H$18,'Product SARF'!$H$19),\"\") & IF(AND(NOT(ISBLANK('Product SARF'!I64)),'Product SARF'!$E$11<>\"4) NA\",'Product SARF'!$E$11<>\"4) ...\"), \"   \"&CONCATENATE('Product SARF'!$I$18,'Product SARF'!$I$19),\"\")& IF(AND(NOT(ISBLANK('Product SARF'!J64)),'Product SARF'!$E$12<>\"5) NA\",'Product SARF'!$E$12<>\"5) ...\"), \"   \"&CONCATENATE('Product SARF'!$J$18,'Product SARF'!$J$19),\"\")&IF(AND(NOT(ISBLANK('Product SARF'!K64)),'Product SARF'!$E$13<>\"6) NA\",'Product SARF'!$E$13<>\"6) ...\"), \"   \"&CONCATENATE('Product SARF'!$K$18,'Product SARF'!$K$19),\"\")&IF(AND(NOT(ISBLANK('Product SARF'!L64)),'Product SARF'!$E$14<>\"7) NA\",'Product SARF'!$E$14<>\"7) ...\"), \"   \"&CONCATENATE('Product SARF'!$L$18,'Product SARF'!$L$19),\"\") &IF(AND(NOT(ISBLANK('Product SARF'!M64)),'Product SARF'!$E$15<>\"8) NA\",'Product SARF'!$E$15<>\"8) ...\"), \"   \"&CONCATENATE('Product SARF'!$M$18,'Product SARF'!$M$19),\"\"))","v":""}]
[{"$f":"IF(C47=\"\",\"\",IF('Product SARF'!B65=\"\",\"\",'Product SARF'!B65))","v":""},{"$f":"IF('Product SARF'!C65=\"\",\"\",\"Sample\")","v":""},{"$f":"IF('Product SARF'!C65=\"\",\"\",'Product SARF'!C65)","v":""},{"$f":"IF(C47=\"\",\"\",IF('Product SARF'!D65=\"\",\"\",'Product SARF'!D65))","v":""},{"$f":"IF(C47=\"\",\"\",IF('Product SARF'!E65=\"\",\"\",'Product SARF'!E65))","v":""},{"$f":"IF(C47=\"\",\"\",IF('Product SARF'!$L$6=\"\",\"\",CONCATENATE('Product SARF'!$L$6,'Product SARF'!$M$6)))","v":""},{"$f":"IF(C47=\"\",\"\",IF('Product SARF'!$L$2=\"\",\"\",'Product SARF'!$L$2))","v":""},{"$f":"IF(C47=\"\",\"\",IF('Product SARF'!$L$4=\"\",NOW(),'Product SARF'!$L$4))","v":""},"",{"$f":"IF(C47=\"\",\"\", IF(AND(NOT(ISBLANK('Product SARF'!F65)),'Product SARF'!$E$8<>\"1) NA\",'Product SARF'!$E$8<>\"1) ...\"), \"   \"&CONCATENATE('Product SARF'!$F$18,'Product SARF'!$F$19),\"\") & IF(AND(NOT(ISBLANK('Product SARF'!G65)),'Product SARF'!$E$9<>\"2) NA\",'Product SARF'!$E$9<>\"2) ...\"), \"   \"&CONCATENATE('Product SARF'!$G$18,'Product SARF'!$G$19),\"\")& IF(AND(NOT(ISBLANK('Product SARF'!H65)),'Product SARF'!$E$10<>\"3) NA\",'Product SARF'!$E$10<>\"3) ...\"), \"   \"&CONCATENATE('Product SARF'!$H$18,'Product SARF'!$H$19),\"\") & IF(AND(NOT(ISBLANK('Product SARF'!I65)),'Product SARF'!$E$11<>\"4) NA\",'Product SARF'!$E$11<>\"4) ...\"), \"   \"&CONCATENATE('Product SARF'!$I$18,'Product SARF'!$I$19),\"\")& IF(AND(NOT(ISBLANK('Product SARF'!J65)),'Product SARF'!$E$12<>\"5) NA\",'Product SARF'!$E$12<>\"5) ...\"), \"   \"&CONCATENATE('Product SARF'!$J$18,'Product SARF'!$J$19),\"\")&IF(AND(NOT(ISBLANK('Product SARF'!K65)),'Product SARF'!$E$13<>\"6) NA\",'Product SARF'!$E$13<>\"6) ...\"), \"   \"&CONCATENATE('Product SARF'!$K$18,'Product SARF'!$K$19),\"\")&IF(AND(NOT(ISBLANK('Product SARF'!L65)),'Product SARF'!$E$14<>\"7) NA\",'Product SARF'!$E$14<>\"7) ...\"), \"   \"&CONCATENATE('Product SARF'!$L$18,'Product SARF'!$L$19),\"\") &IF(AND(NOT(ISBLANK('Product SARF'!M65)),'Product SARF'!$E$15<>\"8) NA\",'Product SARF'!$E$15<>\"8) ...\"), \"   \"&CONCATENATE('Product SARF'!$M$18,'Product SARF'!$M$19),\"\"))","v":""}]
[{"$f":"IF(C48=\"\",\"\",IF('Product SARF'!B66=\"\",\"\",'Product SARF'!B66))","v":""},{"$f":"IF('Product SARF'!C66=\"\",\"\",\"Sample\")","v":""},{"$f":"IF('Product SARF'!C66=\"\",\"\",'Product SARF'!C66)","v":""},{"$f":"IF(C48=\"\",\"\",IF('Product SARF'!D66=\"\",\"\",'Product SARF'!D66))","v":""},{"$f":"IF(C48=\"\",\"\",IF('Product SARF'!E66=\"\",\"\",'Product SARF'!E66))","v":""},{"$f":"IF(C48=\"\",\"\",IF('Product SARF'!$L$6=\"\",\"\",CONCATENATE('Product SARF'!$L$6,'Product SARF'!$M$6)))","v":""},{"$f":"IF(C48=\"\",\"\",IF('Product SARF'!$L$2=\"\",\"\",'Product SARF'!$L$2))","v":""},{"$f":"IF(C48=\"\",\"\",IF('Product SARF'!$L$4=\"\",NOW(),'Product SARF'!$L$4))","v":""},"",{"$f":"IF(C48=\"\",\"\", IF(AND(NOT(ISBLANK('Product SARF'!F66)),'Product SARF'!$E$8<>\"1) NA\",'Product SARF'!$E$8<>\"1) ...\"), \"   \"&CONCATENATE('Product SARF'!$F$18,'Product SARF'!$F$19),\"\") & IF(AND(NOT(ISBLANK('Product SARF'!G66)),'Product SARF'!$E$9<>\"2) NA\",'Product SARF'!$E$9<>\"2) ...\"), \"   \"&CONCATENATE('Product SARF'!$G$18,'Product SARF'!$G$19),\"\")& IF(AND(NOT(ISBLANK('Product SARF'!H66)),'Product SARF'!$E$10<>\"3) NA\",'Product SARF'!$E$10<>\"3) ...\"), \"   \"&CONCATENATE('Product SARF'!$H$18,'Product SARF'!$H$19),\"\") & IF(AND(NOT(ISBLANK('Product SARF'!I66)),'Product SARF'!$E$11<>\"4) NA\",'Product SARF'!$E$11<>\"4) ...\"), \"   \"&CONCATENATE('Product SARF'!$I$18,'Product SARF'!$I$19),\"\")& IF(AND(NOT(ISBLANK('Product SARF'!J66)),'Product SARF'!$E$12<>\"5) NA\",'Product SARF'!$E$12<>\"5) ...\"), \"   \"&CONCATENATE('Product SARF'!$J$18,'Product SARF'!$J$19),\"\")&IF(AND(NOT(ISBLANK('Product SARF'!K66)),'Product SARF'!$E$13<>\"6) NA\",'Product SARF'!$E$13<>\"6) ...\"), \"   \"&CONCATENATE('Product SARF'!$K$18,'Product SARF'!$K$19),\"\")&IF(AND(NOT(ISBLANK('Product SARF'!L66)),'Product SARF'!$E$14<>\"7) NA\",'Product SARF'!$E$14<>\"7) ...\"), \"   \"&CONCATENATE('Product SARF'!$L$18,'Product SARF'!$L$19),\"\") &IF(AND(NOT(ISBLANK('Product SARF'!M66)),'Product SARF'!$E$15<>\"8) NA\",'Product SARF'!$E$15<>\"8) ...\"), \"   \"&CONCATENATE('Product SARF'!$M$18,'Product SARF'!$M$19),\"\"))","v":""}]
[{"$f":"IF(C49=\"\",\"\",IF('Product SARF'!B67=\"\",\"\",'Product SARF'!B67))","v":""},{"$f":"IF('Product SARF'!C67=\"\",\"\",\"Sample\")","v":""},{"$f":"IF('Product SARF'!C67=\"\",\"\",'Product SARF'!C67)","v":""},{"$f":"IF(C49=\"\",\"\",IF('Product SARF'!D67=\"\",\"\",'Product SARF'!D67))","v":""},{"$f":"IF(C49=\"\",\"\",IF('Product SARF'!E67=\"\",\"\",'Product SARF'!E67))","v":""},{"$f":"IF(C49=\"\",\"\",IF('Product SARF'!$L$6=\"\",\"\",CONCATENATE('Product SARF'!$L$6,'Product SARF'!$M$6)))","v":""},{"$f":"IF(C49=\"\",\"\",IF('Product SARF'!$L$2=\"\",\"\",'Product SARF'!$L$2))","v":""},{"$f":"IF(C49=\"\",\"\",IF('Product SARF'!$L$4=\"\",NOW(),'Product SARF'!$L$4))","v":""},"",{"$f":"IF(C49=\"\",\"\", IF(AND(NOT(ISBLANK('Product SARF'!F67)),'Product SARF'!$E$8<>\"1) NA\",'Product SARF'!$E$8<>\"1) ...\"), \"   \"&CONCATENATE('Product SARF'!$F$18,'Product SARF'!$F$19),\"\") & IF(AND(NOT(ISBLANK('Product SARF'!G67)),'Product SARF'!$E$9<>\"2) NA\",'Product SARF'!$E$9<>\"2) ...\"), \"   \"&CONCATENATE('Product SARF'!$G$18,'Product SARF'!$G$19),\"\")& IF(AND(NOT(ISBLANK('Product SARF'!H67)),'Product SARF'!$E$10<>\"3) NA\",'Product SARF'!$E$10<>\"3) ...\"), \"   \"&CONCATENATE('Product SARF'!$H$18,'Product SARF'!$H$19),\"\") & IF(AND(NOT(ISBLANK('Product SARF'!I67)),'Product SARF'!$E$11<>\"4) NA\",'Product SARF'!$E$11<>\"4) ...\"), \"   \"&CONCATENATE('Product SARF'!$I$18,'Product SARF'!$I$19),\"\")& IF(AND(NOT(ISBLANK('Product SARF'!J67)),'Product SARF'!$E$12<>\"5) NA\",'Product SARF'!$E$12<>\"5) ...\"), \"   \"&CONCATENATE('Product SARF'!$J$18,'Product SARF'!$J$19),\"\")&IF(AND(NOT(ISBLANK('Product SARF'!K67)),'Product SARF'!$E$13<>\"6) NA\",'Product SARF'!$E$13<>\"6) ...\"), \"   \"&CONCATENATE('Product SARF'!$K$18,'Product SARF'!$K$19),\"\")&IF(AND(NOT(ISBLANK('Product SARF'!L67)),'Product SARF'!$E$14<>\"7) NA\",'Product SARF'!$E$14<>\"7) ...\"), \"   \"&CONCATENATE('Product SARF'!$L$18,'Product SARF'!$L$19),\"\") &IF(AND(NOT(ISBLANK('Product SARF'!M67)),'Product SARF'!$E$15<>\"8) NA\",'Product SARF'!$E$15<>\"8) ...\"), \"   \"&CONCATENATE('Product SARF'!$M$18,'Product SARF'!$M$19),\"\"))","v":""}]
[{"$f":"IF(C50=\"\",\"\",IF('Product SARF'!B68=\"\",\"\",'Product SARF'!B68))","v":""},{"$f":"IF('Product SARF'!C68=\"\",\"\",\"Sample\")","v":""},{"$f":"IF('Product SARF'!C68=\"\",\"\",'Product SARF'!C68)","v":""},{"$f":"IF(C50=\"\",\"\",IF('Product SARF'!D68=\"\",\"\",'Product SARF'!D68))","v":""},{"$f":"IF(C50=\"\",\"\",IF('Product SARF'!E68=\"\",\"\",'Product SARF'!E68))","v":""},{"$f":"IF(C50=\"\",\"\",IF('Product SARF'!$L$6=\"\",\"\",CONCATENATE('Product SARF'!$L$6,'Product SARF'!$M$6)))","v":""},{"$f":"IF(C50=\"\",\"\",IF('Product SARF'!$L$2=\"\",\"\",'Product SARF'!$L$2))","v":""},{"$f":"IF(C50=\"\",\"\",IF('Product SARF'!$L$4=\"\",NOW(),'Product SARF'!$L$4))","v":""},"",{"$f":"IF(C50=\"\",\"\", IF(AND(NOT(ISBLANK('Product SARF'!F68)),'Product SARF'!$E$8<>\"1) NA\",'Product SARF'!$E$8<>\"1) ...\"), \"   \"&CONCATENATE('Product SARF'!$F$18,'Product SARF'!$F$19),\"\") & IF(AND(NOT(ISBLANK('Product SARF'!G68)),'Product SARF'!$E$9<>\"2) NA\",'Product SARF'!$E$9<>\"2) ...\"), \"   \"&CONCATENATE('Product SARF'!$G$18,'Product SARF'!$G$19),\"\")& IF(AND(NOT(ISBLANK('Product SARF'!H68)),'Product SARF'!$E$10<>\"3) NA\",'Product SARF'!$E$10<>\"3) ...\"), \"   \"&CONCATENATE('Product SARF'!$H$18,'Product SARF'!$H$19),\"\") & IF(AND(NOT(ISBLANK('Product SARF'!I68)),'Product SARF'!$E$11<>\"4) NA\",'Product SARF'!$E$11<>\"4) ...\"), \"   \"&CONCATENATE('Product SARF'!$I$18,'Product SARF'!$I$19),\"\")& IF(AND(NOT(ISBLANK('Product SARF'!J68)),'Product SARF'!$E$12<>\"5) NA\",'Product SARF'!$E$12<>\"5) ...\"), \"   \"&CONCATENATE('Product SARF'!$J$18,'Product SARF'!$J$19),\"\")&IF(AND(NOT(ISBLANK('Product SARF'!K68)),'Product SARF'!$E$13<>\"6) NA\",'Product SARF'!$E$13<>\"6) ...\"), \"   \"&CONCATENATE('Product SARF'!$K$18,'Product SARF'!$K$19),\"\")&IF(AND(NOT(ISBLANK('Product SARF'!L68)),'Product SARF'!$E$14<>\"7) NA\",'Product SARF'!$E$14<>\"7) ...\"), \"   \"&CONCATENATE('Product SARF'!$L$18,'Product SARF'!$L$19),\"\") &IF(AND(NOT(ISBLANK('Product SARF'!M68)),'Product SARF'!$E$15<>\"8) NA\",'Product SARF'!$E$15<>\"8) ...\"), \"   \"&CONCATENATE('Product SARF'!$M$18,'Product SARF'!$M$19),\"\"))","v":""}]
[{"$f":"IF(C51=\"\",\"\",IF('Product SARF'!B69=\"\",\"\",'Product SARF'!B69))","v":""},{"$f":"IF('Product SARF'!C69=\"\",\"\",\"Sample\")","v":""},{"$f":"IF('Product SARF'!C69=\"\",\"\",'Product SARF'!C69)","v":""},{"$f":"IF(C51=\"\",\"\",IF('Product SARF'!D69=\"\",\"\",'Product SARF'!D69))","v":""},{"$f":"IF(C51=\"\",\"\",IF('Product SARF'!E69=\"\",\"\",'Product SARF'!E69))","v":""},{"$f":"IF(C51=\"\",\"\",IF('Product SARF'!$L$6=\"\",\"\",CONCATENATE('Product SARF'!$L$6,'Product SARF'!$M$6)))","v":""},{"$f":"IF(C51=\"\",\"\",IF('Product SARF'!$L$2=\"\",\"\",'Product SARF'!$L$2))","v":""},{"$f":"IF(C51=\"\",\"\",IF('Product SARF'!$L$4=\"\",NOW(),'Product SARF'!$L$4))","v":""},"",{"$f":"IF(C51=\"\",\"\", IF(AND(NOT(ISBLANK('Product SARF'!F69)),'Product SARF'!$E$8<>\"1) NA\",'Product SARF'!$E$8<>\"1) ...\"), \"   \"&CONCATENATE('Product SARF'!$F$18,'Product SARF'!$F$19),\"\") & IF(AND(NOT(ISBLANK('Product SARF'!G69)),'Product SARF'!$E$9<>\"2) NA\",'Product SARF'!$E$9<>\"2) ...\"), \"   \"&CONCATENATE('Product SARF'!$G$18,'Product SARF'!$G$19),\"\")& IF(AND(NOT(ISBLANK('Product SARF'!H69)),'Product SARF'!$E$10<>\"3) NA\",'Product SARF'!$E$10<>\"3) ...\"), \"   \"&CONCATENATE('Product SARF'!$H$18,'Product SARF'!$H$19),\"\") & IF(AND(NOT(ISBLANK('Product SARF'!I69)),'Product SARF'!$E$11<>\"4) NA\",'Product SARF'!$E$11<>\"4) ...\"), \"   \"&CONCATENATE('Product SARF'!$I$18,'Product SARF'!$I$19),\"\")& IF(AND(NOT(ISBLANK('Product SARF'!J69)),'Product SARF'!$E$12<>\"5) NA\",'Product SARF'!$E$12<>\"5) ...\"), \"   \"&CONCATENATE('Product SARF'!$J$18,'Product SARF'!$J$19),\"\")&IF(AND(NOT(ISBLANK('Product SARF'!K69)),'Product SARF'!$E$13<>\"6) NA\",'Product SARF'!$E$13<>\"6) ...\"), \"   \"&CONCATENATE('Product SARF'!$K$18,'Product SARF'!$K$19),\"\")&IF(AND(NOT(ISBLANK('Product SARF'!L69)),'Product SARF'!$E$14<>\"7) NA\",'Product SARF'!$E$14<>\"7) ...\"), \"   \"&CONCATENATE('Product SARF'!$L$18,'Product SARF'!$L$19),\"\") &IF(AND(NOT(ISBLANK('Product SARF'!M69)),'Product SARF'!$E$15<>\"8) NA\",'Product SARF'!$E$15<>\"8) ...\"), \"   \"&CONCATENATE('Product SARF'!$M$18,'Product SARF'!$M$19),\"\"))","v":""}]
[{"$f":"IF(C52=\"\",\"\",IF('Product SARF'!B70=\"\",\"\",'Product SARF'!B70))","v":""},{"$f":"IF('Product SARF'!C70=\"\",\"\",\"Sample\")","v":""},{"$f":"IF('Product SARF'!C70=\"\",\"\",'Product SARF'!C70)","v":""},{"$f":"IF(C52=\"\",\"\",IF('Product SARF'!D70=\"\",\"\",'Product SARF'!D70))","v":""},{"$f":"IF(C52=\"\",\"\",IF('Product SARF'!E70=\"\",\"\",'Product SARF'!E70))","v":""},{"$f":"IF(C52=\"\",\"\",IF('Product SARF'!$L$6=\"\",\"\",CONCATENATE('Product SARF'!$L$6,'Product SARF'!$M$6)))","v":""},{"$f":"IF(C52=\"\",\"\",IF('Product SARF'!$L$2=\"\",\"\",'Product SARF'!$L$2))","v":""},{"$f":"IF(C52=\"\",\"\",IF('Product SARF'!$L$4=\"\",NOW(),'Product SARF'!$L$4))","v":""},"",{"$f":"IF(C52=\"\",\"\", IF(AND(NOT(ISBLANK('Product SARF'!F70)),'Product SARF'!$E$8<>\"1) NA\",'Product SARF'!$E$8<>\"1) ...\"), \"   \"&CONCATENATE('Product SARF'!$F$18,'Product SARF'!$F$19),\"\") & IF(AND(NOT(ISBLANK('Product SARF'!G70)),'Product SARF'!$E$9<>\"2) NA\",'Product SARF'!$E$9<>\"2) ...\"), \"   \"&CONCATENATE('Product SARF'!$G$18,'Product SARF'!$G$19),\"\")& IF(AND(NOT(ISBLANK('Product SARF'!H70)),'Product SARF'!$E$10<>\"3) NA\",'Product SARF'!$E$10<>\"3) ...\"), \"   \"&CONCATENATE('Product SARF'!$H$18,'Product SARF'!$H$19),\"\") & IF(AND(NOT(ISBLANK('Product SARF'!I70)),'Product SARF'!$E$11<>\"4) NA\",'Product SARF'!$E$11<>\"4) ...\"), \"   \"&CONCATENATE('Product SARF'!$I$18,'Product SARF'!$I$19),\"\")& IF(AND(NOT(ISBLANK('Product SARF'!J70)),'Product SARF'!$E$12<>\"5) NA\",'Product SARF'!$E$12<>\"5) ...\"), \"   \"&CONCATENATE('Product SARF'!$J$18,'Product SARF'!$J$19),\"\")&IF(AND(NOT(ISBLANK('Product SARF'!K70)),'Product SARF'!$E$13<>\"6) NA\",'Product SARF'!$E$13<>\"6) ...\"), \"   \"&CONCATENATE('Product SARF'!$K$18,'Product SARF'!$K$19),\"\")&IF(AND(NOT(ISBLANK('Product SARF'!L70)),'Product SARF'!$E$14<>\"7) NA\",'Product SARF'!$E$14<>\"7) ...\"), \"   \"&CONCATENATE('Product SARF'!$L$18,'Product SARF'!$L$19),\"\") &IF(AND(NOT(ISBLANK('Product SARF'!M70)),'Product SARF'!$E$15<>\"8) NA\",'Product SARF'!$E$15<>\"8) ...\"), \"   \"&CONCATENATE('Product SARF'!$M$18,'Product SARF'!$M$19),\"\"))","v":""}]
[{"$f":"IF(C53=\"\",\"\",IF('Product SARF'!B71=\"\",\"\",'Product SARF'!B71))","v":""},{"$f":"IF('Product SARF'!C71=\"\",\"\",\"Sample\")","v":""},{"$f":"IF('Product SARF'!C71=\"\",\"\",'Product SARF'!C71)","v":""},{"$f":"IF(C53=\"\",\"\",IF('Product SARF'!D71=\"\",\"\",'Product SARF'!D71))","v":""},{"$f":"IF(C53=\"\",\"\",IF('Product SARF'!E71=\"\",\"\",'Product SARF'!E71))","v":""},{"$f":"IF(C53=\"\",\"\",IF('Product SARF'!$L$6=\"\",\"\",CONCATENATE('Product SARF'!$L$6,'Product SARF'!$M$6)))","v":""},{"$f":"IF(C53=\"\",\"\",IF('Product SARF'!$L$2=\"\",\"\",'Product SARF'!$L$2))","v":""},{"$f":"IF(C53=\"\",\"\",IF('Product SARF'!$L$4=\"\",NOW(),'Product SARF'!$L$4))","v":""},"",{"$f":"IF(C53=\"\",\"\", IF(AND(NOT(ISBLANK('Product SARF'!F71)),'Product SARF'!$E$8<>\"1) NA\",'Product SARF'!$E$8<>\"1) ...\"), \"   \"&CONCATENATE('Product SARF'!$F$18,'Product SARF'!$F$19),\"\") & IF(AND(NOT(ISBLANK('Product SARF'!G71)),'Product SARF'!$E$9<>\"2) NA\",'Product SARF'!$E$9<>\"2) ...\"), \"   \"&CONCATENATE('Product SARF'!$G$18,'Product SARF'!$G$19),\"\")& IF(AND(NOT(ISBLANK('Product SARF'!H71)),'Product SARF'!$E$10<>\"3) NA\",'Product SARF'!$E$10<>\"3) ...\"), \"   \"&CONCATENATE('Product SARF'!$H$18,'Product SARF'!$H$19),\"\") & IF(AND(NOT(ISBLANK('Product SARF'!I71)),'Product SARF'!$E$11<>\"4) NA\",'Product SARF'!$E$11<>\"4) ...\"), \"   \"&CONCATENATE('Product SARF'!$I$18,'Product SARF'!$I$19),\"\")& IF(AND(NOT(ISBLANK('Product SARF'!J71)),'Product SARF'!$E$12<>\"5) NA\",'Product SARF'!$E$12<>\"5) ...\"), \"   \"&CONCATENATE('Product SARF'!$J$18,'Product SARF'!$J$19),\"\")&IF(AND(NOT(ISBLANK('Product SARF'!K71)),'Product SARF'!$E$13<>\"6) NA\",'Product SARF'!$E$13<>\"6) ...\"), \"   \"&CONCATENATE('Product SARF'!$K$18,'Product SARF'!$K$19),\"\")&IF(AND(NOT(ISBLANK('Product SARF'!L71)),'Product SARF'!$E$14<>\"7) NA\",'Product SARF'!$E$14<>\"7) ...\"), \"   \"&CONCATENATE('Product SARF'!$L$18,'Product SARF'!$L$19),\"\") &IF(AND(NOT(ISBLANK('Product SARF'!M71)),'Product SARF'!$E$15<>\"8) NA\",'Product SARF'!$E$15<>\"8) ...\"), \"   \"&CONCATENATE('Product SARF'!$M$18,'Product SARF'!$M$19),\"\"))","v":""}]
[{"$f":"IF(C54=\"\",\"\",IF('Product SARF'!B72=\"\",\"\",'Product SARF'!B72))","v":""},{"$f":"IF('Product SARF'!C72=\"\",\"\",\"Sample\")","v":""},{"$f":"IF('Product SARF'!C72=\"\",\"\",'Product SARF'!C72)","v":""},{"$f":"IF(C54=\"\",\"\",IF('Product SARF'!D72=\"\",\"\",'Product SARF'!D72))","v":""},{"$f":"IF(C54=\"\",\"\",IF('Product SARF'!E72=\"\",\"\",'Product SARF'!E72))","v":""},{"$f":"IF(C54=\"\",\"\",IF('Product SARF'!$L$6=\"\",\"\",CONCATENATE('Product SARF'!$L$6,'Product SARF'!$M$6)))","v":""},{"$f":"IF(C54=\"\",\"\",IF('Product SARF'!$L$2=\"\",\"\",'Product SARF'!$L$2))","v":""},{"$f":"IF(C54=\"\",\"\",IF('Product SARF'!$L$4=\"\",NOW(),'Product SARF'!$L$4))","v":""},"",{"$f":"IF(C54=\"\",\"\", IF(AND(NOT(ISBLANK('Product SARF'!F72)),'Product SARF'!$E$8<>\"1) NA\",'Product SARF'!$E$8<>\"1) ...\"), \"   \"&CONCATENATE('Product SARF'!$F$18,'Product SARF'!$F$19),\"\") & IF(AND(NOT(ISBLANK('Product SARF'!G72)),'Product SARF'!$E$9<>\"2) NA\",'Product SARF'!$E$9<>\"2) ...\"), \"   \"&CONCATENATE('Product SARF'!$G$18,'Product SARF'!$G$19),\"\")& IF(AND(NOT(ISBLANK('Product SARF'!H72)),'Product SARF'!$E$10<>\"3) NA\",'Product SARF'!$E$10<>\"3) ...\"), \"   \"&CONCATENATE('Product SARF'!$H$18,'Product SARF'!$H$19),\"\") & IF(AND(NOT(ISBLANK('Product SARF'!I72)),'Product SARF'!$E$11<>\"4) NA\",'Product SARF'!$E$11<>\"4) ...\"), \"   \"&CONCATENATE('Product SARF'!$I$18,'Product SARF'!$I$19),\"\")& IF(AND(NOT(ISBLANK('Product SARF'!J72)),'Product SARF'!$E$12<>\"5) NA\",'Product SARF'!$E$12<>\"5) ...\"), \"   \"&CONCATENATE('Product SARF'!$J$18,'Product SARF'!$J$19),\"\")&IF(AND(NOT(ISBLANK('Product SARF'!K72)),'Product SARF'!$E$13<>\"6) NA\",'Product SARF'!$E$13<>\"6) ...\"), \"   \"&CONCATENATE('Product SARF'!$K$18,'Product SARF'!$K$19),\"\")&IF(AND(NOT(ISBLANK('Product SARF'!L72)),'Product SARF'!$E$14<>\"7) NA\",'Product SARF'!$E$14<>\"7) ...\"), \"   \"&CONCATENATE('Product SARF'!$L$18,'Product SARF'!$L$19),\"\") &IF(AND(NOT(ISBLANK('Product SARF'!M72)),'Product SARF'!$E$15<>\"8) NA\",'Product SARF'!$E$15<>\"8) ...\"), \"   \"&CONCATENATE('Product SARF'!$M$18,'Product SARF'!$M$19),\"\"))","v":""}]
[{"$f":"IF(C55=\"\",\"\",IF('Product SARF'!B73=\"\",\"\",'Product SARF'!B73))","v":""},{"$f":"IF('Product SARF'!C73=\"\",\"\",\"Sample\")","v":""},{"$f":"IF('Product SARF'!C73=\"\",\"\",'Product SARF'!C73)","v":""},{"$f":"IF(C55=\"\",\"\",IF('Product SARF'!D73=\"\",\"\",'Product SARF'!D73))","v":""},{"$f":"IF(C55=\"\",\"\",IF('Product SARF'!E73=\"\",\"\",'Product SARF'!E73))","v":""},{"$f":"IF(C55=\"\",\"\",IF('Product SARF'!$L$6=\"\",\"\",CONCATENATE('Product SARF'!$L$6,'Product SARF'!$M$6)))","v":""},{"$f":"IF(C55=\"\",\"\",IF('Product SARF'!$L$2=\"\",\"\",'Product SARF'!$L$2))","v":""},{"$f":"IF(C55=\"\",\"\",IF('Product SARF'!$L$4=\"\",NOW(),'Product SARF'!$L$4))","v":""},"",{"$f":"IF(C55=\"\",\"\", IF(AND(NOT(ISBLANK('Product SARF'!F73)),'Product SARF'!$E$8<>\"1) NA\",'Product SARF'!$E$8<>\"1) ...\"), \"   \"&CONCATENATE('Product SARF'!$F$18,'Product SARF'!$F$19),\"\") & IF(AND(NOT(ISBLANK('Product SARF'!G73)),'Product SARF'!$E$9<>\"2) NA\",'Product SARF'!$E$9<>\"2) ...\"), \"   \"&CONCATENATE('Product SARF'!$G$18,'Product SARF'!$G$19),\"\")& IF(AND(NOT(ISBLANK('Product SARF'!H73)),'Product SARF'!$E$10<>\"3) NA\",'Product SARF'!$E$10<>\"3) ...\"), \"   \"&CONCATENATE('Product SARF'!$H$18,'Product SARF'!$H$19),\"\") & IF(AND(NOT(ISBLANK('Product SARF'!I73)),'Product SARF'!$E$11<>\"4) NA\",'Product SARF'!$E$11<>\"4) ...\"), \"   \"&CONCATENATE('Product SARF'!$I$18,'Product SARF'!$I$19),\"\")& IF(AND(NOT(ISBLANK('Product SARF'!J73)),'Product SARF'!$E$12<>\"5) NA\",'Product SARF'!$E$12<>\"5) ...\"), \"   \"&CONCATENATE('Product SARF'!$J$18,'Product SARF'!$J$19),\"\")&IF(AND(NOT(ISBLANK('Product SARF'!K73)),'Product SARF'!$E$13<>\"6) NA\",'Product SARF'!$E$13<>\"6) ...\"), \"   \"&CONCATENATE('Product SARF'!$K$18,'Product SARF'!$K$19),\"\")&IF(AND(NOT(ISBLANK('Product SARF'!L73)),'Product SARF'!$E$14<>\"7) NA\",'Product SARF'!$E$14<>\"7) ...\"), \"   \"&CONCATENATE('Product SARF'!$L$18,'Product SARF'!$L$19),\"\") &IF(AND(NOT(ISBLANK('Product SARF'!M73)),'Product SARF'!$E$15<>\"8) NA\",'Product SARF'!$E$15<>\"8) ...\"), \"   \"&CONCATENATE('Product SARF'!$M$18,'Product SARF'!$M$19),\"\"))","v":""}]
[{"$f":"IF(C56=\"\",\"\",IF('Product SARF'!B74=\"\",\"\",'Product SARF'!B74))","v":""},{"$f":"IF('Product SARF'!C74=\"\",\"\",\"Sample\")","v":""},{"$f":"IF('Product SARF'!C74=\"\",\"\",'Product SARF'!C74)","v":""},{"$f":"IF(C56=\"\",\"\",IF('Product SARF'!D74=\"\",\"\",'Product SARF'!D74))","v":""},{"$f":"IF(C56=\"\",\"\",IF('Product SARF'!E74=\"\",\"\",'Product SARF'!E74))","v":""},{"$f":"IF(C56=\"\",\"\",IF('Product SARF'!$L$6=\"\",\"\",CONCATENATE('Product SARF'!$L$6,'Product SARF'!$M$6)))","v":""},{"$f":"IF(C56=\"\",\"\",IF('Product SARF'!$L$2=\"\",\"\",'Product SARF'!$L$2))","v":""},{"$f":"IF(C56=\"\",\"\",IF('Product SARF'!$L$4=\"\",NOW(),'Product SARF'!$L$4))","v":""},"",{"$f":"IF(C56=\"\",\"\", IF(AND(NOT(ISBLANK('Product SARF'!F74)),'Product SARF'!$E$8<>\"1) NA\",'Product SARF'!$E$8<>\"1) ...\"), \"   \"&CONCATENATE('Product SARF'!$F$18,'Product SARF'!$F$19),\"\") & IF(AND(NOT(ISBLANK('Product SARF'!G74)),'Product SARF'!$E$9<>\"2) NA\",'Product SARF'!$E$9<>\"2) ...\"), \"   \"&CONCATENATE('Product SARF'!$G$18,'Product SARF'!$G$19),\"\")& IF(AND(NOT(ISBLANK('Product SARF'!H74)),'Product SARF'!$E$10<>\"3) NA\",'Product SARF'!$E$10<>\"3) ...\"), \"   \"&CONCATENATE('Product SARF'!$H$18,'Product SARF'!$H$19),\"\") & IF(AND(NOT(ISBLANK('Product SARF'!I74)),'Product SARF'!$E$11<>\"4) NA\",'Product SARF'!$E$11<>\"4) ...\"), \"   \"&CONCATENATE('Product SARF'!$I$18,'Product SARF'!$I$19),\"\")& IF(AND(NOT(ISBLANK('Product SARF'!J74)),'Product SARF'!$E$12<>\"5) NA\",'Product SARF'!$E$12<>\"5) ...\"), \"   \"&CONCATENATE('Product SARF'!$J$18,'Product SARF'!$J$19),\"\")&IF(AND(NOT(ISBLANK('Product SARF'!K74)),'Product SARF'!$E$13<>\"6) NA\",'Product SARF'!$E$13<>\"6) ...\"), \"   \"&CONCATENATE('Product SARF'!$K$18,'Product SARF'!$K$19),\"\")&IF(AND(NOT(ISBLANK('Product SARF'!L74)),'Product SARF'!$E$14<>\"7) NA\",'Product SARF'!$E$14<>\"7) ...\"), \"   \"&CONCATENATE('Product SARF'!$L$18,'Product SARF'!$L$19),\"\") &IF(AND(NOT(ISBLANK('Product SARF'!M74)),'Product SARF'!$E$15<>\"8) NA\",'Product SARF'!$E$15<>\"8) ...\"), \"   \"&CONCATENATE('Product SARF'!$M$18,'Product SARF'!$M$19),\"\"))","v":""}]
[{"$f":"IF(C57=\"\",\"\",IF('Product SARF'!B75=\"\",\"\",'Product SARF'!B75))","v":""},{"$f":"IF('Product SARF'!C75=\"\",\"\",\"Sample\")","v":""},{"$f":"IF('Product SARF'!C75=\"\",\"\",'Product SARF'!C75)","v":""},{"$f":"IF(C57=\"\",\"\",IF('Product SARF'!D75=\"\",\"\",'Product SARF'!D75))","v":""},{"$f":"IF(C57=\"\",\"\",IF('Product SARF'!E75=\"\",\"\",'Product SARF'!E75))","v":""},{"$f":"IF(C57=\"\",\"\",IF('Product SARF'!$L$6=\"\",\"\",CONCATENATE('Product SARF'!$L$6,'Product SARF'!$M$6)))","v":""},{"$f":"IF(C57=\"\",\"\",IF('Product SARF'!$L$2=\"\",\"\",'Product SARF'!$L$2))","v":""},{"$f":"IF(C57=\"\",\"\",IF('Product SARF'!$L$4=\"\",NOW(),'Product SARF'!$L$4))","v":""},"",{"$f":"IF(C57=\"\",\"\", IF(AND(NOT(ISBLANK('Product SARF'!F75)),'Product SARF'!$E$8<>\"1) NA\",'Product SARF'!$E$8<>\"1) ...\"), \"   \"&CONCATENATE('Product SARF'!$F$18,'Product SARF'!$F$19),\"\") & IF(AND(NOT(ISBLANK('Product SARF'!G75)),'Product SARF'!$E$9<>\"2) NA\",'Product SARF'!$E$9<>\"2) ...\"), \"   \"&CONCATENATE('Product SARF'!$G$18,'Product SARF'!$G$19),\"\")& IF(AND(NOT(ISBLANK('Product SARF'!H75)),'Product SARF'!$E$10<>\"3) NA\",'Product SARF'!$E$10<>\"3) ...\"), \"   \"&CONCATENATE('Product SARF'!$H$18,'Product SARF'!$H$19),\"\") & IF(AND(NOT(ISBLANK('Product SARF'!I75)),'Product SARF'!$E$11<>\"4) NA\",'Product SARF'!$E$11<>\"4) ...\"), \"   \"&CONCATENATE('Product SARF'!$I$18,'Product SARF'!$I$19),\"\")& IF(AND(NOT(ISBLANK('Product SARF'!J75)),'Product SARF'!$E$12<>\"5) NA\",'Product SARF'!$E$12<>\"5) ...\"), \"   \"&CONCATENATE('Product SARF'!$J$18,'Product SARF'!$J$19),\"\")&IF(AND(NOT(ISBLANK('Product SARF'!K75)),'Product SARF'!$E$13<>\"6) NA\",'Product SARF'!$E$13<>\"6) ...\"), \"   \"&CONCATENATE('Product SARF'!$K$18,'Product SARF'!$K$19),\"\")&IF(AND(NOT(ISBLANK('Product SARF'!L75)),'Product SARF'!$E$14<>\"7) NA\",'Product SARF'!$E$14<>\"7) ...\"), \"   \"&CONCATENATE('Product SARF'!$L$18,'Product SARF'!$L$19),\"\") &IF(AND(NOT(ISBLANK('Product SARF'!M75)),'Product SARF'!$E$15<>\"8) NA\",'Product SARF'!$E$15<>\"8) ...\"), \"   \"&CONCATENATE('Product SARF'!$M$18,'Product SARF'!$M$19),\"\"))","v":""}]
[{"$f":"IF(C58=\"\",\"\",IF('Product SARF'!B76=\"\",\"\",'Product SARF'!B76))","v":""},{"$f":"IF('Product SARF'!C76=\"\",\"\",\"Sample\")","v":""},{"$f":"IF('Product SARF'!C76=\"\",\"\",'Product SARF'!C76)","v":""},{"$f":"IF(C58=\"\",\"\",IF('Product SARF'!D76=\"\",\"\",'Product SARF'!D76))","v":""},{"$f":"IF(C58=\"\",\"\",IF('Product SARF'!E76=\"\",\"\",'Product SARF'!E76))","v":""},{"$f":"IF(C58=\"\",\"\",IF('Product SARF'!$L$6=\"\",\"\",CONCATENATE('Product SARF'!$L$6,'Product SARF'!$M$6)))","v":""},{"$f":"IF(C58=\"\",\"\",IF('Product SARF'!$L$2=\"\",\"\",'Product SARF'!$L$2))","v":""},{"$f":"IF(C58=\"\",\"\",IF('Product SARF'!$L$4=\"\",NOW(),'Product SARF'!$L$4))","v":""},"",{"$f":"IF(C58=\"\",\"\", IF(AND(NOT(ISBLANK('Product SARF'!F76)),'Product SARF'!$E$8<>\"1) NA\",'Product SARF'!$E$8<>\"1) ...\"), \"   \"&CONCATENATE('Product SARF'!$F$18,'Product SARF'!$F$19),\"\") & IF(AND(NOT(ISBLANK('Product SARF'!G76)),'Product SARF'!$E$9<>\"2) NA\",'Product SARF'!$E$9<>\"2) ...\"), \"   \"&CONCATENATE('Product SARF'!$G$18,'Product SARF'!$G$19),\"\")& IF(AND(NOT(ISBLANK('Product SARF'!H76)),'Product SARF'!$E$10<>\"3) NA\",'Product SARF'!$E$10<>\"3) ...\"), \"   \"&CONCATENATE('Product SARF'!$H$18,'Product SARF'!$H$19),\"\") & IF(AND(NOT(ISBLANK('Product SARF'!I76)),'Product SARF'!$E$11<>\"4) NA\",'Product SARF'!$E$11<>\"4) ...\"), \"   \"&CONCATENATE('Product SARF'!$I$18,'Product SARF'!$I$19),\"\")& IF(AND(NOT(ISBLANK('Product SARF'!J76)),'Product SARF'!$E$12<>\"5) NA\",'Product SARF'!$E$12<>\"5) ...\"), \"   \"&CONCATENATE('Product SARF'!$J$18,'Product SARF'!$J$19),\"\")&IF(AND(NOT(ISBLANK('Product SARF'!K76)),'Product SARF'!$E$13<>\"6) NA\",'Product SARF'!$E$13<>\"6) ...\"), \"   \"&CONCATENATE('Product SARF'!$K$18,'Product SARF'!$K$19),\"\")&IF(AND(NOT(ISBLANK('Product SARF'!L76)),'Product SARF'!$E$14<>\"7) NA\",'Product SARF'!$E$14<>\"7) ...\"), \"   \"&CONCATENATE('Product SARF'!$L$18,'Product SARF'!$L$19),\"\") &IF(AND(NOT(ISBLANK('Product SARF'!M76)),'Product SARF'!$E$15<>\"8) NA\",'Product SARF'!$E$15<>\"8) ...\"), \"   \"&CONCATENATE('Product SARF'!$M$18,'Product SARF'!$M$19),\"\"))","v":""}]
[{"$f":"IF(C59=\"\",\"\",IF('Product SARF'!B77=\"\",\"\",'Product SARF'!B77))","v":""},{"$f":"IF('Product SARF'!C77=\"\",\"\",\"Sample\")","v":""},{"$f":"IF('Product SARF'!C77=\"\",\"\",'Product SARF'!C77)","v":""},{"$f":"IF(C59=\"\",\"\",IF('Product SARF'!D77=\"\",\"\",'Product SARF'!D77))","v":""},{"$f":"IF(C59=\"\",\"\",IF('Product SARF'!E77=\"\",\"\",'Product SARF'!E77))","v":""},{"$f":"IF(C59=\"\",\"\",IF('Product SARF'!$L$6=\"\",\"\",CONCATENATE('Product SARF'!$L$6,'Product SARF'!$M$6)))","v":""},{"$f":"IF(C59=\"\",\"\",IF('Product SARF'!$L$2=\"\",\"\",'Product SARF'!$L$2))","v":""},{"$f":"IF(C59=\"\",\"\",IF('Product SARF'!$L$4=\"\",NOW(),'Product SARF'!$L$4))","v":""},"",{"$f":"IF(C59=\"\",\"\", IF(AND(NOT(ISBLANK('Product SARF'!F77)),'Product SARF'!$E$8<>\"1) NA\",'Product SARF'!$E$8<>\"1) ...\"), \"   \"&CONCATENATE('Product SARF'!$F$18,'Product SARF'!$F$19),\"\") & IF(AND(NOT(ISBLANK('Product SARF'!G77)),'Product SARF'!$E$9<>\"2) NA\",'Product SARF'!$E$9<>\"2) ...\"), \"   \"&CONCATENATE('Product SARF'!$G$18,'Product SARF'!$G$19),\"\")& IF(AND(NOT(ISBLANK('Product SARF'!H77)),'Product SARF'!$E$10<>\"3) NA\",'Product SARF'!$E$10<>\"3) ...\"), \"   \"&CONCATENATE('Product SARF'!$H$18,'Product SARF'!$H$19),\"\") & IF(AND(NOT(ISBLANK('Product SARF'!I77)),'Product SARF'!$E$11<>\"4) NA\",'Product SARF'!$E$11<>\"4) ...\"), \"   \"&CONCATENATE('Product SARF'!$I$18,'Product SARF'!$I$19),\"\")& IF(AND(NOT(ISBLANK('Product SARF'!J77)),'Product SARF'!$E$12<>\"5) NA\",'Product SARF'!$E$12<>\"5) ...\"), \"   \"&CONCATENATE('Product SARF'!$J$18,'Product SARF'!$J$19),\"\")&IF(AND(NOT(ISBLANK('Product SARF'!K77)),'Product SARF'!$E$13<>\"6) NA\",'Product SARF'!$E$13<>\"6) ...\"), \"   \"&CONCATENATE('Product SARF'!$K$18,'Product SARF'!$K$19),\"\")&IF(AND(NOT(ISBLANK('Product SARF'!L77)),'Product SARF'!$E$14<>\"7) NA\",'Product SARF'!$E$14<>\"7) ...\"), \"   \"&CONCATENATE('Product SARF'!$L$18,'Product SARF'!$L$19),\"\") &IF(AND(NOT(ISBLANK('Product SARF'!M77)),'Product SARF'!$E$15<>\"8) NA\",'Product SARF'!$E$15<>\"8) ...\"), \"   \"&CONCATENATE('Product SARF'!$M$18,'Product SARF'!$M$19),\"\"))","v":""}]
[{"$f":"IF(C60=\"\",\"\",IF('Product SARF'!B78=\"\",\"\",'Product SARF'!B78))","v":""},{"$f":"IF('Product SARF'!C78=\"\",\"\",\"Sample\")","v":""},{"$f":"IF('Product SARF'!C78=\"\",\"\",'Product SARF'!C78)","v":""},{"$f":"IF(C60=\"\",\"\",IF('Product SARF'!D78=\"\",\"\",'Product SARF'!D78))","v":""},{"$f":"IF(C60=\"\",\"\",IF('Product SARF'!E78=\"\",\"\",'Product SARF'!E78))","v":""},{"$f":"IF(C60=\"\",\"\",IF('Product SARF'!$L$6=\"\",\"\",CONCATENATE('Product SARF'!$L$6,'Product SARF'!$M$6)))","v":""},{"$f":"IF(C60=\"\",\"\",IF('Product SARF'!$L$2=\"\",\"\",'Product SARF'!$L$2))","v":""},{"$f":"IF(C60=\"\",\"\",IF('Product SARF'!$L$4=\"\",NOW(),'Product SARF'!$L$4))","v":""},"",{"$f":"IF(C60=\"\",\"\", IF(AND(NOT(ISBLANK('Product SARF'!F78)),'Product SARF'!$E$8<>\"1) NA\",'Product SARF'!$E$8<>\"1) ...\"), \"   \"&CONCATENATE('Product SARF'!$F$18,'Product SARF'!$F$19),\"\") & IF(AND(NOT(ISBLANK('Product SARF'!G78)),'Product SARF'!$E$9<>\"2) NA\",'Product SARF'!$E$9<>\"2) ...\"), \"   \"&CONCATENATE('Product SARF'!$G$18,'Product SARF'!$G$19),\"\")& IF(AND(NOT(ISBLANK('Product SARF'!H78)),'Product SARF'!$E$10<>\"3) NA\",'Product SARF'!$E$10<>\"3) ...\"), \"   \"&CONCATENATE('Product SARF'!$H$18,'Product SARF'!$H$19),\"\") & IF(AND(NOT(ISBLANK('Product SARF'!I78)),'Product SARF'!$E$11<>\"4) NA\",'Product SARF'!$E$11<>\"4) ...\"), \"   \"&CONCATENATE('Product SARF'!$I$18,'Product SARF'!$I$19),\"\")& IF(AND(NOT(ISBLANK('Product SARF'!J78)),'Product SARF'!$E$12<>\"5) NA\",'Product SARF'!$E$12<>\"5) ...\"), \"   \"&CONCATENATE('Product SARF'!$J$18,'Product SARF'!$J$19),\"\")&IF(AND(NOT(ISBLANK('Product SARF'!K78)),'Product SARF'!$E$13<>\"6) NA\",'Product SARF'!$E$13<>\"6) ...\"), \"   \"&CONCATENATE('Product SARF'!$K$18,'Product SARF'!$K$19),\"\")&IF(AND(NOT(ISBLANK('Product SARF'!L78)),'Product SARF'!$E$14<>\"7) NA\",'Product SARF'!$E$14<>\"7) ...\"), \"   \"&CONCATENATE('Product SARF'!$L$18,'Product SARF'!$L$19),\"\") &IF(AND(NOT(ISBLANK('Product SARF'!M78)),'Product SARF'!$E$15<>\"8) NA\",'Product SARF'!$E$15<>\"8) ...\"), \"   \"&CONCATENATE('Product SARF'!$M$18,'Product SARF'!$M$19),\"\"))","v":""}]
[{"$f":"IF(C61=\"\",\"\",IF('Product SARF'!B79=\"\",\"\",'Product SARF'!B79))","v":""},{"$f":"IF('Product SARF'!C79=\"\",\"\",\"Sample\")","v":""},{"$f":"IF('Product SARF'!C79=\"\",\"\",'Product SARF'!C79)","v":""},{"$f":"IF(C61=\"\",\"\",IF('Product SARF'!D79=\"\",\"\",'Product SARF'!D79))","v":""},{"$f":"IF(C61=\"\",\"\",IF('Product SARF'!E79=\"\",\"\",'Product SARF'!E79))","v":""},{"$f":"IF(C61=\"\",\"\",IF('Product SARF'!$L$6=\"\",\"\",CONCATENATE('Product SARF'!$L$6,'Product SARF'!$M$6)))","v":""},{"$f":"IF(C61=\"\",\"\",IF('Product SARF'!$L$2=\"\",\"\",'Product SARF'!$L$2))","v":""},{"$f":"IF(C61=\"\",\"\",IF('Product SARF'!$L$4=\"\",NOW(),'Product SARF'!$L$4))","v":""},"",{"$f":"IF(C61=\"\",\"\", IF(AND(NOT(ISBLANK('Product SARF'!F79)),'Product SARF'!$E$8<>\"1) NA\",'Product SARF'!$E$8<>\"1) ...\"), \"   \"&CONCATENATE('Product SARF'!$F$18,'Product SARF'!$F$19),\"\") & IF(AND(NOT(ISBLANK('Product SARF'!G79)),'Product SARF'!$E$9<>\"2) NA\",'Product SARF'!$E$9<>\"2) ...\"), \"   \"&CONCATENATE('Product SARF'!$G$18,'Product SARF'!$G$19),\"\")& IF(AND(NOT(ISBLANK('Product SARF'!H79)),'Product SARF'!$E$10<>\"3) NA\",'Product SARF'!$E$10<>\"3) ...\"), \"   \"&CONCATENATE('Product SARF'!$H$18,'Product SARF'!$H$19),\"\") & IF(AND(NOT(ISBLANK('Product SARF'!I79)),'Product SARF'!$E$11<>\"4) NA\",'Product SARF'!$E$11<>\"4) ...\"), \"   \"&CONCATENATE('Product SARF'!$I$18,'Product SARF'!$I$19),\"\")& IF(AND(NOT(ISBLANK('Product SARF'!J79)),'Product SARF'!$E$12<>\"5) NA\",'Product SARF'!$E$12<>\"5) ...\"), \"   \"&CONCATENATE('Product SARF'!$J$18,'Product SARF'!$J$19),\"\")&IF(AND(NOT(ISBLANK('Product SARF'!K79)),'Product SARF'!$E$13<>\"6) NA\",'Product SARF'!$E$13<>\"6) ...\"), \"   \"&CONCATENATE('Product SARF'!$K$18,'Product SARF'!$K$19),\"\")&IF(AND(NOT(ISBLANK('Product SARF'!L79)),'Product SARF'!$E$14<>\"7) NA\",'Product SARF'!$E$14<>\"7) ...\"), \"   \"&CONCATENATE('Product SARF'!$L$18,'Product SARF'!$L$19),\"\") &IF(AND(NOT(ISBLANK('Product SARF'!M79)),'Product SARF'!$E$15<>\"8) NA\",'Product SARF'!$E$15<>\"8) ...\"), \"   \"&CONCATENATE('Product SARF'!$M$18,'Product SARF'!$M$19),\"\"))","v":""}]
[{"$f":"IF(C62=\"\",\"\",IF('Product SARF'!B80=\"\",\"\",'Product SARF'!B80))","v":""},{"$f":"IF('Product SARF'!C80=\"\",\"\",\"Sample\")","v":""},{"$f":"IF('Product SARF'!C80=\"\",\"\",'Product SARF'!C80)","v":""},{"$f":"IF(C62=\"\",\"\",IF('Product SARF'!D80=\"\",\"\",'Product SARF'!D80))","v":""},{"$f":"IF(C62=\"\",\"\",IF('Product SARF'!E80=\"\",\"\",'Product SARF'!E80))","v":""},{"$f":"IF(C62=\"\",\"\",IF('Product SARF'!$L$6=\"\",\"\",CONCATENATE('Product SARF'!$L$6,'Product SARF'!$M$6)))","v":""},{"$f":"IF(C62=\"\",\"\",IF('Product SARF'!$L$2=\"\",\"\",'Product SARF'!$L$2))","v":""},{"$f":"IF(C62=\"\",\"\",IF('Product SARF'!$L$4=\"\",NOW(),'Product SARF'!$L$4))","v":""},"",{"$f":"IF(C62=\"\",\"\", IF(AND(NOT(ISBLANK('Product SARF'!F80)),'Product SARF'!$E$8<>\"1) NA\",'Product SARF'!$E$8<>\"1) ...\"), \"   \"&CONCATENATE('Product SARF'!$F$18,'Product SARF'!$F$19),\"\") & IF(AND(NOT(ISBLANK('Product SARF'!G80)),'Product SARF'!$E$9<>\"2) NA\",'Product SARF'!$E$9<>\"2) ...\"), \"   \"&CONCATENATE('Product SARF'!$G$18,'Product SARF'!$G$19),\"\")& IF(AND(NOT(ISBLANK('Product SARF'!H80)),'Product SARF'!$E$10<>\"3) NA\",'Product SARF'!$E$10<>\"3) ...\"), \"   \"&CONCATENATE('Product SARF'!$H$18,'Product SARF'!$H$19),\"\") & IF(AND(NOT(ISBLANK('Product SARF'!I80)),'Product SARF'!$E$11<>\"4) NA\",'Product SARF'!$E$11<>\"4) ...\"), \"   \"&CONCATENATE('Product SARF'!$I$18,'Product SARF'!$I$19),\"\")& IF(AND(NOT(ISBLANK('Product SARF'!J80)),'Product SARF'!$E$12<>\"5) NA\",'Product SARF'!$E$12<>\"5) ...\"), \"   \"&CONCATENATE('Product SARF'!$J$18,'Product SARF'!$J$19),\"\")&IF(AND(NOT(ISBLANK('Product SARF'!K80)),'Product SARF'!$E$13<>\"6) NA\",'Product SARF'!$E$13<>\"6) ...\"), \"   \"&CONCATENATE('Product SARF'!$K$18,'Product SARF'!$K$19),\"\")&IF(AND(NOT(ISBLANK('Product SARF'!L80)),'Product SARF'!$E$14<>\"7) NA\",'Product SARF'!$E$14<>\"7) ...\"), \"   \"&CONCATENATE('Product SARF'!$L$18,'Product SARF'!$L$19),\"\") &IF(AND(NOT(ISBLANK('Product SARF'!M80)),'Product SARF'!$E$15<>\"8) NA\",'Product SARF'!$E$15<>\"8) ...\"), \"   \"&CONCATENATE('Product SARF'!$M$18,'Product SARF'!$M$19),\"\"))","v":""}]
[{"$f":"IF(C63=\"\",\"\",IF('Product SARF'!B81=\"\",\"\",'Product SARF'!B81))","v":""},{"$f":"IF('Product SARF'!C81=\"\",\"\",\"Sample\")","v":""},{"$f":"IF('Product SARF'!C81=\"\",\"\",'Product SARF'!C81)","v":""},{"$f":"IF(C63=\"\",\"\",IF('Product SARF'!D81=\"\",\"\",'Product SARF'!D81))","v":""},{"$f":"IF(C63=\"\",\"\",IF('Product SARF'!E81=\"\",\"\",'Product SARF'!E81))","v":""},{"$f":"IF(C63=\"\",\"\",IF('Product SARF'!$L$6=\"\",\"\",CONCATENATE('Product SARF'!$L$6,'Product SARF'!$M$6)))","v":""},{"$f":"IF(C63=\"\",\"\",IF('Product SARF'!$L$2=\"\",\"\",'Product SARF'!$L$2))","v":""},{"$f":"IF(C63=\"\",\"\",IF('Product SARF'!$L$4=\"\",NOW(),'Product SARF'!$L$4))","v":""},"",{"$f":"IF(C63=\"\",\"\", IF(AND(NOT(ISBLANK('Product SARF'!F81)),'Product SARF'!$E$8<>\"1) NA\",'Product SARF'!$E$8<>\"1) ...\"), \"   \"&CONCATENATE('Product SARF'!$F$18,'Product SARF'!$F$19),\"\") & IF(AND(NOT(ISBLANK('Product SARF'!G81)),'Product SARF'!$E$9<>\"2) NA\",'Product SARF'!$E$9<>\"2) ...\"), \"   \"&CONCATENATE('Product SARF'!$G$18,'Product SARF'!$G$19),\"\")& IF(AND(NOT(ISBLANK('Product SARF'!H81)),'Product SARF'!$E$10<>\"3) NA\",'Product SARF'!$E$10<>\"3) ...\"), \"   \"&CONCATENATE('Product SARF'!$H$18,'Product SARF'!$H$19),\"\") & IF(AND(NOT(ISBLANK('Product SARF'!I81)),'Product SARF'!$E$11<>\"4) NA\",'Product SARF'!$E$11<>\"4) ...\"), \"   \"&CONCATENATE('Product SARF'!$I$18,'Product SARF'!$I$19),\"\")& IF(AND(NOT(ISBLANK('Product SARF'!J81)),'Product SARF'!$E$12<>\"5) NA\",'Product SARF'!$E$12<>\"5) ...\"), \"   \"&CONCATENATE('Product SARF'!$J$18,'Product SARF'!$J$19),\"\")&IF(AND(NOT(ISBLANK('Product SARF'!K81)),'Product SARF'!$E$13<>\"6) NA\",'Product SARF'!$E$13<>\"6) ...\"), \"   \"&CONCATENATE('Product SARF'!$K$18,'Product SARF'!$K$19),\"\")&IF(AND(NOT(ISBLANK('Product SARF'!L81)),'Product SARF'!$E$14<>\"7) NA\",'Product SARF'!$E$14<>\"7) ...\"), \"   \"&CONCATENATE('Product SARF'!$L$18,'Product SARF'!$L$19),\"\") &IF(AND(NOT(ISBLANK('Product SARF'!M81)),'Product SARF'!$E$15<>\"8) NA\",'Product SARF'!$E$15<>\"8) ...\"), \"   \"&CONCATENATE('Product SARF'!$M$18,'Product SARF'!$M$19),\"\"))","v":""}]
[{"$f":"IF(C64=\"\",\"\",IF('Product SARF'!B82=\"\",\"\",'Product SARF'!B82))","v":""},{"$f":"IF('Product SARF'!C82=\"\",\"\",\"Sample\")","v":""},{"$f":"IF('Product SARF'!C82=\"\",\"\",'Product SARF'!C82)","v":""},{"$f":"IF(C64=\"\",\"\",IF('Product SARF'!D82=\"\",\"\",'Product SARF'!D82))","v":""},{"$f":"IF(C64=\"\",\"\",IF('Product SARF'!E82=\"\",\"\",'Product SARF'!E82))","v":""},{"$f":"IF(C64=\"\",\"\",IF('Product SARF'!$L$6=\"\",\"\",CONCATENATE('Product SARF'!$L$6,'Product SARF'!$M$6)))","v":""},{"$f":"IF(C64=\"\",\"\",IF('Product SARF'!$L$2=\"\",\"\",'Product SARF'!$L$2))","v":""},{"$f":"IF(C64=\"\",\"\",IF('Product SARF'!$L$4=\"\",NOW(),'Product SARF'!$L$4))","v":""},"",{"$f":"IF(C64=\"\",\"\", IF(AND(NOT(ISBLANK('Product SARF'!F82)),'Product SARF'!$E$8<>\"1) NA\",'Product SARF'!$E$8<>\"1) ...\"), \"   \"&CONCATENATE('Product SARF'!$F$18,'Product SARF'!$F$19),\"\") & IF(AND(NOT(ISBLANK('Product SARF'!G82)),'Product SARF'!$E$9<>\"2) NA\",'Product SARF'!$E$9<>\"2) ...\"), \"   \"&CONCATENATE('Product SARF'!$G$18,'Product SARF'!$G$19),\"\")& IF(AND(NOT(ISBLANK('Product SARF'!H82)),'Product SARF'!$E$10<>\"3) NA\",'Product SARF'!$E$10<>\"3) ...\"), \"   \"&CONCATENATE('Product SARF'!$H$18,'Product SARF'!$H$19),\"\") & IF(AND(NOT(ISBLANK('Product SARF'!I82)),'Product SARF'!$E$11<>\"4) NA\",'Product SARF'!$E$11<>\"4) ...\"), \"   \"&CONCATENATE('Product SARF'!$I$18,'Product SARF'!$I$19),\"\")& IF(AND(NOT(ISBLANK('Product SARF'!J82)),'Product SARF'!$E$12<>\"5) NA\",'Product SARF'!$E$12<>\"5) ...\"), \"   \"&CONCATENATE('Product SARF'!$J$18,'Product SARF'!$J$19),\"\")&IF(AND(NOT(ISBLANK('Product SARF'!K82)),'Product SARF'!$E$13<>\"6) NA\",'Product SARF'!$E$13<>\"6) ...\"), \"   \"&CONCATENATE('Product SARF'!$K$18,'Product SARF'!$K$19),\"\")&IF(AND(NOT(ISBLANK('Product SARF'!L82)),'Product SARF'!$E$14<>\"7) NA\",'Product SARF'!$E$14<>\"7) ...\"), \"   \"&CONCATENATE('Product SARF'!$L$18,'Product SARF'!$L$19),\"\") &IF(AND(NOT(ISBLANK('Product SARF'!M82)),'Product SARF'!$E$15<>\"8) NA\",'Product SARF'!$E$15<>\"8) ...\"), \"   \"&CONCATENATE('Product SARF'!$M$18,'Product SARF'!$M$19),\"\"))","v":""}]
[{"$f":"IF(C65=\"\",\"\",IF('Product SARF'!B83=\"\",\"\",'Product SARF'!B83))","v":""},{"$f":"IF('Product SARF'!C83=\"\",\"\",\"Sample\")","v":""},{"$f":"IF('Product SARF'!C83=\"\",\"\",'Product SARF'!C83)","v":""},{"$f":"IF(C65=\"\",\"\",IF('Product SARF'!D83=\"\",\"\",'Product SARF'!D83))","v":""},{"$f":"IF(C65=\"\",\"\",IF('Product SARF'!E83=\"\",\"\",'Product SARF'!E83))","v":""},{"$f":"IF(C65=\"\",\"\",IF('Product SARF'!$L$6=\"\",\"\",CONCATENATE('Product SARF'!$L$6,'Product SARF'!$M$6)))","v":""},{"$f":"IF(C65=\"\",\"\",IF('Product SARF'!$L$2=\"\",\"\",'Product SARF'!$L$2))","v":""},{"$f":"IF(C65=\"\",\"\",IF('Product SARF'!$L$4=\"\",NOW(),'Product SARF'!$L$4))","v":""},"",{"$f":"IF(C65=\"\",\"\", IF(AND(NOT(ISBLANK('Product SARF'!F83)),'Product SARF'!$E$8<>\"1) NA\",'Product SARF'!$E$8<>\"1) ...\"), \"   \"&CONCATENATE('Product SARF'!$F$18,'Product SARF'!$F$19),\"\") & IF(AND(NOT(ISBLANK('Product SARF'!G83)),'Product SARF'!$E$9<>\"2) NA\",'Product SARF'!$E$9<>\"2) ...\"), \"   \"&CONCATENATE('Product SARF'!$G$18,'Product SARF'!$G$19),\"\")& IF(AND(NOT(ISBLANK('Product SARF'!H83)),'Product SARF'!$E$10<>\"3) NA\",'Product SARF'!$E$10<>\"3) ...\"), \"   \"&CONCATENATE('Product SARF'!$H$18,'Product SARF'!$H$19),\"\") & IF(AND(NOT(ISBLANK('Product SARF'!I83)),'Product SARF'!$E$11<>\"4) NA\",'Product SARF'!$E$11<>\"4) ...\"), \"   \"&CONCATENATE('Product SARF'!$I$18,'Product SARF'!$I$19),\"\")& IF(AND(NOT(ISBLANK('Product SARF'!J83)),'Product SARF'!$E$12<>\"5) NA\",'Product SARF'!$E$12<>\"5) ...\"), \"   \"&CONCATENATE('Product SARF'!$J$18,'Product SARF'!$J$19),\"\")&IF(AND(NOT(ISBLANK('Product SARF'!K83)),'Product SARF'!$E$13<>\"6) NA\",'Product SARF'!$E$13<>\"6) ...\"), \"   \"&CONCATENATE('Product SARF'!$K$18,'Product SARF'!$K$19),\"\")&IF(AND(NOT(ISBLANK('Product SARF'!L83)),'Product SARF'!$E$14<>\"7) NA\",'Product SARF'!$E$14<>\"7) ...\"), \"   \"&CONCATENATE('Product SARF'!$L$18,'Product SARF'!$L$19),\"\") &IF(AND(NOT(ISBLANK('Product SARF'!M83)),'Product SARF'!$E$15<>\"8) NA\",'Product SARF'!$E$15<>\"8) ...\"), \"   \"&CONCATENATE('Product SARF'!$M$18,'Product SARF'!$M$19),\"\"))","v":""}]
[{"$f":"IF(C66=\"\",\"\",IF('Product SARF'!B84=\"\",\"\",'Product SARF'!B84))","v":""},{"$f":"IF('Product SARF'!C84=\"\",\"\",\"Sample\")","v":""},{"$f":"IF('Product SARF'!C84=\"\",\"\",'Product SARF'!C84)","v":""},{"$f":"IF(C66=\"\",\"\",IF('Product SARF'!D84=\"\",\"\",'Product SARF'!D84))","v":""},{"$f":"IF(C66=\"\",\"\",IF('Product SARF'!E84=\"\",\"\",'Product SARF'!E84))","v":""},{"$f":"IF(C66=\"\",\"\",IF('Product SARF'!$L$6=\"\",\"\",CONCATENATE('Product SARF'!$L$6,'Product SARF'!$M$6)))","v":""},{"$f":"IF(C66=\"\",\"\",IF('Product SARF'!$L$2=\"\",\"\",'Product SARF'!$L$2))","v":""},{"$f":"IF(C66=\"\",\"\",IF('Product SARF'!$L$4=\"\",NOW(),'Product SARF'!$L$4))","v":""},"",{"$f":"IF(C66=\"\",\"\", IF(AND(NOT(ISBLANK('Product SARF'!F84)),'Product SARF'!$E$8<>\"1) NA\",'Product SARF'!$E$8<>\"1) ...\"), \"   \"&CONCATENATE('Product SARF'!$F$18,'Product SARF'!$F$19),\"\") & IF(AND(NOT(ISBLANK('Product SARF'!G84)),'Product SARF'!$E$9<>\"2) NA\",'Product SARF'!$E$9<>\"2) ...\"), \"   \"&CONCATENATE('Product SARF'!$G$18,'Product SARF'!$G$19),\"\")& IF(AND(NOT(ISBLANK('Product SARF'!H84)),'Product SARF'!$E$10<>\"3) NA\",'Product SARF'!$E$10<>\"3) ...\"), \"   \"&CONCATENATE('Product SARF'!$H$18,'Product SARF'!$H$19),\"\") & IF(AND(NOT(ISBLANK('Product SARF'!I84)),'Product SARF'!$E$11<>\"4) NA\",'Product SARF'!$E$11<>\"4) ...\"), \"   \"&CONCATENATE('Product SARF'!$I$18,'Product SARF'!$I$19),\"\")& IF(AND(NOT(ISBLANK('Product SARF'!J84)),'Product SARF'!$E$12<>\"5) NA\",'Product SARF'!$E$12<>\"5) ...\"), \"   \"&CONCATENATE('Product SARF'!$J$18,'Product SARF'!$J$19),\"\")&IF(AND(NOT(ISBLANK('Product SARF'!K84)),'Product SARF'!$E$13<>\"6) NA\",'Product SARF'!$E$13<>\"6) ...\"), \"   \"&CONCATENATE('Product SARF'!$K$18,'Product SARF'!$K$19),\"\")&IF(AND(NOT(ISBLANK('Product SARF'!L84)),'Product SARF'!$E$14<>\"7) NA\",'Product SARF'!$E$14<>\"7) ...\"), \"   \"&CONCATENATE('Product SARF'!$L$18,'Product SARF'!$L$19),\"\") &IF(AND(NOT(ISBLANK('Product SARF'!M84)),'Product SARF'!$E$15<>\"8) NA\",'Product SARF'!$E$15<>\"8) ...\"), \"   \"&CONCATENATE('Product SARF'!$M$18,'Product SARF'!$M$19),\"\"))","v":""}]
[{"$f":"IF(C67=\"\",\"\",IF('Product SARF'!B85=\"\",\"\",'Product SARF'!B85))","v":""},{"$f":"IF('Product SARF'!C85=\"\",\"\",\"Sample\")","v":""},{"$f":"IF('Product SARF'!C85=\"\",\"\",'Product SARF'!C85)","v":""},{"$f":"IF(C67=\"\",\"\",IF('Product SARF'!D85=\"\",\"\",'Product SARF'!D85))","v":""},{"$f":"IF(C67=\"\",\"\",IF('Product SARF'!E85=\"\",\"\",'Product SARF'!E85))","v":""},{"$f":"IF(C67=\"\",\"\",IF('Product SARF'!$L$6=\"\",\"\",CONCATENATE('Product SARF'!$L$6,'Product SARF'!$M$6)))","v":""},{"$f":"IF(C67=\"\",\"\",IF('Product SARF'!$L$2=\"\",\"\",'Product SARF'!$L$2))","v":""},{"$f":"IF(C67=\"\",\"\",IF('Product SARF'!$L$4=\"\",NOW(),'Product SARF'!$L$4))","v":""},"",{"$f":"IF(C67=\"\",\"\", IF(AND(NOT(ISBLANK('Product SARF'!F85)),'Product SARF'!$E$8<>\"1) NA\",'Product SARF'!$E$8<>\"1) ...\"), \"   \"&CONCATENATE('Product SARF'!$F$18,'Product SARF'!$F$19),\"\") & IF(AND(NOT(ISBLANK('Product SARF'!G85)),'Product SARF'!$E$9<>\"2) NA\",'Product SARF'!$E$9<>\"2) ...\"), \"   \"&CONCATENATE('Product SARF'!$G$18,'Product SARF'!$G$19),\"\")& IF(AND(NOT(ISBLANK('Product SARF'!H85)),'Product SARF'!$E$10<>\"3) NA\",'Product SARF'!$E$10<>\"3) ...\"), \"   \"&CONCATENATE('Product SARF'!$H$18,'Product SARF'!$H$19),\"\") & IF(AND(NOT(ISBLANK('Product SARF'!I85)),'Product SARF'!$E$11<>\"4) NA\",'Product SARF'!$E$11<>\"4) ...\"), \"   \"&CONCATENATE('Product SARF'!$I$18,'Product SARF'!$I$19),\"\")& IF(AND(NOT(ISBLANK('Product SARF'!J85)),'Product SARF'!$E$12<>\"5) NA\",'Product SARF'!$E$12<>\"5) ...\"), \"   \"&CONCATENATE('Product SARF'!$J$18,'Product SARF'!$J$19),\"\")&IF(AND(NOT(ISBLANK('Product SARF'!K85)),'Product SARF'!$E$13<>\"6) NA\",'Product SARF'!$E$13<>\"6) ...\"), \"   \"&CONCATENATE('Product SARF'!$K$18,'Product SARF'!$K$19),\"\")&IF(AND(NOT(ISBLANK('Product SARF'!L85)),'Product SARF'!$E$14<>\"7) NA\",'Product SARF'!$E$14<>\"7) ...\"), \"   \"&CONCATENATE('Product SARF'!$L$18,'Product SARF'!$L$19),\"\") &IF(AND(NOT(ISBLANK('Product SARF'!M85)),'Product SARF'!$E$15<>\"8) NA\",'Product SARF'!$E$15<>\"8) ...\"), \"   \"&CONCATENATE('Product SARF'!$M$18,'Product SARF'!$M$19),\"\"))","v":""}]
[{"$f":"IF(C68=\"\",\"\",IF('Product SARF'!B86=\"\",\"\",'Product SARF'!B86))","v":""},{"$f":"IF('Product SARF'!C86=\"\",\"\",\"Sample\")","v":""},{"$f":"IF('Product SARF'!C86=\"\",\"\",'Product SARF'!C86)","v":""},{"$f":"IF(C68=\"\",\"\",IF('Product SARF'!D86=\"\",\"\",'Product SARF'!D86))","v":""},{"$f":"IF(C68=\"\",\"\",IF('Product SARF'!E86=\"\",\"\",'Product SARF'!E86))","v":""},{"$f":"IF(C68=\"\",\"\",IF('Product SARF'!$L$6=\"\",\"\",CONCATENATE('Product SARF'!$L$6,'Product SARF'!$M$6)))","v":""},{"$f":"IF(C68=\"\",\"\",IF('Product SARF'!$L$2=\"\",\"\",'Product SARF'!$L$2))","v":""},{"$f":"IF(C68=\"\",\"\",IF('Product SARF'!$L$4=\"\",NOW(),'Product SARF'!$L$4))","v":""},"",{"$f":"IF(C68=\"\",\"\", IF(AND(NOT(ISBLANK('Product SARF'!F86)),'Product SARF'!$E$8<>\"1) NA\",'Product SARF'!$E$8<>\"1) ...\"), \"   \"&CONCATENATE('Product SARF'!$F$18,'Product SARF'!$F$19),\"\") & IF(AND(NOT(ISBLANK('Product SARF'!G86)),'Product SARF'!$E$9<>\"2) NA\",'Product SARF'!$E$9<>\"2) ...\"), \"   \"&CONCATENATE('Product SARF'!$G$18,'Product SARF'!$G$19),\"\")& IF(AND(NOT(ISBLANK('Product SARF'!H86)),'Product SARF'!$E$10<>\"3) NA\",'Product SARF'!$E$10<>\"3) ...\"), \"   \"&CONCATENATE('Product SARF'!$H$18,'Product SARF'!$H$19),\"\") & IF(AND(NOT(ISBLANK('Product SARF'!I86)),'Product SARF'!$E$11<>\"4) NA\",'Product SARF'!$E$11<>\"4) ...\"), \"   \"&CONCATENATE('Product SARF'!$I$18,'Product SARF'!$I$19),\"\")& IF(AND(NOT(ISBLANK('Product SARF'!J86)),'Product SARF'!$E$12<>\"5) NA\",'Product SARF'!$E$12<>\"5) ...\"), \"   \"&CONCATENATE('Product SARF'!$J$18,'Product SARF'!$J$19),\"\")&IF(AND(NOT(ISBLANK('Product SARF'!K86)),'Product SARF'!$E$13<>\"6) NA\",'Product SARF'!$E$13<>\"6) ...\"), \"   \"&CONCATENATE('Product SARF'!$K$18,'Product SARF'!$K$19),\"\")&IF(AND(NOT(ISBLANK('Product SARF'!L86)),'Product SARF'!$E$14<>\"7) NA\",'Product SARF'!$E$14<>\"7) ...\"), \"   \"&CONCATENATE('Product SARF'!$L$18,'Product SARF'!$L$19),\"\") &IF(AND(NOT(ISBLANK('Product SARF'!M86)),'Product SARF'!$E$15<>\"8) NA\",'Product SARF'!$E$15<>\"8) ...\"), \"   \"&CONCATENATE('Product SARF'!$M$18,'Product SARF'!$M$19),\"\"))","v":""}]
[{"$f":"IF(C69=\"\",\"\",IF('Product SARF'!B87=\"\",\"\",'Product SARF'!B87))","v":""},{"$f":"IF('Product SARF'!C87=\"\",\"\",\"Sample\")","v":""},{"$f":"IF('Product SARF'!C87=\"\",\"\",'Product SARF'!C87)","v":""},{"$f":"IF(C69=\"\",\"\",IF('Product SARF'!D87=\"\",\"\",'Product SARF'!D87))","v":""},{"$f":"IF(C69=\"\",\"\",IF('Product SARF'!E87=\"\",\"\",'Product SARF'!E87))","v":""},{"$f":"IF(C69=\"\",\"\",IF('Product SARF'!$L$6=\"\",\"\",CONCATENATE('Product SARF'!$L$6,'Product SARF'!$M$6)))","v":""},{"$f":"IF(C69=\"\",\"\",IF('Product SARF'!$L$2=\"\",\"\",'Product SARF'!$L$2))","v":""},{"$f":"IF(C69=\"\",\"\",IF('Product SARF'!$L$4=\"\",NOW(),'Product SARF'!$L$4))","v":""},"",{"$f":"IF(C69=\"\",\"\", IF(AND(NOT(ISBLANK('Product SARF'!F87)),'Product SARF'!$E$8<>\"1) NA\",'Product SARF'!$E$8<>\"1) ...\"), \"   \"&CONCATENATE('Product SARF'!$F$18,'Product SARF'!$F$19),\"\") & IF(AND(NOT(ISBLANK('Product SARF'!G87)),'Product SARF'!$E$9<>\"2) NA\",'Product SARF'!$E$9<>\"2) ...\"), \"   \"&CONCATENATE('Product SARF'!$G$18,'Product SARF'!$G$19),\"\")& IF(AND(NOT(ISBLANK('Product SARF'!H87)),'Product SARF'!$E$10<>\"3) NA\",'Product SARF'!$E$10<>\"3) ...\"), \"   \"&CONCATENATE('Product SARF'!$H$18,'Product SARF'!$H$19),\"\") & IF(AND(NOT(ISBLANK('Product SARF'!I87)),'Product SARF'!$E$11<>\"4) NA\",'Product SARF'!$E$11<>\"4) ...\"), \"   \"&CONCATENATE('Product SARF'!$I$18,'Product SARF'!$I$19),\"\")& IF(AND(NOT(ISBLANK('Product SARF'!J87)),'Product SARF'!$E$12<>\"5) NA\",'Product SARF'!$E$12<>\"5) ...\"), \"   \"&CONCATENATE('Product SARF'!$J$18,'Product SARF'!$J$19),\"\")&IF(AND(NOT(ISBLANK('Product SARF'!K87)),'Product SARF'!$E$13<>\"6) NA\",'Product SARF'!$E$13<>\"6) ...\"), \"   \"&CONCATENATE('Product SARF'!$K$18,'Product SARF'!$K$19),\"\")&IF(AND(NOT(ISBLANK('Product SARF'!L87)),'Product SARF'!$E$14<>\"7) NA\",'Product SARF'!$E$14<>\"7) ...\"), \"   \"&CONCATENATE('Product SARF'!$L$18,'Product SARF'!$L$19),\"\") &IF(AND(NOT(ISBLANK('Product SARF'!M87)),'Product SARF'!$E$15<>\"8) NA\",'Product SARF'!$E$15<>\"8) ...\"), \"   \"&CONCATENATE('Product SARF'!$M$18,'Product SARF'!$M$19),\"\"))","v":""}]
[{"$f":"IF(C70=\"\",\"\",IF('Product SARF'!B88=\"\",\"\",'Product SARF'!B88))","v":""},{"$f":"IF('Product SARF'!C88=\"\",\"\",\"Sample\")","v":""},{"$f":"IF('Product SARF'!C88=\"\",\"\",'Product SARF'!C88)","v":""},{"$f":"IF(C70=\"\",\"\",IF('Product SARF'!D88=\"\",\"\",'Product SARF'!D88))","v":""},{"$f":"IF(C70=\"\",\"\",IF('Product SARF'!E88=\"\",\"\",'Product SARF'!E88))","v":""},{"$f":"IF(C70=\"\",\"\",IF('Product SARF'!$L$6=\"\",\"\",CONCATENATE('Product SARF'!$L$6,'Product SARF'!$M$6)))","v":""},{"$f":"IF(C70=\"\",\"\",IF('Product SARF'!$L$2=\"\",\"\",'Product SARF'!$L$2))","v":""},{"$f":"IF(C70=\"\",\"\",IF('Product SARF'!$L$4=\"\",NOW(),'Product SARF'!$L$4))","v":""},"",{"$f":"IF(C70=\"\",\"\", IF(AND(NOT(ISBLANK('Product SARF'!F88)),'Product SARF'!$E$8<>\"1) NA\",'Product SARF'!$E$8<>\"1) ...\"), \"   \"&CONCATENATE('Product SARF'!$F$18,'Product SARF'!$F$19),\"\") & IF(AND(NOT(ISBLANK('Product SARF'!G88)),'Product SARF'!$E$9<>\"2) NA\",'Product SARF'!$E$9<>\"2) ...\"), \"   \"&CONCATENATE('Product SARF'!$G$18,'Product SARF'!$G$19),\"\")& IF(AND(NOT(ISBLANK('Product SARF'!H88)),'Product SARF'!$E$10<>\"3) NA\",'Product SARF'!$E$10<>\"3) ...\"), \"   \"&CONCATENATE('Product SARF'!$H$18,'Product SARF'!$H$19),\"\") & IF(AND(NOT(ISBLANK('Product SARF'!I88)),'Product SARF'!$E$11<>\"4) NA\",'Product SARF'!$E$11<>\"4) ...\"), \"   \"&CONCATENATE('Product SARF'!$I$18,'Product SARF'!$I$19),\"\")& IF(AND(NOT(ISBLANK('Product SARF'!J88)),'Product SARF'!$E$12<>\"5) NA\",'Product SARF'!$E$12<>\"5) ...\"), \"   \"&CONCATENATE('Product SARF'!$J$18,'Product SARF'!$J$19),\"\")&IF(AND(NOT(ISBLANK('Product SARF'!K88)),'Product SARF'!$E$13<>\"6) NA\",'Product SARF'!$E$13<>\"6) ...\"), \"   \"&CONCATENATE('Product SARF'!$K$18,'Product SARF'!$K$19),\"\")&IF(AND(NOT(ISBLANK('Product SARF'!L88)),'Product SARF'!$E$14<>\"7) NA\",'Product SARF'!$E$14<>\"7) ...\"), \"   \"&CONCATENATE('Product SARF'!$L$18,'Product SARF'!$L$19),\"\") &IF(AND(NOT(ISBLANK('Product SARF'!M88)),'Product SARF'!$E$15<>\"8) NA\",'Product SARF'!$E$15<>\"8) ...\"), \"   \"&CONCATENATE('Product SARF'!$M$18,'Product SARF'!$M$19),\"\"))","v":""}]
[{"$f":"IF(C71=\"\",\"\",IF('Product SARF'!B89=\"\",\"\",'Product SARF'!B89))","v":""},{"$f":"IF('Product SARF'!C89=\"\",\"\",\"Sample\")","v":""},{"$f":"IF('Product SARF'!C89=\"\",\"\",'Product SARF'!C89)","v":""},{"$f":"IF(C71=\"\",\"\",IF('Product SARF'!D89=\"\",\"\",'Product SARF'!D89))","v":""},{"$f":"IF(C71=\"\",\"\",IF('Product SARF'!E89=\"\",\"\",'Product SARF'!E89))","v":""},{"$f":"IF(C71=\"\",\"\",IF('Product SARF'!$L$6=\"\",\"\",CONCATENATE('Product SARF'!$L$6,'Product SARF'!$M$6)))","v":""},{"$f":"IF(C71=\"\",\"\",IF('Product SARF'!$L$2=\"\",\"\",'Product SARF'!$L$2))","v":""},{"$f":"IF(C71=\"\",\"\",IF('Product SARF'!$L$4=\"\",NOW(),'Product SARF'!$L$4))","v":""},"",{"$f":"IF(C71=\"\",\"\", IF(AND(NOT(ISBLANK('Product SARF'!F89)),'Product SARF'!$E$8<>\"1) NA\",'Product SARF'!$E$8<>\"1) ...\"), \"   \"&CONCATENATE('Product SARF'!$F$18,'Product SARF'!$F$19),\"\") & IF(AND(NOT(ISBLANK('Product SARF'!G89)),'Product SARF'!$E$9<>\"2) NA\",'Product SARF'!$E$9<>\"2) ...\"), \"   \"&CONCATENATE('Product SARF'!$G$18,'Product SARF'!$G$19),\"\")& IF(AND(NOT(ISBLANK('Product SARF'!H89)),'Product SARF'!$E$10<>\"3) NA\",'Product SARF'!$E$10<>\"3) ...\"), \"   \"&CONCATENATE('Product SARF'!$H$18,'Product SARF'!$H$19),\"\") & IF(AND(NOT(ISBLANK('Product SARF'!I89)),'Product SARF'!$E$11<>\"4) NA\",'Product SARF'!$E$11<>\"4) ...\"), \"   \"&CONCATENATE('Product SARF'!$I$18,'Product SARF'!$I$19),\"\")& IF(AND(NOT(ISBLANK('Product SARF'!J89)),'Product SARF'!$E$12<>\"5) NA\",'Product SARF'!$E$12<>\"5) ...\"), \"   \"&CONCATENATE('Product SARF'!$J$18,'Product SARF'!$J$19),\"\")&IF(AND(NOT(ISBLANK('Product SARF'!K89)),'Product SARF'!$E$13<>\"6) NA\",'Product SARF'!$E$13<>\"6) ...\"), \"   \"&CONCATENATE('Product SARF'!$K$18,'Product SARF'!$K$19),\"\")&IF(AND(NOT(ISBLANK('Product SARF'!L89)),'Product SARF'!$E$14<>\"7) NA\",'Product SARF'!$E$14<>\"7) ...\"), \"   \"&CONCATENATE('Product SARF'!$L$18,'Product SARF'!$L$19),\"\") &IF(AND(NOT(ISBLANK('Product SARF'!M89)),'Product SARF'!$E$15<>\"8) NA\",'Product SARF'!$E$15<>\"8) ...\"), \"   \"&CONCATENATE('Product SARF'!$M$18,'Product SARF'!$M$19),\"\"))","v":""}]
[{"$f":"IF(C72=\"\",\"\",IF('Product SARF'!B90=\"\",\"\",'Product SARF'!B90))","v":""},{"$f":"IF('Product SARF'!C90=\"\",\"\",\"Sample\")","v":""},{"$f":"IF('Product SARF'!C90=\"\",\"\",'Product SARF'!C90)","v":""},{"$f":"IF(C72=\"\",\"\",IF('Product SARF'!D90=\"\",\"\",'Product SARF'!D90))","v":""},{"$f":"IF(C72=\"\",\"\",IF('Product SARF'!E90=\"\",\"\",'Product SARF'!E90))","v":""},{"$f":"IF(C72=\"\",\"\",IF('Product SARF'!$L$6=\"\",\"\",CONCATENATE('Product SARF'!$L$6,'Product SARF'!$M$6)))","v":""},{"$f":"IF(C72=\"\",\"\",IF('Product SARF'!$L$2=\"\",\"\",'Product SARF'!$L$2))","v":""},{"$f":"IF(C72=\"\",\"\",IF('Product SARF'!$L$4=\"\",NOW(),'Product SARF'!$L$4))","v":""},"",{"$f":"IF(C72=\"\",\"\", IF(AND(NOT(ISBLANK('Product SARF'!F90)),'Product SARF'!$E$8<>\"1) NA\",'Product SARF'!$E$8<>\"1) ...\"), \"   \"&CONCATENATE('Product SARF'!$F$18,'Product SARF'!$F$19),\"\") & IF(AND(NOT(ISBLANK('Product SARF'!G90)),'Product SARF'!$E$9<>\"2) NA\",'Product SARF'!$E$9<>\"2) ...\"), \"   \"&CONCATENATE('Product SARF'!$G$18,'Product SARF'!$G$19),\"\")& IF(AND(NOT(ISBLANK('Product SARF'!H90)),'Product SARF'!$E$10<>\"3) NA\",'Product SARF'!$E$10<>\"3) ...\"), \"   \"&CONCATENATE('Product SARF'!$H$18,'Product SARF'!$H$19),\"\") & IF(AND(NOT(ISBLANK('Product SARF'!I90)),'Product SARF'!$E$11<>\"4) NA\",'Product SARF'!$E$11<>\"4) ...\"), \"   \"&CONCATENATE('Product SARF'!$I$18,'Product SARF'!$I$19),\"\")& IF(AND(NOT(ISBLANK('Product SARF'!J90)),'Product SARF'!$E$12<>\"5) NA\",'Product SARF'!$E$12<>\"5) ...\"), \"   \"&CONCATENATE('Product SARF'!$J$18,'Product SARF'!$J$19),\"\")&IF(AND(NOT(ISBLANK('Product SARF'!K90)),'Product SARF'!$E$13<>\"6) NA\",'Product SARF'!$E$13<>\"6) ...\"), \"   \"&CONCATENATE('Product SARF'!$K$18,'Product SARF'!$K$19),\"\")&IF(AND(NOT(ISBLANK('Product SARF'!L90)),'Product SARF'!$E$14<>\"7) NA\",'Product SARF'!$E$14<>\"7) ...\"), \"   \"&CONCATENATE('Product SARF'!$L$18,'Product SARF'!$L$19),\"\") &IF(AND(NOT(ISBLANK('Product SARF'!M90)),'Product SARF'!$E$15<>\"8) NA\",'Product SARF'!$E$15<>\"8) ...\"), \"   \"&CONCATENATE('Product SARF'!$M$18,'Product SARF'!$M$19),\"\"))","v":""}]
[{"$f":"IF(C73=\"\",\"\",IF('Product SARF'!B91=\"\",\"\",'Product SARF'!B91))","v":""},{"$f":"IF('Product SARF'!C91=\"\",\"\",\"Sample\")","v":""},{"$f":"IF('Product SARF'!C91=\"\",\"\",'Product SARF'!C91)","v":""},{"$f":"IF(C73=\"\",\"\",IF('Product SARF'!D91=\"\",\"\",'Product SARF'!D91))","v":""},{"$f":"IF(C73=\"\",\"\",IF('Product SARF'!E91=\"\",\"\",'Product SARF'!E91))","v":""},{"$f":"IF(C73=\"\",\"\",IF('Product SARF'!$L$6=\"\",\"\",CONCATENATE('Product SARF'!$L$6,'Product SARF'!$M$6)))","v":""},{"$f":"IF(C73=\"\",\"\",IF('Product SARF'!$L$2=\"\",\"\",'Product SARF'!$L$2))","v":""},{"$f":"IF(C73=\"\",\"\",IF('Product SARF'!$L$4=\"\",NOW(),'Product SARF'!$L$4))","v":""},"",{"$f":"IF(C73=\"\",\"\", IF(AND(NOT(ISBLANK('Product SARF'!F91)),'Product SARF'!$E$8<>\"1) NA\",'Product SARF'!$E$8<>\"1) ...\"), \"   \"&CONCATENATE('Product SARF'!$F$18,'Product SARF'!$F$19),\"\") & IF(AND(NOT(ISBLANK('Product SARF'!G91)),'Product SARF'!$E$9<>\"2) NA\",'Product SARF'!$E$9<>\"2) ...\"), \"   \"&CONCATENATE('Product SARF'!$G$18,'Product SARF'!$G$19),\"\")& IF(AND(NOT(ISBLANK('Product SARF'!H91)),'Product SARF'!$E$10<>\"3) NA\",'Product SARF'!$E$10<>\"3) ...\"), \"   \"&CONCATENATE('Product SARF'!$H$18,'Product SARF'!$H$19),\"\") & IF(AND(NOT(ISBLANK('Product SARF'!I91)),'Product SARF'!$E$11<>\"4) NA\",'Product SARF'!$E$11<>\"4) ...\"), \"   \"&CONCATENATE('Product SARF'!$I$18,'Product SARF'!$I$19),\"\")& IF(AND(NOT(ISBLANK('Product SARF'!J91)),'Product SARF'!$E$12<>\"5) NA\",'Product SARF'!$E$12<>\"5) ...\"), \"   \"&CONCATENATE('Product SARF'!$J$18,'Product SARF'!$J$19),\"\")&IF(AND(NOT(ISBLANK('Product SARF'!K91)),'Product SARF'!$E$13<>\"6) NA\",'Product SARF'!$E$13<>\"6) ...\"), \"   \"&CONCATENATE('Product SARF'!$K$18,'Product SARF'!$K$19),\"\")&IF(AND(NOT(ISBLANK('Product SARF'!L91)),'Product SARF'!$E$14<>\"7) NA\",'Product SARF'!$E$14<>\"7) ...\"), \"   \"&CONCATENATE('Product SARF'!$L$18,'Product SARF'!$L$19),\"\") &IF(AND(NOT(ISBLANK('Product SARF'!M91)),'Product SARF'!$E$15<>\"8) NA\",'Product SARF'!$E$15<>\"8) ...\"), \"   \"&CONCATENATE('Product SARF'!$M$18,'Product SARF'!$M$19),\"\"))","v":""}]
[{"$f":"IF(C74=\"\",\"\",IF('Product SARF'!B92=\"\",\"\",'Product SARF'!B92))","v":""},{"$f":"IF('Product SARF'!C92=\"\",\"\",\"Sample\")","v":""},{"$f":"IF('Product SARF'!C92=\"\",\"\",'Product SARF'!C92)","v":""},{"$f":"IF(C74=\"\",\"\",IF('Product SARF'!D92=\"\",\"\",'Product SARF'!D92))","v":""},{"$f":"IF(C74=\"\",\"\",IF('Product SARF'!E92=\"\",\"\",'Product SARF'!E92))","v":""},{"$f":"IF(C74=\"\",\"\",IF('Product SARF'!$L$6=\"\",\"\",CONCATENATE('Product SARF'!$L$6,'Product SARF'!$M$6)))","v":""},{"$f":"IF(C74=\"\",\"\",IF('Product SARF'!$L$2=\"\",\"\",'Product SARF'!$L$2))","v":""},{"$f":"IF(C74=\"\",\"\",IF('Product SARF'!$L$4=\"\",NOW(),'Product SARF'!$L$4))","v":""},"",{"$f":"IF(C74=\"\",\"\", IF(AND(NOT(ISBLANK('Product SARF'!F92)),'Product SARF'!$E$8<>\"1) NA\",'Product SARF'!$E$8<>\"1) ...\"), \"   \"&CONCATENATE('Product SARF'!$F$18,'Product SARF'!$F$19),\"\") & IF(AND(NOT(ISBLANK('Product SARF'!G92)),'Product SARF'!$E$9<>\"2) NA\",'Product SARF'!$E$9<>\"2) ...\"), \"   \"&CONCATENATE('Product SARF'!$G$18,'Product SARF'!$G$19),\"\")& IF(AND(NOT(ISBLANK('Product SARF'!H92)),'Product SARF'!$E$10<>\"3) NA\",'Product SARF'!$E$10<>\"3) ...\"), \"   \"&CONCATENATE('Product SARF'!$H$18,'Product SARF'!$H$19),\"\") & IF(AND(NOT(ISBLANK('Product SARF'!I92)),'Product SARF'!$E$11<>\"4) NA\",'Product SARF'!$E$11<>\"4) ...\"), \"   \"&CONCATENATE('Product SARF'!$I$18,'Product SARF'!$I$19),\"\")& IF(AND(NOT(ISBLANK('Product SARF'!J92)),'Product SARF'!$E$12<>\"5) NA\",'Product SARF'!$E$12<>\"5) ...\"), \"   \"&CONCATENATE('Product SARF'!$J$18,'Product SARF'!$J$19),\"\")&IF(AND(NOT(ISBLANK('Product SARF'!K92)),'Product SARF'!$E$13<>\"6) NA\",'Product SARF'!$E$13<>\"6) ...\"), \"   \"&CONCATENATE('Product SARF'!$K$18,'Product SARF'!$K$19),\"\")&IF(AND(NOT(ISBLANK('Product SARF'!L92)),'Product SARF'!$E$14<>\"7) NA\",'Product SARF'!$E$14<>\"7) ...\"), \"   \"&CONCATENATE('Product SARF'!$L$18,'Product SARF'!$L$19),\"\") &IF(AND(NOT(ISBLANK('Product SARF'!M92)),'Product SARF'!$E$15<>\"8) NA\",'Product SARF'!$E$15<>\"8) ...\"), \"   \"&CONCATENATE('Product SARF'!$M$18,'Product SARF'!$M$19),\"\"))","v":""}]
[{"$f":"IF(C75=\"\",\"\",IF('Product SARF'!B93=\"\",\"\",'Product SARF'!B93))","v":""},{"$f":"IF('Product SARF'!C93=\"\",\"\",\"Sample\")","v":""},{"$f":"IF('Product SARF'!C93=\"\",\"\",'Product SARF'!C93)","v":""},{"$f":"IF(C75=\"\",\"\",IF('Product SARF'!D93=\"\",\"\",'Product SARF'!D93))","v":""},{"$f":"IF(C75=\"\",\"\",IF('Product SARF'!E93=\"\",\"\",'Product SARF'!E93))","v":""},{"$f":"IF(C75=\"\",\"\",IF('Product SARF'!$L$6=\"\",\"\",CONCATENATE('Product SARF'!$L$6,'Product SARF'!$M$6)))","v":""},{"$f":"IF(C75=\"\",\"\",IF('Product SARF'!$L$2=\"\",\"\",'Product SARF'!$L$2))","v":""},{"$f":"IF(C75=\"\",\"\",IF('Product SARF'!$L$4=\"\",NOW(),'Product SARF'!$L$4))","v":""},"",{"$f":"IF(C75=\"\",\"\", IF(AND(NOT(ISBLANK('Product SARF'!F93)),'Product SARF'!$E$8<>\"1) NA\",'Product SARF'!$E$8<>\"1) ...\"), \"   \"&CONCATENATE('Product SARF'!$F$18,'Product SARF'!$F$19),\"\") & IF(AND(NOT(ISBLANK('Product SARF'!G93)),'Product SARF'!$E$9<>\"2) NA\",'Product SARF'!$E$9<>\"2) ...\"), \"   \"&CONCATENATE('Product SARF'!$G$18,'Product SARF'!$G$19),\"\")& IF(AND(NOT(ISBLANK('Product SARF'!H93)),'Product SARF'!$E$10<>\"3) NA\",'Product SARF'!$E$10<>\"3) ...\"), \"   \"&CONCATENATE('Product SARF'!$H$18,'Product SARF'!$H$19),\"\") & IF(AND(NOT(ISBLANK('Product SARF'!I93)),'Product SARF'!$E$11<>\"4) NA\",'Product SARF'!$E$11<>\"4) ...\"), \"   \"&CONCATENATE('Product SARF'!$I$18,'Product SARF'!$I$19),\"\")& IF(AND(NOT(ISBLANK('Product SARF'!J93)),'Product SARF'!$E$12<>\"5) NA\",'Product SARF'!$E$12<>\"5) ...\"), \"   \"&CONCATENATE('Product SARF'!$J$18,'Product SARF'!$J$19),\"\")&IF(AND(NOT(ISBLANK('Product SARF'!K93)),'Product SARF'!$E$13<>\"6) NA\",'Product SARF'!$E$13<>\"6) ...\"), \"   \"&CONCATENATE('Product SARF'!$K$18,'Product SARF'!$K$19),\"\")&IF(AND(NOT(ISBLANK('Product SARF'!L93)),'Product SARF'!$E$14<>\"7) NA\",'Product SARF'!$E$14<>\"7) ...\"), \"   \"&CONCATENATE('Product SARF'!$L$18,'Product SARF'!$L$19),\"\") &IF(AND(NOT(ISBLANK('Product SARF'!M93)),'Product SARF'!$E$15<>\"8) NA\",'Product SARF'!$E$15<>\"8) ...\"), \"   \"&CONCATENATE('Product SARF'!$M$18,'Product SARF'!$M$19),\"\"))","v":""}]
[{"$f":"IF(C76=\"\",\"\",IF('Product SARF'!B94=\"\",\"\",'Product SARF'!B94))","v":""},{"$f":"IF('Product SARF'!C94=\"\",\"\",\"Sample\")","v":""},{"$f":"IF('Product SARF'!C94=\"\",\"\",'Product SARF'!C94)","v":""},{"$f":"IF(C76=\"\",\"\",IF('Product SARF'!D94=\"\",\"\",'Product SARF'!D94))","v":""},{"$f":"IF(C76=\"\",\"\",IF('Product SARF'!E94=\"\",\"\",'Product SARF'!E94))","v":""},{"$f":"IF(C76=\"\",\"\",IF('Product SARF'!$L$6=\"\",\"\",CONCATENATE('Product SARF'!$L$6,'Product SARF'!$M$6)))","v":""},{"$f":"IF(C76=\"\",\"\",IF('Product SARF'!$L$2=\"\",\"\",'Product SARF'!$L$2))","v":""},{"$f":"IF(C76=\"\",\"\",IF('Product SARF'!$L$4=\"\",NOW(),'Product SARF'!$L$4))","v":""},"",{"$f":"IF(C76=\"\",\"\", IF(AND(NOT(ISBLANK('Product SARF'!F94)),'Product SARF'!$E$8<>\"1) NA\",'Product SARF'!$E$8<>\"1) ...\"), \"   \"&CONCATENATE('Product SARF'!$F$18,'Product SARF'!$F$19),\"\") & IF(AND(NOT(ISBLANK('Product SARF'!G94)),'Product SARF'!$E$9<>\"2) NA\",'Product SARF'!$E$9<>\"2) ...\"), \"   \"&CONCATENATE('Product SARF'!$G$18,'Product SARF'!$G$19),\"\")& IF(AND(NOT(ISBLANK('Product SARF'!H94)),'Product SARF'!$E$10<>\"3) NA\",'Product SARF'!$E$10<>\"3) ...\"), \"   \"&CONCATENATE('Product SARF'!$H$18,'Product SARF'!$H$19),\"\") & IF(AND(NOT(ISBLANK('Product SARF'!I94)),'Product SARF'!$E$11<>\"4) NA\",'Product SARF'!$E$11<>\"4) ...\"), \"   \"&CONCATENATE('Product SARF'!$I$18,'Product SARF'!$I$19),\"\")& IF(AND(NOT(ISBLANK('Product SARF'!J94)),'Product SARF'!$E$12<>\"5) NA\",'Product SARF'!$E$12<>\"5) ...\"), \"   \"&CONCATENATE('Product SARF'!$J$18,'Product SARF'!$J$19),\"\")&IF(AND(NOT(ISBLANK('Product SARF'!K94)),'Product SARF'!$E$13<>\"6) NA\",'Product SARF'!$E$13<>\"6) ...\"), \"   \"&CONCATENATE('Product SARF'!$K$18,'Product SARF'!$K$19),\"\")&IF(AND(NOT(ISBLANK('Product SARF'!L94)),'Product SARF'!$E$14<>\"7) NA\",'Product SARF'!$E$14<>\"7) ...\"), \"   \"&CONCATENATE('Product SARF'!$L$18,'Product SARF'!$L$19),\"\") &IF(AND(NOT(ISBLANK('Product SARF'!M94)),'Product SARF'!$E$15<>\"8) NA\",'Product SARF'!$E$15<>\"8) ...\"), \"   \"&CONCATENATE('Product SARF'!$M$18,'Product SARF'!$M$19),\"\"))","v":""}]
[{"$f":"IF(C77=\"\",\"\",IF('Product SARF'!B95=\"\",\"\",'Product SARF'!B95))","v":""},{"$f":"IF('Product SARF'!C95=\"\",\"\",\"Sample\")","v":""},{"$f":"IF('Product SARF'!C95=\"\",\"\",'Product SARF'!C95)","v":""},{"$f":"IF(C77=\"\",\"\",IF('Product SARF'!D95=\"\",\"\",'Product SARF'!D95))","v":""},{"$f":"IF(C77=\"\",\"\",IF('Product SARF'!E95=\"\",\"\",'Product SARF'!E95))","v":""},{"$f":"IF(C77=\"\",\"\",IF('Product SARF'!$L$6=\"\",\"\",CONCATENATE('Product SARF'!$L$6,'Product SARF'!$M$6)))","v":""},{"$f":"IF(C77=\"\",\"\",IF('Product SARF'!$L$2=\"\",\"\",'Product SARF'!$L$2))","v":""},{"$f":"IF(C77=\"\",\"\",IF('Product SARF'!$L$4=\"\",NOW(),'Product SARF'!$L$4))","v":""},"",{"$f":"IF(C77=\"\",\"\", IF(AND(NOT(ISBLANK('Product SARF'!F95)),'Product SARF'!$E$8<>\"1) NA\",'Product SARF'!$E$8<>\"1) ...\"), \"   \"&CONCATENATE('Product SARF'!$F$18,'Product SARF'!$F$19),\"\") & IF(AND(NOT(ISBLANK('Product SARF'!G95)),'Product SARF'!$E$9<>\"2) NA\",'Product SARF'!$E$9<>\"2) ...\"), \"   \"&CONCATENATE('Product SARF'!$G$18,'Product SARF'!$G$19),\"\")& IF(AND(NOT(ISBLANK('Product SARF'!H95)),'Product SARF'!$E$10<>\"3) NA\",'Product SARF'!$E$10<>\"3) ...\"), \"   \"&CONCATENATE('Product SARF'!$H$18,'Product SARF'!$H$19),\"\") & IF(AND(NOT(ISBLANK('Product SARF'!I95)),'Product SARF'!$E$11<>\"4) NA\",'Product SARF'!$E$11<>\"4) ...\"), \"   \"&CONCATENATE('Product SARF'!$I$18,'Product SARF'!$I$19),\"\")& IF(AND(NOT(ISBLANK('Product SARF'!J95)),'Product SARF'!$E$12<>\"5) NA\",'Product SARF'!$E$12<>\"5) ...\"), \"   \"&CONCATENATE('Product SARF'!$J$18,'Product SARF'!$J$19),\"\")&IF(AND(NOT(ISBLANK('Product SARF'!K95)),'Product SARF'!$E$13<>\"6) NA\",'Product SARF'!$E$13<>\"6) ...\"), \"   \"&CONCATENATE('Product SARF'!$K$18,'Product SARF'!$K$19),\"\")&IF(AND(NOT(ISBLANK('Product SARF'!L95)),'Product SARF'!$E$14<>\"7) NA\",'Product SARF'!$E$14<>\"7) ...\"), \"   \"&CONCATENATE('Product SARF'!$L$18,'Product SARF'!$L$19),\"\") &IF(AND(NOT(ISBLANK('Product SARF'!M95)),'Product SARF'!$E$15<>\"8) NA\",'Product SARF'!$E$15<>\"8) ...\"), \"   \"&CONCATENATE('Product SARF'!$M$18,'Product SARF'!$M$19),\"\"))","v":""}]
[{"$f":"IF(C78=\"\",\"\",IF('Product SARF'!B96=\"\",\"\",'Product SARF'!B96))","v":""},{"$f":"IF('Product SARF'!C96=\"\",\"\",\"Sample\")","v":""},{"$f":"IF('Product SARF'!C96=\"\",\"\",'Product SARF'!C96)","v":""},{"$f":"IF(C78=\"\",\"\",IF('Product SARF'!D96=\"\",\"\",'Product SARF'!D96))","v":""},{"$f":"IF(C78=\"\",\"\",IF('Product SARF'!E96=\"\",\"\",'Product SARF'!E96))","v":""},{"$f":"IF(C78=\"\",\"\",IF('Product SARF'!$L$6=\"\",\"\",CONCATENATE('Product SARF'!$L$6,'Product SARF'!$M$6)))","v":""},{"$f":"IF(C78=\"\",\"\",IF('Product SARF'!$L$2=\"\",\"\",'Product SARF'!$L$2))","v":""},{"$f":"IF(C78=\"\",\"\",IF('Product SARF'!$L$4=\"\",NOW(),'Product SARF'!$L$4))","v":""},"",{"$f":"IF(C78=\"\",\"\", IF(AND(NOT(ISBLANK('Product SARF'!F96)),'Product SARF'!$E$8<>\"1) NA\",'Product SARF'!$E$8<>\"1) ...\"), \"   \"&CONCATENATE('Product SARF'!$F$18,'Product SARF'!$F$19),\"\") & IF(AND(NOT(ISBLANK('Product SARF'!G96)),'Product SARF'!$E$9<>\"2) NA\",'Product SARF'!$E$9<>\"2) ...\"), \"   \"&CONCATENATE('Product SARF'!$G$18,'Product SARF'!$G$19),\"\")& IF(AND(NOT(ISBLANK('Product SARF'!H96)),'Product SARF'!$E$10<>\"3) NA\",'Product SARF'!$E$10<>\"3) ...\"), \"   \"&CONCATENATE('Product SARF'!$H$18,'Product SARF'!$H$19),\"\") & IF(AND(NOT(ISBLANK('Product SARF'!I96)),'Product SARF'!$E$11<>\"4) NA\",'Product SARF'!$E$11<>\"4) ...\"), \"   \"&CONCATENATE('Product SARF'!$I$18,'Product SARF'!$I$19),\"\")& IF(AND(NOT(ISBLANK('Product SARF'!J96)),'Product SARF'!$E$12<>\"5) NA\",'Product SARF'!$E$12<>\"5) ...\"), \"   \"&CONCATENATE('Product SARF'!$J$18,'Product SARF'!$J$19),\"\")&IF(AND(NOT(ISBLANK('Product SARF'!K96)),'Product SARF'!$E$13<>\"6) NA\",'Product SARF'!$E$13<>\"6) ...\"), \"   \"&CONCATENATE('Product SARF'!$K$18,'Product SARF'!$K$19),\"\")&IF(AND(NOT(ISBLANK('Product SARF'!L96)),'Product SARF'!$E$14<>\"7) NA\",'Product SARF'!$E$14<>\"7) ...\"), \"   \"&CONCATENATE('Product SARF'!$L$18,'Product SARF'!$L$19),\"\") &IF(AND(NOT(ISBLANK('Product SARF'!M96)),'Product SARF'!$E$15<>\"8) NA\",'Product SARF'!$E$15<>\"8) ...\"), \"   \"&CONCATENATE('Product SARF'!$M$18,'Product SARF'!$M$19),\"\"))","v":""}]
[{"$f":"IF(C79=\"\",\"\",IF('Product SARF'!B97=\"\",\"\",'Product SARF'!B97))","v":""},{"$f":"IF('Product SARF'!C97=\"\",\"\",\"Sample\")","v":""},{"$f":"IF('Product SARF'!C97=\"\",\"\",'Product SARF'!C97)","v":""},{"$f":"IF(C79=\"\",\"\",IF('Product SARF'!D97=\"\",\"\",'Product SARF'!D97))","v":""},{"$f":"IF(C79=\"\",\"\",IF('Product SARF'!E97=\"\",\"\",'Product SARF'!E97))","v":""},{"$f":"IF(C79=\"\",\"\",IF('Product SARF'!$L$6=\"\",\"\",CONCATENATE('Product SARF'!$L$6,'Product SARF'!$M$6)))","v":""},{"$f":"IF(C79=\"\",\"\",IF('Product SARF'!$L$2=\"\",\"\",'Product SARF'!$L$2))","v":""},{"$f":"IF(C79=\"\",\"\",IF('Product SARF'!$L$4=\"\",NOW(),'Product SARF'!$L$4))","v":""},"",{"$f":"IF(C79=\"\",\"\", IF(AND(NOT(ISBLANK('Product SARF'!F97)),'Product SARF'!$E$8<>\"1) NA\",'Product SARF'!$E$8<>\"1) ...\"), \"   \"&CONCATENATE('Product SARF'!$F$18,'Product SARF'!$F$19),\"\") & IF(AND(NOT(ISBLANK('Product SARF'!G97)),'Product SARF'!$E$9<>\"2) NA\",'Product SARF'!$E$9<>\"2) ...\"), \"   \"&CONCATENATE('Product SARF'!$G$18,'Product SARF'!$G$19),\"\")& IF(AND(NOT(ISBLANK('Product SARF'!H97)),'Product SARF'!$E$10<>\"3) NA\",'Product SARF'!$E$10<>\"3) ...\"), \"   \"&CONCATENATE('Product SARF'!$H$18,'Product SARF'!$H$19),\"\") & IF(AND(NOT(ISBLANK('Product SARF'!I97)),'Product SARF'!$E$11<>\"4) NA\",'Product SARF'!$E$11<>\"4) ...\"), \"   \"&CONCATENATE('Product SARF'!$I$18,'Product SARF'!$I$19),\"\")& IF(AND(NOT(ISBLANK('Product SARF'!J97)),'Product SARF'!$E$12<>\"5) NA\",'Product SARF'!$E$12<>\"5) ...\"), \"   \"&CONCATENATE('Product SARF'!$J$18,'Product SARF'!$J$19),\"\")&IF(AND(NOT(ISBLANK('Product SARF'!K97)),'Product SARF'!$E$13<>\"6) NA\",'Product SARF'!$E$13<>\"6) ...\"), \"   \"&CONCATENATE('Product SARF'!$K$18,'Product SARF'!$K$19),\"\")&IF(AND(NOT(ISBLANK('Product SARF'!L97)),'Product SARF'!$E$14<>\"7) NA\",'Product SARF'!$E$14<>\"7) ...\"), \"   \"&CONCATENATE('Product SARF'!$L$18,'Product SARF'!$L$19),\"\") &IF(AND(NOT(ISBLANK('Product SARF'!M97)),'Product SARF'!$E$15<>\"8) NA\",'Product SARF'!$E$15<>\"8) ...\"), \"   \"&CONCATENATE('Product SARF'!$M$18,'Product SARF'!$M$19),\"\"))","v":""}]
[{"$f":"IF(C80=\"\",\"\",IF('Product SARF'!B98=\"\",\"\",'Product SARF'!B98))","v":""},{"$f":"IF('Product SARF'!C98=\"\",\"\",\"Sample\")","v":""},{"$f":"IF('Product SARF'!C98=\"\",\"\",'Product SARF'!C98)","v":""},{"$f":"IF(C80=\"\",\"\",IF('Product SARF'!D98=\"\",\"\",'Product SARF'!D98))","v":""},{"$f":"IF(C80=\"\",\"\",IF('Product SARF'!E98=\"\",\"\",'Product SARF'!E98))","v":""},{"$f":"IF(C80=\"\",\"\",IF('Product SARF'!$L$6=\"\",\"\",CONCATENATE('Product SARF'!$L$6,'Product SARF'!$M$6)))","v":""},{"$f":"IF(C80=\"\",\"\",IF('Product SARF'!$L$2=\"\",\"\",'Product SARF'!$L$2))","v":""},{"$f":"IF(C80=\"\",\"\",IF('Product SARF'!$L$4=\"\",NOW(),'Product SARF'!$L$4))","v":""},"",{"$f":"IF(C80=\"\",\"\", IF(AND(NOT(ISBLANK('Product SARF'!F98)),'Product SARF'!$E$8<>\"1) NA\",'Product SARF'!$E$8<>\"1) ...\"), \"   \"&CONCATENATE('Product SARF'!$F$18,'Product SARF'!$F$19),\"\") & IF(AND(NOT(ISBLANK('Product SARF'!G98)),'Product SARF'!$E$9<>\"2) NA\",'Product SARF'!$E$9<>\"2) ...\"), \"   \"&CONCATENATE('Product SARF'!$G$18,'Product SARF'!$G$19),\"\")& IF(AND(NOT(ISBLANK('Product SARF'!H98)),'Product SARF'!$E$10<>\"3) NA\",'Product SARF'!$E$10<>\"3) ...\"), \"   \"&CONCATENATE('Product SARF'!$H$18,'Product SARF'!$H$19),\"\") & IF(AND(NOT(ISBLANK('Product SARF'!I98)),'Product SARF'!$E$11<>\"4) NA\",'Product SARF'!$E$11<>\"4) ...\"), \"   \"&CONCATENATE('Product SARF'!$I$18,'Product SARF'!$I$19),\"\")& IF(AND(NOT(ISBLANK('Product SARF'!J98)),'Product SARF'!$E$12<>\"5) NA\",'Product SARF'!$E$12<>\"5) ...\"), \"   \"&CONCATENATE('Product SARF'!$J$18,'Product SARF'!$J$19),\"\")&IF(AND(NOT(ISBLANK('Product SARF'!K98)),'Product SARF'!$E$13<>\"6) NA\",'Product SARF'!$E$13<>\"6) ...\"), \"   \"&CONCATENATE('Product SARF'!$K$18,'Product SARF'!$K$19),\"\")&IF(AND(NOT(ISBLANK('Product SARF'!L98)),'Product SARF'!$E$14<>\"7) NA\",'Product SARF'!$E$14<>\"7) ...\"), \"   \"&CONCATENATE('Product SARF'!$L$18,'Product SARF'!$L$19),\"\") &IF(AND(NOT(ISBLANK('Product SARF'!M98)),'Product SARF'!$E$15<>\"8) NA\",'Product SARF'!$E$15<>\"8) ...\"), \"   \"&CONCATENATE('Product SARF'!$M$18,'Product SARF'!$M$19),\"\"))","v":""}]
[{"$f":"IF(C81=\"\",\"\",IF('Product SARF'!B99=\"\",\"\",'Product SARF'!B99))","v":""},{"$f":"IF('Product SARF'!C99=\"\",\"\",\"Sample\")","v":""},{"$f":"IF('Product SARF'!C99=\"\",\"\",'Product SARF'!C99)","v":""},{"$f":"IF(C81=\"\",\"\",IF('Product SARF'!D99=\"\",\"\",'Product SARF'!D99))","v":""},{"$f":"IF(C81=\"\",\"\",IF('Product SARF'!E99=\"\",\"\",'Product SARF'!E99))","v":""},{"$f":"IF(C81=\"\",\"\",IF('Product SARF'!$L$6=\"\",\"\",CONCATENATE('Product SARF'!$L$6,'Product SARF'!$M$6)))","v":""},{"$f":"IF(C81=\"\",\"\",IF('Product SARF'!$L$2=\"\",\"\",'Product SARF'!$L$2))","v":""},{"$f":"IF(C81=\"\",\"\",IF('Product SARF'!$L$4=\"\",NOW(),'Product SARF'!$L$4))","v":""},"",{"$f":"IF(C81=\"\",\"\", IF(AND(NOT(ISBLANK('Product SARF'!F99)),'Product SARF'!$E$8<>\"1) NA\",'Product SARF'!$E$8<>\"1) ...\"), \"   \"&CONCATENATE('Product SARF'!$F$18,'Product SARF'!$F$19),\"\") & IF(AND(NOT(ISBLANK('Product SARF'!G99)),'Product SARF'!$E$9<>\"2) NA\",'Product SARF'!$E$9<>\"2) ...\"), \"   \"&CONCATENATE('Product SARF'!$G$18,'Product SARF'!$G$19),\"\")& IF(AND(NOT(ISBLANK('Product SARF'!H99)),'Product SARF'!$E$10<>\"3) NA\",'Product SARF'!$E$10<>\"3) ...\"), \"   \"&CONCATENATE('Product SARF'!$H$18,'Product SARF'!$H$19),\"\") & IF(AND(NOT(ISBLANK('Product SARF'!I99)),'Product SARF'!$E$11<>\"4) NA\",'Product SARF'!$E$11<>\"4) ...\"), \"   \"&CONCATENATE('Product SARF'!$I$18,'Product SARF'!$I$19),\"\")& IF(AND(NOT(ISBLANK('Product SARF'!J99)),'Product SARF'!$E$12<>\"5) NA\",'Product SARF'!$E$12<>\"5) ...\"), \"   \"&CONCATENATE('Product SARF'!$J$18,'Product SARF'!$J$19),\"\")&IF(AND(NOT(ISBLANK('Product SARF'!K99)),'Product SARF'!$E$13<>\"6) NA\",'Product SARF'!$E$13<>\"6) ...\"), \"   \"&CONCATENATE('Product SARF'!$K$18,'Product SARF'!$K$19),\"\")&IF(AND(NOT(ISBLANK('Product SARF'!L99)),'Product SARF'!$E$14<>\"7) NA\",'Product SARF'!$E$14<>\"7) ...\"), \"   \"&CONCATENATE('Product SARF'!$L$18,'Product SARF'!$L$19),\"\") &IF(AND(NOT(ISBLANK('Product SARF'!M99)),'Product SARF'!$E$15<>\"8) NA\",'Product SARF'!$E$15<>\"8) ...\"), \"   \"&CONCATENATE('Product SARF'!$M$18,'Product SARF'!$M$19),\"\"))","v":""}]
[{"$f":"IF(C82=\"\",\"\",IF('Product SARF'!B100=\"\",\"\",'Product SARF'!B100))","v":""},{"$f":"IF('Product SARF'!C100=\"\",\"\",\"Sample\")","v":""},{"$f":"IF('Product SARF'!C100=\"\",\"\",'Product SARF'!C100)","v":""},{"$f":"IF(C82=\"\",\"\",IF('Product SARF'!D100=\"\",\"\",'Product SARF'!D100))","v":""},{"$f":"IF(C82=\"\",\"\",IF('Product SARF'!E100=\"\",\"\",'Product SARF'!E100))","v":""},{"$f":"IF(C82=\"\",\"\",IF('Product SARF'!$L$6=\"\",\"\",CONCATENATE('Product SARF'!$L$6,'Product SARF'!$M$6)))","v":""},{"$f":"IF(C82=\"\",\"\",IF('Product SARF'!$L$2=\"\",\"\",'Product SARF'!$L$2))","v":""},{"$f":"IF(C82=\"\",\"\",IF('Product SARF'!$L$4=\"\",NOW(),'Product SARF'!$L$4))","v":""},"",{"$f":"IF(C82=\"\",\"\", IF(AND(NOT(ISBLANK('Product SARF'!F100)),'Product SARF'!$E$8<>\"1) NA\",'Product SARF'!$E$8<>\"1) ...\"), \"   \"&CONCATENATE('Product SARF'!$F$18,'Product SARF'!$F$19),\"\") & IF(AND(NOT(ISBLANK('Product SARF'!G100)),'Product SARF'!$E$9<>\"2) NA\",'Product SARF'!$E$9<>\"2) ...\"), \"   \"&CONCATENATE('Product SARF'!$G$18,'Product SARF'!$G$19),\"\")& IF(AND(NOT(ISBLANK('Product SARF'!H100)),'Product SARF'!$E$10<>\"3) NA\",'Product SARF'!$E$10<>\"3) ...\"), \"   \"&CONCATENATE('Product SARF'!$H$18,'Product SARF'!$H$19),\"\") & IF(AND(NOT(ISBLANK('Product SARF'!I100)),'Product SARF'!$E$11<>\"4) NA\",'Product SARF'!$E$11<>\"4) ...\"), \"   \"&CONCATENATE('Product SARF'!$I$18,'Product SARF'!$I$19),\"\")& IF(AND(NOT(ISBLANK('Product SARF'!J100)),'Product SARF'!$E$12<>\"5) NA\",'Product SARF'!$E$12<>\"5) ...\"), \"   \"&CONCATENATE('Product SARF'!$J$18,'Product SARF'!$J$19),\"\")&IF(AND(NOT(ISBLANK('Product SARF'!K100)),'Product SARF'!$E$13<>\"6) NA\",'Product SARF'!$E$13<>\"6) ...\"), \"   \"&CONCATENATE('Product SARF'!$K$18,'Product SARF'!$K$19),\"\")&IF(AND(NOT(ISBLANK('Product SARF'!L100)),'Product SARF'!$E$14<>\"7) NA\",'Product SARF'!$E$14<>\"7) ...\"), \"   \"&CONCATENATE('Product SARF'!$L$18,'Product SARF'!$L$19),\"\") &IF(AND(NOT(ISBLANK('Product SARF'!M100)),'Product SARF'!$E$15<>\"8) NA\",'Product SARF'!$E$15<>\"8) ...\"), \"   \"&CONCATENATE('Product SARF'!$M$18,'Product SARF'!$M$19),\"\"))","v":""}]
[{"$f":"IF(C83=\"\",\"\",IF('Product SARF'!B101=\"\",\"\",'Product SARF'!B101))","v":""},{"$f":"IF('Product SARF'!C101=\"\",\"\",\"Sample\")","v":""},{"$f":"IF('Product SARF'!C101=\"\",\"\",'Product SARF'!C101)","v":""},{"$f":"IF(C83=\"\",\"\",IF('Product SARF'!D101=\"\",\"\",'Product SARF'!D101))","v":""},{"$f":"IF(C83=\"\",\"\",IF('Product SARF'!E101=\"\",\"\",'Product SARF'!E101))","v":""},{"$f":"IF(C83=\"\",\"\",IF('Product SARF'!$L$6=\"\",\"\",CONCATENATE('Product SARF'!$L$6,'Product SARF'!$M$6)))","v":""},{"$f":"IF(C83=\"\",\"\",IF('Product SARF'!$L$2=\"\",\"\",'Product SARF'!$L$2))","v":""},{"$f":"IF(C83=\"\",\"\",IF('Product SARF'!$L$4=\"\",NOW(),'Product SARF'!$L$4))","v":""},{"$f":"IF(C83=\"\",\"\",NOW())","v":""},{"$f":"IF(C83=\"\",\"\", IF(AND(NOT(ISBLANK('Product SARF'!F101)),'Product SARF'!$E$8<>\"1) NA\",'Product SARF'!$E$8<>\"1) ...\"), \"   \"&CONCATENATE('Product SARF'!$F$18,'Product SARF'!$F$19),\"\") & IF(AND(NOT(ISBLANK('Product SARF'!G101)),'Product SARF'!$E$9<>\"2) NA\",'Product SARF'!$E$9<>\"2) ...\"), \"   \"&CONCATENATE('Product SARF'!$G$18,'Product SARF'!$G$19),\"\")& IF(AND(NOT(ISBLANK('Product SARF'!H101)),'Product SARF'!$E$10<>\"3) NA\",'Product SARF'!$E$10<>\"3) ...\"), \"   \"&CONCATENATE('Product SARF'!$H$18,'Product SARF'!$H$19),\"\") & IF(AND(NOT(ISBLANK('Product SARF'!I101)),'Product SARF'!$E$11<>\"4) NA\",'Product SARF'!$E$11<>\"4) ...\"), \"   \"&CONCATENATE('Product SARF'!$I$18,'Product SARF'!$I$19),\"\")& IF(AND(NOT(ISBLANK('Product SARF'!J101)),'Product SARF'!$E$12<>\"5) NA\",'Product SARF'!$E$12<>\"5) ...\"), \"   \"&CONCATENATE('Product SARF'!$J$18,'Product SARF'!$J$19),\"\")&IF(AND(NOT(ISBLANK('Product SARF'!K101)),'Product SARF'!$E$13<>\"6) NA\",'Product SARF'!$E$13<>\"6) ...\"), \"   \"&CONCATENATE('Product SARF'!$K$18,'Product SARF'!$K$19),\"\")&IF(AND(NOT(ISBLANK('Product SARF'!L101)),'Product SARF'!$E$14<>\"7) NA\",'Product SARF'!$E$14<>\"7) ...\"), \"   \"&CONCATENATE('Product SARF'!$L$18,'Product SARF'!$L$19),\"\") &IF(AND(NOT(ISBLANK('Product SARF'!M101)),'Product SARF'!$E$15<>\"8) NA\",'Product SARF'!$E$15<>\"8) ...\"), \"   \"&CONCATENATE('Product SARF'!$M$18,'Product SARF'!$M$19),\"\"))","v":""}]
[{"$f":"IF(C84=\"\",\"\",IF('Product SARF'!B102=\"\",\"\",'Product SARF'!B102))","v":""},{"$f":"IF('Product SARF'!C102=\"\",\"\",\"Sample\")","v":""},{"$f":"IF('Product SARF'!C102=\"\",\"\",'Product SARF'!C102)","v":""},{"$f":"IF(C84=\"\",\"\",IF('Product SARF'!D102=\"\",\"\",'Product SARF'!D102))","v":""},{"$f":"IF(C84=\"\",\"\",IF('Product SARF'!E102=\"\",\"\",'Product SARF'!E102))","v":""},{"$f":"IF(C84=\"\",\"\",IF('Product SARF'!$L$6=\"\",\"\",CONCATENATE('Product SARF'!$L$6,'Product SARF'!$M$6)))","v":""},{"$f":"IF(C84=\"\",\"\",IF('Product SARF'!$L$2=\"\",\"\",'Product SARF'!$L$2))","v":""},{"$f":"IF(C84=\"\",\"\",IF('Product SARF'!$L$4=\"\",NOW(),'Product SARF'!$L$4))","v":""},"",{"$f":"IF(C84=\"\",\"\", IF(AND(NOT(ISBLANK('Product SARF'!F102)),'Product SARF'!$E$8<>\"1) NA\",'Product SARF'!$E$8<>\"1) ...\"), \"   \"&CONCATENATE('Product SARF'!$F$18,'Product SARF'!$F$19),\"\") & IF(AND(NOT(ISBLANK('Product SARF'!G102)),'Product SARF'!$E$9<>\"2) NA\",'Product SARF'!$E$9<>\"2) ...\"), \"   \"&CONCATENATE('Product SARF'!$G$18,'Product SARF'!$G$19),\"\")& IF(AND(NOT(ISBLANK('Product SARF'!H102)),'Product SARF'!$E$10<>\"3) NA\",'Product SARF'!$E$10<>\"3) ...\"), \"   \"&CONCATENATE('Product SARF'!$H$18,'Product SARF'!$H$19),\"\") & IF(AND(NOT(ISBLANK('Product SARF'!I102)),'Product SARF'!$E$11<>\"4) NA\",'Product SARF'!$E$11<>\"4) ...\"), \"   \"&CONCATENATE('Product SARF'!$I$18,'Product SARF'!$I$19),\"\")& IF(AND(NOT(ISBLANK('Product SARF'!J102)),'Product SARF'!$E$12<>\"5) NA\",'Product SARF'!$E$12<>\"5) ...\"), \"   \"&CONCATENATE('Product SARF'!$J$18,'Product SARF'!$J$19),\"\")&IF(AND(NOT(ISBLANK('Product SARF'!K102)),'Product SARF'!$E$13<>\"6) NA\",'Product SARF'!$E$13<>\"6) ...\"), \"   \"&CONCATENATE('Product SARF'!$K$18,'Product SARF'!$K$19),\"\")&IF(AND(NOT(ISBLANK('Product SARF'!L102)),'Product SARF'!$E$14<>\"7) NA\",'Product SARF'!$E$14<>\"7) ...\"), \"   \"&CONCATENATE('Product SARF'!$L$18,'Product SARF'!$L$19),\"\") &IF(AND(NOT(ISBLANK('Product SARF'!M102)),'Product SARF'!$E$15<>\"8) NA\",'Product SARF'!$E$15<>\"8) ...\"), \"   \"&CONCATENATE('Product SARF'!$M$18,'Product SARF'!$M$19),\"\"))","v":""}]
[{"$f":"IF(C85=\"\",\"\",IF('Product SARF'!B103=\"\",\"\",'Product SARF'!B103))","v":""},{"$f":"IF('Product SARF'!C103=\"\",\"\",\"Sample\")","v":""},{"$f":"IF('Product SARF'!C103=\"\",\"\",'Product SARF'!C103)","v":""},{"$f":"IF(C85=\"\",\"\",IF('Product SARF'!D103=\"\",\"\",'Product SARF'!D103))","v":""},{"$f":"IF(C85=\"\",\"\",IF('Product SARF'!E103=\"\",\"\",'Product SARF'!E103))","v":""},{"$f":"IF(C85=\"\",\"\",IF('Product SARF'!$L$6=\"\",\"\",CONCATENATE('Product SARF'!$L$6,'Product SARF'!$M$6)))","v":""},{"$f":"IF(C85=\"\",\"\",IF('Product SARF'!$L$2=\"\",\"\",'Product SARF'!$L$2))","v":""},{"$f":"IF(C85=\"\",\"\",IF('Product SARF'!$L$4=\"\",NOW(),'Product SARF'!$L$4))","v":""},"",{"$f":"IF(C85=\"\",\"\", IF(AND(NOT(ISBLANK('Product SARF'!F103)),'Product SARF'!$E$8<>\"1) NA\",'Product SARF'!$E$8<>\"1) ...\"), \"   \"&CONCATENATE('Product SARF'!$F$18,'Product SARF'!$F$19),\"\") & IF(AND(NOT(ISBLANK('Product SARF'!G103)),'Product SARF'!$E$9<>\"2) NA\",'Product SARF'!$E$9<>\"2) ...\"), \"   \"&CONCATENATE('Product SARF'!$G$18,'Product SARF'!$G$19),\"\")& IF(AND(NOT(ISBLANK('Product SARF'!H103)),'Product SARF'!$E$10<>\"3) NA\",'Product SARF'!$E$10<>\"3) ...\"), \"   \"&CONCATENATE('Product SARF'!$H$18,'Product SARF'!$H$19),\"\") & IF(AND(NOT(ISBLANK('Product SARF'!I103)),'Product SARF'!$E$11<>\"4) NA\",'Product SARF'!$E$11<>\"4) ...\"), \"   \"&CONCATENATE('Product SARF'!$I$18,'Product SARF'!$I$19),\"\")& IF(AND(NOT(ISBLANK('Product SARF'!J103)),'Product SARF'!$E$12<>\"5) NA\",'Product SARF'!$E$12<>\"5) ...\"), \"   \"&CONCATENATE('Product SARF'!$J$18,'Product SARF'!$J$19),\"\")&IF(AND(NOT(ISBLANK('Product SARF'!K103)),'Product SARF'!$E$13<>\"6) NA\",'Product SARF'!$E$13<>\"6) ...\"), \"   \"&CONCATENATE('Product SARF'!$K$18,'Product SARF'!$K$19),\"\")&IF(AND(NOT(ISBLANK('Product SARF'!L103)),'Product SARF'!$E$14<>\"7) NA\",'Product SARF'!$E$14<>\"7) ...\"), \"   \"&CONCATENATE('Product SARF'!$L$18,'Product SARF'!$L$19),\"\") &IF(AND(NOT(ISBLANK('Product SARF'!M103)),'Product SARF'!$E$15<>\"8) NA\",'Product SARF'!$E$15<>\"8) ...\"), \"   \"&CONCATENATE('Product SARF'!$M$18,'Product SARF'!$M$19),\"\"))","v":""}]
[{"$f":"IF(C86=\"\",\"\",IF('Product SARF'!B104=\"\",\"\",'Product SARF'!B104))","v":""},{"$f":"IF('Product SARF'!C104=\"\",\"\",\"Sample\")","v":""},{"$f":"IF('Product SARF'!C104=\"\",\"\",'Product SARF'!C104)","v":""},{"$f":"IF(C86=\"\",\"\",IF('Product SARF'!D104=\"\",\"\",'Product SARF'!D104))","v":""},{"$f":"IF(C86=\"\",\"\",IF('Product SARF'!E104=\"\",\"\",'Product SARF'!E104))","v":""},{"$f":"IF(C86=\"\",\"\",IF('Product SARF'!$L$6=\"\",\"\",CONCATENATE('Product SARF'!$L$6,'Product SARF'!$M$6)))","v":""},{"$f":"IF(C86=\"\",\"\",IF('Product SARF'!$L$2=\"\",\"\",'Product SARF'!$L$2))","v":""},{"$f":"IF(C86=\"\",\"\",IF('Product SARF'!$L$4=\"\",NOW(),'Product SARF'!$L$4))","v":""},"",{"$f":"IF(C86=\"\",\"\", IF(AND(NOT(ISBLANK('Product SARF'!F104)),'Product SARF'!$E$8<>\"1) NA\",'Product SARF'!$E$8<>\"1) ...\"), \"   \"&CONCATENATE('Product SARF'!$F$18,'Product SARF'!$F$19),\"\") & IF(AND(NOT(ISBLANK('Product SARF'!G104)),'Product SARF'!$E$9<>\"2) NA\",'Product SARF'!$E$9<>\"2) ...\"), \"   \"&CONCATENATE('Product SARF'!$G$18,'Product SARF'!$G$19),\"\")& IF(AND(NOT(ISBLANK('Product SARF'!H104)),'Product SARF'!$E$10<>\"3) NA\",'Product SARF'!$E$10<>\"3) ...\"), \"   \"&CONCATENATE('Product SARF'!$H$18,'Product SARF'!$H$19),\"\") & IF(AND(NOT(ISBLANK('Product SARF'!I104)),'Product SARF'!$E$11<>\"4) NA\",'Product SARF'!$E$11<>\"4) ...\"), \"   \"&CONCATENATE('Product SARF'!$I$18,'Product SARF'!$I$19),\"\")& IF(AND(NOT(ISBLANK('Product SARF'!J104)),'Product SARF'!$E$12<>\"5) NA\",'Product SARF'!$E$12<>\"5) ...\"), \"   \"&CONCATENATE('Product SARF'!$J$18,'Product SARF'!$J$19),\"\")&IF(AND(NOT(ISBLANK('Product SARF'!K104)),'Product SARF'!$E$13<>\"6) NA\",'Product SARF'!$E$13<>\"6) ...\"), \"   \"&CONCATENATE('Product SARF'!$K$18,'Product SARF'!$K$19),\"\")&IF(AND(NOT(ISBLANK('Product SARF'!L104)),'Product SARF'!$E$14<>\"7) NA\",'Product SARF'!$E$14<>\"7) ...\"), \"   \"&CONCATENATE('Product SARF'!$L$18,'Product SARF'!$L$19),\"\") &IF(AND(NOT(ISBLANK('Product SARF'!M104)),'Product SARF'!$E$15<>\"8) NA\",'Product SARF'!$E$15<>\"8) ...\"), \"   \"&CONCATENATE('Product SARF'!$M$18,'Product SARF'!$M$19),\"\"))","v":""}]
[{"$f":"IF(C87=\"\",\"\",IF('Product SARF'!B105=\"\",\"\",'Product SARF'!B105))","v":""},{"$f":"IF('Product SARF'!C105=\"\",\"\",\"Sample\")","v":""},{"$f":"IF('Product SARF'!C105=\"\",\"\",'Product SARF'!C105)","v":""},{"$f":"IF(C87=\"\",\"\",IF('Product SARF'!D105=\"\",\"\",'Product SARF'!D105))","v":""},{"$f":"IF(C87=\"\",\"\",IF('Product SARF'!E105=\"\",\"\",'Product SARF'!E105))","v":""},{"$f":"IF(C87=\"\",\"\",IF('Product SARF'!$L$6=\"\",\"\",CONCATENATE('Product SARF'!$L$6,'Product SARF'!$M$6)))","v":""},{"$f":"IF(C87=\"\",\"\",IF('Product SARF'!$L$2=\"\",\"\",'Product SARF'!$L$2))","v":""},{"$f":"IF(C87=\"\",\"\",IF('Product SARF'!$L$4=\"\",NOW(),'Product SARF'!$L$4))","v":""},"",{"$f":"IF(C87=\"\",\"\", IF(AND(NOT(ISBLANK('Product SARF'!F105)),'Product SARF'!$E$8<>\"1) NA\",'Product SARF'!$E$8<>\"1) ...\"), \"   \"&CONCATENATE('Product SARF'!$F$18,'Product SARF'!$F$19),\"\") & IF(AND(NOT(ISBLANK('Product SARF'!G105)),'Product SARF'!$E$9<>\"2) NA\",'Product SARF'!$E$9<>\"2) ...\"), \"   \"&CONCATENATE('Product SARF'!$G$18,'Product SARF'!$G$19),\"\")& IF(AND(NOT(ISBLANK('Product SARF'!H105)),'Product SARF'!$E$10<>\"3) NA\",'Product SARF'!$E$10<>\"3) ...\"), \"   \"&CONCATENATE('Product SARF'!$H$18,'Product SARF'!$H$19),\"\") & IF(AND(NOT(ISBLANK('Product SARF'!I105)),'Product SARF'!$E$11<>\"4) NA\",'Product SARF'!$E$11<>\"4) ...\"), \"   \"&CONCATENATE('Product SARF'!$I$18,'Product SARF'!$I$19),\"\")& IF(AND(NOT(ISBLANK('Product SARF'!J105)),'Product SARF'!$E$12<>\"5) NA\",'Product SARF'!$E$12<>\"5) ...\"), \"   \"&CONCATENATE('Product SARF'!$J$18,'Product SARF'!$J$19),\"\")&IF(AND(NOT(ISBLANK('Product SARF'!K105)),'Product SARF'!$E$13<>\"6) NA\",'Product SARF'!$E$13<>\"6) ...\"), \"   \"&CONCATENATE('Product SARF'!$K$18,'Product SARF'!$K$19),\"\")&IF(AND(NOT(ISBLANK('Product SARF'!L105)),'Product SARF'!$E$14<>\"7) NA\",'Product SARF'!$E$14<>\"7) ...\"), \"   \"&CONCATENATE('Product SARF'!$L$18,'Product SARF'!$L$19),\"\") &IF(AND(NOT(ISBLANK('Product SARF'!M105)),'Product SARF'!$E$15<>\"8) NA\",'Product SARF'!$E$15<>\"8) ...\"), \"   \"&CONCATENATE('Product SARF'!$M$18,'Product SARF'!$M$19),\"\"))","v":""}]
[{"$f":"IF(C88=\"\",\"\",IF('Product SARF'!B106=\"\",\"\",'Product SARF'!B106))","v":""},{"$f":"IF('Product SARF'!C106=\"\",\"\",\"Sample\")","v":""},{"$f":"IF('Product SARF'!C106=\"\",\"\",'Product SARF'!C106)","v":""},{"$f":"IF(C88=\"\",\"\",IF('Product SARF'!D106=\"\",\"\",'Product SARF'!D106))","v":""},{"$f":"IF(C88=\"\",\"\",IF('Product SARF'!E106=\"\",\"\",'Product SARF'!E106))","v":""},{"$f":"IF(C88=\"\",\"\",IF('Product SARF'!$L$6=\"\",\"\",CONCATENATE('Product SARF'!$L$6,'Product SARF'!$M$6)))","v":""},{"$f":"IF(C88=\"\",\"\",IF('Product SARF'!$L$2=\"\",\"\",'Product SARF'!$L$2))","v":""},{"$f":"IF(C88=\"\",\"\",IF('Product SARF'!$L$4=\"\",NOW(),'Product SARF'!$L$4))","v":""},"",{"$f":"IF(C88=\"\",\"\", IF(AND(NOT(ISBLANK('Product SARF'!F106)),'Product SARF'!$E$8<>\"1) NA\",'Product SARF'!$E$8<>\"1) ...\"), \"   \"&CONCATENATE('Product SARF'!$F$18,'Product SARF'!$F$19),\"\") & IF(AND(NOT(ISBLANK('Product SARF'!G106)),'Product SARF'!$E$9<>\"2) NA\",'Product SARF'!$E$9<>\"2) ...\"), \"   \"&CONCATENATE('Product SARF'!$G$18,'Product SARF'!$G$19),\"\")& IF(AND(NOT(ISBLANK('Product SARF'!H106)),'Product SARF'!$E$10<>\"3) NA\",'Product SARF'!$E$10<>\"3) ...\"), \"   \"&CONCATENATE('Product SARF'!$H$18,'Product SARF'!$H$19),\"\") & IF(AND(NOT(ISBLANK('Product SARF'!I106)),'Product SARF'!$E$11<>\"4) NA\",'Product SARF'!$E$11<>\"4) ...\"), \"   \"&CONCATENATE('Product SARF'!$I$18,'Product SARF'!$I$19),\"\")& IF(AND(NOT(ISBLANK('Product SARF'!J106)),'Product SARF'!$E$12<>\"5) NA\",'Product SARF'!$E$12<>\"5) ...\"), \"   \"&CONCATENATE('Product SARF'!$J$18,'Product SARF'!$J$19),\"\")&IF(AND(NOT(ISBLANK('Product SARF'!K106)),'Product SARF'!$E$13<>\"6) NA\",'Product SARF'!$E$13<>\"6) ...\"), \"   \"&CONCATENATE('Product SARF'!$K$18,'Product SARF'!$K$19),\"\")&IF(AND(NOT(ISBLANK('Product SARF'!L106)),'Product SARF'!$E$14<>\"7) NA\",'Product SARF'!$E$14<>\"7) ...\"), \"   \"&CONCATENATE('Product SARF'!$L$18,'Product SARF'!$L$19),\"\") &IF(AND(NOT(ISBLANK('Product SARF'!M106)),'Product SARF'!$E$15<>\"8) NA\",'Product SARF'!$E$15<>\"8) ...\"), \"   \"&CONCATENATE('Product SARF'!$M$18,'Product SARF'!$M$19),\"\"))","v":""}]
[{"$f":"IF(C89=\"\",\"\",IF('Product SARF'!B107=\"\",\"\",'Product SARF'!B107))","v":""},{"$f":"IF('Product SARF'!C107=\"\",\"\",\"Sample\")","v":""},{"$f":"IF('Product SARF'!C107=\"\",\"\",'Product SARF'!C107)","v":""},{"$f":"IF(C89=\"\",\"\",IF('Product SARF'!D107=\"\",\"\",'Product SARF'!D107))","v":""},{"$f":"IF(C89=\"\",\"\",IF('Product SARF'!E107=\"\",\"\",'Product SARF'!E107))","v":""},{"$f":"IF(C89=\"\",\"\",IF('Product SARF'!$L$6=\"\",\"\",CONCATENATE('Product SARF'!$L$6,'Product SARF'!$M$6)))","v":""},{"$f":"IF(C89=\"\",\"\",IF('Product SARF'!$L$2=\"\",\"\",'Product SARF'!$L$2))","v":""},{"$f":"IF(C89=\"\",\"\",IF('Product SARF'!$L$4=\"\",NOW(),'Product SARF'!$L$4))","v":""},"",{"$f":"IF(C89=\"\",\"\", IF(AND(NOT(ISBLANK('Product SARF'!F107)),'Product SARF'!$E$8<>\"1) NA\",'Product SARF'!$E$8<>\"1) ...\"), \"   \"&CONCATENATE('Product SARF'!$F$18,'Product SARF'!$F$19),\"\") & IF(AND(NOT(ISBLANK('Product SARF'!G107)),'Product SARF'!$E$9<>\"2) NA\",'Product SARF'!$E$9<>\"2) ...\"), \"   \"&CONCATENATE('Product SARF'!$G$18,'Product SARF'!$G$19),\"\")& IF(AND(NOT(ISBLANK('Product SARF'!H107)),'Product SARF'!$E$10<>\"3) NA\",'Product SARF'!$E$10<>\"3) ...\"), \"   \"&CONCATENATE('Product SARF'!$H$18,'Product SARF'!$H$19),\"\") & IF(AND(NOT(ISBLANK('Product SARF'!I107)),'Product SARF'!$E$11<>\"4) NA\",'Product SARF'!$E$11<>\"4) ...\"), \"   \"&CONCATENATE('Product SARF'!$I$18,'Product SARF'!$I$19),\"\")& IF(AND(NOT(ISBLANK('Product SARF'!J107)),'Product SARF'!$E$12<>\"5) NA\",'Product SARF'!$E$12<>\"5) ...\"), \"   \"&CONCATENATE('Product SARF'!$J$18,'Product SARF'!$J$19),\"\")&IF(AND(NOT(ISBLANK('Product SARF'!K107)),'Product SARF'!$E$13<>\"6) NA\",'Product SARF'!$E$13<>\"6) ...\"), \"   \"&CONCATENATE('Product SARF'!$K$18,'Product SARF'!$K$19),\"\")&IF(AND(NOT(ISBLANK('Product SARF'!L107)),'Product SARF'!$E$14<>\"7) NA\",'Product SARF'!$E$14<>\"7) ...\"), \"   \"&CONCATENATE('Product SARF'!$L$18,'Product SARF'!$L$19),\"\") &IF(AND(NOT(ISBLANK('Product SARF'!M107)),'Product SARF'!$E$15<>\"8) NA\",'Product SARF'!$E$15<>\"8) ...\"), \"   \"&CONCATENATE('Product SARF'!$M$18,'Product SARF'!$M$19),\"\"))","v":""}]
[{"$f":"IF(C90=\"\",\"\",IF('Product SARF'!B108=\"\",\"\",'Product SARF'!B108))","v":""},{"$f":"IF('Product SARF'!C108=\"\",\"\",\"Sample\")","v":""},{"$f":"IF('Product SARF'!C108=\"\",\"\",'Product SARF'!C108)","v":""},{"$f":"IF(C90=\"\",\"\",IF('Product SARF'!D108=\"\",\"\",'Product SARF'!D108))","v":""},{"$f":"IF(C90=\"\",\"\",IF('Product SARF'!E108=\"\",\"\",'Product SARF'!E108))","v":""},{"$f":"IF(C90=\"\",\"\",IF('Product SARF'!$L$6=\"\",\"\",CONCATENATE('Product SARF'!$L$6,'Product SARF'!$M$6)))","v":""},{"$f":"IF(C90=\"\",\"\",IF('Product SARF'!$L$2=\"\",\"\",'Product SARF'!$L$2))","v":""},{"$f":"IF(C90=\"\",\"\",IF('Product SARF'!$L$4=\"\",NOW(),'Product SARF'!$L$4))","v":""},"",{"$f":"IF(C90=\"\",\"\", IF(AND(NOT(ISBLANK('Product SARF'!F108)),'Product SARF'!$E$8<>\"1) NA\",'Product SARF'!$E$8<>\"1) ...\"), \"   \"&CONCATENATE('Product SARF'!$F$18,'Product SARF'!$F$19),\"\") & IF(AND(NOT(ISBLANK('Product SARF'!G108)),'Product SARF'!$E$9<>\"2) NA\",'Product SARF'!$E$9<>\"2) ...\"), \"   \"&CONCATENATE('Product SARF'!$G$18,'Product SARF'!$G$19),\"\")& IF(AND(NOT(ISBLANK('Product SARF'!H108)),'Product SARF'!$E$10<>\"3) NA\",'Product SARF'!$E$10<>\"3) ...\"), \"   \"&CONCATENATE('Product SARF'!$H$18,'Product SARF'!$H$19),\"\") & IF(AND(NOT(ISBLANK('Product SARF'!I108)),'Product SARF'!$E$11<>\"4) NA\",'Product SARF'!$E$11<>\"4) ...\"), \"   \"&CONCATENATE('Product SARF'!$I$18,'Product SARF'!$I$19),\"\")& IF(AND(NOT(ISBLANK('Product SARF'!J108)),'Product SARF'!$E$12<>\"5) NA\",'Product SARF'!$E$12<>\"5) ...\"), \"   \"&CONCATENATE('Product SARF'!$J$18,'Product SARF'!$J$19),\"\")&IF(AND(NOT(ISBLANK('Product SARF'!K108)),'Product SARF'!$E$13<>\"6) NA\",'Product SARF'!$E$13<>\"6) ...\"), \"   \"&CONCATENATE('Product SARF'!$K$18,'Product SARF'!$K$19),\"\")&IF(AND(NOT(ISBLANK('Product SARF'!L108)),'Product SARF'!$E$14<>\"7) NA\",'Product SARF'!$E$14<>\"7) ...\"), \"   \"&CONCATENATE('Product SARF'!$L$18,'Product SARF'!$L$19),\"\") &IF(AND(NOT(ISBLANK('Product SARF'!M108)),'Product SARF'!$E$15<>\"8) NA\",'Product SARF'!$E$15<>\"8) ...\"), \"   \"&CONCATENATE('Product SARF'!$M$18,'Product SARF'!$M$19),\"\"))","v":""}]
[{"$f":"IF(C91=\"\",\"\",IF('Product SARF'!B109=\"\",\"\",'Product SARF'!B109))","v":""},{"$f":"IF('Product SARF'!C109=\"\",\"\",\"Sample\")","v":""},{"$f":"IF('Product SARF'!C109=\"\",\"\",'Product SARF'!C109)","v":""},{"$f":"IF(C91=\"\",\"\",IF('Product SARF'!D109=\"\",\"\",'Product SARF'!D109))","v":""},{"$f":"IF(C91=\"\",\"\",IF('Product SARF'!E109=\"\",\"\",'Product SARF'!E109))","v":""},{"$f":"IF(C91=\"\",\"\",IF('Product SARF'!$L$6=\"\",\"\",CONCATENATE('Product SARF'!$L$6,'Product SARF'!$M$6)))","v":""},{"$f":"IF(C91=\"\",\"\",IF('Product SARF'!$L$2=\"\",\"\",'Product SARF'!$L$2))","v":""},{"$f":"IF(C91=\"\",\"\",IF('Product SARF'!$L$4=\"\",NOW(),'Product SARF'!$L$4))","v":""},"",{"$f":"IF(C91=\"\",\"\", IF(AND(NOT(ISBLANK('Product SARF'!F109)),'Product SARF'!$E$8<>\"1) NA\",'Product SARF'!$E$8<>\"1) ...\"), \"   \"&CONCATENATE('Product SARF'!$F$18,'Product SARF'!$F$19),\"\") & IF(AND(NOT(ISBLANK('Product SARF'!G109)),'Product SARF'!$E$9<>\"2) NA\",'Product SARF'!$E$9<>\"2) ...\"), \"   \"&CONCATENATE('Product SARF'!$G$18,'Product SARF'!$G$19),\"\")& IF(AND(NOT(ISBLANK('Product SARF'!H109)),'Product SARF'!$E$10<>\"3) NA\",'Product SARF'!$E$10<>\"3) ...\"), \"   \"&CONCATENATE('Product SARF'!$H$18,'Product SARF'!$H$19),\"\") & IF(AND(NOT(ISBLANK('Product SARF'!I109)),'Product SARF'!$E$11<>\"4) NA\",'Product SARF'!$E$11<>\"4) ...\"), \"   \"&CONCATENATE('Product SARF'!$I$18,'Product SARF'!$I$19),\"\")& IF(AND(NOT(ISBLANK('Product SARF'!J109)),'Product SARF'!$E$12<>\"5) NA\",'Product SARF'!$E$12<>\"5) ...\"), \"   \"&CONCATENATE('Product SARF'!$J$18,'Product SARF'!$J$19),\"\")&IF(AND(NOT(ISBLANK('Product SARF'!K109)),'Product SARF'!$E$13<>\"6) NA\",'Product SARF'!$E$13<>\"6) ...\"), \"   \"&CONCATENATE('Product SARF'!$K$18,'Product SARF'!$K$19),\"\")&IF(AND(NOT(ISBLANK('Product SARF'!L109)),'Product SARF'!$E$14<>\"7) NA\",'Product SARF'!$E$14<>\"7) ...\"), \"   \"&CONCATENATE('Product SARF'!$L$18,'Product SARF'!$L$19),\"\") &IF(AND(NOT(ISBLANK('Product SARF'!M109)),'Product SARF'!$E$15<>\"8) NA\",'Product SARF'!$E$15<>\"8) ...\"), \"   \"&CONCATENATE('Product SARF'!$M$18,'Product SARF'!$M$19),\"\"))","v":""}]
[{"$f":"IF(C92=\"\",\"\",IF('Product SARF'!B110=\"\",\"\",'Product SARF'!B110))","v":""},{"$f":"IF('Product SARF'!C110=\"\",\"\",\"Sample\")","v":""},{"$f":"IF('Product SARF'!C110=\"\",\"\",'Product SARF'!C110)","v":""},{"$f":"IF(C92=\"\",\"\",IF('Product SARF'!D110=\"\",\"\",'Product SARF'!D110))","v":""},{"$f":"IF(C92=\"\",\"\",IF('Product SARF'!E110=\"\",\"\",'Product SARF'!E110))","v":""},{"$f":"IF(C92=\"\",\"\",IF('Product SARF'!$L$6=\"\",\"\",CONCATENATE('Product SARF'!$L$6,'Product SARF'!$M$6)))","v":""},{"$f":"IF(C92=\"\",\"\",IF('Product SARF'!$L$2=\"\",\"\",'Product SARF'!$L$2))","v":""},{"$f":"IF(C92=\"\",\"\",IF('Product SARF'!$L$4=\"\",NOW(),'Product SARF'!$L$4))","v":""},"",{"$f":"IF(C92=\"\",\"\", IF(AND(NOT(ISBLANK('Product SARF'!F110)),'Product SARF'!$E$8<>\"1) NA\",'Product SARF'!$E$8<>\"1) ...\"), \"   \"&CONCATENATE('Product SARF'!$F$18,'Product SARF'!$F$19),\"\") & IF(AND(NOT(ISBLANK('Product SARF'!G110)),'Product SARF'!$E$9<>\"2) NA\",'Product SARF'!$E$9<>\"2) ...\"), \"   \"&CONCATENATE('Product SARF'!$G$18,'Product SARF'!$G$19),\"\")& IF(AND(NOT(ISBLANK('Product SARF'!H110)),'Product SARF'!$E$10<>\"3) NA\",'Product SARF'!$E$10<>\"3) ...\"), \"   \"&CONCATENATE('Product SARF'!$H$18,'Product SARF'!$H$19),\"\") & IF(AND(NOT(ISBLANK('Product SARF'!I110)),'Product SARF'!$E$11<>\"4) NA\",'Product SARF'!$E$11<>\"4) ...\"), \"   \"&CONCATENATE('Product SARF'!$I$18,'Product SARF'!$I$19),\"\")& IF(AND(NOT(ISBLANK('Product SARF'!J110)),'Product SARF'!$E$12<>\"5) NA\",'Product SARF'!$E$12<>\"5) ...\"), \"   \"&CONCATENATE('Product SARF'!$J$18,'Product SARF'!$J$19),\"\")&IF(AND(NOT(ISBLANK('Product SARF'!K110)),'Product SARF'!$E$13<>\"6) NA\",'Product SARF'!$E$13<>\"6) ...\"), \"   \"&CONCATENATE('Product SARF'!$K$18,'Product SARF'!$K$19),\"\")&IF(AND(NOT(ISBLANK('Product SARF'!L110)),'Product SARF'!$E$14<>\"7) NA\",'Product SARF'!$E$14<>\"7) ...\"), \"   \"&CONCATENATE('Product SARF'!$L$18,'Product SARF'!$L$19),\"\") &IF(AND(NOT(ISBLANK('Product SARF'!M110)),'Product SARF'!$E$15<>\"8) NA\",'Product SARF'!$E$15<>\"8) ...\"), \"   \"&CONCATENATE('Product SARF'!$M$18,'Product SARF'!$M$19),\"\"))","v":""}]
[{"$f":"IF(C93=\"\",\"\",IF('Product SARF'!B111=\"\",\"\",'Product SARF'!B111))","v":""},{"$f":"IF('Product SARF'!C111=\"\",\"\",\"Sample\")","v":""},{"$f":"IF('Product SARF'!C111=\"\",\"\",'Product SARF'!C111)","v":""},{"$f":"IF(C93=\"\",\"\",IF('Product SARF'!D111=\"\",\"\",'Product SARF'!D111))","v":""},{"$f":"IF(C93=\"\",\"\",IF('Product SARF'!E111=\"\",\"\",'Product SARF'!E111))","v":""},{"$f":"IF(C93=\"\",\"\",IF('Product SARF'!$L$6=\"\",\"\",CONCATENATE('Product SARF'!$L$6,'Product SARF'!$M$6)))","v":""},{"$f":"IF(C93=\"\",\"\",IF('Product SARF'!$L$2=\"\",\"\",'Product SARF'!$L$2))","v":""},{"$f":"IF(C93=\"\",\"\",IF('Product SARF'!$L$4=\"\",NOW(),'Product SARF'!$L$4))","v":""},"",{"$f":"IF(C93=\"\",\"\", IF(AND(NOT(ISBLANK('Product SARF'!F111)),'Product SARF'!$E$8<>\"1) NA\",'Product SARF'!$E$8<>\"1) ...\"), \"   \"&CONCATENATE('Product SARF'!$F$18,'Product SARF'!$F$19),\"\") & IF(AND(NOT(ISBLANK('Product SARF'!G111)),'Product SARF'!$E$9<>\"2) NA\",'Product SARF'!$E$9<>\"2) ...\"), \"   \"&CONCATENATE('Product SARF'!$G$18,'Product SARF'!$G$19),\"\")& IF(AND(NOT(ISBLANK('Product SARF'!H111)),'Product SARF'!$E$10<>\"3) NA\",'Product SARF'!$E$10<>\"3) ...\"), \"   \"&CONCATENATE('Product SARF'!$H$18,'Product SARF'!$H$19),\"\") & IF(AND(NOT(ISBLANK('Product SARF'!I111)),'Product SARF'!$E$11<>\"4) NA\",'Product SARF'!$E$11<>\"4) ...\"), \"   \"&CONCATENATE('Product SARF'!$I$18,'Product SARF'!$I$19),\"\")& IF(AND(NOT(ISBLANK('Product SARF'!J111)),'Product SARF'!$E$12<>\"5) NA\",'Product SARF'!$E$12<>\"5) ...\"), \"   \"&CONCATENATE('Product SARF'!$J$18,'Product SARF'!$J$19),\"\")&IF(AND(NOT(ISBLANK('Product SARF'!K111)),'Product SARF'!$E$13<>\"6) NA\",'Product SARF'!$E$13<>\"6) ...\"), \"   \"&CONCATENATE('Product SARF'!$K$18,'Product SARF'!$K$19),\"\")&IF(AND(NOT(ISBLANK('Product SARF'!L111)),'Product SARF'!$E$14<>\"7) NA\",'Product SARF'!$E$14<>\"7) ...\"), \"   \"&CONCATENATE('Product SARF'!$L$18,'Product SARF'!$L$19),\"\") &IF(AND(NOT(ISBLANK('Product SARF'!M111)),'Product SARF'!$E$15<>\"8) NA\",'Product SARF'!$E$15<>\"8) ...\"), \"   \"&CONCATENATE('Product SARF'!$M$18,'Product SARF'!$M$19),\"\"))","v":""}]
[{"$f":"IF(C94=\"\",\"\",IF('Product SARF'!B112=\"\",\"\",'Product SARF'!B112))","v":""},{"$f":"IF('Product SARF'!C112=\"\",\"\",\"Sample\")","v":""},{"$f":"IF('Product SARF'!C112=\"\",\"\",'Product SARF'!C112)","v":""},{"$f":"IF(C94=\"\",\"\",IF('Product SARF'!D112=\"\",\"\",'Product SARF'!D112))","v":""},{"$f":"IF(C94=\"\",\"\",IF('Product SARF'!E112=\"\",\"\",'Product SARF'!E112))","v":""},{"$f":"IF(C94=\"\",\"\",IF('Product SARF'!$L$6=\"\",\"\",CONCATENATE('Product SARF'!$L$6,'Product SARF'!$M$6)))","v":""},{"$f":"IF(C94=\"\",\"\",IF('Product SARF'!$L$2=\"\",\"\",'Product SARF'!$L$2))","v":""},{"$f":"IF(C94=\"\",\"\",IF('Product SARF'!$L$4=\"\",NOW(),'Product SARF'!$L$4))","v":""},"",{"$f":"IF(C94=\"\",\"\", IF(AND(NOT(ISBLANK('Product SARF'!F112)),'Product SARF'!$E$8<>\"1) NA\",'Product SARF'!$E$8<>\"1) ...\"), \"   \"&CONCATENATE('Product SARF'!$F$18,'Product SARF'!$F$19),\"\") & IF(AND(NOT(ISBLANK('Product SARF'!G112)),'Product SARF'!$E$9<>\"2) NA\",'Product SARF'!$E$9<>\"2) ...\"), \"   \"&CONCATENATE('Product SARF'!$G$18,'Product SARF'!$G$19),\"\")& IF(AND(NOT(ISBLANK('Product SARF'!H112)),'Product SARF'!$E$10<>\"3) NA\",'Product SARF'!$E$10<>\"3) ...\"), \"   \"&CONCATENATE('Product SARF'!$H$18,'Product SARF'!$H$19),\"\") & IF(AND(NOT(ISBLANK('Product SARF'!I112)),'Product SARF'!$E$11<>\"4) NA\",'Product SARF'!$E$11<>\"4) ...\"), \"   \"&CONCATENATE('Product SARF'!$I$18,'Product SARF'!$I$19),\"\")& IF(AND(NOT(ISBLANK('Product SARF'!J112)),'Product SARF'!$E$12<>\"5) NA\",'Product SARF'!$E$12<>\"5) ...\"), \"   \"&CONCATENATE('Product SARF'!$J$18,'Product SARF'!$J$19),\"\")&IF(AND(NOT(ISBLANK('Product SARF'!K112)),'Product SARF'!$E$13<>\"6) NA\",'Product SARF'!$E$13<>\"6) ...\"), \"   \"&CONCATENATE('Product SARF'!$K$18,'Product SARF'!$K$19),\"\")&IF(AND(NOT(ISBLANK('Product SARF'!L112)),'Product SARF'!$E$14<>\"7) NA\",'Product SARF'!$E$14<>\"7) ...\"), \"   \"&CONCATENATE('Product SARF'!$L$18,'Product SARF'!$L$19),\"\") &IF(AND(NOT(ISBLANK('Product SARF'!M112)),'Product SARF'!$E$15<>\"8) NA\",'Product SARF'!$E$15<>\"8) ...\"), \"   \"&CONCATENATE('Product SARF'!$M$18,'Product SARF'!$M$19),\"\"))","v":""}]
[{"$f":"IF(C95=\"\",\"\",IF('Product SARF'!B113=\"\",\"\",'Product SARF'!B113))","v":""},{"$f":"IF('Product SARF'!C113=\"\",\"\",\"Sample\")","v":""},{"$f":"IF('Product SARF'!C113=\"\",\"\",'Product SARF'!C113)","v":""},{"$f":"IF(C95=\"\",\"\",IF('Product SARF'!D113=\"\",\"\",'Product SARF'!D113))","v":""},{"$f":"IF(C95=\"\",\"\",IF('Product SARF'!E113=\"\",\"\",'Product SARF'!E113))","v":""},{"$f":"IF(C95=\"\",\"\",IF('Product SARF'!$L$6=\"\",\"\",CONCATENATE('Product SARF'!$L$6,'Product SARF'!$M$6)))","v":""},{"$f":"IF(C95=\"\",\"\",IF('Product SARF'!$L$2=\"\",\"\",'Product SARF'!$L$2))","v":""},{"$f":"IF(C95=\"\",\"\",IF('Product SARF'!$L$4=\"\",NOW(),'Product SARF'!$L$4))","v":""},"",{"$f":"IF(C95=\"\",\"\", IF(AND(NOT(ISBLANK('Product SARF'!F113)),'Product SARF'!$E$8<>\"1) NA\",'Product SARF'!$E$8<>\"1) ...\"), \"   \"&CONCATENATE('Product SARF'!$F$18,'Product SARF'!$F$19),\"\") & IF(AND(NOT(ISBLANK('Product SARF'!G113)),'Product SARF'!$E$9<>\"2) NA\",'Product SARF'!$E$9<>\"2) ...\"), \"   \"&CONCATENATE('Product SARF'!$G$18,'Product SARF'!$G$19),\"\")& IF(AND(NOT(ISBLANK('Product SARF'!H113)),'Product SARF'!$E$10<>\"3) NA\",'Product SARF'!$E$10<>\"3) ...\"), \"   \"&CONCATENATE('Product SARF'!$H$18,'Product SARF'!$H$19),\"\") & IF(AND(NOT(ISBLANK('Product SARF'!I113)),'Product SARF'!$E$11<>\"4) NA\",'Product SARF'!$E$11<>\"4) ...\"), \"   \"&CONCATENATE('Product SARF'!$I$18,'Product SARF'!$I$19),\"\")& IF(AND(NOT(ISBLANK('Product SARF'!J113)),'Product SARF'!$E$12<>\"5) NA\",'Product SARF'!$E$12<>\"5) ...\"), \"   \"&CONCATENATE('Product SARF'!$J$18,'Product SARF'!$J$19),\"\")&IF(AND(NOT(ISBLANK('Product SARF'!K113)),'Product SARF'!$E$13<>\"6) NA\",'Product SARF'!$E$13<>\"6) ...\"), \"   \"&CONCATENATE('Product SARF'!$K$18,'Product SARF'!$K$19),\"\")&IF(AND(NOT(ISBLANK('Product SARF'!L113)),'Product SARF'!$E$14<>\"7) NA\",'Product SARF'!$E$14<>\"7) ...\"), \"   \"&CONCATENATE('Product SARF'!$L$18,'Product SARF'!$L$19),\"\") &IF(AND(NOT(ISBLANK('Product SARF'!M113)),'Product SARF'!$E$15<>\"8) NA\",'Product SARF'!$E$15<>\"8) ...\"), \"   \"&CONCATENATE('Product SARF'!$M$18,'Product SARF'!$M$19),\"\"))","v":""}]
[{"$f":"IF(C96=\"\",\"\",IF('Product SARF'!B114=\"\",\"\",'Product SARF'!B114))","v":""},{"$f":"IF('Product SARF'!C114=\"\",\"\",\"Sample\")","v":""},{"$f":"IF('Product SARF'!C114=\"\",\"\",'Product SARF'!C114)","v":""},{"$f":"IF(C96=\"\",\"\",IF('Product SARF'!D114=\"\",\"\",'Product SARF'!D114))","v":""},{"$f":"IF(C96=\"\",\"\",IF('Product SARF'!E114=\"\",\"\",'Product SARF'!E114))","v":""},{"$f":"IF(C96=\"\",\"\",IF('Product SARF'!$L$6=\"\",\"\",CONCATENATE('Product SARF'!$L$6,'Product SARF'!$M$6)))","v":""},{"$f":"IF(C96=\"\",\"\",IF('Product SARF'!$L$2=\"\",\"\",'Product SARF'!$L$2))","v":""},{"$f":"IF(C96=\"\",\"\",IF('Product SARF'!$L$4=\"\",NOW(),'Product SARF'!$L$4))","v":""},"",{"$f":"IF(C96=\"\",\"\", IF(AND(NOT(ISBLANK('Product SARF'!F114)),'Product SARF'!$E$8<>\"1) NA\",'Product SARF'!$E$8<>\"1) ...\"), \"   \"&CONCATENATE('Product SARF'!$F$18,'Product SARF'!$F$19),\"\") & IF(AND(NOT(ISBLANK('Product SARF'!G114)),'Product SARF'!$E$9<>\"2) NA\",'Product SARF'!$E$9<>\"2) ...\"), \"   \"&CONCATENATE('Product SARF'!$G$18,'Product SARF'!$G$19),\"\")& IF(AND(NOT(ISBLANK('Product SARF'!H114)),'Product SARF'!$E$10<>\"3) NA\",'Product SARF'!$E$10<>\"3) ...\"), \"   \"&CONCATENATE('Product SARF'!$H$18,'Product SARF'!$H$19),\"\") & IF(AND(NOT(ISBLANK('Product SARF'!I114)),'Product SARF'!$E$11<>\"4) NA\",'Product SARF'!$E$11<>\"4) ...\"), \"   \"&CONCATENATE('Product SARF'!$I$18,'Product SARF'!$I$19),\"\")& IF(AND(NOT(ISBLANK('Product SARF'!J114)),'Product SARF'!$E$12<>\"5) NA\",'Product SARF'!$E$12<>\"5) ...\"), \"   \"&CONCATENATE('Product SARF'!$J$18,'Product SARF'!$J$19),\"\")&IF(AND(NOT(ISBLANK('Product SARF'!K114)),'Product SARF'!$E$13<>\"6) NA\",'Product SARF'!$E$13<>\"6) ...\"), \"   \"&CONCATENATE('Product SARF'!$K$18,'Product SARF'!$K$19),\"\")&IF(AND(NOT(ISBLANK('Product SARF'!L114)),'Product SARF'!$E$14<>\"7) NA\",'Product SARF'!$E$14<>\"7) ...\"), \"   \"&CONCATENATE('Product SARF'!$L$18,'Product SARF'!$L$19),\"\") &IF(AND(NOT(ISBLANK('Product SARF'!M114)),'Product SARF'!$E$15<>\"8) NA\",'Product SARF'!$E$15<>\"8) ...\"), \"   \"&CONCATENATE('Product SARF'!$M$18,'Product SARF'!$M$19),\"\"))","v":""}]
[{"$f":"IF(C97=\"\",\"\",IF('Product SARF'!B115=\"\",\"\",'Product SARF'!B115))","v":""},{"$f":"IF('Product SARF'!C115=\"\",\"\",\"Sample\")","v":""},{"$f":"IF('Product SARF'!C115=\"\",\"\",'Product SARF'!C115)","v":""},{"$f":"IF(C97=\"\",\"\",IF('Product SARF'!D115=\"\",\"\",'Product SARF'!D115))","v":""},{"$f":"IF(C97=\"\",\"\",IF('Product SARF'!E115=\"\",\"\",'Product SARF'!E115))","v":""},{"$f":"IF(C97=\"\",\"\",IF('Product SARF'!$L$6=\"\",\"\",CONCATENATE('Product SARF'!$L$6,'Product SARF'!$M$6)))","v":""},{"$f":"IF(C97=\"\",\"\",IF('Product SARF'!$L$2=\"\",\"\",'Product SARF'!$L$2))","v":""},{"$f":"IF(C97=\"\",\"\",IF('Product SARF'!$L$4=\"\",NOW(),'Product SARF'!$L$4))","v":""},"",{"$f":"IF(C97=\"\",\"\", IF(AND(NOT(ISBLANK('Product SARF'!F115)),'Product SARF'!$E$8<>\"1) NA\",'Product SARF'!$E$8<>\"1) ...\"), \"   \"&CONCATENATE('Product SARF'!$F$18,'Product SARF'!$F$19),\"\") & IF(AND(NOT(ISBLANK('Product SARF'!G115)),'Product SARF'!$E$9<>\"2) NA\",'Product SARF'!$E$9<>\"2) ...\"), \"   \"&CONCATENATE('Product SARF'!$G$18,'Product SARF'!$G$19),\"\")& IF(AND(NOT(ISBLANK('Product SARF'!H115)),'Product SARF'!$E$10<>\"3) NA\",'Product SARF'!$E$10<>\"3) ...\"), \"   \"&CONCATENATE('Product SARF'!$H$18,'Product SARF'!$H$19),\"\") & IF(AND(NOT(ISBLANK('Product SARF'!I115)),'Product SARF'!$E$11<>\"4) NA\",'Product SARF'!$E$11<>\"4) ...\"), \"   \"&CONCATENATE('Product SARF'!$I$18,'Product SARF'!$I$19),\"\")& IF(AND(NOT(ISBLANK('Product SARF'!J115)),'Product SARF'!$E$12<>\"5) NA\",'Product SARF'!$E$12<>\"5) ...\"), \"   \"&CONCATENATE('Product SARF'!$J$18,'Product SARF'!$J$19),\"\")&IF(AND(NOT(ISBLANK('Product SARF'!K115)),'Product SARF'!$E$13<>\"6) NA\",'Product SARF'!$E$13<>\"6) ...\"), \"   \"&CONCATENATE('Product SARF'!$K$18,'Product SARF'!$K$19),\"\")&IF(AND(NOT(ISBLANK('Product SARF'!L115)),'Product SARF'!$E$14<>\"7) NA\",'Product SARF'!$E$14<>\"7) ...\"), \"   \"&CONCATENATE('Product SARF'!$L$18,'Product SARF'!$L$19),\"\") &IF(AND(NOT(ISBLANK('Product SARF'!M115)),'Product SARF'!$E$15<>\"8) NA\",'Product SARF'!$E$15<>\"8) ...\"), \"   \"&CONCATENATE('Product SARF'!$M$18,'Product SARF'!$M$19),\"\"))","v":""}]
[{"$f":"IF(C98=\"\",\"\",IF('Product SARF'!B116=\"\",\"\",'Product SARF'!B116))","v":""},{"$f":"IF('Product SARF'!C116=\"\",\"\",\"Sample\")","v":""},{"$f":"IF('Product SARF'!C116=\"\",\"\",'Product SARF'!C116)","v":""},{"$f":"IF(C98=\"\",\"\",IF('Product SARF'!D116=\"\",\"\",'Product SARF'!D116))","v":""},{"$f":"IF(C98=\"\",\"\",IF('Product SARF'!E116=\"\",\"\",'Product SARF'!E116))","v":""},{"$f":"IF(C98=\"\",\"\",IF('Product SARF'!$L$6=\"\",\"\",CONCATENATE('Product SARF'!$L$6,'Product SARF'!$M$6)))","v":""},{"$f":"IF(C98=\"\",\"\",IF('Product SARF'!$L$2=\"\",\"\",'Product SARF'!$L$2))","v":""},{"$f":"IF(C98=\"\",\"\",IF('Product SARF'!$L$4=\"\",NOW(),'Product SARF'!$L$4))","v":""},"",{"$f":"IF(C98=\"\",\"\", IF(AND(NOT(ISBLANK('Product SARF'!F116)),'Product SARF'!$E$8<>\"1) NA\",'Product SARF'!$E$8<>\"1) ...\"), \"   \"&CONCATENATE('Product SARF'!$F$18,'Product SARF'!$F$19),\"\") & IF(AND(NOT(ISBLANK('Product SARF'!G116)),'Product SARF'!$E$9<>\"2) NA\",'Product SARF'!$E$9<>\"2) ...\"), \"   \"&CONCATENATE('Product SARF'!$G$18,'Product SARF'!$G$19),\"\")& IF(AND(NOT(ISBLANK('Product SARF'!H116)),'Product SARF'!$E$10<>\"3) NA\",'Product SARF'!$E$10<>\"3) ...\"), \"   \"&CONCATENATE('Product SARF'!$H$18,'Product SARF'!$H$19),\"\") & IF(AND(NOT(ISBLANK('Product SARF'!I116)),'Product SARF'!$E$11<>\"4) NA\",'Product SARF'!$E$11<>\"4) ...\"), \"   \"&CONCATENATE('Product SARF'!$I$18,'Product SARF'!$I$19),\"\")& IF(AND(NOT(ISBLANK('Product SARF'!J116)),'Product SARF'!$E$12<>\"5) NA\",'Product SARF'!$E$12<>\"5) ...\"), \"   \"&CONCATENATE('Product SARF'!$J$18,'Product SARF'!$J$19),\"\")&IF(AND(NOT(ISBLANK('Product SARF'!K116)),'Product SARF'!$E$13<>\"6) NA\",'Product SARF'!$E$13<>\"6) ...\"), \"   \"&CONCATENATE('Product SARF'!$K$18,'Product SARF'!$K$19),\"\")&IF(AND(NOT(ISBLANK('Product SARF'!L116)),'Product SARF'!$E$14<>\"7) NA\",'Product SARF'!$E$14<>\"7) ...\"), \"   \"&CONCATENATE('Product SARF'!$L$18,'Product SARF'!$L$19),\"\") &IF(AND(NOT(ISBLANK('Product SARF'!M116)),'Product SARF'!$E$15<>\"8) NA\",'Product SARF'!$E$15<>\"8) ...\"), \"   \"&CONCATENATE('Product SARF'!$M$18,'Product SARF'!$M$19),\"\"))","v":""}]
[{"$f":"IF(C99=\"\",\"\",IF('Product SARF'!B117=\"\",\"\",'Product SARF'!B117))","v":""},{"$f":"IF('Product SARF'!C117=\"\",\"\",\"Sample\")","v":""},{"$f":"IF('Product SARF'!C117=\"\",\"\",'Product SARF'!C117)","v":""},{"$f":"IF(C99=\"\",\"\",IF('Product SARF'!D117=\"\",\"\",'Product SARF'!D117))","v":""},{"$f":"IF(C99=\"\",\"\",IF('Product SARF'!E117=\"\",\"\",'Product SARF'!E117))","v":""},{"$f":"IF(C99=\"\",\"\",IF('Product SARF'!$L$6=\"\",\"\",CONCATENATE('Product SARF'!$L$6,'Product SARF'!$M$6)))","v":""},{"$f":"IF(C99=\"\",\"\",IF('Product SARF'!$L$2=\"\",\"\",'Product SARF'!$L$2))","v":""},{"$f":"IF(C99=\"\",\"\",IF('Product SARF'!$L$4=\"\",NOW(),'Product SARF'!$L$4))","v":""},"",{"$f":"IF(C99=\"\",\"\", IF(AND(NOT(ISBLANK('Product SARF'!F117)),'Product SARF'!$E$8<>\"1) NA\",'Product SARF'!$E$8<>\"1) ...\"), \"   \"&CONCATENATE('Product SARF'!$F$18,'Product SARF'!$F$19),\"\") & IF(AND(NOT(ISBLANK('Product SARF'!G117)),'Product SARF'!$E$9<>\"2) NA\",'Product SARF'!$E$9<>\"2) ...\"), \"   \"&CONCATENATE('Product SARF'!$G$18,'Product SARF'!$G$19),\"\")& IF(AND(NOT(ISBLANK('Product SARF'!H117)),'Product SARF'!$E$10<>\"3) NA\",'Product SARF'!$E$10<>\"3) ...\"), \"   \"&CONCATENATE('Product SARF'!$H$18,'Product SARF'!$H$19),\"\") & IF(AND(NOT(ISBLANK('Product SARF'!I117)),'Product SARF'!$E$11<>\"4) NA\",'Product SARF'!$E$11<>\"4) ...\"), \"   \"&CONCATENATE('Product SARF'!$I$18,'Product SARF'!$I$19),\"\")& IF(AND(NOT(ISBLANK('Product SARF'!J117)),'Product SARF'!$E$12<>\"5) NA\",'Product SARF'!$E$12<>\"5) ...\"), \"   \"&CONCATENATE('Product SARF'!$J$18,'Product SARF'!$J$19),\"\")&IF(AND(NOT(ISBLANK('Product SARF'!K117)),'Product SARF'!$E$13<>\"6) NA\",'Product SARF'!$E$13<>\"6) ...\"), \"   \"&CONCATENATE('Product SARF'!$K$18,'Product SARF'!$K$19),\"\")&IF(AND(NOT(ISBLANK('Product SARF'!L117)),'Product SARF'!$E$14<>\"7) NA\",'Product SARF'!$E$14<>\"7) ...\"), \"   \"&CONCATENATE('Product SARF'!$L$18,'Product SARF'!$L$19),\"\") &IF(AND(NOT(ISBLANK('Product SARF'!M117)),'Product SARF'!$E$15<>\"8) NA\",'Product SARF'!$E$15<>\"8) ...\"), \"   \"&CONCATENATE('Product SARF'!$M$18,'Product SARF'!$M$19),\"\"))","v":""}]
[{"$f":"IF(C100=\"\",\"\",IF('Product SARF'!B118=\"\",\"\",'Product SARF'!B118))","v":""},{"$f":"IF('Product SARF'!C118=\"\",\"\",\"Sample\")","v":""},{"$f":"IF('Product SARF'!C118=\"\",\"\",'Product SARF'!C118)","v":""},{"$f":"IF(C100=\"\",\"\",IF('Product SARF'!D118=\"\",\"\",'Product SARF'!D118))","v":""},{"$f":"IF(C100=\"\",\"\",IF('Product SARF'!E118=\"\",\"\",'Product SARF'!E118))","v":""},{"$f":"IF(C100=\"\",\"\",IF('Product SARF'!$L$6=\"\",\"\",CONCATENATE('Product SARF'!$L$6,'Product SARF'!$M$6)))","v":""},{"$f":"IF(C100=\"\",\"\",IF('Product SARF'!$L$2=\"\",\"\",'Product SARF'!$L$2))","v":""},{"$f":"IF(C100=\"\",\"\",IF('Product SARF'!$L$4=\"\",NOW(),'Product SARF'!$L$4))","v":""},"",{"$f":"IF(C100=\"\",\"\", IF(AND(NOT(ISBLANK('Product SARF'!F118)),'Product SARF'!$E$8<>\"1) NA\",'Product SARF'!$E$8<>\"1) ...\"), \"   \"&CONCATENATE('Product SARF'!$F$18,'Product SARF'!$F$19),\"\") & IF(AND(NOT(ISBLANK('Product SARF'!G118)),'Product SARF'!$E$9<>\"2) NA\",'Product SARF'!$E$9<>\"2) ...\"), \"   \"&CONCATENATE('Product SARF'!$G$18,'Product SARF'!$G$19),\"\")& IF(AND(NOT(ISBLANK('Product SARF'!H118)),'Product SARF'!$E$10<>\"3) NA\",'Product SARF'!$E$10<>\"3) ...\"), \"   \"&CONCATENATE('Product SARF'!$H$18,'Product SARF'!$H$19),\"\") & IF(AND(NOT(ISBLANK('Product SARF'!I118)),'Product SARF'!$E$11<>\"4) NA\",'Product SARF'!$E$11<>\"4) ...\"), \"   \"&CONCATENATE('Product SARF'!$I$18,'Product SARF'!$I$19),\"\")& IF(AND(NOT(ISBLANK('Product SARF'!J118)),'Product SARF'!$E$12<>\"5) NA\",'Product SARF'!$E$12<>\"5) ...\"), \"   \"&CONCATENATE('Product SARF'!$J$18,'Product SARF'!$J$19),\"\")&IF(AND(NOT(ISBLANK('Product SARF'!K118)),'Product SARF'!$E$13<>\"6) NA\",'Product SARF'!$E$13<>\"6) ...\"), \"   \"&CONCATENATE('Product SARF'!$K$18,'Product SARF'!$K$19),\"\")&IF(AND(NOT(ISBLANK('Product SARF'!L118)),'Product SARF'!$E$14<>\"7) NA\",'Product SARF'!$E$14<>\"7) ...\"), \"   \"&CONCATENATE('Product SARF'!$L$18,'Product SARF'!$L$19),\"\") &IF(AND(NOT(ISBLANK('Product SARF'!M118)),'Product SARF'!$E$15<>\"8) NA\",'Product SARF'!$E$15<>\"8) ...\"), \"   \"&CONCATENATE('Product SARF'!$M$18,'Product SARF'!$M$19),\"\"))","v":""}]
[{"$f":"IF(C101=\"\",\"\",IF('Product SARF'!B119=\"\",\"\",'Product SARF'!B119))","v":""},{"$f":"IF('Product SARF'!C119=\"\",\"\",\"Sample\")","v":""},{"$f":"IF('Product SARF'!C119=\"\",\"\",'Product SARF'!C119)","v":""},{"$f":"IF(C101=\"\",\"\",IF('Product SARF'!D119=\"\",\"\",'Product SARF'!D119))","v":""},{"$f":"IF(C101=\"\",\"\",IF('Product SARF'!E119=\"\",\"\",'Product SARF'!E119))","v":""},{"$f":"IF(C101=\"\",\"\",IF('Product SARF'!$L$6=\"\",\"\",CONCATENATE('Product SARF'!$L$6,'Product SARF'!$M$6)))","v":""},{"$f":"IF(C101=\"\",\"\",IF('Product SARF'!$L$2=\"\",\"\",'Product SARF'!$L$2))","v":""},{"$f":"IF(C101=\"\",\"\",IF('Product SARF'!$L$4=\"\",NOW(),'Product SARF'!$L$4))","v":""},"",{"$f":"IF(C101=\"\",\"\", IF(AND(NOT(ISBLANK('Product SARF'!F119)),'Product SARF'!$E$8<>\"1) NA\",'Product SARF'!$E$8<>\"1) ...\"), \"   \"&CONCATENATE('Product SARF'!$F$18,'Product SARF'!$F$19),\"\") & IF(AND(NOT(ISBLANK('Product SARF'!G119)),'Product SARF'!$E$9<>\"2) NA\",'Product SARF'!$E$9<>\"2) ...\"), \"   \"&CONCATENATE('Product SARF'!$G$18,'Product SARF'!$G$19),\"\")& IF(AND(NOT(ISBLANK('Product SARF'!H119)),'Product SARF'!$E$10<>\"3) NA\",'Product SARF'!$E$10<>\"3) ...\"), \"   \"&CONCATENATE('Product SARF'!$H$18,'Product SARF'!$H$19),\"\") & IF(AND(NOT(ISBLANK('Product SARF'!I119)),'Product SARF'!$E$11<>\"4) NA\",'Product SARF'!$E$11<>\"4) ...\"), \"   \"&CONCATENATE('Product SARF'!$I$18,'Product SARF'!$I$19),\"\")& IF(AND(NOT(ISBLANK('Product SARF'!J119)),'Product SARF'!$E$12<>\"5) NA\",'Product SARF'!$E$12<>\"5) ...\"), \"   \"&CONCATENATE('Product SARF'!$J$18,'Product SARF'!$J$19),\"\")&IF(AND(NOT(ISBLANK('Product SARF'!K119)),'Product SARF'!$E$13<>\"6) NA\",'Product SARF'!$E$13<>\"6) ...\"), \"   \"&CONCATENATE('Product SARF'!$K$18,'Product SARF'!$K$19),\"\")&IF(AND(NOT(ISBLANK('Product SARF'!L119)),'Product SARF'!$E$14<>\"7) NA\",'Product SARF'!$E$14<>\"7) ...\"), \"   \"&CONCATENATE('Product SARF'!$L$18,'Product SARF'!$L$19),\"\") &IF(AND(NOT(ISBLANK('Product SARF'!M119)),'Product SARF'!$E$15<>\"8) NA\",'Product SARF'!$E$15<>\"8) ...\"), \"   \"&CONCATENATE('Product SARF'!$M$18,'Product SARF'!$M$19),\"\"))","v":""}]
[{"$f":"IF(C102=\"\",\"\",IF('Product SARF'!B120=\"\",\"\",'Product SARF'!B120))","v":""},{"$f":"IF('Product SARF'!C120=\"\",\"\",\"Sample\")","v":""},{"$f":"IF('Product SARF'!C120=\"\",\"\",'Product SARF'!C120)","v":""},{"$f":"IF(C102=\"\",\"\",IF('Product SARF'!D120=\"\",\"\",'Product SARF'!D120))","v":""},{"$f":"IF(C102=\"\",\"\",IF('Product SARF'!E120=\"\",\"\",'Product SARF'!E120))","v":""},{"$f":"IF(C102=\"\",\"\",IF('Product SARF'!$L$6=\"\",\"\",CONCATENATE('Product SARF'!$L$6,'Product SARF'!$M$6)))","v":""},{"$f":"IF(C102=\"\",\"\",IF('Product SARF'!$L$2=\"\",\"\",'Product SARF'!$L$2))","v":""},{"$f":"IF(C102=\"\",\"\",IF('Product SARF'!$L$4=\"\",NOW(),'Product SARF'!$L$4))","v":""},"",{"$f":"IF(C102=\"\",\"\", IF(AND(NOT(ISBLANK('Product SARF'!F120)),'Product SARF'!$E$8<>\"1) NA\",'Product SARF'!$E$8<>\"1) ...\"), \"   \"&CONCATENATE('Product SARF'!$F$18,'Product SARF'!$F$19),\"\") & IF(AND(NOT(ISBLANK('Product SARF'!G120)),'Product SARF'!$E$9<>\"2) NA\",'Product SARF'!$E$9<>\"2) ...\"), \"   \"&CONCATENATE('Product SARF'!$G$18,'Product SARF'!$G$19),\"\")& IF(AND(NOT(ISBLANK('Product SARF'!H120)),'Product SARF'!$E$10<>\"3) NA\",'Product SARF'!$E$10<>\"3) ...\"), \"   \"&CONCATENATE('Product SARF'!$H$18,'Product SARF'!$H$19),\"\") & IF(AND(NOT(ISBLANK('Product SARF'!I120)),'Product SARF'!$E$11<>\"4) NA\",'Product SARF'!$E$11<>\"4) ...\"), \"   \"&CONCATENATE('Product SARF'!$I$18,'Product SARF'!$I$19),\"\")& IF(AND(NOT(ISBLANK('Product SARF'!J120)),'Product SARF'!$E$12<>\"5) NA\",'Product SARF'!$E$12<>\"5) ...\"), \"   \"&CONCATENATE('Product SARF'!$J$18,'Product SARF'!$J$19),\"\")&IF(AND(NOT(ISBLANK('Product SARF'!K120)),'Product SARF'!$E$13<>\"6) NA\",'Product SARF'!$E$13<>\"6) ...\"), \"   \"&CONCATENATE('Product SARF'!$K$18,'Product SARF'!$K$19),\"\")&IF(AND(NOT(ISBLANK('Product SARF'!L120)),'Product SARF'!$E$14<>\"7) NA\",'Product SARF'!$E$14<>\"7) ...\"), \"   \"&CONCATENATE('Product SARF'!$L$18,'Product SARF'!$L$19),\"\") &IF(AND(NOT(ISBLANK('Product SARF'!M120)),'Product SARF'!$E$15<>\"8) NA\",'Product SARF'!$E$15<>\"8) ...\"), \"   \"&CONCATENATE('Product SARF'!$M$18,'Product SARF'!$M$19),\"\"))","v":""}]
[{"$f":"IF(C103=\"\",\"\",IF('Product SARF'!B121=\"\",\"\",'Product SARF'!B121))","v":""},{"$f":"IF('Product SARF'!C121=\"\",\"\",\"Sample\")","v":""},{"$f":"IF('Product SARF'!C121=\"\",\"\",'Product SARF'!C121)","v":""},{"$f":"IF(C103=\"\",\"\",IF('Product SARF'!D121=\"\",\"\",'Product SARF'!D121))","v":""},{"$f":"IF(C103=\"\",\"\",IF('Product SARF'!E121=\"\",\"\",'Product SARF'!E121))","v":""},{"$f":"IF(C103=\"\",\"\",IF('Product SARF'!$L$6=\"\",\"\",CONCATENATE('Product SARF'!$L$6,'Product SARF'!$M$6)))","v":""},{"$f":"IF(C103=\"\",\"\",IF('Product SARF'!$L$2=\"\",\"\",'Product SARF'!$L$2))","v":""},{"$f":"IF(C103=\"\",\"\",IF('Product SARF'!$L$4=\"\",NOW(),'Product SARF'!$L$4))","v":""},"",{"$f":"IF(C103=\"\",\"\", IF(AND(NOT(ISBLANK('Product SARF'!F121)),'Product SARF'!$E$8<>\"1) NA\",'Product SARF'!$E$8<>\"1) ...\"), \"   \"&CONCATENATE('Product SARF'!$F$18,'Product SARF'!$F$19),\"\") & IF(AND(NOT(ISBLANK('Product SARF'!G121)),'Product SARF'!$E$9<>\"2) NA\",'Product SARF'!$E$9<>\"2) ...\"), \"   \"&CONCATENATE('Product SARF'!$G$18,'Product SARF'!$G$19),\"\")& IF(AND(NOT(ISBLANK('Product SARF'!H121)),'Product SARF'!$E$10<>\"3) NA\",'Product SARF'!$E$10<>\"3) ...\"), \"   \"&CONCATENATE('Product SARF'!$H$18,'Product SARF'!$H$19),\"\") & IF(AND(NOT(ISBLANK('Product SARF'!I121)),'Product SARF'!$E$11<>\"4) NA\",'Product SARF'!$E$11<>\"4) ...\"), \"   \"&CONCATENATE('Product SARF'!$I$18,'Product SARF'!$I$19),\"\")& IF(AND(NOT(ISBLANK('Product SARF'!J121)),'Product SARF'!$E$12<>\"5) NA\",'Product SARF'!$E$12<>\"5) ...\"), \"   \"&CONCATENATE('Product SARF'!$J$18,'Product SARF'!$J$19),\"\")&IF(AND(NOT(ISBLANK('Product SARF'!K121)),'Product SARF'!$E$13<>\"6) NA\",'Product SARF'!$E$13<>\"6) ...\"), \"   \"&CONCATENATE('Product SARF'!$K$18,'Product SARF'!$K$19),\"\")&IF(AND(NOT(ISBLANK('Product SARF'!L121)),'Product SARF'!$E$14<>\"7) NA\",'Product SARF'!$E$14<>\"7) ...\"), \"   \"&CONCATENATE('Product SARF'!$L$18,'Product SARF'!$L$19),\"\") &IF(AND(NOT(ISBLANK('Product SARF'!M121)),'Product SARF'!$E$15<>\"8) NA\",'Product SARF'!$E$15<>\"8) ...\"), \"   \"&CONCATENATE('Product SARF'!$M$18,'Product SARF'!$M$19),\"\"))","v":""}]
[{"$f":"IF(C104=\"\",\"\",IF('Product SARF'!B122=\"\",\"\",'Product SARF'!B122))","v":""},{"$f":"IF('Product SARF'!C122=\"\",\"\",\"Sample\")","v":""},{"$f":"IF('Product SARF'!C122=\"\",\"\",'Product SARF'!C122)","v":""},{"$f":"IF(C104=\"\",\"\",IF('Product SARF'!D122=\"\",\"\",'Product SARF'!D122))","v":""},{"$f":"IF(C104=\"\",\"\",IF('Product SARF'!E122=\"\",\"\",'Product SARF'!E122))","v":""},{"$f":"IF(C104=\"\",\"\",IF('Product SARF'!$L$6=\"\",\"\",CONCATENATE('Product SARF'!$L$6,'Product SARF'!$M$6)))","v":""},{"$f":"IF(C104=\"\",\"\",IF('Product SARF'!$L$2=\"\",\"\",'Product SARF'!$L$2))","v":""},{"$f":"IF(C104=\"\",\"\",IF('Product SARF'!$L$4=\"\",NOW(),'Product SARF'!$L$4))","v":""},"",{"$f":"IF(C104=\"\",\"\", IF(AND(NOT(ISBLANK('Product SARF'!F122)),'Product SARF'!$E$8<>\"1) NA\",'Product SARF'!$E$8<>\"1) ...\"), \"   \"&CONCATENATE('Product SARF'!$F$18,'Product SARF'!$F$19),\"\") & IF(AND(NOT(ISBLANK('Product SARF'!G122)),'Product SARF'!$E$9<>\"2) NA\",'Product SARF'!$E$9<>\"2) ...\"), \"   \"&CONCATENATE('Product SARF'!$G$18,'Product SARF'!$G$19),\"\")& IF(AND(NOT(ISBLANK('Product SARF'!H122)),'Product SARF'!$E$10<>\"3) NA\",'Product SARF'!$E$10<>\"3) ...\"), \"   \"&CONCATENATE('Product SARF'!$H$18,'Product SARF'!$H$19),\"\") & IF(AND(NOT(ISBLANK('Product SARF'!I122)),'Product SARF'!$E$11<>\"4) NA\",'Product SARF'!$E$11<>\"4) ...\"), \"   \"&CONCATENATE('Product SARF'!$I$18,'Product SARF'!$I$19),\"\")& IF(AND(NOT(ISBLANK('Product SARF'!J122)),'Product SARF'!$E$12<>\"5) NA\",'Product SARF'!$E$12<>\"5) ...\"), \"   \"&CONCATENATE('Product SARF'!$J$18,'Product SARF'!$J$19),\"\")&IF(AND(NOT(ISBLANK('Product SARF'!K122)),'Product SARF'!$E$13<>\"6) NA\",'Product SARF'!$E$13<>\"6) ...\"), \"   \"&CONCATENATE('Product SARF'!$K$18,'Product SARF'!$K$19),\"\")&IF(AND(NOT(ISBLANK('Product SARF'!L122)),'Product SARF'!$E$14<>\"7) NA\",'Product SARF'!$E$14<>\"7) ...\"), \"   \"&CONCATENATE('Product SARF'!$L$18,'Product SARF'!$L$19),\"\") &IF(AND(NOT(ISBLANK('Product SARF'!M122)),'Product SARF'!$E$15<>\"8) NA\",'Product SARF'!$E$15<>\"8) ...\"), \"   \"&CONCATENATE('Product SARF'!$M$18,'Product SARF'!$M$19),\"\"))","v":""}]
[{"$f":"IF(C105=\"\",\"\",IF('Product SARF'!B123=\"\",\"\",'Product SARF'!B123))","v":""},{"$f":"IF('Product SARF'!C123=\"\",\"\",\"Sample\")","v":""},{"$f":"IF('Product SARF'!C123=\"\",\"\",'Product SARF'!C123)","v":""},{"$f":"IF(C105=\"\",\"\",IF('Product SARF'!D123=\"\",\"\",'Product SARF'!D123))","v":""},{"$f":"IF(C105=\"\",\"\",IF('Product SARF'!E123=\"\",\"\",'Product SARF'!E123))","v":""},{"$f":"IF(C105=\"\",\"\",IF('Product SARF'!$L$6=\"\",\"\",CONCATENATE('Product SARF'!$L$6,'Product SARF'!$M$6)))","v":""},{"$f":"IF(C105=\"\",\"\",IF('Product SARF'!$L$2=\"\",\"\",'Product SARF'!$L$2))","v":""},{"$f":"IF(C105=\"\",\"\",IF('Product SARF'!$L$4=\"\",NOW(),'Product SARF'!$L$4))","v":""},"",{"$f":"IF(C105=\"\",\"\", IF(AND(NOT(ISBLANK('Product SARF'!F123)),'Product SARF'!$E$8<>\"1) NA\",'Product SARF'!$E$8<>\"1) ...\"), \"   \"&CONCATENATE('Product SARF'!$F$18,'Product SARF'!$F$19),\"\") & IF(AND(NOT(ISBLANK('Product SARF'!G123)),'Product SARF'!$E$9<>\"2) NA\",'Product SARF'!$E$9<>\"2) ...\"), \"   \"&CONCATENATE('Product SARF'!$G$18,'Product SARF'!$G$19),\"\")& IF(AND(NOT(ISBLANK('Product SARF'!H123)),'Product SARF'!$E$10<>\"3) NA\",'Product SARF'!$E$10<>\"3) ...\"), \"   \"&CONCATENATE('Product SARF'!$H$18,'Product SARF'!$H$19),\"\") & IF(AND(NOT(ISBLANK('Product SARF'!I123)),'Product SARF'!$E$11<>\"4) NA\",'Product SARF'!$E$11<>\"4) ...\"), \"   \"&CONCATENATE('Product SARF'!$I$18,'Product SARF'!$I$19),\"\")& IF(AND(NOT(ISBLANK('Product SARF'!J123)),'Product SARF'!$E$12<>\"5) NA\",'Product SARF'!$E$12<>\"5) ...\"), \"   \"&CONCATENATE('Product SARF'!$J$18,'Product SARF'!$J$19),\"\")&IF(AND(NOT(ISBLANK('Product SARF'!K123)),'Product SARF'!$E$13<>\"6) NA\",'Product SARF'!$E$13<>\"6) ...\"), \"   \"&CONCATENATE('Product SARF'!$K$18,'Product SARF'!$K$19),\"\")&IF(AND(NOT(ISBLANK('Product SARF'!L123)),'Product SARF'!$E$14<>\"7) NA\",'Product SARF'!$E$14<>\"7) ...\"), \"   \"&CONCATENATE('Product SARF'!$L$18,'Product SARF'!$L$19),\"\") &IF(AND(NOT(ISBLANK('Product SARF'!M123)),'Product SARF'!$E$15<>\"8) NA\",'Product SARF'!$E$15<>\"8) ...\"), \"   \"&CONCATENATE('Product SARF'!$M$18,'Product SARF'!$M$19),\"\"))","v":""}]
[{"$f":"IF(C106=\"\",\"\",IF('Product SARF'!B124=\"\",\"\",'Product SARF'!B124))","v":""},{"$f":"IF('Product SARF'!C124=\"\",\"\",\"Sample\")","v":""},{"$f":"IF('Product SARF'!C124=\"\",\"\",'Product SARF'!C124)","v":""},{"$f":"IF(C106=\"\",\"\",IF('Product SARF'!D124=\"\",\"\",'Product SARF'!D124))","v":""},{"$f":"IF(C106=\"\",\"\",IF('Product SARF'!E124=\"\",\"\",'Product SARF'!E124))","v":""},{"$f":"IF(C106=\"\",\"\",IF('Product SARF'!$L$6=\"\",\"\",CONCATENATE('Product SARF'!$L$6,'Product SARF'!$M$6)))","v":""},{"$f":"IF(C106=\"\",\"\",IF('Product SARF'!$L$2=\"\",\"\",'Product SARF'!$L$2))","v":""},{"$f":"IF(C106=\"\",\"\",IF('Product SARF'!$L$4=\"\",NOW(),'Product SARF'!$L$4))","v":""},"",{"$f":"IF(C106=\"\",\"\", IF(AND(NOT(ISBLANK('Product SARF'!F124)),'Product SARF'!$E$8<>\"1) NA\",'Product SARF'!$E$8<>\"1) ...\"), \"   \"&CONCATENATE('Product SARF'!$F$18,'Product SARF'!$F$19),\"\") & IF(AND(NOT(ISBLANK('Product SARF'!G124)),'Product SARF'!$E$9<>\"2) NA\",'Product SARF'!$E$9<>\"2) ...\"), \"   \"&CONCATENATE('Product SARF'!$G$18,'Product SARF'!$G$19),\"\")& IF(AND(NOT(ISBLANK('Product SARF'!H124)),'Product SARF'!$E$10<>\"3) NA\",'Product SARF'!$E$10<>\"3) ...\"), \"   \"&CONCATENATE('Product SARF'!$H$18,'Product SARF'!$H$19),\"\") & IF(AND(NOT(ISBLANK('Product SARF'!I124)),'Product SARF'!$E$11<>\"4) NA\",'Product SARF'!$E$11<>\"4) ...\"), \"   \"&CONCATENATE('Product SARF'!$I$18,'Product SARF'!$I$19),\"\")& IF(AND(NOT(ISBLANK('Product SARF'!J124)),'Product SARF'!$E$12<>\"5) NA\",'Product SARF'!$E$12<>\"5) ...\"), \"   \"&CONCATENATE('Product SARF'!$J$18,'Product SARF'!$J$19),\"\")&IF(AND(NOT(ISBLANK('Product SARF'!K124)),'Product SARF'!$E$13<>\"6) NA\",'Product SARF'!$E$13<>\"6) ...\"), \"   \"&CONCATENATE('Product SARF'!$K$18,'Product SARF'!$K$19),\"\")&IF(AND(NOT(ISBLANK('Product SARF'!L124)),'Product SARF'!$E$14<>\"7) NA\",'Product SARF'!$E$14<>\"7) ...\"), \"   \"&CONCATENATE('Product SARF'!$L$18,'Product SARF'!$L$19),\"\") &IF(AND(NOT(ISBLANK('Product SARF'!M124)),'Product SARF'!$E$15<>\"8) NA\",'Product SARF'!$E$15<>\"8) ...\"), \"   \"&CONCATENATE('Product SARF'!$M$18,'Product SARF'!$M$19),\"\"))","v":""}]
[{"$f":"IF(C107=\"\",\"\",IF('Product SARF'!B125=\"\",\"\",'Product SARF'!B125))","v":""},{"$f":"IF('Product SARF'!C125=\"\",\"\",\"Sample\")","v":""},{"$f":"IF('Product SARF'!C125=\"\",\"\",'Product SARF'!C125)","v":""},{"$f":"IF(C107=\"\",\"\",IF('Product SARF'!D125=\"\",\"\",'Product SARF'!D125))","v":""},{"$f":"IF(C107=\"\",\"\",IF('Product SARF'!E125=\"\",\"\",'Product SARF'!E125))","v":""},{"$f":"IF(C107=\"\",\"\",IF('Product SARF'!$L$6=\"\",\"\",CONCATENATE('Product SARF'!$L$6,'Product SARF'!$M$6)))","v":""},{"$f":"IF(C107=\"\",\"\",IF('Product SARF'!$L$2=\"\",\"\",'Product SARF'!$L$2))","v":""},{"$f":"IF(C107=\"\",\"\",IF('Product SARF'!$L$4=\"\",NOW(),'Product SARF'!$L$4))","v":""},"",{"$f":"IF(C107=\"\",\"\", IF(AND(NOT(ISBLANK('Product SARF'!F125)),'Product SARF'!$E$8<>\"1) NA\",'Product SARF'!$E$8<>\"1) ...\"), \"   \"&CONCATENATE('Product SARF'!$F$18,'Product SARF'!$F$19),\"\") & IF(AND(NOT(ISBLANK('Product SARF'!G125)),'Product SARF'!$E$9<>\"2) NA\",'Product SARF'!$E$9<>\"2) ...\"), \"   \"&CONCATENATE('Product SARF'!$G$18,'Product SARF'!$G$19),\"\")& IF(AND(NOT(ISBLANK('Product SARF'!H125)),'Product SARF'!$E$10<>\"3) NA\",'Product SARF'!$E$10<>\"3) ...\"), \"   \"&CONCATENATE('Product SARF'!$H$18,'Product SARF'!$H$19),\"\") & IF(AND(NOT(ISBLANK('Product SARF'!I125)),'Product SARF'!$E$11<>\"4) NA\",'Product SARF'!$E$11<>\"4) ...\"), \"   \"&CONCATENATE('Product SARF'!$I$18,'Product SARF'!$I$19),\"\")& IF(AND(NOT(ISBLANK('Product SARF'!J125)),'Product SARF'!$E$12<>\"5) NA\",'Product SARF'!$E$12<>\"5) ...\"), \"   \"&CONCATENATE('Product SARF'!$J$18,'Product SARF'!$J$19),\"\")&IF(AND(NOT(ISBLANK('Product SARF'!K125)),'Product SARF'!$E$13<>\"6) NA\",'Product SARF'!$E$13<>\"6) ...\"), \"   \"&CONCATENATE('Product SARF'!$K$18,'Product SARF'!$K$19),\"\")&IF(AND(NOT(ISBLANK('Product SARF'!L125)),'Product SARF'!$E$14<>\"7) NA\",'Product SARF'!$E$14<>\"7) ...\"), \"   \"&CONCATENATE('Product SARF'!$L$18,'Product SARF'!$L$19),\"\") &IF(AND(NOT(ISBLANK('Product SARF'!M125)),'Product SARF'!$E$15<>\"8) NA\",'Product SARF'!$E$15<>\"8) ...\"), \"   \"&CONCATENATE('Product SARF'!$M$18,'Product SARF'!$M$19),\"\"))","v":""}]
[{"$f":"IF(C108=\"\",\"\",IF('Product SARF'!B126=\"\",\"\",'Product SARF'!B126))","v":""},{"$f":"IF('Product SARF'!C126=\"\",\"\",\"Sample\")","v":""},{"$f":"IF('Product SARF'!C126=\"\",\"\",'Product SARF'!C126)","v":""},{"$f":"IF(C108=\"\",\"\",IF('Product SARF'!D126=\"\",\"\",'Product SARF'!D126))","v":""},{"$f":"IF(C108=\"\",\"\",IF('Product SARF'!E126=\"\",\"\",'Product SARF'!E126))","v":""},{"$f":"IF(C108=\"\",\"\",IF('Product SARF'!$L$6=\"\",\"\",CONCATENATE('Product SARF'!$L$6,'Product SARF'!$M$6)))","v":""},{"$f":"IF(C108=\"\",\"\",IF('Product SARF'!$L$2=\"\",\"\",'Product SARF'!$L$2))","v":""},{"$f":"IF(C108=\"\",\"\",IF('Product SARF'!$L$4=\"\",NOW(),'Product SARF'!$L$4))","v":""},"",{"$f":"IF(C108=\"\",\"\", IF(AND(NOT(ISBLANK('Product SARF'!F126)),'Product SARF'!$E$8<>\"1) NA\",'Product SARF'!$E$8<>\"1) ...\"), \"   \"&CONCATENATE('Product SARF'!$F$18,'Product SARF'!$F$19),\"\") & IF(AND(NOT(ISBLANK('Product SARF'!G126)),'Product SARF'!$E$9<>\"2) NA\",'Product SARF'!$E$9<>\"2) ...\"), \"   \"&CONCATENATE('Product SARF'!$G$18,'Product SARF'!$G$19),\"\")& IF(AND(NOT(ISBLANK('Product SARF'!H126)),'Product SARF'!$E$10<>\"3) NA\",'Product SARF'!$E$10<>\"3) ...\"), \"   \"&CONCATENATE('Product SARF'!$H$18,'Product SARF'!$H$19),\"\") & IF(AND(NOT(ISBLANK('Product SARF'!I126)),'Product SARF'!$E$11<>\"4) NA\",'Product SARF'!$E$11<>\"4) ...\"), \"   \"&CONCATENATE('Product SARF'!$I$18,'Product SARF'!$I$19),\"\")& IF(AND(NOT(ISBLANK('Product SARF'!J126)),'Product SARF'!$E$12<>\"5) NA\",'Product SARF'!$E$12<>\"5) ...\"), \"   \"&CONCATENATE('Product SARF'!$J$18,'Product SARF'!$J$19),\"\")&IF(AND(NOT(ISBLANK('Product SARF'!K126)),'Product SARF'!$E$13<>\"6) NA\",'Product SARF'!$E$13<>\"6) ...\"), \"   \"&CONCATENATE('Product SARF'!$K$18,'Product SARF'!$K$19),\"\")&IF(AND(NOT(ISBLANK('Product SARF'!L126)),'Product SARF'!$E$14<>\"7) NA\",'Product SARF'!$E$14<>\"7) ...\"), \"   \"&CONCATENATE('Product SARF'!$L$18,'Product SARF'!$L$19),\"\") &IF(AND(NOT(ISBLANK('Product SARF'!M126)),'Product SARF'!$E$15<>\"8) NA\",'Product SARF'!$E$15<>\"8) ...\"), \"   \"&CONCATENATE('Product SARF'!$M$18,'Product SARF'!$M$19),\"\"))","v":""}]
[{"$f":"IF(C109=\"\",\"\",IF('Product SARF'!B127=\"\",\"\",'Product SARF'!B127))","v":""},{"$f":"IF('Product SARF'!C127=\"\",\"\",\"Sample\")","v":""},{"$f":"IF('Product SARF'!C127=\"\",\"\",'Product SARF'!C127)","v":""},{"$f":"IF(C109=\"\",\"\",IF('Product SARF'!D127=\"\",\"\",'Product SARF'!D127))","v":""},{"$f":"IF(C109=\"\",\"\",IF('Product SARF'!E127=\"\",\"\",'Product SARF'!E127))","v":""},{"$f":"IF(C109=\"\",\"\",IF('Product SARF'!$L$6=\"\",\"\",CONCATENATE('Product SARF'!$L$6,'Product SARF'!$M$6)))","v":""},{"$f":"IF(C109=\"\",\"\",IF('Product SARF'!$L$2=\"\",\"\",'Product SARF'!$L$2))","v":""},{"$f":"IF(C109=\"\",\"\",IF('Product SARF'!$L$4=\"\",NOW(),'Product SARF'!$L$4))","v":""},"",{"$f":"IF(C109=\"\",\"\", IF(AND(NOT(ISBLANK('Product SARF'!F127)),'Product SARF'!$E$8<>\"1) NA\",'Product SARF'!$E$8<>\"1) ...\"), \"   \"&CONCATENATE('Product SARF'!$F$18,'Product SARF'!$F$19),\"\") & IF(AND(NOT(ISBLANK('Product SARF'!G127)),'Product SARF'!$E$9<>\"2) NA\",'Product SARF'!$E$9<>\"2) ...\"), \"   \"&CONCATENATE('Product SARF'!$G$18,'Product SARF'!$G$19),\"\")& IF(AND(NOT(ISBLANK('Product SARF'!H127)),'Product SARF'!$E$10<>\"3) NA\",'Product SARF'!$E$10<>\"3) ...\"), \"   \"&CONCATENATE('Product SARF'!$H$18,'Product SARF'!$H$19),\"\") & IF(AND(NOT(ISBLANK('Product SARF'!I127)),'Product SARF'!$E$11<>\"4) NA\",'Product SARF'!$E$11<>\"4) ...\"), \"   \"&CONCATENATE('Product SARF'!$I$18,'Product SARF'!$I$19),\"\")& IF(AND(NOT(ISBLANK('Product SARF'!J127)),'Product SARF'!$E$12<>\"5) NA\",'Product SARF'!$E$12<>\"5) ...\"), \"   \"&CONCATENATE('Product SARF'!$J$18,'Product SARF'!$J$19),\"\")&IF(AND(NOT(ISBLANK('Product SARF'!K127)),'Product SARF'!$E$13<>\"6) NA\",'Product SARF'!$E$13<>\"6) ...\"), \"   \"&CONCATENATE('Product SARF'!$K$18,'Product SARF'!$K$19),\"\")&IF(AND(NOT(ISBLANK('Product SARF'!L127)),'Product SARF'!$E$14<>\"7) NA\",'Product SARF'!$E$14<>\"7) ...\"), \"   \"&CONCATENATE('Product SARF'!$L$18,'Product SARF'!$L$19),\"\") &IF(AND(NOT(ISBLANK('Product SARF'!M127)),'Product SARF'!$E$15<>\"8) NA\",'Product SARF'!$E$15<>\"8) ...\"), \"   \"&CONCATENATE('Product SARF'!$M$18,'Product SARF'!$M$19),\"\"))","v":""}]
[{"$f":"IF(C110=\"\",\"\",IF('Product SARF'!B128=\"\",\"\",'Product SARF'!B128))","v":""},{"$f":"IF('Product SARF'!C128=\"\",\"\",\"Sample\")","v":""},{"$f":"IF('Product SARF'!C128=\"\",\"\",'Product SARF'!C128)","v":""},{"$f":"IF(C110=\"\",\"\",IF('Product SARF'!D128=\"\",\"\",'Product SARF'!D128))","v":""},{"$f":"IF(C110=\"\",\"\",IF('Product SARF'!E128=\"\",\"\",'Product SARF'!E128))","v":""},{"$f":"IF(C110=\"\",\"\",IF('Product SARF'!$L$6=\"\",\"\",CONCATENATE('Product SARF'!$L$6,'Product SARF'!$M$6)))","v":""},{"$f":"IF(C110=\"\",\"\",IF('Product SARF'!$L$2=\"\",\"\",'Product SARF'!$L$2))","v":""},{"$f":"IF(C110=\"\",\"\",IF('Product SARF'!$L$4=\"\",NOW(),'Product SARF'!$L$4))","v":""},"",{"$f":"IF(C110=\"\",\"\", IF(AND(NOT(ISBLANK('Product SARF'!F128)),'Product SARF'!$E$8<>\"1) NA\",'Product SARF'!$E$8<>\"1) ...\"), \"   \"&CONCATENATE('Product SARF'!$F$18,'Product SARF'!$F$19),\"\") & IF(AND(NOT(ISBLANK('Product SARF'!G128)),'Product SARF'!$E$9<>\"2) NA\",'Product SARF'!$E$9<>\"2) ...\"), \"   \"&CONCATENATE('Product SARF'!$G$18,'Product SARF'!$G$19),\"\")& IF(AND(NOT(ISBLANK('Product SARF'!H128)),'Product SARF'!$E$10<>\"3) NA\",'Product SARF'!$E$10<>\"3) ...\"), \"   \"&CONCATENATE('Product SARF'!$H$18,'Product SARF'!$H$19),\"\") & IF(AND(NOT(ISBLANK('Product SARF'!I128)),'Product SARF'!$E$11<>\"4) NA\",'Product SARF'!$E$11<>\"4) ...\"), \"   \"&CONCATENATE('Product SARF'!$I$18,'Product SARF'!$I$19),\"\")& IF(AND(NOT(ISBLANK('Product SARF'!J128)),'Product SARF'!$E$12<>\"5) NA\",'Product SARF'!$E$12<>\"5) ...\"), \"   \"&CONCATENATE('Product SARF'!$J$18,'Product SARF'!$J$19),\"\")&IF(AND(NOT(ISBLANK('Product SARF'!K128)),'Product SARF'!$E$13<>\"6) NA\",'Product SARF'!$E$13<>\"6) ...\"), \"   \"&CONCATENATE('Product SARF'!$K$18,'Product SARF'!$K$19),\"\")&IF(AND(NOT(ISBLANK('Product SARF'!L128)),'Product SARF'!$E$14<>\"7) NA\",'Product SARF'!$E$14<>\"7) ...\"), \"   \"&CONCATENATE('Product SARF'!$L$18,'Product SARF'!$L$19),\"\") &IF(AND(NOT(ISBLANK('Product SARF'!M128)),'Product SARF'!$E$15<>\"8) NA\",'Product SARF'!$E$15<>\"8) ...\"), \"   \"&CONCATENATE('Product SARF'!$M$18,'Product SARF'!$M$19),\"\"))","v":""}]
[{"$f":"IF(C111=\"\",\"\",IF('Product SARF'!B129=\"\",\"\",'Product SARF'!B129))","v":""},{"$f":"IF('Product SARF'!C129=\"\",\"\",\"Sample\")","v":""},{"$f":"IF('Product SARF'!C129=\"\",\"\",'Product SARF'!C129)","v":""},{"$f":"IF(C111=\"\",\"\",IF('Product SARF'!D129=\"\",\"\",'Product SARF'!D129))","v":""},{"$f":"IF(C111=\"\",\"\",IF('Product SARF'!E129=\"\",\"\",'Product SARF'!E129))","v":""},{"$f":"IF(C111=\"\",\"\",IF('Product SARF'!$L$6=\"\",\"\",CONCATENATE('Product SARF'!$L$6,'Product SARF'!$M$6)))","v":""},{"$f":"IF(C111=\"\",\"\",IF('Product SARF'!$L$2=\"\",\"\",'Product SARF'!$L$2))","v":""},{"$f":"IF(C111=\"\",\"\",IF('Product SARF'!$L$4=\"\",NOW(),'Product SARF'!$L$4))","v":""},"",{"$f":"IF(C111=\"\",\"\", IF(AND(NOT(ISBLANK('Product SARF'!F129)),'Product SARF'!$E$8<>\"1) NA\",'Product SARF'!$E$8<>\"1) ...\"), \"   \"&CONCATENATE('Product SARF'!$F$18,'Product SARF'!$F$19),\"\") & IF(AND(NOT(ISBLANK('Product SARF'!G129)),'Product SARF'!$E$9<>\"2) NA\",'Product SARF'!$E$9<>\"2) ...\"), \"   \"&CONCATENATE('Product SARF'!$G$18,'Product SARF'!$G$19),\"\")& IF(AND(NOT(ISBLANK('Product SARF'!H129)),'Product SARF'!$E$10<>\"3) NA\",'Product SARF'!$E$10<>\"3) ...\"), \"   \"&CONCATENATE('Product SARF'!$H$18,'Product SARF'!$H$19),\"\") & IF(AND(NOT(ISBLANK('Product SARF'!I129)),'Product SARF'!$E$11<>\"4) NA\",'Product SARF'!$E$11<>\"4) ...\"), \"   \"&CONCATENATE('Product SARF'!$I$18,'Product SARF'!$I$19),\"\")& IF(AND(NOT(ISBLANK('Product SARF'!J129)),'Product SARF'!$E$12<>\"5) NA\",'Product SARF'!$E$12<>\"5) ...\"), \"   \"&CONCATENATE('Product SARF'!$J$18,'Product SARF'!$J$19),\"\")&IF(AND(NOT(ISBLANK('Product SARF'!K129)),'Product SARF'!$E$13<>\"6) NA\",'Product SARF'!$E$13<>\"6) ...\"), \"   \"&CONCATENATE('Product SARF'!$K$18,'Product SARF'!$K$19),\"\")&IF(AND(NOT(ISBLANK('Product SARF'!L129)),'Product SARF'!$E$14<>\"7) NA\",'Product SARF'!$E$14<>\"7) ...\"), \"   \"&CONCATENATE('Product SARF'!$L$18,'Product SARF'!$L$19),\"\") &IF(AND(NOT(ISBLANK('Product SARF'!M129)),'Product SARF'!$E$15<>\"8) NA\",'Product SARF'!$E$15<>\"8) ...\"), \"   \"&CONCATENATE('Product SARF'!$M$18,'Product SARF'!$M$19),\"\"))","v":""}]
[{"$f":"IF(C112=\"\",\"\",IF('Product SARF'!B130=\"\",\"\",'Product SARF'!B130))","v":""},{"$f":"IF('Product SARF'!C130=\"\",\"\",\"Sample\")","v":""},{"$f":"IF('Product SARF'!C130=\"\",\"\",'Product SARF'!C130)","v":""},{"$f":"IF(C112=\"\",\"\",IF('Product SARF'!D130=\"\",\"\",'Product SARF'!D130))","v":""},{"$f":"IF(C112=\"\",\"\",IF('Product SARF'!E130=\"\",\"\",'Product SARF'!E130))","v":""},{"$f":"IF(C112=\"\",\"\",IF('Product SARF'!$L$6=\"\",\"\",CONCATENATE('Product SARF'!$L$6,'Product SARF'!$M$6)))","v":""},{"$f":"IF(C112=\"\",\"\",IF('Product SARF'!$L$2=\"\",\"\",'Product SARF'!$L$2))","v":""},{"$f":"IF(C112=\"\",\"\",IF('Product SARF'!$L$4=\"\",NOW(),'Product SARF'!$L$4))","v":""},"",{"$f":"IF(C112=\"\",\"\", IF(AND(NOT(ISBLANK('Product SARF'!F130)),'Product SARF'!$E$8<>\"1) NA\",'Product SARF'!$E$8<>\"1) ...\"), \"   \"&CONCATENATE('Product SARF'!$F$18,'Product SARF'!$F$19),\"\") & IF(AND(NOT(ISBLANK('Product SARF'!G130)),'Product SARF'!$E$9<>\"2) NA\",'Product SARF'!$E$9<>\"2) ...\"), \"   \"&CONCATENATE('Product SARF'!$G$18,'Product SARF'!$G$19),\"\")& IF(AND(NOT(ISBLANK('Product SARF'!H130)),'Product SARF'!$E$10<>\"3) NA\",'Product SARF'!$E$10<>\"3) ...\"), \"   \"&CONCATENATE('Product SARF'!$H$18,'Product SARF'!$H$19),\"\") & IF(AND(NOT(ISBLANK('Product SARF'!I130)),'Product SARF'!$E$11<>\"4) NA\",'Product SARF'!$E$11<>\"4) ...\"), \"   \"&CONCATENATE('Product SARF'!$I$18,'Product SARF'!$I$19),\"\")& IF(AND(NOT(ISBLANK('Product SARF'!J130)),'Product SARF'!$E$12<>\"5) NA\",'Product SARF'!$E$12<>\"5) ...\"), \"   \"&CONCATENATE('Product SARF'!$J$18,'Product SARF'!$J$19),\"\")&IF(AND(NOT(ISBLANK('Product SARF'!K130)),'Product SARF'!$E$13<>\"6) NA\",'Product SARF'!$E$13<>\"6) ...\"), \"   \"&CONCATENATE('Product SARF'!$K$18,'Product SARF'!$K$19),\"\")&IF(AND(NOT(ISBLANK('Product SARF'!L130)),'Product SARF'!$E$14<>\"7) NA\",'Product SARF'!$E$14<>\"7) ...\"), \"   \"&CONCATENATE('Product SARF'!$L$18,'Product SARF'!$L$19),\"\") &IF(AND(NOT(ISBLANK('Product SARF'!M130)),'Product SARF'!$E$15<>\"8) NA\",'Product SARF'!$E$15<>\"8) ...\"), \"   \"&CONCATENATE('Product SARF'!$M$18,'Product SARF'!$M$19),\"\"))","v":""}]
[{"$f":"IF(C113=\"\",\"\",IF('Product SARF'!B131=\"\",\"\",'Product SARF'!B131))","v":""},{"$f":"IF('Product SARF'!C131=\"\",\"\",\"Sample\")","v":""},{"$f":"IF('Product SARF'!C131=\"\",\"\",'Product SARF'!C131)","v":""},{"$f":"IF(C113=\"\",\"\",IF('Product SARF'!D131=\"\",\"\",'Product SARF'!D131))","v":""},{"$f":"IF(C113=\"\",\"\",IF('Product SARF'!E131=\"\",\"\",'Product SARF'!E131))","v":""},{"$f":"IF(C113=\"\",\"\",IF('Product SARF'!$L$6=\"\",\"\",CONCATENATE('Product SARF'!$L$6,'Product SARF'!$M$6)))","v":""},{"$f":"IF(C113=\"\",\"\",IF('Product SARF'!$L$2=\"\",\"\",'Product SARF'!$L$2))","v":""},{"$f":"IF(C113=\"\",\"\",IF('Product SARF'!$L$4=\"\",NOW(),'Product SARF'!$L$4))","v":""},"",{"$f":"IF(C113=\"\",\"\", IF(AND(NOT(ISBLANK('Product SARF'!F131)),'Product SARF'!$E$8<>\"1) NA\",'Product SARF'!$E$8<>\"1) ...\"), \"   \"&CONCATENATE('Product SARF'!$F$18,'Product SARF'!$F$19),\"\") & IF(AND(NOT(ISBLANK('Product SARF'!G131)),'Product SARF'!$E$9<>\"2) NA\",'Product SARF'!$E$9<>\"2) ...\"), \"   \"&CONCATENATE('Product SARF'!$G$18,'Product SARF'!$G$19),\"\")& IF(AND(NOT(ISBLANK('Product SARF'!H131)),'Product SARF'!$E$10<>\"3) NA\",'Product SARF'!$E$10<>\"3) ...\"), \"   \"&CONCATENATE('Product SARF'!$H$18,'Product SARF'!$H$19),\"\") & IF(AND(NOT(ISBLANK('Product SARF'!I131)),'Product SARF'!$E$11<>\"4) NA\",'Product SARF'!$E$11<>\"4) ...\"), \"   \"&CONCATENATE('Product SARF'!$I$18,'Product SARF'!$I$19),\"\")& IF(AND(NOT(ISBLANK('Product SARF'!J131)),'Product SARF'!$E$12<>\"5) NA\",'Product SARF'!$E$12<>\"5) ...\"), \"   \"&CONCATENATE('Product SARF'!$J$18,'Product SARF'!$J$19),\"\")&IF(AND(NOT(ISBLANK('Product SARF'!K131)),'Product SARF'!$E$13<>\"6) NA\",'Product SARF'!$E$13<>\"6) ...\"), \"   \"&CONCATENATE('Product SARF'!$K$18,'Product SARF'!$K$19),\"\")&IF(AND(NOT(ISBLANK('Product SARF'!L131)),'Product SARF'!$E$14<>\"7) NA\",'Product SARF'!$E$14<>\"7) ...\"), \"   \"&CONCATENATE('Product SARF'!$L$18,'Product SARF'!$L$19),\"\") &IF(AND(NOT(ISBLANK('Product SARF'!M131)),'Product SARF'!$E$15<>\"8) NA\",'Product SARF'!$E$15<>\"8) ...\"), \"   \"&CONCATENATE('Product SARF'!$M$18,'Product SARF'!$M$19),\"\"))","v":""}]
[{"$f":"IF(C114=\"\",\"\",IF('Product SARF'!B132=\"\",\"\",'Product SARF'!B132))","v":""},{"$f":"IF('Product SARF'!C132=\"\",\"\",\"Sample\")","v":""},{"$f":"IF('Product SARF'!C132=\"\",\"\",'Product SARF'!C132)","v":""},{"$f":"IF(C114=\"\",\"\",IF('Product SARF'!D132=\"\",\"\",'Product SARF'!D132))","v":""},{"$f":"IF(C114=\"\",\"\",IF('Product SARF'!E132=\"\",\"\",'Product SARF'!E132))","v":""},{"$f":"IF(C114=\"\",\"\",IF('Product SARF'!$L$6=\"\",\"\",CONCATENATE('Product SARF'!$L$6,'Product SARF'!$M$6)))","v":""},{"$f":"IF(C114=\"\",\"\",IF('Product SARF'!$L$2=\"\",\"\",'Product SARF'!$L$2))","v":""},{"$f":"IF(C114=\"\",\"\",IF('Product SARF'!$L$4=\"\",NOW(),'Product SARF'!$L$4))","v":""},"",{"$f":"IF(C114=\"\",\"\", IF(AND(NOT(ISBLANK('Product SARF'!F132)),'Product SARF'!$E$8<>\"1) NA\",'Product SARF'!$E$8<>\"1) ...\"), \"   \"&CONCATENATE('Product SARF'!$F$18,'Product SARF'!$F$19),\"\") & IF(AND(NOT(ISBLANK('Product SARF'!G132)),'Product SARF'!$E$9<>\"2) NA\",'Product SARF'!$E$9<>\"2) ...\"), \"   \"&CONCATENATE('Product SARF'!$G$18,'Product SARF'!$G$19),\"\")& IF(AND(NOT(ISBLANK('Product SARF'!H132)),'Product SARF'!$E$10<>\"3) NA\",'Product SARF'!$E$10<>\"3) ...\"), \"   \"&CONCATENATE('Product SARF'!$H$18,'Product SARF'!$H$19),\"\") & IF(AND(NOT(ISBLANK('Product SARF'!I132)),'Product SARF'!$E$11<>\"4) NA\",'Product SARF'!$E$11<>\"4) ...\"), \"   \"&CONCATENATE('Product SARF'!$I$18,'Product SARF'!$I$19),\"\")& IF(AND(NOT(ISBLANK('Product SARF'!J132)),'Product SARF'!$E$12<>\"5) NA\",'Product SARF'!$E$12<>\"5) ...\"), \"   \"&CONCATENATE('Product SARF'!$J$18,'Product SARF'!$J$19),\"\")&IF(AND(NOT(ISBLANK('Product SARF'!K132)),'Product SARF'!$E$13<>\"6) NA\",'Product SARF'!$E$13<>\"6) ...\"), \"   \"&CONCATENATE('Product SARF'!$K$18,'Product SARF'!$K$19),\"\")&IF(AND(NOT(ISBLANK('Product SARF'!L132)),'Product SARF'!$E$14<>\"7) NA\",'Product SARF'!$E$14<>\"7) ...\"), \"   \"&CONCATENATE('Product SARF'!$L$18,'Product SARF'!$L$19),\"\") &IF(AND(NOT(ISBLANK('Product SARF'!M132)),'Product SARF'!$E$15<>\"8) NA\",'Product SARF'!$E$15<>\"8) ...\"), \"   \"&CONCATENATE('Product SARF'!$M$18,'Product SARF'!$M$19),\"\"))","v":""}]
[{"$f":"IF(C115=\"\",\"\",IF('Product SARF'!B133=\"\",\"\",'Product SARF'!B133))","v":""},{"$f":"IF('Product SARF'!C133=\"\",\"\",\"Sample\")","v":""},{"$f":"IF('Product SARF'!C133=\"\",\"\",'Product SARF'!C133)","v":""},{"$f":"IF(C115=\"\",\"\",IF('Product SARF'!D133=\"\",\"\",'Product SARF'!D133))","v":""},{"$f":"IF(C115=\"\",\"\",IF('Product SARF'!E133=\"\",\"\",'Product SARF'!E133))","v":""},{"$f":"IF(C115=\"\",\"\",IF('Product SARF'!$L$6=\"\",\"\",CONCATENATE('Product SARF'!$L$6,'Product SARF'!$M$6)))","v":""},{"$f":"IF(C115=\"\",\"\",IF('Product SARF'!$L$2=\"\",\"\",'Product SARF'!$L$2))","v":""},{"$f":"IF(C115=\"\",\"\",IF('Product SARF'!$L$4=\"\",NOW(),'Product SARF'!$L$4))","v":""},"",{"$f":"IF(C115=\"\",\"\", IF(AND(NOT(ISBLANK('Product SARF'!F133)),'Product SARF'!$E$8<>\"1) NA\",'Product SARF'!$E$8<>\"1) ...\"), \"   \"&CONCATENATE('Product SARF'!$F$18,'Product SARF'!$F$19),\"\") & IF(AND(NOT(ISBLANK('Product SARF'!G133)),'Product SARF'!$E$9<>\"2) NA\",'Product SARF'!$E$9<>\"2) ...\"), \"   \"&CONCATENATE('Product SARF'!$G$18,'Product SARF'!$G$19),\"\")& IF(AND(NOT(ISBLANK('Product SARF'!H133)),'Product SARF'!$E$10<>\"3) NA\",'Product SARF'!$E$10<>\"3) ...\"), \"   \"&CONCATENATE('Product SARF'!$H$18,'Product SARF'!$H$19),\"\") & IF(AND(NOT(ISBLANK('Product SARF'!I133)),'Product SARF'!$E$11<>\"4) NA\",'Product SARF'!$E$11<>\"4) ...\"), \"   \"&CONCATENATE('Product SARF'!$I$18,'Product SARF'!$I$19),\"\")& IF(AND(NOT(ISBLANK('Product SARF'!J133)),'Product SARF'!$E$12<>\"5) NA\",'Product SARF'!$E$12<>\"5) ...\"), \"   \"&CONCATENATE('Product SARF'!$J$18,'Product SARF'!$J$19),\"\")&IF(AND(NOT(ISBLANK('Product SARF'!K133)),'Product SARF'!$E$13<>\"6) NA\",'Product SARF'!$E$13<>\"6) ...\"), \"   \"&CONCATENATE('Product SARF'!$K$18,'Product SARF'!$K$19),\"\")&IF(AND(NOT(ISBLANK('Product SARF'!L133)),'Product SARF'!$E$14<>\"7) NA\",'Product SARF'!$E$14<>\"7) ...\"), \"   \"&CONCATENATE('Product SARF'!$L$18,'Product SARF'!$L$19),\"\") &IF(AND(NOT(ISBLANK('Product SARF'!M133)),'Product SARF'!$E$15<>\"8) NA\",'Product SARF'!$E$15<>\"8) ...\"), \"   \"&CONCATENATE('Product SARF'!$M$18,'Product SARF'!$M$19),\"\"))","v":""}]
[{"$f":"IF(C116=\"\",\"\",IF('Product SARF'!B134=\"\",\"\",'Product SARF'!B134))","v":""},{"$f":"IF('Product SARF'!C134=\"\",\"\",\"Sample\")","v":""},{"$f":"IF('Product SARF'!C134=\"\",\"\",'Product SARF'!C134)","v":""},{"$f":"IF(C116=\"\",\"\",IF('Product SARF'!D134=\"\",\"\",'Product SARF'!D134))","v":""},{"$f":"IF(C116=\"\",\"\",IF('Product SARF'!E134=\"\",\"\",'Product SARF'!E134))","v":""},{"$f":"IF(C116=\"\",\"\",IF('Product SARF'!$L$6=\"\",\"\",CONCATENATE('Product SARF'!$L$6,'Product SARF'!$M$6)))","v":""},{"$f":"IF(C116=\"\",\"\",IF('Product SARF'!$L$2=\"\",\"\",'Product SARF'!$L$2))","v":""},{"$f":"IF(C116=\"\",\"\",IF('Product SARF'!$L$4=\"\",NOW(),'Product SARF'!$L$4))","v":""},"",{"$f":"IF(C116=\"\",\"\", IF(AND(NOT(ISBLANK('Product SARF'!F134)),'Product SARF'!$E$8<>\"1) NA\",'Product SARF'!$E$8<>\"1) ...\"), \"   \"&CONCATENATE('Product SARF'!$F$18,'Product SARF'!$F$19),\"\") & IF(AND(NOT(ISBLANK('Product SARF'!G134)),'Product SARF'!$E$9<>\"2) NA\",'Product SARF'!$E$9<>\"2) ...\"), \"   \"&CONCATENATE('Product SARF'!$G$18,'Product SARF'!$G$19),\"\")& IF(AND(NOT(ISBLANK('Product SARF'!H134)),'Product SARF'!$E$10<>\"3) NA\",'Product SARF'!$E$10<>\"3) ...\"), \"   \"&CONCATENATE('Product SARF'!$H$18,'Product SARF'!$H$19),\"\") & IF(AND(NOT(ISBLANK('Product SARF'!I134)),'Product SARF'!$E$11<>\"4) NA\",'Product SARF'!$E$11<>\"4) ...\"), \"   \"&CONCATENATE('Product SARF'!$I$18,'Product SARF'!$I$19),\"\")& IF(AND(NOT(ISBLANK('Product SARF'!J134)),'Product SARF'!$E$12<>\"5) NA\",'Product SARF'!$E$12<>\"5) ...\"), \"   \"&CONCATENATE('Product SARF'!$J$18,'Product SARF'!$J$19),\"\")&IF(AND(NOT(ISBLANK('Product SARF'!K134)),'Product SARF'!$E$13<>\"6) NA\",'Product SARF'!$E$13<>\"6) ...\"), \"   \"&CONCATENATE('Product SARF'!$K$18,'Product SARF'!$K$19),\"\")&IF(AND(NOT(ISBLANK('Product SARF'!L134)),'Product SARF'!$E$14<>\"7) NA\",'Product SARF'!$E$14<>\"7) ...\"), \"   \"&CONCATENATE('Product SARF'!$L$18,'Product SARF'!$L$19),\"\") &IF(AND(NOT(ISBLANK('Product SARF'!M134)),'Product SARF'!$E$15<>\"8) NA\",'Product SARF'!$E$15<>\"8) ...\"), \"   \"&CONCATENATE('Product SARF'!$M$18,'Product SARF'!$M$19),\"\"))","v":""}]
[{"$f":"IF(C117=\"\",\"\",IF('Product SARF'!B135=\"\",\"\",'Product SARF'!B135))","v":""},{"$f":"IF('Product SARF'!C135=\"\",\"\",\"Sample\")","v":""},{"$f":"IF('Product SARF'!C135=\"\",\"\",'Product SARF'!C135)","v":""},{"$f":"IF(C117=\"\",\"\",IF('Product SARF'!D135=\"\",\"\",'Product SARF'!D135))","v":""},{"$f":"IF(C117=\"\",\"\",IF('Product SARF'!E135=\"\",\"\",'Product SARF'!E135))","v":""},{"$f":"IF(C117=\"\",\"\",IF('Product SARF'!$L$6=\"\",\"\",CONCATENATE('Product SARF'!$L$6,'Product SARF'!$M$6)))","v":""},{"$f":"IF(C117=\"\",\"\",IF('Product SARF'!$L$2=\"\",\"\",'Product SARF'!$L$2))","v":""},{"$f":"IF(C117=\"\",\"\",IF('Product SARF'!$L$4=\"\",NOW(),'Product SARF'!$L$4))","v":""},"",{"$f":"IF(C117=\"\",\"\", IF(AND(NOT(ISBLANK('Product SARF'!F135)),'Product SARF'!$E$8<>\"1) NA\",'Product SARF'!$E$8<>\"1) ...\"), \"   \"&CONCATENATE('Product SARF'!$F$18,'Product SARF'!$F$19),\"\") & IF(AND(NOT(ISBLANK('Product SARF'!G135)),'Product SARF'!$E$9<>\"2) NA\",'Product SARF'!$E$9<>\"2) ...\"), \"   \"&CONCATENATE('Product SARF'!$G$18,'Product SARF'!$G$19),\"\")& IF(AND(NOT(ISBLANK('Product SARF'!H135)),'Product SARF'!$E$10<>\"3) NA\",'Product SARF'!$E$10<>\"3) ...\"), \"   \"&CONCATENATE('Product SARF'!$H$18,'Product SARF'!$H$19),\"\") & IF(AND(NOT(ISBLANK('Product SARF'!I135)),'Product SARF'!$E$11<>\"4) NA\",'Product SARF'!$E$11<>\"4) ...\"), \"   \"&CONCATENATE('Product SARF'!$I$18,'Product SARF'!$I$19),\"\")& IF(AND(NOT(ISBLANK('Product SARF'!J135)),'Product SARF'!$E$12<>\"5) NA\",'Product SARF'!$E$12<>\"5) ...\"), \"   \"&CONCATENATE('Product SARF'!$J$18,'Product SARF'!$J$19),\"\")&IF(AND(NOT(ISBLANK('Product SARF'!K135)),'Product SARF'!$E$13<>\"6) NA\",'Product SARF'!$E$13<>\"6) ...\"), \"   \"&CONCATENATE('Product SARF'!$K$18,'Product SARF'!$K$19),\"\")&IF(AND(NOT(ISBLANK('Product SARF'!L135)),'Product SARF'!$E$14<>\"7) NA\",'Product SARF'!$E$14<>\"7) ...\"), \"   \"&CONCATENATE('Product SARF'!$L$18,'Product SARF'!$L$19),\"\") &IF(AND(NOT(ISBLANK('Product SARF'!M135)),'Product SARF'!$E$15<>\"8) NA\",'Product SARF'!$E$15<>\"8) ...\"), \"   \"&CONCATENATE('Product SARF'!$M$18,'Product SARF'!$M$19),\"\"))","v":""}]
[{"$f":"IF(C118=\"\",\"\",IF('Product SARF'!B136=\"\",\"\",'Product SARF'!B136))","v":""},{"$f":"IF('Product SARF'!C136=\"\",\"\",\"Sample\")","v":""},{"$f":"IF('Product SARF'!C136=\"\",\"\",'Product SARF'!C136)","v":""},{"$f":"IF(C118=\"\",\"\",IF('Product SARF'!D136=\"\",\"\",'Product SARF'!D136))","v":""},{"$f":"IF(C118=\"\",\"\",IF('Product SARF'!E136=\"\",\"\",'Product SARF'!E136))","v":""},{"$f":"IF(C118=\"\",\"\",IF('Product SARF'!$L$6=\"\",\"\",CONCATENATE('Product SARF'!$L$6,'Product SARF'!$M$6)))","v":""},{"$f":"IF(C118=\"\",\"\",IF('Product SARF'!$L$2=\"\",\"\",'Product SARF'!$L$2))","v":""},{"$f":"IF(C118=\"\",\"\",IF('Product SARF'!$L$4=\"\",NOW(),'Product SARF'!$L$4))","v":""},"",{"$f":"IF(C118=\"\",\"\", IF(AND(NOT(ISBLANK('Product SARF'!F136)),'Product SARF'!$E$8<>\"1) NA\",'Product SARF'!$E$8<>\"1) ...\"), \"   \"&CONCATENATE('Product SARF'!$F$18,'Product SARF'!$F$19),\"\") & IF(AND(NOT(ISBLANK('Product SARF'!G136)),'Product SARF'!$E$9<>\"2) NA\",'Product SARF'!$E$9<>\"2) ...\"), \"   \"&CONCATENATE('Product SARF'!$G$18,'Product SARF'!$G$19),\"\")& IF(AND(NOT(ISBLANK('Product SARF'!H136)),'Product SARF'!$E$10<>\"3) NA\",'Product SARF'!$E$10<>\"3) ...\"), \"   \"&CONCATENATE('Product SARF'!$H$18,'Product SARF'!$H$19),\"\") & IF(AND(NOT(ISBLANK('Product SARF'!I136)),'Product SARF'!$E$11<>\"4) NA\",'Product SARF'!$E$11<>\"4) ...\"), \"   \"&CONCATENATE('Product SARF'!$I$18,'Product SARF'!$I$19),\"\")& IF(AND(NOT(ISBLANK('Product SARF'!J136)),'Product SARF'!$E$12<>\"5) NA\",'Product SARF'!$E$12<>\"5) ...\"), \"   \"&CONCATENATE('Product SARF'!$J$18,'Product SARF'!$J$19),\"\")&IF(AND(NOT(ISBLANK('Product SARF'!K136)),'Product SARF'!$E$13<>\"6) NA\",'Product SARF'!$E$13<>\"6) ...\"), \"   \"&CONCATENATE('Product SARF'!$K$18,'Product SARF'!$K$19),\"\")&IF(AND(NOT(ISBLANK('Product SARF'!L136)),'Product SARF'!$E$14<>\"7) NA\",'Product SARF'!$E$14<>\"7) ...\"), \"   \"&CONCATENATE('Product SARF'!$L$18,'Product SARF'!$L$19),\"\") &IF(AND(NOT(ISBLANK('Product SARF'!M136)),'Product SARF'!$E$15<>\"8) NA\",'Product SARF'!$E$15<>\"8) ...\"), \"   \"&CONCATENATE('Product SARF'!$M$18,'Product SARF'!$M$19),\"\"))","v":""}]
[{"$f":"IF(C119=\"\",\"\",IF('Product SARF'!B137=\"\",\"\",'Product SARF'!B137))","v":""},{"$f":"IF('Product SARF'!C137=\"\",\"\",\"Sample\")","v":""},{"$f":"IF('Product SARF'!C137=\"\",\"\",'Product SARF'!C137)","v":""},{"$f":"IF(C119=\"\",\"\",IF('Product SARF'!D137=\"\",\"\",'Product SARF'!D137))","v":""},{"$f":"IF(C119=\"\",\"\",IF('Product SARF'!E137=\"\",\"\",'Product SARF'!E137))","v":""},{"$f":"IF(C119=\"\",\"\",IF('Product SARF'!$L$6=\"\",\"\",CONCATENATE('Product SARF'!$L$6,'Product SARF'!$M$6)))","v":""},{"$f":"IF(C119=\"\",\"\",IF('Product SARF'!$L$2=\"\",\"\",'Product SARF'!$L$2))","v":""},{"$f":"IF(C119=\"\",\"\",IF('Product SARF'!$L$4=\"\",NOW(),'Product SARF'!$L$4))","v":""},"",{"$f":"IF(C119=\"\",\"\", IF(AND(NOT(ISBLANK('Product SARF'!F137)),'Product SARF'!$E$8<>\"1) NA\",'Product SARF'!$E$8<>\"1) ...\"), \"   \"&CONCATENATE('Product SARF'!$F$18,'Product SARF'!$F$19),\"\") & IF(AND(NOT(ISBLANK('Product SARF'!G137)),'Product SARF'!$E$9<>\"2) NA\",'Product SARF'!$E$9<>\"2) ...\"), \"   \"&CONCATENATE('Product SARF'!$G$18,'Product SARF'!$G$19),\"\")& IF(AND(NOT(ISBLANK('Product SARF'!H137)),'Product SARF'!$E$10<>\"3) NA\",'Product SARF'!$E$10<>\"3) ...\"), \"   \"&CONCATENATE('Product SARF'!$H$18,'Product SARF'!$H$19),\"\") & IF(AND(NOT(ISBLANK('Product SARF'!I137)),'Product SARF'!$E$11<>\"4) NA\",'Product SARF'!$E$11<>\"4) ...\"), \"   \"&CONCATENATE('Product SARF'!$I$18,'Product SARF'!$I$19),\"\")& IF(AND(NOT(ISBLANK('Product SARF'!J137)),'Product SARF'!$E$12<>\"5) NA\",'Product SARF'!$E$12<>\"5) ...\"), \"   \"&CONCATENATE('Product SARF'!$J$18,'Product SARF'!$J$19),\"\")&IF(AND(NOT(ISBLANK('Product SARF'!K137)),'Product SARF'!$E$13<>\"6) NA\",'Product SARF'!$E$13<>\"6) ...\"), \"   \"&CONCATENATE('Product SARF'!$K$18,'Product SARF'!$K$19),\"\")&IF(AND(NOT(ISBLANK('Product SARF'!L137)),'Product SARF'!$E$14<>\"7) NA\",'Product SARF'!$E$14<>\"7) ...\"), \"   \"&CONCATENATE('Product SARF'!$L$18,'Product SARF'!$L$19),\"\") &IF(AND(NOT(ISBLANK('Product SARF'!M137)),'Product SARF'!$E$15<>\"8) NA\",'Product SARF'!$E$15<>\"8) ...\"), \"   \"&CONCATENATE('Product SARF'!$M$18,'Product SARF'!$M$19),\"\"))","v":""}]
[{"$f":"IF(C120=\"\",\"\",IF('Product SARF'!B138=\"\",\"\",'Product SARF'!B138))","v":""},{"$f":"IF('Product SARF'!C138=\"\",\"\",\"Sample\")","v":""},{"$f":"IF('Product SARF'!C138=\"\",\"\",'Product SARF'!C138)","v":""},{"$f":"IF(C120=\"\",\"\",IF('Product SARF'!D138=\"\",\"\",'Product SARF'!D138))","v":""},{"$f":"IF(C120=\"\",\"\",IF('Product SARF'!E138=\"\",\"\",'Product SARF'!E138))","v":""},{"$f":"IF(C120=\"\",\"\",IF('Product SARF'!$L$6=\"\",\"\",CONCATENATE('Product SARF'!$L$6,'Product SARF'!$M$6)))","v":""},{"$f":"IF(C120=\"\",\"\",IF('Product SARF'!$L$2=\"\",\"\",'Product SARF'!$L$2))","v":""},{"$f":"IF(C120=\"\",\"\",IF('Product SARF'!$L$4=\"\",NOW(),'Product SARF'!$L$4))","v":""},"",{"$f":"IF(C120=\"\",\"\", IF(AND(NOT(ISBLANK('Product SARF'!F138)),'Product SARF'!$E$8<>\"1) NA\",'Product SARF'!$E$8<>\"1) ...\"), \"   \"&CONCATENATE('Product SARF'!$F$18,'Product SARF'!$F$19),\"\") & IF(AND(NOT(ISBLANK('Product SARF'!G138)),'Product SARF'!$E$9<>\"2) NA\",'Product SARF'!$E$9<>\"2) ...\"), \"   \"&CONCATENATE('Product SARF'!$G$18,'Product SARF'!$G$19),\"\")& IF(AND(NOT(ISBLANK('Product SARF'!H138)),'Product SARF'!$E$10<>\"3) NA\",'Product SARF'!$E$10<>\"3) ...\"), \"   \"&CONCATENATE('Product SARF'!$H$18,'Product SARF'!$H$19),\"\") & IF(AND(NOT(ISBLANK('Product SARF'!I138)),'Product SARF'!$E$11<>\"4) NA\",'Product SARF'!$E$11<>\"4) ...\"), \"   \"&CONCATENATE('Product SARF'!$I$18,'Product SARF'!$I$19),\"\")& IF(AND(NOT(ISBLANK('Product SARF'!J138)),'Product SARF'!$E$12<>\"5) NA\",'Product SARF'!$E$12<>\"5) ...\"), \"   \"&CONCATENATE('Product SARF'!$J$18,'Product SARF'!$J$19),\"\")&IF(AND(NOT(ISBLANK('Product SARF'!K138)),'Product SARF'!$E$13<>\"6) NA\",'Product SARF'!$E$13<>\"6) ...\"), \"   \"&CONCATENATE('Product SARF'!$K$18,'Product SARF'!$K$19),\"\")&IF(AND(NOT(ISBLANK('Product SARF'!L138)),'Product SARF'!$E$14<>\"7) NA\",'Product SARF'!$E$14<>\"7) ...\"), \"   \"&CONCATENATE('Product SARF'!$L$18,'Product SARF'!$L$19),\"\") &IF(AND(NOT(ISBLANK('Product SARF'!M138)),'Product SARF'!$E$15<>\"8) NA\",'Product SARF'!$E$15<>\"8) ...\"), \"   \"&CONCATENATE('Product SARF'!$M$18,'Product SARF'!$M$19),\"\"))","v":""}]
[{"$f":"IF(C121=\"\",\"\",IF('Product SARF'!B139=\"\",\"\",'Product SARF'!B139))","v":""},{"$f":"IF('Product SARF'!C139=\"\",\"\",\"Sample\")","v":""},{"$f":"IF('Product SARF'!C139=\"\",\"\",'Product SARF'!C139)","v":""},{"$f":"IF(C121=\"\",\"\",IF('Product SARF'!D139=\"\",\"\",'Product SARF'!D139))","v":""},{"$f":"IF(C121=\"\",\"\",IF('Product SARF'!E139=\"\",\"\",'Product SARF'!E139))","v":""},{"$f":"IF(C121=\"\",\"\",IF('Product SARF'!$L$6=\"\",\"\",CONCATENATE('Product SARF'!$L$6,'Product SARF'!$M$6)))","v":""},{"$f":"IF(C121=\"\",\"\",IF('Product SARF'!$L$2=\"\",\"\",'Product SARF'!$L$2))","v":""},{"$f":"IF(C121=\"\",\"\",IF('Product SARF'!$L$4=\"\",NOW(),'Product SARF'!$L$4))","v":""},"",{"$f":"IF(C121=\"\",\"\", IF(AND(NOT(ISBLANK('Product SARF'!F139)),'Product SARF'!$E$8<>\"1) NA\",'Product SARF'!$E$8<>\"1) ...\"), \"   \"&CONCATENATE('Product SARF'!$F$18,'Product SARF'!$F$19),\"\") & IF(AND(NOT(ISBLANK('Product SARF'!G139)),'Product SARF'!$E$9<>\"2) NA\",'Product SARF'!$E$9<>\"2) ...\"), \"   \"&CONCATENATE('Product SARF'!$G$18,'Product SARF'!$G$19),\"\")& IF(AND(NOT(ISBLANK('Product SARF'!H139)),'Product SARF'!$E$10<>\"3) NA\",'Product SARF'!$E$10<>\"3) ...\"), \"   \"&CONCATENATE('Product SARF'!$H$18,'Product SARF'!$H$19),\"\") & IF(AND(NOT(ISBLANK('Product SARF'!I139)),'Product SARF'!$E$11<>\"4) NA\",'Product SARF'!$E$11<>\"4) ...\"), \"   \"&CONCATENATE('Product SARF'!$I$18,'Product SARF'!$I$19),\"\")& IF(AND(NOT(ISBLANK('Product SARF'!J139)),'Product SARF'!$E$12<>\"5) NA\",'Product SARF'!$E$12<>\"5) ...\"), \"   \"&CONCATENATE('Product SARF'!$J$18,'Product SARF'!$J$19),\"\")&IF(AND(NOT(ISBLANK('Product SARF'!K139)),'Product SARF'!$E$13<>\"6) NA\",'Product SARF'!$E$13<>\"6) ...\"), \"   \"&CONCATENATE('Product SARF'!$K$18,'Product SARF'!$K$19),\"\")&IF(AND(NOT(ISBLANK('Product SARF'!L139)),'Product SARF'!$E$14<>\"7) NA\",'Product SARF'!$E$14<>\"7) ...\"), \"   \"&CONCATENATE('Product SARF'!$L$18,'Product SARF'!$L$19),\"\") &IF(AND(NOT(ISBLANK('Product SARF'!M139)),'Product SARF'!$E$15<>\"8) NA\",'Product SARF'!$E$15<>\"8) ...\"), \"   \"&CONCATENATE('Product SARF'!$M$18,'Product SARF'!$M$19),\"\"))","v":""}]
[{"$f":"IF(C122=\"\",\"\",IF('Product SARF'!B140=\"\",\"\",'Product SARF'!B140))","v":""},{"$f":"IF('Product SARF'!C140=\"\",\"\",\"Sample\")","v":""},{"$f":"IF('Product SARF'!C140=\"\",\"\",'Product SARF'!C140)","v":""},{"$f":"IF(C122=\"\",\"\",IF('Product SARF'!D140=\"\",\"\",'Product SARF'!D140))","v":""},{"$f":"IF(C122=\"\",\"\",IF('Product SARF'!E140=\"\",\"\",'Product SARF'!E140))","v":""},{"$f":"IF(C122=\"\",\"\",IF('Product SARF'!$L$6=\"\",\"\",CONCATENATE('Product SARF'!$L$6,'Product SARF'!$M$6)))","v":""},{"$f":"IF(C122=\"\",\"\",IF('Product SARF'!$L$2=\"\",\"\",'Product SARF'!$L$2))","v":""},{"$f":"IF(C122=\"\",\"\",IF('Product SARF'!$L$4=\"\",NOW(),'Product SARF'!$L$4))","v":""},"",{"$f":"IF(C122=\"\",\"\", IF(AND(NOT(ISBLANK('Product SARF'!F140)),'Product SARF'!$E$8<>\"1) NA\",'Product SARF'!$E$8<>\"1) ...\"), \"   \"&CONCATENATE('Product SARF'!$F$18,'Product SARF'!$F$19),\"\") & IF(AND(NOT(ISBLANK('Product SARF'!G140)),'Product SARF'!$E$9<>\"2) NA\",'Product SARF'!$E$9<>\"2) ...\"), \"   \"&CONCATENATE('Product SARF'!$G$18,'Product SARF'!$G$19),\"\")& IF(AND(NOT(ISBLANK('Product SARF'!H140)),'Product SARF'!$E$10<>\"3) NA\",'Product SARF'!$E$10<>\"3) ...\"), \"   \"&CONCATENATE('Product SARF'!$H$18,'Product SARF'!$H$19),\"\") & IF(AND(NOT(ISBLANK('Product SARF'!I140)),'Product SARF'!$E$11<>\"4) NA\",'Product SARF'!$E$11<>\"4) ...\"), \"   \"&CONCATENATE('Product SARF'!$I$18,'Product SARF'!$I$19),\"\")& IF(AND(NOT(ISBLANK('Product SARF'!J140)),'Product SARF'!$E$12<>\"5) NA\",'Product SARF'!$E$12<>\"5) ...\"), \"   \"&CONCATENATE('Product SARF'!$J$18,'Product SARF'!$J$19),\"\")&IF(AND(NOT(ISBLANK('Product SARF'!K140)),'Product SARF'!$E$13<>\"6) NA\",'Product SARF'!$E$13<>\"6) ...\"), \"   \"&CONCATENATE('Product SARF'!$K$18,'Product SARF'!$K$19),\"\")&IF(AND(NOT(ISBLANK('Product SARF'!L140)),'Product SARF'!$E$14<>\"7) NA\",'Product SARF'!$E$14<>\"7) ...\"), \"   \"&CONCATENATE('Product SARF'!$L$18,'Product SARF'!$L$19),\"\") &IF(AND(NOT(ISBLANK('Product SARF'!M140)),'Product SARF'!$E$15<>\"8) NA\",'Product SARF'!$E$15<>\"8) ...\"), \"   \"&CONCATENATE('Product SARF'!$M$18,'Product SARF'!$M$19),\"\"))","v":""}]
[{"$f":"IF(C123=\"\",\"\",IF('Product SARF'!B141=\"\",\"\",'Product SARF'!B141))","v":""},{"$f":"IF('Product SARF'!C141=\"\",\"\",\"Sample\")","v":""},{"$f":"IF('Product SARF'!C141=\"\",\"\",'Product SARF'!C141)","v":""},{"$f":"IF(C123=\"\",\"\",IF('Product SARF'!D141=\"\",\"\",'Product SARF'!D141))","v":""},{"$f":"IF(C123=\"\",\"\",IF('Product SARF'!E141=\"\",\"\",'Product SARF'!E141))","v":""},{"$f":"IF(C123=\"\",\"\",IF('Product SARF'!$L$6=\"\",\"\",CONCATENATE('Product SARF'!$L$6,'Product SARF'!$M$6)))","v":""},{"$f":"IF(C123=\"\",\"\",IF('Product SARF'!$L$2=\"\",\"\",'Product SARF'!$L$2))","v":""},{"$f":"IF(C123=\"\",\"\",IF('Product SARF'!$L$4=\"\",NOW(),'Product SARF'!$L$4))","v":""},"",{"$f":"IF(C123=\"\",\"\", IF(AND(NOT(ISBLANK('Product SARF'!F141)),'Product SARF'!$E$8<>\"1) NA\",'Product SARF'!$E$8<>\"1) ...\"), \"   \"&CONCATENATE('Product SARF'!$F$18,'Product SARF'!$F$19),\"\") & IF(AND(NOT(ISBLANK('Product SARF'!G141)),'Product SARF'!$E$9<>\"2) NA\",'Product SARF'!$E$9<>\"2) ...\"), \"   \"&CONCATENATE('Product SARF'!$G$18,'Product SARF'!$G$19),\"\")& IF(AND(NOT(ISBLANK('Product SARF'!H141)),'Product SARF'!$E$10<>\"3) NA\",'Product SARF'!$E$10<>\"3) ...\"), \"   \"&CONCATENATE('Product SARF'!$H$18,'Product SARF'!$H$19),\"\") & IF(AND(NOT(ISBLANK('Product SARF'!I141)),'Product SARF'!$E$11<>\"4) NA\",'Product SARF'!$E$11<>\"4) ...\"), \"   \"&CONCATENATE('Product SARF'!$I$18,'Product SARF'!$I$19),\"\")& IF(AND(NOT(ISBLANK('Product SARF'!J141)),'Product SARF'!$E$12<>\"5) NA\",'Product SARF'!$E$12<>\"5) ...\"), \"   \"&CONCATENATE('Product SARF'!$J$18,'Product SARF'!$J$19),\"\")&IF(AND(NOT(ISBLANK('Product SARF'!K141)),'Product SARF'!$E$13<>\"6) NA\",'Product SARF'!$E$13<>\"6) ...\"), \"   \"&CONCATENATE('Product SARF'!$K$18,'Product SARF'!$K$19),\"\")&IF(AND(NOT(ISBLANK('Product SARF'!L141)),'Product SARF'!$E$14<>\"7) NA\",'Product SARF'!$E$14<>\"7) ...\"), \"   \"&CONCATENATE('Product SARF'!$L$18,'Product SARF'!$L$19),\"\") &IF(AND(NOT(ISBLANK('Product SARF'!M141)),'Product SARF'!$E$15<>\"8) NA\",'Product SARF'!$E$15<>\"8) ...\"), \"   \"&CONCATENATE('Product SARF'!$M$18,'Product SARF'!$M$19),\"\"))","v":""}]
[{"$f":"IF(C124=\"\",\"\",IF('Product SARF'!B142=\"\",\"\",'Product SARF'!B142))","v":""},{"$f":"IF('Product SARF'!C142=\"\",\"\",\"Sample\")","v":""},{"$f":"IF('Product SARF'!C142=\"\",\"\",'Product SARF'!C142)","v":""},{"$f":"IF(C124=\"\",\"\",IF('Product SARF'!D142=\"\",\"\",'Product SARF'!D142))","v":""},{"$f":"IF(C124=\"\",\"\",IF('Product SARF'!E142=\"\",\"\",'Product SARF'!E142))","v":""},{"$f":"IF(C124=\"\",\"\",IF('Product SARF'!$L$6=\"\",\"\",CONCATENATE('Product SARF'!$L$6,'Product SARF'!$M$6)))","v":""},{"$f":"IF(C124=\"\",\"\",IF('Product SARF'!$L$2=\"\",\"\",'Product SARF'!$L$2))","v":""},{"$f":"IF(C124=\"\",\"\",IF('Product SARF'!$L$4=\"\",NOW(),'Product SARF'!$L$4))","v":""},"",{"$f":"IF(C124=\"\",\"\", IF(AND(NOT(ISBLANK('Product SARF'!F142)),'Product SARF'!$E$8<>\"1) NA\",'Product SARF'!$E$8<>\"1) ...\"), \"   \"&CONCATENATE('Product SARF'!$F$18,'Product SARF'!$F$19),\"\") & IF(AND(NOT(ISBLANK('Product SARF'!G142)),'Product SARF'!$E$9<>\"2) NA\",'Product SARF'!$E$9<>\"2) ...\"), \"   \"&CONCATENATE('Product SARF'!$G$18,'Product SARF'!$G$19),\"\")& IF(AND(NOT(ISBLANK('Product SARF'!H142)),'Product SARF'!$E$10<>\"3) NA\",'Product SARF'!$E$10<>\"3) ...\"), \"   \"&CONCATENATE('Product SARF'!$H$18,'Product SARF'!$H$19),\"\") & IF(AND(NOT(ISBLANK('Product SARF'!I142)),'Product SARF'!$E$11<>\"4) NA\",'Product SARF'!$E$11<>\"4) ...\"), \"   \"&CONCATENATE('Product SARF'!$I$18,'Product SARF'!$I$19),\"\")& IF(AND(NOT(ISBLANK('Product SARF'!J142)),'Product SARF'!$E$12<>\"5) NA\",'Product SARF'!$E$12<>\"5) ...\"), \"   \"&CONCATENATE('Product SARF'!$J$18,'Product SARF'!$J$19),\"\")&IF(AND(NOT(ISBLANK('Product SARF'!K142)),'Product SARF'!$E$13<>\"6) NA\",'Product SARF'!$E$13<>\"6) ...\"), \"   \"&CONCATENATE('Product SARF'!$K$18,'Product SARF'!$K$19),\"\")&IF(AND(NOT(ISBLANK('Product SARF'!L142)),'Product SARF'!$E$14<>\"7) NA\",'Product SARF'!$E$14<>\"7) ...\"), \"   \"&CONCATENATE('Product SARF'!$L$18,'Product SARF'!$L$19),\"\") &IF(AND(NOT(ISBLANK('Product SARF'!M142)),'Product SARF'!$E$15<>\"8) NA\",'Product SARF'!$E$15<>\"8) ...\"), \"   \"&CONCATENATE('Product SARF'!$M$18,'Product SARF'!$M$19),\"\"))","v":""}]
[{"$f":"IF(C125=\"\",\"\",IF('Product SARF'!B143=\"\",\"\",'Product SARF'!B143))","v":""},{"$f":"IF('Product SARF'!C143=\"\",\"\",\"Sample\")","v":""},{"$f":"IF('Product SARF'!C143=\"\",\"\",'Product SARF'!C143)","v":""},{"$f":"IF(C125=\"\",\"\",IF('Product SARF'!D143=\"\",\"\",'Product SARF'!D143))","v":""},{"$f":"IF(C125=\"\",\"\",IF('Product SARF'!E143=\"\",\"\",'Product SARF'!E143))","v":""},{"$f":"IF(C125=\"\",\"\",IF('Product SARF'!$L$6=\"\",\"\",CONCATENATE('Product SARF'!$L$6,'Product SARF'!$M$6)))","v":""},{"$f":"IF(C125=\"\",\"\",IF('Product SARF'!$L$2=\"\",\"\",'Product SARF'!$L$2))","v":""},{"$f":"IF(C125=\"\",\"\",IF('Product SARF'!$L$4=\"\",NOW(),'Product SARF'!$L$4))","v":""},"",{"$f":"IF(C125=\"\",\"\", IF(AND(NOT(ISBLANK('Product SARF'!F143)),'Product SARF'!$E$8<>\"1) NA\",'Product SARF'!$E$8<>\"1) ...\"), \"   \"&CONCATENATE('Product SARF'!$F$18,'Product SARF'!$F$19),\"\") & IF(AND(NOT(ISBLANK('Product SARF'!G143)),'Product SARF'!$E$9<>\"2) NA\",'Product SARF'!$E$9<>\"2) ...\"), \"   \"&CONCATENATE('Product SARF'!$G$18,'Product SARF'!$G$19),\"\")& IF(AND(NOT(ISBLANK('Product SARF'!H143)),'Product SARF'!$E$10<>\"3) NA\",'Product SARF'!$E$10<>\"3) ...\"), \"   \"&CONCATENATE('Product SARF'!$H$18,'Product SARF'!$H$19),\"\") & IF(AND(NOT(ISBLANK('Product SARF'!I143)),'Product SARF'!$E$11<>\"4) NA\",'Product SARF'!$E$11<>\"4) ...\"), \"   \"&CONCATENATE('Product SARF'!$I$18,'Product SARF'!$I$19),\"\")& IF(AND(NOT(ISBLANK('Product SARF'!J143)),'Product SARF'!$E$12<>\"5) NA\",'Product SARF'!$E$12<>\"5) ...\"), \"   \"&CONCATENATE('Product SARF'!$J$18,'Product SARF'!$J$19),\"\")&IF(AND(NOT(ISBLANK('Product SARF'!K143)),'Product SARF'!$E$13<>\"6) NA\",'Product SARF'!$E$13<>\"6) ...\"), \"   \"&CONCATENATE('Product SARF'!$K$18,'Product SARF'!$K$19),\"\")&IF(AND(NOT(ISBLANK('Product SARF'!L143)),'Product SARF'!$E$14<>\"7) NA\",'Product SARF'!$E$14<>\"7) ...\"), \"   \"&CONCATENATE('Product SARF'!$L$18,'Product SARF'!$L$19),\"\") &IF(AND(NOT(ISBLANK('Product SARF'!M143)),'Product SARF'!$E$15<>\"8) NA\",'Product SARF'!$E$15<>\"8) ...\"), \"   \"&CONCATENATE('Product SARF'!$M$18,'Product SARF'!$M$19),\"\"))","v":""}]
[{"$f":"IF(C126=\"\",\"\",IF('Product SARF'!B144=\"\",\"\",'Product SARF'!B144))","v":""},{"$f":"IF('Product SARF'!C144=\"\",\"\",\"Sample\")","v":""},{"$f":"IF('Product SARF'!C144=\"\",\"\",'Product SARF'!C144)","v":""},{"$f":"IF(C126=\"\",\"\",IF('Product SARF'!D144=\"\",\"\",'Product SARF'!D144))","v":""},{"$f":"IF(C126=\"\",\"\",IF('Product SARF'!E144=\"\",\"\",'Product SARF'!E144))","v":""},{"$f":"IF(C126=\"\",\"\",IF('Product SARF'!$L$6=\"\",\"\",CONCATENATE('Product SARF'!$L$6,'Product SARF'!$M$6)))","v":""},{"$f":"IF(C126=\"\",\"\",IF('Product SARF'!$L$2=\"\",\"\",'Product SARF'!$L$2))","v":""},{"$f":"IF(C126=\"\",\"\",IF('Product SARF'!$L$4=\"\",NOW(),'Product SARF'!$L$4))","v":""},"",{"$f":"IF(C126=\"\",\"\", IF(AND(NOT(ISBLANK('Product SARF'!F144)),'Product SARF'!$E$8<>\"1) NA\",'Product SARF'!$E$8<>\"1) ...\"), \"   \"&CONCATENATE('Product SARF'!$F$18,'Product SARF'!$F$19),\"\") & IF(AND(NOT(ISBLANK('Product SARF'!G144)),'Product SARF'!$E$9<>\"2) NA\",'Product SARF'!$E$9<>\"2) ...\"), \"   \"&CONCATENATE('Product SARF'!$G$18,'Product SARF'!$G$19),\"\")& IF(AND(NOT(ISBLANK('Product SARF'!H144)),'Product SARF'!$E$10<>\"3) NA\",'Product SARF'!$E$10<>\"3) ...\"), \"   \"&CONCATENATE('Product SARF'!$H$18,'Product SARF'!$H$19),\"\") & IF(AND(NOT(ISBLANK('Product SARF'!I144)),'Product SARF'!$E$11<>\"4) NA\",'Product SARF'!$E$11<>\"4) ...\"), \"   \"&CONCATENATE('Product SARF'!$I$18,'Product SARF'!$I$19),\"\")& IF(AND(NOT(ISBLANK('Product SARF'!J144)),'Product SARF'!$E$12<>\"5) NA\",'Product SARF'!$E$12<>\"5) ...\"), \"   \"&CONCATENATE('Product SARF'!$J$18,'Product SARF'!$J$19),\"\")&IF(AND(NOT(ISBLANK('Product SARF'!K144)),'Product SARF'!$E$13<>\"6) NA\",'Product SARF'!$E$13<>\"6) ...\"), \"   \"&CONCATENATE('Product SARF'!$K$18,'Product SARF'!$K$19),\"\")&IF(AND(NOT(ISBLANK('Product SARF'!L144)),'Product SARF'!$E$14<>\"7) NA\",'Product SARF'!$E$14<>\"7) ...\"), \"   \"&CONCATENATE('Product SARF'!$L$18,'Product SARF'!$L$19),\"\") &IF(AND(NOT(ISBLANK('Product SARF'!M144)),'Product SARF'!$E$15<>\"8) NA\",'Product SARF'!$E$15<>\"8) ...\"), \"   \"&CONCATENATE('Product SARF'!$M$18,'Product SARF'!$M$19),\"\"))","v":""}]
[{"$f":"IF(C127=\"\",\"\",IF('Product SARF'!B145=\"\",\"\",'Product SARF'!B145))","v":""},{"$f":"IF('Product SARF'!C145=\"\",\"\",\"Sample\")","v":""},{"$f":"IF('Product SARF'!C145=\"\",\"\",'Product SARF'!C145)","v":""},{"$f":"IF(C127=\"\",\"\",IF('Product SARF'!D145=\"\",\"\",'Product SARF'!D145))","v":""},{"$f":"IF(C127=\"\",\"\",IF('Product SARF'!E145=\"\",\"\",'Product SARF'!E145))","v":""},{"$f":"IF(C127=\"\",\"\",IF('Product SARF'!$L$6=\"\",\"\",CONCATENATE('Product SARF'!$L$6,'Product SARF'!$M$6)))","v":""},{"$f":"IF(C127=\"\",\"\",IF('Product SARF'!$L$2=\"\",\"\",'Product SARF'!$L$2))","v":""},{"$f":"IF(C127=\"\",\"\",IF('Product SARF'!$L$4=\"\",NOW(),'Product SARF'!$L$4))","v":""},"",{"$f":"IF(C127=\"\",\"\", IF(AND(NOT(ISBLANK('Product SARF'!F145)),'Product SARF'!$E$8<>\"1) NA\",'Product SARF'!$E$8<>\"1) ...\"), \"   \"&CONCATENATE('Product SARF'!$F$18,'Product SARF'!$F$19),\"\") & IF(AND(NOT(ISBLANK('Product SARF'!G145)),'Product SARF'!$E$9<>\"2) NA\",'Product SARF'!$E$9<>\"2) ...\"), \"   \"&CONCATENATE('Product SARF'!$G$18,'Product SARF'!$G$19),\"\")& IF(AND(NOT(ISBLANK('Product SARF'!H145)),'Product SARF'!$E$10<>\"3) NA\",'Product SARF'!$E$10<>\"3) ...\"), \"   \"&CONCATENATE('Product SARF'!$H$18,'Product SARF'!$H$19),\"\") & IF(AND(NOT(ISBLANK('Product SARF'!I145)),'Product SARF'!$E$11<>\"4) NA\",'Product SARF'!$E$11<>\"4) ...\"), \"   \"&CONCATENATE('Product SARF'!$I$18,'Product SARF'!$I$19),\"\")& IF(AND(NOT(ISBLANK('Product SARF'!J145)),'Product SARF'!$E$12<>\"5) NA\",'Product SARF'!$E$12<>\"5) ...\"), \"   \"&CONCATENATE('Product SARF'!$J$18,'Product SARF'!$J$19),\"\")&IF(AND(NOT(ISBLANK('Product SARF'!K145)),'Product SARF'!$E$13<>\"6) NA\",'Product SARF'!$E$13<>\"6) ...\"), \"   \"&CONCATENATE('Product SARF'!$K$18,'Product SARF'!$K$19),\"\")&IF(AND(NOT(ISBLANK('Product SARF'!L145)),'Product SARF'!$E$14<>\"7) NA\",'Product SARF'!$E$14<>\"7) ...\"), \"   \"&CONCATENATE('Product SARF'!$L$18,'Product SARF'!$L$19),\"\") &IF(AND(NOT(ISBLANK('Product SARF'!M145)),'Product SARF'!$E$15<>\"8) NA\",'Product SARF'!$E$15<>\"8) ...\"), \"   \"&CONCATENATE('Product SARF'!$M$18,'Product SARF'!$M$19),\"\"))","v":""}]
[{"$f":"IF(C128=\"\",\"\",IF('Product SARF'!B146=\"\",\"\",'Product SARF'!B146))","v":""},{"$f":"IF('Product SARF'!C146=\"\",\"\",\"Sample\")","v":""},{"$f":"IF('Product SARF'!C146=\"\",\"\",'Product SARF'!C146)","v":""},{"$f":"IF(C128=\"\",\"\",IF('Product SARF'!D146=\"\",\"\",'Product SARF'!D146))","v":""},{"$f":"IF(C128=\"\",\"\",IF('Product SARF'!E146=\"\",\"\",'Product SARF'!E146))","v":""},{"$f":"IF(C128=\"\",\"\",IF('Product SARF'!$L$6=\"\",\"\",CONCATENATE('Product SARF'!$L$6,'Product SARF'!$M$6)))","v":""},{"$f":"IF(C128=\"\",\"\",IF('Product SARF'!$L$2=\"\",\"\",'Product SARF'!$L$2))","v":""},{"$f":"IF(C128=\"\",\"\",IF('Product SARF'!$L$4=\"\",NOW(),'Product SARF'!$L$4))","v":""},"",{"$f":"IF(C128=\"\",\"\", IF(AND(NOT(ISBLANK('Product SARF'!F146)),'Product SARF'!$E$8<>\"1) NA\",'Product SARF'!$E$8<>\"1) ...\"), \"   \"&CONCATENATE('Product SARF'!$F$18,'Product SARF'!$F$19),\"\") & IF(AND(NOT(ISBLANK('Product SARF'!G146)),'Product SARF'!$E$9<>\"2) NA\",'Product SARF'!$E$9<>\"2) ...\"), \"   \"&CONCATENATE('Product SARF'!$G$18,'Product SARF'!$G$19),\"\")& IF(AND(NOT(ISBLANK('Product SARF'!H146)),'Product SARF'!$E$10<>\"3) NA\",'Product SARF'!$E$10<>\"3) ...\"), \"   \"&CONCATENATE('Product SARF'!$H$18,'Product SARF'!$H$19),\"\") & IF(AND(NOT(ISBLANK('Product SARF'!I146)),'Product SARF'!$E$11<>\"4) NA\",'Product SARF'!$E$11<>\"4) ...\"), \"   \"&CONCATENATE('Product SARF'!$I$18,'Product SARF'!$I$19),\"\")& IF(AND(NOT(ISBLANK('Product SARF'!J146)),'Product SARF'!$E$12<>\"5) NA\",'Product SARF'!$E$12<>\"5) ...\"), \"   \"&CONCATENATE('Product SARF'!$J$18,'Product SARF'!$J$19),\"\")&IF(AND(NOT(ISBLANK('Product SARF'!K146)),'Product SARF'!$E$13<>\"6) NA\",'Product SARF'!$E$13<>\"6) ...\"), \"   \"&CONCATENATE('Product SARF'!$K$18,'Product SARF'!$K$19),\"\")&IF(AND(NOT(ISBLANK('Product SARF'!L146)),'Product SARF'!$E$14<>\"7) NA\",'Product SARF'!$E$14<>\"7) ...\"), \"   \"&CONCATENATE('Product SARF'!$L$18,'Product SARF'!$L$19),\"\") &IF(AND(NOT(ISBLANK('Product SARF'!M146)),'Product SARF'!$E$15<>\"8) NA\",'Product SARF'!$E$15<>\"8) ...\"), \"   \"&CONCATENATE('Product SARF'!$M$18,'Product SARF'!$M$19),\"\"))","v":""}]
[{"$f":"IF(C129=\"\",\"\",IF('Product SARF'!B147=\"\",\"\",'Product SARF'!B147))","v":""},{"$f":"IF('Product SARF'!C147=\"\",\"\",\"Sample\")","v":""},{"$f":"IF('Product SARF'!C147=\"\",\"\",'Product SARF'!C147)","v":""},{"$f":"IF(C129=\"\",\"\",IF('Product SARF'!D147=\"\",\"\",'Product SARF'!D147))","v":""},{"$f":"IF(C129=\"\",\"\",IF('Product SARF'!E147=\"\",\"\",'Product SARF'!E147))","v":""},{"$f":"IF(C129=\"\",\"\",IF('Product SARF'!$L$6=\"\",\"\",CONCATENATE('Product SARF'!$L$6,'Product SARF'!$M$6)))","v":""},{"$f":"IF(C129=\"\",\"\",IF('Product SARF'!$L$2=\"\",\"\",'Product SARF'!$L$2))","v":""},{"$f":"IF(C129=\"\",\"\",IF('Product SARF'!$L$4=\"\",NOW(),'Product SARF'!$L$4))","v":""},"",{"$f":"IF(C129=\"\",\"\", IF(AND(NOT(ISBLANK('Product SARF'!F147)),'Product SARF'!$E$8<>\"1) NA\",'Product SARF'!$E$8<>\"1) ...\"), \"   \"&CONCATENATE('Product SARF'!$F$18,'Product SARF'!$F$19),\"\") & IF(AND(NOT(ISBLANK('Product SARF'!G147)),'Product SARF'!$E$9<>\"2) NA\",'Product SARF'!$E$9<>\"2) ...\"), \"   \"&CONCATENATE('Product SARF'!$G$18,'Product SARF'!$G$19),\"\")& IF(AND(NOT(ISBLANK('Product SARF'!H147)),'Product SARF'!$E$10<>\"3) NA\",'Product SARF'!$E$10<>\"3) ...\"), \"   \"&CONCATENATE('Product SARF'!$H$18,'Product SARF'!$H$19),\"\") & IF(AND(NOT(ISBLANK('Product SARF'!I147)),'Product SARF'!$E$11<>\"4) NA\",'Product SARF'!$E$11<>\"4) ...\"), \"   \"&CONCATENATE('Product SARF'!$I$18,'Product SARF'!$I$19),\"\")& IF(AND(NOT(ISBLANK('Product SARF'!J147)),'Product SARF'!$E$12<>\"5) NA\",'Product SARF'!$E$12<>\"5) ...\"), \"   \"&CONCATENATE('Product SARF'!$J$18,'Product SARF'!$J$19),\"\")&IF(AND(NOT(ISBLANK('Product SARF'!K147)),'Product SARF'!$E$13<>\"6) NA\",'Product SARF'!$E$13<>\"6) ...\"), \"   \"&CONCATENATE('Product SARF'!$K$18,'Product SARF'!$K$19),\"\")&IF(AND(NOT(ISBLANK('Product SARF'!L147)),'Product SARF'!$E$14<>\"7) NA\",'Product SARF'!$E$14<>\"7) ...\"), \"   \"&CONCATENATE('Product SARF'!$L$18,'Product SARF'!$L$19),\"\") &IF(AND(NOT(ISBLANK('Product SARF'!M147)),'Product SARF'!$E$15<>\"8) NA\",'Product SARF'!$E$15<>\"8) ...\"), \"   \"&CONCATENATE('Product SARF'!$M$18,'Product SARF'!$M$19),\"\"))","v":""}]
[{"$f":"IF(C130=\"\",\"\",IF('Product SARF'!B148=\"\",\"\",'Product SARF'!B148))","v":""},{"$f":"IF('Product SARF'!C148=\"\",\"\",\"Sample\")","v":""},{"$f":"IF('Product SARF'!C148=\"\",\"\",'Product SARF'!C148)","v":""},{"$f":"IF(C130=\"\",\"\",IF('Product SARF'!D148=\"\",\"\",'Product SARF'!D148))","v":""},{"$f":"IF(C130=\"\",\"\",IF('Product SARF'!E148=\"\",\"\",'Product SARF'!E148))","v":""},{"$f":"IF(C130=\"\",\"\",IF('Product SARF'!$L$6=\"\",\"\",CONCATENATE('Product SARF'!$L$6,'Product SARF'!$M$6)))","v":""},{"$f":"IF(C130=\"\",\"\",IF('Product SARF'!$L$2=\"\",\"\",'Product SARF'!$L$2))","v":""},{"$f":"IF(C130=\"\",\"\",IF('Product SARF'!$L$4=\"\",NOW(),'Product SARF'!$L$4))","v":""},"",{"$f":"IF(C130=\"\",\"\", IF(AND(NOT(ISBLANK('Product SARF'!F148)),'Product SARF'!$E$8<>\"1) NA\",'Product SARF'!$E$8<>\"1) ...\"), \"   \"&CONCATENATE('Product SARF'!$F$18,'Product SARF'!$F$19),\"\") & IF(AND(NOT(ISBLANK('Product SARF'!G148)),'Product SARF'!$E$9<>\"2) NA\",'Product SARF'!$E$9<>\"2) ...\"), \"   \"&CONCATENATE('Product SARF'!$G$18,'Product SARF'!$G$19),\"\")& IF(AND(NOT(ISBLANK('Product SARF'!H148)),'Product SARF'!$E$10<>\"3) NA\",'Product SARF'!$E$10<>\"3) ...\"), \"   \"&CONCATENATE('Product SARF'!$H$18,'Product SARF'!$H$19),\"\") & IF(AND(NOT(ISBLANK('Product SARF'!I148)),'Product SARF'!$E$11<>\"4) NA\",'Product SARF'!$E$11<>\"4) ...\"), \"   \"&CONCATENATE('Product SARF'!$I$18,'Product SARF'!$I$19),\"\")& IF(AND(NOT(ISBLANK('Product SARF'!J148)),'Product SARF'!$E$12<>\"5) NA\",'Product SARF'!$E$12<>\"5) ...\"), \"   \"&CONCATENATE('Product SARF'!$J$18,'Product SARF'!$J$19),\"\")&IF(AND(NOT(ISBLANK('Product SARF'!K148)),'Product SARF'!$E$13<>\"6) NA\",'Product SARF'!$E$13<>\"6) ...\"), \"   \"&CONCATENATE('Product SARF'!$K$18,'Product SARF'!$K$19),\"\")&IF(AND(NOT(ISBLANK('Product SARF'!L148)),'Product SARF'!$E$14<>\"7) NA\",'Product SARF'!$E$14<>\"7) ...\"), \"   \"&CONCATENATE('Product SARF'!$L$18,'Product SARF'!$L$19),\"\") &IF(AND(NOT(ISBLANK('Product SARF'!M148)),'Product SARF'!$E$15<>\"8) NA\",'Product SARF'!$E$15<>\"8) ...\"), \"   \"&CONCATENATE('Product SARF'!$M$18,'Product SARF'!$M$19),\"\"))","v":""}]
[{"$f":"IF(C131=\"\",\"\",IF('Product SARF'!B149=\"\",\"\",'Product SARF'!B149))","v":""},{"$f":"IF('Product SARF'!C149=\"\",\"\",\"Sample\")","v":""},{"$f":"IF('Product SARF'!C149=\"\",\"\",'Product SARF'!C149)","v":""},{"$f":"IF(C131=\"\",\"\",IF('Product SARF'!D149=\"\",\"\",'Product SARF'!D149))","v":""},{"$f":"IF(C131=\"\",\"\",IF('Product SARF'!E149=\"\",\"\",'Product SARF'!E149))","v":""},{"$f":"IF(C131=\"\",\"\",IF('Product SARF'!$L$6=\"\",\"\",CONCATENATE('Product SARF'!$L$6,'Product SARF'!$M$6)))","v":""},{"$f":"IF(C131=\"\",\"\",IF('Product SARF'!$L$2=\"\",\"\",'Product SARF'!$L$2))","v":""},{"$f":"IF(C131=\"\",\"\",IF('Product SARF'!$L$4=\"\",NOW(),'Product SARF'!$L$4))","v":""},"",{"$f":"IF(C131=\"\",\"\", IF(AND(NOT(ISBLANK('Product SARF'!F149)),'Product SARF'!$E$8<>\"1) NA\",'Product SARF'!$E$8<>\"1) ...\"), \"   \"&CONCATENATE('Product SARF'!$F$18,'Product SARF'!$F$19),\"\") & IF(AND(NOT(ISBLANK('Product SARF'!G149)),'Product SARF'!$E$9<>\"2) NA\",'Product SARF'!$E$9<>\"2) ...\"), \"   \"&CONCATENATE('Product SARF'!$G$18,'Product SARF'!$G$19),\"\")& IF(AND(NOT(ISBLANK('Product SARF'!H149)),'Product SARF'!$E$10<>\"3) NA\",'Product SARF'!$E$10<>\"3) ...\"), \"   \"&CONCATENATE('Product SARF'!$H$18,'Product SARF'!$H$19),\"\") & IF(AND(NOT(ISBLANK('Product SARF'!I149)),'Product SARF'!$E$11<>\"4) NA\",'Product SARF'!$E$11<>\"4) ...\"), \"   \"&CONCATENATE('Product SARF'!$I$18,'Product SARF'!$I$19),\"\")& IF(AND(NOT(ISBLANK('Product SARF'!J149)),'Product SARF'!$E$12<>\"5) NA\",'Product SARF'!$E$12<>\"5) ...\"), \"   \"&CONCATENATE('Product SARF'!$J$18,'Product SARF'!$J$19),\"\")&IF(AND(NOT(ISBLANK('Product SARF'!K149)),'Product SARF'!$E$13<>\"6) NA\",'Product SARF'!$E$13<>\"6) ...\"), \"   \"&CONCATENATE('Product SARF'!$K$18,'Product SARF'!$K$19),\"\")&IF(AND(NOT(ISBLANK('Product SARF'!L149)),'Product SARF'!$E$14<>\"7) NA\",'Product SARF'!$E$14<>\"7) ...\"), \"   \"&CONCATENATE('Product SARF'!$L$18,'Product SARF'!$L$19),\"\") &IF(AND(NOT(ISBLANK('Product SARF'!M149)),'Product SARF'!$E$15<>\"8) NA\",'Product SARF'!$E$15<>\"8) ...\"), \"   \"&CONCATENATE('Product SARF'!$M$18,'Product SARF'!$M$19),\"\"))","v":""}]
[{"$f":"IF(C132=\"\",\"\",IF('Product SARF'!B150=\"\",\"\",'Product SARF'!B150))","v":""},{"$f":"IF('Product SARF'!C150=\"\",\"\",\"Sample\")","v":""},{"$f":"IF('Product SARF'!C150=\"\",\"\",'Product SARF'!C150)","v":""},{"$f":"IF(C132=\"\",\"\",IF('Product SARF'!D150=\"\",\"\",'Product SARF'!D150))","v":""},{"$f":"IF(C132=\"\",\"\",IF('Product SARF'!E150=\"\",\"\",'Product SARF'!E150))","v":""},{"$f":"IF(C132=\"\",\"\",IF('Product SARF'!$L$6=\"\",\"\",CONCATENATE('Product SARF'!$L$6,'Product SARF'!$M$6)))","v":""},{"$f":"IF(C132=\"\",\"\",IF('Product SARF'!$L$2=\"\",\"\",'Product SARF'!$L$2))","v":""},{"$f":"IF(C132=\"\",\"\",IF('Product SARF'!$L$4=\"\",NOW(),'Product SARF'!$L$4))","v":""},"",{"$f":"IF(C132=\"\",\"\", IF(AND(NOT(ISBLANK('Product SARF'!F150)),'Product SARF'!$E$8<>\"1) NA\",'Product SARF'!$E$8<>\"1) ...\"), \"   \"&CONCATENATE('Product SARF'!$F$18,'Product SARF'!$F$19),\"\") & IF(AND(NOT(ISBLANK('Product SARF'!G150)),'Product SARF'!$E$9<>\"2) NA\",'Product SARF'!$E$9<>\"2) ...\"), \"   \"&CONCATENATE('Product SARF'!$G$18,'Product SARF'!$G$19),\"\")& IF(AND(NOT(ISBLANK('Product SARF'!H150)),'Product SARF'!$E$10<>\"3) NA\",'Product SARF'!$E$10<>\"3) ...\"), \"   \"&CONCATENATE('Product SARF'!$H$18,'Product SARF'!$H$19),\"\") & IF(AND(NOT(ISBLANK('Product SARF'!I150)),'Product SARF'!$E$11<>\"4) NA\",'Product SARF'!$E$11<>\"4) ...\"), \"   \"&CONCATENATE('Product SARF'!$I$18,'Product SARF'!$I$19),\"\")& IF(AND(NOT(ISBLANK('Product SARF'!J150)),'Product SARF'!$E$12<>\"5) NA\",'Product SARF'!$E$12<>\"5) ...\"), \"   \"&CONCATENATE('Product SARF'!$J$18,'Product SARF'!$J$19),\"\")&IF(AND(NOT(ISBLANK('Product SARF'!K150)),'Product SARF'!$E$13<>\"6) NA\",'Product SARF'!$E$13<>\"6) ...\"), \"   \"&CONCATENATE('Product SARF'!$K$18,'Product SARF'!$K$19),\"\")&IF(AND(NOT(ISBLANK('Product SARF'!L150)),'Product SARF'!$E$14<>\"7) NA\",'Product SARF'!$E$14<>\"7) ...\"), \"   \"&CONCATENATE('Product SARF'!$L$18,'Product SARF'!$L$19),\"\") &IF(AND(NOT(ISBLANK('Product SARF'!M150)),'Product SARF'!$E$15<>\"8) NA\",'Product SARF'!$E$15<>\"8) ...\"), \"   \"&CONCATENATE('Product SARF'!$M$18,'Product SARF'!$M$19),\"\"))","v":""}]
[{"$f":"IF(C133=\"\",\"\",IF('Product SARF'!B151=\"\",\"\",'Product SARF'!B151))","v":""},{"$f":"IF('Product SARF'!C151=\"\",\"\",\"Sample\")","v":""},{"$f":"IF('Product SARF'!C151=\"\",\"\",'Product SARF'!C151)","v":""},{"$f":"IF(C133=\"\",\"\",IF('Product SARF'!D151=\"\",\"\",'Product SARF'!D151))","v":""},{"$f":"IF(C133=\"\",\"\",IF('Product SARF'!E151=\"\",\"\",'Product SARF'!E151))","v":""},{"$f":"IF(C133=\"\",\"\",IF('Product SARF'!$L$6=\"\",\"\",CONCATENATE('Product SARF'!$L$6,'Product SARF'!$M$6)))","v":""},{"$f":"IF(C133=\"\",\"\",IF('Product SARF'!$L$2=\"\",\"\",'Product SARF'!$L$2))","v":""},{"$f":"IF(C133=\"\",\"\",IF('Product SARF'!$L$4=\"\",NOW(),'Product SARF'!$L$4))","v":""},"",{"$f":"IF(C133=\"\",\"\", IF(AND(NOT(ISBLANK('Product SARF'!F151)),'Product SARF'!$E$8<>\"1) NA\",'Product SARF'!$E$8<>\"1) ...\"), \"   \"&CONCATENATE('Product SARF'!$F$18,'Product SARF'!$F$19),\"\") & IF(AND(NOT(ISBLANK('Product SARF'!G151)),'Product SARF'!$E$9<>\"2) NA\",'Product SARF'!$E$9<>\"2) ...\"), \"   \"&CONCATENATE('Product SARF'!$G$18,'Product SARF'!$G$19),\"\")& IF(AND(NOT(ISBLANK('Product SARF'!H151)),'Product SARF'!$E$10<>\"3) NA\",'Product SARF'!$E$10<>\"3) ...\"), \"   \"&CONCATENATE('Product SARF'!$H$18,'Product SARF'!$H$19),\"\") & IF(AND(NOT(ISBLANK('Product SARF'!I151)),'Product SARF'!$E$11<>\"4) NA\",'Product SARF'!$E$11<>\"4) ...\"), \"   \"&CONCATENATE('Product SARF'!$I$18,'Product SARF'!$I$19),\"\")& IF(AND(NOT(ISBLANK('Product SARF'!J151)),'Product SARF'!$E$12<>\"5) NA\",'Product SARF'!$E$12<>\"5) ...\"), \"   \"&CONCATENATE('Product SARF'!$J$18,'Product SARF'!$J$19),\"\")&IF(AND(NOT(ISBLANK('Product SARF'!K151)),'Product SARF'!$E$13<>\"6) NA\",'Product SARF'!$E$13<>\"6) ...\"), \"   \"&CONCATENATE('Product SARF'!$K$18,'Product SARF'!$K$19),\"\")&IF(AND(NOT(ISBLANK('Product SARF'!L151)),'Product SARF'!$E$14<>\"7) NA\",'Product SARF'!$E$14<>\"7) ...\"), \"   \"&CONCATENATE('Product SARF'!$L$18,'Product SARF'!$L$19),\"\") &IF(AND(NOT(ISBLANK('Product SARF'!M151)),'Product SARF'!$E$15<>\"8) NA\",'Product SARF'!$E$15<>\"8) ...\"), \"   \"&CONCATENATE('Product SARF'!$M$18,'Product SARF'!$M$19),\"\"))","v":""}]
[{"$f":"IF(C134=\"\",\"\",IF('Product SARF'!B152=\"\",\"\",'Product SARF'!B152))","v":""},{"$f":"IF('Product SARF'!C152=\"\",\"\",\"Sample\")","v":""},{"$f":"IF('Product SARF'!C152=\"\",\"\",'Product SARF'!C152)","v":""},{"$f":"IF(C134=\"\",\"\",IF('Product SARF'!D152=\"\",\"\",'Product SARF'!D152))","v":""},{"$f":"IF(C134=\"\",\"\",IF('Product SARF'!E152=\"\",\"\",'Product SARF'!E152))","v":""},{"$f":"IF(C134=\"\",\"\",IF('Product SARF'!$L$6=\"\",\"\",CONCATENATE('Product SARF'!$L$6,'Product SARF'!$M$6)))","v":""},{"$f":"IF(C134=\"\",\"\",IF('Product SARF'!$L$2=\"\",\"\",'Product SARF'!$L$2))","v":""},{"$f":"IF(C134=\"\",\"\",IF('Product SARF'!$L$4=\"\",NOW(),'Product SARF'!$L$4))","v":""},"",{"$f":"IF(C134=\"\",\"\", IF(AND(NOT(ISBLANK('Product SARF'!F152)),'Product SARF'!$E$8<>\"1) NA\",'Product SARF'!$E$8<>\"1) ...\"), \"   \"&CONCATENATE('Product SARF'!$F$18,'Product SARF'!$F$19),\"\") & IF(AND(NOT(ISBLANK('Product SARF'!G152)),'Product SARF'!$E$9<>\"2) NA\",'Product SARF'!$E$9<>\"2) ...\"), \"   \"&CONCATENATE('Product SARF'!$G$18,'Product SARF'!$G$19),\"\")& IF(AND(NOT(ISBLANK('Product SARF'!H152)),'Product SARF'!$E$10<>\"3) NA\",'Product SARF'!$E$10<>\"3) ...\"), \"   \"&CONCATENATE('Product SARF'!$H$18,'Product SARF'!$H$19),\"\") & IF(AND(NOT(ISBLANK('Product SARF'!I152)),'Product SARF'!$E$11<>\"4) NA\",'Product SARF'!$E$11<>\"4) ...\"), \"   \"&CONCATENATE('Product SARF'!$I$18,'Product SARF'!$I$19),\"\")& IF(AND(NOT(ISBLANK('Product SARF'!J152)),'Product SARF'!$E$12<>\"5) NA\",'Product SARF'!$E$12<>\"5) ...\"), \"   \"&CONCATENATE('Product SARF'!$J$18,'Product SARF'!$J$19),\"\")&IF(AND(NOT(ISBLANK('Product SARF'!K152)),'Product SARF'!$E$13<>\"6) NA\",'Product SARF'!$E$13<>\"6) ...\"), \"   \"&CONCATENATE('Product SARF'!$K$18,'Product SARF'!$K$19),\"\")&IF(AND(NOT(ISBLANK('Product SARF'!L152)),'Product SARF'!$E$14<>\"7) NA\",'Product SARF'!$E$14<>\"7) ...\"), \"   \"&CONCATENATE('Product SARF'!$L$18,'Product SARF'!$L$19),\"\") &IF(AND(NOT(ISBLANK('Product SARF'!M152)),'Product SARF'!$E$15<>\"8) NA\",'Product SARF'!$E$15<>\"8) ...\"), \"   \"&CONCATENATE('Product SARF'!$M$18,'Product SARF'!$M$19),\"\"))","v":""}]
[{"$f":"IF(C135=\"\",\"\",IF('Product SARF'!B153=\"\",\"\",'Product SARF'!B153))","v":""},{"$f":"IF('Product SARF'!C153=\"\",\"\",\"Sample\")","v":""},{"$f":"IF('Product SARF'!C153=\"\",\"\",'Product SARF'!C153)","v":""},{"$f":"IF(C135=\"\",\"\",IF('Product SARF'!D153=\"\",\"\",'Product SARF'!D153))","v":""},{"$f":"IF(C135=\"\",\"\",IF('Product SARF'!E153=\"\",\"\",'Product SARF'!E153))","v":""},{"$f":"IF(C135=\"\",\"\",IF('Product SARF'!$L$6=\"\",\"\",CONCATENATE('Product SARF'!$L$6,'Product SARF'!$M$6)))","v":""},{"$f":"IF(C135=\"\",\"\",IF('Product SARF'!$L$2=\"\",\"\",'Product SARF'!$L$2))","v":""},{"$f":"IF(C135=\"\",\"\",IF('Product SARF'!$L$4=\"\",NOW(),'Product SARF'!$L$4))","v":""},"",{"$f":"IF(C135=\"\",\"\", IF(AND(NOT(ISBLANK('Product SARF'!F153)),'Product SARF'!$E$8<>\"1) NA\",'Product SARF'!$E$8<>\"1) ...\"), \"   \"&CONCATENATE('Product SARF'!$F$18,'Product SARF'!$F$19),\"\") & IF(AND(NOT(ISBLANK('Product SARF'!G153)),'Product SARF'!$E$9<>\"2) NA\",'Product SARF'!$E$9<>\"2) ...\"), \"   \"&CONCATENATE('Product SARF'!$G$18,'Product SARF'!$G$19),\"\")& IF(AND(NOT(ISBLANK('Product SARF'!H153)),'Product SARF'!$E$10<>\"3) NA\",'Product SARF'!$E$10<>\"3) ...\"), \"   \"&CONCATENATE('Product SARF'!$H$18,'Product SARF'!$H$19),\"\") & IF(AND(NOT(ISBLANK('Product SARF'!I153)),'Product SARF'!$E$11<>\"4) NA\",'Product SARF'!$E$11<>\"4) ...\"), \"   \"&CONCATENATE('Product SARF'!$I$18,'Product SARF'!$I$19),\"\")& IF(AND(NOT(ISBLANK('Product SARF'!J153)),'Product SARF'!$E$12<>\"5) NA\",'Product SARF'!$E$12<>\"5) ...\"), \"   \"&CONCATENATE('Product SARF'!$J$18,'Product SARF'!$J$19),\"\")&IF(AND(NOT(ISBLANK('Product SARF'!K153)),'Product SARF'!$E$13<>\"6) NA\",'Product SARF'!$E$13<>\"6) ...\"), \"   \"&CONCATENATE('Product SARF'!$K$18,'Product SARF'!$K$19),\"\")&IF(AND(NOT(ISBLANK('Product SARF'!L153)),'Product SARF'!$E$14<>\"7) NA\",'Product SARF'!$E$14<>\"7) ...\"), \"   \"&CONCATENATE('Product SARF'!$L$18,'Product SARF'!$L$19),\"\") &IF(AND(NOT(ISBLANK('Product SARF'!M153)),'Product SARF'!$E$15<>\"8) NA\",'Product SARF'!$E$15<>\"8) ...\"), \"   \"&CONCATENATE('Product SARF'!$M$18,'Product SARF'!$M$19),\"\"))","v":""}]
[{"$f":"IF(C136=\"\",\"\",IF('Product SARF'!B154=\"\",\"\",'Product SARF'!B154))","v":""},{"$f":"IF('Product SARF'!C154=\"\",\"\",\"Sample\")","v":""},{"$f":"IF('Product SARF'!C154=\"\",\"\",'Product SARF'!C154)","v":""},{"$f":"IF(C136=\"\",\"\",IF('Product SARF'!D154=\"\",\"\",'Product SARF'!D154))","v":""},{"$f":"IF(C136=\"\",\"\",IF('Product SARF'!E154=\"\",\"\",'Product SARF'!E154))","v":""},{"$f":"IF(C136=\"\",\"\",IF('Product SARF'!$L$6=\"\",\"\",CONCATENATE('Product SARF'!$L$6,'Product SARF'!$M$6)))","v":""},{"$f":"IF(C136=\"\",\"\",IF('Product SARF'!$L$2=\"\",\"\",'Product SARF'!$L$2))","v":""},{"$f":"IF(C136=\"\",\"\",IF('Product SARF'!$L$4=\"\",NOW(),'Product SARF'!$L$4))","v":""},"",{"$f":"IF(C136=\"\",\"\", IF(AND(NOT(ISBLANK('Product SARF'!F154)),'Product SARF'!$E$8<>\"1) NA\",'Product SARF'!$E$8<>\"1) ...\"), \"   \"&CONCATENATE('Product SARF'!$F$18,'Product SARF'!$F$19),\"\") & IF(AND(NOT(ISBLANK('Product SARF'!G154)),'Product SARF'!$E$9<>\"2) NA\",'Product SARF'!$E$9<>\"2) ...\"), \"   \"&CONCATENATE('Product SARF'!$G$18,'Product SARF'!$G$19),\"\")& IF(AND(NOT(ISBLANK('Product SARF'!H154)),'Product SARF'!$E$10<>\"3) NA\",'Product SARF'!$E$10<>\"3) ...\"), \"   \"&CONCATENATE('Product SARF'!$H$18,'Product SARF'!$H$19),\"\") & IF(AND(NOT(ISBLANK('Product SARF'!I154)),'Product SARF'!$E$11<>\"4) NA\",'Product SARF'!$E$11<>\"4) ...\"), \"   \"&CONCATENATE('Product SARF'!$I$18,'Product SARF'!$I$19),\"\")& IF(AND(NOT(ISBLANK('Product SARF'!J154)),'Product SARF'!$E$12<>\"5) NA\",'Product SARF'!$E$12<>\"5) ...\"), \"   \"&CONCATENATE('Product SARF'!$J$18,'Product SARF'!$J$19),\"\")&IF(AND(NOT(ISBLANK('Product SARF'!K154)),'Product SARF'!$E$13<>\"6) NA\",'Product SARF'!$E$13<>\"6) ...\"), \"   \"&CONCATENATE('Product SARF'!$K$18,'Product SARF'!$K$19),\"\")&IF(AND(NOT(ISBLANK('Product SARF'!L154)),'Product SARF'!$E$14<>\"7) NA\",'Product SARF'!$E$14<>\"7) ...\"), \"   \"&CONCATENATE('Product SARF'!$L$18,'Product SARF'!$L$19),\"\") &IF(AND(NOT(ISBLANK('Product SARF'!M154)),'Product SARF'!$E$15<>\"8) NA\",'Product SARF'!$E$15<>\"8) ...\"), \"   \"&CONCATENATE('Product SARF'!$M$18,'Product SARF'!$M$19),\"\"))","v":""}]
[{"$f":"IF(C137=\"\",\"\",IF('Product SARF'!B155=\"\",\"\",'Product SARF'!B155))","v":""},{"$f":"IF('Product SARF'!C155=\"\",\"\",\"Sample\")","v":""},{"$f":"IF('Product SARF'!C155=\"\",\"\",'Product SARF'!C155)","v":""},{"$f":"IF(C137=\"\",\"\",IF('Product SARF'!D155=\"\",\"\",'Product SARF'!D155))","v":""},{"$f":"IF(C137=\"\",\"\",IF('Product SARF'!E155=\"\",\"\",'Product SARF'!E155))","v":""},{"$f":"IF(C137=\"\",\"\",IF('Product SARF'!$L$6=\"\",\"\",CONCATENATE('Product SARF'!$L$6,'Product SARF'!$M$6)))","v":""},{"$f":"IF(C137=\"\",\"\",IF('Product SARF'!$L$2=\"\",\"\",'Product SARF'!$L$2))","v":""},{"$f":"IF(C137=\"\",\"\",IF('Product SARF'!$L$4=\"\",NOW(),'Product SARF'!$L$4))","v":""},"",{"$f":"IF(C137=\"\",\"\", IF(AND(NOT(ISBLANK('Product SARF'!F155)),'Product SARF'!$E$8<>\"1) NA\",'Product SARF'!$E$8<>\"1) ...\"), \"   \"&CONCATENATE('Product SARF'!$F$18,'Product SARF'!$F$19),\"\") & IF(AND(NOT(ISBLANK('Product SARF'!G155)),'Product SARF'!$E$9<>\"2) NA\",'Product SARF'!$E$9<>\"2) ...\"), \"   \"&CONCATENATE('Product SARF'!$G$18,'Product SARF'!$G$19),\"\")& IF(AND(NOT(ISBLANK('Product SARF'!H155)),'Product SARF'!$E$10<>\"3) NA\",'Product SARF'!$E$10<>\"3) ...\"), \"   \"&CONCATENATE('Product SARF'!$H$18,'Product SARF'!$H$19),\"\") & IF(AND(NOT(ISBLANK('Product SARF'!I155)),'Product SARF'!$E$11<>\"4) NA\",'Product SARF'!$E$11<>\"4) ...\"), \"   \"&CONCATENATE('Product SARF'!$I$18,'Product SARF'!$I$19),\"\")& IF(AND(NOT(ISBLANK('Product SARF'!J155)),'Product SARF'!$E$12<>\"5) NA\",'Product SARF'!$E$12<>\"5) ...\"), \"   \"&CONCATENATE('Product SARF'!$J$18,'Product SARF'!$J$19),\"\")&IF(AND(NOT(ISBLANK('Product SARF'!K155)),'Product SARF'!$E$13<>\"6) NA\",'Product SARF'!$E$13<>\"6) ...\"), \"   \"&CONCATENATE('Product SARF'!$K$18,'Product SARF'!$K$19),\"\")&IF(AND(NOT(ISBLANK('Product SARF'!L155)),'Product SARF'!$E$14<>\"7) NA\",'Product SARF'!$E$14<>\"7) ...\"), \"   \"&CONCATENATE('Product SARF'!$L$18,'Product SARF'!$L$19),\"\") &IF(AND(NOT(ISBLANK('Product SARF'!M155)),'Product SARF'!$E$15<>\"8) NA\",'Product SARF'!$E$15<>\"8) ...\"), \"   \"&CONCATENATE('Product SARF'!$M$18,'Product SARF'!$M$19),\"\"))","v":""}]
[{"$f":"IF(C138=\"\",\"\",IF('Product SARF'!B156=\"\",\"\",'Product SARF'!B156))","v":""},{"$f":"IF('Product SARF'!C156=\"\",\"\",\"Sample\")","v":""},{"$f":"IF('Product SARF'!C156=\"\",\"\",'Product SARF'!C156)","v":""},{"$f":"IF(C138=\"\",\"\",IF('Product SARF'!D156=\"\",\"\",'Product SARF'!D156))","v":""},{"$f":"IF(C138=\"\",\"\",IF('Product SARF'!E156=\"\",\"\",'Product SARF'!E156))","v":""},{"$f":"IF(C138=\"\",\"\",IF('Product SARF'!$L$6=\"\",\"\",CONCATENATE('Product SARF'!$L$6,'Product SARF'!$M$6)))","v":""},{"$f":"IF(C138=\"\",\"\",IF('Product SARF'!$L$2=\"\",\"\",'Product SARF'!$L$2))","v":""},{"$f":"IF(C138=\"\",\"\",IF('Product SARF'!$L$4=\"\",NOW(),'Product SARF'!$L$4))","v":""},"",{"$f":"IF(C138=\"\",\"\", IF(AND(NOT(ISBLANK('Product SARF'!F156)),'Product SARF'!$E$8<>\"1) NA\",'Product SARF'!$E$8<>\"1) ...\"), \"   \"&CONCATENATE('Product SARF'!$F$18,'Product SARF'!$F$19),\"\") & IF(AND(NOT(ISBLANK('Product SARF'!G156)),'Product SARF'!$E$9<>\"2) NA\",'Product SARF'!$E$9<>\"2) ...\"), \"   \"&CONCATENATE('Product SARF'!$G$18,'Product SARF'!$G$19),\"\")& IF(AND(NOT(ISBLANK('Product SARF'!H156)),'Product SARF'!$E$10<>\"3) NA\",'Product SARF'!$E$10<>\"3) ...\"), \"   \"&CONCATENATE('Product SARF'!$H$18,'Product SARF'!$H$19),\"\") & IF(AND(NOT(ISBLANK('Product SARF'!I156)),'Product SARF'!$E$11<>\"4) NA\",'Product SARF'!$E$11<>\"4) ...\"), \"   \"&CONCATENATE('Product SARF'!$I$18,'Product SARF'!$I$19),\"\")& IF(AND(NOT(ISBLANK('Product SARF'!J156)),'Product SARF'!$E$12<>\"5) NA\",'Product SARF'!$E$12<>\"5) ...\"), \"   \"&CONCATENATE('Product SARF'!$J$18,'Product SARF'!$J$19),\"\")&IF(AND(NOT(ISBLANK('Product SARF'!K156)),'Product SARF'!$E$13<>\"6) NA\",'Product SARF'!$E$13<>\"6) ...\"), \"   \"&CONCATENATE('Product SARF'!$K$18,'Product SARF'!$K$19),\"\")&IF(AND(NOT(ISBLANK('Product SARF'!L156)),'Product SARF'!$E$14<>\"7) NA\",'Product SARF'!$E$14<>\"7) ...\"), \"   \"&CONCATENATE('Product SARF'!$L$18,'Product SARF'!$L$19),\"\") &IF(AND(NOT(ISBLANK('Product SARF'!M156)),'Product SARF'!$E$15<>\"8) NA\",'Product SARF'!$E$15<>\"8) ...\"), \"   \"&CONCATENATE('Product SARF'!$M$18,'Product SARF'!$M$19),\"\"))","v":""}]
[{"$f":"IF(C139=\"\",\"\",IF('Product SARF'!B157=\"\",\"\",'Product SARF'!B157))","v":""},{"$f":"IF('Product SARF'!C157=\"\",\"\",\"Sample\")","v":""},{"$f":"IF('Product SARF'!C157=\"\",\"\",'Product SARF'!C157)","v":""},{"$f":"IF(C139=\"\",\"\",IF('Product SARF'!D157=\"\",\"\",'Product SARF'!D157))","v":""},{"$f":"IF(C139=\"\",\"\",IF('Product SARF'!E157=\"\",\"\",'Product SARF'!E157))","v":""},{"$f":"IF(C139=\"\",\"\",IF('Product SARF'!$L$6=\"\",\"\",CONCATENATE('Product SARF'!$L$6,'Product SARF'!$M$6)))","v":""},{"$f":"IF(C139=\"\",\"\",IF('Product SARF'!$L$2=\"\",\"\",'Product SARF'!$L$2))","v":""},{"$f":"IF(C139=\"\",\"\",IF('Product SARF'!$L$4=\"\",NOW(),'Product SARF'!$L$4))","v":""},"",{"$f":"IF(C139=\"\",\"\", IF(AND(NOT(ISBLANK('Product SARF'!F157)),'Product SARF'!$E$8<>\"1) NA\",'Product SARF'!$E$8<>\"1) ...\"), \"   \"&CONCATENATE('Product SARF'!$F$18,'Product SARF'!$F$19),\"\") & IF(AND(NOT(ISBLANK('Product SARF'!G157)),'Product SARF'!$E$9<>\"2) NA\",'Product SARF'!$E$9<>\"2) ...\"), \"   \"&CONCATENATE('Product SARF'!$G$18,'Product SARF'!$G$19),\"\")& IF(AND(NOT(ISBLANK('Product SARF'!H157)),'Product SARF'!$E$10<>\"3) NA\",'Product SARF'!$E$10<>\"3) ...\"), \"   \"&CONCATENATE('Product SARF'!$H$18,'Product SARF'!$H$19),\"\") & IF(AND(NOT(ISBLANK('Product SARF'!I157)),'Product SARF'!$E$11<>\"4) NA\",'Product SARF'!$E$11<>\"4) ...\"), \"   \"&CONCATENATE('Product SARF'!$I$18,'Product SARF'!$I$19),\"\")& IF(AND(NOT(ISBLANK('Product SARF'!J157)),'Product SARF'!$E$12<>\"5) NA\",'Product SARF'!$E$12<>\"5) ...\"), \"   \"&CONCATENATE('Product SARF'!$J$18,'Product SARF'!$J$19),\"\")&IF(AND(NOT(ISBLANK('Product SARF'!K157)),'Product SARF'!$E$13<>\"6) NA\",'Product SARF'!$E$13<>\"6) ...\"), \"   \"&CONCATENATE('Product SARF'!$K$18,'Product SARF'!$K$19),\"\")&IF(AND(NOT(ISBLANK('Product SARF'!L157)),'Product SARF'!$E$14<>\"7) NA\",'Product SARF'!$E$14<>\"7) ...\"), \"   \"&CONCATENATE('Product SARF'!$L$18,'Product SARF'!$L$19),\"\") &IF(AND(NOT(ISBLANK('Product SARF'!M157)),'Product SARF'!$E$15<>\"8) NA\",'Product SARF'!$E$15<>\"8) ...\"), \"   \"&CONCATENATE('Product SARF'!$M$18,'Product SARF'!$M$19),\"\"))","v":""}]
[{"$f":"IF(C140=\"\",\"\",IF('Product SARF'!B158=\"\",\"\",'Product SARF'!B158))","v":""},{"$f":"IF('Product SARF'!C158=\"\",\"\",\"Sample\")","v":""},{"$f":"IF('Product SARF'!C158=\"\",\"\",'Product SARF'!C158)","v":""},{"$f":"IF(C140=\"\",\"\",IF('Product SARF'!D158=\"\",\"\",'Product SARF'!D158))","v":""},{"$f":"IF(C140=\"\",\"\",IF('Product SARF'!E158=\"\",\"\",'Product SARF'!E158))","v":""},{"$f":"IF(C140=\"\",\"\",IF('Product SARF'!$L$6=\"\",\"\",CONCATENATE('Product SARF'!$L$6,'Product SARF'!$M$6)))","v":""},{"$f":"IF(C140=\"\",\"\",IF('Product SARF'!$L$2=\"\",\"\",'Product SARF'!$L$2))","v":""},{"$f":"IF(C140=\"\",\"\",IF('Product SARF'!$L$4=\"\",NOW(),'Product SARF'!$L$4))","v":""},"",{"$f":"IF(C140=\"\",\"\", IF(AND(NOT(ISBLANK('Product SARF'!F158)),'Product SARF'!$E$8<>\"1) NA\",'Product SARF'!$E$8<>\"1) ...\"), \"   \"&CONCATENATE('Product SARF'!$F$18,'Product SARF'!$F$19),\"\") & IF(AND(NOT(ISBLANK('Product SARF'!G158)),'Product SARF'!$E$9<>\"2) NA\",'Product SARF'!$E$9<>\"2) ...\"), \"   \"&CONCATENATE('Product SARF'!$G$18,'Product SARF'!$G$19),\"\")& IF(AND(NOT(ISBLANK('Product SARF'!H158)),'Product SARF'!$E$10<>\"3) NA\",'Product SARF'!$E$10<>\"3) ...\"), \"   \"&CONCATENATE('Product SARF'!$H$18,'Product SARF'!$H$19),\"\") & IF(AND(NOT(ISBLANK('Product SARF'!I158)),'Product SARF'!$E$11<>\"4) NA\",'Product SARF'!$E$11<>\"4) ...\"), \"   \"&CONCATENATE('Product SARF'!$I$18,'Product SARF'!$I$19),\"\")& IF(AND(NOT(ISBLANK('Product SARF'!J158)),'Product SARF'!$E$12<>\"5) NA\",'Product SARF'!$E$12<>\"5) ...\"), \"   \"&CONCATENATE('Product SARF'!$J$18,'Product SARF'!$J$19),\"\")&IF(AND(NOT(ISBLANK('Product SARF'!K158)),'Product SARF'!$E$13<>\"6) NA\",'Product SARF'!$E$13<>\"6) ...\"), \"   \"&CONCATENATE('Product SARF'!$K$18,'Product SARF'!$K$19),\"\")&IF(AND(NOT(ISBLANK('Product SARF'!L158)),'Product SARF'!$E$14<>\"7) NA\",'Product SARF'!$E$14<>\"7) ...\"), \"   \"&CONCATENATE('Product SARF'!$L$18,'Product SARF'!$L$19),\"\") &IF(AND(NOT(ISBLANK('Product SARF'!M158)),'Product SARF'!$E$15<>\"8) NA\",'Product SARF'!$E$15<>\"8) ...\"), \"   \"&CONCATENATE('Product SARF'!$M$18,'Product SARF'!$M$19),\"\"))","v":""}]
[{"$f":"IF(C141=\"\",\"\",IF('Product SARF'!B159=\"\",\"\",'Product SARF'!B159))","v":""},{"$f":"IF('Product SARF'!C159=\"\",\"\",\"Sample\")","v":""},{"$f":"IF('Product SARF'!C159=\"\",\"\",'Product SARF'!C159)","v":""},{"$f":"IF(C141=\"\",\"\",IF('Product SARF'!D159=\"\",\"\",'Product SARF'!D159))","v":""},{"$f":"IF(C141=\"\",\"\",IF('Product SARF'!E159=\"\",\"\",'Product SARF'!E159))","v":""},{"$f":"IF(C141=\"\",\"\",IF('Product SARF'!$L$6=\"\",\"\",CONCATENATE('Product SARF'!$L$6,'Product SARF'!$M$6)))","v":""},{"$f":"IF(C141=\"\",\"\",IF('Product SARF'!$L$2=\"\",\"\",'Product SARF'!$L$2))","v":""},{"$f":"IF(C141=\"\",\"\",IF('Product SARF'!$L$4=\"\",NOW(),'Product SARF'!$L$4))","v":""},"",{"$f":"IF(C141=\"\",\"\", IF(AND(NOT(ISBLANK('Product SARF'!F159)),'Product SARF'!$E$8<>\"1) NA\",'Product SARF'!$E$8<>\"1) ...\"), \"   \"&CONCATENATE('Product SARF'!$F$18,'Product SARF'!$F$19),\"\") & IF(AND(NOT(ISBLANK('Product SARF'!G159)),'Product SARF'!$E$9<>\"2) NA\",'Product SARF'!$E$9<>\"2) ...\"), \"   \"&CONCATENATE('Product SARF'!$G$18,'Product SARF'!$G$19),\"\")& IF(AND(NOT(ISBLANK('Product SARF'!H159)),'Product SARF'!$E$10<>\"3) NA\",'Product SARF'!$E$10<>\"3) ...\"), \"   \"&CONCATENATE('Product SARF'!$H$18,'Product SARF'!$H$19),\"\") & IF(AND(NOT(ISBLANK('Product SARF'!I159)),'Product SARF'!$E$11<>\"4) NA\",'Product SARF'!$E$11<>\"4) ...\"), \"   \"&CONCATENATE('Product SARF'!$I$18,'Product SARF'!$I$19),\"\")& IF(AND(NOT(ISBLANK('Product SARF'!J159)),'Product SARF'!$E$12<>\"5) NA\",'Product SARF'!$E$12<>\"5) ...\"), \"   \"&CONCATENATE('Product SARF'!$J$18,'Product SARF'!$J$19),\"\")&IF(AND(NOT(ISBLANK('Product SARF'!K159)),'Product SARF'!$E$13<>\"6) NA\",'Product SARF'!$E$13<>\"6) ...\"), \"   \"&CONCATENATE('Product SARF'!$K$18,'Product SARF'!$K$19),\"\")&IF(AND(NOT(ISBLANK('Product SARF'!L159)),'Product SARF'!$E$14<>\"7) NA\",'Product SARF'!$E$14<>\"7) ...\"), \"   \"&CONCATENATE('Product SARF'!$L$18,'Product SARF'!$L$19),\"\") &IF(AND(NOT(ISBLANK('Product SARF'!M159)),'Product SARF'!$E$15<>\"8) NA\",'Product SARF'!$E$15<>\"8) ...\"), \"   \"&CONCATENATE('Product SARF'!$M$18,'Product SARF'!$M$19),\"\"))","v":""}]
[{"$f":"IF(C142=\"\",\"\",IF('Product SARF'!B160=\"\",\"\",'Product SARF'!B160))","v":""},{"$f":"IF('Product SARF'!C160=\"\",\"\",\"Sample\")","v":""},{"$f":"IF('Product SARF'!C160=\"\",\"\",'Product SARF'!C160)","v":""},{"$f":"IF(C142=\"\",\"\",IF('Product SARF'!D160=\"\",\"\",'Product SARF'!D160))","v":""},{"$f":"IF(C142=\"\",\"\",IF('Product SARF'!E160=\"\",\"\",'Product SARF'!E160))","v":""},{"$f":"IF(C142=\"\",\"\",IF('Product SARF'!$L$6=\"\",\"\",CONCATENATE('Product SARF'!$L$6,'Product SARF'!$M$6)))","v":""},{"$f":"IF(C142=\"\",\"\",IF('Product SARF'!$L$2=\"\",\"\",'Product SARF'!$L$2))","v":""},{"$f":"IF(C142=\"\",\"\",IF('Product SARF'!$L$4=\"\",NOW(),'Product SARF'!$L$4))","v":""},"",{"$f":"IF(C142=\"\",\"\", IF(AND(NOT(ISBLANK('Product SARF'!F160)),'Product SARF'!$E$8<>\"1) NA\",'Product SARF'!$E$8<>\"1) ...\"), \"   \"&CONCATENATE('Product SARF'!$F$18,'Product SARF'!$F$19),\"\") & IF(AND(NOT(ISBLANK('Product SARF'!G160)),'Product SARF'!$E$9<>\"2) NA\",'Product SARF'!$E$9<>\"2) ...\"), \"   \"&CONCATENATE('Product SARF'!$G$18,'Product SARF'!$G$19),\"\")& IF(AND(NOT(ISBLANK('Product SARF'!H160)),'Product SARF'!$E$10<>\"3) NA\",'Product SARF'!$E$10<>\"3) ...\"), \"   \"&CONCATENATE('Product SARF'!$H$18,'Product SARF'!$H$19),\"\") & IF(AND(NOT(ISBLANK('Product SARF'!I160)),'Product SARF'!$E$11<>\"4) NA\",'Product SARF'!$E$11<>\"4) ...\"), \"   \"&CONCATENATE('Product SARF'!$I$18,'Product SARF'!$I$19),\"\")& IF(AND(NOT(ISBLANK('Product SARF'!J160)),'Product SARF'!$E$12<>\"5) NA\",'Product SARF'!$E$12<>\"5) ...\"), \"   \"&CONCATENATE('Product SARF'!$J$18,'Product SARF'!$J$19),\"\")&IF(AND(NOT(ISBLANK('Product SARF'!K160)),'Product SARF'!$E$13<>\"6) NA\",'Product SARF'!$E$13<>\"6) ...\"), \"   \"&CONCATENATE('Product SARF'!$K$18,'Product SARF'!$K$19),\"\")&IF(AND(NOT(ISBLANK('Product SARF'!L160)),'Product SARF'!$E$14<>\"7) NA\",'Product SARF'!$E$14<>\"7) ...\"), \"   \"&CONCATENATE('Product SARF'!$L$18,'Product SARF'!$L$19),\"\") &IF(AND(NOT(ISBLANK('Product SARF'!M160)),'Product SARF'!$E$15<>\"8) NA\",'Product SARF'!$E$15<>\"8) ...\"), \"   \"&CONCATENATE('Product SARF'!$M$18,'Product SARF'!$M$19),\"\"))","v":""}]
[{"$f":"IF(C143=\"\",\"\",IF('Product SARF'!B161=\"\",\"\",'Product SARF'!B161))","v":""},{"$f":"IF('Product SARF'!C161=\"\",\"\",\"Sample\")","v":""},{"$f":"IF('Product SARF'!C161=\"\",\"\",'Product SARF'!C161)","v":""},{"$f":"IF(C143=\"\",\"\",IF('Product SARF'!D161=\"\",\"\",'Product SARF'!D161))","v":""},{"$f":"IF(C143=\"\",\"\",IF('Product SARF'!E161=\"\",\"\",'Product SARF'!E161))","v":""},{"$f":"IF(C143=\"\",\"\",IF('Product SARF'!$L$6=\"\",\"\",CONCATENATE('Product SARF'!$L$6,'Product SARF'!$M$6)))","v":""},{"$f":"IF(C143=\"\",\"\",IF('Product SARF'!$L$2=\"\",\"\",'Product SARF'!$L$2))","v":""},{"$f":"IF(C143=\"\",\"\",IF('Product SARF'!$L$4=\"\",NOW(),'Product SARF'!$L$4))","v":""},"",{"$f":"IF(C143=\"\",\"\", IF(AND(NOT(ISBLANK('Product SARF'!F161)),'Product SARF'!$E$8<>\"1) NA\",'Product SARF'!$E$8<>\"1) ...\"), \"   \"&CONCATENATE('Product SARF'!$F$18,'Product SARF'!$F$19),\"\") & IF(AND(NOT(ISBLANK('Product SARF'!G161)),'Product SARF'!$E$9<>\"2) NA\",'Product SARF'!$E$9<>\"2) ...\"), \"   \"&CONCATENATE('Product SARF'!$G$18,'Product SARF'!$G$19),\"\")& IF(AND(NOT(ISBLANK('Product SARF'!H161)),'Product SARF'!$E$10<>\"3) NA\",'Product SARF'!$E$10<>\"3) ...\"), \"   \"&CONCATENATE('Product SARF'!$H$18,'Product SARF'!$H$19),\"\") & IF(AND(NOT(ISBLANK('Product SARF'!I161)),'Product SARF'!$E$11<>\"4) NA\",'Product SARF'!$E$11<>\"4) ...\"), \"   \"&CONCATENATE('Product SARF'!$I$18,'Product SARF'!$I$19),\"\")& IF(AND(NOT(ISBLANK('Product SARF'!J161)),'Product SARF'!$E$12<>\"5) NA\",'Product SARF'!$E$12<>\"5) ...\"), \"   \"&CONCATENATE('Product SARF'!$J$18,'Product SARF'!$J$19),\"\")&IF(AND(NOT(ISBLANK('Product SARF'!K161)),'Product SARF'!$E$13<>\"6) NA\",'Product SARF'!$E$13<>\"6) ...\"), \"   \"&CONCATENATE('Product SARF'!$K$18,'Product SARF'!$K$19),\"\")&IF(AND(NOT(ISBLANK('Product SARF'!L161)),'Product SARF'!$E$14<>\"7) NA\",'Product SARF'!$E$14<>\"7) ...\"), \"   \"&CONCATENATE('Product SARF'!$L$18,'Product SARF'!$L$19),\"\") &IF(AND(NOT(ISBLANK('Product SARF'!M161)),'Product SARF'!$E$15<>\"8) NA\",'Product SARF'!$E$15<>\"8) ...\"), \"   \"&CONCATENATE('Product SARF'!$M$18,'Product SARF'!$M$19),\"\"))","v":""}]
[{"$f":"IF(C144=\"\",\"\",IF('Product SARF'!B162=\"\",\"\",'Product SARF'!B162))","v":""},{"$f":"IF('Product SARF'!C162=\"\",\"\",\"Sample\")","v":""},{"$f":"IF('Product SARF'!C162=\"\",\"\",'Product SARF'!C162)","v":""},{"$f":"IF(C144=\"\",\"\",IF('Product SARF'!D162=\"\",\"\",'Product SARF'!D162))","v":""},{"$f":"IF(C144=\"\",\"\",IF('Product SARF'!E162=\"\",\"\",'Product SARF'!E162))","v":""},{"$f":"IF(C144=\"\",\"\",IF('Product SARF'!$L$6=\"\",\"\",CONCATENATE('Product SARF'!$L$6,'Product SARF'!$M$6)))","v":""},{"$f":"IF(C144=\"\",\"\",IF('Product SARF'!$L$2=\"\",\"\",'Product SARF'!$L$2))","v":""},{"$f":"IF(C144=\"\",\"\",IF('Product SARF'!$L$4=\"\",NOW(),'Product SARF'!$L$4))","v":""},"",{"$f":"IF(C144=\"\",\"\", IF(AND(NOT(ISBLANK('Product SARF'!F162)),'Product SARF'!$E$8<>\"1) NA\",'Product SARF'!$E$8<>\"1) ...\"), \"   \"&CONCATENATE('Product SARF'!$F$18,'Product SARF'!$F$19),\"\") & IF(AND(NOT(ISBLANK('Product SARF'!G162)),'Product SARF'!$E$9<>\"2) NA\",'Product SARF'!$E$9<>\"2) ...\"), \"   \"&CONCATENATE('Product SARF'!$G$18,'Product SARF'!$G$19),\"\")& IF(AND(NOT(ISBLANK('Product SARF'!H162)),'Product SARF'!$E$10<>\"3) NA\",'Product SARF'!$E$10<>\"3) ...\"), \"   \"&CONCATENATE('Product SARF'!$H$18,'Product SARF'!$H$19),\"\") & IF(AND(NOT(ISBLANK('Product SARF'!I162)),'Product SARF'!$E$11<>\"4) NA\",'Product SARF'!$E$11<>\"4) ...\"), \"   \"&CONCATENATE('Product SARF'!$I$18,'Product SARF'!$I$19),\"\")& IF(AND(NOT(ISBLANK('Product SARF'!J162)),'Product SARF'!$E$12<>\"5) NA\",'Product SARF'!$E$12<>\"5) ...\"), \"   \"&CONCATENATE('Product SARF'!$J$18,'Product SARF'!$J$19),\"\")&IF(AND(NOT(ISBLANK('Product SARF'!K162)),'Product SARF'!$E$13<>\"6) NA\",'Product SARF'!$E$13<>\"6) ...\"), \"   \"&CONCATENATE('Product SARF'!$K$18,'Product SARF'!$K$19),\"\")&IF(AND(NOT(ISBLANK('Product SARF'!L162)),'Product SARF'!$E$14<>\"7) NA\",'Product SARF'!$E$14<>\"7) ...\"), \"   \"&CONCATENATE('Product SARF'!$L$18,'Product SARF'!$L$19),\"\") &IF(AND(NOT(ISBLANK('Product SARF'!M162)),'Product SARF'!$E$15<>\"8) NA\",'Product SARF'!$E$15<>\"8) ...\"), \"   \"&CONCATENATE('Product SARF'!$M$18,'Product SARF'!$M$19),\"\"))","v":""}]
[{"$f":"IF(C145=\"\",\"\",IF('Product SARF'!B163=\"\",\"\",'Product SARF'!B163))","v":""},{"$f":"IF('Product SARF'!C163=\"\",\"\",\"Sample\")","v":""},{"$f":"IF('Product SARF'!C163=\"\",\"\",'Product SARF'!C163)","v":""},{"$f":"IF(C145=\"\",\"\",IF('Product SARF'!D163=\"\",\"\",'Product SARF'!D163))","v":""},{"$f":"IF(C145=\"\",\"\",IF('Product SARF'!E163=\"\",\"\",'Product SARF'!E163))","v":""},{"$f":"IF(C145=\"\",\"\",IF('Product SARF'!$L$6=\"\",\"\",CONCATENATE('Product SARF'!$L$6,'Product SARF'!$M$6)))","v":""},{"$f":"IF(C145=\"\",\"\",IF('Product SARF'!$L$2=\"\",\"\",'Product SARF'!$L$2))","v":""},{"$f":"IF(C145=\"\",\"\",IF('Product SARF'!$L$4=\"\",NOW(),'Product SARF'!$L$4))","v":""},"",{"$f":"IF(C145=\"\",\"\", IF(AND(NOT(ISBLANK('Product SARF'!F163)),'Product SARF'!$E$8<>\"1) NA\",'Product SARF'!$E$8<>\"1) ...\"), \"   \"&CONCATENATE('Product SARF'!$F$18,'Product SARF'!$F$19),\"\") & IF(AND(NOT(ISBLANK('Product SARF'!G163)),'Product SARF'!$E$9<>\"2) NA\",'Product SARF'!$E$9<>\"2) ...\"), \"   \"&CONCATENATE('Product SARF'!$G$18,'Product SARF'!$G$19),\"\")& IF(AND(NOT(ISBLANK('Product SARF'!H163)),'Product SARF'!$E$10<>\"3) NA\",'Product SARF'!$E$10<>\"3) ...\"), \"   \"&CONCATENATE('Product SARF'!$H$18,'Product SARF'!$H$19),\"\") & IF(AND(NOT(ISBLANK('Product SARF'!I163)),'Product SARF'!$E$11<>\"4) NA\",'Product SARF'!$E$11<>\"4) ...\"), \"   \"&CONCATENATE('Product SARF'!$I$18,'Product SARF'!$I$19),\"\")& IF(AND(NOT(ISBLANK('Product SARF'!J163)),'Product SARF'!$E$12<>\"5) NA\",'Product SARF'!$E$12<>\"5) ...\"), \"   \"&CONCATENATE('Product SARF'!$J$18,'Product SARF'!$J$19),\"\")&IF(AND(NOT(ISBLANK('Product SARF'!K163)),'Product SARF'!$E$13<>\"6) NA\",'Product SARF'!$E$13<>\"6) ...\"), \"   \"&CONCATENATE('Product SARF'!$K$18,'Product SARF'!$K$19),\"\")&IF(AND(NOT(ISBLANK('Product SARF'!L163)),'Product SARF'!$E$14<>\"7) NA\",'Product SARF'!$E$14<>\"7) ...\"), \"   \"&CONCATENATE('Product SARF'!$L$18,'Product SARF'!$L$19),\"\") &IF(AND(NOT(ISBLANK('Product SARF'!M163)),'Product SARF'!$E$15<>\"8) NA\",'Product SARF'!$E$15<>\"8) ...\"), \"   \"&CONCATENATE('Product SARF'!$M$18,'Product SARF'!$M$19),\"\"))","v":""}]
[{"$f":"IF(C146=\"\",\"\",IF('Product SARF'!B164=\"\",\"\",'Product SARF'!B164))","v":""},{"$f":"IF('Product SARF'!C164=\"\",\"\",\"Sample\")","v":""},{"$f":"IF('Product SARF'!C164=\"\",\"\",'Product SARF'!C164)","v":""},{"$f":"IF(C146=\"\",\"\",IF('Product SARF'!D164=\"\",\"\",'Product SARF'!D164))","v":""},{"$f":"IF(C146=\"\",\"\",IF('Product SARF'!E164=\"\",\"\",'Product SARF'!E164))","v":""},{"$f":"IF(C146=\"\",\"\",IF('Product SARF'!$L$6=\"\",\"\",CONCATENATE('Product SARF'!$L$6,'Product SARF'!$M$6)))","v":""},{"$f":"IF(C146=\"\",\"\",IF('Product SARF'!$L$2=\"\",\"\",'Product SARF'!$L$2))","v":""},{"$f":"IF(C146=\"\",\"\",IF('Product SARF'!$L$4=\"\",NOW(),'Product SARF'!$L$4))","v":""},"",{"$f":"IF(C146=\"\",\"\", IF(AND(NOT(ISBLANK('Product SARF'!F164)),'Product SARF'!$E$8<>\"1) NA\",'Product SARF'!$E$8<>\"1) ...\"), \"   \"&CONCATENATE('Product SARF'!$F$18,'Product SARF'!$F$19),\"\") & IF(AND(NOT(ISBLANK('Product SARF'!G164)),'Product SARF'!$E$9<>\"2) NA\",'Product SARF'!$E$9<>\"2) ...\"), \"   \"&CONCATENATE('Product SARF'!$G$18,'Product SARF'!$G$19),\"\")& IF(AND(NOT(ISBLANK('Product SARF'!H164)),'Product SARF'!$E$10<>\"3) NA\",'Product SARF'!$E$10<>\"3) ...\"), \"   \"&CONCATENATE('Product SARF'!$H$18,'Product SARF'!$H$19),\"\") & IF(AND(NOT(ISBLANK('Product SARF'!I164)),'Product SARF'!$E$11<>\"4) NA\",'Product SARF'!$E$11<>\"4) ...\"), \"   \"&CONCATENATE('Product SARF'!$I$18,'Product SARF'!$I$19),\"\")& IF(AND(NOT(ISBLANK('Product SARF'!J164)),'Product SARF'!$E$12<>\"5) NA\",'Product SARF'!$E$12<>\"5) ...\"), \"   \"&CONCATENATE('Product SARF'!$J$18,'Product SARF'!$J$19),\"\")&IF(AND(NOT(ISBLANK('Product SARF'!K164)),'Product SARF'!$E$13<>\"6) NA\",'Product SARF'!$E$13<>\"6) ...\"), \"   \"&CONCATENATE('Product SARF'!$K$18,'Product SARF'!$K$19),\"\")&IF(AND(NOT(ISBLANK('Product SARF'!L164)),'Product SARF'!$E$14<>\"7) NA\",'Product SARF'!$E$14<>\"7) ...\"), \"   \"&CONCATENATE('Product SARF'!$L$18,'Product SARF'!$L$19),\"\") &IF(AND(NOT(ISBLANK('Product SARF'!M164)),'Product SARF'!$E$15<>\"8) NA\",'Product SARF'!$E$15<>\"8) ...\"), \"   \"&CONCATENATE('Product SARF'!$M$18,'Product SARF'!$M$19),\"\"))","v":""}]
[{"$f":"IF(C147=\"\",\"\",IF('Product SARF'!B165=\"\",\"\",'Product SARF'!B165))","v":""},{"$f":"IF('Product SARF'!C165=\"\",\"\",\"Sample\")","v":""},{"$f":"IF('Product SARF'!C165=\"\",\"\",'Product SARF'!C165)","v":""},{"$f":"IF(C147=\"\",\"\",IF('Product SARF'!D165=\"\",\"\",'Product SARF'!D165))","v":""},{"$f":"IF(C147=\"\",\"\",IF('Product SARF'!E165=\"\",\"\",'Product SARF'!E165))","v":""},{"$f":"IF(C147=\"\",\"\",IF('Product SARF'!$L$6=\"\",\"\",CONCATENATE('Product SARF'!$L$6,'Product SARF'!$M$6)))","v":""},{"$f":"IF(C147=\"\",\"\",IF('Product SARF'!$L$2=\"\",\"\",'Product SARF'!$L$2))","v":""},{"$f":"IF(C147=\"\",\"\",IF('Product SARF'!$L$4=\"\",NOW(),'Product SARF'!$L$4))","v":""},{"$f":"IF(C147=\"\",\"\",NOW())","v":""},{"$f":"IF(C147=\"\",\"\", IF(AND(NOT(ISBLANK('Product SARF'!F165)),'Product SARF'!$E$8<>\"1) NA\",'Product SARF'!$E$8<>\"1) ...\"), \"   \"&CONCATENATE('Product SARF'!$F$18,'Product SARF'!$F$19),\"\") & IF(AND(NOT(ISBLANK('Product SARF'!G165)),'Product SARF'!$E$9<>\"2) NA\",'Product SARF'!$E$9<>\"2) ...\"), \"   \"&CONCATENATE('Product SARF'!$G$18,'Product SARF'!$G$19),\"\")& IF(AND(NOT(ISBLANK('Product SARF'!H165)),'Product SARF'!$E$10<>\"3) NA\",'Product SARF'!$E$10<>\"3) ...\"), \"   \"&CONCATENATE('Product SARF'!$H$18,'Product SARF'!$H$19),\"\") & IF(AND(NOT(ISBLANK('Product SARF'!I165)),'Product SARF'!$E$11<>\"4) NA\",'Product SARF'!$E$11<>\"4) ...\"), \"   \"&CONCATENATE('Product SARF'!$I$18,'Product SARF'!$I$19),\"\")& IF(AND(NOT(ISBLANK('Product SARF'!J165)),'Product SARF'!$E$12<>\"5) NA\",'Product SARF'!$E$12<>\"5) ...\"), \"   \"&CONCATENATE('Product SARF'!$J$18,'Product SARF'!$J$19),\"\")&IF(AND(NOT(ISBLANK('Product SARF'!K165)),'Product SARF'!$E$13<>\"6) NA\",'Product SARF'!$E$13<>\"6) ...\"), \"   \"&CONCATENATE('Product SARF'!$K$18,'Product SARF'!$K$19),\"\")&IF(AND(NOT(ISBLANK('Product SARF'!L165)),'Product SARF'!$E$14<>\"7) NA\",'Product SARF'!$E$14<>\"7) ...\"), \"   \"&CONCATENATE('Product SARF'!$L$18,'Product SARF'!$L$19),\"\") &IF(AND(NOT(ISBLANK('Product SARF'!M165)),'Product SARF'!$E$15<>\"8) NA\",'Product SARF'!$E$15<>\"8) ...\"), \"   \"&CONCATENATE('Product SARF'!$M$18,'Product SARF'!$M$19),\"\"))","v":""}]
[{"$f":"IF(C148=\"\",\"\",IF('Product SARF'!B166=\"\",\"\",'Product SARF'!B166))","v":""},{"$f":"IF('Product SARF'!C166=\"\",\"\",\"Sample\")","v":""},{"$f":"IF('Product SARF'!C166=\"\",\"\",'Product SARF'!C166)","v":""},{"$f":"IF(C148=\"\",\"\",IF('Product SARF'!D166=\"\",\"\",'Product SARF'!D166))","v":""},{"$f":"IF(C148=\"\",\"\",IF('Product SARF'!E166=\"\",\"\",'Product SARF'!E166))","v":""},{"$f":"IF(C148=\"\",\"\",IF('Product SARF'!$L$6=\"\",\"\",CONCATENATE('Product SARF'!$L$6,'Product SARF'!$M$6)))","v":""},{"$f":"IF(C148=\"\",\"\",IF('Product SARF'!$L$2=\"\",\"\",'Product SARF'!$L$2))","v":""},{"$f":"IF(C148=\"\",\"\",IF('Product SARF'!$L$4=\"\",NOW(),'Product SARF'!$L$4))","v":""},"",{"$f":"IF(C148=\"\",\"\", IF(AND(NOT(ISBLANK('Product SARF'!F166)),'Product SARF'!$E$8<>\"1) NA\",'Product SARF'!$E$8<>\"1) ...\"), \"   \"&CONCATENATE('Product SARF'!$F$18,'Product SARF'!$F$19),\"\") & IF(AND(NOT(ISBLANK('Product SARF'!G166)),'Product SARF'!$E$9<>\"2) NA\",'Product SARF'!$E$9<>\"2) ...\"), \"   \"&CONCATENATE('Product SARF'!$G$18,'Product SARF'!$G$19),\"\")& IF(AND(NOT(ISBLANK('Product SARF'!H166)),'Product SARF'!$E$10<>\"3) NA\",'Product SARF'!$E$10<>\"3) ...\"), \"   \"&CONCATENATE('Product SARF'!$H$18,'Product SARF'!$H$19),\"\") & IF(AND(NOT(ISBLANK('Product SARF'!I166)),'Product SARF'!$E$11<>\"4) NA\",'Product SARF'!$E$11<>\"4) ...\"), \"   \"&CONCATENATE('Product SARF'!$I$18,'Product SARF'!$I$19),\"\")& IF(AND(NOT(ISBLANK('Product SARF'!J166)),'Product SARF'!$E$12<>\"5) NA\",'Product SARF'!$E$12<>\"5) ...\"), \"   \"&CONCATENATE('Product SARF'!$J$18,'Product SARF'!$J$19),\"\")&IF(AND(NOT(ISBLANK('Product SARF'!K166)),'Product SARF'!$E$13<>\"6) NA\",'Product SARF'!$E$13<>\"6) ...\"), \"   \"&CONCATENATE('Product SARF'!$K$18,'Product SARF'!$K$19),\"\")&IF(AND(NOT(ISBLANK('Product SARF'!L166)),'Product SARF'!$E$14<>\"7) NA\",'Product SARF'!$E$14<>\"7) ...\"), \"   \"&CONCATENATE('Product SARF'!$L$18,'Product SARF'!$L$19),\"\") &IF(AND(NOT(ISBLANK('Product SARF'!M166)),'Product SARF'!$E$15<>\"8) NA\",'Product SARF'!$E$15<>\"8) ...\"), \"   \"&CONCATENATE('Product SARF'!$M$18,'Product SARF'!$M$19),\"\"))","v":""}]
[{"$f":"IF(C149=\"\",\"\",IF('Product SARF'!B167=\"\",\"\",'Product SARF'!B167))","v":""},{"$f":"IF('Product SARF'!C167=\"\",\"\",\"Sample\")","v":""},{"$f":"IF('Product SARF'!C167=\"\",\"\",'Product SARF'!C167)","v":""},{"$f":"IF(C149=\"\",\"\",IF('Product SARF'!D167=\"\",\"\",'Product SARF'!D167))","v":""},{"$f":"IF(C149=\"\",\"\",IF('Product SARF'!E167=\"\",\"\",'Product SARF'!E167))","v":""},{"$f":"IF(C149=\"\",\"\",IF('Product SARF'!$L$6=\"\",\"\",CONCATENATE('Product SARF'!$L$6,'Product SARF'!$M$6)))","v":""},{"$f":"IF(C149=\"\",\"\",IF('Product SARF'!$L$2=\"\",\"\",'Product SARF'!$L$2))","v":""},{"$f":"IF(C149=\"\",\"\",IF('Product SARF'!$L$4=\"\",NOW(),'Product SARF'!$L$4))","v":""},"",{"$f":"IF(C149=\"\",\"\", IF(AND(NOT(ISBLANK('Product SARF'!F167)),'Product SARF'!$E$8<>\"1) NA\",'Product SARF'!$E$8<>\"1) ...\"), \"   \"&CONCATENATE('Product SARF'!$F$18,'Product SARF'!$F$19),\"\") & IF(AND(NOT(ISBLANK('Product SARF'!G167)),'Product SARF'!$E$9<>\"2) NA\",'Product SARF'!$E$9<>\"2) ...\"), \"   \"&CONCATENATE('Product SARF'!$G$18,'Product SARF'!$G$19),\"\")& IF(AND(NOT(ISBLANK('Product SARF'!H167)),'Product SARF'!$E$10<>\"3) NA\",'Product SARF'!$E$10<>\"3) ...\"), \"   \"&CONCATENATE('Product SARF'!$H$18,'Product SARF'!$H$19),\"\") & IF(AND(NOT(ISBLANK('Product SARF'!I167)),'Product SARF'!$E$11<>\"4) NA\",'Product SARF'!$E$11<>\"4) ...\"), \"   \"&CONCATENATE('Product SARF'!$I$18,'Product SARF'!$I$19),\"\")& IF(AND(NOT(ISBLANK('Product SARF'!J167)),'Product SARF'!$E$12<>\"5) NA\",'Product SARF'!$E$12<>\"5) ...\"), \"   \"&CONCATENATE('Product SARF'!$J$18,'Product SARF'!$J$19),\"\")&IF(AND(NOT(ISBLANK('Product SARF'!K167)),'Product SARF'!$E$13<>\"6) NA\",'Product SARF'!$E$13<>\"6) ...\"), \"   \"&CONCATENATE('Product SARF'!$K$18,'Product SARF'!$K$19),\"\")&IF(AND(NOT(ISBLANK('Product SARF'!L167)),'Product SARF'!$E$14<>\"7) NA\",'Product SARF'!$E$14<>\"7) ...\"), \"   \"&CONCATENATE('Product SARF'!$L$18,'Product SARF'!$L$19),\"\") &IF(AND(NOT(ISBLANK('Product SARF'!M167)),'Product SARF'!$E$15<>\"8) NA\",'Product SARF'!$E$15<>\"8) ...\"), \"   \"&CONCATENATE('Product SARF'!$M$18,'Product SARF'!$M$19),\"\"))","v":""}]
[{"$f":"IF(C150=\"\",\"\",IF('Product SARF'!B168=\"\",\"\",'Product SARF'!B168))","v":""},{"$f":"IF('Product SARF'!C168=\"\",\"\",\"Sample\")","v":""},{"$f":"IF('Product SARF'!C168=\"\",\"\",'Product SARF'!C168)","v":""},{"$f":"IF(C150=\"\",\"\",IF('Product SARF'!D168=\"\",\"\",'Product SARF'!D168))","v":""},{"$f":"IF(C150=\"\",\"\",IF('Product SARF'!E168=\"\",\"\",'Product SARF'!E168))","v":""},{"$f":"IF(C150=\"\",\"\",IF('Product SARF'!$L$6=\"\",\"\",CONCATENATE('Product SARF'!$L$6,'Product SARF'!$M$6)))","v":""},{"$f":"IF(C150=\"\",\"\",IF('Product SARF'!$L$2=\"\",\"\",'Product SARF'!$L$2))","v":""},{"$f":"IF(C150=\"\",\"\",IF('Product SARF'!$L$4=\"\",NOW(),'Product SARF'!$L$4))","v":""},"",{"$f":"IF(C150=\"\",\"\", IF(AND(NOT(ISBLANK('Product SARF'!F168)),'Product SARF'!$E$8<>\"1) NA\",'Product SARF'!$E$8<>\"1) ...\"), \"   \"&CONCATENATE('Product SARF'!$F$18,'Product SARF'!$F$19),\"\") & IF(AND(NOT(ISBLANK('Product SARF'!G168)),'Product SARF'!$E$9<>\"2) NA\",'Product SARF'!$E$9<>\"2) ...\"), \"   \"&CONCATENATE('Product SARF'!$G$18,'Product SARF'!$G$19),\"\")& IF(AND(NOT(ISBLANK('Product SARF'!H168)),'Product SARF'!$E$10<>\"3) NA\",'Product SARF'!$E$10<>\"3) ...\"), \"   \"&CONCATENATE('Product SARF'!$H$18,'Product SARF'!$H$19),\"\") & IF(AND(NOT(ISBLANK('Product SARF'!I168)),'Product SARF'!$E$11<>\"4) NA\",'Product SARF'!$E$11<>\"4) ...\"), \"   \"&CONCATENATE('Product SARF'!$I$18,'Product SARF'!$I$19),\"\")& IF(AND(NOT(ISBLANK('Product SARF'!J168)),'Product SARF'!$E$12<>\"5) NA\",'Product SARF'!$E$12<>\"5) ...\"), \"   \"&CONCATENATE('Product SARF'!$J$18,'Product SARF'!$J$19),\"\")&IF(AND(NOT(ISBLANK('Product SARF'!K168)),'Product SARF'!$E$13<>\"6) NA\",'Product SARF'!$E$13<>\"6) ...\"), \"   \"&CONCATENATE('Product SARF'!$K$18,'Product SARF'!$K$19),\"\")&IF(AND(NOT(ISBLANK('Product SARF'!L168)),'Product SARF'!$E$14<>\"7) NA\",'Product SARF'!$E$14<>\"7) ...\"), \"   \"&CONCATENATE('Product SARF'!$L$18,'Product SARF'!$L$19),\"\") &IF(AND(NOT(ISBLANK('Product SARF'!M168)),'Product SARF'!$E$15<>\"8) NA\",'Product SARF'!$E$15<>\"8) ...\"), \"   \"&CONCATENATE('Product SARF'!$M$18,'Product SARF'!$M$19),\"\"))","v":""}]
[{"$f":"IF(C151=\"\",\"\",IF('Product SARF'!B169=\"\",\"\",'Product SARF'!B169))","v":""},{"$f":"IF('Product SARF'!C169=\"\",\"\",\"Sample\")","v":""},{"$f":"IF('Product SARF'!C169=\"\",\"\",'Product SARF'!C169)","v":""},{"$f":"IF(C151=\"\",\"\",IF('Product SARF'!D169=\"\",\"\",'Product SARF'!D169))","v":""},{"$f":"IF(C151=\"\",\"\",IF('Product SARF'!E169=\"\",\"\",'Product SARF'!E169))","v":""},{"$f":"IF(C151=\"\",\"\",IF('Product SARF'!$L$6=\"\",\"\",CONCATENATE('Product SARF'!$L$6,'Product SARF'!$M$6)))","v":""},{"$f":"IF(C151=\"\",\"\",IF('Product SARF'!$L$2=\"\",\"\",'Product SARF'!$L$2))","v":""},{"$f":"IF(C151=\"\",\"\",IF('Product SARF'!$L$4=\"\",NOW(),'Product SARF'!$L$4))","v":""},"",{"$f":"IF(C151=\"\",\"\", IF(AND(NOT(ISBLANK('Product SARF'!F169)),'Product SARF'!$E$8<>\"1) NA\",'Product SARF'!$E$8<>\"1) ...\"), \"   \"&CONCATENATE('Product SARF'!$F$18,'Product SARF'!$F$19),\"\") & IF(AND(NOT(ISBLANK('Product SARF'!G169)),'Product SARF'!$E$9<>\"2) NA\",'Product SARF'!$E$9<>\"2) ...\"), \"   \"&CONCATENATE('Product SARF'!$G$18,'Product SARF'!$G$19),\"\")& IF(AND(NOT(ISBLANK('Product SARF'!H169)),'Product SARF'!$E$10<>\"3) NA\",'Product SARF'!$E$10<>\"3) ...\"), \"   \"&CONCATENATE('Product SARF'!$H$18,'Product SARF'!$H$19),\"\") & IF(AND(NOT(ISBLANK('Product SARF'!I169)),'Product SARF'!$E$11<>\"4) NA\",'Product SARF'!$E$11<>\"4) ...\"), \"   \"&CONCATENATE('Product SARF'!$I$18,'Product SARF'!$I$19),\"\")& IF(AND(NOT(ISBLANK('Product SARF'!J169)),'Product SARF'!$E$12<>\"5) NA\",'Product SARF'!$E$12<>\"5) ...\"), \"   \"&CONCATENATE('Product SARF'!$J$18,'Product SARF'!$J$19),\"\")&IF(AND(NOT(ISBLANK('Product SARF'!K169)),'Product SARF'!$E$13<>\"6) NA\",'Product SARF'!$E$13<>\"6) ...\"), \"   \"&CONCATENATE('Product SARF'!$K$18,'Product SARF'!$K$19),\"\")&IF(AND(NOT(ISBLANK('Product SARF'!L169)),'Product SARF'!$E$14<>\"7) NA\",'Product SARF'!$E$14<>\"7) ...\"), \"   \"&CONCATENATE('Product SARF'!$L$18,'Product SARF'!$L$19),\"\") &IF(AND(NOT(ISBLANK('Product SARF'!M169)),'Product SARF'!$E$15<>\"8) NA\",'Product SARF'!$E$15<>\"8) ...\"), \"   \"&CONCATENATE('Product SARF'!$M$18,'Product SARF'!$M$19),\"\"))","v":""}]
[{"$f":"IF(C152=\"\",\"\",IF('Product SARF'!B170=\"\",\"\",'Product SARF'!B170))","v":""},{"$f":"IF('Product SARF'!C170=\"\",\"\",\"Sample\")","v":""},{"$f":"IF('Product SARF'!C170=\"\",\"\",'Product SARF'!C170)","v":""},{"$f":"IF(C152=\"\",\"\",IF('Product SARF'!D170=\"\",\"\",'Product SARF'!D170))","v":""},{"$f":"IF(C152=\"\",\"\",IF('Product SARF'!E170=\"\",\"\",'Product SARF'!E170))","v":""},{"$f":"IF(C152=\"\",\"\",IF('Product SARF'!$L$6=\"\",\"\",CONCATENATE('Product SARF'!$L$6,'Product SARF'!$M$6)))","v":""},{"$f":"IF(C152=\"\",\"\",IF('Product SARF'!$L$2=\"\",\"\",'Product SARF'!$L$2))","v":""},{"$f":"IF(C152=\"\",\"\",IF('Product SARF'!$L$4=\"\",NOW(),'Product SARF'!$L$4))","v":""},"",{"$f":"IF(C152=\"\",\"\", IF(AND(NOT(ISBLANK('Product SARF'!F170)),'Product SARF'!$E$8<>\"1) NA\",'Product SARF'!$E$8<>\"1) ...\"), \"   \"&CONCATENATE('Product SARF'!$F$18,'Product SARF'!$F$19),\"\") & IF(AND(NOT(ISBLANK('Product SARF'!G170)),'Product SARF'!$E$9<>\"2) NA\",'Product SARF'!$E$9<>\"2) ...\"), \"   \"&CONCATENATE('Product SARF'!$G$18,'Product SARF'!$G$19),\"\")& IF(AND(NOT(ISBLANK('Product SARF'!H170)),'Product SARF'!$E$10<>\"3) NA\",'Product SARF'!$E$10<>\"3) ...\"), \"   \"&CONCATENATE('Product SARF'!$H$18,'Product SARF'!$H$19),\"\") & IF(AND(NOT(ISBLANK('Product SARF'!I170)),'Product SARF'!$E$11<>\"4) NA\",'Product SARF'!$E$11<>\"4) ...\"), \"   \"&CONCATENATE('Product SARF'!$I$18,'Product SARF'!$I$19),\"\")& IF(AND(NOT(ISBLANK('Product SARF'!J170)),'Product SARF'!$E$12<>\"5) NA\",'Product SARF'!$E$12<>\"5) ...\"), \"   \"&CONCATENATE('Product SARF'!$J$18,'Product SARF'!$J$19),\"\")&IF(AND(NOT(ISBLANK('Product SARF'!K170)),'Product SARF'!$E$13<>\"6) NA\",'Product SARF'!$E$13<>\"6) ...\"), \"   \"&CONCATENATE('Product SARF'!$K$18,'Product SARF'!$K$19),\"\")&IF(AND(NOT(ISBLANK('Product SARF'!L170)),'Product SARF'!$E$14<>\"7) NA\",'Product SARF'!$E$14<>\"7) ...\"), \"   \"&CONCATENATE('Product SARF'!$L$18,'Product SARF'!$L$19),\"\") &IF(AND(NOT(ISBLANK('Product SARF'!M170)),'Product SARF'!$E$15<>\"8) NA\",'Product SARF'!$E$15<>\"8) ...\"), \"   \"&CONCATENATE('Product SARF'!$M$18,'Product SARF'!$M$19),\"\"))","v":""}]
[{"$f":"IF(C153=\"\",\"\",IF('Product SARF'!B171=\"\",\"\",'Product SARF'!B171))","v":""},{"$f":"IF('Product SARF'!C171=\"\",\"\",\"Sample\")","v":""},{"$f":"IF('Product SARF'!C171=\"\",\"\",'Product SARF'!C171)","v":""},{"$f":"IF(C153=\"\",\"\",IF('Product SARF'!D171=\"\",\"\",'Product SARF'!D171))","v":""},{"$f":"IF(C153=\"\",\"\",IF('Product SARF'!E171=\"\",\"\",'Product SARF'!E171))","v":""},{"$f":"IF(C153=\"\",\"\",IF('Product SARF'!$L$6=\"\",\"\",CONCATENATE('Product SARF'!$L$6,'Product SARF'!$M$6)))","v":""},{"$f":"IF(C153=\"\",\"\",IF('Product SARF'!$L$2=\"\",\"\",'Product SARF'!$L$2))","v":""},{"$f":"IF(C153=\"\",\"\",IF('Product SARF'!$L$4=\"\",NOW(),'Product SARF'!$L$4))","v":""},"",{"$f":"IF(C153=\"\",\"\", IF(AND(NOT(ISBLANK('Product SARF'!F171)),'Product SARF'!$E$8<>\"1) NA\",'Product SARF'!$E$8<>\"1) ...\"), \"   \"&CONCATENATE('Product SARF'!$F$18,'Product SARF'!$F$19),\"\") & IF(AND(NOT(ISBLANK('Product SARF'!G171)),'Product SARF'!$E$9<>\"2) NA\",'Product SARF'!$E$9<>\"2) ...\"), \"   \"&CONCATENATE('Product SARF'!$G$18,'Product SARF'!$G$19),\"\")& IF(AND(NOT(ISBLANK('Product SARF'!H171)),'Product SARF'!$E$10<>\"3) NA\",'Product SARF'!$E$10<>\"3) ...\"), \"   \"&CONCATENATE('Product SARF'!$H$18,'Product SARF'!$H$19),\"\") & IF(AND(NOT(ISBLANK('Product SARF'!I171)),'Product SARF'!$E$11<>\"4) NA\",'Product SARF'!$E$11<>\"4) ...\"), \"   \"&CONCATENATE('Product SARF'!$I$18,'Product SARF'!$I$19),\"\")& IF(AND(NOT(ISBLANK('Product SARF'!J171)),'Product SARF'!$E$12<>\"5) NA\",'Product SARF'!$E$12<>\"5) ...\"), \"   \"&CONCATENATE('Product SARF'!$J$18,'Product SARF'!$J$19),\"\")&IF(AND(NOT(ISBLANK('Product SARF'!K171)),'Product SARF'!$E$13<>\"6) NA\",'Product SARF'!$E$13<>\"6) ...\"), \"   \"&CONCATENATE('Product SARF'!$K$18,'Product SARF'!$K$19),\"\")&IF(AND(NOT(ISBLANK('Product SARF'!L171)),'Product SARF'!$E$14<>\"7) NA\",'Product SARF'!$E$14<>\"7) ...\"), \"   \"&CONCATENATE('Product SARF'!$L$18,'Product SARF'!$L$19),\"\") &IF(AND(NOT(ISBLANK('Product SARF'!M171)),'Product SARF'!$E$15<>\"8) NA\",'Product SARF'!$E$15<>\"8) ...\"), \"   \"&CONCATENATE('Product SARF'!$M$18,'Product SARF'!$M$19),\"\"))","v":""}]
[{"$f":"IF(C154=\"\",\"\",IF('Product SARF'!B172=\"\",\"\",'Product SARF'!B172))","v":""},{"$f":"IF('Product SARF'!C172=\"\",\"\",\"Sample\")","v":""},{"$f":"IF('Product SARF'!C172=\"\",\"\",'Product SARF'!C172)","v":""},{"$f":"IF(C154=\"\",\"\",IF('Product SARF'!D172=\"\",\"\",'Product SARF'!D172))","v":""},{"$f":"IF(C154=\"\",\"\",IF('Product SARF'!E172=\"\",\"\",'Product SARF'!E172))","v":""},{"$f":"IF(C154=\"\",\"\",IF('Product SARF'!$L$6=\"\",\"\",CONCATENATE('Product SARF'!$L$6,'Product SARF'!$M$6)))","v":""},{"$f":"IF(C154=\"\",\"\",IF('Product SARF'!$L$2=\"\",\"\",'Product SARF'!$L$2))","v":""},{"$f":"IF(C154=\"\",\"\",IF('Product SARF'!$L$4=\"\",NOW(),'Product SARF'!$L$4))","v":""},"",{"$f":"IF(C154=\"\",\"\", IF(AND(NOT(ISBLANK('Product SARF'!F172)),'Product SARF'!$E$8<>\"1) NA\",'Product SARF'!$E$8<>\"1) ...\"), \"   \"&CONCATENATE('Product SARF'!$F$18,'Product SARF'!$F$19),\"\") & IF(AND(NOT(ISBLANK('Product SARF'!G172)),'Product SARF'!$E$9<>\"2) NA\",'Product SARF'!$E$9<>\"2) ...\"), \"   \"&CONCATENATE('Product SARF'!$G$18,'Product SARF'!$G$19),\"\")& IF(AND(NOT(ISBLANK('Product SARF'!H172)),'Product SARF'!$E$10<>\"3) NA\",'Product SARF'!$E$10<>\"3) ...\"), \"   \"&CONCATENATE('Product SARF'!$H$18,'Product SARF'!$H$19),\"\") & IF(AND(NOT(ISBLANK('Product SARF'!I172)),'Product SARF'!$E$11<>\"4) NA\",'Product SARF'!$E$11<>\"4) ...\"), \"   \"&CONCATENATE('Product SARF'!$I$18,'Product SARF'!$I$19),\"\")& IF(AND(NOT(ISBLANK('Product SARF'!J172)),'Product SARF'!$E$12<>\"5) NA\",'Product SARF'!$E$12<>\"5) ...\"), \"   \"&CONCATENATE('Product SARF'!$J$18,'Product SARF'!$J$19),\"\")&IF(AND(NOT(ISBLANK('Product SARF'!K172)),'Product SARF'!$E$13<>\"6) NA\",'Product SARF'!$E$13<>\"6) ...\"), \"   \"&CONCATENATE('Product SARF'!$K$18,'Product SARF'!$K$19),\"\")&IF(AND(NOT(ISBLANK('Product SARF'!L172)),'Product SARF'!$E$14<>\"7) NA\",'Product SARF'!$E$14<>\"7) ...\"), \"   \"&CONCATENATE('Product SARF'!$L$18,'Product SARF'!$L$19),\"\") &IF(AND(NOT(ISBLANK('Product SARF'!M172)),'Product SARF'!$E$15<>\"8) NA\",'Product SARF'!$E$15<>\"8) ...\"), \"   \"&CONCATENATE('Product SARF'!$M$18,'Product SARF'!$M$19),\"\"))","v":""}]
[{"$f":"IF(C155=\"\",\"\",IF('Product SARF'!B173=\"\",\"\",'Product SARF'!B173))","v":""},{"$f":"IF('Product SARF'!C173=\"\",\"\",\"Sample\")","v":""},{"$f":"IF('Product SARF'!C173=\"\",\"\",'Product SARF'!C173)","v":""},{"$f":"IF(C155=\"\",\"\",IF('Product SARF'!D173=\"\",\"\",'Product SARF'!D173))","v":""},{"$f":"IF(C155=\"\",\"\",IF('Product SARF'!E173=\"\",\"\",'Product SARF'!E173))","v":""},{"$f":"IF(C155=\"\",\"\",IF('Product SARF'!$L$6=\"\",\"\",CONCATENATE('Product SARF'!$L$6,'Product SARF'!$M$6)))","v":""},{"$f":"IF(C155=\"\",\"\",IF('Product SARF'!$L$2=\"\",\"\",'Product SARF'!$L$2))","v":""},{"$f":"IF(C155=\"\",\"\",IF('Product SARF'!$L$4=\"\",NOW(),'Product SARF'!$L$4))","v":""},"",{"$f":"IF(C155=\"\",\"\", IF(AND(NOT(ISBLANK('Product SARF'!F173)),'Product SARF'!$E$8<>\"1) NA\",'Product SARF'!$E$8<>\"1) ...\"), \"   \"&CONCATENATE('Product SARF'!$F$18,'Product SARF'!$F$19),\"\") & IF(AND(NOT(ISBLANK('Product SARF'!G173)),'Product SARF'!$E$9<>\"2) NA\",'Product SARF'!$E$9<>\"2) ...\"), \"   \"&CONCATENATE('Product SARF'!$G$18,'Product SARF'!$G$19),\"\")& IF(AND(NOT(ISBLANK('Product SARF'!H173)),'Product SARF'!$E$10<>\"3) NA\",'Product SARF'!$E$10<>\"3) ...\"), \"   \"&CONCATENATE('Product SARF'!$H$18,'Product SARF'!$H$19),\"\") & IF(AND(NOT(ISBLANK('Product SARF'!I173)),'Product SARF'!$E$11<>\"4) NA\",'Product SARF'!$E$11<>\"4) ...\"), \"   \"&CONCATENATE('Product SARF'!$I$18,'Product SARF'!$I$19),\"\")& IF(AND(NOT(ISBLANK('Product SARF'!J173)),'Product SARF'!$E$12<>\"5) NA\",'Product SARF'!$E$12<>\"5) ...\"), \"   \"&CONCATENATE('Product SARF'!$J$18,'Product SARF'!$J$19),\"\")&IF(AND(NOT(ISBLANK('Product SARF'!K173)),'Product SARF'!$E$13<>\"6) NA\",'Product SARF'!$E$13<>\"6) ...\"), \"   \"&CONCATENATE('Product SARF'!$K$18,'Product SARF'!$K$19),\"\")&IF(AND(NOT(ISBLANK('Product SARF'!L173)),'Product SARF'!$E$14<>\"7) NA\",'Product SARF'!$E$14<>\"7) ...\"), \"   \"&CONCATENATE('Product SARF'!$L$18,'Product SARF'!$L$19),\"\") &IF(AND(NOT(ISBLANK('Product SARF'!M173)),'Product SARF'!$E$15<>\"8) NA\",'Product SARF'!$E$15<>\"8) ...\"), \"   \"&CONCATENATE('Product SARF'!$M$18,'Product SARF'!$M$19),\"\"))","v":""}]
[{"$f":"IF(C156=\"\",\"\",IF('Product SARF'!B174=\"\",\"\",'Product SARF'!B174))","v":""},{"$f":"IF('Product SARF'!C174=\"\",\"\",\"Sample\")","v":""},{"$f":"IF('Product SARF'!C174=\"\",\"\",'Product SARF'!C174)","v":""},{"$f":"IF(C156=\"\",\"\",IF('Product SARF'!D174=\"\",\"\",'Product SARF'!D174))","v":""},{"$f":"IF(C156=\"\",\"\",IF('Product SARF'!E174=\"\",\"\",'Product SARF'!E174))","v":""},{"$f":"IF(C156=\"\",\"\",IF('Product SARF'!$L$6=\"\",\"\",CONCATENATE('Product SARF'!$L$6,'Product SARF'!$M$6)))","v":""},{"$f":"IF(C156=\"\",\"\",IF('Product SARF'!$L$2=\"\",\"\",'Product SARF'!$L$2))","v":""},{"$f":"IF(C156=\"\",\"\",IF('Product SARF'!$L$4=\"\",NOW(),'Product SARF'!$L$4))","v":""},"",{"$f":"IF(C156=\"\",\"\", IF(AND(NOT(ISBLANK('Product SARF'!F174)),'Product SARF'!$E$8<>\"1) NA\",'Product SARF'!$E$8<>\"1) ...\"), \"   \"&CONCATENATE('Product SARF'!$F$18,'Product SARF'!$F$19),\"\") & IF(AND(NOT(ISBLANK('Product SARF'!G174)),'Product SARF'!$E$9<>\"2) NA\",'Product SARF'!$E$9<>\"2) ...\"), \"   \"&CONCATENATE('Product SARF'!$G$18,'Product SARF'!$G$19),\"\")& IF(AND(NOT(ISBLANK('Product SARF'!H174)),'Product SARF'!$E$10<>\"3) NA\",'Product SARF'!$E$10<>\"3) ...\"), \"   \"&CONCATENATE('Product SARF'!$H$18,'Product SARF'!$H$19),\"\") & IF(AND(NOT(ISBLANK('Product SARF'!I174)),'Product SARF'!$E$11<>\"4) NA\",'Product SARF'!$E$11<>\"4) ...\"), \"   \"&CONCATENATE('Product SARF'!$I$18,'Product SARF'!$I$19),\"\")& IF(AND(NOT(ISBLANK('Product SARF'!J174)),'Product SARF'!$E$12<>\"5) NA\",'Product SARF'!$E$12<>\"5) ...\"), \"   \"&CONCATENATE('Product SARF'!$J$18,'Product SARF'!$J$19),\"\")&IF(AND(NOT(ISBLANK('Product SARF'!K174)),'Product SARF'!$E$13<>\"6) NA\",'Product SARF'!$E$13<>\"6) ...\"), \"   \"&CONCATENATE('Product SARF'!$K$18,'Product SARF'!$K$19),\"\")&IF(AND(NOT(ISBLANK('Product SARF'!L174)),'Product SARF'!$E$14<>\"7) NA\",'Product SARF'!$E$14<>\"7) ...\"), \"   \"&CONCATENATE('Product SARF'!$L$18,'Product SARF'!$L$19),\"\") &IF(AND(NOT(ISBLANK('Product SARF'!M174)),'Product SARF'!$E$15<>\"8) NA\",'Product SARF'!$E$15<>\"8) ...\"), \"   \"&CONCATENATE('Product SARF'!$M$18,'Product SARF'!$M$19),\"\"))","v":""}]
[{"$f":"IF(C157=\"\",\"\",IF('Product SARF'!B175=\"\",\"\",'Product SARF'!B175))","v":""},{"$f":"IF('Product SARF'!C175=\"\",\"\",\"Sample\")","v":""},{"$f":"IF('Product SARF'!C175=\"\",\"\",'Product SARF'!C175)","v":""},{"$f":"IF(C157=\"\",\"\",IF('Product SARF'!D175=\"\",\"\",'Product SARF'!D175))","v":""},{"$f":"IF(C157=\"\",\"\",IF('Product SARF'!E175=\"\",\"\",'Product SARF'!E175))","v":""},{"$f":"IF(C157=\"\",\"\",IF('Product SARF'!$L$6=\"\",\"\",CONCATENATE('Product SARF'!$L$6,'Product SARF'!$M$6)))","v":""},{"$f":"IF(C157=\"\",\"\",IF('Product SARF'!$L$2=\"\",\"\",'Product SARF'!$L$2))","v":""},{"$f":"IF(C157=\"\",\"\",IF('Product SARF'!$L$4=\"\",NOW(),'Product SARF'!$L$4))","v":""},"",{"$f":"IF(C157=\"\",\"\", IF(AND(NOT(ISBLANK('Product SARF'!F175)),'Product SARF'!$E$8<>\"1) NA\",'Product SARF'!$E$8<>\"1) ...\"), \"   \"&CONCATENATE('Product SARF'!$F$18,'Product SARF'!$F$19),\"\") & IF(AND(NOT(ISBLANK('Product SARF'!G175)),'Product SARF'!$E$9<>\"2) NA\",'Product SARF'!$E$9<>\"2) ...\"), \"   \"&CONCATENATE('Product SARF'!$G$18,'Product SARF'!$G$19),\"\")& IF(AND(NOT(ISBLANK('Product SARF'!H175)),'Product SARF'!$E$10<>\"3) NA\",'Product SARF'!$E$10<>\"3) ...\"), \"   \"&CONCATENATE('Product SARF'!$H$18,'Product SARF'!$H$19),\"\") & IF(AND(NOT(ISBLANK('Product SARF'!I175)),'Product SARF'!$E$11<>\"4) NA\",'Product SARF'!$E$11<>\"4) ...\"), \"   \"&CONCATENATE('Product SARF'!$I$18,'Product SARF'!$I$19),\"\")& IF(AND(NOT(ISBLANK('Product SARF'!J175)),'Product SARF'!$E$12<>\"5) NA\",'Product SARF'!$E$12<>\"5) ...\"), \"   \"&CONCATENATE('Product SARF'!$J$18,'Product SARF'!$J$19),\"\")&IF(AND(NOT(ISBLANK('Product SARF'!K175)),'Product SARF'!$E$13<>\"6) NA\",'Product SARF'!$E$13<>\"6) ...\"), \"   \"&CONCATENATE('Product SARF'!$K$18,'Product SARF'!$K$19),\"\")&IF(AND(NOT(ISBLANK('Product SARF'!L175)),'Product SARF'!$E$14<>\"7) NA\",'Product SARF'!$E$14<>\"7) ...\"), \"   \"&CONCATENATE('Product SARF'!$L$18,'Product SARF'!$L$19),\"\") &IF(AND(NOT(ISBLANK('Product SARF'!M175)),'Product SARF'!$E$15<>\"8) NA\",'Product SARF'!$E$15<>\"8) ...\"), \"   \"&CONCATENATE('Product SARF'!$M$18,'Product SARF'!$M$19),\"\"))","v":""}]
[{"$f":"IF(C158=\"\",\"\",IF('Product SARF'!B176=\"\",\"\",'Product SARF'!B176))","v":""},{"$f":"IF('Product SARF'!C176=\"\",\"\",\"Sample\")","v":""},{"$f":"IF('Product SARF'!C176=\"\",\"\",'Product SARF'!C176)","v":""},{"$f":"IF(C158=\"\",\"\",IF('Product SARF'!D176=\"\",\"\",'Product SARF'!D176))","v":""},{"$f":"IF(C158=\"\",\"\",IF('Product SARF'!E176=\"\",\"\",'Product SARF'!E176))","v":""},{"$f":"IF(C158=\"\",\"\",IF('Product SARF'!$L$6=\"\",\"\",CONCATENATE('Product SARF'!$L$6,'Product SARF'!$M$6)))","v":""},{"$f":"IF(C158=\"\",\"\",IF('Product SARF'!$L$2=\"\",\"\",'Product SARF'!$L$2))","v":""},{"$f":"IF(C158=\"\",\"\",IF('Product SARF'!$L$4=\"\",NOW(),'Product SARF'!$L$4))","v":""},"",{"$f":"IF(C158=\"\",\"\", IF(AND(NOT(ISBLANK('Product SARF'!F176)),'Product SARF'!$E$8<>\"1) NA\",'Product SARF'!$E$8<>\"1) ...\"), \"   \"&CONCATENATE('Product SARF'!$F$18,'Product SARF'!$F$19),\"\") & IF(AND(NOT(ISBLANK('Product SARF'!G176)),'Product SARF'!$E$9<>\"2) NA\",'Product SARF'!$E$9<>\"2) ...\"), \"   \"&CONCATENATE('Product SARF'!$G$18,'Product SARF'!$G$19),\"\")& IF(AND(NOT(ISBLANK('Product SARF'!H176)),'Product SARF'!$E$10<>\"3) NA\",'Product SARF'!$E$10<>\"3) ...\"), \"   \"&CONCATENATE('Product SARF'!$H$18,'Product SARF'!$H$19),\"\") & IF(AND(NOT(ISBLANK('Product SARF'!I176)),'Product SARF'!$E$11<>\"4) NA\",'Product SARF'!$E$11<>\"4) ...\"), \"   \"&CONCATENATE('Product SARF'!$I$18,'Product SARF'!$I$19),\"\")& IF(AND(NOT(ISBLANK('Product SARF'!J176)),'Product SARF'!$E$12<>\"5) NA\",'Product SARF'!$E$12<>\"5) ...\"), \"   \"&CONCATENATE('Product SARF'!$J$18,'Product SARF'!$J$19),\"\")&IF(AND(NOT(ISBLANK('Product SARF'!K176)),'Product SARF'!$E$13<>\"6) NA\",'Product SARF'!$E$13<>\"6) ...\"), \"   \"&CONCATENATE('Product SARF'!$K$18,'Product SARF'!$K$19),\"\")&IF(AND(NOT(ISBLANK('Product SARF'!L176)),'Product SARF'!$E$14<>\"7) NA\",'Product SARF'!$E$14<>\"7) ...\"), \"   \"&CONCATENATE('Product SARF'!$L$18,'Product SARF'!$L$19),\"\") &IF(AND(NOT(ISBLANK('Product SARF'!M176)),'Product SARF'!$E$15<>\"8) NA\",'Product SARF'!$E$15<>\"8) ...\"), \"   \"&CONCATENATE('Product SARF'!$M$18,'Product SARF'!$M$19),\"\"))","v":""}]
[{"$f":"IF(C159=\"\",\"\",IF('Product SARF'!B177=\"\",\"\",'Product SARF'!B177))","v":""},{"$f":"IF('Product SARF'!C177=\"\",\"\",\"Sample\")","v":""},{"$f":"IF('Product SARF'!C177=\"\",\"\",'Product SARF'!C177)","v":""},{"$f":"IF(C159=\"\",\"\",IF('Product SARF'!D177=\"\",\"\",'Product SARF'!D177))","v":""},{"$f":"IF(C159=\"\",\"\",IF('Product SARF'!E177=\"\",\"\",'Product SARF'!E177))","v":""},{"$f":"IF(C159=\"\",\"\",IF('Product SARF'!$L$6=\"\",\"\",CONCATENATE('Product SARF'!$L$6,'Product SARF'!$M$6)))","v":""},{"$f":"IF(C159=\"\",\"\",IF('Product SARF'!$L$2=\"\",\"\",'Product SARF'!$L$2))","v":""},{"$f":"IF(C159=\"\",\"\",IF('Product SARF'!$L$4=\"\",NOW(),'Product SARF'!$L$4))","v":""},"",{"$f":"IF(C159=\"\",\"\", IF(AND(NOT(ISBLANK('Product SARF'!F177)),'Product SARF'!$E$8<>\"1) NA\",'Product SARF'!$E$8<>\"1) ...\"), \"   \"&CONCATENATE('Product SARF'!$F$18,'Product SARF'!$F$19),\"\") & IF(AND(NOT(ISBLANK('Product SARF'!G177)),'Product SARF'!$E$9<>\"2) NA\",'Product SARF'!$E$9<>\"2) ...\"), \"   \"&CONCATENATE('Product SARF'!$G$18,'Product SARF'!$G$19),\"\")& IF(AND(NOT(ISBLANK('Product SARF'!H177)),'Product SARF'!$E$10<>\"3) NA\",'Product SARF'!$E$10<>\"3) ...\"), \"   \"&CONCATENATE('Product SARF'!$H$18,'Product SARF'!$H$19),\"\") & IF(AND(NOT(ISBLANK('Product SARF'!I177)),'Product SARF'!$E$11<>\"4) NA\",'Product SARF'!$E$11<>\"4) ...\"), \"   \"&CONCATENATE('Product SARF'!$I$18,'Product SARF'!$I$19),\"\")& IF(AND(NOT(ISBLANK('Product SARF'!J177)),'Product SARF'!$E$12<>\"5) NA\",'Product SARF'!$E$12<>\"5) ...\"), \"   \"&CONCATENATE('Product SARF'!$J$18,'Product SARF'!$J$19),\"\")&IF(AND(NOT(ISBLANK('Product SARF'!K177)),'Product SARF'!$E$13<>\"6) NA\",'Product SARF'!$E$13<>\"6) ...\"), \"   \"&CONCATENATE('Product SARF'!$K$18,'Product SARF'!$K$19),\"\")&IF(AND(NOT(ISBLANK('Product SARF'!L177)),'Product SARF'!$E$14<>\"7) NA\",'Product SARF'!$E$14<>\"7) ...\"), \"   \"&CONCATENATE('Product SARF'!$L$18,'Product SARF'!$L$19),\"\") &IF(AND(NOT(ISBLANK('Product SARF'!M177)),'Product SARF'!$E$15<>\"8) NA\",'Product SARF'!$E$15<>\"8) ...\"), \"   \"&CONCATENATE('Product SARF'!$M$18,'Product SARF'!$M$19),\"\"))","v":""}]
[{"$f":"IF(C160=\"\",\"\",IF('Product SARF'!B178=\"\",\"\",'Product SARF'!B178))","v":""},{"$f":"IF('Product SARF'!C178=\"\",\"\",\"Sample\")","v":""},{"$f":"IF('Product SARF'!C178=\"\",\"\",'Product SARF'!C178)","v":""},{"$f":"IF(C160=\"\",\"\",IF('Product SARF'!D178=\"\",\"\",'Product SARF'!D178))","v":""},{"$f":"IF(C160=\"\",\"\",IF('Product SARF'!E178=\"\",\"\",'Product SARF'!E178))","v":""},{"$f":"IF(C160=\"\",\"\",IF('Product SARF'!$L$6=\"\",\"\",CONCATENATE('Product SARF'!$L$6,'Product SARF'!$M$6)))","v":""},{"$f":"IF(C160=\"\",\"\",IF('Product SARF'!$L$2=\"\",\"\",'Product SARF'!$L$2))","v":""},{"$f":"IF(C160=\"\",\"\",IF('Product SARF'!$L$4=\"\",NOW(),'Product SARF'!$L$4))","v":""},"",{"$f":"IF(C160=\"\",\"\", IF(AND(NOT(ISBLANK('Product SARF'!F178)),'Product SARF'!$E$8<>\"1) NA\",'Product SARF'!$E$8<>\"1) ...\"), \"   \"&CONCATENATE('Product SARF'!$F$18,'Product SARF'!$F$19),\"\") & IF(AND(NOT(ISBLANK('Product SARF'!G178)),'Product SARF'!$E$9<>\"2) NA\",'Product SARF'!$E$9<>\"2) ...\"), \"   \"&CONCATENATE('Product SARF'!$G$18,'Product SARF'!$G$19),\"\")& IF(AND(NOT(ISBLANK('Product SARF'!H178)),'Product SARF'!$E$10<>\"3) NA\",'Product SARF'!$E$10<>\"3) ...\"), \"   \"&CONCATENATE('Product SARF'!$H$18,'Product SARF'!$H$19),\"\") & IF(AND(NOT(ISBLANK('Product SARF'!I178)),'Product SARF'!$E$11<>\"4) NA\",'Product SARF'!$E$11<>\"4) ...\"), \"   \"&CONCATENATE('Product SARF'!$I$18,'Product SARF'!$I$19),\"\")& IF(AND(NOT(ISBLANK('Product SARF'!J178)),'Product SARF'!$E$12<>\"5) NA\",'Product SARF'!$E$12<>\"5) ...\"), \"   \"&CONCATENATE('Product SARF'!$J$18,'Product SARF'!$J$19),\"\")&IF(AND(NOT(ISBLANK('Product SARF'!K178)),'Product SARF'!$E$13<>\"6) NA\",'Product SARF'!$E$13<>\"6) ...\"), \"   \"&CONCATENATE('Product SARF'!$K$18,'Product SARF'!$K$19),\"\")&IF(AND(NOT(ISBLANK('Product SARF'!L178)),'Product SARF'!$E$14<>\"7) NA\",'Product SARF'!$E$14<>\"7) ...\"), \"   \"&CONCATENATE('Product SARF'!$L$18,'Product SARF'!$L$19),\"\") &IF(AND(NOT(ISBLANK('Product SARF'!M178)),'Product SARF'!$E$15<>\"8) NA\",'Product SARF'!$E$15<>\"8) ...\"), \"   \"&CONCATENATE('Product SARF'!$M$18,'Product SARF'!$M$19),\"\"))","v":""}]
[{"$f":"IF(C161=\"\",\"\",IF('Product SARF'!B179=\"\",\"\",'Product SARF'!B179))","v":""},{"$f":"IF('Product SARF'!C179=\"\",\"\",\"Sample\")","v":""},{"$f":"IF('Product SARF'!C179=\"\",\"\",'Product SARF'!C179)","v":""},{"$f":"IF(C161=\"\",\"\",IF('Product SARF'!D179=\"\",\"\",'Product SARF'!D179))","v":""},{"$f":"IF(C161=\"\",\"\",IF('Product SARF'!E179=\"\",\"\",'Product SARF'!E179))","v":""},{"$f":"IF(C161=\"\",\"\",IF('Product SARF'!$L$6=\"\",\"\",CONCATENATE('Product SARF'!$L$6,'Product SARF'!$M$6)))","v":""},{"$f":"IF(C161=\"\",\"\",IF('Product SARF'!$L$2=\"\",\"\",'Product SARF'!$L$2))","v":""},{"$f":"IF(C161=\"\",\"\",IF('Product SARF'!$L$4=\"\",NOW(),'Product SARF'!$L$4))","v":""},"",{"$f":"IF(C161=\"\",\"\", IF(AND(NOT(ISBLANK('Product SARF'!F179)),'Product SARF'!$E$8<>\"1) NA\",'Product SARF'!$E$8<>\"1) ...\"), \"   \"&CONCATENATE('Product SARF'!$F$18,'Product SARF'!$F$19),\"\") & IF(AND(NOT(ISBLANK('Product SARF'!G179)),'Product SARF'!$E$9<>\"2) NA\",'Product SARF'!$E$9<>\"2) ...\"), \"   \"&CONCATENATE('Product SARF'!$G$18,'Product SARF'!$G$19),\"\")& IF(AND(NOT(ISBLANK('Product SARF'!H179)),'Product SARF'!$E$10<>\"3) NA\",'Product SARF'!$E$10<>\"3) ...\"), \"   \"&CONCATENATE('Product SARF'!$H$18,'Product SARF'!$H$19),\"\") & IF(AND(NOT(ISBLANK('Product SARF'!I179)),'Product SARF'!$E$11<>\"4) NA\",'Product SARF'!$E$11<>\"4) ...\"), \"   \"&CONCATENATE('Product SARF'!$I$18,'Product SARF'!$I$19),\"\")& IF(AND(NOT(ISBLANK('Product SARF'!J179)),'Product SARF'!$E$12<>\"5) NA\",'Product SARF'!$E$12<>\"5) ...\"), \"   \"&CONCATENATE('Product SARF'!$J$18,'Product SARF'!$J$19),\"\")&IF(AND(NOT(ISBLANK('Product SARF'!K179)),'Product SARF'!$E$13<>\"6) NA\",'Product SARF'!$E$13<>\"6) ...\"), \"   \"&CONCATENATE('Product SARF'!$K$18,'Product SARF'!$K$19),\"\")&IF(AND(NOT(ISBLANK('Product SARF'!L179)),'Product SARF'!$E$14<>\"7) NA\",'Product SARF'!$E$14<>\"7) ...\"), \"   \"&CONCATENATE('Product SARF'!$L$18,'Product SARF'!$L$19),\"\") &IF(AND(NOT(ISBLANK('Product SARF'!M179)),'Product SARF'!$E$15<>\"8) NA\",'Product SARF'!$E$15<>\"8) ...\"), \"   \"&CONCATENATE('Product SARF'!$M$18,'Product SARF'!$M$19),\"\"))","v":""}]
[{"$f":"IF(C162=\"\",\"\",IF('Product SARF'!B180=\"\",\"\",'Product SARF'!B180))","v":""},{"$f":"IF('Product SARF'!C180=\"\",\"\",\"Sample\")","v":""},{"$f":"IF('Product SARF'!C180=\"\",\"\",'Product SARF'!C180)","v":""},{"$f":"IF(C162=\"\",\"\",IF('Product SARF'!D180=\"\",\"\",'Product SARF'!D180))","v":""},{"$f":"IF(C162=\"\",\"\",IF('Product SARF'!E180=\"\",\"\",'Product SARF'!E180))","v":""},{"$f":"IF(C162=\"\",\"\",IF('Product SARF'!$L$6=\"\",\"\",CONCATENATE('Product SARF'!$L$6,'Product SARF'!$M$6)))","v":""},{"$f":"IF(C162=\"\",\"\",IF('Product SARF'!$L$2=\"\",\"\",'Product SARF'!$L$2))","v":""},{"$f":"IF(C162=\"\",\"\",IF('Product SARF'!$L$4=\"\",NOW(),'Product SARF'!$L$4))","v":""},"",{"$f":"IF(C162=\"\",\"\", IF(AND(NOT(ISBLANK('Product SARF'!F180)),'Product SARF'!$E$8<>\"1) NA\",'Product SARF'!$E$8<>\"1) ...\"), \"   \"&CONCATENATE('Product SARF'!$F$18,'Product SARF'!$F$19),\"\") & IF(AND(NOT(ISBLANK('Product SARF'!G180)),'Product SARF'!$E$9<>\"2) NA\",'Product SARF'!$E$9<>\"2) ...\"), \"   \"&CONCATENATE('Product SARF'!$G$18,'Product SARF'!$G$19),\"\")& IF(AND(NOT(ISBLANK('Product SARF'!H180)),'Product SARF'!$E$10<>\"3) NA\",'Product SARF'!$E$10<>\"3) ...\"), \"   \"&CONCATENATE('Product SARF'!$H$18,'Product SARF'!$H$19),\"\") & IF(AND(NOT(ISBLANK('Product SARF'!I180)),'Product SARF'!$E$11<>\"4) NA\",'Product SARF'!$E$11<>\"4) ...\"), \"   \"&CONCATENATE('Product SARF'!$I$18,'Product SARF'!$I$19),\"\")& IF(AND(NOT(ISBLANK('Product SARF'!J180)),'Product SARF'!$E$12<>\"5) NA\",'Product SARF'!$E$12<>\"5) ...\"), \"   \"&CONCATENATE('Product SARF'!$J$18,'Product SARF'!$J$19),\"\")&IF(AND(NOT(ISBLANK('Product SARF'!K180)),'Product SARF'!$E$13<>\"6) NA\",'Product SARF'!$E$13<>\"6) ...\"), \"   \"&CONCATENATE('Product SARF'!$K$18,'Product SARF'!$K$19),\"\")&IF(AND(NOT(ISBLANK('Product SARF'!L180)),'Product SARF'!$E$14<>\"7) NA\",'Product SARF'!$E$14<>\"7) ...\"), \"   \"&CONCATENATE('Product SARF'!$L$18,'Product SARF'!$L$19),\"\") &IF(AND(NOT(ISBLANK('Product SARF'!M180)),'Product SARF'!$E$15<>\"8) NA\",'Product SARF'!$E$15<>\"8) ...\"), \"   \"&CONCATENATE('Product SARF'!$M$18,'Product SARF'!$M$19),\"\"))","v":""}]
[{"$f":"IF(C163=\"\",\"\",IF('Product SARF'!B181=\"\",\"\",'Product SARF'!B181))","v":""},{"$f":"IF('Product SARF'!C181=\"\",\"\",\"Sample\")","v":""},{"$f":"IF('Product SARF'!C181=\"\",\"\",'Product SARF'!C181)","v":""},{"$f":"IF(C163=\"\",\"\",IF('Product SARF'!D181=\"\",\"\",'Product SARF'!D181))","v":""},{"$f":"IF(C163=\"\",\"\",IF('Product SARF'!E181=\"\",\"\",'Product SARF'!E181))","v":""},{"$f":"IF(C163=\"\",\"\",IF('Product SARF'!$L$6=\"\",\"\",CONCATENATE('Product SARF'!$L$6,'Product SARF'!$M$6)))","v":""},{"$f":"IF(C163=\"\",\"\",IF('Product SARF'!$L$2=\"\",\"\",'Product SARF'!$L$2))","v":""},{"$f":"IF(C163=\"\",\"\",IF('Product SARF'!$L$4=\"\",NOW(),'Product SARF'!$L$4))","v":""},"",{"$f":"IF(C163=\"\",\"\", IF(AND(NOT(ISBLANK('Product SARF'!F181)),'Product SARF'!$E$8<>\"1) NA\",'Product SARF'!$E$8<>\"1) ...\"), \"   \"&CONCATENATE('Product SARF'!$F$18,'Product SARF'!$F$19),\"\") & IF(AND(NOT(ISBLANK('Product SARF'!G181)),'Product SARF'!$E$9<>\"2) NA\",'Product SARF'!$E$9<>\"2) ...\"), \"   \"&CONCATENATE('Product SARF'!$G$18,'Product SARF'!$G$19),\"\")& IF(AND(NOT(ISBLANK('Product SARF'!H181)),'Product SARF'!$E$10<>\"3) NA\",'Product SARF'!$E$10<>\"3) ...\"), \"   \"&CONCATENATE('Product SARF'!$H$18,'Product SARF'!$H$19),\"\") & IF(AND(NOT(ISBLANK('Product SARF'!I181)),'Product SARF'!$E$11<>\"4) NA\",'Product SARF'!$E$11<>\"4) ...\"), \"   \"&CONCATENATE('Product SARF'!$I$18,'Product SARF'!$I$19),\"\")& IF(AND(NOT(ISBLANK('Product SARF'!J181)),'Product SARF'!$E$12<>\"5) NA\",'Product SARF'!$E$12<>\"5) ...\"), \"   \"&CONCATENATE('Product SARF'!$J$18,'Product SARF'!$J$19),\"\")&IF(AND(NOT(ISBLANK('Product SARF'!K181)),'Product SARF'!$E$13<>\"6) NA\",'Product SARF'!$E$13<>\"6) ...\"), \"   \"&CONCATENATE('Product SARF'!$K$18,'Product SARF'!$K$19),\"\")&IF(AND(NOT(ISBLANK('Product SARF'!L181)),'Product SARF'!$E$14<>\"7) NA\",'Product SARF'!$E$14<>\"7) ...\"), \"   \"&CONCATENATE('Product SARF'!$L$18,'Product SARF'!$L$19),\"\") &IF(AND(NOT(ISBLANK('Product SARF'!M181)),'Product SARF'!$E$15<>\"8) NA\",'Product SARF'!$E$15<>\"8) ...\"), \"   \"&CONCATENATE('Product SARF'!$M$18,'Product SARF'!$M$19),\"\"))","v":""}]
[{"$f":"IF(C164=\"\",\"\",IF('Product SARF'!B182=\"\",\"\",'Product SARF'!B182))","v":""},{"$f":"IF('Product SARF'!C182=\"\",\"\",\"Sample\")","v":""},{"$f":"IF('Product SARF'!C182=\"\",\"\",'Product SARF'!C182)","v":""},{"$f":"IF(C164=\"\",\"\",IF('Product SARF'!D182=\"\",\"\",'Product SARF'!D182))","v":""},{"$f":"IF(C164=\"\",\"\",IF('Product SARF'!E182=\"\",\"\",'Product SARF'!E182))","v":""},{"$f":"IF(C164=\"\",\"\",IF('Product SARF'!$L$6=\"\",\"\",CONCATENATE('Product SARF'!$L$6,'Product SARF'!$M$6)))","v":""},{"$f":"IF(C164=\"\",\"\",IF('Product SARF'!$L$2=\"\",\"\",'Product SARF'!$L$2))","v":""},{"$f":"IF(C164=\"\",\"\",IF('Product SARF'!$L$4=\"\",NOW(),'Product SARF'!$L$4))","v":""},"",{"$f":"IF(C164=\"\",\"\", IF(AND(NOT(ISBLANK('Product SARF'!F182)),'Product SARF'!$E$8<>\"1) NA\",'Product SARF'!$E$8<>\"1) ...\"), \"   \"&CONCATENATE('Product SARF'!$F$18,'Product SARF'!$F$19),\"\") & IF(AND(NOT(ISBLANK('Product SARF'!G182)),'Product SARF'!$E$9<>\"2) NA\",'Product SARF'!$E$9<>\"2) ...\"), \"   \"&CONCATENATE('Product SARF'!$G$18,'Product SARF'!$G$19),\"\")& IF(AND(NOT(ISBLANK('Product SARF'!H182)),'Product SARF'!$E$10<>\"3) NA\",'Product SARF'!$E$10<>\"3) ...\"), \"   \"&CONCATENATE('Product SARF'!$H$18,'Product SARF'!$H$19),\"\") & IF(AND(NOT(ISBLANK('Product SARF'!I182)),'Product SARF'!$E$11<>\"4) NA\",'Product SARF'!$E$11<>\"4) ...\"), \"   \"&CONCATENATE('Product SARF'!$I$18,'Product SARF'!$I$19),\"\")& IF(AND(NOT(ISBLANK('Product SARF'!J182)),'Product SARF'!$E$12<>\"5) NA\",'Product SARF'!$E$12<>\"5) ...\"), \"   \"&CONCATENATE('Product SARF'!$J$18,'Product SARF'!$J$19),\"\")&IF(AND(NOT(ISBLANK('Product SARF'!K182)),'Product SARF'!$E$13<>\"6) NA\",'Product SARF'!$E$13<>\"6) ...\"), \"   \"&CONCATENATE('Product SARF'!$K$18,'Product SARF'!$K$19),\"\")&IF(AND(NOT(ISBLANK('Product SARF'!L182)),'Product SARF'!$E$14<>\"7) NA\",'Product SARF'!$E$14<>\"7) ...\"), \"   \"&CONCATENATE('Product SARF'!$L$18,'Product SARF'!$L$19),\"\") &IF(AND(NOT(ISBLANK('Product SARF'!M182)),'Product SARF'!$E$15<>\"8) NA\",'Product SARF'!$E$15<>\"8) ...\"), \"   \"&CONCATENATE('Product SARF'!$M$18,'Product SARF'!$M$19),\"\"))","v":""}]
[{"$f":"IF(C165=\"\",\"\",IF('Product SARF'!B183=\"\",\"\",'Product SARF'!B183))","v":""},{"$f":"IF('Product SARF'!C183=\"\",\"\",\"Sample\")","v":""},{"$f":"IF('Product SARF'!C183=\"\",\"\",'Product SARF'!C183)","v":""},{"$f":"IF(C165=\"\",\"\",IF('Product SARF'!D183=\"\",\"\",'Product SARF'!D183))","v":""},{"$f":"IF(C165=\"\",\"\",IF('Product SARF'!E183=\"\",\"\",'Product SARF'!E183))","v":""},{"$f":"IF(C165=\"\",\"\",IF('Product SARF'!$L$6=\"\",\"\",CONCATENATE('Product SARF'!$L$6,'Product SARF'!$M$6)))","v":""},{"$f":"IF(C165=\"\",\"\",IF('Product SARF'!$L$2=\"\",\"\",'Product SARF'!$L$2))","v":""},{"$f":"IF(C165=\"\",\"\",IF('Product SARF'!$L$4=\"\",NOW(),'Product SARF'!$L$4))","v":""},"",{"$f":"IF(C165=\"\",\"\", IF(AND(NOT(ISBLANK('Product SARF'!F183)),'Product SARF'!$E$8<>\"1) NA\",'Product SARF'!$E$8<>\"1) ...\"), \"   \"&CONCATENATE('Product SARF'!$F$18,'Product SARF'!$F$19),\"\") & IF(AND(NOT(ISBLANK('Product SARF'!G183)),'Product SARF'!$E$9<>\"2) NA\",'Product SARF'!$E$9<>\"2) ...\"), \"   \"&CONCATENATE('Product SARF'!$G$18,'Product SARF'!$G$19),\"\")& IF(AND(NOT(ISBLANK('Product SARF'!H183)),'Product SARF'!$E$10<>\"3) NA\",'Product SARF'!$E$10<>\"3) ...\"), \"   \"&CONCATENATE('Product SARF'!$H$18,'Product SARF'!$H$19),\"\") & IF(AND(NOT(ISBLANK('Product SARF'!I183)),'Product SARF'!$E$11<>\"4) NA\",'Product SARF'!$E$11<>\"4) ...\"), \"   \"&CONCATENATE('Product SARF'!$I$18,'Product SARF'!$I$19),\"\")& IF(AND(NOT(ISBLANK('Product SARF'!J183)),'Product SARF'!$E$12<>\"5) NA\",'Product SARF'!$E$12<>\"5) ...\"), \"   \"&CONCATENATE('Product SARF'!$J$18,'Product SARF'!$J$19),\"\")&IF(AND(NOT(ISBLANK('Product SARF'!K183)),'Product SARF'!$E$13<>\"6) NA\",'Product SARF'!$E$13<>\"6) ...\"), \"   \"&CONCATENATE('Product SARF'!$K$18,'Product SARF'!$K$19),\"\")&IF(AND(NOT(ISBLANK('Product SARF'!L183)),'Product SARF'!$E$14<>\"7) NA\",'Product SARF'!$E$14<>\"7) ...\"), \"   \"&CONCATENATE('Product SARF'!$L$18,'Product SARF'!$L$19),\"\") &IF(AND(NOT(ISBLANK('Product SARF'!M183)),'Product SARF'!$E$15<>\"8) NA\",'Product SARF'!$E$15<>\"8) ...\"), \"   \"&CONCATENATE('Product SARF'!$M$18,'Product SARF'!$M$19),\"\"))","v":""}]
[{"$f":"IF(C166=\"\",\"\",IF('Product SARF'!B184=\"\",\"\",'Product SARF'!B184))","v":""},{"$f":"IF('Product SARF'!C184=\"\",\"\",\"Sample\")","v":""},{"$f":"IF('Product SARF'!C184=\"\",\"\",'Product SARF'!C184)","v":""},{"$f":"IF(C166=\"\",\"\",IF('Product SARF'!D184=\"\",\"\",'Product SARF'!D184))","v":""},{"$f":"IF(C166=\"\",\"\",IF('Product SARF'!E184=\"\",\"\",'Product SARF'!E184))","v":""},{"$f":"IF(C166=\"\",\"\",IF('Product SARF'!$L$6=\"\",\"\",CONCATENATE('Product SARF'!$L$6,'Product SARF'!$M$6)))","v":""},{"$f":"IF(C166=\"\",\"\",IF('Product SARF'!$L$2=\"\",\"\",'Product SARF'!$L$2))","v":""},{"$f":"IF(C166=\"\",\"\",IF('Product SARF'!$L$4=\"\",NOW(),'Product SARF'!$L$4))","v":""},"",{"$f":"IF(C166=\"\",\"\", IF(AND(NOT(ISBLANK('Product SARF'!F184)),'Product SARF'!$E$8<>\"1) NA\",'Product SARF'!$E$8<>\"1) ...\"), \"   \"&CONCATENATE('Product SARF'!$F$18,'Product SARF'!$F$19),\"\") & IF(AND(NOT(ISBLANK('Product SARF'!G184)),'Product SARF'!$E$9<>\"2) NA\",'Product SARF'!$E$9<>\"2) ...\"), \"   \"&CONCATENATE('Product SARF'!$G$18,'Product SARF'!$G$19),\"\")& IF(AND(NOT(ISBLANK('Product SARF'!H184)),'Product SARF'!$E$10<>\"3) NA\",'Product SARF'!$E$10<>\"3) ...\"), \"   \"&CONCATENATE('Product SARF'!$H$18,'Product SARF'!$H$19),\"\") & IF(AND(NOT(ISBLANK('Product SARF'!I184)),'Product SARF'!$E$11<>\"4) NA\",'Product SARF'!$E$11<>\"4) ...\"), \"   \"&CONCATENATE('Product SARF'!$I$18,'Product SARF'!$I$19),\"\")& IF(AND(NOT(ISBLANK('Product SARF'!J184)),'Product SARF'!$E$12<>\"5) NA\",'Product SARF'!$E$12<>\"5) ...\"), \"   \"&CONCATENATE('Product SARF'!$J$18,'Product SARF'!$J$19),\"\")&IF(AND(NOT(ISBLANK('Product SARF'!K184)),'Product SARF'!$E$13<>\"6) NA\",'Product SARF'!$E$13<>\"6) ...\"), \"   \"&CONCATENATE('Product SARF'!$K$18,'Product SARF'!$K$19),\"\")&IF(AND(NOT(ISBLANK('Product SARF'!L184)),'Product SARF'!$E$14<>\"7) NA\",'Product SARF'!$E$14<>\"7) ...\"), \"   \"&CONCATENATE('Product SARF'!$L$18,'Product SARF'!$L$19),\"\") &IF(AND(NOT(ISBLANK('Product SARF'!M184)),'Product SARF'!$E$15<>\"8) NA\",'Product SARF'!$E$15<>\"8) ...\"), \"   \"&CONCATENATE('Product SARF'!$M$18,'Product SARF'!$M$19),\"\"))","v":""}]
[{"$f":"IF(C167=\"\",\"\",IF('Product SARF'!B185=\"\",\"\",'Product SARF'!B185))","v":""},{"$f":"IF('Product SARF'!C185=\"\",\"\",\"Sample\")","v":""},{"$f":"IF('Product SARF'!C185=\"\",\"\",'Product SARF'!C185)","v":""},{"$f":"IF(C167=\"\",\"\",IF('Product SARF'!D185=\"\",\"\",'Product SARF'!D185))","v":""},{"$f":"IF(C167=\"\",\"\",IF('Product SARF'!E185=\"\",\"\",'Product SARF'!E185))","v":""},{"$f":"IF(C167=\"\",\"\",IF('Product SARF'!$L$6=\"\",\"\",CONCATENATE('Product SARF'!$L$6,'Product SARF'!$M$6)))","v":""},{"$f":"IF(C167=\"\",\"\",IF('Product SARF'!$L$2=\"\",\"\",'Product SARF'!$L$2))","v":""},{"$f":"IF(C167=\"\",\"\",IF('Product SARF'!$L$4=\"\",NOW(),'Product SARF'!$L$4))","v":""},"",{"$f":"IF(C167=\"\",\"\", IF(AND(NOT(ISBLANK('Product SARF'!F185)),'Product SARF'!$E$8<>\"1) NA\",'Product SARF'!$E$8<>\"1) ...\"), \"   \"&CONCATENATE('Product SARF'!$F$18,'Product SARF'!$F$19),\"\") & IF(AND(NOT(ISBLANK('Product SARF'!G185)),'Product SARF'!$E$9<>\"2) NA\",'Product SARF'!$E$9<>\"2) ...\"), \"   \"&CONCATENATE('Product SARF'!$G$18,'Product SARF'!$G$19),\"\")& IF(AND(NOT(ISBLANK('Product SARF'!H185)),'Product SARF'!$E$10<>\"3) NA\",'Product SARF'!$E$10<>\"3) ...\"), \"   \"&CONCATENATE('Product SARF'!$H$18,'Product SARF'!$H$19),\"\") & IF(AND(NOT(ISBLANK('Product SARF'!I185)),'Product SARF'!$E$11<>\"4) NA\",'Product SARF'!$E$11<>\"4) ...\"), \"   \"&CONCATENATE('Product SARF'!$I$18,'Product SARF'!$I$19),\"\")& IF(AND(NOT(ISBLANK('Product SARF'!J185)),'Product SARF'!$E$12<>\"5) NA\",'Product SARF'!$E$12<>\"5) ...\"), \"   \"&CONCATENATE('Product SARF'!$J$18,'Product SARF'!$J$19),\"\")&IF(AND(NOT(ISBLANK('Product SARF'!K185)),'Product SARF'!$E$13<>\"6) NA\",'Product SARF'!$E$13<>\"6) ...\"), \"   \"&CONCATENATE('Product SARF'!$K$18,'Product SARF'!$K$19),\"\")&IF(AND(NOT(ISBLANK('Product SARF'!L185)),'Product SARF'!$E$14<>\"7) NA\",'Product SARF'!$E$14<>\"7) ...\"), \"   \"&CONCATENATE('Product SARF'!$L$18,'Product SARF'!$L$19),\"\") &IF(AND(NOT(ISBLANK('Product SARF'!M185)),'Product SARF'!$E$15<>\"8) NA\",'Product SARF'!$E$15<>\"8) ...\"), \"   \"&CONCATENATE('Product SARF'!$M$18,'Product SARF'!$M$19),\"\"))","v":""}]
[{"$f":"IF(C168=\"\",\"\",IF('Product SARF'!B186=\"\",\"\",'Product SARF'!B186))","v":""},{"$f":"IF('Product SARF'!C186=\"\",\"\",\"Sample\")","v":""},{"$f":"IF('Product SARF'!C186=\"\",\"\",'Product SARF'!C186)","v":""},{"$f":"IF(C168=\"\",\"\",IF('Product SARF'!D186=\"\",\"\",'Product SARF'!D186))","v":""},{"$f":"IF(C168=\"\",\"\",IF('Product SARF'!E186=\"\",\"\",'Product SARF'!E186))","v":""},{"$f":"IF(C168=\"\",\"\",IF('Product SARF'!$L$6=\"\",\"\",CONCATENATE('Product SARF'!$L$6,'Product SARF'!$M$6)))","v":""},{"$f":"IF(C168=\"\",\"\",IF('Product SARF'!$L$2=\"\",\"\",'Product SARF'!$L$2))","v":""},{"$f":"IF(C168=\"\",\"\",IF('Product SARF'!$L$4=\"\",NOW(),'Product SARF'!$L$4))","v":""},"",{"$f":"IF(C168=\"\",\"\", IF(AND(NOT(ISBLANK('Product SARF'!F186)),'Product SARF'!$E$8<>\"1) NA\",'Product SARF'!$E$8<>\"1) ...\"), \"   \"&CONCATENATE('Product SARF'!$F$18,'Product SARF'!$F$19),\"\") & IF(AND(NOT(ISBLANK('Product SARF'!G186)),'Product SARF'!$E$9<>\"2) NA\",'Product SARF'!$E$9<>\"2) ...\"), \"   \"&CONCATENATE('Product SARF'!$G$18,'Product SARF'!$G$19),\"\")& IF(AND(NOT(ISBLANK('Product SARF'!H186)),'Product SARF'!$E$10<>\"3) NA\",'Product SARF'!$E$10<>\"3) ...\"), \"   \"&CONCATENATE('Product SARF'!$H$18,'Product SARF'!$H$19),\"\") & IF(AND(NOT(ISBLANK('Product SARF'!I186)),'Product SARF'!$E$11<>\"4) NA\",'Product SARF'!$E$11<>\"4) ...\"), \"   \"&CONCATENATE('Product SARF'!$I$18,'Product SARF'!$I$19),\"\")& IF(AND(NOT(ISBLANK('Product SARF'!J186)),'Product SARF'!$E$12<>\"5) NA\",'Product SARF'!$E$12<>\"5) ...\"), \"   \"&CONCATENATE('Product SARF'!$J$18,'Product SARF'!$J$19),\"\")&IF(AND(NOT(ISBLANK('Product SARF'!K186)),'Product SARF'!$E$13<>\"6) NA\",'Product SARF'!$E$13<>\"6) ...\"), \"   \"&CONCATENATE('Product SARF'!$K$18,'Product SARF'!$K$19),\"\")&IF(AND(NOT(ISBLANK('Product SARF'!L186)),'Product SARF'!$E$14<>\"7) NA\",'Product SARF'!$E$14<>\"7) ...\"), \"   \"&CONCATENATE('Product SARF'!$L$18,'Product SARF'!$L$19),\"\") &IF(AND(NOT(ISBLANK('Product SARF'!M186)),'Product SARF'!$E$15<>\"8) NA\",'Product SARF'!$E$15<>\"8) ...\"), \"   \"&CONCATENATE('Product SARF'!$M$18,'Product SARF'!$M$19),\"\"))","v":""}]
[{"$f":"IF(C169=\"\",\"\",IF('Product SARF'!B187=\"\",\"\",'Product SARF'!B187))","v":""},{"$f":"IF('Product SARF'!C187=\"\",\"\",\"Sample\")","v":""},{"$f":"IF('Product SARF'!C187=\"\",\"\",'Product SARF'!C187)","v":""},{"$f":"IF(C169=\"\",\"\",IF('Product SARF'!D187=\"\",\"\",'Product SARF'!D187))","v":""},{"$f":"IF(C169=\"\",\"\",IF('Product SARF'!E187=\"\",\"\",'Product SARF'!E187))","v":""},{"$f":"IF(C169=\"\",\"\",IF('Product SARF'!$L$6=\"\",\"\",CONCATENATE('Product SARF'!$L$6,'Product SARF'!$M$6)))","v":""},{"$f":"IF(C169=\"\",\"\",IF('Product SARF'!$L$2=\"\",\"\",'Product SARF'!$L$2))","v":""},{"$f":"IF(C169=\"\",\"\",IF('Product SARF'!$L$4=\"\",NOW(),'Product SARF'!$L$4))","v":""},"",{"$f":"IF(C169=\"\",\"\", IF(AND(NOT(ISBLANK('Product SARF'!F187)),'Product SARF'!$E$8<>\"1) NA\",'Product SARF'!$E$8<>\"1) ...\"), \"   \"&CONCATENATE('Product SARF'!$F$18,'Product SARF'!$F$19),\"\") & IF(AND(NOT(ISBLANK('Product SARF'!G187)),'Product SARF'!$E$9<>\"2) NA\",'Product SARF'!$E$9<>\"2) ...\"), \"   \"&CONCATENATE('Product SARF'!$G$18,'Product SARF'!$G$19),\"\")& IF(AND(NOT(ISBLANK('Product SARF'!H187)),'Product SARF'!$E$10<>\"3) NA\",'Product SARF'!$E$10<>\"3) ...\"), \"   \"&CONCATENATE('Product SARF'!$H$18,'Product SARF'!$H$19),\"\") & IF(AND(NOT(ISBLANK('Product SARF'!I187)),'Product SARF'!$E$11<>\"4) NA\",'Product SARF'!$E$11<>\"4) ...\"), \"   \"&CONCATENATE('Product SARF'!$I$18,'Product SARF'!$I$19),\"\")& IF(AND(NOT(ISBLANK('Product SARF'!J187)),'Product SARF'!$E$12<>\"5) NA\",'Product SARF'!$E$12<>\"5) ...\"), \"   \"&CONCATENATE('Product SARF'!$J$18,'Product SARF'!$J$19),\"\")&IF(AND(NOT(ISBLANK('Product SARF'!K187)),'Product SARF'!$E$13<>\"6) NA\",'Product SARF'!$E$13<>\"6) ...\"), \"   \"&CONCATENATE('Product SARF'!$K$18,'Product SARF'!$K$19),\"\")&IF(AND(NOT(ISBLANK('Product SARF'!L187)),'Product SARF'!$E$14<>\"7) NA\",'Product SARF'!$E$14<>\"7) ...\"), \"   \"&CONCATENATE('Product SARF'!$L$18,'Product SARF'!$L$19),\"\") &IF(AND(NOT(ISBLANK('Product SARF'!M187)),'Product SARF'!$E$15<>\"8) NA\",'Product SARF'!$E$15<>\"8) ...\"), \"   \"&CONCATENATE('Product SARF'!$M$18,'Product SARF'!$M$19),\"\"))","v":""}]
[{"$f":"IF(C170=\"\",\"\",IF('Product SARF'!B188=\"\",\"\",'Product SARF'!B188))","v":""},{"$f":"IF('Product SARF'!C188=\"\",\"\",\"Sample\")","v":""},{"$f":"IF('Product SARF'!C188=\"\",\"\",'Product SARF'!C188)","v":""},{"$f":"IF(C170=\"\",\"\",IF('Product SARF'!D188=\"\",\"\",'Product SARF'!D188))","v":""},{"$f":"IF(C170=\"\",\"\",IF('Product SARF'!E188=\"\",\"\",'Product SARF'!E188))","v":""},{"$f":"IF(C170=\"\",\"\",IF('Product SARF'!$L$6=\"\",\"\",CONCATENATE('Product SARF'!$L$6,'Product SARF'!$M$6)))","v":""},{"$f":"IF(C170=\"\",\"\",IF('Product SARF'!$L$2=\"\",\"\",'Product SARF'!$L$2))","v":""},{"$f":"IF(C170=\"\",\"\",IF('Product SARF'!$L$4=\"\",NOW(),'Product SARF'!$L$4))","v":""},"",{"$f":"IF(C170=\"\",\"\", IF(AND(NOT(ISBLANK('Product SARF'!F188)),'Product SARF'!$E$8<>\"1) NA\",'Product SARF'!$E$8<>\"1) ...\"), \"   \"&CONCATENATE('Product SARF'!$F$18,'Product SARF'!$F$19),\"\") & IF(AND(NOT(ISBLANK('Product SARF'!G188)),'Product SARF'!$E$9<>\"2) NA\",'Product SARF'!$E$9<>\"2) ...\"), \"   \"&CONCATENATE('Product SARF'!$G$18,'Product SARF'!$G$19),\"\")& IF(AND(NOT(ISBLANK('Product SARF'!H188)),'Product SARF'!$E$10<>\"3) NA\",'Product SARF'!$E$10<>\"3) ...\"), \"   \"&CONCATENATE('Product SARF'!$H$18,'Product SARF'!$H$19),\"\") & IF(AND(NOT(ISBLANK('Product SARF'!I188)),'Product SARF'!$E$11<>\"4) NA\",'Product SARF'!$E$11<>\"4) ...\"), \"   \"&CONCATENATE('Product SARF'!$I$18,'Product SARF'!$I$19),\"\")& IF(AND(NOT(ISBLANK('Product SARF'!J188)),'Product SARF'!$E$12<>\"5) NA\",'Product SARF'!$E$12<>\"5) ...\"), \"   \"&CONCATENATE('Product SARF'!$J$18,'Product SARF'!$J$19),\"\")&IF(AND(NOT(ISBLANK('Product SARF'!K188)),'Product SARF'!$E$13<>\"6) NA\",'Product SARF'!$E$13<>\"6) ...\"), \"   \"&CONCATENATE('Product SARF'!$K$18,'Product SARF'!$K$19),\"\")&IF(AND(NOT(ISBLANK('Product SARF'!L188)),'Product SARF'!$E$14<>\"7) NA\",'Product SARF'!$E$14<>\"7) ...\"), \"   \"&CONCATENATE('Product SARF'!$L$18,'Product SARF'!$L$19),\"\") &IF(AND(NOT(ISBLANK('Product SARF'!M188)),'Product SARF'!$E$15<>\"8) NA\",'Product SARF'!$E$15<>\"8) ...\"), \"   \"&CONCATENATE('Product SARF'!$M$18,'Product SARF'!$M$19),\"\"))","v":""}]
[{"$f":"IF(C171=\"\",\"\",IF('Product SARF'!B189=\"\",\"\",'Product SARF'!B189))","v":""},{"$f":"IF('Product SARF'!C189=\"\",\"\",\"Sample\")","v":""},{"$f":"IF('Product SARF'!C189=\"\",\"\",'Product SARF'!C189)","v":""},{"$f":"IF(C171=\"\",\"\",IF('Product SARF'!D189=\"\",\"\",'Product SARF'!D189))","v":""},{"$f":"IF(C171=\"\",\"\",IF('Product SARF'!E189=\"\",\"\",'Product SARF'!E189))","v":""},{"$f":"IF(C171=\"\",\"\",IF('Product SARF'!$L$6=\"\",\"\",CONCATENATE('Product SARF'!$L$6,'Product SARF'!$M$6)))","v":""},{"$f":"IF(C171=\"\",\"\",IF('Product SARF'!$L$2=\"\",\"\",'Product SARF'!$L$2))","v":""},{"$f":"IF(C171=\"\",\"\",IF('Product SARF'!$L$4=\"\",NOW(),'Product SARF'!$L$4))","v":""},"",{"$f":"IF(C171=\"\",\"\", IF(AND(NOT(ISBLANK('Product SARF'!F189)),'Product SARF'!$E$8<>\"1) NA\",'Product SARF'!$E$8<>\"1) ...\"), \"   \"&CONCATENATE('Product SARF'!$F$18,'Product SARF'!$F$19),\"\") & IF(AND(NOT(ISBLANK('Product SARF'!G189)),'Product SARF'!$E$9<>\"2) NA\",'Product SARF'!$E$9<>\"2) ...\"), \"   \"&CONCATENATE('Product SARF'!$G$18,'Product SARF'!$G$19),\"\")& IF(AND(NOT(ISBLANK('Product SARF'!H189)),'Product SARF'!$E$10<>\"3) NA\",'Product SARF'!$E$10<>\"3) ...\"), \"   \"&CONCATENATE('Product SARF'!$H$18,'Product SARF'!$H$19),\"\") & IF(AND(NOT(ISBLANK('Product SARF'!I189)),'Product SARF'!$E$11<>\"4) NA\",'Product SARF'!$E$11<>\"4) ...\"), \"   \"&CONCATENATE('Product SARF'!$I$18,'Product SARF'!$I$19),\"\")& IF(AND(NOT(ISBLANK('Product SARF'!J189)),'Product SARF'!$E$12<>\"5) NA\",'Product SARF'!$E$12<>\"5) ...\"), \"   \"&CONCATENATE('Product SARF'!$J$18,'Product SARF'!$J$19),\"\")&IF(AND(NOT(ISBLANK('Product SARF'!K189)),'Product SARF'!$E$13<>\"6) NA\",'Product SARF'!$E$13<>\"6) ...\"), \"   \"&CONCATENATE('Product SARF'!$K$18,'Product SARF'!$K$19),\"\")&IF(AND(NOT(ISBLANK('Product SARF'!L189)),'Product SARF'!$E$14<>\"7) NA\",'Product SARF'!$E$14<>\"7) ...\"), \"   \"&CONCATENATE('Product SARF'!$L$18,'Product SARF'!$L$19),\"\") &IF(AND(NOT(ISBLANK('Product SARF'!M189)),'Product SARF'!$E$15<>\"8) NA\",'Product SARF'!$E$15<>\"8) ...\"), \"   \"&CONCATENATE('Product SARF'!$M$18,'Product SARF'!$M$19),\"\"))","v":""}]
[{"$f":"IF(C172=\"\",\"\",IF('Product SARF'!B190=\"\",\"\",'Product SARF'!B190))","v":""},{"$f":"IF('Product SARF'!C190=\"\",\"\",\"Sample\")","v":""},{"$f":"IF('Product SARF'!C190=\"\",\"\",'Product SARF'!C190)","v":""},{"$f":"IF(C172=\"\",\"\",IF('Product SARF'!D190=\"\",\"\",'Product SARF'!D190))","v":""},{"$f":"IF(C172=\"\",\"\",IF('Product SARF'!E190=\"\",\"\",'Product SARF'!E190))","v":""},{"$f":"IF(C172=\"\",\"\",IF('Product SARF'!$L$6=\"\",\"\",CONCATENATE('Product SARF'!$L$6,'Product SARF'!$M$6)))","v":""},{"$f":"IF(C172=\"\",\"\",IF('Product SARF'!$L$2=\"\",\"\",'Product SARF'!$L$2))","v":""},{"$f":"IF(C172=\"\",\"\",IF('Product SARF'!$L$4=\"\",NOW(),'Product SARF'!$L$4))","v":""},"",{"$f":"IF(C172=\"\",\"\", IF(AND(NOT(ISBLANK('Product SARF'!F190)),'Product SARF'!$E$8<>\"1) NA\",'Product SARF'!$E$8<>\"1) ...\"), \"   \"&CONCATENATE('Product SARF'!$F$18,'Product SARF'!$F$19),\"\") & IF(AND(NOT(ISBLANK('Product SARF'!G190)),'Product SARF'!$E$9<>\"2) NA\",'Product SARF'!$E$9<>\"2) ...\"), \"   \"&CONCATENATE('Product SARF'!$G$18,'Product SARF'!$G$19),\"\")& IF(AND(NOT(ISBLANK('Product SARF'!H190)),'Product SARF'!$E$10<>\"3) NA\",'Product SARF'!$E$10<>\"3) ...\"), \"   \"&CONCATENATE('Product SARF'!$H$18,'Product SARF'!$H$19),\"\") & IF(AND(NOT(ISBLANK('Product SARF'!I190)),'Product SARF'!$E$11<>\"4) NA\",'Product SARF'!$E$11<>\"4) ...\"), \"   \"&CONCATENATE('Product SARF'!$I$18,'Product SARF'!$I$19),\"\")& IF(AND(NOT(ISBLANK('Product SARF'!J190)),'Product SARF'!$E$12<>\"5) NA\",'Product SARF'!$E$12<>\"5) ...\"), \"   \"&CONCATENATE('Product SARF'!$J$18,'Product SARF'!$J$19),\"\")&IF(AND(NOT(ISBLANK('Product SARF'!K190)),'Product SARF'!$E$13<>\"6) NA\",'Product SARF'!$E$13<>\"6) ...\"), \"   \"&CONCATENATE('Product SARF'!$K$18,'Product SARF'!$K$19),\"\")&IF(AND(NOT(ISBLANK('Product SARF'!L190)),'Product SARF'!$E$14<>\"7) NA\",'Product SARF'!$E$14<>\"7) ...\"), \"   \"&CONCATENATE('Product SARF'!$L$18,'Product SARF'!$L$19),\"\") &IF(AND(NOT(ISBLANK('Product SARF'!M190)),'Product SARF'!$E$15<>\"8) NA\",'Product SARF'!$E$15<>\"8) ...\"), \"   \"&CONCATENATE('Product SARF'!$M$18,'Product SARF'!$M$19),\"\"))","v":""}]
[{"$f":"IF(C173=\"\",\"\",IF('Product SARF'!B191=\"\",\"\",'Product SARF'!B191))","v":""},{"$f":"IF('Product SARF'!C191=\"\",\"\",\"Sample\")","v":""},{"$f":"IF('Product SARF'!C191=\"\",\"\",'Product SARF'!C191)","v":""},{"$f":"IF(C173=\"\",\"\",IF('Product SARF'!D191=\"\",\"\",'Product SARF'!D191))","v":""},{"$f":"IF(C173=\"\",\"\",IF('Product SARF'!E191=\"\",\"\",'Product SARF'!E191))","v":""},{"$f":"IF(C173=\"\",\"\",IF('Product SARF'!$L$6=\"\",\"\",CONCATENATE('Product SARF'!$L$6,'Product SARF'!$M$6)))","v":""},{"$f":"IF(C173=\"\",\"\",IF('Product SARF'!$L$2=\"\",\"\",'Product SARF'!$L$2))","v":""},{"$f":"IF(C173=\"\",\"\",IF('Product SARF'!$L$4=\"\",NOW(),'Product SARF'!$L$4))","v":""},"",{"$f":"IF(C173=\"\",\"\", IF(AND(NOT(ISBLANK('Product SARF'!F191)),'Product SARF'!$E$8<>\"1) NA\",'Product SARF'!$E$8<>\"1) ...\"), \"   \"&CONCATENATE('Product SARF'!$F$18,'Product SARF'!$F$19),\"\") & IF(AND(NOT(ISBLANK('Product SARF'!G191)),'Product SARF'!$E$9<>\"2) NA\",'Product SARF'!$E$9<>\"2) ...\"), \"   \"&CONCATENATE('Product SARF'!$G$18,'Product SARF'!$G$19),\"\")& IF(AND(NOT(ISBLANK('Product SARF'!H191)),'Product SARF'!$E$10<>\"3) NA\",'Product SARF'!$E$10<>\"3) ...\"), \"   \"&CONCATENATE('Product SARF'!$H$18,'Product SARF'!$H$19),\"\") & IF(AND(NOT(ISBLANK('Product SARF'!I191)),'Product SARF'!$E$11<>\"4) NA\",'Product SARF'!$E$11<>\"4) ...\"), \"   \"&CONCATENATE('Product SARF'!$I$18,'Product SARF'!$I$19),\"\")& IF(AND(NOT(ISBLANK('Product SARF'!J191)),'Product SARF'!$E$12<>\"5) NA\",'Product SARF'!$E$12<>\"5) ...\"), \"   \"&CONCATENATE('Product SARF'!$J$18,'Product SARF'!$J$19),\"\")&IF(AND(NOT(ISBLANK('Product SARF'!K191)),'Product SARF'!$E$13<>\"6) NA\",'Product SARF'!$E$13<>\"6) ...\"), \"   \"&CONCATENATE('Product SARF'!$K$18,'Product SARF'!$K$19),\"\")&IF(AND(NOT(ISBLANK('Product SARF'!L191)),'Product SARF'!$E$14<>\"7) NA\",'Product SARF'!$E$14<>\"7) ...\"), \"   \"&CONCATENATE('Product SARF'!$L$18,'Product SARF'!$L$19),\"\") &IF(AND(NOT(ISBLANK('Product SARF'!M191)),'Product SARF'!$E$15<>\"8) NA\",'Product SARF'!$E$15<>\"8) ...\"), \"   \"&CONCATENATE('Product SARF'!$M$18,'Product SARF'!$M$19),\"\"))","v":""}]
[{"$f":"IF(C174=\"\",\"\",IF('Product SARF'!B192=\"\",\"\",'Product SARF'!B192))","v":""},{"$f":"IF('Product SARF'!C192=\"\",\"\",\"Sample\")","v":""},{"$f":"IF('Product SARF'!C192=\"\",\"\",'Product SARF'!C192)","v":""},{"$f":"IF(C174=\"\",\"\",IF('Product SARF'!D192=\"\",\"\",'Product SARF'!D192))","v":""},{"$f":"IF(C174=\"\",\"\",IF('Product SARF'!E192=\"\",\"\",'Product SARF'!E192))","v":""},{"$f":"IF(C174=\"\",\"\",IF('Product SARF'!$L$6=\"\",\"\",CONCATENATE('Product SARF'!$L$6,'Product SARF'!$M$6)))","v":""},{"$f":"IF(C174=\"\",\"\",IF('Product SARF'!$L$2=\"\",\"\",'Product SARF'!$L$2))","v":""},{"$f":"IF(C174=\"\",\"\",IF('Product SARF'!$L$4=\"\",NOW(),'Product SARF'!$L$4))","v":""},"",{"$f":"IF(C174=\"\",\"\", IF(AND(NOT(ISBLANK('Product SARF'!F192)),'Product SARF'!$E$8<>\"1) NA\",'Product SARF'!$E$8<>\"1) ...\"), \"   \"&CONCATENATE('Product SARF'!$F$18,'Product SARF'!$F$19),\"\") & IF(AND(NOT(ISBLANK('Product SARF'!G192)),'Product SARF'!$E$9<>\"2) NA\",'Product SARF'!$E$9<>\"2) ...\"), \"   \"&CONCATENATE('Product SARF'!$G$18,'Product SARF'!$G$19),\"\")& IF(AND(NOT(ISBLANK('Product SARF'!H192)),'Product SARF'!$E$10<>\"3) NA\",'Product SARF'!$E$10<>\"3) ...\"), \"   \"&CONCATENATE('Product SARF'!$H$18,'Product SARF'!$H$19),\"\") & IF(AND(NOT(ISBLANK('Product SARF'!I192)),'Product SARF'!$E$11<>\"4) NA\",'Product SARF'!$E$11<>\"4) ...\"), \"   \"&CONCATENATE('Product SARF'!$I$18,'Product SARF'!$I$19),\"\")& IF(AND(NOT(ISBLANK('Product SARF'!J192)),'Product SARF'!$E$12<>\"5) NA\",'Product SARF'!$E$12<>\"5) ...\"), \"   \"&CONCATENATE('Product SARF'!$J$18,'Product SARF'!$J$19),\"\")&IF(AND(NOT(ISBLANK('Product SARF'!K192)),'Product SARF'!$E$13<>\"6) NA\",'Product SARF'!$E$13<>\"6) ...\"), \"   \"&CONCATENATE('Product SARF'!$K$18,'Product SARF'!$K$19),\"\")&IF(AND(NOT(ISBLANK('Product SARF'!L192)),'Product SARF'!$E$14<>\"7) NA\",'Product SARF'!$E$14<>\"7) ...\"), \"   \"&CONCATENATE('Product SARF'!$L$18,'Product SARF'!$L$19),\"\") &IF(AND(NOT(ISBLANK('Product SARF'!M192)),'Product SARF'!$E$15<>\"8) NA\",'Product SARF'!$E$15<>\"8) ...\"), \"   \"&CONCATENATE('Product SARF'!$M$18,'Product SARF'!$M$19),\"\"))","v":""}]
[{"$f":"IF(C175=\"\",\"\",IF('Product SARF'!B193=\"\",\"\",'Product SARF'!B193))","v":""},{"$f":"IF('Product SARF'!C193=\"\",\"\",\"Sample\")","v":""},{"$f":"IF('Product SARF'!C193=\"\",\"\",'Product SARF'!C193)","v":""},{"$f":"IF(C175=\"\",\"\",IF('Product SARF'!D193=\"\",\"\",'Product SARF'!D193))","v":""},{"$f":"IF(C175=\"\",\"\",IF('Product SARF'!E193=\"\",\"\",'Product SARF'!E193))","v":""},{"$f":"IF(C175=\"\",\"\",IF('Product SARF'!$L$6=\"\",\"\",CONCATENATE('Product SARF'!$L$6,'Product SARF'!$M$6)))","v":""},{"$f":"IF(C175=\"\",\"\",IF('Product SARF'!$L$2=\"\",\"\",'Product SARF'!$L$2))","v":""},{"$f":"IF(C175=\"\",\"\",IF('Product SARF'!$L$4=\"\",NOW(),'Product SARF'!$L$4))","v":""},"",{"$f":"IF(C175=\"\",\"\", IF(AND(NOT(ISBLANK('Product SARF'!F193)),'Product SARF'!$E$8<>\"1) NA\",'Product SARF'!$E$8<>\"1) ...\"), \"   \"&CONCATENATE('Product SARF'!$F$18,'Product SARF'!$F$19),\"\") & IF(AND(NOT(ISBLANK('Product SARF'!G193)),'Product SARF'!$E$9<>\"2) NA\",'Product SARF'!$E$9<>\"2) ...\"), \"   \"&CONCATENATE('Product SARF'!$G$18,'Product SARF'!$G$19),\"\")& IF(AND(NOT(ISBLANK('Product SARF'!H193)),'Product SARF'!$E$10<>\"3) NA\",'Product SARF'!$E$10<>\"3) ...\"), \"   \"&CONCATENATE('Product SARF'!$H$18,'Product SARF'!$H$19),\"\") & IF(AND(NOT(ISBLANK('Product SARF'!I193)),'Product SARF'!$E$11<>\"4) NA\",'Product SARF'!$E$11<>\"4) ...\"), \"   \"&CONCATENATE('Product SARF'!$I$18,'Product SARF'!$I$19),\"\")& IF(AND(NOT(ISBLANK('Product SARF'!J193)),'Product SARF'!$E$12<>\"5) NA\",'Product SARF'!$E$12<>\"5) ...\"), \"   \"&CONCATENATE('Product SARF'!$J$18,'Product SARF'!$J$19),\"\")&IF(AND(NOT(ISBLANK('Product SARF'!K193)),'Product SARF'!$E$13<>\"6) NA\",'Product SARF'!$E$13<>\"6) ...\"), \"   \"&CONCATENATE('Product SARF'!$K$18,'Product SARF'!$K$19),\"\")&IF(AND(NOT(ISBLANK('Product SARF'!L193)),'Product SARF'!$E$14<>\"7) NA\",'Product SARF'!$E$14<>\"7) ...\"), \"   \"&CONCATENATE('Product SARF'!$L$18,'Product SARF'!$L$19),\"\") &IF(AND(NOT(ISBLANK('Product SARF'!M193)),'Product SARF'!$E$15<>\"8) NA\",'Product SARF'!$E$15<>\"8) ...\"), \"   \"&CONCATENATE('Product SARF'!$M$18,'Product SARF'!$M$19),\"\"))","v":""}]
[{"$f":"IF(C176=\"\",\"\",IF('Product SARF'!B194=\"\",\"\",'Product SARF'!B194))","v":""},{"$f":"IF('Product SARF'!C194=\"\",\"\",\"Sample\")","v":""},{"$f":"IF('Product SARF'!C194=\"\",\"\",'Product SARF'!C194)","v":""},{"$f":"IF(C176=\"\",\"\",IF('Product SARF'!D194=\"\",\"\",'Product SARF'!D194))","v":""},{"$f":"IF(C176=\"\",\"\",IF('Product SARF'!E194=\"\",\"\",'Product SARF'!E194))","v":""},{"$f":"IF(C176=\"\",\"\",IF('Product SARF'!$L$6=\"\",\"\",CONCATENATE('Product SARF'!$L$6,'Product SARF'!$M$6)))","v":""},{"$f":"IF(C176=\"\",\"\",IF('Product SARF'!$L$2=\"\",\"\",'Product SARF'!$L$2))","v":""},{"$f":"IF(C176=\"\",\"\",IF('Product SARF'!$L$4=\"\",NOW(),'Product SARF'!$L$4))","v":""},"",{"$f":"IF(C176=\"\",\"\", IF(AND(NOT(ISBLANK('Product SARF'!F194)),'Product SARF'!$E$8<>\"1) NA\",'Product SARF'!$E$8<>\"1) ...\"), \"   \"&CONCATENATE('Product SARF'!$F$18,'Product SARF'!$F$19),\"\") & IF(AND(NOT(ISBLANK('Product SARF'!G194)),'Product SARF'!$E$9<>\"2) NA\",'Product SARF'!$E$9<>\"2) ...\"), \"   \"&CONCATENATE('Product SARF'!$G$18,'Product SARF'!$G$19),\"\")& IF(AND(NOT(ISBLANK('Product SARF'!H194)),'Product SARF'!$E$10<>\"3) NA\",'Product SARF'!$E$10<>\"3) ...\"), \"   \"&CONCATENATE('Product SARF'!$H$18,'Product SARF'!$H$19),\"\") & IF(AND(NOT(ISBLANK('Product SARF'!I194)),'Product SARF'!$E$11<>\"4) NA\",'Product SARF'!$E$11<>\"4) ...\"), \"   \"&CONCATENATE('Product SARF'!$I$18,'Product SARF'!$I$19),\"\")& IF(AND(NOT(ISBLANK('Product SARF'!J194)),'Product SARF'!$E$12<>\"5) NA\",'Product SARF'!$E$12<>\"5) ...\"), \"   \"&CONCATENATE('Product SARF'!$J$18,'Product SARF'!$J$19),\"\")&IF(AND(NOT(ISBLANK('Product SARF'!K194)),'Product SARF'!$E$13<>\"6) NA\",'Product SARF'!$E$13<>\"6) ...\"), \"   \"&CONCATENATE('Product SARF'!$K$18,'Product SARF'!$K$19),\"\")&IF(AND(NOT(ISBLANK('Product SARF'!L194)),'Product SARF'!$E$14<>\"7) NA\",'Product SARF'!$E$14<>\"7) ...\"), \"   \"&CONCATENATE('Product SARF'!$L$18,'Product SARF'!$L$19),\"\") &IF(AND(NOT(ISBLANK('Product SARF'!M194)),'Product SARF'!$E$15<>\"8) NA\",'Product SARF'!$E$15<>\"8) ...\"), \"   \"&CONCATENATE('Product SARF'!$M$18,'Product SARF'!$M$19),\"\"))","v":""}]
[{"$f":"IF(C177=\"\",\"\",IF('Product SARF'!B195=\"\",\"\",'Product SARF'!B195))","v":""},{"$f":"IF('Product SARF'!C195=\"\",\"\",\"Sample\")","v":""},{"$f":"IF('Product SARF'!C195=\"\",\"\",'Product SARF'!C195)","v":""},{"$f":"IF(C177=\"\",\"\",IF('Product SARF'!D195=\"\",\"\",'Product SARF'!D195))","v":""},{"$f":"IF(C177=\"\",\"\",IF('Product SARF'!E195=\"\",\"\",'Product SARF'!E195))","v":""},{"$f":"IF(C177=\"\",\"\",IF('Product SARF'!$L$6=\"\",\"\",CONCATENATE('Product SARF'!$L$6,'Product SARF'!$M$6)))","v":""},{"$f":"IF(C177=\"\",\"\",IF('Product SARF'!$L$2=\"\",\"\",'Product SARF'!$L$2))","v":""},{"$f":"IF(C177=\"\",\"\",IF('Product SARF'!$L$4=\"\",NOW(),'Product SARF'!$L$4))","v":""},"",{"$f":"IF(C177=\"\",\"\", IF(AND(NOT(ISBLANK('Product SARF'!F195)),'Product SARF'!$E$8<>\"1) NA\",'Product SARF'!$E$8<>\"1) ...\"), \"   \"&CONCATENATE('Product SARF'!$F$18,'Product SARF'!$F$19),\"\") & IF(AND(NOT(ISBLANK('Product SARF'!G195)),'Product SARF'!$E$9<>\"2) NA\",'Product SARF'!$E$9<>\"2) ...\"), \"   \"&CONCATENATE('Product SARF'!$G$18,'Product SARF'!$G$19),\"\")& IF(AND(NOT(ISBLANK('Product SARF'!H195)),'Product SARF'!$E$10<>\"3) NA\",'Product SARF'!$E$10<>\"3) ...\"), \"   \"&CONCATENATE('Product SARF'!$H$18,'Product SARF'!$H$19),\"\") & IF(AND(NOT(ISBLANK('Product SARF'!I195)),'Product SARF'!$E$11<>\"4) NA\",'Product SARF'!$E$11<>\"4) ...\"), \"   \"&CONCATENATE('Product SARF'!$I$18,'Product SARF'!$I$19),\"\")& IF(AND(NOT(ISBLANK('Product SARF'!J195)),'Product SARF'!$E$12<>\"5) NA\",'Product SARF'!$E$12<>\"5) ...\"), \"   \"&CONCATENATE('Product SARF'!$J$18,'Product SARF'!$J$19),\"\")&IF(AND(NOT(ISBLANK('Product SARF'!K195)),'Product SARF'!$E$13<>\"6) NA\",'Product SARF'!$E$13<>\"6) ...\"), \"   \"&CONCATENATE('Product SARF'!$K$18,'Product SARF'!$K$19),\"\")&IF(AND(NOT(ISBLANK('Product SARF'!L195)),'Product SARF'!$E$14<>\"7) NA\",'Product SARF'!$E$14<>\"7) ...\"), \"   \"&CONCATENATE('Product SARF'!$L$18,'Product SARF'!$L$19),\"\") &IF(AND(NOT(ISBLANK('Product SARF'!M195)),'Product SARF'!$E$15<>\"8) NA\",'Product SARF'!$E$15<>\"8) ...\"), \"   \"&CONCATENATE('Product SARF'!$M$18,'Product SARF'!$M$19),\"\"))","v":""}]
[{"$f":"IF(C178=\"\",\"\",IF('Product SARF'!B196=\"\",\"\",'Product SARF'!B196))","v":""},{"$f":"IF('Product SARF'!C196=\"\",\"\",\"Sample\")","v":""},{"$f":"IF('Product SARF'!C196=\"\",\"\",'Product SARF'!C196)","v":""},{"$f":"IF(C178=\"\",\"\",IF('Product SARF'!D196=\"\",\"\",'Product SARF'!D196))","v":""},{"$f":"IF(C178=\"\",\"\",IF('Product SARF'!E196=\"\",\"\",'Product SARF'!E196))","v":""},{"$f":"IF(C178=\"\",\"\",IF('Product SARF'!$L$6=\"\",\"\",CONCATENATE('Product SARF'!$L$6,'Product SARF'!$M$6)))","v":""},{"$f":"IF(C178=\"\",\"\",IF('Product SARF'!$L$2=\"\",\"\",'Product SARF'!$L$2))","v":""},{"$f":"IF(C178=\"\",\"\",IF('Product SARF'!$L$4=\"\",NOW(),'Product SARF'!$L$4))","v":""},"",{"$f":"IF(C178=\"\",\"\", IF(AND(NOT(ISBLANK('Product SARF'!F196)),'Product SARF'!$E$8<>\"1) NA\",'Product SARF'!$E$8<>\"1) ...\"), \"   \"&CONCATENATE('Product SARF'!$F$18,'Product SARF'!$F$19),\"\") & IF(AND(NOT(ISBLANK('Product SARF'!G196)),'Product SARF'!$E$9<>\"2) NA\",'Product SARF'!$E$9<>\"2) ...\"), \"   \"&CONCATENATE('Product SARF'!$G$18,'Product SARF'!$G$19),\"\")& IF(AND(NOT(ISBLANK('Product SARF'!H196)),'Product SARF'!$E$10<>\"3) NA\",'Product SARF'!$E$10<>\"3) ...\"), \"   \"&CONCATENATE('Product SARF'!$H$18,'Product SARF'!$H$19),\"\") & IF(AND(NOT(ISBLANK('Product SARF'!I196)),'Product SARF'!$E$11<>\"4) NA\",'Product SARF'!$E$11<>\"4) ...\"), \"   \"&CONCATENATE('Product SARF'!$I$18,'Product SARF'!$I$19),\"\")& IF(AND(NOT(ISBLANK('Product SARF'!J196)),'Product SARF'!$E$12<>\"5) NA\",'Product SARF'!$E$12<>\"5) ...\"), \"   \"&CONCATENATE('Product SARF'!$J$18,'Product SARF'!$J$19),\"\")&IF(AND(NOT(ISBLANK('Product SARF'!K196)),'Product SARF'!$E$13<>\"6) NA\",'Product SARF'!$E$13<>\"6) ...\"), \"   \"&CONCATENATE('Product SARF'!$K$18,'Product SARF'!$K$19),\"\")&IF(AND(NOT(ISBLANK('Product SARF'!L196)),'Product SARF'!$E$14<>\"7) NA\",'Product SARF'!$E$14<>\"7) ...\"), \"   \"&CONCATENATE('Product SARF'!$L$18,'Product SARF'!$L$19),\"\") &IF(AND(NOT(ISBLANK('Product SARF'!M196)),'Product SARF'!$E$15<>\"8) NA\",'Product SARF'!$E$15<>\"8) ...\"), \"   \"&CONCATENATE('Product SARF'!$M$18,'Product SARF'!$M$19),\"\"))","v":""}]
[{"$f":"IF(C179=\"\",\"\",IF('Product SARF'!B197=\"\",\"\",'Product SARF'!B197))","v":""},{"$f":"IF('Product SARF'!C197=\"\",\"\",\"Sample\")","v":""},{"$f":"IF('Product SARF'!C197=\"\",\"\",'Product SARF'!C197)","v":""},{"$f":"IF(C179=\"\",\"\",IF('Product SARF'!D197=\"\",\"\",'Product SARF'!D197))","v":""},{"$f":"IF(C179=\"\",\"\",IF('Product SARF'!E197=\"\",\"\",'Product SARF'!E197))","v":""},{"$f":"IF(C179=\"\",\"\",IF('Product SARF'!$L$6=\"\",\"\",CONCATENATE('Product SARF'!$L$6,'Product SARF'!$M$6)))","v":""},{"$f":"IF(C179=\"\",\"\",IF('Product SARF'!$L$2=\"\",\"\",'Product SARF'!$L$2))","v":""},{"$f":"IF(C179=\"\",\"\",IF('Product SARF'!$L$4=\"\",NOW(),'Product SARF'!$L$4))","v":""},"",{"$f":"IF(C179=\"\",\"\", IF(AND(NOT(ISBLANK('Product SARF'!F197)),'Product SARF'!$E$8<>\"1) NA\",'Product SARF'!$E$8<>\"1) ...\"), \"   \"&CONCATENATE('Product SARF'!$F$18,'Product SARF'!$F$19),\"\") & IF(AND(NOT(ISBLANK('Product SARF'!G197)),'Product SARF'!$E$9<>\"2) NA\",'Product SARF'!$E$9<>\"2) ...\"), \"   \"&CONCATENATE('Product SARF'!$G$18,'Product SARF'!$G$19),\"\")& IF(AND(NOT(ISBLANK('Product SARF'!H197)),'Product SARF'!$E$10<>\"3) NA\",'Product SARF'!$E$10<>\"3) ...\"), \"   \"&CONCATENATE('Product SARF'!$H$18,'Product SARF'!$H$19),\"\") & IF(AND(NOT(ISBLANK('Product SARF'!I197)),'Product SARF'!$E$11<>\"4) NA\",'Product SARF'!$E$11<>\"4) ...\"), \"   \"&CONCATENATE('Product SARF'!$I$18,'Product SARF'!$I$19),\"\")& IF(AND(NOT(ISBLANK('Product SARF'!J197)),'Product SARF'!$E$12<>\"5) NA\",'Product SARF'!$E$12<>\"5) ...\"), \"   \"&CONCATENATE('Product SARF'!$J$18,'Product SARF'!$J$19),\"\")&IF(AND(NOT(ISBLANK('Product SARF'!K197)),'Product SARF'!$E$13<>\"6) NA\",'Product SARF'!$E$13<>\"6) ...\"), \"   \"&CONCATENATE('Product SARF'!$K$18,'Product SARF'!$K$19),\"\")&IF(AND(NOT(ISBLANK('Product SARF'!L197)),'Product SARF'!$E$14<>\"7) NA\",'Product SARF'!$E$14<>\"7) ...\"), \"   \"&CONCATENATE('Product SARF'!$L$18,'Product SARF'!$L$19),\"\") &IF(AND(NOT(ISBLANK('Product SARF'!M197)),'Product SARF'!$E$15<>\"8) NA\",'Product SARF'!$E$15<>\"8) ...\"), \"   \"&CONCATENATE('Product SARF'!$M$18,'Product SARF'!$M$19),\"\"))","v":""}]
[{"$f":"IF(C180=\"\",\"\",IF('Product SARF'!B198=\"\",\"\",'Product SARF'!B198))","v":""},{"$f":"IF('Product SARF'!C198=\"\",\"\",\"Sample\")","v":""},{"$f":"IF('Product SARF'!C198=\"\",\"\",'Product SARF'!C198)","v":""},{"$f":"IF(C180=\"\",\"\",IF('Product SARF'!D198=\"\",\"\",'Product SARF'!D198))","v":""},{"$f":"IF(C180=\"\",\"\",IF('Product SARF'!E198=\"\",\"\",'Product SARF'!E198))","v":""},{"$f":"IF(C180=\"\",\"\",IF('Product SARF'!$L$6=\"\",\"\",CONCATENATE('Product SARF'!$L$6,'Product SARF'!$M$6)))","v":""},{"$f":"IF(C180=\"\",\"\",IF('Product SARF'!$L$2=\"\",\"\",'Product SARF'!$L$2))","v":""},{"$f":"IF(C180=\"\",\"\",IF('Product SARF'!$L$4=\"\",NOW(),'Product SARF'!$L$4))","v":""},"",{"$f":"IF(C180=\"\",\"\", IF(AND(NOT(ISBLANK('Product SARF'!F198)),'Product SARF'!$E$8<>\"1) NA\",'Product SARF'!$E$8<>\"1) ...\"), \"   \"&CONCATENATE('Product SARF'!$F$18,'Product SARF'!$F$19),\"\") & IF(AND(NOT(ISBLANK('Product SARF'!G198)),'Product SARF'!$E$9<>\"2) NA\",'Product SARF'!$E$9<>\"2) ...\"), \"   \"&CONCATENATE('Product SARF'!$G$18,'Product SARF'!$G$19),\"\")& IF(AND(NOT(ISBLANK('Product SARF'!H198)),'Product SARF'!$E$10<>\"3) NA\",'Product SARF'!$E$10<>\"3) ...\"), \"   \"&CONCATENATE('Product SARF'!$H$18,'Product SARF'!$H$19),\"\") & IF(AND(NOT(ISBLANK('Product SARF'!I198)),'Product SARF'!$E$11<>\"4) NA\",'Product SARF'!$E$11<>\"4) ...\"), \"   \"&CONCATENATE('Product SARF'!$I$18,'Product SARF'!$I$19),\"\")& IF(AND(NOT(ISBLANK('Product SARF'!J198)),'Product SARF'!$E$12<>\"5) NA\",'Product SARF'!$E$12<>\"5) ...\"), \"   \"&CONCATENATE('Product SARF'!$J$18,'Product SARF'!$J$19),\"\")&IF(AND(NOT(ISBLANK('Product SARF'!K198)),'Product SARF'!$E$13<>\"6) NA\",'Product SARF'!$E$13<>\"6) ...\"), \"   \"&CONCATENATE('Product SARF'!$K$18,'Product SARF'!$K$19),\"\")&IF(AND(NOT(ISBLANK('Product SARF'!L198)),'Product SARF'!$E$14<>\"7) NA\",'Product SARF'!$E$14<>\"7) ...\"), \"   \"&CONCATENATE('Product SARF'!$L$18,'Product SARF'!$L$19),\"\") &IF(AND(NOT(ISBLANK('Product SARF'!M198)),'Product SARF'!$E$15<>\"8) NA\",'Product SARF'!$E$15<>\"8) ...\"), \"   \"&CONCATENATE('Product SARF'!$M$18,'Product SARF'!$M$19),\"\"))","v":""}]
[{"$f":"IF(C181=\"\",\"\",IF('Product SARF'!B199=\"\",\"\",'Product SARF'!B199))","v":""},{"$f":"IF('Product SARF'!C199=\"\",\"\",\"Sample\")","v":""},{"$f":"IF('Product SARF'!C199=\"\",\"\",'Product SARF'!C199)","v":""},{"$f":"IF(C181=\"\",\"\",IF('Product SARF'!D199=\"\",\"\",'Product SARF'!D199))","v":""},{"$f":"IF(C181=\"\",\"\",IF('Product SARF'!E199=\"\",\"\",'Product SARF'!E199))","v":""},{"$f":"IF(C181=\"\",\"\",IF('Product SARF'!$L$6=\"\",\"\",CONCATENATE('Product SARF'!$L$6,'Product SARF'!$M$6)))","v":""},{"$f":"IF(C181=\"\",\"\",IF('Product SARF'!$L$2=\"\",\"\",'Product SARF'!$L$2))","v":""},{"$f":"IF(C181=\"\",\"\",IF('Product SARF'!$L$4=\"\",NOW(),'Product SARF'!$L$4))","v":""},"",{"$f":"IF(C181=\"\",\"\", IF(AND(NOT(ISBLANK('Product SARF'!F199)),'Product SARF'!$E$8<>\"1) NA\",'Product SARF'!$E$8<>\"1) ...\"), \"   \"&CONCATENATE('Product SARF'!$F$18,'Product SARF'!$F$19),\"\") & IF(AND(NOT(ISBLANK('Product SARF'!G199)),'Product SARF'!$E$9<>\"2) NA\",'Product SARF'!$E$9<>\"2) ...\"), \"   \"&CONCATENATE('Product SARF'!$G$18,'Product SARF'!$G$19),\"\")& IF(AND(NOT(ISBLANK('Product SARF'!H199)),'Product SARF'!$E$10<>\"3) NA\",'Product SARF'!$E$10<>\"3) ...\"), \"   \"&CONCATENATE('Product SARF'!$H$18,'Product SARF'!$H$19),\"\") & IF(AND(NOT(ISBLANK('Product SARF'!I199)),'Product SARF'!$E$11<>\"4) NA\",'Product SARF'!$E$11<>\"4) ...\"), \"   \"&CONCATENATE('Product SARF'!$I$18,'Product SARF'!$I$19),\"\")& IF(AND(NOT(ISBLANK('Product SARF'!J199)),'Product SARF'!$E$12<>\"5) NA\",'Product SARF'!$E$12<>\"5) ...\"), \"   \"&CONCATENATE('Product SARF'!$J$18,'Product SARF'!$J$19),\"\")&IF(AND(NOT(ISBLANK('Product SARF'!K199)),'Product SARF'!$E$13<>\"6) NA\",'Product SARF'!$E$13<>\"6) ...\"), \"   \"&CONCATENATE('Product SARF'!$K$18,'Product SARF'!$K$19),\"\")&IF(AND(NOT(ISBLANK('Product SARF'!L199)),'Product SARF'!$E$14<>\"7) NA\",'Product SARF'!$E$14<>\"7) ...\"), \"   \"&CONCATENATE('Product SARF'!$L$18,'Product SARF'!$L$19),\"\") &IF(AND(NOT(ISBLANK('Product SARF'!M199)),'Product SARF'!$E$15<>\"8) NA\",'Product SARF'!$E$15<>\"8) ...\"), \"   \"&CONCATENATE('Product SARF'!$M$18,'Product SARF'!$M$19),\"\"))","v":""}]
[{"$f":"IF(C182=\"\",\"\",IF('Product SARF'!B200=\"\",\"\",'Product SARF'!B200))","v":""},{"$f":"IF('Product SARF'!C200=\"\",\"\",\"Sample\")","v":""},{"$f":"IF('Product SARF'!C200=\"\",\"\",'Product SARF'!C200)","v":""},{"$f":"IF(C182=\"\",\"\",IF('Product SARF'!D200=\"\",\"\",'Product SARF'!D200))","v":""},{"$f":"IF(C182=\"\",\"\",IF('Product SARF'!E200=\"\",\"\",'Product SARF'!E200))","v":""},{"$f":"IF(C182=\"\",\"\",IF('Product SARF'!$L$6=\"\",\"\",CONCATENATE('Product SARF'!$L$6,'Product SARF'!$M$6)))","v":""},{"$f":"IF(C182=\"\",\"\",IF('Product SARF'!$L$2=\"\",\"\",'Product SARF'!$L$2))","v":""},{"$f":"IF(C182=\"\",\"\",IF('Product SARF'!$L$4=\"\",NOW(),'Product SARF'!$L$4))","v":""},"",{"$f":"IF(C182=\"\",\"\", IF(AND(NOT(ISBLANK('Product SARF'!F200)),'Product SARF'!$E$8<>\"1) NA\",'Product SARF'!$E$8<>\"1) ...\"), \"   \"&CONCATENATE('Product SARF'!$F$18,'Product SARF'!$F$19),\"\") & IF(AND(NOT(ISBLANK('Product SARF'!G200)),'Product SARF'!$E$9<>\"2) NA\",'Product SARF'!$E$9<>\"2) ...\"), \"   \"&CONCATENATE('Product SARF'!$G$18,'Product SARF'!$G$19),\"\")& IF(AND(NOT(ISBLANK('Product SARF'!H200)),'Product SARF'!$E$10<>\"3) NA\",'Product SARF'!$E$10<>\"3) ...\"), \"   \"&CONCATENATE('Product SARF'!$H$18,'Product SARF'!$H$19),\"\") & IF(AND(NOT(ISBLANK('Product SARF'!I200)),'Product SARF'!$E$11<>\"4) NA\",'Product SARF'!$E$11<>\"4) ...\"), \"   \"&CONCATENATE('Product SARF'!$I$18,'Product SARF'!$I$19),\"\")& IF(AND(NOT(ISBLANK('Product SARF'!J200)),'Product SARF'!$E$12<>\"5) NA\",'Product SARF'!$E$12<>\"5) ...\"), \"   \"&CONCATENATE('Product SARF'!$J$18,'Product SARF'!$J$19),\"\")&IF(AND(NOT(ISBLANK('Product SARF'!K200)),'Product SARF'!$E$13<>\"6) NA\",'Product SARF'!$E$13<>\"6) ...\"), \"   \"&CONCATENATE('Product SARF'!$K$18,'Product SARF'!$K$19),\"\")&IF(AND(NOT(ISBLANK('Product SARF'!L200)),'Product SARF'!$E$14<>\"7) NA\",'Product SARF'!$E$14<>\"7) ...\"), \"   \"&CONCATENATE('Product SARF'!$L$18,'Product SARF'!$L$19),\"\") &IF(AND(NOT(ISBLANK('Product SARF'!M200)),'Product SARF'!$E$15<>\"8) NA\",'Product SARF'!$E$15<>\"8) ...\"), \"   \"&CONCATENATE('Product SARF'!$M$18,'Product SARF'!$M$19),\"\"))","v":""}]
[{"$f":"IF(C183=\"\",\"\",IF('Product SARF'!B201=\"\",\"\",'Product SARF'!B201))","v":""},{"$f":"IF('Product SARF'!C201=\"\",\"\",\"Sample\")","v":""},{"$f":"IF('Product SARF'!C201=\"\",\"\",'Product SARF'!C201)","v":""},{"$f":"IF(C183=\"\",\"\",IF('Product SARF'!D201=\"\",\"\",'Product SARF'!D201))","v":""},{"$f":"IF(C183=\"\",\"\",IF('Product SARF'!E201=\"\",\"\",'Product SARF'!E201))","v":""},{"$f":"IF(C183=\"\",\"\",IF('Product SARF'!$L$6=\"\",\"\",CONCATENATE('Product SARF'!$L$6,'Product SARF'!$M$6)))","v":""},{"$f":"IF(C183=\"\",\"\",IF('Product SARF'!$L$2=\"\",\"\",'Product SARF'!$L$2))","v":""},{"$f":"IF(C183=\"\",\"\",IF('Product SARF'!$L$4=\"\",NOW(),'Product SARF'!$L$4))","v":""},"",{"$f":"IF(C183=\"\",\"\", IF(AND(NOT(ISBLANK('Product SARF'!F201)),'Product SARF'!$E$8<>\"1) NA\",'Product SARF'!$E$8<>\"1) ...\"), \"   \"&CONCATENATE('Product SARF'!$F$18,'Product SARF'!$F$19),\"\") & IF(AND(NOT(ISBLANK('Product SARF'!G201)),'Product SARF'!$E$9<>\"2) NA\",'Product SARF'!$E$9<>\"2) ...\"), \"   \"&CONCATENATE('Product SARF'!$G$18,'Product SARF'!$G$19),\"\")& IF(AND(NOT(ISBLANK('Product SARF'!H201)),'Product SARF'!$E$10<>\"3) NA\",'Product SARF'!$E$10<>\"3) ...\"), \"   \"&CONCATENATE('Product SARF'!$H$18,'Product SARF'!$H$19),\"\") & IF(AND(NOT(ISBLANK('Product SARF'!I201)),'Product SARF'!$E$11<>\"4) NA\",'Product SARF'!$E$11<>\"4) ...\"), \"   \"&CONCATENATE('Product SARF'!$I$18,'Product SARF'!$I$19),\"\")& IF(AND(NOT(ISBLANK('Product SARF'!J201)),'Product SARF'!$E$12<>\"5) NA\",'Product SARF'!$E$12<>\"5) ...\"), \"   \"&CONCATENATE('Product SARF'!$J$18,'Product SARF'!$J$19),\"\")&IF(AND(NOT(ISBLANK('Product SARF'!K201)),'Product SARF'!$E$13<>\"6) NA\",'Product SARF'!$E$13<>\"6) ...\"), \"   \"&CONCATENATE('Product SARF'!$K$18,'Product SARF'!$K$19),\"\")&IF(AND(NOT(ISBLANK('Product SARF'!L201)),'Product SARF'!$E$14<>\"7) NA\",'Product SARF'!$E$14<>\"7) ...\"), \"   \"&CONCATENATE('Product SARF'!$L$18,'Product SARF'!$L$19),\"\") &IF(AND(NOT(ISBLANK('Product SARF'!M201)),'Product SARF'!$E$15<>\"8) NA\",'Product SARF'!$E$15<>\"8) ...\"), \"   \"&CONCATENATE('Product SARF'!$M$18,'Product SARF'!$M$19),\"\"))","v":""}]
[{"$f":"IF(C184=\"\",\"\",IF('Product SARF'!B202=\"\",\"\",'Product SARF'!B202))","v":""},{"$f":"IF('Product SARF'!C202=\"\",\"\",\"Sample\")","v":""},{"$f":"IF('Product SARF'!C202=\"\",\"\",'Product SARF'!C202)","v":""},{"$f":"IF(C184=\"\",\"\",IF('Product SARF'!D202=\"\",\"\",'Product SARF'!D202))","v":""},{"$f":"IF(C184=\"\",\"\",IF('Product SARF'!E202=\"\",\"\",'Product SARF'!E202))","v":""},{"$f":"IF(C184=\"\",\"\",IF('Product SARF'!$L$6=\"\",\"\",CONCATENATE('Product SARF'!$L$6,'Product SARF'!$M$6)))","v":""},{"$f":"IF(C184=\"\",\"\",IF('Product SARF'!$L$2=\"\",\"\",'Product SARF'!$L$2))","v":""},{"$f":"IF(C184=\"\",\"\",IF('Product SARF'!$L$4=\"\",NOW(),'Product SARF'!$L$4))","v":""},"",{"$f":"IF(C184=\"\",\"\", IF(AND(NOT(ISBLANK('Product SARF'!F202)),'Product SARF'!$E$8<>\"1) NA\",'Product SARF'!$E$8<>\"1) ...\"), \"   \"&CONCATENATE('Product SARF'!$F$18,'Product SARF'!$F$19),\"\") & IF(AND(NOT(ISBLANK('Product SARF'!G202)),'Product SARF'!$E$9<>\"2) NA\",'Product SARF'!$E$9<>\"2) ...\"), \"   \"&CONCATENATE('Product SARF'!$G$18,'Product SARF'!$G$19),\"\")& IF(AND(NOT(ISBLANK('Product SARF'!H202)),'Product SARF'!$E$10<>\"3) NA\",'Product SARF'!$E$10<>\"3) ...\"), \"   \"&CONCATENATE('Product SARF'!$H$18,'Product SARF'!$H$19),\"\") & IF(AND(NOT(ISBLANK('Product SARF'!I202)),'Product SARF'!$E$11<>\"4) NA\",'Product SARF'!$E$11<>\"4) ...\"), \"   \"&CONCATENATE('Product SARF'!$I$18,'Product SARF'!$I$19),\"\")& IF(AND(NOT(ISBLANK('Product SARF'!J202)),'Product SARF'!$E$12<>\"5) NA\",'Product SARF'!$E$12<>\"5) ...\"), \"   \"&CONCATENATE('Product SARF'!$J$18,'Product SARF'!$J$19),\"\")&IF(AND(NOT(ISBLANK('Product SARF'!K202)),'Product SARF'!$E$13<>\"6) NA\",'Product SARF'!$E$13<>\"6) ...\"), \"   \"&CONCATENATE('Product SARF'!$K$18,'Product SARF'!$K$19),\"\")&IF(AND(NOT(ISBLANK('Product SARF'!L202)),'Product SARF'!$E$14<>\"7) NA\",'Product SARF'!$E$14<>\"7) ...\"), \"   \"&CONCATENATE('Product SARF'!$L$18,'Product SARF'!$L$19),\"\") &IF(AND(NOT(ISBLANK('Product SARF'!M202)),'Product SARF'!$E$15<>\"8) NA\",'Product SARF'!$E$15<>\"8) ...\"), \"   \"&CONCATENATE('Product SARF'!$M$18,'Product SARF'!$M$19),\"\"))","v":""}]
[{"$f":"IF(C185=\"\",\"\",IF('Product SARF'!B203=\"\",\"\",'Product SARF'!B203))","v":""},{"$f":"IF('Product SARF'!C203=\"\",\"\",\"Sample\")","v":""},{"$f":"IF('Product SARF'!C203=\"\",\"\",'Product SARF'!C203)","v":""},{"$f":"IF(C185=\"\",\"\",IF('Product SARF'!D203=\"\",\"\",'Product SARF'!D203))","v":""},{"$f":"IF(C185=\"\",\"\",IF('Product SARF'!E203=\"\",\"\",'Product SARF'!E203))","v":""},{"$f":"IF(C185=\"\",\"\",IF('Product SARF'!$L$6=\"\",\"\",CONCATENATE('Product SARF'!$L$6,'Product SARF'!$M$6)))","v":""},{"$f":"IF(C185=\"\",\"\",IF('Product SARF'!$L$2=\"\",\"\",'Product SARF'!$L$2))","v":""},{"$f":"IF(C185=\"\",\"\",IF('Product SARF'!$L$4=\"\",NOW(),'Product SARF'!$L$4))","v":""},"",{"$f":"IF(C185=\"\",\"\", IF(AND(NOT(ISBLANK('Product SARF'!F203)),'Product SARF'!$E$8<>\"1) NA\",'Product SARF'!$E$8<>\"1) ...\"), \"   \"&CONCATENATE('Product SARF'!$F$18,'Product SARF'!$F$19),\"\") & IF(AND(NOT(ISBLANK('Product SARF'!G203)),'Product SARF'!$E$9<>\"2) NA\",'Product SARF'!$E$9<>\"2) ...\"), \"   \"&CONCATENATE('Product SARF'!$G$18,'Product SARF'!$G$19),\"\")& IF(AND(NOT(ISBLANK('Product SARF'!H203)),'Product SARF'!$E$10<>\"3) NA\",'Product SARF'!$E$10<>\"3) ...\"), \"   \"&CONCATENATE('Product SARF'!$H$18,'Product SARF'!$H$19),\"\") & IF(AND(NOT(ISBLANK('Product SARF'!I203)),'Product SARF'!$E$11<>\"4) NA\",'Product SARF'!$E$11<>\"4) ...\"), \"   \"&CONCATENATE('Product SARF'!$I$18,'Product SARF'!$I$19),\"\")& IF(AND(NOT(ISBLANK('Product SARF'!J203)),'Product SARF'!$E$12<>\"5) NA\",'Product SARF'!$E$12<>\"5) ...\"), \"   \"&CONCATENATE('Product SARF'!$J$18,'Product SARF'!$J$19),\"\")&IF(AND(NOT(ISBLANK('Product SARF'!K203)),'Product SARF'!$E$13<>\"6) NA\",'Product SARF'!$E$13<>\"6) ...\"), \"   \"&CONCATENATE('Product SARF'!$K$18,'Product SARF'!$K$19),\"\")&IF(AND(NOT(ISBLANK('Product SARF'!L203)),'Product SARF'!$E$14<>\"7) NA\",'Product SARF'!$E$14<>\"7) ...\"), \"   \"&CONCATENATE('Product SARF'!$L$18,'Product SARF'!$L$19),\"\") &IF(AND(NOT(ISBLANK('Product SARF'!M203)),'Product SARF'!$E$15<>\"8) NA\",'Product SARF'!$E$15<>\"8) ...\"), \"   \"&CONCATENATE('Product SARF'!$M$18,'Product SARF'!$M$19),\"\"))","v":""}]
[{"$f":"IF(C186=\"\",\"\",IF('Product SARF'!B204=\"\",\"\",'Product SARF'!B204))","v":""},{"$f":"IF('Product SARF'!C204=\"\",\"\",\"Sample\")","v":""},{"$f":"IF('Product SARF'!C204=\"\",\"\",'Product SARF'!C204)","v":""},{"$f":"IF(C186=\"\",\"\",IF('Product SARF'!D204=\"\",\"\",'Product SARF'!D204))","v":""},{"$f":"IF(C186=\"\",\"\",IF('Product SARF'!E204=\"\",\"\",'Product SARF'!E204))","v":""},{"$f":"IF(C186=\"\",\"\",IF('Product SARF'!$L$6=\"\",\"\",CONCATENATE('Product SARF'!$L$6,'Product SARF'!$M$6)))","v":""},{"$f":"IF(C186=\"\",\"\",IF('Product SARF'!$L$2=\"\",\"\",'Product SARF'!$L$2))","v":""},{"$f":"IF(C186=\"\",\"\",IF('Product SARF'!$L$4=\"\",NOW(),'Product SARF'!$L$4))","v":""},"",{"$f":"IF(C186=\"\",\"\", IF(AND(NOT(ISBLANK('Product SARF'!F204)),'Product SARF'!$E$8<>\"1) NA\",'Product SARF'!$E$8<>\"1) ...\"), \"   \"&CONCATENATE('Product SARF'!$F$18,'Product SARF'!$F$19),\"\") & IF(AND(NOT(ISBLANK('Product SARF'!G204)),'Product SARF'!$E$9<>\"2) NA\",'Product SARF'!$E$9<>\"2) ...\"), \"   \"&CONCATENATE('Product SARF'!$G$18,'Product SARF'!$G$19),\"\")& IF(AND(NOT(ISBLANK('Product SARF'!H204)),'Product SARF'!$E$10<>\"3) NA\",'Product SARF'!$E$10<>\"3) ...\"), \"   \"&CONCATENATE('Product SARF'!$H$18,'Product SARF'!$H$19),\"\") & IF(AND(NOT(ISBLANK('Product SARF'!I204)),'Product SARF'!$E$11<>\"4) NA\",'Product SARF'!$E$11<>\"4) ...\"), \"   \"&CONCATENATE('Product SARF'!$I$18,'Product SARF'!$I$19),\"\")& IF(AND(NOT(ISBLANK('Product SARF'!J204)),'Product SARF'!$E$12<>\"5) NA\",'Product SARF'!$E$12<>\"5) ...\"), \"   \"&CONCATENATE('Product SARF'!$J$18,'Product SARF'!$J$19),\"\")&IF(AND(NOT(ISBLANK('Product SARF'!K204)),'Product SARF'!$E$13<>\"6) NA\",'Product SARF'!$E$13<>\"6) ...\"), \"   \"&CONCATENATE('Product SARF'!$K$18,'Product SARF'!$K$19),\"\")&IF(AND(NOT(ISBLANK('Product SARF'!L204)),'Product SARF'!$E$14<>\"7) NA\",'Product SARF'!$E$14<>\"7) ...\"), \"   \"&CONCATENATE('Product SARF'!$L$18,'Product SARF'!$L$19),\"\") &IF(AND(NOT(ISBLANK('Product SARF'!M204)),'Product SARF'!$E$15<>\"8) NA\",'Product SARF'!$E$15<>\"8) ...\"), \"   \"&CONCATENATE('Product SARF'!$M$18,'Product SARF'!$M$19),\"\"))","v":""}]
[{"$f":"IF(C187=\"\",\"\",IF('Product SARF'!B205=\"\",\"\",'Product SARF'!B205))","v":""},{"$f":"IF('Product SARF'!C205=\"\",\"\",\"Sample\")","v":""},{"$f":"IF('Product SARF'!C205=\"\",\"\",'Product SARF'!C205)","v":""},{"$f":"IF(C187=\"\",\"\",IF('Product SARF'!D205=\"\",\"\",'Product SARF'!D205))","v":""},{"$f":"IF(C187=\"\",\"\",IF('Product SARF'!E205=\"\",\"\",'Product SARF'!E205))","v":""},{"$f":"IF(C187=\"\",\"\",IF('Product SARF'!$L$6=\"\",\"\",CONCATENATE('Product SARF'!$L$6,'Product SARF'!$M$6)))","v":""},{"$f":"IF(C187=\"\",\"\",IF('Product SARF'!$L$2=\"\",\"\",'Product SARF'!$L$2))","v":""},{"$f":"IF(C187=\"\",\"\",IF('Product SARF'!$L$4=\"\",NOW(),'Product SARF'!$L$4))","v":""},"",{"$f":"IF(C187=\"\",\"\", IF(AND(NOT(ISBLANK('Product SARF'!F205)),'Product SARF'!$E$8<>\"1) NA\",'Product SARF'!$E$8<>\"1) ...\"), \"   \"&CONCATENATE('Product SARF'!$F$18,'Product SARF'!$F$19),\"\") & IF(AND(NOT(ISBLANK('Product SARF'!G205)),'Product SARF'!$E$9<>\"2) NA\",'Product SARF'!$E$9<>\"2) ...\"), \"   \"&CONCATENATE('Product SARF'!$G$18,'Product SARF'!$G$19),\"\")& IF(AND(NOT(ISBLANK('Product SARF'!H205)),'Product SARF'!$E$10<>\"3) NA\",'Product SARF'!$E$10<>\"3) ...\"), \"   \"&CONCATENATE('Product SARF'!$H$18,'Product SARF'!$H$19),\"\") & IF(AND(NOT(ISBLANK('Product SARF'!I205)),'Product SARF'!$E$11<>\"4) NA\",'Product SARF'!$E$11<>\"4) ...\"), \"   \"&CONCATENATE('Product SARF'!$I$18,'Product SARF'!$I$19),\"\")& IF(AND(NOT(ISBLANK('Product SARF'!J205)),'Product SARF'!$E$12<>\"5) NA\",'Product SARF'!$E$12<>\"5) ...\"), \"   \"&CONCATENATE('Product SARF'!$J$18,'Product SARF'!$J$19),\"\")&IF(AND(NOT(ISBLANK('Product SARF'!K205)),'Product SARF'!$E$13<>\"6) NA\",'Product SARF'!$E$13<>\"6) ...\"), \"   \"&CONCATENATE('Product SARF'!$K$18,'Product SARF'!$K$19),\"\")&IF(AND(NOT(ISBLANK('Product SARF'!L205)),'Product SARF'!$E$14<>\"7) NA\",'Product SARF'!$E$14<>\"7) ...\"), \"   \"&CONCATENATE('Product SARF'!$L$18,'Product SARF'!$L$19),\"\") &IF(AND(NOT(ISBLANK('Product SARF'!M205)),'Product SARF'!$E$15<>\"8) NA\",'Product SARF'!$E$15<>\"8) ...\"), \"   \"&CONCATENATE('Product SARF'!$M$18,'Product SARF'!$M$19),\"\"))","v":""}]
[{"$f":"IF(C188=\"\",\"\",IF('Product SARF'!B206=\"\",\"\",'Product SARF'!B206))","v":""},{"$f":"IF('Product SARF'!C206=\"\",\"\",\"Sample\")","v":""},{"$f":"IF('Product SARF'!C206=\"\",\"\",'Product SARF'!C206)","v":""},{"$f":"IF(C188=\"\",\"\",IF('Product SARF'!D206=\"\",\"\",'Product SARF'!D206))","v":""},{"$f":"IF(C188=\"\",\"\",IF('Product SARF'!E206=\"\",\"\",'Product SARF'!E206))","v":""},{"$f":"IF(C188=\"\",\"\",IF('Product SARF'!$L$6=\"\",\"\",CONCATENATE('Product SARF'!$L$6,'Product SARF'!$M$6)))","v":""},{"$f":"IF(C188=\"\",\"\",IF('Product SARF'!$L$2=\"\",\"\",'Product SARF'!$L$2))","v":""},{"$f":"IF(C188=\"\",\"\",IF('Product SARF'!$L$4=\"\",NOW(),'Product SARF'!$L$4))","v":""},"",{"$f":"IF(C188=\"\",\"\", IF(AND(NOT(ISBLANK('Product SARF'!F206)),'Product SARF'!$E$8<>\"1) NA\",'Product SARF'!$E$8<>\"1) ...\"), \"   \"&CONCATENATE('Product SARF'!$F$18,'Product SARF'!$F$19),\"\") & IF(AND(NOT(ISBLANK('Product SARF'!G206)),'Product SARF'!$E$9<>\"2) NA\",'Product SARF'!$E$9<>\"2) ...\"), \"   \"&CONCATENATE('Product SARF'!$G$18,'Product SARF'!$G$19),\"\")& IF(AND(NOT(ISBLANK('Product SARF'!H206)),'Product SARF'!$E$10<>\"3) NA\",'Product SARF'!$E$10<>\"3) ...\"), \"   \"&CONCATENATE('Product SARF'!$H$18,'Product SARF'!$H$19),\"\") & IF(AND(NOT(ISBLANK('Product SARF'!I206)),'Product SARF'!$E$11<>\"4) NA\",'Product SARF'!$E$11<>\"4) ...\"), \"   \"&CONCATENATE('Product SARF'!$I$18,'Product SARF'!$I$19),\"\")& IF(AND(NOT(ISBLANK('Product SARF'!J206)),'Product SARF'!$E$12<>\"5) NA\",'Product SARF'!$E$12<>\"5) ...\"), \"   \"&CONCATENATE('Product SARF'!$J$18,'Product SARF'!$J$19),\"\")&IF(AND(NOT(ISBLANK('Product SARF'!K206)),'Product SARF'!$E$13<>\"6) NA\",'Product SARF'!$E$13<>\"6) ...\"), \"   \"&CONCATENATE('Product SARF'!$K$18,'Product SARF'!$K$19),\"\")&IF(AND(NOT(ISBLANK('Product SARF'!L206)),'Product SARF'!$E$14<>\"7) NA\",'Product SARF'!$E$14<>\"7) ...\"), \"   \"&CONCATENATE('Product SARF'!$L$18,'Product SARF'!$L$19),\"\") &IF(AND(NOT(ISBLANK('Product SARF'!M206)),'Product SARF'!$E$15<>\"8) NA\",'Product SARF'!$E$15<>\"8) ...\"), \"   \"&CONCATENATE('Product SARF'!$M$18,'Product SARF'!$M$19),\"\"))","v":""}]
[{"$f":"IF(C189=\"\",\"\",IF('Product SARF'!B207=\"\",\"\",'Product SARF'!B207))","v":""},{"$f":"IF('Product SARF'!C207=\"\",\"\",\"Sample\")","v":""},{"$f":"IF('Product SARF'!C207=\"\",\"\",'Product SARF'!C207)","v":""},{"$f":"IF(C189=\"\",\"\",IF('Product SARF'!D207=\"\",\"\",'Product SARF'!D207))","v":""},{"$f":"IF(C189=\"\",\"\",IF('Product SARF'!E207=\"\",\"\",'Product SARF'!E207))","v":""},{"$f":"IF(C189=\"\",\"\",IF('Product SARF'!$L$6=\"\",\"\",CONCATENATE('Product SARF'!$L$6,'Product SARF'!$M$6)))","v":""},{"$f":"IF(C189=\"\",\"\",IF('Product SARF'!$L$2=\"\",\"\",'Product SARF'!$L$2))","v":""},{"$f":"IF(C189=\"\",\"\",IF('Product SARF'!$L$4=\"\",NOW(),'Product SARF'!$L$4))","v":""},"",{"$f":"IF(C189=\"\",\"\", IF(AND(NOT(ISBLANK('Product SARF'!F207)),'Product SARF'!$E$8<>\"1) NA\",'Product SARF'!$E$8<>\"1) ...\"), \"   \"&CONCATENATE('Product SARF'!$F$18,'Product SARF'!$F$19),\"\") & IF(AND(NOT(ISBLANK('Product SARF'!G207)),'Product SARF'!$E$9<>\"2) NA\",'Product SARF'!$E$9<>\"2) ...\"), \"   \"&CONCATENATE('Product SARF'!$G$18,'Product SARF'!$G$19),\"\")& IF(AND(NOT(ISBLANK('Product SARF'!H207)),'Product SARF'!$E$10<>\"3) NA\",'Product SARF'!$E$10<>\"3) ...\"), \"   \"&CONCATENATE('Product SARF'!$H$18,'Product SARF'!$H$19),\"\") & IF(AND(NOT(ISBLANK('Product SARF'!I207)),'Product SARF'!$E$11<>\"4) NA\",'Product SARF'!$E$11<>\"4) ...\"), \"   \"&CONCATENATE('Product SARF'!$I$18,'Product SARF'!$I$19),\"\")& IF(AND(NOT(ISBLANK('Product SARF'!J207)),'Product SARF'!$E$12<>\"5) NA\",'Product SARF'!$E$12<>\"5) ...\"), \"   \"&CONCATENATE('Product SARF'!$J$18,'Product SARF'!$J$19),\"\")&IF(AND(NOT(ISBLANK('Product SARF'!K207)),'Product SARF'!$E$13<>\"6) NA\",'Product SARF'!$E$13<>\"6) ...\"), \"   \"&CONCATENATE('Product SARF'!$K$18,'Product SARF'!$K$19),\"\")&IF(AND(NOT(ISBLANK('Product SARF'!L207)),'Product SARF'!$E$14<>\"7) NA\",'Product SARF'!$E$14<>\"7) ...\"), \"   \"&CONCATENATE('Product SARF'!$L$18,'Product SARF'!$L$19),\"\") &IF(AND(NOT(ISBLANK('Product SARF'!M207)),'Product SARF'!$E$15<>\"8) NA\",'Product SARF'!$E$15<>\"8) ...\"), \"   \"&CONCATENATE('Product SARF'!$M$18,'Product SARF'!$M$19),\"\"))","v":""}]
[{"$f":"IF(C190=\"\",\"\",IF('Product SARF'!B208=\"\",\"\",'Product SARF'!B208))","v":""},{"$f":"IF('Product SARF'!C208=\"\",\"\",\"Sample\")","v":""},{"$f":"IF('Product SARF'!C208=\"\",\"\",'Product SARF'!C208)","v":""},{"$f":"IF(C190=\"\",\"\",IF('Product SARF'!D208=\"\",\"\",'Product SARF'!D208))","v":""},{"$f":"IF(C190=\"\",\"\",IF('Product SARF'!E208=\"\",\"\",'Product SARF'!E208))","v":""},{"$f":"IF(C190=\"\",\"\",IF('Product SARF'!$L$6=\"\",\"\",CONCATENATE('Product SARF'!$L$6,'Product SARF'!$M$6)))","v":""},{"$f":"IF(C190=\"\",\"\",IF('Product SARF'!$L$2=\"\",\"\",'Product SARF'!$L$2))","v":""},{"$f":"IF(C190=\"\",\"\",IF('Product SARF'!$L$4=\"\",NOW(),'Product SARF'!$L$4))","v":""},"",{"$f":"IF(C190=\"\",\"\", IF(AND(NOT(ISBLANK('Product SARF'!F208)),'Product SARF'!$E$8<>\"1) NA\",'Product SARF'!$E$8<>\"1) ...\"), \"   \"&CONCATENATE('Product SARF'!$F$18,'Product SARF'!$F$19),\"\") & IF(AND(NOT(ISBLANK('Product SARF'!G208)),'Product SARF'!$E$9<>\"2) NA\",'Product SARF'!$E$9<>\"2) ...\"), \"   \"&CONCATENATE('Product SARF'!$G$18,'Product SARF'!$G$19),\"\")& IF(AND(NOT(ISBLANK('Product SARF'!H208)),'Product SARF'!$E$10<>\"3) NA\",'Product SARF'!$E$10<>\"3) ...\"), \"   \"&CONCATENATE('Product SARF'!$H$18,'Product SARF'!$H$19),\"\") & IF(AND(NOT(ISBLANK('Product SARF'!I208)),'Product SARF'!$E$11<>\"4) NA\",'Product SARF'!$E$11<>\"4) ...\"), \"   \"&CONCATENATE('Product SARF'!$I$18,'Product SARF'!$I$19),\"\")& IF(AND(NOT(ISBLANK('Product SARF'!J208)),'Product SARF'!$E$12<>\"5) NA\",'Product SARF'!$E$12<>\"5) ...\"), \"   \"&CONCATENATE('Product SARF'!$J$18,'Product SARF'!$J$19),\"\")&IF(AND(NOT(ISBLANK('Product SARF'!K208)),'Product SARF'!$E$13<>\"6) NA\",'Product SARF'!$E$13<>\"6) ...\"), \"   \"&CONCATENATE('Product SARF'!$K$18,'Product SARF'!$K$19),\"\")&IF(AND(NOT(ISBLANK('Product SARF'!L208)),'Product SARF'!$E$14<>\"7) NA\",'Product SARF'!$E$14<>\"7) ...\"), \"   \"&CONCATENATE('Product SARF'!$L$18,'Product SARF'!$L$19),\"\") &IF(AND(NOT(ISBLANK('Product SARF'!M208)),'Product SARF'!$E$15<>\"8) NA\",'Product SARF'!$E$15<>\"8) ...\"), \"   \"&CONCATENATE('Product SARF'!$M$18,'Product SARF'!$M$19),\"\"))","v":""}]
[{"$f":"IF(C191=\"\",\"\",IF('Product SARF'!B209=\"\",\"\",'Product SARF'!B209))","v":""},{"$f":"IF('Product SARF'!C209=\"\",\"\",\"Sample\")","v":""},{"$f":"IF('Product SARF'!C209=\"\",\"\",'Product SARF'!C209)","v":""},{"$f":"IF(C191=\"\",\"\",IF('Product SARF'!D209=\"\",\"\",'Product SARF'!D209))","v":""},{"$f":"IF(C191=\"\",\"\",IF('Product SARF'!E209=\"\",\"\",'Product SARF'!E209))","v":""},{"$f":"IF(C191=\"\",\"\",IF('Product SARF'!$L$6=\"\",\"\",CONCATENATE('Product SARF'!$L$6,'Product SARF'!$M$6)))","v":""},{"$f":"IF(C191=\"\",\"\",IF('Product SARF'!$L$2=\"\",\"\",'Product SARF'!$L$2))","v":""},{"$f":"IF(C191=\"\",\"\",IF('Product SARF'!$L$4=\"\",NOW(),'Product SARF'!$L$4))","v":""},"",{"$f":"IF(C191=\"\",\"\", IF(AND(NOT(ISBLANK('Product SARF'!F209)),'Product SARF'!$E$8<>\"1) NA\",'Product SARF'!$E$8<>\"1) ...\"), \"   \"&CONCATENATE('Product SARF'!$F$18,'Product SARF'!$F$19),\"\") & IF(AND(NOT(ISBLANK('Product SARF'!G209)),'Product SARF'!$E$9<>\"2) NA\",'Product SARF'!$E$9<>\"2) ...\"), \"   \"&CONCATENATE('Product SARF'!$G$18,'Product SARF'!$G$19),\"\")& IF(AND(NOT(ISBLANK('Product SARF'!H209)),'Product SARF'!$E$10<>\"3) NA\",'Product SARF'!$E$10<>\"3) ...\"), \"   \"&CONCATENATE('Product SARF'!$H$18,'Product SARF'!$H$19),\"\") & IF(AND(NOT(ISBLANK('Product SARF'!I209)),'Product SARF'!$E$11<>\"4) NA\",'Product SARF'!$E$11<>\"4) ...\"), \"   \"&CONCATENATE('Product SARF'!$I$18,'Product SARF'!$I$19),\"\")& IF(AND(NOT(ISBLANK('Product SARF'!J209)),'Product SARF'!$E$12<>\"5) NA\",'Product SARF'!$E$12<>\"5) ...\"), \"   \"&CONCATENATE('Product SARF'!$J$18,'Product SARF'!$J$19),\"\")&IF(AND(NOT(ISBLANK('Product SARF'!K209)),'Product SARF'!$E$13<>\"6) NA\",'Product SARF'!$E$13<>\"6) ...\"), \"   \"&CONCATENATE('Product SARF'!$K$18,'Product SARF'!$K$19),\"\")&IF(AND(NOT(ISBLANK('Product SARF'!L209)),'Product SARF'!$E$14<>\"7) NA\",'Product SARF'!$E$14<>\"7) ...\"), \"   \"&CONCATENATE('Product SARF'!$L$18,'Product SARF'!$L$19),\"\") &IF(AND(NOT(ISBLANK('Product SARF'!M209)),'Product SARF'!$E$15<>\"8) NA\",'Product SARF'!$E$15<>\"8) ...\"), \"   \"&CONCATENATE('Product SARF'!$M$18,'Product SARF'!$M$19),\"\"))","v":""}]
[{"$f":"IF(C192=\"\",\"\",IF('Product SARF'!B210=\"\",\"\",'Product SARF'!B210))","v":""},{"$f":"IF('Product SARF'!C210=\"\",\"\",\"Sample\")","v":""},{"$f":"IF('Product SARF'!C210=\"\",\"\",'Product SARF'!C210)","v":""},{"$f":"IF(C192=\"\",\"\",IF('Product SARF'!D210=\"\",\"\",'Product SARF'!D210))","v":""},{"$f":"IF(C192=\"\",\"\",IF('Product SARF'!E210=\"\",\"\",'Product SARF'!E210))","v":""},{"$f":"IF(C192=\"\",\"\",IF('Product SARF'!$L$6=\"\",\"\",CONCATENATE('Product SARF'!$L$6,'Product SARF'!$M$6)))","v":""},{"$f":"IF(C192=\"\",\"\",IF('Product SARF'!$L$2=\"\",\"\",'Product SARF'!$L$2))","v":""},{"$f":"IF(C192=\"\",\"\",IF('Product SARF'!$L$4=\"\",NOW(),'Product SARF'!$L$4))","v":""},"",{"$f":"IF(C192=\"\",\"\", IF(AND(NOT(ISBLANK('Product SARF'!F210)),'Product SARF'!$E$8<>\"1) NA\",'Product SARF'!$E$8<>\"1) ...\"), \"   \"&CONCATENATE('Product SARF'!$F$18,'Product SARF'!$F$19),\"\") & IF(AND(NOT(ISBLANK('Product SARF'!G210)),'Product SARF'!$E$9<>\"2) NA\",'Product SARF'!$E$9<>\"2) ...\"), \"   \"&CONCATENATE('Product SARF'!$G$18,'Product SARF'!$G$19),\"\")& IF(AND(NOT(ISBLANK('Product SARF'!H210)),'Product SARF'!$E$10<>\"3) NA\",'Product SARF'!$E$10<>\"3) ...\"), \"   \"&CONCATENATE('Product SARF'!$H$18,'Product SARF'!$H$19),\"\") & IF(AND(NOT(ISBLANK('Product SARF'!I210)),'Product SARF'!$E$11<>\"4) NA\",'Product SARF'!$E$11<>\"4) ...\"), \"   \"&CONCATENATE('Product SARF'!$I$18,'Product SARF'!$I$19),\"\")& IF(AND(NOT(ISBLANK('Product SARF'!J210)),'Product SARF'!$E$12<>\"5) NA\",'Product SARF'!$E$12<>\"5) ...\"), \"   \"&CONCATENATE('Product SARF'!$J$18,'Product SARF'!$J$19),\"\")&IF(AND(NOT(ISBLANK('Product SARF'!K210)),'Product SARF'!$E$13<>\"6) NA\",'Product SARF'!$E$13<>\"6) ...\"), \"   \"&CONCATENATE('Product SARF'!$K$18,'Product SARF'!$K$19),\"\")&IF(AND(NOT(ISBLANK('Product SARF'!L210)),'Product SARF'!$E$14<>\"7) NA\",'Product SARF'!$E$14<>\"7) ...\"), \"   \"&CONCATENATE('Product SARF'!$L$18,'Product SARF'!$L$19),\"\") &IF(AND(NOT(ISBLANK('Product SARF'!M210)),'Product SARF'!$E$15<>\"8) NA\",'Product SARF'!$E$15<>\"8) ...\"), \"   \"&CONCATENATE('Product SARF'!$M$18,'Product SARF'!$M$19),\"\"))","v":""}]
[{"$f":"IF(C193=\"\",\"\",IF('Product SARF'!B211=\"\",\"\",'Product SARF'!B211))","v":""},{"$f":"IF('Product SARF'!C211=\"\",\"\",\"Sample\")","v":""},{"$f":"IF('Product SARF'!C211=\"\",\"\",'Product SARF'!C211)","v":""},{"$f":"IF(C193=\"\",\"\",IF('Product SARF'!D211=\"\",\"\",'Product SARF'!D211))","v":""},{"$f":"IF(C193=\"\",\"\",IF('Product SARF'!E211=\"\",\"\",'Product SARF'!E211))","v":""},{"$f":"IF(C193=\"\",\"\",IF('Product SARF'!$L$6=\"\",\"\",CONCATENATE('Product SARF'!$L$6,'Product SARF'!$M$6)))","v":""},{"$f":"IF(C193=\"\",\"\",IF('Product SARF'!$L$2=\"\",\"\",'Product SARF'!$L$2))","v":""},{"$f":"IF(C193=\"\",\"\",IF('Product SARF'!$L$4=\"\",NOW(),'Product SARF'!$L$4))","v":""},"",{"$f":"IF(C193=\"\",\"\", IF(AND(NOT(ISBLANK('Product SARF'!F211)),'Product SARF'!$E$8<>\"1) NA\",'Product SARF'!$E$8<>\"1) ...\"), \"   \"&CONCATENATE('Product SARF'!$F$18,'Product SARF'!$F$19),\"\") & IF(AND(NOT(ISBLANK('Product SARF'!G211)),'Product SARF'!$E$9<>\"2) NA\",'Product SARF'!$E$9<>\"2) ...\"), \"   \"&CONCATENATE('Product SARF'!$G$18,'Product SARF'!$G$19),\"\")& IF(AND(NOT(ISBLANK('Product SARF'!H211)),'Product SARF'!$E$10<>\"3) NA\",'Product SARF'!$E$10<>\"3) ...\"), \"   \"&CONCATENATE('Product SARF'!$H$18,'Product SARF'!$H$19),\"\") & IF(AND(NOT(ISBLANK('Product SARF'!I211)),'Product SARF'!$E$11<>\"4) NA\",'Product SARF'!$E$11<>\"4) ...\"), \"   \"&CONCATENATE('Product SARF'!$I$18,'Product SARF'!$I$19),\"\")& IF(AND(NOT(ISBLANK('Product SARF'!J211)),'Product SARF'!$E$12<>\"5) NA\",'Product SARF'!$E$12<>\"5) ...\"), \"   \"&CONCATENATE('Product SARF'!$J$18,'Product SARF'!$J$19),\"\")&IF(AND(NOT(ISBLANK('Product SARF'!K211)),'Product SARF'!$E$13<>\"6) NA\",'Product SARF'!$E$13<>\"6) ...\"), \"   \"&CONCATENATE('Product SARF'!$K$18,'Product SARF'!$K$19),\"\")&IF(AND(NOT(ISBLANK('Product SARF'!L211)),'Product SARF'!$E$14<>\"7) NA\",'Product SARF'!$E$14<>\"7) ...\"), \"   \"&CONCATENATE('Product SARF'!$L$18,'Product SARF'!$L$19),\"\") &IF(AND(NOT(ISBLANK('Product SARF'!M211)),'Product SARF'!$E$15<>\"8) NA\",'Product SARF'!$E$15<>\"8) ...\"), \"   \"&CONCATENATE('Product SARF'!$M$18,'Product SARF'!$M$19),\"\"))","v":""}]
[{"$f":"IF(C194=\"\",\"\",IF('Product SARF'!B212=\"\",\"\",'Product SARF'!B212))","v":""},{"$f":"IF('Product SARF'!C212=\"\",\"\",\"Sample\")","v":""},{"$f":"IF('Product SARF'!C212=\"\",\"\",'Product SARF'!C212)","v":""},{"$f":"IF(C194=\"\",\"\",IF('Product SARF'!D212=\"\",\"\",'Product SARF'!D212))","v":""},{"$f":"IF(C194=\"\",\"\",IF('Product SARF'!E212=\"\",\"\",'Product SARF'!E212))","v":""},{"$f":"IF(C194=\"\",\"\",IF('Product SARF'!$L$6=\"\",\"\",CONCATENATE('Product SARF'!$L$6,'Product SARF'!$M$6)))","v":""},{"$f":"IF(C194=\"\",\"\",IF('Product SARF'!$L$2=\"\",\"\",'Product SARF'!$L$2))","v":""},{"$f":"IF(C194=\"\",\"\",IF('Product SARF'!$L$4=\"\",NOW(),'Product SARF'!$L$4))","v":""},"",{"$f":"IF(C194=\"\",\"\", IF(AND(NOT(ISBLANK('Product SARF'!F212)),'Product SARF'!$E$8<>\"1) NA\",'Product SARF'!$E$8<>\"1) ...\"), \"   \"&CONCATENATE('Product SARF'!$F$18,'Product SARF'!$F$19),\"\") & IF(AND(NOT(ISBLANK('Product SARF'!G212)),'Product SARF'!$E$9<>\"2) NA\",'Product SARF'!$E$9<>\"2) ...\"), \"   \"&CONCATENATE('Product SARF'!$G$18,'Product SARF'!$G$19),\"\")& IF(AND(NOT(ISBLANK('Product SARF'!H212)),'Product SARF'!$E$10<>\"3) NA\",'Product SARF'!$E$10<>\"3) ...\"), \"   \"&CONCATENATE('Product SARF'!$H$18,'Product SARF'!$H$19),\"\") & IF(AND(NOT(ISBLANK('Product SARF'!I212)),'Product SARF'!$E$11<>\"4) NA\",'Product SARF'!$E$11<>\"4) ...\"), \"   \"&CONCATENATE('Product SARF'!$I$18,'Product SARF'!$I$19),\"\")& IF(AND(NOT(ISBLANK('Product SARF'!J212)),'Product SARF'!$E$12<>\"5) NA\",'Product SARF'!$E$12<>\"5) ...\"), \"   \"&CONCATENATE('Product SARF'!$J$18,'Product SARF'!$J$19),\"\")&IF(AND(NOT(ISBLANK('Product SARF'!K212)),'Product SARF'!$E$13<>\"6) NA\",'Product SARF'!$E$13<>\"6) ...\"), \"   \"&CONCATENATE('Product SARF'!$K$18,'Product SARF'!$K$19),\"\")&IF(AND(NOT(ISBLANK('Product SARF'!L212)),'Product SARF'!$E$14<>\"7) NA\",'Product SARF'!$E$14<>\"7) ...\"), \"   \"&CONCATENATE('Product SARF'!$L$18,'Product SARF'!$L$19),\"\") &IF(AND(NOT(ISBLANK('Product SARF'!M212)),'Product SARF'!$E$15<>\"8) NA\",'Product SARF'!$E$15<>\"8) ...\"), \"   \"&CONCATENATE('Product SARF'!$M$18,'Product SARF'!$M$19),\"\"))","v":""}]
[{"$f":"IF(C195=\"\",\"\",IF('Product SARF'!B213=\"\",\"\",'Product SARF'!B213))","v":""},{"$f":"IF('Product SARF'!C213=\"\",\"\",\"Sample\")","v":""},{"$f":"IF('Product SARF'!C213=\"\",\"\",'Product SARF'!C213)","v":""},{"$f":"IF(C195=\"\",\"\",IF('Product SARF'!D213=\"\",\"\",'Product SARF'!D213))","v":""},{"$f":"IF(C195=\"\",\"\",IF('Product SARF'!E213=\"\",\"\",'Product SARF'!E213))","v":""},{"$f":"IF(C195=\"\",\"\",IF('Product SARF'!$L$6=\"\",\"\",CONCATENATE('Product SARF'!$L$6,'Product SARF'!$M$6)))","v":""},{"$f":"IF(C195=\"\",\"\",IF('Product SARF'!$L$2=\"\",\"\",'Product SARF'!$L$2))","v":""},{"$f":"IF(C195=\"\",\"\",IF('Product SARF'!$L$4=\"\",NOW(),'Product SARF'!$L$4))","v":""},"",{"$f":"IF(C195=\"\",\"\", IF(AND(NOT(ISBLANK('Product SARF'!F213)),'Product SARF'!$E$8<>\"1) NA\",'Product SARF'!$E$8<>\"1) ...\"), \"   \"&CONCATENATE('Product SARF'!$F$18,'Product SARF'!$F$19),\"\") & IF(AND(NOT(ISBLANK('Product SARF'!G213)),'Product SARF'!$E$9<>\"2) NA\",'Product SARF'!$E$9<>\"2) ...\"), \"   \"&CONCATENATE('Product SARF'!$G$18,'Product SARF'!$G$19),\"\")& IF(AND(NOT(ISBLANK('Product SARF'!H213)),'Product SARF'!$E$10<>\"3) NA\",'Product SARF'!$E$10<>\"3) ...\"), \"   \"&CONCATENATE('Product SARF'!$H$18,'Product SARF'!$H$19),\"\") & IF(AND(NOT(ISBLANK('Product SARF'!I213)),'Product SARF'!$E$11<>\"4) NA\",'Product SARF'!$E$11<>\"4) ...\"), \"   \"&CONCATENATE('Product SARF'!$I$18,'Product SARF'!$I$19),\"\")& IF(AND(NOT(ISBLANK('Product SARF'!J213)),'Product SARF'!$E$12<>\"5) NA\",'Product SARF'!$E$12<>\"5) ...\"), \"   \"&CONCATENATE('Product SARF'!$J$18,'Product SARF'!$J$19),\"\")&IF(AND(NOT(ISBLANK('Product SARF'!K213)),'Product SARF'!$E$13<>\"6) NA\",'Product SARF'!$E$13<>\"6) ...\"), \"   \"&CONCATENATE('Product SARF'!$K$18,'Product SARF'!$K$19),\"\")&IF(AND(NOT(ISBLANK('Product SARF'!L213)),'Product SARF'!$E$14<>\"7) NA\",'Product SARF'!$E$14<>\"7) ...\"), \"   \"&CONCATENATE('Product SARF'!$L$18,'Product SARF'!$L$19),\"\") &IF(AND(NOT(ISBLANK('Product SARF'!M213)),'Product SARF'!$E$15<>\"8) NA\",'Product SARF'!$E$15<>\"8) ...\"), \"   \"&CONCATENATE('Product SARF'!$M$18,'Product SARF'!$M$19),\"\"))","v":""}]
[{"$f":"IF(C196=\"\",\"\",IF('Product SARF'!B214=\"\",\"\",'Product SARF'!B214))","v":""},{"$f":"IF('Product SARF'!C214=\"\",\"\",\"Sample\")","v":""},{"$f":"IF('Product SARF'!C214=\"\",\"\",'Product SARF'!C214)","v":""},{"$f":"IF(C196=\"\",\"\",IF('Product SARF'!D214=\"\",\"\",'Product SARF'!D214))","v":""},{"$f":"IF(C196=\"\",\"\",IF('Product SARF'!E214=\"\",\"\",'Product SARF'!E214))","v":""},{"$f":"IF(C196=\"\",\"\",IF('Product SARF'!$L$6=\"\",\"\",CONCATENATE('Product SARF'!$L$6,'Product SARF'!$M$6)))","v":""},{"$f":"IF(C196=\"\",\"\",IF('Product SARF'!$L$2=\"\",\"\",'Product SARF'!$L$2))","v":""},{"$f":"IF(C196=\"\",\"\",IF('Product SARF'!$L$4=\"\",NOW(),'Product SARF'!$L$4))","v":""},"",{"$f":"IF(C196=\"\",\"\", IF(AND(NOT(ISBLANK('Product SARF'!F214)),'Product SARF'!$E$8<>\"1) NA\",'Product SARF'!$E$8<>\"1) ...\"), \"   \"&CONCATENATE('Product SARF'!$F$18,'Product SARF'!$F$19),\"\") & IF(AND(NOT(ISBLANK('Product SARF'!G214)),'Product SARF'!$E$9<>\"2) NA\",'Product SARF'!$E$9<>\"2) ...\"), \"   \"&CONCATENATE('Product SARF'!$G$18,'Product SARF'!$G$19),\"\")& IF(AND(NOT(ISBLANK('Product SARF'!H214)),'Product SARF'!$E$10<>\"3) NA\",'Product SARF'!$E$10<>\"3) ...\"), \"   \"&CONCATENATE('Product SARF'!$H$18,'Product SARF'!$H$19),\"\") & IF(AND(NOT(ISBLANK('Product SARF'!I214)),'Product SARF'!$E$11<>\"4) NA\",'Product SARF'!$E$11<>\"4) ...\"), \"   \"&CONCATENATE('Product SARF'!$I$18,'Product SARF'!$I$19),\"\")& IF(AND(NOT(ISBLANK('Product SARF'!J214)),'Product SARF'!$E$12<>\"5) NA\",'Product SARF'!$E$12<>\"5) ...\"), \"   \"&CONCATENATE('Product SARF'!$J$18,'Product SARF'!$J$19),\"\")&IF(AND(NOT(ISBLANK('Product SARF'!K214)),'Product SARF'!$E$13<>\"6) NA\",'Product SARF'!$E$13<>\"6) ...\"), \"   \"&CONCATENATE('Product SARF'!$K$18,'Product SARF'!$K$19),\"\")&IF(AND(NOT(ISBLANK('Product SARF'!L214)),'Product SARF'!$E$14<>\"7) NA\",'Product SARF'!$E$14<>\"7) ...\"), \"   \"&CONCATENATE('Product SARF'!$L$18,'Product SARF'!$L$19),\"\") &IF(AND(NOT(ISBLANK('Product SARF'!M214)),'Product SARF'!$E$15<>\"8) NA\",'Product SARF'!$E$15<>\"8) ...\"), \"   \"&CONCATENATE('Product SARF'!$M$18,'Product SARF'!$M$19),\"\"))","v":""}]
[{"$f":"IF(C197=\"\",\"\",IF('Product SARF'!B215=\"\",\"\",'Product SARF'!B215))","v":""},{"$f":"IF('Product SARF'!C215=\"\",\"\",\"Sample\")","v":""},{"$f":"IF('Product SARF'!C215=\"\",\"\",'Product SARF'!C215)","v":""},{"$f":"IF(C197=\"\",\"\",IF('Product SARF'!D215=\"\",\"\",'Product SARF'!D215))","v":""},{"$f":"IF(C197=\"\",\"\",IF('Product SARF'!E215=\"\",\"\",'Product SARF'!E215))","v":""},{"$f":"IF(C197=\"\",\"\",IF('Product SARF'!$L$6=\"\",\"\",CONCATENATE('Product SARF'!$L$6,'Product SARF'!$M$6)))","v":""},{"$f":"IF(C197=\"\",\"\",IF('Product SARF'!$L$2=\"\",\"\",'Product SARF'!$L$2))","v":""},{"$f":"IF(C197=\"\",\"\",IF('Product SARF'!$L$4=\"\",NOW(),'Product SARF'!$L$4))","v":""},"",{"$f":"IF(C197=\"\",\"\", IF(AND(NOT(ISBLANK('Product SARF'!F215)),'Product SARF'!$E$8<>\"1) NA\",'Product SARF'!$E$8<>\"1) ...\"), \"   \"&CONCATENATE('Product SARF'!$F$18,'Product SARF'!$F$19),\"\") & IF(AND(NOT(ISBLANK('Product SARF'!G215)),'Product SARF'!$E$9<>\"2) NA\",'Product SARF'!$E$9<>\"2) ...\"), \"   \"&CONCATENATE('Product SARF'!$G$18,'Product SARF'!$G$19),\"\")& IF(AND(NOT(ISBLANK('Product SARF'!H215)),'Product SARF'!$E$10<>\"3) NA\",'Product SARF'!$E$10<>\"3) ...\"), \"   \"&CONCATENATE('Product SARF'!$H$18,'Product SARF'!$H$19),\"\") & IF(AND(NOT(ISBLANK('Product SARF'!I215)),'Product SARF'!$E$11<>\"4) NA\",'Product SARF'!$E$11<>\"4) ...\"), \"   \"&CONCATENATE('Product SARF'!$I$18,'Product SARF'!$I$19),\"\")& IF(AND(NOT(ISBLANK('Product SARF'!J215)),'Product SARF'!$E$12<>\"5) NA\",'Product SARF'!$E$12<>\"5) ...\"), \"   \"&CONCATENATE('Product SARF'!$J$18,'Product SARF'!$J$19),\"\")&IF(AND(NOT(ISBLANK('Product SARF'!K215)),'Product SARF'!$E$13<>\"6) NA\",'Product SARF'!$E$13<>\"6) ...\"), \"   \"&CONCATENATE('Product SARF'!$K$18,'Product SARF'!$K$19),\"\")&IF(AND(NOT(ISBLANK('Product SARF'!L215)),'Product SARF'!$E$14<>\"7) NA\",'Product SARF'!$E$14<>\"7) ...\"), \"   \"&CONCATENATE('Product SARF'!$L$18,'Product SARF'!$L$19),\"\") &IF(AND(NOT(ISBLANK('Product SARF'!M215)),'Product SARF'!$E$15<>\"8) NA\",'Product SARF'!$E$15<>\"8) ...\"), \"   \"&CONCATENATE('Product SARF'!$M$18,'Product SARF'!$M$19),\"\"))","v":""}]
[{"$f":"IF(C198=\"\",\"\",IF('Product SARF'!B216=\"\",\"\",'Product SARF'!B216))","v":""},{"$f":"IF('Product SARF'!C216=\"\",\"\",\"Sample\")","v":""},{"$f":"IF('Product SARF'!C216=\"\",\"\",'Product SARF'!C216)","v":""},{"$f":"IF(C198=\"\",\"\",IF('Product SARF'!D216=\"\",\"\",'Product SARF'!D216))","v":""},{"$f":"IF(C198=\"\",\"\",IF('Product SARF'!E216=\"\",\"\",'Product SARF'!E216))","v":""},{"$f":"IF(C198=\"\",\"\",IF('Product SARF'!$L$6=\"\",\"\",CONCATENATE('Product SARF'!$L$6,'Product SARF'!$M$6)))","v":""},{"$f":"IF(C198=\"\",\"\",IF('Product SARF'!$L$2=\"\",\"\",'Product SARF'!$L$2))","v":""},{"$f":"IF(C198=\"\",\"\",IF('Product SARF'!$L$4=\"\",NOW(),'Product SARF'!$L$4))","v":""},"",{"$f":"IF(C198=\"\",\"\", IF(AND(NOT(ISBLANK('Product SARF'!F216)),'Product SARF'!$E$8<>\"1) NA\",'Product SARF'!$E$8<>\"1) ...\"), \"   \"&CONCATENATE('Product SARF'!$F$18,'Product SARF'!$F$19),\"\") & IF(AND(NOT(ISBLANK('Product SARF'!G216)),'Product SARF'!$E$9<>\"2) NA\",'Product SARF'!$E$9<>\"2) ...\"), \"   \"&CONCATENATE('Product SARF'!$G$18,'Product SARF'!$G$19),\"\")& IF(AND(NOT(ISBLANK('Product SARF'!H216)),'Product SARF'!$E$10<>\"3) NA\",'Product SARF'!$E$10<>\"3) ...\"), \"   \"&CONCATENATE('Product SARF'!$H$18,'Product SARF'!$H$19),\"\") & IF(AND(NOT(ISBLANK('Product SARF'!I216)),'Product SARF'!$E$11<>\"4) NA\",'Product SARF'!$E$11<>\"4) ...\"), \"   \"&CONCATENATE('Product SARF'!$I$18,'Product SARF'!$I$19),\"\")& IF(AND(NOT(ISBLANK('Product SARF'!J216)),'Product SARF'!$E$12<>\"5) NA\",'Product SARF'!$E$12<>\"5) ...\"), \"   \"&CONCATENATE('Product SARF'!$J$18,'Product SARF'!$J$19),\"\")&IF(AND(NOT(ISBLANK('Product SARF'!K216)),'Product SARF'!$E$13<>\"6) NA\",'Product SARF'!$E$13<>\"6) ...\"), \"   \"&CONCATENATE('Product SARF'!$K$18,'Product SARF'!$K$19),\"\")&IF(AND(NOT(ISBLANK('Product SARF'!L216)),'Product SARF'!$E$14<>\"7) NA\",'Product SARF'!$E$14<>\"7) ...\"), \"   \"&CONCATENATE('Product SARF'!$L$18,'Product SARF'!$L$19),\"\") &IF(AND(NOT(ISBLANK('Product SARF'!M216)),'Product SARF'!$E$15<>\"8) NA\",'Product SARF'!$E$15<>\"8) ...\"), \"   \"&CONCATENATE('Product SARF'!$M$18,'Product SARF'!$M$19),\"\"))","v":""}]
[{"$f":"IF(C199=\"\",\"\",IF('Product SARF'!B217=\"\",\"\",'Product SARF'!B217))","v":""},{"$f":"IF('Product SARF'!C217=\"\",\"\",\"Sample\")","v":""},{"$f":"IF('Product SARF'!C217=\"\",\"\",'Product SARF'!C217)","v":""},{"$f":"IF(C199=\"\",\"\",IF('Product SARF'!D217=\"\",\"\",'Product SARF'!D217))","v":""},{"$f":"IF(C199=\"\",\"\",IF('Product SARF'!E217=\"\",\"\",'Product SARF'!E217))","v":""},{"$f":"IF(C199=\"\",\"\",IF('Product SARF'!$L$6=\"\",\"\",CONCATENATE('Product SARF'!$L$6,'Product SARF'!$M$6)))","v":""},{"$f":"IF(C199=\"\",\"\",IF('Product SARF'!$L$2=\"\",\"\",'Product SARF'!$L$2))","v":""},{"$f":"IF(C199=\"\",\"\",IF('Product SARF'!$L$4=\"\",NOW(),'Product SARF'!$L$4))","v":""},"",{"$f":"IF(C199=\"\",\"\", IF(AND(NOT(ISBLANK('Product SARF'!F217)),'Product SARF'!$E$8<>\"1) NA\",'Product SARF'!$E$8<>\"1) ...\"), \"   \"&CONCATENATE('Product SARF'!$F$18,'Product SARF'!$F$19),\"\") & IF(AND(NOT(ISBLANK('Product SARF'!G217)),'Product SARF'!$E$9<>\"2) NA\",'Product SARF'!$E$9<>\"2) ...\"), \"   \"&CONCATENATE('Product SARF'!$G$18,'Product SARF'!$G$19),\"\")& IF(AND(NOT(ISBLANK('Product SARF'!H217)),'Product SARF'!$E$10<>\"3) NA\",'Product SARF'!$E$10<>\"3) ...\"), \"   \"&CONCATENATE('Product SARF'!$H$18,'Product SARF'!$H$19),\"\") & IF(AND(NOT(ISBLANK('Product SARF'!I217)),'Product SARF'!$E$11<>\"4) NA\",'Product SARF'!$E$11<>\"4) ...\"), \"   \"&CONCATENATE('Product SARF'!$I$18,'Product SARF'!$I$19),\"\")& IF(AND(NOT(ISBLANK('Product SARF'!J217)),'Product SARF'!$E$12<>\"5) NA\",'Product SARF'!$E$12<>\"5) ...\"), \"   \"&CONCATENATE('Product SARF'!$J$18,'Product SARF'!$J$19),\"\")&IF(AND(NOT(ISBLANK('Product SARF'!K217)),'Product SARF'!$E$13<>\"6) NA\",'Product SARF'!$E$13<>\"6) ...\"), \"   \"&CONCATENATE('Product SARF'!$K$18,'Product SARF'!$K$19),\"\")&IF(AND(NOT(ISBLANK('Product SARF'!L217)),'Product SARF'!$E$14<>\"7) NA\",'Product SARF'!$E$14<>\"7) ...\"), \"   \"&CONCATENATE('Product SARF'!$L$18,'Product SARF'!$L$19),\"\") &IF(AND(NOT(ISBLANK('Product SARF'!M217)),'Product SARF'!$E$15<>\"8) NA\",'Product SARF'!$E$15<>\"8) ...\"), \"   \"&CONCATENATE('Product SARF'!$M$18,'Product SARF'!$M$19),\"\"))","v":""}]
[{"$f":"IF(C200=\"\",\"\",IF('Product SARF'!B218=\"\",\"\",'Product SARF'!B218))","v":""},{"$f":"IF('Product SARF'!C218=\"\",\"\",\"Sample\")","v":""},{"$f":"IF('Product SARF'!C218=\"\",\"\",'Product SARF'!C218)","v":""},{"$f":"IF(C200=\"\",\"\",IF('Product SARF'!D218=\"\",\"\",'Product SARF'!D218))","v":""},{"$f":"IF(C200=\"\",\"\",IF('Product SARF'!E218=\"\",\"\",'Product SARF'!E218))","v":""},{"$f":"IF(C200=\"\",\"\",IF('Product SARF'!$L$6=\"\",\"\",CONCATENATE('Product SARF'!$L$6,'Product SARF'!$M$6)))","v":""},{"$f":"IF(C200=\"\",\"\",IF('Product SARF'!$L$2=\"\",\"\",'Product SARF'!$L$2))","v":""},{"$f":"IF(C200=\"\",\"\",IF('Product SARF'!$L$4=\"\",NOW(),'Product SARF'!$L$4))","v":""},"",{"$f":"IF(C200=\"\",\"\", IF(AND(NOT(ISBLANK('Product SARF'!F218)),'Product SARF'!$E$8<>\"1) NA\",'Product SARF'!$E$8<>\"1) ...\"), \"   \"&CONCATENATE('Product SARF'!$F$18,'Product SARF'!$F$19),\"\") & IF(AND(NOT(ISBLANK('Product SARF'!G218)),'Product SARF'!$E$9<>\"2) NA\",'Product SARF'!$E$9<>\"2) ...\"), \"   \"&CONCATENATE('Product SARF'!$G$18,'Product SARF'!$G$19),\"\")& IF(AND(NOT(ISBLANK('Product SARF'!H218)),'Product SARF'!$E$10<>\"3) NA\",'Product SARF'!$E$10<>\"3) ...\"), \"   \"&CONCATENATE('Product SARF'!$H$18,'Product SARF'!$H$19),\"\") & IF(AND(NOT(ISBLANK('Product SARF'!I218)),'Product SARF'!$E$11<>\"4) NA\",'Product SARF'!$E$11<>\"4) ...\"), \"   \"&CONCATENATE('Product SARF'!$I$18,'Product SARF'!$I$19),\"\")& IF(AND(NOT(ISBLANK('Product SARF'!J218)),'Product SARF'!$E$12<>\"5) NA\",'Product SARF'!$E$12<>\"5) ...\"), \"   \"&CONCATENATE('Product SARF'!$J$18,'Product SARF'!$J$19),\"\")&IF(AND(NOT(ISBLANK('Product SARF'!K218)),'Product SARF'!$E$13<>\"6) NA\",'Product SARF'!$E$13<>\"6) ...\"), \"   \"&CONCATENATE('Product SARF'!$K$18,'Product SARF'!$K$19),\"\")&IF(AND(NOT(ISBLANK('Product SARF'!L218)),'Product SARF'!$E$14<>\"7) NA\",'Product SARF'!$E$14<>\"7) ...\"), \"   \"&CONCATENATE('Product SARF'!$L$18,'Product SARF'!$L$19),\"\") &IF(AND(NOT(ISBLANK('Product SARF'!M218)),'Product SARF'!$E$15<>\"8) NA\",'Product SARF'!$E$15<>\"8) ...\"), \"   \"&CONCATENATE('Product SARF'!$M$18,'Product SARF'!$M$19),\"\"))","v":""}]
[{"$f":"IF(C201=\"\",\"\",IF('Product SARF'!B219=\"\",\"\",'Product SARF'!B219))","v":""},{"$f":"IF('Product SARF'!C219=\"\",\"\",\"Sample\")","v":""},{"$f":"IF('Product SARF'!C219=\"\",\"\",'Product SARF'!C219)","v":""},{"$f":"IF(C201=\"\",\"\",IF('Product SARF'!D219=\"\",\"\",'Product SARF'!D219))","v":""},{"$f":"IF(C201=\"\",\"\",IF('Product SARF'!E219=\"\",\"\",'Product SARF'!E219))","v":""},{"$f":"IF(C201=\"\",\"\",IF('Product SARF'!$L$6=\"\",\"\",CONCATENATE('Product SARF'!$L$6,'Product SARF'!$M$6)))","v":""},{"$f":"IF(C201=\"\",\"\",IF('Product SARF'!$L$2=\"\",\"\",'Product SARF'!$L$2))","v":""},{"$f":"IF(C201=\"\",\"\",IF('Product SARF'!$L$4=\"\",NOW(),'Product SARF'!$L$4))","v":""},"",{"$f":"IF(C201=\"\",\"\", IF(AND(NOT(ISBLANK('Product SARF'!F219)),'Product SARF'!$E$8<>\"1) NA\",'Product SARF'!$E$8<>\"1) ...\"), \"   \"&CONCATENATE('Product SARF'!$F$18,'Product SARF'!$F$19),\"\") & IF(AND(NOT(ISBLANK('Product SARF'!G219)),'Product SARF'!$E$9<>\"2) NA\",'Product SARF'!$E$9<>\"2) ...\"), \"   \"&CONCATENATE('Product SARF'!$G$18,'Product SARF'!$G$19),\"\")& IF(AND(NOT(ISBLANK('Product SARF'!H219)),'Product SARF'!$E$10<>\"3) NA\",'Product SARF'!$E$10<>\"3) ...\"), \"   \"&CONCATENATE('Product SARF'!$H$18,'Product SARF'!$H$19),\"\") & IF(AND(NOT(ISBLANK('Product SARF'!I219)),'Product SARF'!$E$11<>\"4) NA\",'Product SARF'!$E$11<>\"4) ...\"), \"   \"&CONCATENATE('Product SARF'!$I$18,'Product SARF'!$I$19),\"\")& IF(AND(NOT(ISBLANK('Product SARF'!J219)),'Product SARF'!$E$12<>\"5) NA\",'Product SARF'!$E$12<>\"5) ...\"), \"   \"&CONCATENATE('Product SARF'!$J$18,'Product SARF'!$J$19),\"\")&IF(AND(NOT(ISBLANK('Product SARF'!K219)),'Product SARF'!$E$13<>\"6) NA\",'Product SARF'!$E$13<>\"6) ...\"), \"   \"&CONCATENATE('Product SARF'!$K$18,'Product SARF'!$K$19),\"\")&IF(AND(NOT(ISBLANK('Product SARF'!L219)),'Product SARF'!$E$14<>\"7) NA\",'Product SARF'!$E$14<>\"7) ...\"), \"   \"&CONCATENATE('Product SARF'!$L$18,'Product SARF'!$L$19),\"\") &IF(AND(NOT(ISBLANK('Product SARF'!M219)),'Product SARF'!$E$15<>\"8) NA\",'Product SARF'!$E$15<>\"8) ...\"), \"   \"&CONCATENATE('Product SARF'!$M$18,'Product SARF'!$M$19),\"\"))","v":""}]

{"sheet":"Background DropDowns","index":4,"n_rows":46,"n_cols":114,"rows_kept":46,"cut":false,"hidden":true,"merged":[]}
["Type","Quan","Qual","Chem","Orgnlptc","Allergen","Almond","Brazil","Casein","Cashew","Coconut","Crust","Egg","Gliadin","Gluten","Hazel","Macadmi","Milk","Peanut","Pecan","Pine","Pist","Sesame","Soy","Walnut","AIA","ASH","Aw","Brix","Cal","CARB","Cl","CookTp","ExtColor","Fat","FFA","Hardness","Moist","MPR","Na","NO2","Perxdase","PFF","pH","Protein","Purge","PV","Salt","SG","TA","TBA","TSS","Viscosity","VO","WPSC","Organo","BTGN","Campy","COLIql","EHEC","ECO157","ECql","FecCOLI","LG","LM","PCT","Pseudo.a","SAL","Shigella","Sp.TAn","Staph.A","STEC","TAnNPHS","AB","AnAPC25","AnAPC35","AnAPC55","AnAPC7","APC25","APC32","APC35","APC55","APC7","APRM","APRY","B.cereus","BTGNqn","C.bot","C.perf","Clost.SR","COLI","COLI32","CPS","EB","EC","Fec.COLI","HLAB","LAB","Leuco","LMqn","M","Os.APC25","Os.APC35","Os.M","Os.Y","Pseud.sp","Sp.MAe","Sp.MAn","Sp.Sulf.","Sp.Tflat","Sp.TT","StaphA","TYMC","Y"]
["Quan",{"$f":"IFERROR(INDEX(PTable[2-Test],MATCH(0,IF(B$1=PTable[1-Type],COUNTIF(B$1:B1,PTable[2-Test]), \"\"),0)),\"\")","v":"AB"},{"$f":"IFERROR(INDEX(PTable[2-Test],MATCH(0,IF(C$1=PTable[1-Type],COUNTIF(C$1:C1,PTable[2-Test]), \"\"),0)),\"\")","v":"BTGN"},{"$f":"IFERROR(INDEX(PTable[2-Test],MATCH(0,IF(D$1=PTable[1-Type],COUNTIF(D$1:D1,PTable[2-Test]), \"\"),0)),\"\")","v":"AIA"},{"$f":"IFERROR(INDEX(PTable[2-Test],MATCH(0,IF(E$1=PTable[1-Type],COUNTIF(E$1:E1,PTable[2-Test]), \"\"),0)),\"\")","v":"Organo"},{"$f":"IFERROR(INDEX(PTable[2-Test],MATCH(0,IF(F$1=PTable[1-Type],COUNTIF(F$1:F1,PTable[2-Test]), \"\"),0)),\"\")","v":"Almond"},{"$f":"IFERROR(INDEX(PTable[3-Method],MATCH(0,IF(G$1=PTable[2-Test],COUNTIF(G$1:G1,PTable[3-Method]), \"\"),0)),\"\")","v":"Microbio"},{"$f":"IFERROR(INDEX(PTable[3-Method],MATCH(0,IF(H$1=PTable[2-Test],COUNTIF(H$1:H1,PTable[3-Method]), \"\"),0)),\"\")","v":"Microbio"},{"$f":"IFERROR(INDEX(PTable[3-Method],MATCH(0,IF(I$1=PTable[2-Test],COUNTIF(I$1:I1,PTable[3-Method]), \"\"),0)),\"\")","v":"Microbio"},{"$f":"IFERROR(INDEX(PTable[3-Method],MATCH(0,IF(J$1=PTable[2-Test],COUNTIF(J$1:J1,PTable[3-Method]), \"\"),0)),\"\")","v":"Microbio"},{"$f":"IFERROR(INDEX(PTable[3-Method],MATCH(0,IF(K$1=PTable[2-Test],COUNTIF(K$1:K1,PTable[3-Method]), \"\"),0)),\"\")","v":"Microbio"},{"$f":"IFERROR(INDEX(PTable[3-Method],MATCH(0,IF(L$1=PTable[2-Test],COUNTIF(L$1:L1,PTable[3-Method]), \"\"),0)),\"\")","v":"Microbio"},{"$f":"IFERROR(INDEX(PTable[3-Method],MATCH(0,IF(M$1=PTable[2-Test],COUNTIF(M$1:M1,PTable[3-Method]), \"\"),0)),\"\")","v":"Microbio"},{"$f":"IFERROR(INDEX(PTable[3-Method],MATCH(0,IF(N$1=PTable[2-Test],COUNTIF(N$1:N1,PTable[3-Method]), \"\"),0)),\"\")","v":"Alert"},{"$f":"IFERROR(INDEX(PTable[3-Method],MATCH(0,IF(O$1=PTable[2-Test],COUNTIF(O$1:O1,PTable[3-Method]), \"\"),0)),\"\")","v":"Microbio"},{"$f":"IFERROR(INDEX(PTable[3-Method],MATCH(0,IF(P$1=PTable[2-Test],COUNTIF(P$1:P1,PTable[3-Method]), \"\"),0)),\"\")","v":"Microbio"},{"$f":"IFERROR(INDEX(PTable[3-Method],MATCH(0,IF(Q$1=PTable[2-Test],COUNTIF(Q$1:Q1,PTable[3-Method]), \"\"),0)),\"\")","v":"Microbio"},{"$f":"IFERROR(INDEX(PTable[3-Method],MATCH(0,IF(R$1=PTable[2-Test],COUNTIF(R$1:R1,PTable[3-Method]), \"\"),0)),\"\")","v":"Microbio"},{"$f":"IFERROR(INDEX(PTable[3-Method],MATCH(0,IF(S$1=PTable[2-Test],COUNTIF(S$1:S1,PTable[3-Method]), \"\"),0)),\"\")","v":"Microbio"},{"$f":"IFERROR(INDEX(PTable[3-Method],MATCH(0,IF(T$1=PTable[2-Test],COUNTIF(T$1:T1,PTable[3-Method]), \"\"),0)),\"\")","v":"Microbio"},{"$f":"IFERROR(INDEX(PTable[3-Method],MATCH(0,IF(U$1=PTable[2-Test],COUNTIF(U$1:U1,PTable[3-Method]), \"\"),0)),\"\")","v":"Microbio"},{"$f":"IFERROR(INDEX(PTable[3-Method],MATCH(0,IF(V$1=PTable[2-Test],COUNTIF(V$1:V1,PTable[3-Method]), \"\"),0)),\"\")","v":"Microbio"},{"$f":"IFERROR(INDEX(PTable[3-Method],MATCH(0,IF(W$1=PTable[2-Test],COUNTIF(W$1:W1,PTable[3-Method]), \"\"),0)),\"\")","v":"Microbio"},{"$f":"IFERROR(INDEX(PTable[3-Method],MATCH(0,IF(X$1=PTable[2-Test],COUNTIF(X$1:X1,PTable[3-Method]), \"\"),0)),\"\")","v":"Microbio"},{"$f":"IFERROR(INDEX(PTable[3-Method],MATCH(0,IF(Y$1=PTable[2-Test],COUNTIF(Y$1:Y1,PTable[3-Method]), \"\"),0)),\"\")","v":"Microbio"},{"$f":"IFERROR(INDEX(PTable[3-Method],MATCH(0,IF(Z$1=PTable[2-Test],COUNTIF(Z$1:Z1,PTable[3-Method]), \"\"),0)),\"\")","v":"AOAC"},{"$f":"IFERROR(INDEX(PTable[3-Method],MATCH(0,IF(AA$1=PTable[2-Test],COUNTIF(AA$1:AA1,PTable[3-Method]), \"\"),0)),\"\")","v":"AOAC"},{"$f":"IFERROR(INDEX(PTable[3-Method],MATCH(0,IF(AB$1=PTable[2-Test],COUNTIF(AB$1:AB1,PTable[3-Method]), \"\"),0)),\"\")","v":"AOAC"},{"$f":"IFERROR(INDEX(PTable[3-Method],MATCH(0,IF(AC$1=PTable[2-Test],COUNTIF(AC$1:AC1,PTable[3-Method]), \"\"),0)),\"\")","v":"Rfr"},{"$f":"IFERROR(INDEX(PTable[3-Method],MATCH(0,IF(AD$1=PTable[2-Test],COUNTIF(AD$1:AD1,PTable[3-Method]), \"\"),0)),\"\")","v":"USDA"},{"$f":"IFERROR(INDEX(PTable[3-Method],MATCH(0,IF(AE$1=PTable[2-Test],COUNTIF(AE$1:AE1,PTable[3-Method]), \"\"),0)),\"\")","v":"USDA"},{"$f":"IFERROR(INDEX(PTable[3-Method],MATCH(0,IF(AF$1=PTable[2-Test],COUNTIF(AF$1:AF1,PTable[3-Method]), \"\"),0)),\"\")","v":"comb"},{"$f":"IFERROR(INDEX(PTable[3-Method],MATCH(0,IF(AG$1=PTable[2-Test],COUNTIF(AG$1:AG1,PTable[3-Method]), \"\"),0)),\"\")","v":"USDA"},{"$f":"IFERROR(INDEX(PTable[3-Method],MATCH(0,IF(AH$1=PTable[2-Test],COUNTIF(AH$1:AH1,PTable[3-Method]), \"\"),0)),\"\")","v":"ASTAc"},{"$f":"IFERROR(INDEX(PTable[3-Method],MATCH(0,IF(AI$1=PTable[2-Test],COUNTIF(AI$1:AI1,PTable[3-Method]), \"\"),0)),\"\")","v":"AH"},{"$f":"IFERROR(INDEX(PTable[3-Method],MATCH(0,IF(AJ$1=PTable[2-Test],COUNTIF(AJ$1:AJ1,PTable[3-Method]), \"\"),0)),\"\")","v":"AOCS"},{"$f":"IFERROR(INDEX(PTable[3-Method],MATCH(0,IF(AK$1=PTable[2-Test],COUNTIF(AK$1:AK1,PTable[3-Method]), \"\"),0)),\"\")","v":"Ca"},{"$f":"IFERROR(INDEX(PTable[3-Method],MATCH(0,IF(AL$1=PTable[2-Test],COUNTIF(AL$1:AL1,PTable[3-Method]), \"\"),0)),\"\")","v":"CRA"},{"$f":"IFERROR(INDEX(PTable[3-Method],MATCH(0,IF(AM$1=PTable[2-Test],COUNTIF(AM$1:AM1,PTable[3-Method]), \"\"),0)),\"\")","v":"calc"},{"$f":"IFERROR(INDEX(PTable[3-Method],MATCH(0,IF(AN$1=PTable[2-Test],COUNTIF(AN$1:AN1,PTable[3-Method]), \"\"),0)),\"\")","v":"AOAC"},{"$f":"IFERROR(INDEX(PTable[3-Method],MATCH(0,IF(AO$1=PTable[2-Test],COUNTIF(AO$1:AO1,PTable[3-Method]), \"\"),0)),\"\")","v":"AOAC"},{"$f":"IFERROR(INDEX(PTable[3-Method],MATCH(0,IF(AP$1=PTable[2-Test],COUNTIF(AP$1:AP1,PTable[3-Method]), \"\"),0)),\"\")","v":"FAO"},{"$f":"IFERROR(INDEX(PTable[3-Method],MATCH(0,IF(AQ$1=PTable[2-Test],COUNTIF(AQ$1:AQ1,PTable[3-Method]), \"\"),0)),\"\")","v":"calc"},{"$f":"IFERROR(INDEX(PTable[3-Method],MATCH(0,IF(AR$1=PTable[2-Test],COUNTIF(AR$1:AR1,PTable[3-Method]), \"\"),0)),\"\")","v":"AOAC"},{"$f":"IFERROR(INDEX(PTable[3-Method],MATCH(0,IF(AS$1=PTable[2-Test],COUNTIF(AS$1:AS1,PTable[3-Method]), \"\"),0)),\"\")","v":"Kjeldahl"},{"$f":"IFERROR(INDEX(PTable[3-Method],MATCH(0,IF(AT$1=PTable[2-Test],COUNTIF(AT$1:AT1,PTable[3-Method]), \"\"),0)),\"\")","v":"HMPSQ"},{"$f":"IFERROR(INDEX(PTable[3-Method],MATCH(0,IF(AU$1=PTable[2-Test],COUNTIF(AU$1:AU1,PTable[3-Method]), \"\"),0)),\"\")","v":"AOCS"},{"$f":"IFERROR(INDEX(PTable[3-Method],MATCH(0,IF(AV$1=PTable[2-Test],COUNTIF(AV$1:AV1,PTable[3-Method]), \"\"),0)),\"\")","v":"AOAC"},{"$f":"IFERROR(INDEX(PTable[3-Method],MATCH(0,IF(AW$1=PTable[2-Test],COUNTIF(AW$1:AW1,PTable[3-Method]), \"\"),0)),\"\")","v":"hydro"},{"$f":"IFERROR(INDEX(PTable[3-Method],MATCH(0,IF(AX$1=PTable[2-Test],COUNTIF(AX$1:AX1,PTable[3-Method]), \"\"),0)),\"\")","v":"acetic"},{"$f":"IFERROR(INDEX(PTable[3-Method],MATCH(0,IF(AY$1=PTable[2-Test],COUNTIF(AY$1:AY1,PTable[3-Method]), \"\"),0)),\"\")","v":"AOCS"},{"$f":"IFERROR(INDEX(PTable[3-Method],MATCH(0,IF(AZ$1=PTable[2-Test],COUNTIF(AZ$1:AZ1,PTable[3-Method]), \"\"),0)),\"\")","v":"SMEWW"},{"$f":"IFERROR(INDEX(PTable[3-Method],MATCH(0,IF(BA$1=PTable[2-Test],COUNTIF(BA$1:BA1,PTable[3-Method]), \"\"),0)),\"\")","v":"Brook"},{"$f":"IFERROR(INDEX(PTable[3-Method],MATCH(0,IF(BB$1=PTable[2-Test],COUNTIF(BB$1:BB1,PTable[3-Method]), \"\"),0)),\"\")","v":"ASTA"},{"$f":"IFERROR(INDEX(PTable[3-Method],MATCH(0,IF(BC$1=PTable[2-Test],COUNTIF(BC$1:BC1,PTable[3-Method]), \"\"),0)),\"\")","v":"calc"},{"$f":"IFERROR(INDEX(PTable[3-Method],MATCH(0,IF(BD$1=PTable[2-Test],COUNTIF(BD$1:BD1,PTable[3-Method]), \"\"),0)),\"\")","v":"Color"},{"$f":"IFERROR(INDEX(PTable[3-Method],MATCH(0,IF(BE$1=PTable[2-Test],COUNTIF(BE$1:BE1,PTable[3-Method]), \"\"),0)),\"\")","v":"USP10g"},{"$f":"IFERROR(INDEX(PTable[3-Method],MATCH(0,IF(BF$1=PTable[2-Test],COUNTIF(BF$1:BF1,PTable[3-Method]), \"\"),0)),\"\")","v":"PCR1mL"},{"$f":"IFERROR(INDEX(PTable[3-Method],MATCH(0,IF(BG$1=PTable[2-Test],COUNTIF(BG$1:BG1,PTable[3-Method]), \"\"),0)),\"\")","v":"mSMEW"},{"$f":"IFERROR(INDEX(PTable[3-Method],MATCH(0,IF(BH$1=PTable[2-Test],COUNTIF(BH$1:BH1,PTable[3-Method]), \"\"),0)),\"\")","v":"PCR25g"},{"$f":"IFERROR(INDEX(PTable[3-Method],MATCH(0,IF(BI$1=PTable[2-Test],COUNTIF(BI$1:BI1,PTable[3-Method]), \"\"),0)),\"\")","v":"PCR100m"},{"$f":"IFERROR(INDEX(PTable[3-Method],MATCH(0,IF(BJ$1=PTable[2-Test],COUNTIF(BJ$1:BJ1,PTable[3-Method]), \"\"),0)),\"\")","v":"mSMEW"},{"$f":"IFERROR(INDEX(PTable[3-Method],MATCH(0,IF(BK$1=PTable[2-Test],COUNTIF(BK$1:BK1,PTable[3-Method]), \"\"),0)),\"\")","v":"mSMEW"},{"$f":"IFERROR(INDEX(PTable[3-Method],MATCH(0,IF(BL$1=PTable[2-Test],COUNTIF(BL$1:BL1,PTable[3-Method]), \"\"),0)),\"\")","v":"mB24E25g"},{"$f":"IFERROR(INDEX(PTable[3-Method],MATCH(0,IF(BM$1=PTable[2-Test],COUNTIF(BM$1:BM1,PTable[3-Method]), \"\"),0)),\"\")","v":"FDA25g"},{"$f":"IFERROR(INDEX(PTable[3-Method],MATCH(0,IF(BN$1=PTable[2-Test],COUNTIF(BN$1:BN1,PTable[3-Method]), \"\"),0)),\"\")","v":"GNGP125"},{"$f":"IFERROR(INDEX(PTable[3-Method],MATCH(0,IF(BO$1=PTable[2-Test],COUNTIF(BO$1:BO1,PTable[3-Method]), \"\"),0)),\"\")","v":"USP10g"},{"$f":"IFERROR(INDEX(PTable[3-Method],MATCH(0,IF(BP$1=PTable[2-Test],COUNTIF(BP$1:BP1,PTable[3-Method]), \"\"),0)),\"\")","v":"BAX30mL"},{"$f":"IFERROR(INDEX(PTable[3-Method],MATCH(0,IF(BQ$1=PTable[2-Test],COUNTIF(BQ$1:BQ1,PTable[3-Method]), \"\"),0)),\"\")","v":"mFDA25g"},{"$f":"IFERROR(INDEX(PTable[3-Method],MATCH(0,IF(BR$1=PTable[2-Test],COUNTIF(BR$1:BR1,PTable[3-Method]), \"\"),0)),\"\")","v":"CMMEF"},{"$f":"IFERROR(INDEX(PTable[3-Method],MATCH(0,IF(BS$1=PTable[2-Test],COUNTIF(BS$1:BS1,PTable[3-Method]), \"\"),0)),\"\")","v":"USP10g"},{"$f":"IFERROR(INDEX(PTable[3-Method],MATCH(0,IF(BT$1=PTable[2-Test],COUNTIF(BT$1:BT1,PTable[3-Method]), \"\"),0)),\"\")","v":"PCR125g"},{"$f":"IFERROR(INDEX(PTable[3-Method],MATCH(0,IF(BU$1=PTable[2-Test],COUNTIF(BU$1:BU1,PTable[3-Method]), \"\"),0)),\"\")","v":"mAOAC"},{"$f":"IFERROR(INDEX(PTable[3-Method],MATCH(0,IF(BV$1=PTable[2-Test],COUNTIF(BV$1:BV1,PTable[3-Method]), \"\"),0)),\"\")","v":"LMFMg"},{"$f":"IFERROR(INDEX(PTable[3-Method],MATCH(0,IF(BW$1=PTable[2-Test],COUNTIF(BW$1:BW1,PTable[3-Method]), \"\"),0)),\"\")","v":"mCMEFg"},{"$f":"IFERROR(INDEX(PTable[3-Method],MATCH(0,IF(BX$1=PTable[2-Test],COUNTIF(BX$1:BX1,PTable[3-Method]), \"\"),0)),\"\")","v":"mCMEFg"},{"$f":"IFERROR(INDEX(PTable[3-Method],MATCH(0,IF(BY$1=PTable[2-Test],COUNTIF(BY$1:BY1,PTable[3-Method]), \"\"),0)),\"\")","v":"mCMEFg"},{"$f":"IFERROR(INDEX(PTable[3-Method],MATCH(0,IF(BZ$1=PTable[2-Test],COUNTIF(BZ$1:BZ1,PTable[3-Method]), \"\"),0)),\"\")","v":"mCMEFg"},{"$f":"IFERROR(INDEX(PTable[3-Method],MATCH(0,IF(CA$1=PTable[2-Test],COUNTIF(CA$1:CA1,PTable[3-Method]), \"\"),0)),\"\")","v":"mCMEFg"},{"$f":"IFERROR(INDEX(PTable[3-Method],MATCH(0,IF(CB$1=PTable[2-Test],COUNTIF(CB$1:CB1,PTable[3-Method]), \"\"),0)),\"\")","v":"MFg"},{"$f":"IFERROR(INDEX(PTable[3-Method],MATCH(0,IF(CC$1=PTable[2-Test],COUNTIF(CC$1:CC1,PTable[3-Method]), \"\"),0)),\"\")","v":"mFDAg"},{"$f":"IFERROR(INDEX(PTable[3-Method],MATCH(0,IF(CD$1=PTable[2-Test],COUNTIF(CD$1:CD1,PTable[3-Method]), \"\"),0)),\"\")","v":"MFg"},{"$f":"IFERROR(INDEX(PTable[3-Method],MATCH(0,IF(CE$1=PTable[2-Test],COUNTIF(CE$1:CE1,PTable[3-Method]), \"\"),0)),\"\")","v":"mCMFg"},{"$f":"IFERROR(INDEX(PTable[3-Method],MATCH(0,IF(CF$1=PTable[2-Test],COUNTIF(CF$1:CF1,PTable[3-Method]), \"\"),0)),\"\")","v":"mCMFg"},{"$f":"IFERROR(INDEX(PTable[3-Method],MATCH(0,IF(CG$1=PTable[2-Test],COUNTIF(CG$1:CG1,PTable[3-Method]), \"\"),0)),\"\")","v":"mCMFg"},{"$f":"IFERROR(INDEX(PTable[3-Method],MATCH(0,IF(CH$1=PTable[2-Test],COUNTIF(CH$1:CH1,PTable[3-Method]), \"\"),0)),\"\")","v":"mFDAg"},{"$f":"IFERROR(INDEX(PTable[3-Method],MATCH(0,IF(CI$1=PTable[2-Test],COUNTIF(CI$1:CI1,PTable[3-Method]), \"\"),0)),\"\")","v":"USPmpn"},{"$f":"IFERROR(INDEX(PTable[3-Method],MATCH(0,IF(CJ$1=PTable[2-Test],COUNTIF(CJ$1:CJ1,PTable[3-Method]), \"\"),0)),\"\")","v":"mCMmp"},{"$f":"IFERROR(INDEX(PTable[3-Method],MATCH(0,IF(CK$1=PTable[2-Test],COUNTIF(CK$1:CK1,PTable[3-Method]), \"\"),0)),\"\")","v":"mFDAg"},{"$f":"IFERROR(INDEX(PTable[3-Method],MATCH(0,IF(CL$1=PTable[2-Test],COUNTIF(CL$1:CL1,PTable[3-Method]), \"\"),0)),\"\")","v":"mIFFmpn"},{"$f":"IFERROR(INDEX(PTable[3-Method],MATCH(0,IF(CM$1=PTable[2-Test],COUNTIF(CM$1:CM1,PTable[3-Method]), \"\"),0)),\"\")","v":"mFDAg"},{"$f":"IFERROR(INDEX(PTable[3-Method],MATCH(0,IF(CN$1=PTable[2-Test],COUNTIF(CN$1:CN1,PTable[3-Method]), \"\"),0)),\"\")","v":"mSMDPg"},{"$f":"IFERROR(INDEX(PTable[3-Method],MATCH(0,IF(CO$1=PTable[2-Test],COUNTIF(CO$1:CO1,PTable[3-Method]), \"\"),0)),\"\")","v":""},{"$f":"IFERROR(INDEX(PTable[3-Method],MATCH(0,IF(CP$1=PTable[2-Test],COUNTIF(CP$1:CP1,PTable[3-Method]), \"\"),0)),\"\")","v":"mCMF5g"},{"$f":"IFERROR(INDEX(PTable[3-Method],MATCH(0,IF(CQ$1=PTable[2-Test],COUNTIF(CQ$1:CQ1,PTable[3-Method]), \"\"),0)),\"\")","v":"mFDAg"},{"$f":"IFERROR(INDEX(PTable[3-Method],MATCH(0,IF(CR$1=PTable[2-Test],COUNTIF(CR$1:CR1,PTable[3-Method]), \"\"),0)),\"\")","v":"FDAmpm"},{"$f":"IFERROR(INDEX(PTable[3-Method],MATCH(0,IF(CS$1=PTable[2-Test],COUNTIF(CS$1:CS1,PTable[3-Method]), \"\"),0)),\"\")","v":"mCMFmp"},{"$f":"IFERROR(INDEX(PTable[3-Method],MATCH(0,IF(CT$1=PTable[2-Test],COUNTIF(CT$1:CT1,PTable[3-Method]), \"\"),0)),\"\")","v":"mCMFg"},{"$f":"IFERROR(INDEX(PTable[3-Method],MATCH(0,IF(CU$1=PTable[2-Test],COUNTIF(CU$1:CU1,PTable[3-Method]), \"\"),0)),\"\")","v":"mCMFg"},{"$f":"IFERROR(INDEX(PTable[3-Method],MATCH(0,IF(CV$1=PTable[2-Test],COUNTIF(CV$1:CV1,PTable[3-Method]), \"\"),0)),\"\")","v":"mFDAmp"},{"$f":"IFERROR(INDEX(PTable[3-Method],MATCH(0,IF(CW$1=PTable[2-Test],COUNTIF(CW$1:CW1,PTable[3-Method]), \"\"),0)),\"\")","v":"FDAg"},{"$f":"IFERROR(INDEX(PTable[3-Method],MATCH(0,IF(CX$1=PTable[2-Test],COUNTIF(CX$1:CX1,PTable[3-Method]), \"\"),0)),\"\")","v":"mCMFg"},{"$f":"IFERROR(INDEX(PTable[3-Method],MATCH(0,IF(CY$1=PTable[2-Test],COUNTIF(CY$1:CY1,PTable[3-Method]), \"\"),0)),\"\")","v":"mFDAg"},{"$f":"IFERROR(INDEX(PTable[3-Method],MATCH(0,IF(CZ$1=PTable[2-Test],COUNTIF(CZ$1:CZ1,PTable[3-Method]), \"\"),0)),\"\")","v":"mFDAg"},{"$f":"IFERROR(INDEX(PTable[3-Method],MATCH(0,IF(DA$1=PTable[2-Test],COUNTIF(DA$1:DA1,PTable[3-Method]), \"\"),0)),\"\")","v":"mFDAg"},{"$f":"IFERROR(INDEX(PTable[3-Method],MATCH(0,IF(DB$1=PTable[2-Test],COUNTIF(DB$1:DB1,PTable[3-Method]), \"\"),0)),\"\")","v":"mCMFg"},{"$f":"IFERROR(INDEX(PTable[3-Method],MATCH(0,IF(DC$1=PTable[2-Test],COUNTIF(DC$1:DC1,PTable[3-Method]), \"\"),0)),\"\")","v":"mCMFg"},{"$f":"IFERROR(INDEX(PTable[3-Method],MATCH(0,IF(DD$1=PTable[2-Test],COUNTIF(DD$1:DD1,PTable[3-Method]), \"\"),0)),\"\")","v":"mCMEF"},{"$f":"IFERROR(INDEX(PTable[3-Method],MATCH(0,IF(DE$1=PTable[2-Test],COUNTIF(DE$1:DE1,PTable[3-Method]), \"\"),0)),\"\")","v":"mCMEF"},{"$f":"IFERROR(INDEX(PTable[3-Method],MATCH(0,IF(DF$1=PTable[2-Test],COUNTIF(DF$1:DF1,PTable[3-Method]), \"\"),0)),\"\")","v":"mCMEF"},{"$f":"IFERROR(INDEX(PTable[3-Method],MATCH(0,IF(DG$1=PTable[2-Test],COUNTIF(DG$1:DG1,PTable[3-Method]), \"\"),0)),\"\")","v":"mCMEF"},{"$f":"IFERROR(INDEX(PTable[3-Method],MATCH(0,IF(DH$1=PTable[2-Test],COUNTIF(DH$1:DH1,PTable[3-Method]), \"\"),0)),\"\")","v":"mFDAg"},{"$f":"IFERROR(INDEX(PTable[3-Method],MATCH(0,IF(DI$1=PTable[2-Test],COUNTIF(DI$1:DI1,PTable[3-Method]), \"\"),0)),\"\")","v":"mUSPg"},{"$f":"IFERROR(INDEX(PTable[3-Method],MATCH(0,IF(DJ$1=PTable[2-Test],COUNTIF(DJ$1:DJ1,PTable[3-Method]), \"\"),0)),\"\")","v":"FDAg"}]
["Qual",{"$f":"IFERROR(INDEX(PTable[2-Test],MATCH(0,IF(B$1=PTable[1-Type],COUNTIF(B$1:B2,PTable[2-Test]), \"\"),0)),\"\")","v":"AnAPC25"},{"$f":"IFERROR(INDEX(PTable[2-Test],MATCH(0,IF(C$1=PTable[1-Type],COUNTIF(C$1:C2,PTable[2-Test]), \"\"),0)),\"\")","v":"Campy"},{"$f":"IFERROR(INDEX(PTable[2-Test],MATCH(0,IF(D$1=PTable[1-Type],COUNTIF(D$1:D2,PTable[2-Test]), \"\"),0)),\"\")","v":"ASH"},{"$f":"IFERROR(INDEX(PTable[2-Test],MATCH(0,IF(E$1=PTable[1-Type],COUNTIF(E$1:E2,PTable[2-Test]), \"\"),0)),\"\")","v":""},{"$f":"IFERROR(INDEX(PTable[2-Test],MATCH(0,IF(F$1=PTable[1-Type],COUNTIF(F$1:F2,PTable[2-Test]), \"\"),0)),\"\")","v":"Brazil"},{"$f":"IFERROR(INDEX(PTable[3-Method],MATCH(0,IF(G$1=PTable[2-Test],COUNTIF(G$1:G2,PTable[3-Method]), \"\"),0)),\"\")","v":""},{"$f":"IFERROR(INDEX(PTable[3-Method],MATCH(0,IF(H$1=PTable[2-Test],COUNTIF(H$1:H2,PTable[3-Method]), \"\"),0)),\"\")","v":""},{"$f":"IFERROR(INDEX(PTable[3-Method],MATCH(0,IF(I$1=PTable[2-Test],COUNTIF(I$1:I2,PTable[3-Method]), \"\"),0)),\"\")","v":""},{"$f":"IFERROR(INDEX(PTable[3-Method],MATCH(0,IF(J$1=PTable[2-Test],COUNTIF(J$1:J2,PTable[3-Method]), \"\"),0)),\"\")","v":""},{"$f":"IFERROR(INDEX(PTable[3-Method],MATCH(0,IF(K$1=PTable[2-Test],COUNTIF(K$1:K2,PTable[3-Method]), \"\"),0)),\"\")","v":""},{"$f":"IFERROR(INDEX(PTable[3-Method],MATCH(0,IF(L$1=PTable[2-Test],COUNTIF(L$1:L2,PTable[3-Method]), \"\"),0)),\"\")","v":""},{"$f":"IFERROR(INDEX(PTable[3-Method],MATCH(0,IF(M$1=PTable[2-Test],COUNTIF(M$1:M2,PTable[3-Method]), \"\"),0)),\"\")","v":""},{"$f":"IFERROR(INDEX(PTable[3-Method],MATCH(0,IF(N$1=PTable[2-Test],COUNTIF(N$1:N2,PTable[3-Method]), \"\"),0)),\"\")","v":"Veratox"},{"$f":"IFERROR(INDEX(PTable[3-Method],MATCH(0,IF(O$1=PTable[2-Test],COUNTIF(O$1:O2,PTable[3-Method]), \"\"),0)),\"\")","v":""},{"$f":"IFERROR(INDEX(PTable[3-Method],MATCH(0,IF(P$1=PTable[2-Test],COUNTIF(P$1:P2,PTable[3-Method]), \"\"),0)),\"\")","v":""},{"$f":"IFERROR(INDEX(PTable[3-Method],MATCH(0,IF(Q$1=PTable[2-Test],COUNTIF(Q$1:Q2,PTable[3-Method]), \"\"),0)),\"\")","v":""},{"$f":"IFERROR(INDEX(PTable[3-Method],MATCH(0,IF(R$1=PTable[2-Test],COUNTIF(R$1:R2,PTable[3-Method]), \"\"),0)),\"\")","v":""},{"$f":"IFERROR(INDEX(PTable[3-Method],MATCH(0,IF(S$1=PTable[2-Test],COUNTIF(S$1:S2,PTable[3-Method]), \"\"),0)),\"\")","v":""},{"$f":"IFERROR(INDEX(PTable[3-Method],MATCH(0,IF(T$1=PTable[2-Test],COUNTIF(T$1:T2,PTable[3-Method]), \"\"),0)),\"\")","v":""},{"$f":"IFERROR(INDEX(PTable[3-Method],MATCH(0,IF(U$1=PTable[2-Test],COUNTIF(U$1:U2,PTable[3-Method]), \"\"),0)),\"\")","v":""},{"$f":"IFERROR(INDEX(PTable[3-Method],MATCH(0,IF(V$1=PTable[2-Test],COUNTIF(V$1:V2,PTable[3-Method]), \"\"),0)),\"\")","v":""},{"$f":"IFERROR(INDEX(PTable[3-Method],MATCH(0,IF(W$1=PTable[2-Test],COUNTIF(W$1:W2,PTable[3-Method]), \"\"),0)),\"\")","v":""},{"$f":"IFERROR(INDEX(PTable[3-Method],MATCH(0,IF(X$1=PTable[2-Test],COUNTIF(X$1:X2,PTable[3-Method]), \"\"),0)),\"\")","v":""},{"$f":"IFERROR(INDEX(PTable[3-Method],MATCH(0,IF(Y$1=PTable[2-Test],COUNTIF(Y$1:Y2,PTable[3-Method]), \"\"),0)),\"\")","v":""},{"$f":"IFERROR(INDEX(PTable[3-Method],MATCH(0,IF(Z$1=PTable[2-Test],COUNTIF(Z$1:Z2,PTable[3-Method]), \"\"),0)),\"\")","v":""},{"$f":"IFERROR(INDEX(PTable[3-Method],MATCH(0,IF(AA$1=PTable[2-Test],COUNTIF(AA$1:AA2,PTable[3-Method]), \"\"),0)),\"\")","v":""},{"$f":"IFERROR(INDEX(PTable[3-Method],MATCH(0,IF(AB$1=PTable[2-Test],COUNTIF(AB$1:AB2,PTable[3-Method]), \"\"),0)),\"\")","v":""},{"$f":"IFERROR(INDEX(PTable[3-Method],MATCH(0,IF(AC$1=PTable[2-Test],COUNTIF(AC$1:AC2,PTable[3-Method]), \"\"),0)),\"\")","v":""},{"$f":"IFERROR(INDEX(PTable[3-Method],MATCH(0,IF(AD$1=PTable[2-Test],COUNTIF(AD$1:AD2,PTable[3-Method]), \"\"),0)),\"\")","v":""},{"$f":"IFERROR(INDEX(PTable[3-Method],MATCH(0,IF(AE$1=PTable[2-Test],COUNTIF(AE$1:AE2,PTable[3-Method]), \"\"),0)),\"\")","v":""},{"$f":"IFERROR(INDEX(PTable[3-Method],MATCH(0,IF(AF$1=PTable[2-Test],COUNTIF(AF$1:AF2,PTable[3-Method]), \"\"),0)),\"\")","v":"free"},{"$f":"IFERROR(INDEX(PTable[3-Method],MATCH(0,IF(AG$1=PTable[2-Test],COUNTIF(AG$1:AG2,PTable[3-Method]), \"\"),0)),\"\")","v":""},{"$f":"IFERROR(INDEX(PTable[3-Method],MATCH(0,IF(AH$1=PTable[2-Test],COUNTIF(AH$1:AH2,PTable[3-Method]), \"\"),0)),\"\")","v":"ASTAo"},{"$f":"IFERROR(INDEX(PTable[3-Method],MATCH(0,IF(AI$1=PTable[2-Test],COUNTIF(AI$1:AI2,PTable[3-Method]), \"\"),0)),\"\")","v":"Mojo"},{"$f":"IFERROR(INDEX(PTable[3-Method],MATCH(0,IF(AJ$1=PTable[2-Test],COUNTIF(AJ$1:AJ2,PTable[3-Method]), \"\"),0)),\"\")","v":""},{"$f":"IFERROR(INDEX(PTable[3-Method],MATCH(0,IF(AK$1=PTable[2-Test],COUNTIF(AK$1:AK2,PTable[3-Method]), \"\"),0)),\"\")","v":"Mg"},{"$f":"IFERROR(INDEX(PTable[3-Method],MATCH(0,IF(AL$1=PTable[2-Test],COUNTIF(AL$1:AL2,PTable[3-Method]), \"\"),0)),\"\")","v":"flour"},{"$f":"IFERROR(INDEX(PTable[3-Method],MATCH(0,IF(AM$1=PTable[2-Test],COUNTIF(AM$1:AM2,PTable[3-Method]), \"\"),0)),\"\")","v":""},{"$f":"IFERROR(INDEX(PTable[3-Method],MATCH(0,IF(AN$1=PTable[2-Test],COUNTIF(AN$1:AN2,PTable[3-Method]), \"\"),0)),\"\")","v":""},{"$f":"IFERROR(INDEX(PTable[3-Method],MATCH(0,IF(AO$1=PTable[2-Test],COUNTIF(AO$1:AO2,PTable[3-Method]), \"\"),0)),\"\")","v":""},{"$f":"IFERROR(INDEX(PTable[3-Method],MATCH(0,IF(AP$1=PTable[2-Test],COUNTIF(AP$1:AP2,PTable[3-Method]), \"\"),0)),\"\")","v":""},{"$f":"IFERROR(INDEX(PTable[3-Method],MATCH(0,IF(AQ$1=PTable[2-Test],COUNTIF(AQ$1:AQ2,PTable[3-Method]), \"\"),0)),\"\")","v":""},{"$f":"IFERROR(INDEX(PTable[3-Method],MATCH(0,IF(AR$1=PTable[2-Test],COUNTIF(AR$1:AR2,PTable[3-Method]), \"\"),0)),\"\")","v":""},{"$f":"IFERROR(INDEX(PTable[3-Method],MATCH(0,IF(AS$1=PTable[2-Test],COUNTIF(AS$1:AS2,PTable[3-Method]), \"\"),0)),\"\")","v":""},{"$f":"IFERROR(INDEX(PTable[3-Method],MATCH(0,IF(AT$1=PTable[2-Test],COUNTIF(AT$1:AT2,PTable[3-Method]), \"\"),0)),\"\")","v":""},{"$f":"IFERROR(INDEX(PTable[3-Method],MATCH(0,IF(AU$1=PTable[2-Test],COUNTIF(AU$1:AU2,PTable[3-Method]), \"\"),0)),\"\")","v":"AOCSe"},{"$f":"IFERROR(INDEX(PTable[3-Method],MATCH(0,IF(AV$1=PTable[2-Test],COUNTIF(AV$1:AV2,PTable[3-Method]), \"\"),0)),\"\")","v":""},{"$f":"IFERROR(INDEX(PTable[3-Method],MATCH(0,IF(AW$1=PTable[2-Test],COUNTIF(AW$1:AW2,PTable[3-Method]), \"\"),0)),\"\")","v":"pycno"},{"$f":"IFERROR(INDEX(PTable[3-Method],MATCH(0,IF(AX$1=PTable[2-Test],COUNTIF(AX$1:AX2,PTable[3-Method]), \"\"),0)),\"\")","v":"citric"},{"$f":"IFERROR(INDEX(PTable[3-Method],MATCH(0,IF(AY$1=PTable[2-Test],COUNTIF(AY$1:AY2,PTable[3-Method]), \"\"),0)),\"\")","v":""},{"$f":"IFERROR(INDEX(PTable[3-Method],MATCH(0,IF(AZ$1=PTable[2-Test],COUNTIF(AZ$1:AZ2,PTable[3-Method]), \"\"),0)),\"\")","v":""},{"$f":"IFERROR(INDEX(PTable[3-Method],MATCH(0,IF(BA$1=PTable[2-Test],COUNTIF(BA$1:BA2,PTable[3-Method]), \"\"),0)),\"\")","v":""},{"$f":"IFERROR(INDEX(PTable[3-Method],MATCH(0,IF(BB$1=PTable[2-Test],COUNTIF(BB$1:BB2,PTable[3-Method]), \"\"),0)),\"\")","v":""},{"$f":"IFERROR(INDEX(PTable[3-Method],MATCH(0,IF(BC$1=PTable[2-Test],COUNTIF(BC$1:BC2,PTable[3-Method]), \"\"),0)),\"\")","v":""},{"$f":"IFERROR(INDEX(PTable[3-Method],MATCH(0,IF(BD$1=PTable[2-Test],COUNTIF(BD$1:BD2,PTable[3-Method]), \"\"),0)),\"\")","v":"Odor"},{"$f":"IFERROR(INDEX(PTable[3-Method],MATCH(0,IF(BE$1=PTable[2-Test],COUNTIF(BE$1:BE2,PTable[3-Method]), \"\"),0)),\"\")","v":"USP11g"},{"$f":"IFERROR(INDEX(PTable[3-Method],MATCH(0,IF(BF$1=PTable[2-Test],COUNTIF(BF$1:BF2,PTable[3-Method]), \"\"),0)),\"\")","v":"PCR25g"},{"$f":"IFERROR(INDEX(PTable[3-Method],MATCH(0,IF(BG$1=PTable[2-Test],COUNTIF(BG$1:BG2,PTable[3-Method]), \"\"),0)),\"\")","v":""},{"$f":"IFERROR(INDEX(PTable[3-Method],MATCH(0,IF(BH$1=PTable[2-Test],COUNTIF(BH$1:BH2,PTable[3-Method]), \"\"),0)),\"\")","v":"PCR325g"},{"$f":"IFERROR(INDEX(PTable[3-Method],MATCH(0,IF(BI$1=PTable[2-Test],COUNTIF(BI$1:BI2,PTable[3-Method]), \"\"),0)),\"\")","v":"PCR125g"},{"$f":"IFERROR(INDEX(PTable[3-Method],MATCH(0,IF(BJ$1=PTable[2-Test],COUNTIF(BJ$1:BJ2,PTable[3-Method]), \"\"),0)),\"\")","v":"USP10g"},{"$f":"IFERROR(INDEX(PTable[3-Method],MATCH(0,IF(BK$1=PTable[2-Test],COUNTIF(BK$1:BK2,PTable[3-Method]), \"\"),0)),\"\")","v":""},{"$f":"IFERROR(INDEX(PTable[3-Method],MATCH(0,IF(BL$1=PTable[2-Test],COUNTIF(BL$1:BL2,PTable[3-Method]), \"\"),0)),\"\")","v":"mB24Esa"},{"$f":"IFERROR(INDEX(PTable[3-Method],MATCH(0,IF(BM$1=PTable[2-Test],COUNTIF(BM$1:BM2,PTable[3-Method]), \"\"),0)),\"\")","v":"mB24E25g"},{"$f":"IFERROR(INDEX(PTable[3-Method],MATCH(0,IF(BN$1=PTable[2-Test],COUNTIF(BN$1:BN2,PTable[3-Method]), \"\"),0)),\"\")","v":"GNGP25g"},{"$f":"IFERROR(INDEX(PTable[3-Method],MATCH(0,IF(BO$1=PTable[2-Test],COUNTIF(BO$1:BO2,PTable[3-Method]), \"\"),0)),\"\")","v":"USP11g"},{"$f":"IFERROR(INDEX(PTable[3-Method],MATCH(0,IF(BP$1=PTable[2-Test],COUNTIF(BP$1:BP2,PTable[3-Method]), \"\"),0)),\"\")","v":"FDA25g"},{"$f":"IFERROR(INDEX(PTable[3-Method],MATCH(0,IF(BQ$1=PTable[2-Test],COUNTIF(BQ$1:BQ2,PTable[3-Method]), \"\"),0)),\"\")","v":""},{"$f":"IFERROR(INDEX(PTable[3-Method],MATCH(0,IF(BR$1=PTable[2-Test],COUNTIF(BR$1:BR2,PTable[3-Method]), \"\"),0)),\"\")","v":""},{"$f":"IFERROR(INDEX(PTable[3-Method],MATCH(0,IF(BS$1=PTable[2-Test],COUNTIF(BS$1:BS2,PTable[3-Method]), \"\"),0)),\"\")","v":"USP11g"},{"$f":"IFERROR(INDEX(PTable[3-Method],MATCH(0,IF(BT$1=PTable[2-Test],COUNTIF(BT$1:BT2,PTable[3-Method]), \"\"),0)),\"\")","v":"PCR25g"},{"$f":"IFERROR(INDEX(PTable[3-Method],MATCH(0,IF(BU$1=PTable[2-Test],COUNTIF(BU$1:BU2,PTable[3-Method]), \"\"),0)),\"\")","v":""},{"$f":"IFERROR(INDEX(PTable[3-Method],MATCH(0,IF(BV$1=PTable[2-Test],COUNTIF(BV$1:BV2,PTable[3-Method]), \"\"),0)),\"\")","v":"LMFMmL"},{"$f":"IFERROR(INDEX(PTable[3-Method],MATCH(0,IF(BW$1=PTable[2-Test],COUNTIF(BW$1:BW2,PTable[3-Method]), \"\"),0)),\"\")","v":"mCMEFm"},{"$f":"IFERROR(INDEX(PTable[3-Method],MATCH(0,IF(BX$1=PTable[2-Test],COUNTIF(BX$1:BX2,PTable[3-Method]), \"\"),0)),\"\")","v":"mCMEFm"},{"$f":"IFERROR(INDEX(PTable[3-Method],MATCH(0,IF(BY$1=PTable[2-Test],COUNTIF(BY$1:BY2,PTable[3-Method]), \"\"),0)),\"\")","v":"mCMEFm"},{"$f":"IFERROR(INDEX(PTable[3-Method],MATCH(0,IF(BZ$1=PTable[2-Test],COUNTIF(BZ$1:BZ2,PTable[3-Method]), \"\"),0)),\"\")","v":"mCMEFm"},{"$f":"IFERROR(INDEX(PTable[3-Method],MATCH(0,IF(CA$1=PTable[2-Test],COUNTIF(CA$1:CA2,PTable[3-Method]), \"\"),0)),\"\")","v":"mCMEFm"},{"$f":"IFERROR(INDEX(PTable[3-Method],MATCH(0,IF(CB$1=PTable[2-Test],COUNTIF(CB$1:CB2,PTable[3-Method]), \"\"),0)),\"\")","v":"MFmL"},{"$f":"IFERROR(INDEX(PTable[3-Method],MATCH(0,IF(CC$1=PTable[2-Test],COUNTIF(CC$1:CC2,PTable[3-Method]), \"\"),0)),\"\")","v":"mFDAmL"},{"$f":"IFERROR(INDEX(PTable[3-Method],MATCH(0,IF(CD$1=PTable[2-Test],COUNTIF(CD$1:CD2,PTable[3-Method]), \"\"),0)),\"\")","v":"MFmL"},{"$f":"IFERROR(INDEX(PTable[3-Method],MATCH(0,IF(CE$1=PTable[2-Test],COUNTIF(CE$1:CE2,PTable[3-Method]), \"\"),0)),\"\")","v":"mCMFm"},{"$f":"IFERROR(INDEX(PTable[3-Method],MATCH(0,IF(CF$1=PTable[2-Test],COUNTIF(CF$1:CF2,PTable[3-Method]), \"\"),0)),\"\")","v":"mCMFmL"},{"$f":"IFERROR(INDEX(PTable[3-Method],MATCH(0,IF(CG$1=PTable[2-Test],COUNTIF(CG$1:CG2,PTable[3-Method]), \"\"),0)),\"\")","v":"mCMFmL"},{"$f":"IFERROR(INDEX(PTable[3-Method],MATCH(0,IF(CH$1=PTable[2-Test],COUNTIF(CH$1:CH2,PTable[3-Method]), \"\"),0)),\"\")","v":"mFDAmL"},{"$f":"IFERROR(INDEX(PTable[3-Method],MATCH(0,IF(CI$1=PTable[2-Test],COUNTIF(CI$1:CI2,PTable[3-Method]), \"\"),0)),\"\")","v":""},{"$f":"IFERROR(INDEX(PTable[3-Method],MATCH(0,IF(CJ$1=PTable[2-Test],COUNTIF(CJ$1:CJ2,PTable[3-Method]), \"\"),0)),\"\")","v":""},{"$f":"IFERROR(INDEX(PTable[3-Method],MATCH(0,IF(CK$1=PTable[2-Test],COUNTIF(CK$1:CK2,PTable[3-Method]), \"\"),0)),\"\")","v":"mFDAmL"},{"$f":"IFERROR(INDEX(PTable[3-Method],MATCH(0,IF(CL$1=PTable[2-Test],COUNTIF(CL$1:CL2,PTable[3-Method]), \"\"),0)),\"\")","v":""},{"$f":"IFERROR(INDEX(PTable[3-Method],MATCH(0,IF(CM$1=PTable[2-Test],COUNTIF(CM$1:CM2,PTable[3-Method]), \"\"),0)),\"\")","v":"mFDAmL"},{"$f":"IFERROR(INDEX(PTable[3-Method],MATCH(0,IF(CN$1=PTable[2-Test],COUNTIF(CN$1:CN2,PTable[3-Method]), \"\"),0)),\"\")","v":"mSMDPm"},{"$f":"IFERROR(INDEX(PTable[3-Method],MATCH(0,IF(CO$1=PTable[2-Test],COUNTIF(CO$1:CO2,PTable[3-Method]), \"\"),0)),\"\")","v":""},{"$f":"IFERROR(INDEX(PTable[3-Method],MATCH(0,IF(CP$1=PTable[2-Test],COUNTIF(CP$1:CP2,PTable[3-Method]), \"\"),0)),\"\")","v":"mCMFg"},{"$f":"IFERROR(INDEX(PTable[3-Method],MATCH(0,IF(CQ$1=PTable[2-Test],COUNTIF(CQ$1:CQ2,PTable[3-Method]), \"\"),0)),\"\")","v":"mFDAmL"},{"$f":"IFERROR(INDEX(PTable[3-Method],MATCH(0,IF(CR$1=PTable[2-Test],COUNTIF(CR$1:CR2,PTable[3-Method]), \"\"),0)),\"\")","v":"FDAmpn"},{"$f":"IFERROR(INDEX(PTable[3-Method],MATCH(0,IF(CS$1=PTable[2-Test],COUNTIF(CS$1:CS2,PTable[3-Method]), \"\"),0)),\"\")","v":""},{"$f":"IFERROR(INDEX(PTable[3-Method],MATCH(0,IF(CT$1=PTable[2-Test],COUNTIF(CT$1:CT2,PTable[3-Method]), \"\"),0)),\"\")","v":"mCMFmL"},{"$f":"IFERROR(INDEX(PTable[3-Method],MATCH(0,IF(CU$1=PTable[2-Test],COUNTIF(CU$1:CU2,PTable[3-Method]), \"\"),0)),\"\")","v":"mCMFmL"},{"$f":"IFERROR(INDEX(PTable[3-Method],MATCH(0,IF(CV$1=PTable[2-Test],COUNTIF(CV$1:CV2,PTable[3-Method]), \"\"),0)),\"\")","v":"mUSDmp"},{"$f":"IFERROR(INDEX(PTable[3-Method],MATCH(0,IF(CW$1=PTable[2-Test],COUNTIF(CW$1:CW2,PTable[3-Method]), \"\"),0)),\"\")","v":"FDAmL"},{"$f":"IFERROR(INDEX(PTable[3-Method],MATCH(0,IF(CX$1=PTable[2-Test],COUNTIF(CX$1:CX2,PTable[3-Method]), \"\"),0)),\"\")","v":"mCMFmL"},{"$f":"IFERROR(INDEX(PTable[3-Method],MATCH(0,IF(CY$1=PTable[2-Test],COUNTIF(CY$1:CY2,PTable[3-Method]), \"\"),0)),\"\")","v":"mFDAmL"},{"$f":"IFERROR(INDEX(PTable[3-Method],MATCH(0,IF(CZ$1=PTable[2-Test],COUNTIF(CZ$1:CZ2,PTable[3-Method]), \"\"),0)),\"\")","v":"mFDAmL"},{"$f":"IFERROR(INDEX(PTable[3-Method],MATCH(0,IF(DA$1=PTable[2-Test],COUNTIF(DA$1:DA2,PTable[3-Method]), \"\"),0)),\"\")","v":"mFDAmL"},{"$f":"IFERROR(INDEX(PTable[3-Method],MATCH(0,IF(DB$1=PTable[2-Test],COUNTIF(DB$1:DB2,PTable[3-Method]), \"\"),0)),\"\")","v":"mCMFm"},{"$f":"IFERROR(INDEX(PTable[3-Method],MATCH(0,IF(DC$1=PTable[2-Test],COUNTIF(DC$1:DC2,PTable[3-Method]), \"\"),0)),\"\")","v":"mCMFmL"},{"$f":"IFERROR(INDEX(PTable[3-Method],MATCH(0,IF(DD$1=PTable[2-Test],COUNTIF(DD$1:DD2,PTable[3-Method]), \"\"),0)),\"\")","v":""},{"$f":"IFERROR(INDEX(PTable[3-Method],MATCH(0,IF(DE$1=PTable[2-Test],COUNTIF(DE$1:DE2,PTable[3-Method]), \"\"),0)),\"\")","v":""},{"$f":"IFERROR(INDEX(PTable[3-Method],MATCH(0,IF(DF$1=PTable[2-Test],COUNTIF(DF$1:DF2,PTable[3-Method]), \"\"),0)),\"\")","v":""},{"$f":"IFERROR(INDEX(PTable[3-Method],MATCH(0,IF(DG$1=PTable[2-Test],COUNTIF(DG$1:DG2,PTable[3-Method]), \"\"),0)),\"\")","v":""},{"$f":"IFERROR(INDEX(PTable[3-Method],MATCH(0,IF(DH$1=PTable[2-Test],COUNTIF(DH$1:DH2,PTable[3-Method]), \"\"),0)),\"\")","v":"mFDAmL"},{"$f":"IFERROR(INDEX(PTable[3-Method],MATCH(0,IF(DI$1=PTable[2-Test],COUNTIF(DI$1:DI2,PTable[3-Method]), \"\"),0)),\"\")","v":"mUSPmL"},{"$f":"IFERROR(INDEX(PTable[3-Method],MATCH(0,IF(DJ$1=PTable[2-Test],COUNTIF(DJ$1:DJ2,PTable[3-Method]), \"\"),0)),\"\")","v":"FDAmL"}]
["Chem",{"$f":"IFERROR(INDEX(PTable[2-Test],MATCH(0,IF(B$1=PTable[1-Type],COUNTIF(B$1:B3,PTable[2-Test]), \"\"),0)),\"\")","v":"AnAPC35"},{"$f":"IFERROR(INDEX(PTable[2-Test],MATCH(0,IF(C$1=PTable[1-Type],COUNTIF(C$1:C3,PTable[2-Test]), \"\"),0)),\"\")","v":"COLIql"},{"$f":"IFERROR(INDEX(PTable[2-Test],MATCH(0,IF(D$1=PTable[1-Type],COUNTIF(D$1:D3,PTable[2-Test]), \"\"),0)),\"\")","v":"Aw"},{"$f":"IFERROR(INDEX(PTable[2-Test],MATCH(0,IF(E$1=PTable[1-Type],COUNTIF(E$1:E3,PTable[2-Test]), \"\"),0)),\"\")","v":""},{"$f":"IFERROR(INDEX(PTable[2-Test],MATCH(0,IF(F$1=PTable[1-Type],COUNTIF(F$1:F3,PTable[2-Test]), \"\"),0)),\"\")","v":"Casein"},{"$f":"IFERROR(INDEX(PTable[3-Method],MATCH(0,IF(G$1=PTable[2-Test],COUNTIF(G$1:G3,PTable[3-Method]), \"\"),0)),\"\")","v":""},{"$f":"IFERROR(INDEX(PTable[3-Method],MATCH(0,IF(H$1=PTable[2-Test],COUNTIF(H$1:H3,PTable[3-Method]), \"\"),0)),\"\")","v":""},{"$f":"IFERROR(INDEX(PTable[3-Method],MATCH(0,IF(I$1=PTable[2-Test],COUNTIF(I$1:I3,PTable[3-Method]), \"\"),0)),\"\")","v":""},{"$f":"IFERROR(INDEX(PTable[3-Method],MATCH(0,IF(J$1=PTable[2-Test],COUNTIF(J$1:J3,PTable[3-Method]), \"\"),0)),\"\")","v":""},{"$f":"IFERROR(INDEX(PTable[3-Method],MATCH(0,IF(K$1=PTable[2-Test],COUNTIF(K$1:K3,PTable[3-Method]), \"\"),0)),\"\")","v":""},{"$f":"IFERROR(INDEX(PTable[3-Method],MATCH(0,IF(L$1=PTable[2-Test],COUNTIF(L$1:L3,PTable[3-Method]), \"\"),0)),\"\")","v":""},{"$f":"IFERROR(INDEX(PTable[3-Method],MATCH(0,IF(M$1=PTable[2-Test],COUNTIF(M$1:M3,PTable[3-Method]), \"\"),0)),\"\")","v":""},{"$f":"IFERROR(INDEX(PTable[3-Method],MATCH(0,IF(N$1=PTable[2-Test],COUNTIF(N$1:N3,PTable[3-Method]), \"\"),0)),\"\")","v":""},{"$f":"IFERROR(INDEX(PTable[3-Method],MATCH(0,IF(O$1=PTable[2-Test],COUNTIF(O$1:O3,PTable[3-Method]), \"\"),0)),\"\")","v":""},{"$f":"IFERROR(INDEX(PTable[3-Method],MATCH(0,IF(P$1=PTable[2-Test],COUNTIF(P$1:P3,PTable[3-Method]), \"\"),0)),\"\")","v":""},{"$f":"IFERROR(INDEX(PTable[3-Method],MATCH(0,IF(Q$1=PTable[2-Test],COUNTIF(Q$1:Q3,PTable[3-Method]), \"\"),0)),\"\")","v":""},{"$f":"IFERROR(INDEX(PTable[3-Method],MATCH(0,IF(R$1=PTable[2-Test],COUNTIF(R$1:R3,PTable[3-Method]), \"\"),0)),\"\")","v":""},{"$f":"IFERROR(INDEX(PTable[3-Method],MATCH(0,IF(S$1=PTable[2-Test],COUNTIF(S$1:S3,PTable[3-Method]), \"\"),0)),\"\")","v":""},{"$f":"IFERROR(INDEX(PTable[3-Method],MATCH(0,IF(T$1=PTable[2-Test],COUNTIF(T$1:T3,PTable[3-Method]), \"\"),0)),\"\")","v":""},{"$f":"IFERROR(INDEX(PTable[3-Method],MATCH(0,IF(U$1=PTable[2-Test],COUNTIF(U$1:U3,PTable[3-Method]), \"\"),0)),\"\")","v":""},{"$f":"IFERROR(INDEX(PTable[3-Method],MATCH(0,IF(V$1=PTable[2-Test],COUNTIF(V$1:V3,PTable[3-Method]), \"\"),0)),\"\")","v":""},{"$f":"IFERROR(INDEX(PTable[3-Method],MATCH(0,IF(W$1=PTable[2-Test],COUNTIF(W$1:W3,PTable[3-Method]), \"\"),0)),\"\")","v":""},{"$f":"IFERROR(INDEX(PTable[3-Method],MATCH(0,IF(X$1=PTable[2-Test],COUNTIF(X$1:X3,PTable[3-Method]), \"\"),0)),\"\")","v":""},{"$f":"IFERROR(INDEX(PTable[3-Method],MATCH(0,IF(Y$1=PTable[2-Test],COUNTIF(Y$1:Y3,PTable[3-Method]), \"\"),0)),\"\")","v":""},{"$f":"IFERROR(INDEX(PTable[3-Method],MATCH(0,IF(Z$1=PTable[2-Test],COUNTIF(Z$1:Z3,PTable[3-Method]), \"\"),0)),\"\")","v":""},{"$f":"IFERROR(INDEX(PTable[3-Method],MATCH(0,IF(AA$1=PTable[2-Test],COUNTIF(AA$1:AA3,PTable[3-Method]), \"\"),0)),\"\")","v":""},{"$f":"IFERROR(INDEX(PTable[3-Method],MATCH(0,IF(AB$1=PTable[2-Test],COUNTIF(AB$1:AB3,PTable[3-Method]), \"\"),0)),\"\")","v":""},{"$f":"IFERROR(INDEX(PTable[3-Method],MATCH(0,IF(AC$1=PTable[2-Test],COUNTIF(AC$1:AC3,PTable[3-Method]), \"\"),0)),\"\")","v":""},{"$f":"IFERROR(INDEX(PTable[3-Method],MATCH(0,IF(AD$1=PTable[2-Test],COUNTIF(AD$1:AD3,PTable[3-Method]), \"\"),0)),\"\")","v":""},{"$f":"IFERROR(INDEX(PTable[3-Method],MATCH(0,IF(AE$1=PTable[2-Test],COUNTIF(AE$1:AE3,PTable[3-Method]), \"\"),0)),\"\")","v":""},{"$f":"IFERROR(INDEX(PTable[3-Method],MATCH(0,IF(AF$1=PTable[2-Test],COUNTIF(AF$1:AF3,PTable[3-Method]), \"\"),0)),\"\")","v":"total"},{"$f":"IFERROR(INDEX(PTable[3-Method],MATCH(0,IF(AG$1=PTable[2-Test],COUNTIF(AG$1:AG3,PTable[3-Method]), \"\"),0)),\"\")","v":""},{"$f":"IFERROR(INDEX(PTable[3-Method],MATCH(0,IF(AH$1=PTable[2-Test],COUNTIF(AH$1:AH3,PTable[3-Method]), \"\"),0)),\"\")","v":""},{"$f":"IFERROR(INDEX(PTable[3-Method],MATCH(0,IF(AI$1=PTable[2-Test],COUNTIF(AI$1:AI3,PTable[3-Method]), \"\"),0)),\"\")","v":"Soxhlet"},{"$f":"IFERROR(INDEX(PTable[3-Method],MATCH(0,IF(AJ$1=PTable[2-Test],COUNTIF(AJ$1:AJ3,PTable[3-Method]), \"\"),0)),\"\")","v":""},{"$f":"IFERROR(INDEX(PTable[3-Method],MATCH(0,IF(AK$1=PTable[2-Test],COUNTIF(AK$1:AK3,PTable[3-Method]), \"\"),0)),\"\")","v":"total"},{"$f":"IFERROR(INDEX(PTable[3-Method],MATCH(0,IF(AL$1=PTable[2-Test],COUNTIF(AL$1:AL3,PTable[3-Method]), \"\"),0)),\"\")","v":"KF"},{"$f":"IFERROR(INDEX(PTable[3-Method],MATCH(0,IF(AM$1=PTable[2-Test],COUNTIF(AM$1:AM3,PTable[3-Method]), \"\"),0)),\"\")","v":""},{"$f":"IFERROR(INDEX(PTable[3-Method],MATCH(0,IF(AN$1=PTable[2-Test],COUNTIF(AN$1:AN3,PTable[3-Method]), \"\"),0)),\"\")","v":""},{"$f":"IFERROR(INDEX(PTable[3-Method],MATCH(0,IF(AO$1=PTable[2-Test],COUNTIF(AO$1:AO3,PTable[3-Method]), \"\"),0)),\"\")","v":""},{"$f":"IFERROR(INDEX(PTable[3-Method],MATCH(0,IF(AP$1=PTable[2-Test],COUNTIF(AP$1:AP3,PTable[3-Method]), \"\"),0)),\"\")","v":""},{"$f":"IFERROR(INDEX(PTable[3-Method],MATCH(0,IF(AQ$1=PTable[2-Test],COUNTIF(AQ$1:AQ3,PTable[3-Method]), \"\"),0)),\"\")","v":""},{"$f":"IFERROR(INDEX(PTable[3-Method],MATCH(0,IF(AR$1=PTable[2-Test],COUNTIF(AR$1:AR3,PTable[3-Method]), \"\"),0)),\"\")","v":""},{"$f":"IFERROR(INDEX(PTable[3-Method],MATCH(0,IF(AS$1=PTable[2-Test],COUNTIF(AS$1:AS3,PTable[3-Method]), \"\"),0)),\"\")","v":""},{"$f":"IFERROR(INDEX(PTable[3-Method],MATCH(0,IF(AT$1=PTable[2-Test],COUNTIF(AT$1:AT3,PTable[3-Method]), \"\"),0)),\"\")","v":""},{"$f":"IFERROR(INDEX(PTable[3-Method],MATCH(0,IF(AU$1=PTable[2-Test],COUNTIF(AU$1:AU3,PTable[3-Method]), \"\"),0)),\"\")","v":""},{"$f":"IFERROR(INDEX(PTable[3-Method],MATCH(0,IF(AV$1=PTable[2-Test],COUNTIF(AV$1:AV3,PTable[3-Method]), \"\"),0)),\"\")","v":""},{"$f":"IFERROR(INDEX(PTable[3-Method],MATCH(0,IF(AW$1=PTable[2-Test],COUNTIF(AW$1:AW3,PTable[3-Method]), \"\"),0)),\"\")","v":""},{"$f":"IFERROR(INDEX(PTable[3-Method],MATCH(0,IF(AX$1=PTable[2-Test],COUNTIF(AX$1:AX3,PTable[3-Method]), \"\"),0)),\"\")","v":"lactic"},{"$f":"IFERROR(INDEX(PTable[3-Method],MATCH(0,IF(AY$1=PTable[2-Test],COUNTIF(AY$1:AY3,PTable[3-Method]), \"\"),0)),\"\")","v":""},{"$f":"IFERROR(INDEX(PTable[3-Method],MATCH(0,IF(AZ$1=PTable[2-Test],COUNTIF(AZ$1:AZ3,PTable[3-Method]), \"\"),0)),\"\")","v":""},{"$f":"IFERROR(INDEX(PTable[3-Method],MATCH(0,IF(BA$1=PTable[2-Test],COUNTIF(BA$1:BA3,PTable[3-Method]), \"\"),0)),\"\")","v":""},{"$f":"IFERROR(INDEX(PTable[3-Method],MATCH(0,IF(BB$1=PTable[2-Test],COUNTIF(BB$1:BB3,PTable[3-Method]), \"\"),0)),\"\")","v":""},{"$f":"IFERROR(INDEX(PTable[3-Method],MATCH(0,IF(BC$1=PTable[2-Test],COUNTIF(BC$1:BC3,PTable[3-Method]), \"\"),0)),\"\")","v":""},{"$f":"IFERROR(INDEX(PTable[3-Method],MATCH(0,IF(BD$1=PTable[2-Test],COUNTIF(BD$1:BD3,PTable[3-Method]), \"\"),0)),\"\")","v":"PkgApp"},{"$f":"IFERROR(INDEX(PTable[3-Method],MATCH(0,IF(BE$1=PTable[2-Test],COUNTIF(BE$1:BE3,PTable[3-Method]), \"\"),0)),\"\")","v":"USP1g"},{"$f":"IFERROR(INDEX(PTable[3-Method],MATCH(0,IF(BF$1=PTable[2-Test],COUNTIF(BF$1:BF3,PTable[3-Method]), \"\"),0)),\"\")","v":""},{"$f":"IFERROR(INDEX(PTable[3-Method],MATCH(0,IF(BG$1=PTable[2-Test],COUNTIF(BG$1:BG3,PTable[3-Method]), \"\"),0)),\"\")","v":""},{"$f":"IFERROR(INDEX(PTable[3-Method],MATCH(0,IF(BH$1=PTable[2-Test],COUNTIF(BH$1:BH3,PTable[3-Method]), \"\"),0)),\"\")","v":"PCR375g"},{"$f":"IFERROR(INDEX(PTable[3-Method],MATCH(0,IF(BI$1=PTable[2-Test],COUNTIF(BI$1:BI3,PTable[3-Method]), \"\"),0)),\"\")","v":"PCR25g"},{"$f":"IFERROR(INDEX(PTable[3-Method],MATCH(0,IF(BJ$1=PTable[2-Test],COUNTIF(BJ$1:BJ3,PTable[3-Method]), \"\"),0)),\"\")","v":"USP11g"},{"$f":"IFERROR(INDEX(PTable[3-Method],MATCH(0,IF(BK$1=PTable[2-Test],COUNTIF(BK$1:BK3,PTable[3-Method]), \"\"),0)),\"\")","v":""},{"$f":"IFERROR(INDEX(PTable[3-Method],MATCH(0,IF(BL$1=PTable[2-Test],COUNTIF(BL$1:BL3,PTable[3-Method]), \"\"),0)),\"\")","v":"mBX125g"},{"$f":"IFERROR(INDEX(PTable[3-Method],MATCH(0,IF(BM$1=PTable[2-Test],COUNTIF(BM$1:BM3,PTable[3-Method]), \"\"),0)),\"\")","v":"mBe125g"},{"$f":"IFERROR(INDEX(PTable[3-Method],MATCH(0,IF(BN$1=PTable[2-Test],COUNTIF(BN$1:BN3,PTable[3-Method]), \"\"),0)),\"\")","v":"GNGP375"},{"$f":"IFERROR(INDEX(PTable[3-Method],MATCH(0,IF(BO$1=PTable[2-Test],COUNTIF(BO$1:BO3,PTable[3-Method]), \"\"),0)),\"\")","v":"USP1g"},{"$f":"IFERROR(INDEX(PTable[3-Method],MATCH(0,IF(BP$1=PTable[2-Test],COUNTIF(BP$1:BP3,PTable[3-Method]), \"\"),0)),\"\")","v":"FDA375g"},{"$f":"IFERROR(INDEX(PTable[3-Method],MATCH(0,IF(BQ$1=PTable[2-Test],COUNTIF(BQ$1:BQ3,PTable[3-Method]), \"\"),0)),\"\")","v":""},{"$f":"IFERROR(INDEX(PTable[3-Method],MATCH(0,IF(BR$1=PTable[2-Test],COUNTIF(BR$1:BR3,PTable[3-Method]), \"\"),0)),\"\")","v":""},{"$f":"IFERROR(INDEX(PTable[3-Method],MATCH(0,IF(BS$1=PTable[2-Test],COUNTIF(BS$1:BS3,PTable[3-Method]), \"\"),0)),\"\")","v":"USP1g"},{"$f":"IFERROR(INDEX(PTable[3-Method],MATCH(0,IF(BT$1=PTable[2-Test],COUNTIF(BT$1:BT3,PTable[3-Method]), \"\"),0)),\"\")","v":"PCR325g"},{"$f":"IFERROR(INDEX(PTable[3-Method],MATCH(0,IF(BU$1=PTable[2-Test],COUNTIF(BU$1:BU3,PTable[3-Method]), \"\"),0)),\"\")","v":""},{"$f":"IFERROR(INDEX(PTable[3-Method],MATCH(0,IF(BV$1=PTable[2-Test],COUNTIF(BV$1:BV3,PTable[3-Method]), \"\"),0)),\"\")","v":""},{"$f":"IFERROR(INDEX(PTable[3-Method],MATCH(0,IF(BW$1=PTable[2-Test],COUNTIF(BW$1:BW3,PTable[3-Method]), \"\"),0)),\"\")","v":""},{"$f":"IFERROR(INDEX(PTable[3-Method],MATCH(0,IF(BX$1=PTable[2-Test],COUNTIF(BX$1:BX3,PTable[3-Method]), \"\"),0)),\"\")","v":"MFg"},{"$f":"IFERROR(INDEX(PTable[3-Method],MATCH(0,IF(BY$1=PTable[2-Test],COUNTIF(BY$1:BY3,PTable[3-Method]), \"\"),0)),\"\")","v":""},{"$f":"IFERROR(INDEX(PTable[3-Method],MATCH(0,IF(BZ$1=PTable[2-Test],COUNTIF(BZ$1:BZ3,PTable[3-Method]), \"\"),0)),\"\")","v":""},{"$f":"IFERROR(INDEX(PTable[3-Method],MATCH(0,IF(CA$1=PTable[2-Test],COUNTIF(CA$1:CA3,PTable[3-Method]), \"\"),0)),\"\")","v":"MFg"},{"$f":"IFERROR(INDEX(PTable[3-Method],MATCH(0,IF(CB$1=PTable[2-Test],COUNTIF(CB$1:CB3,PTable[3-Method]), \"\"),0)),\"\")","v":"mSMDPg"},{"$f":"IFERROR(INDEX(PTable[3-Method],MATCH(0,IF(CC$1=PTable[2-Test],COUNTIF(CC$1:CC3,PTable[3-Method]), \"\"),0)),\"\")","v":"MFg"},{"$f":"IFERROR(INDEX(PTable[3-Method],MATCH(0,IF(CD$1=PTable[2-Test],COUNTIF(CD$1:CD3,PTable[3-Method]), \"\"),0)),\"\")","v":""},{"$f":"IFERROR(INDEX(PTable[3-Method],MATCH(0,IF(CE$1=PTable[2-Test],COUNTIF(CE$1:CE3,PTable[3-Method]), \"\"),0)),\"\")","v":"MFg"},{"$f":"IFERROR(INDEX(PTable[3-Method],MATCH(0,IF(CF$1=PTable[2-Test],COUNTIF(CF$1:CF3,PTable[3-Method]), \"\"),0)),\"\")","v":""},{"$f":"IFERROR(INDEX(PTable[3-Method],MATCH(0,IF(CG$1=PTable[2-Test],COUNTIF(CG$1:CG3,PTable[3-Method]), \"\"),0)),\"\")","v":""},{"$f":"IFERROR(INDEX(PTable[3-Method],MATCH(0,IF(CH$1=PTable[2-Test],COUNTIF(CH$1:CH3,PTable[3-Method]), \"\"),0)),\"\")","v":""},{"$f":"IFERROR(INDEX(PTable[3-Method],MATCH(0,IF(CI$1=PTable[2-Test],COUNTIF(CI$1:CI3,PTable[3-Method]), \"\"),0)),\"\")","v":""},{"$f":"IFERROR(INDEX(PTable[3-Method],MATCH(0,IF(CJ$1=PTable[2-Test],COUNTIF(CJ$1:CJ3,PTable[3-Method]), \"\"),0)),\"\")","v":""},{"$f":"IFERROR(INDEX(PTable[3-Method],MATCH(0,IF(CK$1=PTable[2-Test],COUNTIF(CK$1:CK3,PTable[3-Method]), \"\"),0)),\"\")","v":""},{"$f":"IFERROR(INDEX(PTable[3-Method],MATCH(0,IF(CL$1=PTable[2-Test],COUNTIF(CL$1:CL3,PTable[3-Method]), \"\"),0)),\"\")","v":""},{"$f":"IFERROR(INDEX(PTable[3-Method],MATCH(0,IF(CM$1=PTable[2-Test],COUNTIF(CM$1:CM3,PTable[3-Method]), \"\"),0)),\"\")","v":"mFDmpG"},{"$f":"IFERROR(INDEX(PTable[3-Method],MATCH(0,IF(CN$1=PTable[2-Test],COUNTIF(CN$1:CN3,PTable[3-Method]), \"\"),0)),\"\")","v":""},{"$f":"IFERROR(INDEX(PTable[3-Method],MATCH(0,IF(CO$1=PTable[2-Test],COUNTIF(CO$1:CO3,PTable[3-Method]), \"\"),0)),\"\")","v":""},{"$f":"IFERROR(INDEX(PTable[3-Method],MATCH(0,IF(CP$1=PTable[2-Test],COUNTIF(CP$1:CP3,PTable[3-Method]), \"\"),0)),\"\")","v":"mCMFmL"},{"$f":"IFERROR(INDEX(PTable[3-Method],MATCH(0,IF(CQ$1=PTable[2-Test],COUNTIF(CQ$1:CQ3,PTable[3-Method]), \"\"),0)),\"\")","v":"mFDmpm"},{"$f":"IFERROR(INDEX(PTable[3-Method],MATCH(0,IF(CR$1=PTable[2-Test],COUNTIF(CR$1:CR3,PTable[3-Method]), \"\"),0)),\"\")","v":"mFDmpm"},{"$f":"IFERROR(INDEX(PTable[3-Method],MATCH(0,IF(CS$1=PTable[2-Test],COUNTIF(CS$1:CS3,PTable[3-Method]), \"\"),0)),\"\")","v":""},{"$f":"IFERROR(INDEX(PTable[3-Method],MATCH(0,IF(CT$1=PTable[2-Test],COUNTIF(CT$1:CT3,PTable[3-Method]), \"\"),0)),\"\")","v":""},{"$f":"IFERROR(INDEX(PTable[3-Method],MATCH(0,IF(CU$1=PTable[2-Test],COUNTIF(CU$1:CU3,PTable[3-Method]), \"\"),0)),\"\")","v":""},{"$f":"IFERROR(INDEX(PTable[3-Method],MATCH(0,IF(CV$1=PTable[2-Test],COUNTIF(CV$1:CV3,PTable[3-Method]), \"\"),0)),\"\")","v":""},{"$f":"IFERROR(INDEX(PTable[3-Method],MATCH(0,IF(CW$1=PTable[2-Test],COUNTIF(CW$1:CW3,PTable[3-Method]), \"\"),0)),\"\")","v":"mFDAg"},{"$f":"IFERROR(INDEX(PTable[3-Method],MATCH(0,IF(CX$1=PTable[2-Test],COUNTIF(CX$1:CX3,PTable[3-Method]), \"\"),0)),\"\")","v":""},{"$f":"IFERROR(INDEX(PTable[3-Method],MATCH(0,IF(CY$1=PTable[2-Test],COUNTIF(CY$1:CY3,PTable[3-Method]), \"\"),0)),\"\")","v":""},{"$f":"IFERROR(INDEX(PTable[3-Method],MATCH(0,IF(CZ$1=PTable[2-Test],COUNTIF(CZ$1:CZ3,PTable[3-Method]), \"\"),0)),\"\")","v":""},{"$f":"IFERROR(INDEX(PTable[3-Method],MATCH(0,IF(DA$1=PTable[2-Test],COUNTIF(DA$1:DA3,PTable[3-Method]), \"\"),0)),\"\")","v":""},{"$f":"IFERROR(INDEX(PTable[3-Method],MATCH(0,IF(DB$1=PTable[2-Test],COUNTIF(DB$1:DB3,PTable[3-Method]), \"\"),0)),\"\")","v":""},{"$f":"IFERROR(INDEX(PTable[3-Method],MATCH(0,IF(DC$1=PTable[2-Test],COUNTIF(DC$1:DC3,PTable[3-Method]), \"\"),0)),\"\")","v":""},{"$f":"IFERROR(INDEX(PTable[3-Method],MATCH(0,IF(DD$1=PTable[2-Test],COUNTIF(DD$1:DD3,PTable[3-Method]), \"\"),0)),\"\")","v":""},{"$f":"IFERROR(INDEX(PTable[3-Method],MATCH(0,IF(DE$1=PTable[2-Test],COUNTIF(DE$1:DE3,PTable[3-Method]), \"\"),0)),\"\")","v":""},{"$f":"IFERROR(INDEX(PTable[3-Method],MATCH(0,IF(DF$1=PTable[2-Test],COUNTIF(DF$1:DF3,PTable[3-Method]), \"\"),0)),\"\")","v":""},{"$f":"IFERROR(INDEX(PTable[3-Method],MATCH(0,IF(DG$1=PTable[2-Test],COUNTIF(DG$1:DG3,PTable[3-Method]), \"\"),0)),\"\")","v":""},{"$f":"IFERROR(INDEX(PTable[3-Method],MATCH(0,IF(DH$1=PTable[2-Test],COUNTIF(DH$1:DH3,PTable[3-Method]), \"\"),0)),\"\")","v":"mFDmpn"},{"$f":"IFERROR(INDEX(PTable[3-Method],MATCH(0,IF(DI$1=PTable[2-Test],COUNTIF(DI$1:DI3,PTable[3-Method]), \"\"),0)),\"\")","v":""},{"$f":"IFERROR(INDEX(PTable[3-Method],MATCH(0,IF(DJ$1=PTable[2-Test],COUNTIF(DJ$1:DJ3,PTable[3-Method]), \"\"),0)),\"\")","v":"mFDAg"}]
["Allergen",{"$f":"IFERROR(INDEX(PTable[2-Test],MATCH(0,IF(B$1=PTable[1-Type],COUNTIF(B$1:B4,PTable[2-Test]), \"\"),0)),\"\")","v":"AnAPC55"},{"$f":"IFERROR(INDEX(PTable[2-Test],MATCH(0,IF(C$1=PTable[1-Type],COUNTIF(C$1:C4,PTable[2-Test]), \"\"),0)),\"\")","v":"ECO157"},{"$f":"IFERROR(INDEX(PTable[2-Test],MATCH(0,IF(D$1=PTable[1-Type],COUNTIF(D$1:D4,PTable[2-Test]), \"\"),0)),\"\")","v":"Brix"},{"$f":"IFERROR(INDEX(PTable[2-Test],MATCH(0,IF(E$1=PTable[1-Type],COUNTIF(E$1:E4,PTable[2-Test]), \"\"),0)),\"\")","v":""},{"$f":"IFERROR(INDEX(PTable[2-Test],MATCH(0,IF(F$1=PTable[1-Type],COUNTIF(F$1:F4,PTable[2-Test]), \"\"),0)),\"\")","v":"Cashew"},{"$f":"IFERROR(INDEX(PTable[3-Method],MATCH(0,IF(G$1=PTable[2-Test],COUNTIF(G$1:G4,PTable[3-Method]), \"\"),0)),\"\")","v":""},{"$f":"IFERROR(INDEX(PTable[3-Method],MATCH(0,IF(H$1=PTable[2-Test],COUNTIF(H$1:H4,PTable[3-Method]), \"\"),0)),\"\")","v":""},{"$f":"IFERROR(INDEX(PTable[3-Method],MATCH(0,IF(I$1=PTable[2-Test],COUNTIF(I$1:I4,PTable[3-Method]), \"\"),0)),\"\")","v":""},{"$f":"IFERROR(INDEX(PTable[3-Method],MATCH(0,IF(J$1=PTable[2-Test],COUNTIF(J$1:J4,PTable[3-Method]), \"\"),0)),\"\")","v":""},{"$f":"IFERROR(INDEX(PTable[3-Method],MATCH(0,IF(K$1=PTable[2-Test],COUNTIF(K$1:K4,PTable[3-Method]), \"\"),0)),\"\")","v":""},{"$f":"IFERROR(INDEX(PTable[3-Method],MATCH(0,IF(L$1=PTable[2-Test],COUNTIF(L$1:L4,PTable[3-Method]), \"\"),0)),\"\")","v":""},{"$f":"IFERROR(INDEX(PTable[3-Method],MATCH(0,IF(M$1=PTable[2-Test],COUNTIF(M$1:M4,PTable[3-Method]), \"\"),0)),\"\")","v":""},{"$f":"IFERROR(INDEX(PTable[3-Method],MATCH(0,IF(N$1=PTable[2-Test],COUNTIF(N$1:N4,PTable[3-Method]), \"\"),0)),\"\")","v":""},{"$f":"IFERROR(INDEX(PTable[3-Method],MATCH(0,IF(O$1=PTable[2-Test],COUNTIF(O$1:O4,PTable[3-Method]), \"\"),0)),\"\")","v":""},{"$f":"IFERROR(INDEX(PTable[3-Method],MATCH(0,IF(P$1=PTable[2-Test],COUNTIF(P$1:P4,PTable[3-Method]), \"\"),0)),\"\")","v":""},{"$f":"IFERROR(INDEX(PTable[3-Method],MATCH(0,IF(Q$1=PTable[2-Test],COUNTIF(Q$1:Q4,PTable[3-Method]), \"\"),0)),\"\")","v":""},{"$f":"IFERROR(INDEX(PTable[3-Method],MATCH(0,IF(R$1=PTable[2-Test],COUNTIF(R$1:R4,PTable[3-Method]), \"\"),0)),\"\")","v":""},{"$f":"IFERROR(INDEX(PTable[3-Method],MATCH(0,IF(S$1=PTable[2-Test],COUNTIF(S$1:S4,PTable[3-Method]), \"\"),0)),\"\")","v":""},{"$f":"IFERROR(INDEX(PTable[3-Method],MATCH(0,IF(T$1=PTable[2-Test],COUNTIF(T$1:T4,PTable[3-Method]), \"\"),0)),\"\")","v":""},{"$f":"IFERROR(INDEX(PTable[3-Method],MATCH(0,IF(U$1=PTable[2-Test],COUNTIF(U$1:U4,PTable[3-Method]), \"\"),0)),\"\")","v":""},{"$f":"IFERROR(INDEX(PTable[3-Method],MATCH(0,IF(V$1=PTable[2-Test],COUNTIF(V$1:V4,PTable[3-Method]), \"\"),0)),\"\")","v":""},{"$f":"IFERROR(INDEX(PTable[3-Method],MATCH(0,IF(W$1=PTable[2-Test],COUNTIF(W$1:W4,PTable[3-Method]), \"\"),0)),\"\")","v":""},{"$f":"IFERROR(INDEX(PTable[3-Method],MATCH(0,IF(X$1=PTable[2-Test],COUNTIF(X$1:X4,PTable[3-Method]), \"\"),0)),\"\")","v":""},{"$f":"IFERROR(INDEX(PTable[3-Method],MATCH(0,IF(Y$1=PTable[2-Test],COUNTIF(Y$1:Y4,PTable[3-Method]), \"\"),0)),\"\")","v":""},{"$f":"IFERROR(INDEX(PTable[3-Method],MATCH(0,IF(Z$1=PTable[2-Test],COUNTIF(Z$1:Z4,PTable[3-Method]), \"\"),0)),\"\")","v":""},{"$f":"IFERROR(INDEX(PTable[3-Method],MATCH(0,IF(AA$1=PTable[2-Test],COUNTIF(AA$1:AA4,PTable[3-Method]), \"\"),0)),\"\")","v":""},{"$f":"IFERROR(INDEX(PTable[3-Method],MATCH(0,IF(AB$1=PTable[2-Test],COUNTIF(AB$1:AB4,PTable[3-Method]), \"\"),0)),\"\")","v":""},{"$f":"IFERROR(INDEX(PTable[3-Method],MATCH(0,IF(AC$1=PTable[2-Test],COUNTIF(AC$1:AC4,PTable[3-Method]), \"\"),0)),\"\")","v":""},{"$f":"IFERROR(INDEX(PTable[3-Method],MATCH(0,IF(AD$1=PTable[2-Test],COUNTIF(AD$1:AD4,PTable[3-Method]), \"\"),0)),\"\")","v":""},{"$f":"IFERROR(INDEX(PTable[3-Method],MATCH(0,IF(AE$1=PTable[2-Test],COUNTIF(AE$1:AE4,PTable[3-Method]), \"\"),0)),\"\")","v":""},{"$f":"IFERROR(INDEX(PTable[3-Method],MATCH(0,IF(AF$1=PTable[2-Test],COUNTIF(AF$1:AF4,PTable[3-Method]), \"\"),0)),\"\")","v":""},{"$f":"IFERROR(INDEX(PTable[3-Method],MATCH(0,IF(AG$1=PTable[2-Test],COUNTIF(AG$1:AG4,PTable[3-Method]), \"\"),0)),\"\")","v":""},{"$f":"IFERROR(INDEX(PTable[3-Method],MATCH(0,IF(AH$1=PTable[2-Test],COUNTIF(AH$1:AH4,PTable[3-Method]), \"\"),0)),\"\")","v":""},{"$f":"IFERROR(INDEX(PTable[3-Method],MATCH(0,IF(AI$1=PTable[2-Test],COUNTIF(AI$1:AI4,PTable[3-Method]), \"\"),0)),\"\")","v":""},{"$f":"IFERROR(INDEX(PTable[3-Method],MATCH(0,IF(AJ$1=PTable[2-Test],COUNTIF(AJ$1:AJ4,PTable[3-Method]), \"\"),0)),\"\")","v":""},{"$f":"IFERROR(INDEX(PTable[3-Method],MATCH(0,IF(AK$1=PTable[2-Test],COUNTIF(AK$1:AK4,PTable[3-Method]), \"\"),0)),\"\")","v":""},{"$f":"IFERROR(INDEX(PTable[3-Method],MATCH(0,IF(AL$1=PTable[2-Test],COUNTIF(AL$1:AL4,PTable[3-Method]), \"\"),0)),\"\")","v":"meat"},{"$f":"IFERROR(INDEX(PTable[3-Method],MATCH(0,IF(AM$1=PTable[2-Test],COUNTIF(AM$1:AM4,PTable[3-Method]), \"\"),0)),\"\")","v":""},{"$f":"IFERROR(INDEX(PTable[3-Method],MATCH(0,IF(AN$1=PTable[2-Test],COUNTIF(AN$1:AN4,PTable[3-Method]), \"\"),0)),\"\")","v":""},{"$f":"IFERROR(INDEX(PTable[3-Method],MATCH(0,IF(AO$1=PTable[2-Test],COUNTIF(AO$1:AO4,PTable[3-Method]), \"\"),0)),\"\")","v":""},{"$f":"IFERROR(INDEX(PTable[3-Method],MATCH(0,IF(AP$1=PTable[2-Test],COUNTIF(AP$1:AP4,PTable[3-Method]), \"\"),0)),\"\")","v":""},{"$f":"IFERROR(INDEX(PTable[3-Method],MATCH(0,IF(AQ$1=PTable[2-Test],COUNTIF(AQ$1:AQ4,PTable[3-Method]), \"\"),0)),\"\")","v":""},{"$f":"IFERROR(INDEX(PTable[3-Method],MATCH(0,IF(AR$1=PTable[2-Test],COUNTIF(AR$1:AR4,PTable[3-Method]), \"\"),0)),\"\")","v":""},{"$f":"IFERROR(INDEX(PTable[3-Method],MATCH(0,IF(AS$1=PTable[2-Test],COUNTIF(AS$1:AS4,PTable[3-Method]), \"\"),0)),\"\")","v":""},{"$f":"IFERROR(INDEX(PTable[3-Method],MATCH(0,IF(AT$1=PTable[2-Test],COUNTIF(AT$1:AT4,PTable[3-Method]), \"\"),0)),\"\")","v":""},{"$f":"IFERROR(INDEX(PTable[3-Method],MATCH(0,IF(AU$1=PTable[2-Test],COUNTIF(AU$1:AU4,PTable[3-Method]), \"\"),0)),\"\")","v":""},{"$f":"IFERROR(INDEX(PTable[3-Method],MATCH(0,IF(AV$1=PTable[2-Test],COUNTIF(AV$1:AV4,PTable[3-Method]), \"\"),0)),\"\")","v":""},{"$f":"IFERROR(INDEX(PTable[3-Method],MATCH(0,IF(AW$1=PTable[2-Test],COUNTIF(AW$1:AW4,PTable[3-Method]), \"\"),0)),\"\")","v":""},{"$f":"IFERROR(INDEX(PTable[3-Method],MATCH(0,IF(AX$1=PTable[2-Test],COUNTIF(AX$1:AX4,PTable[3-Method]), \"\"),0)),\"\")","v":""},{"$f":"IFERROR(INDEX(PTable[3-Method],MATCH(0,IF(AY$1=PTable[2-Test],COUNTIF(AY$1:AY4,PTable[3-Method]), \"\"),0)),\"\")","v":""},{"$f":"IFERROR(INDEX(PTable[3-Method],MATCH(0,IF(AZ$1=PTable[2-Test],COUNTIF(AZ$1:AZ4,PTable[3-Method]), \"\"),0)),\"\")","v":""},{"$f":"IFERROR(INDEX(PTable[3-Method],MATCH(0,IF(BA$1=PTable[2-Test],COUNTIF(BA$1:BA4,PTable[3-Method]), \"\"),0)),\"\")","v":""},{"$f":"IFERROR(INDEX(PTable[3-Method],MATCH(0,IF(BB$1=PTable[2-Test],COUNTIF(BB$1:BB4,PTable[3-Method]), \"\"),0)),\"\")","v":""},{"$f":"IFERROR(INDEX(PTable[3-Method],MATCH(0,IF(BC$1=PTable[2-Test],COUNTIF(BC$1:BC4,PTable[3-Method]), \"\"),0)),\"\")","v":""},{"$f":"IFERROR(INDEX(PTable[3-Method],MATCH(0,IF(BD$1=PTable[2-Test],COUNTIF(BD$1:BD4,PTable[3-Method]), \"\"),0)),\"\")","v":"Prod.App"},{"$f":"IFERROR(INDEX(PTable[3-Method],MATCH(0,IF(BE$1=PTable[2-Test],COUNTIF(BE$1:BE4,PTable[3-Method]), \"\"),0)),\"\")","v":"USP25g"},{"$f":"IFERROR(INDEX(PTable[3-Method],MATCH(0,IF(BF$1=PTable[2-Test],COUNTIF(BF$1:BF4,PTable[3-Method]), \"\"),0)),\"\")","v":""},{"$f":"IFERROR(INDEX(PTable[3-Method],MATCH(0,IF(BG$1=PTable[2-Test],COUNTIF(BG$1:BG4,PTable[3-Method]), \"\"),0)),\"\")","v":""},{"$f":"IFERROR(INDEX(PTable[3-Method],MATCH(0,IF(BH$1=PTable[2-Test],COUNTIF(BH$1:BH4,PTable[3-Method]), \"\"),0)),\"\")","v":""},{"$f":"IFERROR(INDEX(PTable[3-Method],MATCH(0,IF(BI$1=PTable[2-Test],COUNTIF(BI$1:BI4,PTable[3-Method]), \"\"),0)),\"\")","v":"PCR325g"},{"$f":"IFERROR(INDEX(PTable[3-Method],MATCH(0,IF(BJ$1=PTable[2-Test],COUNTIF(BJ$1:BJ4,PTable[3-Method]), \"\"),0)),\"\")","v":"USP1g"},{"$f":"IFERROR(INDEX(PTable[3-Method],MATCH(0,IF(BK$1=PTable[2-Test],COUNTIF(BK$1:BK4,PTable[3-Method]), \"\"),0)),\"\")","v":""},{"$f":"IFERROR(INDEX(PTable[3-Method],MATCH(0,IF(BL$1=PTable[2-Test],COUNTIF(BL$1:BL4,PTable[3-Method]), \"\"),0)),\"\")","v":"mBX250g"},{"$f":"IFERROR(INDEX(PTable[3-Method],MATCH(0,IF(BM$1=PTable[2-Test],COUNTIF(BM$1:BM4,PTable[3-Method]), \"\"),0)),\"\")","v":"mBe250g"},{"$f":"IFERROR(INDEX(PTable[3-Method],MATCH(0,IF(BN$1=PTable[2-Test],COUNTIF(BN$1:BN4,PTable[3-Method]), \"\"),0)),\"\")","v":"GNO25g"},{"$f":"IFERROR(INDEX(PTable[3-Method],MATCH(0,IF(BO$1=PTable[2-Test],COUNTIF(BO$1:BO4,PTable[3-Method]), \"\"),0)),\"\")","v":"USP25g"},{"$f":"IFERROR(INDEX(PTable[3-Method],MATCH(0,IF(BP$1=PTable[2-Test],COUNTIF(BP$1:BP4,PTable[3-Method]), \"\"),0)),\"\")","v":"mBX125g"},{"$f":"IFERROR(INDEX(PTable[3-Method],MATCH(0,IF(BQ$1=PTable[2-Test],COUNTIF(BQ$1:BQ4,PTable[3-Method]), \"\"),0)),\"\")","v":""},{"$f":"IFERROR(INDEX(PTable[3-Method],MATCH(0,IF(BR$1=PTable[2-Test],COUNTIF(BR$1:BR4,PTable[3-Method]), \"\"),0)),\"\")","v":""},{"$f":"IFERROR(INDEX(PTable[3-Method],MATCH(0,IF(BS$1=PTable[2-Test],COUNTIF(BS$1:BS4,PTable[3-Method]), \"\"),0)),\"\")","v":"USP25g"},{"$f":"IFERROR(INDEX(PTable[3-Method],MATCH(0,IF(BT$1=PTable[2-Test],COUNTIF(BT$1:BT4,PTable[3-Method]), \"\"),0)),\"\")","v":"PCR375g"},{"$f":"IFERROR(INDEX(PTable[3-Method],MATCH(0,IF(BU$1=PTable[2-Test],COUNTIF(BU$1:BU4,PTable[3-Method]), \"\"),0)),\"\")","v":""},{"$f":"IFERROR(INDEX(PTable[3-Method],MATCH(0,IF(BV$1=PTable[2-Test],COUNTIF(BV$1:BV4,PTable[3-Method]), \"\"),0)),\"\")","v":""},{"$f":"IFERROR(INDEX(PTable[3-Method],MATCH(0,IF(BW$1=PTable[2-Test],COUNTIF(BW$1:BW4,PTable[3-Method]), \"\"),0)),\"\")","v":""},{"$f":"IFERROR(INDEX(PTable[3-Method],MATCH(0,IF(BX$1=PTable[2-Test],COUNTIF(BX$1:BX4,PTable[3-Method]), \"\"),0)),\"\")","v":""},{"$f":"IFERROR(INDEX(PTable[3-Method],MATCH(0,IF(BY$1=PTable[2-Test],COUNTIF(BY$1:BY4,PTable[3-Method]), \"\"),0)),\"\")","v":""},{"$f":"IFERROR(INDEX(PTable[3-Method],MATCH(0,IF(BZ$1=PTable[2-Test],COUNTIF(BZ$1:BZ4,PTable[3-Method]), \"\"),0)),\"\")","v":""},{"$f":"IFERROR(INDEX(PTable[3-Method],MATCH(0,IF(CA$1=PTable[2-Test],COUNTIF(CA$1:CA4,PTable[3-Method]), \"\"),0)),\"\")","v":"MFmL"},{"$f":"IFERROR(INDEX(PTable[3-Method],MATCH(0,IF(CB$1=PTable[2-Test],COUNTIF(CB$1:CB4,PTable[3-Method]), \"\"),0)),\"\")","v":"mSMDPm"},{"$f":"IFERROR(INDEX(PTable[3-Method],MATCH(0,IF(CC$1=PTable[2-Test],COUNTIF(CC$1:CC4,PTable[3-Method]), \"\"),0)),\"\")","v":"MFmL"},{"$f":"IFERROR(INDEX(PTable[3-Method],MATCH(0,IF(CD$1=PTable[2-Test],COUNTIF(CD$1:CD4,PTable[3-Method]), \"\"),0)),\"\")","v":""},{"$f":"IFERROR(INDEX(PTable[3-Method],MATCH(0,IF(CE$1=PTable[2-Test],COUNTIF(CE$1:CE4,PTable[3-Method]), \"\"),0)),\"\")","v":"MFmL"},{"$f":"IFERROR(INDEX(PTable[3-Method],MATCH(0,IF(CF$1=PTable[2-Test],COUNTIF(CF$1:CF4,PTable[3-Method]), \"\"),0)),\"\")","v":""},{"$f":"IFERROR(INDEX(PTable[3-Method],MATCH(0,IF(CG$1=PTable[2-Test],COUNTIF(CG$1:CG4,PTable[3-Method]), \"\"),0)),\"\")","v":""},{"$f":"IFERROR(INDEX(PTable[3-Method],MATCH(0,IF(CH$1=PTable[2-Test],COUNTIF(CH$1:CH4,PTable[3-Method]), \"\"),0)),\"\")","v":""},{"$f":"IFERROR(INDEX(PTable[3-Method],MATCH(0,IF(CI$1=PTable[2-Test],COUNTIF(CI$1:CI4,PTable[3-Method]), \"\"),0)),\"\")","v":""},{"$f":"IFERROR(INDEX(PTable[3-Method],MATCH(0,IF(CJ$1=PTable[2-Test],COUNTIF(CJ$1:CJ4,PTable[3-Method]), \"\"),0)),\"\")","v":""},{"$f":"IFERROR(INDEX(PTable[3-Method],MATCH(0,IF(CK$1=PTable[2-Test],COUNTIF(CK$1:CK4,PTable[3-Method]), \"\"),0)),\"\")","v":""},{"$f":"IFERROR(INDEX(PTable[3-Method],MATCH(0,IF(CL$1=PTable[2-Test],COUNTIF(CL$1:CL4,PTable[3-Method]), \"\"),0)),\"\")","v":""},{"$f":"IFERROR(INDEX(PTable[3-Method],MATCH(0,IF(CM$1=PTable[2-Test],COUNTIF(CM$1:CM4,PTable[3-Method]), \"\"),0)),\"\")","v":"mFDmpM"},{"$f":"IFERROR(INDEX(PTable[3-Method],MATCH(0,IF(CN$1=PTable[2-Test],COUNTIF(CN$1:CN4,PTable[3-Method]), \"\"),0)),\"\")","v":""},{"$f":"IFERROR(INDEX(PTable[3-Method],MATCH(0,IF(CO$1=PTable[2-Test],COUNTIF(CO$1:CO4,PTable[3-Method]), \"\"),0)),\"\")","v":""},{"$f":"IFERROR(INDEX(PTable[3-Method],MATCH(0,IF(CP$1=PTable[2-Test],COUNTIF(CP$1:CP4,PTable[3-Method]), \"\"),0)),\"\")","v":"PFg"},{"$f":"IFERROR(INDEX(PTable[3-Method],MATCH(0,IF(CQ$1=PTable[2-Test],COUNTIF(CQ$1:CQ4,PTable[3-Method]), \"\"),0)),\"\")","v":"mFDmpn"},{"$f":"IFERROR(INDEX(PTable[3-Method],MATCH(0,IF(CR$1=PTable[2-Test],COUNTIF(CR$1:CR4,PTable[3-Method]), \"\"),0)),\"\")","v":"mFDmpn"},{"$f":"IFERROR(INDEX(PTable[3-Method],MATCH(0,IF(CS$1=PTable[2-Test],COUNTIF(CS$1:CS4,PTable[3-Method]), \"\"),0)),\"\")","v":""},{"$f":"IFERROR(INDEX(PTable[3-Method],MATCH(0,IF(CT$1=PTable[2-Test],COUNTIF(CT$1:CT4,PTable[3-Method]), \"\"),0)),\"\")","v":""},{"$f":"IFERROR(INDEX(PTable[3-Method],MATCH(0,IF(CU$1=PTable[2-Test],COUNTIF(CU$1:CU4,PTable[3-Method]), \"\"),0)),\"\")","v":""},{"$f":"IFERROR(INDEX(PTable[3-Method],MATCH(0,IF(CV$1=PTable[2-Test],COUNTIF(CV$1:CV4,PTable[3-Method]), \"\"),0)),\"\")","v":""},{"$f":"IFERROR(INDEX(PTable[3-Method],MATCH(0,IF(CW$1=PTable[2-Test],COUNTIF(CW$1:CW4,PTable[3-Method]), \"\"),0)),\"\")","v":"mFDAmL"},{"$f":"IFERROR(INDEX(PTable[3-Method],MATCH(0,IF(CX$1=PTable[2-Test],COUNTIF(CX$1:CX4,PTable[3-Method]), \"\"),0)),\"\")","v":""},{"$f":"IFERROR(INDEX(PTable[3-Method],MATCH(0,IF(CY$1=PTable[2-Test],COUNTIF(CY$1:CY4,PTable[3-Method]), \"\"),0)),\"\")","v":""},{"$f":"IFERROR(INDEX(PTable[3-Method],MATCH(0,IF(CZ$1=PTable[2-Test],COUNTIF(CZ$1:CZ4,PTable[3-Method]), \"\"),0)),\"\")","v":""},{"$f":"IFERROR(INDEX(PTable[3-Method],MATCH(0,IF(DA$1=PTable[2-Test],COUNTIF(DA$1:DA4,PTable[3-Method]), \"\"),0)),\"\")","v":""},{"$f":"IFERROR(INDEX(PTable[3-Method],MATCH(0,IF(DB$1=PTable[2-Test],COUNTIF(DB$1:DB4,PTable[3-Method]), \"\"),0)),\"\")","v":""},{"$f":"IFERROR(INDEX(PTable[3-Method],MATCH(0,IF(DC$1=PTable[2-Test],COUNTIF(DC$1:DC4,PTable[3-Method]), \"\"),0)),\"\")","v":""},{"$f":"IFERROR(INDEX(PTable[3-Method],MATCH(0,IF(DD$1=PTable[2-Test],COUNTIF(DD$1:DD4,PTable[3-Method]), \"\"),0)),\"\")","v":""},{"$f":"IFERROR(INDEX(PTable[3-Method],MATCH(0,IF(DE$1=PTable[2-Test],COUNTIF(DE$1:DE4,PTable[3-Method]), \"\"),0)),\"\")","v":""},{"$f":"IFERROR(INDEX(PTable[3-Method],MATCH(0,IF(DF$1=PTable[2-Test],COUNTIF(DF$1:DF4,PTable[3-Method]), \"\"),0)),\"\")","v":""},{"$f":"IFERROR(INDEX(PTable[3-Method],MATCH(0,IF(DG$1=PTable[2-Test],COUNTIF(DG$1:DG4,PTable[3-Method]), \"\"),0)),\"\")","v":""},{"$f":"IFERROR(INDEX(PTable[3-Method],MATCH(0,IF(DH$1=PTable[2-Test],COUNTIF(DH$1:DH4,PTable[3-Method]), \"\"),0)),\"\")","v":"PFg"},{"$f":"IFERROR(INDEX(PTable[3-Method],MATCH(0,IF(DI$1=PTable[2-Test],COUNTIF(DI$1:DI4,PTable[3-Method]), \"\"),0)),\"\")","v":""},{"$f":"IFERROR(INDEX(PTable[3-Method],MATCH(0,IF(DJ$1=PTable[2-Test],COUNTIF(DJ$1:DJ4,PTable[3-Method]), \"\"),0)),\"\")","v":"mFDAmL"}]
["Orgnlptc",{"$f":"IFERROR(INDEX(PTable[2-Test],MATCH(0,IF(B$1=PTable[1-Type],COUNTIF(B$1:B5,PTable[2-Test]), \"\"),0)),\"\")","v":"AnAPC7"},{"$f":"IFERROR(INDEX(PTable[2-Test],MATCH(0,IF(C$1=PTable[1-Type],COUNTIF(C$1:C5,PTable[2-Test]), \"\"),0)),\"\")","v":"ECql"},{"$f":"IFERROR(INDEX(PTable[2-Test],MATCH(0,IF(D$1=PTable[1-Type],COUNTIF(D$1:D5,PTable[2-Test]), \"\"),0)),\"\")","v":"Cal"},{"$f":"IFERROR(INDEX(PTable[2-Test],MATCH(0,IF(E$1=PTable[1-Type],COUNTIF(E$1:E5,PTable[2-Test]), \"\"),0)),\"\")","v":""},{"$f":"IFERROR(INDEX(PTable[2-Test],MATCH(0,IF(F$1=PTable[1-Type],COUNTIF(F$1:F5,PTable[2-Test]), \"\"),0)),\"\")","v":"Coconut"},{"$f":"IFERROR(INDEX(PTable[3-Method],MATCH(0,IF(G$1=PTable[2-Test],COUNTIF(G$1:G5,PTable[3-Method]), \"\"),0)),\"\")","v":""},{"$f":"IFERROR(INDEX(PTable[3-Method],MATCH(0,IF(H$1=PTable[2-Test],COUNTIF(H$1:H5,PTable[3-Method]), \"\"),0)),\"\")","v":""},{"$f":"IFERROR(INDEX(PTable[3-Method],MATCH(0,IF(I$1=PTable[2-Test],COUNTIF(I$1:I5,PTable[3-Method]), \"\"),0)),\"\")","v":""},{"$f":"IFERROR(INDEX(PTable[3-Method],MATCH(0,IF(J$1=PTable[2-Test],COUNTIF(J$1:J5,PTable[3-Method]), \"\"),0)),\"\")","v":""},{"$f":"IFERROR(INDEX(PTable[3-Method],MATCH(0,IF(K$1=PTable[2-Test],COUNTIF(K$1:K5,PTable[3-Method]), \"\"),0)),\"\")","v":""},{"$f":"IFERROR(INDEX(PTable[3-Method],MATCH(0,IF(L$1=PTable[2-Test],COUNTIF(L$1:L5,PTable[3-Method]), \"\"),0)),\"\")","v":""},{"$f":"IFERROR(INDEX(PTable[3-Method],MATCH(0,IF(M$1=PTable[2-Test],COUNTIF(M$1:M5,PTable[3-Method]), \"\"),0)),\"\")","v":""},{"$f":"IFERROR(INDEX(PTable[3-Method],MATCH(0,IF(N$1=PTable[2-Test],COUNTIF(N$1:N5,PTable[3-Method]), \"\"),0)),\"\")","v":""},{"$f":"IFERROR(INDEX(PTable[3-Method],MATCH(0,IF(O$1=PTable[2-Test],COUNTIF(O$1:O5,PTable[3-Method]), \"\"),0)),\"\")","v":""},{"$f":"IFERROR(INDEX(PTable[3-Method],MATCH(0,IF(P$1=PTable[2-Test],COUNTIF(P$1:P5,PTable[3-Method]), \"\"),0)),\"\")","v":""},{"$f":"IFERROR(INDEX(PTable[3-Method],MATCH(0,IF(Q$1=PTable[2-Test],COUNTIF(Q$1:Q5,PTable[3-Method]), \"\"),0)),\"\")","v":""},{"$f":"IFERROR(INDEX(PTable[3-Method],MATCH(0,IF(R$1=PTable[2-Test],COUNTIF(R$1:R5,PTable[3-Method]), \"\"),0)),\"\")","v":""},{"$f":"IFERROR(INDEX(PTable[3-Method],MATCH(0,IF(S$1=PTable[2-Test],COUNTIF(S$1:S5,PTable[3-Method]), \"\"),0)),\"\")","v":""},{"$f":"IFERROR(INDEX(PTable[3-Method],MATCH(0,IF(T$1=PTable[2-Test],COUNTIF(T$1:T5,PTable[3-Method]), \"\"),0)),\"\")","v":""},{"$f":"IFERROR(INDEX(PTable[3-Method],MATCH(0,IF(U$1=PTable[2-Test],COUNTIF(U$1:U5,PTable[3-Method]), \"\"),0)),\"\")","v":""},{"$f":"IFERROR(INDEX(PTable[3-Method],MATCH(0,IF(V$1=PTable[2-Test],COUNTIF(V$1:V5,PTable[3-Method]), \"\"),0)),\"\")","v":""},{"$f":"IFERROR(INDEX(PTable[3-Method],MATCH(0,IF(W$1=PTable[2-Test],COUNTIF(W$1:W5,PTable[3-Method]), \"\"),0)),\"\")","v":""},{"$f":"IFERROR(INDEX(PTable[3-Method],MATCH(0,IF(X$1=PTable[2-Test],COUNTIF(X$1:X5,PTable[3-Method]), \"\"),0)),\"\")","v":""},{"$f":"IFERROR(INDEX(PTable[3-Method],MATCH(0,IF(Y$1=PTable[2-Test],COUNTIF(Y$1:Y5,PTable[3-Method]), \"\"),0)),\"\")","v":""},{"$f":"IFERROR(INDEX(PTable[3-Method],MATCH(0,IF(Z$1=PTable[2-Test],COUNTIF(Z$1:Z5,PTable[3-Method]), \"\"),0)),\"\")","v":""},{"$f":"IFERROR(INDEX(PTable[3-Method],MATCH(0,IF(AA$1=PTable[2-Test],COUNTIF(AA$1:AA5,PTable[3-Method]), \"\"),0)),\"\")","v":""},{"$f":"IFERROR(INDEX(PTable[3-Method],MATCH(0,IF(AB$1=PTable[2-Test],COUNTIF(AB$1:AB5,PTable[3-Method]), \"\"),0)),\"\")","v":""},{"$f":"IFERROR(INDEX(PTable[3-Method],MATCH(0,IF(AC$1=PTable[2-Test],COUNTIF(AC$1:AC5,PTable[3-Method]), \"\"),0)),\"\")","v":""},{"$f":"IFERROR(INDEX(PTable[3-Method],MATCH(0,IF(AD$1=PTable[2-Test],COUNTIF(AD$1:AD5,PTable[3-Method]), \"\"),0)),\"\")","v":""},{"$f":"IFERROR(INDEX(PTable[3-Method],MATCH(0,IF(AE$1=PTable[2-Test],COUNTIF(AE$1:AE5,PTable[3-Method]), \"\"),0)),\"\")","v":""},{"$f":"IFERROR(INDEX(PTable[3-Method],MATCH(0,IF(AF$1=PTable[2-Test],COUNTIF(AF$1:AF5,PTable[3-Method]), \"\"),0)),\"\")","v":""},{"$f":"IFERROR(INDEX(PTable[3-Method],MATCH(0,IF(AG$1=PTable[2-Test],COUNTIF(AG$1:AG5,PTable[3-Method]), \"\"),0)),\"\")","v":""},{"$f":"IFERROR(INDEX(PTable[3-Method],MATCH(0,IF(AH$1=PTable[2-Test],COUNTIF(AH$1:AH5,PTable[3-Method]), \"\"),0)),\"\")","v":""},{"$f":"IFERROR(INDEX(PTable[3-Method],MATCH(0,IF(AI$1=PTable[2-Test],COUNTIF(AI$1:AI5,PTable[3-Method]), \"\"),0)),\"\")","v":""},{"$f":"IFERROR(INDEX(PTable[3-Method],MATCH(0,IF(AJ$1=PTable[2-Test],COUNTIF(AJ$1:AJ5,PTable[3-Method]), \"\"),0)),\"\")","v":""},{"$f":"IFERROR(INDEX(PTable[3-Method],MATCH(0,IF(AK$1=PTable[2-Test],COUNTIF(AK$1:AK5,PTable[3-Method]), \"\"),0)),\"\")","v":""},{"$f":"IFERROR(INDEX(PTable[3-Method],MATCH(0,IF(AL$1=PTable[2-Test],COUNTIF(AL$1:AL5,PTable[3-Method]), \"\"),0)),\"\")","v":"milk"},{"$f":"IFERROR(INDEX(PTable[3-Method],MATCH(0,IF(AM$1=PTable[2-Test],COUNTIF(AM$1:AM5,PTable[3-Method]), \"\"),0)),\"\")","v":""},{"$f":"IFERROR(INDEX(PTable[3-Method],MATCH(0,IF(AN$1=PTable[2-Test],COUNTIF(AN$1:AN5,PTable[3-Method]), \"\"),0)),\"\")","v":""},{"$f":"IFERROR(INDEX(PTable[3-Method],MATCH(0,IF(AO$1=PTable[2-Test],COUNTIF(AO$1:AO5,PTable[3-Method]), \"\"),0)),\"\")","v":""},{"$f":"IFERROR(INDEX(PTable[3-Method],MATCH(0,IF(AP$1=PTable[2-Test],COUNTIF(AP$1:AP5,PTable[3-Method]), \"\"),0)),\"\")","v":""},{"$f":"IFERROR(INDEX(PTable[3-Method],MATCH(0,IF(AQ$1=PTable[2-Test],COUNTIF(AQ$1:AQ5,PTable[3-Method]), \"\"),0)),\"\")","v":""},{"$f":"IFERROR(INDEX(PTable[3-Method],MATCH(0,IF(AR$1=PTable[2-Test],COUNTIF(AR$1:AR5,PTable[3-Method]), \"\"),0)),\"\")","v":""},{"$f":"IFERROR(INDEX(PTable[3-Method],MATCH(0,IF(AS$1=PTable[2-Test],COUNTIF(AS$1:AS5,PTable[3-Method]), \"\"),0)),\"\")","v":""},{"$f":"IFERROR(INDEX(PTable[3-Method],MATCH(0,IF(AT$1=PTable[2-Test],COUNTIF(AT$1:AT5,PTable[3-Method]), \"\"),0)),\"\")","v":""},{"$f":"IFERROR(INDEX(PTable[3-Method],MATCH(0,IF(AU$1=PTable[2-Test],COUNTIF(AU$1:AU5,PTable[3-Method]), \"\"),0)),\"\")","v":""},{"$f":"IFERROR(INDEX(PTable[3-Method],MATCH(0,IF(AV$1=PTable[2-Test],COUNTIF(AV$1:AV5,PTable[3-Method]), \"\"),0)),\"\")","v":""},{"$f":"IFERROR(INDEX(PTable[3-Method],MATCH(0,IF(AW$1=PTable[2-Test],COUNTIF(AW$1:AW5,PTable[3-Method]), \"\"),0)),\"\")","v":""},{"$f":"IFERROR(INDEX(PTable[3-Method],MATCH(0,IF(AX$1=PTable[2-Test],COUNTIF(AX$1:AX5,PTable[3-Method]), \"\"),0)),\"\")","v":""},{"$f":"IFERROR(INDEX(PTable[3-Method],MATCH(0,IF(AY$1=PTable[2-Test],COUNTIF(AY$1:AY5,PTable[3-Method]), \"\"),0)),\"\")","v":""},{"$f":"IFERROR(INDEX(PTable[3-Method],MATCH(0,IF(AZ$1=PTable[2-Test],COUNTIF(AZ$1:AZ5,PTable[3-Method]), \"\"),0)),\"\")","v":""},{"$f":"IFERROR(INDEX(PTable[3-Method],MATCH(0,IF(BA$1=PTable[2-Test],COUNTIF(BA$1:BA5,PTable[3-Method]), \"\"),0)),\"\")","v":""},{"$f":"IFERROR(INDEX(PTable[3-Method],MATCH(0,IF(BB$1=PTable[2-Test],COUNTIF(BB$1:BB5,PTable[3-Method]), \"\"),0)),\"\")","v":""},{"$f":"IFERROR(INDEX(PTable[3-Method],MATCH(0,IF(BC$1=PTable[2-Test],COUNTIF(BC$1:BC5,PTable[3-Method]), \"\"),0)),\"\")","v":""},{"$f":"IFERROR(INDEX(PTable[3-Method],MATCH(0,IF(BD$1=PTable[2-Test],COUNTIF(BD$1:BD5,PTable[3-Method]), \"\"),0)),\"\")","v":"Taste"},{"$f":"IFERROR(INDEX(PTable[3-Method],MATCH(0,IF(BE$1=PTable[2-Test],COUNTIF(BE$1:BE5,PTable[3-Method]), \"\"),0)),\"\")","v":"USP5g"},{"$f":"IFERROR(INDEX(PTable[3-Method],MATCH(0,IF(BF$1=PTable[2-Test],COUNTIF(BF$1:BF5,PTable[3-Method]), \"\"),0)),\"\")","v":""},{"$f":"IFERROR(INDEX(PTable[3-Method],MATCH(0,IF(BG$1=PTable[2-Test],COUNTIF(BG$1:BG5,PTable[3-Method]), \"\"),0)),\"\")","v":""},{"$f":"IFERROR(INDEX(PTable[3-Method],MATCH(0,IF(BH$1=PTable[2-Test],COUNTIF(BH$1:BH5,PTable[3-Method]), \"\"),0)),\"\")","v":""},{"$f":"IFERROR(INDEX(PTable[3-Method],MATCH(0,IF(BI$1=PTable[2-Test],COUNTIF(BI$1:BI5,PTable[3-Method]), \"\"),0)),\"\")","v":"PCR375g"},{"$f":"IFERROR(INDEX(PTable[3-Method],MATCH(0,IF(BJ$1=PTable[2-Test],COUNTIF(BJ$1:BJ5,PTable[3-Method]), \"\"),0)),\"\")","v":"USP25g"},{"$f":"IFERROR(INDEX(PTable[3-Method],MATCH(0,IF(BK$1=PTable[2-Test],COUNTIF(BK$1:BK5,PTable[3-Method]), \"\"),0)),\"\")","v":""},{"$f":"IFERROR(INDEX(PTable[3-Method],MATCH(0,IF(BL$1=PTable[2-Test],COUNTIF(BL$1:BL5,PTable[3-Method]), \"\"),0)),\"\")","v":"mBX25g"},{"$f":"IFERROR(INDEX(PTable[3-Method],MATCH(0,IF(BM$1=PTable[2-Test],COUNTIF(BM$1:BM5,PTable[3-Method]), \"\"),0)),\"\")","v":"mBe325g"},{"$f":"IFERROR(INDEX(PTable[3-Method],MATCH(0,IF(BN$1=PTable[2-Test],COUNTIF(BN$1:BN5,PTable[3-Method]), \"\"),0)),\"\")","v":"GNO375g"},{"$f":"IFERROR(INDEX(PTable[3-Method],MATCH(0,IF(BO$1=PTable[2-Test],COUNTIF(BO$1:BO5,PTable[3-Method]), \"\"),0)),\"\")","v":"USP5g"},{"$f":"IFERROR(INDEX(PTable[3-Method],MATCH(0,IF(BP$1=PTable[2-Test],COUNTIF(BP$1:BP5,PTable[3-Method]), \"\"),0)),\"\")","v":"mBX200g"},{"$f":"IFERROR(INDEX(PTable[3-Method],MATCH(0,IF(BQ$1=PTable[2-Test],COUNTIF(BQ$1:BQ5,PTable[3-Method]), \"\"),0)),\"\")","v":""},{"$f":"IFERROR(INDEX(PTable[3-Method],MATCH(0,IF(BR$1=PTable[2-Test],COUNTIF(BR$1:BR5,PTable[3-Method]), \"\"),0)),\"\")","v":""},{"$f":"IFERROR(INDEX(PTable[3-Method],MATCH(0,IF(BS$1=PTable[2-Test],COUNTIF(BS$1:BS5,PTable[3-Method]), \"\"),0)),\"\")","v":"USP5g"},{"$f":"IFERROR(INDEX(PTable[3-Method],MATCH(0,IF(BT$1=PTable[2-Test],COUNTIF(BT$1:BT5,PTable[3-Method]), \"\"),0)),\"\")","v":""},{"$f":"IFERROR(INDEX(PTable[3-Method],MATCH(0,IF(BU$1=PTable[2-Test],COUNTIF(BU$1:BU5,PTable[3-Method]), \"\"),0)),\"\")","v":""},{"$f":"IFERROR(INDEX(PTable[3-Method],MATCH(0,IF(BV$1=PTable[2-Test],COUNTIF(BV$1:BV5,PTable[3-Method]), \"\"),0)),\"\")","v":""},{"$f":"IFERROR(INDEX(PTable[3-Method],MATCH(0,IF(BW$1=PTable[2-Test],COUNTIF(BW$1:BW5,PTable[3-Method]), \"\"),0)),\"\")","v":""},{"$f":"IFERROR(INDEX(PTable[3-Method],MATCH(0,IF(BX$1=PTable[2-Test],COUNTIF(BX$1:BX5,PTable[3-Method]), \"\"),0)),\"\")","v":""},{"$f":"IFERROR(INDEX(PTable[3-Method],MATCH(0,IF(BY$1=PTable[2-Test],COUNTIF(BY$1:BY5,PTable[3-Method]), \"\"),0)),\"\")","v":""},{"$f":"IFERROR(INDEX(PTable[3-Method],MATCH(0,IF(BZ$1=PTable[2-Test],COUNTIF(BZ$1:BZ5,PTable[3-Method]), \"\"),0)),\"\")","v":""},{"$f":"IFERROR(INDEX(PTable[3-Method],MATCH(0,IF(CA$1=PTable[2-Test],COUNTIF(CA$1:CA5,PTable[3-Method]), \"\"),0)),\"\")","v":""},{"$f":"IFERROR(INDEX(PTable[3-Method],MATCH(0,IF(CB$1=PTable[2-Test],COUNTIF(CB$1:CB5,PTable[3-Method]), \"\"),0)),\"\")","v":""},{"$f":"IFERROR(INDEX(PTable[3-Method],MATCH(0,IF(CC$1=PTable[2-Test],COUNTIF(CC$1:CC5,PTable[3-Method]), \"\"),0)),\"\")","v":"mSMWm"},{"$f":"IFERROR(INDEX(PTable[3-Method],MATCH(0,IF(CD$1=PTable[2-Test],COUNTIF(CD$1:CD5,PTable[3-Method]), \"\"),0)),\"\")","v":""},{"$f":"IFERROR(INDEX(PTable[3-Method],MATCH(0,IF(CE$1=PTable[2-Test],COUNTIF(CE$1:CE5,PTable[3-Method]), \"\"),0)),\"\")","v":""},{"$f":"IFERROR(INDEX(PTable[3-Method],MATCH(0,IF(CF$1=PTable[2-Test],COUNTIF(CF$1:CF5,PTable[3-Method]), \"\"),0)),\"\")","v":""},{"$f":"IFERROR(INDEX(PTable[3-Method],MATCH(0,IF(CG$1=PTable[2-Test],COUNTIF(CG$1:CG5,PTable[3-Method]), \"\"),0)),\"\")","v":""},{"$f":"IFERROR(INDEX(PTable[3-Method],MATCH(0,IF(CH$1=PTable[2-Test],COUNTIF(CH$1:CH5,PTable[3-Method]), \"\"),0)),\"\")","v":""},{"$f":"IFERROR(INDEX(PTable[3-Method],MATCH(0,IF(CI$1=PTable[2-Test],COUNTIF(CI$1:CI5,PTable[3-Method]), \"\"),0)),\"\")","v":""},{"$f":"IFERROR(INDEX(PTable[3-Method],MATCH(0,IF(CJ$1=PTable[2-Test],COUNTIF(CJ$1:CJ5,PTable[3-Method]), \"\"),0)),\"\")","v":""},{"$f":"IFERROR(INDEX(PTable[3-Method],MATCH(0,IF(CK$1=PTable[2-Test],COUNTIF(CK$1:CK5,PTable[3-Method]), \"\"),0)),\"\")","v":""},{"$f":"IFERROR(INDEX(PTable[3-Method],MATCH(0,IF(CL$1=PTable[2-Test],COUNTIF(CL$1:CL5,PTable[3-Method]), \"\"),0)),\"\")","v":""},{"$f":"IFERROR(INDEX(PTable[3-Method],MATCH(0,IF(CM$1=PTable[2-Test],COUNTIF(CM$1:CM5,PTable[3-Method]), \"\"),0)),\"\")","v":"MFg"},{"$f":"IFERROR(INDEX(PTable[3-Method],MATCH(0,IF(CN$1=PTable[2-Test],COUNTIF(CN$1:CN5,PTable[3-Method]), \"\"),0)),\"\")","v":""},{"$f":"IFERROR(INDEX(PTable[3-Method],MATCH(0,IF(CO$1=PTable[2-Test],COUNTIF(CO$1:CO5,PTable[3-Method]), \"\"),0)),\"\")","v":""},{"$f":"IFERROR(INDEX(PTable[3-Method],MATCH(0,IF(CP$1=PTable[2-Test],COUNTIF(CP$1:CP5,PTable[3-Method]), \"\"),0)),\"\")","v":"PFmL"},{"$f":"IFERROR(INDEX(PTable[3-Method],MATCH(0,IF(CQ$1=PTable[2-Test],COUNTIF(CQ$1:CQ5,PTable[3-Method]), \"\"),0)),\"\")","v":"MFg"},{"$f":"IFERROR(INDEX(PTable[3-Method],MATCH(0,IF(CR$1=PTable[2-Test],COUNTIF(CR$1:CR5,PTable[3-Method]), \"\"),0)),\"\")","v":"mSMWtn"},{"$f":"IFERROR(INDEX(PTable[3-Method],MATCH(0,IF(CS$1=PTable[2-Test],COUNTIF(CS$1:CS5,PTable[3-Method]), \"\"),0)),\"\")","v":""},{"$f":"IFERROR(INDEX(PTable[3-Method],MATCH(0,IF(CT$1=PTable[2-Test],COUNTIF(CT$1:CT5,PTable[3-Method]), \"\"),0)),\"\")","v":""},{"$f":"IFERROR(INDEX(PTable[3-Method],MATCH(0,IF(CU$1=PTable[2-Test],COUNTIF(CU$1:CU5,PTable[3-Method]), \"\"),0)),\"\")","v":""},{"$f":"IFERROR(INDEX(PTable[3-Method],MATCH(0,IF(CV$1=PTable[2-Test],COUNTIF(CV$1:CV5,PTable[3-Method]), \"\"),0)),\"\")","v":""},{"$f":"IFERROR(INDEX(PTable[3-Method],MATCH(0,IF(CW$1=PTable[2-Test],COUNTIF(CW$1:CW5,PTable[3-Method]), \"\"),0)),\"\")","v":"MFg"},{"$f":"IFERROR(INDEX(PTable[3-Method],MATCH(0,IF(CX$1=PTable[2-Test],COUNTIF(CX$1:CX5,PTable[3-Method]), \"\"),0)),\"\")","v":""},{"$f":"IFERROR(INDEX(PTable[3-Method],MATCH(0,IF(CY$1=PTable[2-Test],COUNTIF(CY$1:CY5,PTable[3-Method]), \"\"),0)),\"\")","v":""},{"$f":"IFERROR(INDEX(PTable[3-Method],MATCH(0,IF(CZ$1=PTable[2-Test],COUNTIF(CZ$1:CZ5,PTable[3-Method]), \"\"),0)),\"\")","v":""},{"$f":"IFERROR(INDEX(PTable[3-Method],MATCH(0,IF(DA$1=PTable[2-Test],COUNTIF(DA$1:DA5,PTable[3-Method]), \"\"),0)),\"\")","v":""},{"$f":"IFERROR(INDEX(PTable[3-Method],MATCH(0,IF(DB$1=PTable[2-Test],COUNTIF(DB$1:DB5,PTable[3-Method]), \"\"),0)),\"\")","v":""},{"$f":"IFERROR(INDEX(PTable[3-Method],MATCH(0,IF(DC$1=PTable[2-Test],COUNTIF(DC$1:DC5,PTable[3-Method]), \"\"),0)),\"\")","v":""},{"$f":"IFERROR(INDEX(PTable[3-Method],MATCH(0,IF(DD$1=PTable[2-Test],COUNTIF(DD$1:DD5,PTable[3-Method]), \"\"),0)),\"\")","v":""},{"$f":"IFERROR(INDEX(PTable[3-Method],MATCH(0,IF(DE$1=PTable[2-Test],COUNTIF(DE$1:DE5,PTable[3-Method]), \"\"),0)),\"\")","v":""},{"$f":"IFERROR(INDEX(PTable[3-Method],MATCH(0,IF(DF$1=PTable[2-Test],COUNTIF(DF$1:DF5,PTable[3-Method]), \"\"),0)),\"\")","v":""},{"$f":"IFERROR(INDEX(PTable[3-Method],MATCH(0,IF(DG$1=PTable[2-Test],COUNTIF(DG$1:DG5,PTable[3-Method]), \"\"),0)),\"\")","v":""},{"$f":"IFERROR(INDEX(PTable[3-Method],MATCH(0,IF(DH$1=PTable[2-Test],COUNTIF(DH$1:DH5,PTable[3-Method]), \"\"),0)),\"\")","v":"PFmL"},{"$f":"IFERROR(INDEX(PTable[3-Method],MATCH(0,IF(DI$1=PTable[2-Test],COUNTIF(DI$1:DI5,PTable[3-Method]), \"\"),0)),\"\")","v":""},{"$f":"IFERROR(INDEX(PTable[3-Method],MATCH(0,IF(DJ$1=PTable[2-Test],COUNTIF(DJ$1:DJ5,PTable[3-Method]), \"\"),0)),\"\")","v":"MFg"}]
["Other",{"$f":"IFERROR(INDEX(PTable[2-Test],MATCH(0,IF(B$1=PTable[1-Type],COUNTIF(B$1:B6,PTable[2-Test]), \"\"),0)),\"\")","v":"APC25"},{"$f":"IFERROR(INDEX(PTable[2-Test],MATCH(0,IF(C$1=PTable[1-Type],COUNTIF(C$1:C6,PTable[2-Test]), \"\"),0)),\"\")","v":"EHEC"},{"$f":"IFERROR(INDEX(PTable[2-Test],MATCH(0,IF(D$1=PTable[1-Type],COUNTIF(D$1:D6,PTable[2-Test]), \"\"),0)),\"\")","v":"CARB"},{"$f":"IFERROR(INDEX(PTable[2-Test],MATCH(0,IF(E$1=PTable[1-Type],COUNTIF(E$1:E6,PTable[2-Test]), \"\"),0)),\"\")","v":""},{"$f":"IFERROR(INDEX(PTable[2-Test],MATCH(0,IF(F$1=PTable[1-Type],COUNTIF(F$1:F6,PTable[2-Test]), \"\"),0)),\"\")","v":"Crust"},{"$f":"IFERROR(INDEX(PTable[3-Method],MATCH(0,IF(G$1=PTable[2-Test],COUNTIF(G$1:G6,PTable[3-Method]), \"\"),0)),\"\")","v":""},{"$f":"IFERROR(INDEX(PTable[3-Method],MATCH(0,IF(H$1=PTable[2-Test],COUNTIF(H$1:H6,PTable[3-Method]), \"\"),0)),\"\")","v":""},{"$f":"IFERROR(INDEX(PTable[3-Method],MATCH(0,IF(I$1=PTable[2-Test],COUNTIF(I$1:I6,PTable[3-Method]), \"\"),0)),\"\")","v":""},{"$f":"IFERROR(INDEX(PTable[3-Method],MATCH(0,IF(J$1=PTable[2-Test],COUNTIF(J$1:J6,PTable[3-Method]), \"\"),0)),\"\")","v":""},{"$f":"IFERROR(INDEX(PTable[3-Method],MATCH(0,IF(K$1=PTable[2-Test],COUNTIF(K$1:K6,PTable[3-Method]), \"\"),0)),\"\")","v":""},{"$f":"IFERROR(INDEX(PTable[3-Method],MATCH(0,IF(L$1=PTable[2-Test],COUNTIF(L$1:L6,PTable[3-Method]), \"\"),0)),\"\")","v":""},{"$f":"IFERROR(INDEX(PTable[3-Method],MATCH(0,IF(M$1=PTable[2-Test],COUNTIF(M$1:M6,PTable[3-Method]), \"\"),0)),\"\")","v":""},{"$f":"IFERROR(INDEX(PTable[3-Method],MATCH(0,IF(N$1=PTable[2-Test],COUNTIF(N$1:N6,PTable[3-Method]), \"\"),0)),\"\")","v":""},{"$f":"IFERROR(INDEX(PTable[3-Method],MATCH(0,IF(O$1=PTable[2-Test],COUNTIF(O$1:O6,PTable[3-Method]), \"\"),0)),\"\")","v":""},{"$f":"IFERROR(INDEX(PTable[3-Method],MATCH(0,IF(P$1=PTable[2-Test],COUNTIF(P$1:P6,PTable[3-Method]), \"\"),0)),\"\")","v":""},{"$f":"IFERROR(INDEX(PTable[3-Method],MATCH(0,IF(Q$1=PTable[2-Test],COUNTIF(Q$1:Q6,PTable[3-Method]), \"\"),0)),\"\")","v":""},{"$f":"IFERROR(INDEX(PTable[3-Method],MATCH(0,IF(R$1=PTable[2-Test],COUNTIF(R$1:R6,PTable[3-Method]), \"\"),0)),\"\")","v":""},{"$f":"IFERROR(INDEX(PTable[3-Method],MATCH(0,IF(S$1=PTable[2-Test],COUNTIF(S$1:S6,PTable[3-Method]), \"\"),0)),\"\")","v":""},{"$f":"IFERROR(INDEX(PTable[3-Method],MATCH(0,IF(T$1=PTable[2-Test],COUNTIF(T$1:T6,PTable[3-Method]), \"\"),0)),\"\")","v":""},{"$f":"IFERROR(INDEX(PTable[3-Method],MATCH(0,IF(U$1=PTable[2-Test],COUNTIF(U$1:U6,PTable[3-Method]), \"\"),0)),\"\")","v":""},{"$f":"IFERROR(INDEX(PTable[3-Method],MATCH(0,IF(V$1=PTable[2-Test],COUNTIF(V$1:V6,PTable[3-Method]), \"\"),0)),\"\")","v":""},{"$f":"IFERROR(INDEX(PTable[3-Method],MATCH(0,IF(W$1=PTable[2-Test],COUNTIF(W$1:W6,PTable[3-Method]), \"\"),0)),\"\")","v":""},{"$f":"IFERROR(INDEX(PTable[3-Method],MATCH(0,IF(X$1=PTable[2-Test],COUNTIF(X$1:X6,PTable[3-Method]), \"\"),0)),\"\")","v":""},{"$f":"IFERROR(INDEX(PTable[3-Method],MATCH(0,IF(Y$1=PTable[2-Test],COUNTIF(Y$1:Y6,PTable[3-Method]), \"\"),0)),\"\")","v":""},{"$f":"IFERROR(INDEX(PTable[3-Method],MATCH(0,IF(Z$1=PTable[2-Test],COUNTIF(Z$1:Z6,PTable[3-Method]), \"\"),0)),\"\")","v":""},{"$f":"IFERROR(INDEX(PTable[3-Method],MATCH(0,IF(AA$1=PTable[2-Test],COUNTIF(AA$1:AA6,PTable[3-Method]), \"\"),0)),\"\")","v":""},{"$f":"IFERROR(INDEX(PTable[3-Method],MATCH(0,IF(AB$1=PTable[2-Test],COUNTIF(AB$1:AB6,PTable[3-Method]), \"\"),0)),\"\")","v":""},{"$f":"IFERROR(INDEX(PTable[3-Method],MATCH(0,IF(AC$1=PTable[2-Test],COUNTIF(AC$1:AC6,PTable[3-Method]), \"\"),0)),\"\")","v":""},{"$f":"IFERROR(INDEX(PTable[3-Method],MATCH(0,IF(AD$1=PTable[2-Test],COUNTIF(AD$1:AD6,PTable[3-Method]), \"\"),0)),\"\")","v":""},{"$f":"IFERROR(INDEX(PTable[3-Method],MATCH(0,IF(AE$1=PTable[2-Test],COUNTIF(AE$1:AE6,PTable[3-Method]), \"\"),0)),\"\")","v":""},{"$f":"IFERROR(INDEX(PTable[3-Method],MATCH(0,IF(AF$1=PTable[2-Test],COUNTIF(AF$1:AF6,PTable[3-Method]), \"\"),0)),\"\")","v":""},{"$f":"IFERROR(INDEX(PTable[3-Method],MATCH(0,IF(AG$1=PTable[2-Test],COUNTIF(AG$1:AG6,PTable[3-Method]), \"\"),0)),\"\")","v":""},{"$f":"IFERROR(INDEX(PTable[3-Method],MATCH(0,IF(AH$1=PTable[2-Test],COUNTIF(AH$1:AH6,PTable[3-Method]), \"\"),0)),\"\")","v":""},{"$f":"IFERROR(INDEX(PTable[3-Method],MATCH(0,IF(AI$1=PTable[2-Test],COUNTIF(AI$1:AI6,PTable[3-Method]), \"\"),0)),\"\")","v":""},{"$f":"IFERROR(INDEX(PTable[3-Method],MATCH(0,IF(AJ$1=PTable[2-Test],COUNTIF(AJ$1:AJ6,PTable[3-Method]), \"\"),0)),\"\")","v":""},{"$f":"IFERROR(INDEX(PTable[3-Method],MATCH(0,IF(AK$1=PTable[2-Test],COUNTIF(AK$1:AK6,PTable[3-Method]), \"\"),0)),\"\")","v":""},{"$f":"IFERROR(INDEX(PTable[3-Method],MATCH(0,IF(AL$1=PTable[2-Test],COUNTIF(AL$1:AL6,PTable[3-Method]), \"\"),0)),\"\")","v":"sugar"},{"$f":"IFERROR(INDEX(PTable[3-Method],MATCH(0,IF(AM$1=PTable[2-Test],COUNTIF(AM$1:AM6,PTable[3-Method]), \"\"),0)),\"\")","v":""},{"$f":"IFERROR(INDEX(PTable[3-Method],MATCH(0,IF(AN$1=PTable[2-Test],COUNTIF(AN$1:AN6,PTable[3-Method]), \"\"),0)),\"\")","v":""},{"$f":"IFERROR(INDEX(PTable[3-Method],MATCH(0,IF(AO$1=PTable[2-Test],COUNTIF(AO$1:AO6,PTable[3-Method]), \"\"),0)),\"\")","v":""},{"$f":"IFERROR(INDEX(PTable[3-Method],MATCH(0,IF(AP$1=PTable[2-Test],COUNTIF(AP$1:AP6,PTable[3-Method]), \"\"),0)),\"\")","v":""},{"$f":"IFERROR(INDEX(PTable[3-Method],MATCH(0,IF(AQ$1=PTable[2-Test],COUNTIF(AQ$1:AQ6,PTable[3-Method]), \"\"),0)),\"\")","v":""},{"$f":"IFERROR(INDEX(PTable[3-Method],MATCH(0,IF(AR$1=PTable[2-Test],COUNTIF(AR$1:AR6,PTable[3-Method]), \"\"),0)),\"\")","v":""},{"$f":"IFERROR(INDEX(PTable[3-Method],MATCH(0,IF(AS$1=PTable[2-Test],COUNTIF(AS$1:AS6,PTable[3-Method]), \"\"),0)),\"\")","v":""},{"$f":"IFERROR(INDEX(PTable[3-Method],MATCH(0,IF(AT$1=PTable[2-Test],COUNTIF(AT$1:AT6,PTable[3-Method]), \"\"),0)),\"\")","v":""},{"$f":"IFERROR(INDEX(PTable[3-Method],MATCH(0,IF(AU$1=PTable[2-Test],COUNTIF(AU$1:AU6,PTable[3-Method]), \"\"),0)),\"\")","v":""},{"$f":"IFERROR(INDEX(PTable[3-Method],MATCH(0,IF(AV$1=PTable[2-Test],COUNTIF(AV$1:AV6,PTable[3-Method]), \"\"),0)),\"\")","v":""},{"$f":"IFERROR(INDEX(PTable[3-Method],MATCH(0,IF(AW$1=PTable[2-Test],COUNTIF(AW$1:AW6,PTable[3-Method]), \"\"),0)),\"\")","v":""},{"$f":"IFERROR(INDEX(PTable[3-Method],MATCH(0,IF(AX$1=PTable[2-Test],COUNTIF(AX$1:AX6,PTable[3-Method]), \"\"),0)),\"\")","v":""},{"$f":"IFERROR(INDEX(PTable[3-Method],MATCH(0,IF(AY$1=PTable[2-Test],COUNTIF(AY$1:AY6,PTable[3-Method]), \"\"),0)),\"\")","v":""},{"$f":"IFERROR(INDEX(PTable[3-Method],MATCH(0,IF(AZ$1=PTable[2-Test],COUNTIF(AZ$1:AZ6,PTable[3-Method]), \"\"),0)),\"\")","v":""},{"$f":"IFERROR(INDEX(PTable[3-Method],MATCH(0,IF(BA$1=PTable[2-Test],COUNTIF(BA$1:BA6,PTable[3-Method]), \"\"),0)),\"\")","v":""},{"$f":"IFERROR(INDEX(PTable[3-Method],MATCH(0,IF(BB$1=PTable[2-Test],COUNTIF(BB$1:BB6,PTable[3-Method]), \"\"),0)),\"\")","v":""},{"$f":"IFERROR(INDEX(PTable[3-Method],MATCH(0,IF(BC$1=PTable[2-Test],COUNTIF(BC$1:BC6,PTable[3-Method]), \"\"),0)),\"\")","v":""},{"$f":"IFERROR(INDEX(PTable[3-Method],MATCH(0,IF(BD$1=PTable[2-Test],COUNTIF(BD$1:BD6,PTable[3-Method]), \"\"),0)),\"\")","v":"Texture"},{"$f":"IFERROR(INDEX(PTable[3-Method],MATCH(0,IF(BE$1=PTable[2-Test],COUNTIF(BE$1:BE6,PTable[3-Method]), \"\"),0)),\"\")","v":""},{"$f":"IFERROR(INDEX(PTable[3-Method],MATCH(0,IF(BF$1=PTable[2-Test],COUNTIF(BF$1:BF6,PTable[3-Method]), \"\"),0)),\"\")","v":""},{"$f":"IFERROR(INDEX(PTable[3-Method],MATCH(0,IF(BG$1=PTable[2-Test],COUNTIF(BG$1:BG6,PTable[3-Method]), \"\"),0)),\"\")","v":""},{"$f":"IFERROR(INDEX(PTable[3-Method],MATCH(0,IF(BH$1=PTable[2-Test],COUNTIF(BH$1:BH6,PTable[3-Method]), \"\"),0)),\"\")","v":""},{"$f":"IFERROR(INDEX(PTable[3-Method],MATCH(0,IF(BI$1=PTable[2-Test],COUNTIF(BI$1:BI6,PTable[3-Method]), \"\"),0)),\"\")","v":"PCRsam"},{"$f":"IFERROR(INDEX(PTable[3-Method],MATCH(0,IF(BJ$1=PTable[2-Test],COUNTIF(BJ$1:BJ6,PTable[3-Method]), \"\"),0)),\"\")","v":"USP30g"},{"$f":"IFERROR(INDEX(PTable[3-Method],MATCH(0,IF(BK$1=PTable[2-Test],COUNTIF(BK$1:BK6,PTable[3-Method]), \"\"),0)),\"\")","v":""},{"$f":"IFERROR(INDEX(PTable[3-Method],MATCH(0,IF(BL$1=PTable[2-Test],COUNTIF(BL$1:BL6,PTable[3-Method]), \"\"),0)),\"\")","v":"mBX325g"},{"$f":"IFERROR(INDEX(PTable[3-Method],MATCH(0,IF(BM$1=PTable[2-Test],COUNTIF(BM$1:BM6,PTable[3-Method]), \"\"),0)),\"\")","v":"mBesam"},{"$f":"IFERROR(INDEX(PTable[3-Method],MATCH(0,IF(BN$1=PTable[2-Test],COUNTIF(BN$1:BN6,PTable[3-Method]), \"\"),0)),\"\")","v":"GPO25g"},{"$f":"IFERROR(INDEX(PTable[3-Method],MATCH(0,IF(BO$1=PTable[2-Test],COUNTIF(BO$1:BO6,PTable[3-Method]), \"\"),0)),\"\")","v":""},{"$f":"IFERROR(INDEX(PTable[3-Method],MATCH(0,IF(BP$1=PTable[2-Test],COUNTIF(BP$1:BP6,PTable[3-Method]), \"\"),0)),\"\")","v":"mBX250g"},{"$f":"IFERROR(INDEX(PTable[3-Method],MATCH(0,IF(BQ$1=PTable[2-Test],COUNTIF(BQ$1:BQ6,PTable[3-Method]), \"\"),0)),\"\")","v":""},{"$f":"IFERROR(INDEX(PTable[3-Method],MATCH(0,IF(BR$1=PTable[2-Test],COUNTIF(BR$1:BR6,PTable[3-Method]), \"\"),0)),\"\")","v":""},{"$f":"IFERROR(INDEX(PTable[3-Method],MATCH(0,IF(BS$1=PTable[2-Test],COUNTIF(BS$1:BS6,PTable[3-Method]), \"\"),0)),\"\")","v":""},{"$f":"IFERROR(INDEX(PTable[3-Method],MATCH(0,IF(BT$1=PTable[2-Test],COUNTIF(BT$1:BT6,PTable[3-Method]), \"\"),0)),\"\")","v":""},{"$f":"IFERROR(INDEX(PTable[3-Method],MATCH(0,IF(BU$1=PTable[2-Test],COUNTIF(BU$1:BU6,PTable[3-Method]), \"\"),0)),\"\")","v":""},{"$f":"IFERROR(INDEX(PTable[3-Method],MATCH(0,IF(BV$1=PTable[2-Test],COUNTIF(BV$1:BV6,PTable[3-Method]), \"\"),0)),\"\")","v":""},{"$f":"IFERROR(INDEX(PTable[3-Method],MATCH(0,IF(BW$1=PTable[2-Test],COUNTIF(BW$1:BW6,PTable[3-Method]), \"\"),0)),\"\")","v":""},{"$f":"IFERROR(INDEX(PTable[3-Method],MATCH(0,IF(BX$1=PTable[2-Test],COUNTIF(BX$1:BX6,PTable[3-Method]), \"\"),0)),\"\")","v":""},{"$f":"IFERROR(INDEX(PTable[3-Method],MATCH(0,IF(BY$1=PTable[2-Test],COUNTIF(BY$1:BY6,PTable[3-Method]), \"\"),0)),\"\")","v":""},{"$f":"IFERROR(INDEX(PTable[3-Method],MATCH(0,IF(BZ$1=PTable[2-Test],COUNTIF(BZ$1:BZ6,PTable[3-Method]), \"\"),0)),\"\")","v":""},{"$f":"IFERROR(INDEX(PTable[3-Method],MATCH(0,IF(CA$1=PTable[2-Test],COUNTIF(CA$1:CA6,PTable[3-Method]), \"\"),0)),\"\")","v":""},{"$f":"IFERROR(INDEX(PTable[3-Method],MATCH(0,IF(CB$1=PTable[2-Test],COUNTIF(CB$1:CB6,PTable[3-Method]), \"\"),0)),\"\")","v":""},{"$f":"IFERROR(INDEX(PTable[3-Method],MATCH(0,IF(CC$1=PTable[2-Test],COUNTIF(CC$1:CC6,PTable[3-Method]), \"\"),0)),\"\")","v":"mUSPg"},{"$f":"IFERROR(INDEX(PTable[3-Method],MATCH(0,IF(CD$1=PTable[2-Test],COUNTIF(CD$1:CD6,PTable[3-Method]), \"\"),0)),\"\")","v":""},{"$f":"IFERROR(INDEX(PTable[3-Method],MATCH(0,IF(CE$1=PTable[2-Test],COUNTIF(CE$1:CE6,PTable[3-Method]), \"\"),0)),\"\")","v":""},{"$f":"IFERROR(INDEX(PTable[3-Method],MATCH(0,IF(CF$1=PTable[2-Test],COUNTIF(CF$1:CF6,PTable[3-Method]), \"\"),0)),\"\")","v":""},{"$f":"IFERROR(INDEX(PTable[3-Method],MATCH(0,IF(CG$1=PTable[2-Test],COUNTIF(CG$1:CG6,PTable[3-Method]), \"\"),0)),\"\")","v":""},{"$f":"IFERROR(INDEX(PTable[3-Method],MATCH(0,IF(CH$1=PTable[2-Test],COUNTIF(CH$1:CH6,PTable[3-Method]), \"\"),0)),\"\")","v":""},{"$f":"IFERROR(INDEX(PTable[3-Method],MATCH(0,IF(CI$1=PTable[2-Test],COUNTIF(CI$1:CI6,PTable[3-Method]), \"\"),0)),\"\")","v":""},{"$f":"IFERROR(INDEX(PTable[3-Method],MATCH(0,IF(CJ$1=PTable[2-Test],COUNTIF(CJ$1:CJ6,PTable[3-Method]), \"\"),0)),\"\")","v":""},{"$f":"IFERROR(INDEX(PTable[3-Method],MATCH(0,IF(CK$1=PTable[2-Test],COUNTIF(CK$1:CK6,PTable[3-Method]), \"\"),0)),\"\")","v":""},{"$f":"IFERROR(INDEX(PTable[3-Method],MATCH(0,IF(CL$1=PTable[2-Test],COUNTIF(CL$1:CL6,PTable[3-Method]), \"\"),0)),\"\")","v":""},{"$f":"IFERROR(INDEX(PTable[3-Method],MATCH(0,IF(CM$1=PTable[2-Test],COUNTIF(CM$1:CM6,PTable[3-Method]), \"\"),0)),\"\")","v":"MFmL"},{"$f":"IFERROR(INDEX(PTable[3-Method],MATCH(0,IF(CN$1=PTable[2-Test],COUNTIF(CN$1:CN6,PTable[3-Method]), \"\"),0)),\"\")","v":""},{"$f":"IFERROR(INDEX(PTable[3-Method],MATCH(0,IF(CO$1=PTable[2-Test],COUNTIF(CO$1:CO6,PTable[3-Method]), \"\"),0)),\"\")","v":""},{"$f":"IFERROR(INDEX(PTable[3-Method],MATCH(0,IF(CP$1=PTable[2-Test],COUNTIF(CP$1:CP6,PTable[3-Method]), \"\"),0)),\"\")","v":""},{"$f":"IFERROR(INDEX(PTable[3-Method],MATCH(0,IF(CQ$1=PTable[2-Test],COUNTIF(CQ$1:CQ6,PTable[3-Method]), \"\"),0)),\"\")","v":"MFmL"},{"$f":"IFERROR(INDEX(PTable[3-Method],MATCH(0,IF(CR$1=PTable[2-Test],COUNTIF(CR$1:CR6,PTable[3-Method]), \"\"),0)),\"\")","v":""},{"$f":"IFERROR(INDEX(PTable[3-Method],MATCH(0,IF(CS$1=PTable[2-Test],COUNTIF(CS$1:CS6,PTable[3-Method]), \"\"),0)),\"\")","v":""},{"$f":"IFERROR(INDEX(PTable[3-Method],MATCH(0,IF(CT$1=PTable[2-Test],COUNTIF(CT$1:CT6,PTable[3-Method]), \"\"),0)),\"\")","v":""},{"$f":"IFERROR(INDEX(PTable[3-Method],MATCH(0,IF(CU$1=PTable[2-Test],COUNTIF(CU$1:CU6,PTable[3-Method]), \"\"),0)),\"\")","v":""},{"$f":"IFERROR(INDEX(PTable[3-Method],MATCH(0,IF(CV$1=PTable[2-Test],COUNTIF(CV$1:CV6,PTable[3-Method]), \"\"),0)),\"\")","v":""},{"$f":"IFERROR(INDEX(PTable[3-Method],MATCH(0,IF(CW$1=PTable[2-Test],COUNTIF(CW$1:CW6,PTable[3-Method]), \"\"),0)),\"\")","v":"MFmL"},{"$f":"IFERROR(INDEX(PTable[3-Method],MATCH(0,IF(CX$1=PTable[2-Test],COUNTIF(CX$1:CX6,PTable[3-Method]), \"\"),0)),\"\")","v":""},{"$f":"IFERROR(INDEX(PTable[3-Method],MATCH(0,IF(CY$1=PTable[2-Test],COUNTIF(CY$1:CY6,PTable[3-Method]), \"\"),0)),\"\")","v":""},{"$f":"IFERROR(INDEX(PTable[3-Method],MATCH(0,IF(CZ$1=PTable[2-Test],COUNTIF(CZ$1:CZ6,PTable[3-Method]), \"\"),0)),\"\")","v":""},{"$f":"IFERROR(INDEX(PTable[3-Method],MATCH(0,IF(DA$1=PTable[2-Test],COUNTIF(DA$1:DA6,PTable[3-Method]), \"\"),0)),\"\")","v":""},{"$f":"IFERROR(INDEX(PTable[3-Method],MATCH(0,IF(DB$1=PTable[2-Test],COUNTIF(DB$1:DB6,PTable[3-Method]), \"\"),0)),\"\")","v":""},{"$f":"IFERROR(INDEX(PTable[3-Method],MATCH(0,IF(DC$1=PTable[2-Test],COUNTIF(DC$1:DC6,PTable[3-Method]), \"\"),0)),\"\")","v":""},{"$f":"IFERROR(INDEX(PTable[3-Method],MATCH(0,IF(DD$1=PTable[2-Test],COUNTIF(DD$1:DD6,PTable[3-Method]), \"\"),0)),\"\")","v":""},{"$f":"IFERROR(INDEX(PTable[3-Method],MATCH(0,IF(DE$1=PTable[2-Test],COUNTIF(DE$1:DE6,PTable[3-Method]), \"\"),0)),\"\")","v":""},{"$f":"IFERROR(INDEX(PTable[3-Method],MATCH(0,IF(DF$1=PTable[2-Test],COUNTIF(DF$1:DF6,PTable[3-Method]), \"\"),0)),\"\")","v":""},{"$f":"IFERROR(INDEX(PTable[3-Method],MATCH(0,IF(DG$1=PTable[2-Test],COUNTIF(DG$1:DG6,PTable[3-Method]), \"\"),0)),\"\")","v":""},{"$f":"IFERROR(INDEX(PTable[3-Method],MATCH(0,IF(DH$1=PTable[2-Test],COUNTIF(DH$1:DH6,PTable[3-Method]), \"\"),0)),\"\")","v":""},{"$f":"IFERROR(INDEX(PTable[3-Method],MATCH(0,IF(DI$1=PTable[2-Test],COUNTIF(DI$1:DI6,PTable[3-Method]), \"\"),0)),\"\")","v":""},{"$f":"IFERROR(INDEX(PTable[3-Method],MATCH(0,IF(DJ$1=PTable[2-Test],COUNTIF(DJ$1:DJ6,PTable[3-Method]), \"\"),0)),\"\")","v":"MFmL"}]
[null,{"$f":"IFERROR(INDEX(PTable[2-Test],MATCH(0,IF(B$1=PTable[1-Type],COUNTIF(B$1:B7,PTable[2-Test]), \"\"),0)),\"\")","v":"APC32"},{"$f":"IFERROR(INDEX(PTable[2-Test],MATCH(0,IF(C$1=PTable[1-Type],COUNTIF(C$1:C7,PTable[2-Test]), \"\"),0)),\"\")","v":"FecCOLI"},{"$f":"IFERROR(INDEX(PTable[2-Test],MATCH(0,IF(D$1=PTable[1-Type],COUNTIF(D$1:D7,PTable[2-Test]), \"\"),0)),\"\")","v":"Cl"},{"$f":"IFERROR(INDEX(PTable[2-Test],MATCH(0,IF(E$1=PTable[1-Type],COUNTIF(E$1:E7,PTable[2-Test]), \"\"),0)),\"\")","v":""},{"$f":"IFERROR(INDEX(PTable[2-Test],MATCH(0,IF(F$1=PTable[1-Type],COUNTIF(F$1:F7,PTable[2-Test]), \"\"),0)),\"\")","v":"Egg"},{"$f":"IFERROR(INDEX(PTable[3-Method],MATCH(0,IF(G$1=PTable[2-Test],COUNTIF(G$1:G7,PTable[3-Method]), \"\"),0)),\"\")","v":""},{"$f":"IFERROR(INDEX(PTable[3-Method],MATCH(0,IF(H$1=PTable[2-Test],COUNTIF(H$1:H7,PTable[3-Method]), \"\"),0)),\"\")","v":""},{"$f":"IFERROR(INDEX(PTable[3-Method],MATCH(0,IF(I$1=PTable[2-Test],COUNTIF(I$1:I7,PTable[3-Method]), \"\"),0)),\"\")","v":""},{"$f":"IFERROR(INDEX(PTable[3-Method],MATCH(0,IF(J$1=PTable[2-Test],COUNTIF(J$1:J7,PTable[3-Method]), \"\"),0)),\"\")","v":""},{"$f":"IFERROR(INDEX(PTable[3-Method],MATCH(0,IF(K$1=PTable[2-Test],COUNTIF(K$1:K7,PTable[3-Method]), \"\"),0)),\"\")","v":""},{"$f":"IFERROR(INDEX(PTable[3-Method],MATCH(0,IF(L$1=PTable[2-Test],COUNTIF(L$1:L7,PTable[3-Method]), \"\"),0)),\"\")","v":""},{"$f":"IFERROR(INDEX(PTable[3-Method],MATCH(0,IF(M$1=PTable[2-Test],COUNTIF(M$1:M7,PTable[3-Method]), \"\"),0)),\"\")","v":""},{"$f":"IFERROR(INDEX(PTable[3-Method],MATCH(0,IF(N$1=PTable[2-Test],COUNTIF(N$1:N7,PTable[3-Method]), \"\"),0)),\"\")","v":""},{"$f":"IFERROR(INDEX(PTable[3-Method],MATCH(0,IF(O$1=PTable[2-Test],COUNTIF(O$1:O7,PTable[3-Method]), \"\"),0)),\"\")","v":""},{"$f":"IFERROR(INDEX(PTable[3-Method],MATCH(0,IF(P$1=PTable[2-Test],COUNTIF(P$1:P7,PTable[3-Method]), \"\"),0)),\"\")","v":""},{"$f":"IFERROR(INDEX(PTable[3-Method],MATCH(0,IF(Q$1=PTable[2-Test],COUNTIF(Q$1:Q7,PTable[3-Method]), \"\"),0)),\"\")","v":""},{"$f":"IFERROR(INDEX(PTable[3-Method],MATCH(0,IF(R$1=PTable[2-Test],COUNTIF(R$1:R7,PTable[3-Method]), \"\"),0)),\"\")","v":""},{"$f":"IFERROR(INDEX(PTable[3-Method],MATCH(0,IF(S$1=PTable[2-Test],COUNTIF(S$1:S7,PTable[3-Method]), \"\"),0)),\"\")","v":""},{"$f":"IFERROR(INDEX(PTable[3-Method],MATCH(0,IF(T$1=PTable[2-Test],COUNTIF(T$1:T7,PTable[3-Method]), \"\"),0)),\"\")","v":""},{"$f":"IFERROR(INDEX(PTable[3-Method],MATCH(0,IF(U$1=PTable[2-Test],COUNTIF(U$1:U7,PTable[3-Method]), \"\"),0)),\"\")","v":""},{"$f":"IFERROR(INDEX(PTable[3-Method],MATCH(0,IF(V$1=PTable[2-Test],COUNTIF(V$1:V7,PTable[3-Method]), \"\"),0)),\"\")","v":""},{"$f":"IFERROR(INDEX(PTable[3-Method],MATCH(0,IF(W$1=PTable[2-Test],COUNTIF(W$1:W7,PTable[3-Method]), \"\"),0)),\"\")","v":""},{"$f":"IFERROR(INDEX(PTable[3-Method],MATCH(0,IF(X$1=PTable[2-Test],COUNTIF(X$1:X7,PTable[3-Method]), \"\"),0)),\"\")","v":""},{"$f":"IFERROR(INDEX(PTable[3-Method],MATCH(0,IF(Y$1=PTable[2-Test],COUNTIF(Y$1:Y7,PTable[3-Method]), \"\"),0)),\"\")","v":""},{"$f":"IFERROR(INDEX(PTable[3-Method],MATCH(0,IF(Z$1=PTable[2-Test],COUNTIF(Z$1:Z7,PTable[3-Method]), \"\"),0)),\"\")","v":""},{"$f":"IFERROR(INDEX(PTable[3-Method],MATCH(0,IF(AA$1=PTable[2-Test],COUNTIF(AA$1:AA7,PTable[3-Method]), \"\"),0)),\"\")","v":""},{"$f":"IFERROR(INDEX(PTable[3-Method],MATCH(0,IF(AB$1=PTable[2-Test],COUNTIF(AB$1:AB7,PTable[3-Method]), \"\"),0)),\"\")","v":""},{"$f":"IFERROR(INDEX(PTable[3-Method],MATCH(0,IF(AC$1=PTable[2-Test],COUNTIF(AC$1:AC7,PTable[3-Method]), \"\"),0)),\"\")","v":""},{"$f":"IFERROR(INDEX(PTable[3-Method],MATCH(0,IF(AD$1=PTable[2-Test],COUNTIF(AD$1:AD7,PTable[3-Method]), \"\"),0)),\"\")","v":""},{"$f":"IFERROR(INDEX(PTable[3-Method],MATCH(0,IF(AE$1=PTable[2-Test],COUNTIF(AE$1:AE7,PTable[3-Method]), \"\"),0)),\"\")","v":""},{"$f":"IFERROR(INDEX(PTable[3-Method],MATCH(0,IF(AF$1=PTable[2-Test],COUNTIF(AF$1:AF7,PTable[3-Method]), \"\"),0)),\"\")","v":""},{"$f":"IFERROR(INDEX(PTable[3-Method],MATCH(0,IF(AG$1=PTable[2-Test],COUNTIF(AG$1:AG7,PTable[3-Method]), \"\"),0)),\"\")","v":""},{"$f":"IFERROR(INDEX(PTable[3-Method],MATCH(0,IF(AH$1=PTable[2-Test],COUNTIF(AH$1:AH7,PTable[3-Method]), \"\"),0)),\"\")","v":""},{"$f":"IFERROR(INDEX(PTable[3-Method],MATCH(0,IF(AI$1=PTable[2-Test],COUNTIF(AI$1:AI7,PTable[3-Method]), \"\"),0)),\"\")","v":""},{"$f":"IFERROR(INDEX(PTable[3-Method],MATCH(0,IF(AJ$1=PTable[2-Test],COUNTIF(AJ$1:AJ7,PTable[3-Method]), \"\"),0)),\"\")","v":""},{"$f":"IFERROR(INDEX(PTable[3-Method],MATCH(0,IF(AK$1=PTable[2-Test],COUNTIF(AK$1:AK7,PTable[3-Method]), \"\"),0)),\"\")","v":""},{"$f":"IFERROR(INDEX(PTable[3-Method],MATCH(0,IF(AL$1=PTable[2-Test],COUNTIF(AL$1:AL7,PTable[3-Method]), \"\"),0)),\"\")","v":""},{"$f":"IFERROR(INDEX(PTable[3-Method],MATCH(0,IF(AM$1=PTable[2-Test],COUNTIF(AM$1:AM7,PTable[3-Method]), \"\"),0)),\"\")","v":""},{"$f":"IFERROR(INDEX(PTable[3-Method],MATCH(0,IF(AN$1=PTable[2-Test],COUNTIF(AN$1:AN7,PTable[3-Method]), \"\"),0)),\"\")","v":""},{"$f":"IFERROR(INDEX(PTable[3-Method],MATCH(0,IF(AO$1=PTable[2-Test],COUNTIF(AO$1:AO7,PTable[3-Method]), \"\"),0)),\"\")","v":""},{"$f":"IFERROR(INDEX(PTable[3-Method],MATCH(0,IF(AP$1=PTable[2-Test],COUNTIF(AP$1:AP7,PTable[3-Method]), \"\"),0)),\"\")","v":""},{"$f":"IFERROR(INDEX(PTable[3-Method],MATCH(0,IF(AQ$1=PTable[2-Test],COUNTIF(AQ$1:AQ7,PTable[3-Method]), \"\"),0)),\"\")","v":""},{"$f":"IFERROR(INDEX(PTable[3-Method],MATCH(0,IF(AR$1=PTable[2-Test],COUNTIF(AR$1:AR7,PTable[3-Method]), \"\"),0)),\"\")","v":""},{"$f":"IFERROR(INDEX(PTable[3-Method],MATCH(0,IF(AS$1=PTable[2-Test],COUNTIF(AS$1:AS7,PTable[3-Method]), \"\"),0)),\"\")","v":""},{"$f":"IFERROR(INDEX(PTable[3-Method],MATCH(0,IF(AT$1=PTable[2-Test],COUNTIF(AT$1:AT7,PTable[3-Method]), \"\"),0)),\"\")","v":""},{"$f":"IFERROR(INDEX(PTable[3-Method],MATCH(0,IF(AU$1=PTable[2-Test],COUNTIF(AU$1:AU7,PTable[3-Method]), \"\"),0)),\"\")","v":""},{"$f":"IFERROR(INDEX(PTable[3-Method],MATCH(0,IF(AV$1=PTable[2-Test],COUNTIF(AV$1:AV7,PTable[3-Method]), \"\"),0)),\"\")","v":""},{"$f":"IFERROR(INDEX(PTable[3-Method],MATCH(0,IF(AW$1=PTable[2-Test],COUNTIF(AW$1:AW7,PTable[3-Method]), \"\"),0)),\"\")","v":""},{"$f":"IFERROR(INDEX(PTable[3-Method],MATCH(0,IF(AX$1=PTable[2-Test],COUNTIF(AX$1:AX7,PTable[3-Method]), \"\"),0)),\"\")","v":""},{"$f":"IFERROR(INDEX(PTable[3-Method],MATCH(0,IF(AY$1=PTable[2-Test],COUNTIF(AY$1:AY7,PTable[3-Method]), \"\"),0)),\"\")","v":""},{"$f":"IFERROR(INDEX(PTable[3-Method],MATCH(0,IF(AZ$1=PTable[2-Test],COUNTIF(AZ$1:AZ7,PTable[3-Method]), \"\"),0)),\"\")","v":""},{"$f":"IFERROR(INDEX(PTable[3-Method],MATCH(0,IF(BA$1=PTable[2-Test],COUNTIF(BA$1:BA7,PTable[3-Method]), \"\"),0)),\"\")","v":""},{"$f":"IFERROR(INDEX(PTable[3-Method],MATCH(0,IF(BB$1=PTable[2-Test],COUNTIF(BB$1:BB7,PTable[3-Method]), \"\"),0)),\"\")","v":""},{"$f":"IFERROR(INDEX(PTable[3-Method],MATCH(0,IF(BC$1=PTable[2-Test],COUNTIF(BC$1:BC7,PTable[3-Method]), \"\"),0)),\"\")","v":""},{"$f":"IFERROR(INDEX(PTable[3-Method],MATCH(0,IF(BD$1=PTable[2-Test],COUNTIF(BD$1:BD7,PTable[3-Method]), \"\"),0)),\"\")","v":""},{"$f":"IFERROR(INDEX(PTable[3-Method],MATCH(0,IF(BE$1=PTable[2-Test],COUNTIF(BE$1:BE7,PTable[3-Method]), \"\"),0)),\"\")","v":""},{"$f":"IFERROR(INDEX(PTable[3-Method],MATCH(0,IF(BF$1=PTable[2-Test],COUNTIF(BF$1:BF7,PTable[3-Method]), \"\"),0)),\"\")","v":""},{"$f":"IFERROR(INDEX(PTable[3-Method],MATCH(0,IF(BG$1=PTable[2-Test],COUNTIF(BG$1:BG7,PTable[3-Method]), \"\"),0)),\"\")","v":""},{"$f":"IFERROR(INDEX(PTable[3-Method],MATCH(0,IF(BH$1=PTable[2-Test],COUNTIF(BH$1:BH7,PTable[3-Method]), \"\"),0)),\"\")","v":""},{"$f":"IFERROR(INDEX(PTable[3-Method],MATCH(0,IF(BI$1=PTable[2-Test],COUNTIF(BI$1:BI7,PTable[3-Method]), \"\"),0)),\"\")","v":""},{"$f":"IFERROR(INDEX(PTable[3-Method],MATCH(0,IF(BJ$1=PTable[2-Test],COUNTIF(BJ$1:BJ7,PTable[3-Method]), \"\"),0)),\"\")","v":"USP5g"},{"$f":"IFERROR(INDEX(PTable[3-Method],MATCH(0,IF(BK$1=PTable[2-Test],COUNTIF(BK$1:BK7,PTable[3-Method]), \"\"),0)),\"\")","v":""},{"$f":"IFERROR(INDEX(PTable[3-Method],MATCH(0,IF(BL$1=PTable[2-Test],COUNTIF(BL$1:BL7,PTable[3-Method]), \"\"),0)),\"\")","v":"mFDA25g"},{"$f":"IFERROR(INDEX(PTable[3-Method],MATCH(0,IF(BM$1=PTable[2-Test],COUNTIF(BM$1:BM7,PTable[3-Method]), \"\"),0)),\"\")","v":"mBX125g"},{"$f":"IFERROR(INDEX(PTable[3-Method],MATCH(0,IF(BN$1=PTable[2-Test],COUNTIF(BN$1:BN7,PTable[3-Method]), \"\"),0)),\"\")","v":"GPO375g"},{"$f":"IFERROR(INDEX(PTable[3-Method],MATCH(0,IF(BO$1=PTable[2-Test],COUNTIF(BO$1:BO7,PTable[3-Method]), \"\"),0)),\"\")","v":""},{"$f":"IFERROR(INDEX(PTable[3-Method],MATCH(0,IF(BP$1=PTable[2-Test],COUNTIF(BP$1:BP7,PTable[3-Method]), \"\"),0)),\"\")","v":"mBX25g"},{"$f":"IFERROR(INDEX(PTable[3-Method],MATCH(0,IF(BQ$1=PTable[2-Test],COUNTIF(BQ$1:BQ7,PTable[3-Method]), \"\"),0)),\"\")","v":""},{"$f":"IFERROR(INDEX(PTable[3-Method],MATCH(0,IF(BR$1=PTable[2-Test],COUNTIF(BR$1:BR7,PTable[3-Method]), \"\"),0)),\"\")","v":""},{"$f":"IFERROR(INDEX(PTable[3-Method],MATCH(0,IF(BS$1=PTable[2-Test],COUNTIF(BS$1:BS7,PTable[3-Method]), \"\"),0)),\"\")","v":""},{"$f":"IFERROR(INDEX(PTable[3-Method],MATCH(0,IF(BT$1=PTable[2-Test],COUNTIF(BT$1:BT7,PTable[3-Method]), \"\"),0)),\"\")","v":""},{"$f":"IFERROR(INDEX(PTable[3-Method],MATCH(0,IF(BU$1=PTable[2-Test],COUNTIF(BU$1:BU7,PTable[3-Method]), \"\"),0)),\"\")","v":""},{"$f":"IFERROR(INDEX(PTable[3-Method],MATCH(0,IF(BV$1=PTable[2-Test],COUNTIF(BV$1:BV7,PTable[3-Method]), \"\"),0)),\"\")","v":""},{"$f":"IFERROR(INDEX(PTable[3-Method],MATCH(0,IF(BW$1=PTable[2-Test],COUNTIF(BW$1:BW7,PTable[3-Method]), \"\"),0)),\"\")","v":""},{"$f":"IFERROR(INDEX(PTable[3-Method],MATCH(0,IF(BX$1=PTable[2-Test],COUNTIF(BX$1:BX7,PTable[3-Method]), \"\"),0)),\"\")","v":""},{"$f":"IFERROR(INDEX(PTable[3-Method],MATCH(0,IF(BY$1=PTable[2-Test],COUNTIF(BY$1:BY7,PTable[3-Method]), \"\"),0)),\"\")","v":""},{"$f":"IFERROR(INDEX(PTable[3-Method],MATCH(0,IF(BZ$1=PTable[2-Test],COUNTIF(BZ$1:BZ7,PTable[3-Method]), \"\"),0)),\"\")","v":""},{"$f":"IFERROR(INDEX(PTable[3-Method],MATCH(0,IF(CA$1=PTable[2-Test],COUNTIF(CA$1:CA7,PTable[3-Method]), \"\"),0)),\"\")","v":""},{"$f":"IFERROR(INDEX(PTable[3-Method],MATCH(0,IF(CB$1=PTable[2-Test],COUNTIF(CB$1:CB7,PTable[3-Method]), \"\"),0)),\"\")","v":""},{"$f":"IFERROR(INDEX(PTable[3-Method],MATCH(0,IF(CC$1=PTable[2-Test],COUNTIF(CC$1:CC7,PTable[3-Method]), \"\"),0)),\"\")","v":"mUSPmL"},{"$f":"IFERROR(INDEX(PTable[3-Method],MATCH(0,IF(CD$1=PTable[2-Test],COUNTIF(CD$1:CD7,PTable[3-Method]), \"\"),0)),\"\")","v":""},{"$f":"IFERROR(INDEX(PTable[3-Method],MATCH(0,IF(CE$1=PTable[2-Test],COUNTIF(CE$1:CE7,PTable[3-Method]), \"\"),0)),\"\")","v":""},{"$f":"IFERROR(INDEX(PTable[3-Method],MATCH(0,IF(CF$1=PTable[2-Test],COUNTIF(CF$1:CF7,PTable[3-Method]), \"\"),0)),\"\")","v":""},{"$f":"IFERROR(INDEX(PTable[3-Method],MATCH(0,IF(CG$1=PTable[2-Test],COUNTIF(CG$1:CG7,PTable[3-Method]), \"\"),0)),\"\")","v":""},{"$f":"IFERROR(INDEX(PTable[3-Method],MATCH(0,IF(CH$1=PTable[2-Test],COUNTIF(CH$1:CH7,PTable[3-Method]), \"\"),0)),\"\")","v":""},{"$f":"IFERROR(INDEX(PTable[3-Method],MATCH(0,IF(CI$1=PTable[2-Test],COUNTIF(CI$1:CI7,PTable[3-Method]), \"\"),0)),\"\")","v":""},{"$f":"IFERROR(INDEX(PTable[3-Method],MATCH(0,IF(CJ$1=PTable[2-Test],COUNTIF(CJ$1:CJ7,PTable[3-Method]), \"\"),0)),\"\")","v":""},{"$f":"IFERROR(INDEX(PTable[3-Method],MATCH(0,IF(CK$1=PTable[2-Test],COUNTIF(CK$1:CK7,PTable[3-Method]), \"\"),0)),\"\")","v":""},{"$f":"IFERROR(INDEX(PTable[3-Method],MATCH(0,IF(CL$1=PTable[2-Test],COUNTIF(CL$1:CL7,PTable[3-Method]), \"\"),0)),\"\")","v":""},{"$f":"IFERROR(INDEX(PTable[3-Method],MATCH(0,IF(CM$1=PTable[2-Test],COUNTIF(CM$1:CM7,PTable[3-Method]), \"\"),0)),\"\")","v":"mSMW10"},{"$f":"IFERROR(INDEX(PTable[3-Method],MATCH(0,IF(CN$1=PTable[2-Test],COUNTIF(CN$1:CN7,PTable[3-Method]), \"\"),0)),\"\")","v":""},{"$f":"IFERROR(INDEX(PTable[3-Method],MATCH(0,IF(CO$1=PTable[2-Test],COUNTIF(CO$1:CO7,PTable[3-Method]), \"\"),0)),\"\")","v":""},{"$f":"IFERROR(INDEX(PTable[3-Method],MATCH(0,IF(CP$1=PTable[2-Test],COUNTIF(CP$1:CP7,PTable[3-Method]), \"\"),0)),\"\")","v":""},{"$f":"IFERROR(INDEX(PTable[3-Method],MATCH(0,IF(CQ$1=PTable[2-Test],COUNTIF(CQ$1:CQ7,PTable[3-Method]), \"\"),0)),\"\")","v":"mSMDPg"},{"$f":"IFERROR(INDEX(PTable[3-Method],MATCH(0,IF(CR$1=PTable[2-Test],COUNTIF(CR$1:CR7,PTable[3-Method]), \"\"),0)),\"\")","v":""},{"$f":"IFERROR(INDEX(PTable[3-Method],MATCH(0,IF(CS$1=PTable[2-Test],COUNTIF(CS$1:CS7,PTable[3-Method]), \"\"),0)),\"\")","v":""},{"$f":"IFERROR(INDEX(PTable[3-Method],MATCH(0,IF(CT$1=PTable[2-Test],COUNTIF(CT$1:CT7,PTable[3-Method]), \"\"),0)),\"\")","v":""},{"$f":"IFERROR(INDEX(PTable[3-Method],MATCH(0,IF(CU$1=PTable[2-Test],COUNTIF(CU$1:CU7,PTable[3-Method]), \"\"),0)),\"\")","v":""},{"$f":"IFERROR(INDEX(PTable[3-Method],MATCH(0,IF(CV$1=PTable[2-Test],COUNTIF(CV$1:CV7,PTable[3-Method]), \"\"),0)),\"\")","v":""},{"$f":"IFERROR(INDEX(PTable[3-Method],MATCH(0,IF(CW$1=PTable[2-Test],COUNTIF(CW$1:CW7,PTable[3-Method]), \"\"),0)),\"\")","v":"mUSPg"},{"$f":"IFERROR(INDEX(PTable[3-Method],MATCH(0,IF(CX$1=PTable[2-Test],COUNTIF(CX$1:CX7,PTable[3-Method]), \"\"),0)),\"\")","v":""},{"$f":"IFERROR(INDEX(PTable[3-Method],MATCH(0,IF(CY$1=PTable[2-Test],COUNTIF(CY$1:CY7,PTable[3-Method]), \"\"),0)),\"\")","v":""},{"$f":"IFERROR(INDEX(PTable[3-Method],MATCH(0,IF(CZ$1=PTable[2-Test],COUNTIF(CZ$1:CZ7,PTable[3-Method]), \"\"),0)),\"\")","v":""},{"$f":"IFERROR(INDEX(PTable[3-Method],MATCH(0,IF(DA$1=PTable[2-Test],COUNTIF(DA$1:DA7,PTable[3-Method]), \"\"),0)),\"\")","v":""},{"$f":"IFERROR(INDEX(PTable[3-Method],MATCH(0,IF(DB$1=PTable[2-Test],COUNTIF(DB$1:DB7,PTable[3-Method]), \"\"),0)),\"\")","v":""},{"$f":"IFERROR(INDEX(PTable[3-Method],MATCH(0,IF(DC$1=PTable[2-Test],COUNTIF(DC$1:DC7,PTable[3-Method]), \"\"),0)),\"\")","v":""},{"$f":"IFERROR(INDEX(PTable[3-Method],MATCH(0,IF(DD$1=PTable[2-Test],COUNTIF(DD$1:DD7,PTable[3-Method]), \"\"),0)),\"\")","v":""},{"$f":"IFERROR(INDEX(PTable[3-Method],MATCH(0,IF(DE$1=PTable[2-Test],COUNTIF(DE$1:DE7,PTable[3-Method]), \"\"),0)),\"\")","v":""},{"$f":"IFERROR(INDEX(PTable[3-Method],MATCH(0,IF(DF$1=PTable[2-Test],COUNTIF(DF$1:DF7,PTable[3-Method]), \"\"),0)),\"\")","v":""},{"$f":"IFERROR(INDEX(PTable[3-Method],MATCH(0,IF(DG$1=PTable[2-Test],COUNTIF(DG$1:DG7,PTable[3-Method]), \"\"),0)),\"\")","v":""},{"$f":"IFERROR(INDEX(PTable[3-Method],MATCH(0,IF(DH$1=PTable[2-Test],COUNTIF(DH$1:DH7,PTable[3-Method]), \"\"),0)),\"\")","v":""},{"$f":"IFERROR(INDEX(PTable[3-Method],MATCH(0,IF(DI$1=PTable[2-Test],COUNTIF(DI$1:DI7,PTable[3-Method]), \"\"),0)),\"\")","v":""},{"$f":"IFERROR(INDEX(PTable[3-Method],MATCH(0,IF(DJ$1=PTable[2-Test],COUNTIF(DJ$1:DJ7,PTable[3-Method]), \"\"),0)),\"\")","v":"mUSPg"}]
[null,{"$f":"IFERROR(INDEX(PTable[2-Test],MATCH(0,IF(B$1=PTable[1-Type],COUNTIF(B$1:B8,PTable[2-Test]), \"\"),0)),\"\")","v":"APC35"},{"$f":"IFERROR(INDEX(PTable[2-Test],MATCH(0,IF(C$1=PTable[1-Type],COUNTIF(C$1:C8,PTable[2-Test]), \"\"),0)),\"\")","v":"LG"},{"$f":"IFERROR(INDEX(PTable[2-Test],MATCH(0,IF(D$1=PTable[1-Type],COUNTIF(D$1:D8,PTable[2-Test]), \"\"),0)),\"\")","v":"CookTp"},{"$f":"IFERROR(INDEX(PTable[2-Test],MATCH(0,IF(E$1=PTable[1-Type],COUNTIF(E$1:E8,PTable[2-Test]), \"\"),0)),\"\")","v":""},{"$f":"IFERROR(INDEX(PTable[2-Test],MATCH(0,IF(F$1=PTable[1-Type],COUNTIF(F$1:F8,PTable[2-Test]), \"\"),0)),\"\")","v":"Gliadin"},{"$f":"IFERROR(INDEX(PTable[3-Method],MATCH(0,IF(G$1=PTable[2-Test],COUNTIF(G$1:G8,PTable[3-Method]), \"\"),0)),\"\")","v":""},{"$f":"IFERROR(INDEX(PTable[3-Method],MATCH(0,IF(H$1=PTable[2-Test],COUNTIF(H$1:H8,PTable[3-Method]), \"\"),0)),\"\")","v":""},{"$f":"IFERROR(INDEX(PTable[3-Method],MATCH(0,IF(I$1=PTable[2-Test],COUNTIF(I$1:I8,PTable[3-Method]), \"\"),0)),\"\")","v":""},{"$f":"IFERROR(INDEX(PTable[3-Method],MATCH(0,IF(J$1=PTable[2-Test],COUNTIF(J$1:J8,PTable[3-Method]), \"\"),0)),\"\")","v":""},{"$f":"IFERROR(INDEX(PTable[3-Method],MATCH(0,IF(K$1=PTable[2-Test],COUNTIF(K$1:K8,PTable[3-Method]), \"\"),0)),\"\")","v":""},{"$f":"IFERROR(INDEX(PTable[3-Method],MATCH(0,IF(L$1=PTable[2-Test],COUNTIF(L$1:L8,PTable[3-Method]), \"\"),0)),\"\")","v":""},{"$f":"IFERROR(INDEX(PTable[3-Method],MATCH(0,IF(M$1=PTable[2-Test],COUNTIF(M$1:M8,PTable[3-Method]), \"\"),0)),\"\")","v":""},{"$f":"IFERROR(INDEX(PTable[3-Method],MATCH(0,IF(N$1=PTable[2-Test],COUNTIF(N$1:N8,PTable[3-Method]), \"\"),0)),\"\")","v":""},{"$f":"IFERROR(INDEX(PTable[3-Method],MATCH(0,IF(O$1=PTable[2-Test],COUNTIF(O$1:O8,PTable[3-Method]), \"\"),0)),\"\")","v":""},{"$f":"IFERROR(INDEX(PTable[3-Method],MATCH(0,IF(P$1=PTable[2-Test],COUNTIF(P$1:P8,PTable[3-Method]), \"\"),0)),\"\")","v":""},{"$f":"IFERROR(INDEX(PTable[3-Method],MATCH(0,IF(Q$1=PTable[2-Test],COUNTIF(Q$1:Q8,PTable[3-Method]), \"\"),0)),\"\")","v":""},{"$f":"IFERROR(INDEX(PTable[3-Method],MATCH(0,IF(R$1=PTable[2-Test],COUNTIF(R$1:R8,PTable[3-Method]), \"\"),0)),\"\")","v":""},{"$f":"IFERROR(INDEX(PTable[3-Method],MATCH(0,IF(S$1=PTable[2-Test],COUNTIF(S$1:S8,PTable[3-Method]), \"\"),0)),\"\")","v":""},{"$f":"IFERROR(INDEX(PTable[3-Method],MATCH(0,IF(T$1=PTable[2-Test],COUNTIF(T$1:T8,PTable[3-Method]), \"\"),0)),\"\")","v":""},{"$f":"IFERROR(INDEX(PTable[3-Method],MATCH(0,IF(U$1=PTable[2-Test],COUNTIF(U$1:U8,PTable[3-Method]), \"\"),0)),\"\")","v":""},{"$f":"IFERROR(INDEX(PTable[3-Method],MATCH(0,IF(V$1=PTable[2-Test],COUNTIF(V$1:V8,PTable[3-Method]), \"\"),0)),\"\")","v":""},{"$f":"IFERROR(INDEX(PTable[3-Method],MATCH(0,IF(W$1=PTable[2-Test],COUNTIF(W$1:W8,PTable[3-Method]), \"\"),0)),\"\")","v":""},{"$f":"IFERROR(INDEX(PTable[3-Method],MATCH(0,IF(X$1=PTable[2-Test],COUNTIF(X$1:X8,PTable[3-Method]), \"\"),0)),\"\")","v":""},{"$f":"IFERROR(INDEX(PTable[3-Method],MATCH(0,IF(Y$1=PTable[2-Test],COUNTIF(Y$1:Y8,PTable[3-Method]), \"\"),0)),\"\")","v":""},{"$f":"IFERROR(INDEX(PTable[3-Method],MATCH(0,IF(Z$1=PTable[2-Test],COUNTIF(Z$1:Z8,PTable[3-Method]), \"\"),0)),\"\")","v":""},{"$f":"IFERROR(INDEX(PTable[3-Method],MATCH(0,IF(AA$1=PTable[2-Test],COUNTIF(AA$1:AA8,PTable[3-Method]), \"\"),0)),\"\")","v":""},{"$f":"IFERROR(INDEX(PTable[3-Method],MATCH(0,IF(AB$1=PTable[2-Test],COUNTIF(AB$1:AB8,PTable[3-Method]), \"\"),0)),\"\")","v":""},{"$f":"IFERROR(INDEX(PTable[3-Method],MATCH(0,IF(AC$1=PTable[2-Test],COUNTIF(AC$1:AC8,PTable[3-Method]), \"\"),0)),\"\")","v":""},{"$f":"IFERROR(INDEX(PTable[3-Method],MATCH(0,IF(AD$1=PTable[2-Test],COUNTIF(AD$1:AD8,PTable[3-Method]), \"\"),0)),\"\")","v":""},{"$f":"IFERROR(INDEX(PTable[3-Method],MATCH(0,IF(AE$1=PTable[2-Test],COUNTIF(AE$1:AE8,PTable[3-Method]), \"\"),0)),\"\")","v":""},{"$f":"IFERROR(INDEX(PTable[3-Method],MATCH(0,IF(AF$1=PTable[2-Test],COUNTIF(AF$1:AF8,PTable[3-Method]), \"\"),0)),\"\")","v":""},{"$f":"IFERROR(INDEX(PTable[3-Method],MATCH(0,IF(AG$1=PTable[2-Test],COUNTIF(AG$1:AG8,PTable[3-Method]), \"\"),0)),\"\")","v":""},{"$f":"IFERROR(INDEX(PTable[3-Method],MATCH(0,IF(AH$1=PTable[2-Test],COUNTIF(AH$1:AH8,PTable[3-Method]), \"\"),0)),\"\")","v":""},{"$f":"IFERROR(INDEX(PTable[3-Method],MATCH(0,IF(AI$1=PTable[2-Test],COUNTIF(AI$1:AI8,PTable[3-Method]), \"\"),0)),\"\")","v":""},{"$f":"IFERROR(INDEX(PTable[3-Method],MATCH(0,IF(AJ$1=PTable[2-Test],COUNTIF(AJ$1:AJ8,PTable[3-Method]), \"\"),0)),\"\")","v":""},{"$f":"IFERROR(INDEX(PTable[3-Method],MATCH(0,IF(AK$1=PTable[2-Test],COUNTIF(AK$1:AK8,PTable[3-Method]), \"\"),0)),\"\")","v":""},{"$f":"IFERROR(INDEX(PTable[3-Method],MATCH(0,IF(AL$1=PTable[2-Test],COUNTIF(AL$1:AL8,PTable[3-Method]), \"\"),0)),\"\")","v":""},{"$f":"IFERROR(INDEX(PTable[3-Method],MATCH(0,IF(AM$1=PTable[2-Test],COUNTIF(AM$1:AM8,PTable[3-Method]), \"\"),0)),\"\")","v":""},{"$f":"IFERROR(INDEX(PTable[3-Method],MATCH(0,IF(AN$1=PTable[2-Test],COUNTIF(AN$1:AN8,PTable[3-Method]), \"\"),0)),\"\")","v":""},{"$f":"IFERROR(INDEX(PTable[3-Method],MATCH(0,IF(AO$1=PTable[2-Test],COUNTIF(AO$1:AO8,PTable[3-Method]), \"\"),0)),\"\")","v":""},{"$f":"IFERROR(INDEX(PTable[3-Method],MATCH(0,IF(AP$1=PTable[2-Test],COUNTIF(AP$1:AP8,PTable[3-Method]), \"\"),0)),\"\")","v":""},{"$f":"IFERROR(INDEX(PTable[3-Method],MATCH(0,IF(AQ$1=PTable[2-Test],COUNTIF(AQ$1:AQ8,PTable[3-Method]), \"\"),0)),\"\")","v":""},{"$f":"IFERROR(INDEX(PTable[3-Method],MATCH(0,IF(AR$1=PTable[2-Test],COUNTIF(AR$1:AR8,PTable[3-Method]), \"\"),0)),\"\")","v":""},{"$f":"IFERROR(INDEX(PTable[3-Method],MATCH(0,IF(AS$1=PTable[2-Test],COUNTIF(AS$1:AS8,PTable[3-Method]), \"\"),0)),\"\")","v":""},{"$f":"IFERROR(INDEX(PTable[3-Method],MATCH(0,IF(AT$1=PTable[2-Test],COUNTIF(AT$1:AT8,PTable[3-Method]), \"\"),0)),\"\")","v":""},{"$f":"IFERROR(INDEX(PTable[3-Method],MATCH(0,IF(AU$1=PTable[2-Test],COUNTIF(AU$1:AU8,PTable[3-Method]), \"\"),0)),\"\")","v":""},{"$f":"IFERROR(INDEX(PTable[3-Method],MATCH(0,IF(AV$1=PTable[2-Test],COUNTIF(AV$1:AV8,PTable[3-Method]), \"\"),0)),\"\")","v":""},{"$f":"IFERROR(INDEX(PTable[3-Method],MATCH(0,IF(AW$1=PTable[2-Test],COUNTIF(AW$1:AW8,PTable[3-Method]), \"\"),0)),\"\")","v":""},{"$f":"IFERROR(INDEX(PTable[3-Method],MATCH(0,IF(AX$1=PTable[2-Test],COUNTIF(AX$1:AX8,PTable[3-Method]), \"\"),0)),\"\")","v":""},{"$f":"IFERROR(INDEX(PTable[3-Method],MATCH(0,IF(AY$1=PTable[2-Test],COUNTIF(AY$1:AY8,PTable[3-Method]), \"\"),0)),\"\")","v":""},{"$f":"IFERROR(INDEX(PTable[3-Method],MATCH(0,IF(AZ$1=PTable[2-Test],COUNTIF(AZ$1:AZ8,PTable[3-Method]), \"\"),0)),\"\")","v":""},{"$f":"IFERROR(INDEX(PTable[3-Method],MATCH(0,IF(BA$1=PTable[2-Test],COUNTIF(BA$1:BA8,PTable[3-Method]), \"\"),0)),\"\")","v":""},{"$f":"IFERROR(INDEX(PTable[3-Method],MATCH(0,IF(BB$1=PTable[2-Test],COUNTIF(BB$1:BB8,PTable[3-Method]), \"\"),0)),\"\")","v":""},{"$f":"IFERROR(INDEX(PTable[3-Method],MATCH(0,IF(BC$1=PTable[2-Test],COUNTIF(BC$1:BC8,PTable[3-Method]), \"\"),0)),\"\")","v":""},{"$f":"IFERROR(INDEX(PTable[3-Method],MATCH(0,IF(BD$1=PTable[2-Test],COUNTIF(BD$1:BD8,PTable[3-Method]), \"\"),0)),\"\")","v":""},{"$f":"IFERROR(INDEX(PTable[3-Method],MATCH(0,IF(BE$1=PTable[2-Test],COUNTIF(BE$1:BE8,PTable[3-Method]), \"\"),0)),\"\")","v":""},{"$f":"IFERROR(INDEX(PTable[3-Method],MATCH(0,IF(BF$1=PTable[2-Test],COUNTIF(BF$1:BF8,PTable[3-Method]), \"\"),0)),\"\")","v":""},{"$f":"IFERROR(INDEX(PTable[3-Method],MATCH(0,IF(BG$1=PTable[2-Test],COUNTIF(BG$1:BG8,PTable[3-Method]), \"\"),0)),\"\")","v":""},{"$f":"IFERROR(INDEX(PTable[3-Method],MATCH(0,IF(BH$1=PTable[2-Test],COUNTIF(BH$1:BH8,PTable[3-Method]), \"\"),0)),\"\")","v":""},{"$f":"IFERROR(INDEX(PTable[3-Method],MATCH(0,IF(BI$1=PTable[2-Test],COUNTIF(BI$1:BI8,PTable[3-Method]), \"\"),0)),\"\")","v":""},{"$f":"IFERROR(INDEX(PTable[3-Method],MATCH(0,IF(BJ$1=PTable[2-Test],COUNTIF(BJ$1:BJ8,PTable[3-Method]), \"\"),0)),\"\")","v":""},{"$f":"IFERROR(INDEX(PTable[3-Method],MATCH(0,IF(BK$1=PTable[2-Test],COUNTIF(BK$1:BK8,PTable[3-Method]), \"\"),0)),\"\")","v":""},{"$f":"IFERROR(INDEX(PTable[3-Method],MATCH(0,IF(BL$1=PTable[2-Test],COUNTIF(BL$1:BL8,PTable[3-Method]), \"\"),0)),\"\")","v":"mUS100g"},{"$f":"IFERROR(INDEX(PTable[3-Method],MATCH(0,IF(BM$1=PTable[2-Test],COUNTIF(BM$1:BM8,PTable[3-Method]), \"\"),0)),\"\")","v":"mBX250g"},{"$f":"IFERROR(INDEX(PTable[3-Method],MATCH(0,IF(BN$1=PTable[2-Test],COUNTIF(BN$1:BN8,PTable[3-Method]), \"\"),0)),\"\")","v":"LGmi"},{"$f":"IFERROR(INDEX(PTable[3-Method],MATCH(0,IF(BO$1=PTable[2-Test],COUNTIF(BO$1:BO8,PTable[3-Method]), \"\"),0)),\"\")","v":""},{"$f":"IFERROR(INDEX(PTable[3-Method],MATCH(0,IF(BP$1=PTable[2-Test],COUNTIF(BP$1:BP8,PTable[3-Method]), \"\"),0)),\"\")","v":"mBX325g"},{"$f":"IFERROR(INDEX(PTable[3-Method],MATCH(0,IF(BQ$1=PTable[2-Test],COUNTIF(BQ$1:BQ8,PTable[3-Method]), \"\"),0)),\"\")","v":""},{"$f":"IFERROR(INDEX(PTable[3-Method],MATCH(0,IF(BR$1=PTable[2-Test],COUNTIF(BR$1:BR8,PTable[3-Method]), \"\"),0)),\"\")","v":""},{"$f":"IFERROR(INDEX(PTable[3-Method],MATCH(0,IF(BS$1=PTable[2-Test],COUNTIF(BS$1:BS8,PTable[3-Method]), \"\"),0)),\"\")","v":""},{"$f":"IFERROR(INDEX(PTable[3-Method],MATCH(0,IF(BT$1=PTable[2-Test],COUNTIF(BT$1:BT8,PTable[3-Method]), \"\"),0)),\"\")","v":""},{"$f":"IFERROR(INDEX(PTable[3-Method],MATCH(0,IF(BU$1=PTable[2-Test],COUNTIF(BU$1:BU8,PTable[3-Method]), \"\"),0)),\"\")","v":""},{"$f":"IFERROR(INDEX(PTable[3-Method],MATCH(0,IF(BV$1=PTable[2-Test],COUNTIF(BV$1:BV8,PTable[3-Method]), \"\"),0)),\"\")","v":""},{"$f":"IFERROR(INDEX(PTable[3-Method],MATCH(0,IF(BW$1=PTable[2-Test],COUNTIF(BW$1:BW8,PTable[3-Method]), \"\"),0)),\"\")","v":""},{"$f":"IFERROR(INDEX(PTable[3-Method],MATCH(0,IF(BX$1=PTable[2-Test],COUNTIF(BX$1:BX8,PTable[3-Method]), \"\"),0)),\"\")","v":""},{"$f":"IFERROR(INDEX(PTable[3-Method],MATCH(0,IF(BY$1=PTable[2-Test],COUNTIF(BY$1:BY8,PTable[3-Method]), \"\"),0)),\"\")","v":""},{"$f":"IFERROR(INDEX(PTable[3-Method],MATCH(0,IF(BZ$1=PTable[2-Test],COUNTIF(BZ$1:BZ8,PTable[3-Method]), \"\"),0)),\"\")","v":""},{"$f":"IFERROR(INDEX(PTable[3-Method],MATCH(0,IF(CA$1=PTable[2-Test],COUNTIF(CA$1:CA8,PTable[3-Method]), \"\"),0)),\"\")","v":""},{"$f":"IFERROR(INDEX(PTable[3-Method],MATCH(0,IF(CB$1=PTable[2-Test],COUNTIF(CB$1:CB8,PTable[3-Method]), \"\"),0)),\"\")","v":""},{"$f":"IFERROR(INDEX(PTable[3-Method],MATCH(0,IF(CC$1=PTable[2-Test],COUNTIF(CC$1:CC8,PTable[3-Method]), \"\"),0)),\"\")","v":""},{"$f":"IFERROR(INDEX(PTable[3-Method],MATCH(0,IF(CD$1=PTable[2-Test],COUNTIF(CD$1:CD8,PTable[3-Method]), \"\"),0)),\"\")","v":""},{"$f":"IFERROR(INDEX(PTable[3-Method],MATCH(0,IF(CE$1=PTable[2-Test],COUNTIF(CE$1:CE8,PTable[3-Method]), \"\"),0)),\"\")","v":""},{"$f":"IFERROR(INDEX(PTable[3-Method],MATCH(0,IF(CF$1=PTable[2-Test],COUNTIF(CF$1:CF8,PTable[3-Method]), \"\"),0)),\"\")","v":""},{"$f":"IFERROR(INDEX(PTable[3-Method],MATCH(0,IF(CG$1=PTable[2-Test],COUNTIF(CG$1:CG8,PTable[3-Method]), \"\"),0)),\"\")","v":""},{"$f":"IFERROR(INDEX(PTable[3-Method],MATCH(0,IF(CH$1=PTable[2-Test],COUNTIF(CH$1:CH8,PTable[3-Method]), \"\"),0)),\"\")","v":""},{"$f":"IFERROR(INDEX(PTable[3-Method],MATCH(0,IF(CI$1=PTable[2-Test],COUNTIF(CI$1:CI8,PTable[3-Method]), \"\"),0)),\"\")","v":""},{"$f":"IFERROR(INDEX(PTable[3-Method],MATCH(0,IF(CJ$1=PTable[2-Test],COUNTIF(CJ$1:CJ8,PTable[3-Method]), \"\"),0)),\"\")","v":""},{"$f":"IFERROR(INDEX(PTable[3-Method],MATCH(0,IF(CK$1=PTable[2-Test],COUNTIF(CK$1:CK8,PTable[3-Method]), \"\"),0)),\"\")","v":""},{"$f":"IFERROR(INDEX(PTable[3-Method],MATCH(0,IF(CL$1=PTable[2-Test],COUNTIF(CL$1:CL8,PTable[3-Method]), \"\"),0)),\"\")","v":""},{"$f":"IFERROR(INDEX(PTable[3-Method],MATCH(0,IF(CM$1=PTable[2-Test],COUNTIF(CM$1:CM8,PTable[3-Method]), \"\"),0)),\"\")","v":""},{"$f":"IFERROR(INDEX(PTable[3-Method],MATCH(0,IF(CN$1=PTable[2-Test],COUNTIF(CN$1:CN8,PTable[3-Method]), \"\"),0)),\"\")","v":""},{"$f":"IFERROR(INDEX(PTable[3-Method],MATCH(0,IF(CO$1=PTable[2-Test],COUNTIF(CO$1:CO8,PTable[3-Method]), \"\"),0)),\"\")","v":""},{"$f":"IFERROR(INDEX(PTable[3-Method],MATCH(0,IF(CP$1=PTable[2-Test],COUNTIF(CP$1:CP8,PTable[3-Method]), \"\"),0)),\"\")","v":""},{"$f":"IFERROR(INDEX(PTable[3-Method],MATCH(0,IF(CQ$1=PTable[2-Test],COUNTIF(CQ$1:CQ8,PTable[3-Method]), \"\"),0)),\"\")","v":"mSMDPm"},{"$f":"IFERROR(INDEX(PTable[3-Method],MATCH(0,IF(CR$1=PTable[2-Test],COUNTIF(CR$1:CR8,PTable[3-Method]), \"\"),0)),\"\")","v":""},{"$f":"IFERROR(INDEX(PTable[3-Method],MATCH(0,IF(CS$1=PTable[2-Test],COUNTIF(CS$1:CS8,PTable[3-Method]), \"\"),0)),\"\")","v":""},{"$f":"IFERROR(INDEX(PTable[3-Method],MATCH(0,IF(CT$1=PTable[2-Test],COUNTIF(CT$1:CT8,PTable[3-Method]), \"\"),0)),\"\")","v":""},{"$f":"IFERROR(INDEX(PTable[3-Method],MATCH(0,IF(CU$1=PTable[2-Test],COUNTIF(CU$1:CU8,PTable[3-Method]), \"\"),0)),\"\")","v":""},{"$f":"IFERROR(INDEX(PTable[3-Method],MATCH(0,IF(CV$1=PTable[2-Test],COUNTIF(CV$1:CV8,PTable[3-Method]), \"\"),0)),\"\")","v":""},{"$f":"IFERROR(INDEX(PTable[3-Method],MATCH(0,IF(CW$1=PTable[2-Test],COUNTIF(CW$1:CW8,PTable[3-Method]), \"\"),0)),\"\")","v":"mUSPmL"},{"$f":"IFERROR(INDEX(PTable[3-Method],MATCH(0,IF(CX$1=PTable[2-Test],COUNTIF(CX$1:CX8,PTable[3-Method]), \"\"),0)),\"\")","v":""},{"$f":"IFERROR(INDEX(PTable[3-Method],MATCH(0,IF(CY$1=PTable[2-Test],COUNTIF(CY$1:CY8,PTable[3-Method]), \"\"),0)),\"\")","v":""},{"$f":"IFERROR(INDEX(PTable[3-Method],MATCH(0,IF(CZ$1=PTable[2-Test],COUNTIF(CZ$1:CZ8,PTable[3-Method]), \"\"),0)),\"\")","v":""},{"$f":"IFERROR(INDEX(PTable[3-Method],MATCH(0,IF(DA$1=PTable[2-Test],COUNTIF(DA$1:DA8,PTable[3-Method]), \"\"),0)),\"\")","v":""},{"$f":"IFERROR(INDEX(PTable[3-Method],MATCH(0,IF(DB$1=PTable[2-Test],COUNTIF(DB$1:DB8,PTable[3-Method]), \"\"),0)),\"\")","v":""},{"$f":"IFERROR(INDEX(PTable[3-Method],MATCH(0,IF(DC$1=PTable[2-Test],COUNTIF(DC$1:DC8,PTable[3-Method]), \"\"),0)),\"\")","v":""},{"$f":"IFERROR(INDEX(PTable[3-Method],MATCH(0,IF(DD$1=PTable[2-Test],COUNTIF(DD$1:DD8,PTable[3-Method]), \"\"),0)),\"\")","v":""},{"$f":"IFERROR(INDEX(PTable[3-Method],MATCH(0,IF(DE$1=PTable[2-Test],COUNTIF(DE$1:DE8,PTable[3-Method]), \"\"),0)),\"\")","v":""},{"$f":"IFERROR(INDEX(PTable[3-Method],MATCH(0,IF(DF$1=PTable[2-Test],COUNTIF(DF$1:DF8,PTable[3-Method]), \"\"),0)),\"\")","v":""},{"$f":"IFERROR(INDEX(PTable[3-Method],MATCH(0,IF(DG$1=PTable[2-Test],COUNTIF(DG$1:DG8,PTable[3-Method]), \"\"),0)),\"\")","v":""},{"$f":"IFERROR(INDEX(PTable[3-Method],MATCH(0,IF(DH$1=PTable[2-Test],COUNTIF(DH$1:DH8,PTable[3-Method]), \"\"),0)),\"\")","v":""},{"$f":"IFERROR(INDEX(PTable[3-Method],MATCH(0,IF(DI$1=PTable[2-Test],COUNTIF(DI$1:DI8,PTable[3-Method]), \"\"),0)),\"\")","v":""},{"$f":"IFERROR(INDEX(PTable[3-Method],MATCH(0,IF(DJ$1=PTable[2-Test],COUNTIF(DJ$1:DJ8,PTable[3-Method]), \"\"),0)),\"\")","v":"mUSPmL"}]
[null,{"$f":"IFERROR(INDEX(PTable[2-Test],MATCH(0,IF(B$1=PTable[1-Type],COUNTIF(B$1:B9,PTable[2-Test]), \"\"),0)),\"\")","v":"APC55"},{"$f":"IFERROR(INDEX(PTable[2-Test],MATCH(0,IF(C$1=PTable[1-Type],COUNTIF(C$1:C9,PTable[2-Test]), \"\"),0)),\"\")","v":"LM"},{"$f":"IFERROR(INDEX(PTable[2-Test],MATCH(0,IF(D$1=PTable[1-Type],COUNTIF(D$1:D9,PTable[2-Test]), \"\"),0)),\"\")","v":"ExtColor"},{"$f":"IFERROR(INDEX(PTable[2-Test],MATCH(0,IF(E$1=PTable[1-Type],COUNTIF(E$1:E9,PTable[2-Test]), \"\"),0)),\"\")","v":""},{"$f":"IFERROR(INDEX(PTable[2-Test],MATCH(0,IF(F$1=PTable[1-Type],COUNTIF(F$1:F9,PTable[2-Test]), \"\"),0)),\"\")","v":"Gluten"},{"$f":"IFERROR(INDEX(PTable[3-Method],MATCH(0,IF(G$1=PTable[2-Test],COUNTIF(G$1:G9,PTable[3-Method]), \"\"),0)),\"\")","v":""},{"$f":"IFERROR(INDEX(PTable[3-Method],MATCH(0,IF(H$1=PTable[2-Test],COUNTIF(H$1:H9,PTable[3-Method]), \"\"),0)),\"\")","v":""},{"$f":"IFERROR(INDEX(PTable[3-Method],MATCH(0,IF(I$1=PTable[2-Test],COUNTIF(I$1:I9,PTable[3-Method]), \"\"),0)),\"\")","v":""},{"$f":"IFERROR(INDEX(PTable[3-Method],MATCH(0,IF(J$1=PTable[2-Test],COUNTIF(J$1:J9,PTable[3-Method]), \"\"),0)),\"\")","v":""},{"$f":"IFERROR(INDEX(PTable[3-Method],MATCH(0,IF(K$1=PTable[2-Test],COUNTIF(K$1:K9,PTable[3-Method]), \"\"),0)),\"\")","v":""},{"$f":"IFERROR(INDEX(PTable[3-Method],MATCH(0,IF(L$1=PTable[2-Test],COUNTIF(L$1:L9,PTable[3-Method]), \"\"),0)),\"\")","v":""},{"$f":"IFERROR(INDEX(PTable[3-Method],MATCH(0,IF(M$1=PTable[2-Test],COUNTIF(M$1:M9,PTable[3-Method]), \"\"),0)),\"\")","v":""},{"$f":"IFERROR(INDEX(PTable[3-Method],MATCH(0,IF(N$1=PTable[2-Test],COUNTIF(N$1:N9,PTable[3-Method]), \"\"),0)),\"\")","v":""},{"$f":"IFERROR(INDEX(PTable[3-Method],MATCH(0,IF(O$1=PTable[2-Test],COUNTIF(O$1:O9,PTable[3-Method]), \"\"),0)),\"\")","v":""},{"$f":"IFERROR(INDEX(PTable[3-Method],MATCH(0,IF(P$1=PTable[2-Test],COUNTIF(P$1:P9,PTable[3-Method]), \"\"),0)),\"\")","v":""},{"$f":"IFERROR(INDEX(PTable[3-Method],MATCH(0,IF(Q$1=PTable[2-Test],COUNTIF(Q$1:Q9,PTable[3-Method]), \"\"),0)),\"\")","v":""},{"$f":"IFERROR(INDEX(PTable[3-Method],MATCH(0,IF(R$1=PTable[2-Test],COUNTIF(R$1:R9,PTable[3-Method]), \"\"),0)),\"\")","v":""},{"$f":"IFERROR(INDEX(PTable[3-Method],MATCH(0,IF(S$1=PTable[2-Test],COUNTIF(S$1:S9,PTable[3-Method]), \"\"),0)),\"\")","v":""},{"$f":"IFERROR(INDEX(PTable[3-Method],MATCH(0,IF(T$1=PTable[2-Test],COUNTIF(T$1:T9,PTable[3-Method]), \"\"),0)),\"\")","v":""},{"$f":"IFERROR(INDEX(PTable[3-Method],MATCH(0,IF(U$1=PTable[2-Test],COUNTIF(U$1:U9,PTable[3-Method]), \"\"),0)),\"\")","v":""},{"$f":"IFERROR(INDEX(PTable[3-Method],MATCH(0,IF(V$1=PTable[2-Test],COUNTIF(V$1:V9,PTable[3-Method]), \"\"),0)),\"\")","v":""},{"$f":"IFERROR(INDEX(PTable[3-Method],MATCH(0,IF(W$1=PTable[2-Test],COUNTIF(W$1:W9,PTable[3-Method]), \"\"),0)),\"\")","v":""},{"$f":"IFERROR(INDEX(PTable[3-Method],MATCH(0,IF(X$1=PTable[2-Test],COUNTIF(X$1:X9,PTable[3-Method]), \"\"),0)),\"\")","v":""},{"$f":"IFERROR(INDEX(PTable[3-Method],MATCH(0,IF(Y$1=PTable[2-Test],COUNTIF(Y$1:Y9,PTable[3-Method]), \"\"),0)),\"\")","v":""},{"$f":"IFERROR(INDEX(PTable[3-Method],MATCH(0,IF(Z$1=PTable[2-Test],COUNTIF(Z$1:Z9,PTable[3-Method]), \"\"),0)),\"\")","v":""},{"$f":"IFERROR(INDEX(PTable[3-Method],MATCH(0,IF(AA$1=PTable[2-Test],COUNTIF(AA$1:AA9,PTable[3-Method]), \"\"),0)),\"\")","v":""},{"$f":"IFERROR(INDEX(PTable[3-Method],MATCH(0,IF(AB$1=PTable[2-Test],COUNTIF(AB$1:AB9,PTable[3-Method]), \"\"),0)),\"\")","v":""},{"$f":"IFERROR(INDEX(PTable[3-Method],MATCH(0,IF(AC$1=PTable[2-Test],COUNTIF(AC$1:AC9,PTable[3-Method]), \"\"),0)),\"\")","v":""},{"$f":"IFERROR(INDEX(PTable[3-Method],MATCH(0,IF(AD$1=PTable[2-Test],COUNTIF(AD$1:AD9,PTable[3-Method]), \"\"),0)),\"\")","v":""},{"$f":"IFERROR(INDEX(PTable[3-Method],MATCH(0,IF(AE$1=PTable[2-Test],COUNTIF(AE$1:AE9,PTable[3-Method]), \"\"),0)),\"\")","v":""},{"$f":"IFERROR(INDEX(PTable[3-Method],MATCH(0,IF(AF$1=PTable[2-Test],COUNTIF(AF$1:AF9,PTable[3-Method]), \"\"),0)),\"\")","v":""},{"$f":"IFERROR(INDEX(PTable[3-Method],MATCH(0,IF(AG$1=PTable[2-Test],COUNTIF(AG$1:AG9,PTable[3-Method]), \"\"),0)),\"\")","v":""},{"$f":"IFERROR(INDEX(PTable[3-Method],MATCH(0,IF(AH$1=PTable[2-Test],COUNTIF(AH$1:AH9,PTable[3-Method]), \"\"),0)),\"\")","v":""},{"$f":"IFERROR(INDEX(PTable[3-Method],MATCH(0,IF(AI$1=PTable[2-Test],COUNTIF(AI$1:AI9,PTable[3-Method]), \"\"),0)),\"\")","v":""},{"$f":"IFERROR(INDEX(PTable[3-Method],MATCH(0,IF(AJ$1=PTable[2-Test],COUNTIF(AJ$1:AJ9,PTable[3-Method]), \"\"),0)),\"\")","v":""},{"$f":"IFERROR(INDEX(PTable[3-Method],MATCH(0,IF(AK$1=PTable[2-Test],COUNTIF(AK$1:AK9,PTable[3-Method]), \"\"),0)),\"\")","v":""},{"$f":"IFERROR(INDEX(PTable[3-Method],MATCH(0,IF(AL$1=PTable[2-Test],COUNTIF(AL$1:AL9,PTable[3-Method]), \"\"),0)),\"\")","v":""},{"$f":"IFERROR(INDEX(PTable[3-Method],MATCH(0,IF(AM$1=PTable[2-Test],COUNTIF(AM$1:AM9,PTable[3-Method]), \"\"),0)),\"\")","v":""},{"$f":"IFERROR(INDEX(PTable[3-Method],MATCH(0,IF(AN$1=PTable[2-Test],COUNTIF(AN$1:AN9,PTable[3-Method]), \"\"),0)),\"\")","v":""},{"$f":"IFERROR(INDEX(PTable[3-Method],MATCH(0,IF(AO$1=PTable[2-Test],COUNTIF(AO$1:AO9,PTable[3-Method]), \"\"),0)),\"\")","v":""},{"$f":"IFERROR(INDEX(PTable[3-Method],MATCH(0,IF(AP$1=PTable[2-Test],COUNTIF(AP$1:AP9,PTable[3-Method]), \"\"),0)),\"\")","v":""},{"$f":"IFERROR(INDEX(PTable[3-Method],MATCH(0,IF(AQ$1=PTable[2-Test],COUNTIF(AQ$1:AQ9,PTable[3-Method]), \"\"),0)),\"\")","v":""},{"$f":"IFERROR(INDEX(PTable[3-Method],MATCH(0,IF(AR$1=PTable[2-Test],COUNTIF(AR$1:AR9,PTable[3-Method]), \"\"),0)),\"\")","v":""},{"$f":"IFERROR(INDEX(PTable[3-Method],MATCH(0,IF(AS$1=PTable[2-Test],COUNTIF(AS$1:AS9,PTable[3-Method]), \"\"),0)),\"\")","v":""},{"$f":"IFERROR(INDEX(PTable[3-Method],MATCH(0,IF(AT$1=PTable[2-Test],COUNTIF(AT$1:AT9,PTable[3-Method]), \"\"),0)),\"\")","v":""},{"$f":"IFERROR(INDEX(PTable[3-Method],MATCH(0,IF(AU$1=PTable[2-Test],COUNTIF(AU$1:AU9,PTable[3-Method]), \"\"),0)),\"\")","v":""},{"$f":"IFERROR(INDEX(PTable[3-Method],MATCH(0,IF(AV$1=PTable[2-Test],COUNTIF(AV$1:AV9,PTable[3-Method]), \"\"),0)),\"\")","v":""},{"$f":"IFERROR(INDEX(PTable[3-Method],MATCH(0,IF(AW$1=PTable[2-Test],COUNTIF(AW$1:AW9,PTable[3-Method]), \"\"),0)),\"\")","v":""},{"$f":"IFERROR(INDEX(PTable[3-Method],MATCH(0,IF(AX$1=PTable[2-Test],COUNTIF(AX$1:AX9,PTable[3-Method]), \"\"),0)),\"\")","v":""},{"$f":"IFERROR(INDEX(PTable[3-Method],MATCH(0,IF(AY$1=PTable[2-Test],COUNTIF(AY$1:AY9,PTable[3-Method]), \"\"),0)),\"\")","v":""},{"$f":"IFERROR(INDEX(PTable[3-Method],MATCH(0,IF(AZ$1=PTable[2-Test],COUNTIF(AZ$1:AZ9,PTable[3-Method]), \"\"),0)),\"\")","v":""},{"$f":"IFERROR(INDEX(PTable[3-Method],MATCH(0,IF(BA$1=PTable[2-Test],COUNTIF(BA$1:BA9,PTable[3-Method]), \"\"),0)),\"\")","v":""},{"$f":"IFERROR(INDEX(PTable[3-Method],MATCH(0,IF(BB$1=PTable[2-Test],COUNTIF(BB$1:BB9,PTable[3-Method]), \"\"),0)),\"\")","v":""},{"$f":"IFERROR(INDEX(PTable[3-Method],MATCH(0,IF(BC$1=PTable[2-Test],COUNTIF(BC$1:BC9,PTable[3-Method]), \"\"),0)),\"\")","v":""},{"$f":"IFERROR(INDEX(PTable[3-Method],MATCH(0,IF(BD$1=PTable[2-Test],COUNTIF(BD$1:BD9,PTable[3-Method]), \"\"),0)),\"\")","v":""},{"$f":"IFERROR(INDEX(PTable[3-Method],MATCH(0,IF(BE$1=PTable[2-Test],COUNTIF(BE$1:BE9,PTable[3-Method]), \"\"),0)),\"\")","v":""},{"$f":"IFERROR(INDEX(PTable[3-Method],MATCH(0,IF(BF$1=PTable[2-Test],COUNTIF(BF$1:BF9,PTable[3-Method]), \"\"),0)),\"\")","v":""},{"$f":"IFERROR(INDEX(PTable[3-Method],MATCH(0,IF(BG$1=PTable[2-Test],COUNTIF(BG$1:BG9,PTable[3-Method]), \"\"),0)),\"\")","v":""},{"$f":"IFERROR(INDEX(PTable[3-Method],MATCH(0,IF(BH$1=PTable[2-Test],COUNTIF(BH$1:BH9,PTable[3-Method]), \"\"),0)),\"\")","v":""},{"$f":"IFERROR(INDEX(PTable[3-Method],MATCH(0,IF(BI$1=PTable[2-Test],COUNTIF(BI$1:BI9,PTable[3-Method]), \"\"),0)),\"\")","v":""},{"$f":"IFERROR(INDEX(PTable[3-Method],MATCH(0,IF(BJ$1=PTable[2-Test],COUNTIF(BJ$1:BJ9,PTable[3-Method]), \"\"),0)),\"\")","v":""},{"$f":"IFERROR(INDEX(PTable[3-Method],MATCH(0,IF(BK$1=PTable[2-Test],COUNTIF(BK$1:BK9,PTable[3-Method]), \"\"),0)),\"\")","v":""},{"$f":"IFERROR(INDEX(PTable[3-Method],MATCH(0,IF(BL$1=PTable[2-Test],COUNTIF(BL$1:BL9,PTable[3-Method]), \"\"),0)),\"\")","v":"mUS125g"},{"$f":"IFERROR(INDEX(PTable[3-Method],MATCH(0,IF(BM$1=PTable[2-Test],COUNTIF(BM$1:BM9,PTable[3-Method]), \"\"),0)),\"\")","v":"mBX325g"},{"$f":"IFERROR(INDEX(PTable[3-Method],MATCH(0,IF(BN$1=PTable[2-Test],COUNTIF(BN$1:BN9,PTable[3-Method]), \"\"),0)),\"\")","v":"LMmi"},{"$f":"IFERROR(INDEX(PTable[3-Method],MATCH(0,IF(BO$1=PTable[2-Test],COUNTIF(BO$1:BO9,PTable[3-Method]), \"\"),0)),\"\")","v":""},{"$f":"IFERROR(INDEX(PTable[3-Method],MATCH(0,IF(BP$1=PTable[2-Test],COUNTIF(BP$1:BP9,PTable[3-Method]), \"\"),0)),\"\")","v":"mBX375g"},{"$f":"IFERROR(INDEX(PTable[3-Method],MATCH(0,IF(BQ$1=PTable[2-Test],COUNTIF(BQ$1:BQ9,PTable[3-Method]), \"\"),0)),\"\")","v":""},{"$f":"IFERROR(INDEX(PTable[3-Method],MATCH(0,IF(BR$1=PTable[2-Test],COUNTIF(BR$1:BR9,PTable[3-Method]), \"\"),0)),\"\")","v":""},{"$f":"IFERROR(INDEX(PTable[3-Method],MATCH(0,IF(BS$1=PTable[2-Test],COUNTIF(BS$1:BS9,PTable[3-Method]), \"\"),0)),\"\")","v":""},{"$f":"IFERROR(INDEX(PTable[3-Method],MATCH(0,IF(BT$1=PTable[2-Test],COUNTIF(BT$1:BT9,PTable[3-Method]), \"\"),0)),\"\")","v":""},{"$f":"IFERROR(INDEX(PTable[3-Method],MATCH(0,IF(BU$1=PTable[2-Test],COUNTIF(BU$1:BU9,PTable[3-Method]), \"\"),0)),\"\")","v":""},{"$f":"IFERROR(INDEX(PTable[3-Method],MATCH(0,IF(BV$1=PTable[2-Test],COUNTIF(BV$1:BV9,PTable[3-Method]), \"\"),0)),\"\")","v":""},{"$f":"IFERROR(INDEX(PTable[3-Method],MATCH(0,IF(BW$1=PTable[2-Test],COUNTIF(BW$1:BW9,PTable[3-Method]), \"\"),0)),\"\")","v":""},{"$f":"IFERROR(INDEX(PTable[3-Method],MATCH(0,IF(BX$1=PTable[2-Test],COUNTIF(BX$1:BX9,PTable[3-Method]), \"\"),0)),\"\")","v":""},{"$f":"IFERROR(INDEX(PTable[3-Method],MATCH(0,IF(BY$1=PTable[2-Test],COUNTIF(BY$1:BY9,PTable[3-Method]), \"\"),0)),\"\")","v":""},{"$f":"IFERROR(INDEX(PTable[3-Method],MATCH(0,IF(BZ$1=PTable[2-Test],COUNTIF(BZ$1:BZ9,PTable[3-Method]), \"\"),0)),\"\")","v":""},{"$f":"IFERROR(INDEX(PTable[3-Method],MATCH(0,IF(CA$1=PTable[2-Test],COUNTIF(CA$1:CA9,PTable[3-Method]), \"\"),0)),\"\")","v":""},{"$f":"IFERROR(INDEX(PTable[3-Method],MATCH(0,IF(CB$1=PTable[2-Test],COUNTIF(CB$1:CB9,PTable[3-Method]), \"\"),0)),\"\")","v":""},{"$f":"IFERROR(INDEX(PTable[3-Method],MATCH(0,IF(CC$1=PTable[2-Test],COUNTIF(CC$1:CC9,PTable[3-Method]), \"\"),0)),\"\")","v":""},{"$f":"IFERROR(INDEX(PTable[3-Method],MATCH(0,IF(CD$1=PTable[2-Test],COUNTIF(CD$1:CD9,PTable[3-Method]), \"\"),0)),\"\")","v":""},{"$f":"IFERROR(INDEX(PTable[3-Method],MATCH(0,IF(CE$1=PTable[2-Test],COUNTIF(CE$1:CE9,PTable[3-Method]), \"\"),0)),\"\")","v":""},{"$f":"IFERROR(INDEX(PTable[3-Method],MATCH(0,IF(CF$1=PTable[2-Test],COUNTIF(CF$1:CF9,PTable[3-Method]), \"\"),0)),\"\")","v":""},{"$f":"IFERROR(INDEX(PTable[3-Method],MATCH(0,IF(CG$1=PTable[2-Test],COUNTIF(CG$1:CG9,PTable[3-Method]), \"\"),0)),\"\")","v":""},{"$f":"IFERROR(INDEX(PTable[3-Method],MATCH(0,IF(CH$1=PTable[2-Test],COUNTIF(CH$1:CH9,PTable[3-Method]), \"\"),0)),\"\")","v":""},{"$f":"IFERROR(INDEX(PTable[3-Method],MATCH(0,IF(CI$1=PTable[2-Test],COUNTIF(CI$1:CI9,PTable[3-Method]), \"\"),0)),\"\")","v":""},{"$f":"IFERROR(INDEX(PTable[3-Method],MATCH(0,IF(CJ$1=PTable[2-Test],COUNTIF(CJ$1:CJ9,PTable[3-Method]), \"\"),0)),\"\")","v":""},{"$f":"IFERROR(INDEX(PTable[3-Method],MATCH(0,IF(CK$1=PTable[2-Test],COUNTIF(CK$1:CK9,PTable[3-Method]), \"\"),0)),\"\")","v":""},{"$f":"IFERROR(INDEX(PTable[3-Method],MATCH(0,IF(CL$1=PTable[2-Test],COUNTIF(CL$1:CL9,PTable[3-Method]), \"\"),0)),\"\")","v":""},{"$f":"IFERROR(INDEX(PTable[3-Method],MATCH(0,IF(CM$1=PTable[2-Test],COUNTIF(CM$1:CM9,PTable[3-Method]), \"\"),0)),\"\")","v":""},{"$f":"IFERROR(INDEX(PTable[3-Method],MATCH(0,IF(CN$1=PTable[2-Test],COUNTIF(CN$1:CN9,PTable[3-Method]), \"\"),0)),\"\")","v":""},{"$f":"IFERROR(INDEX(PTable[3-Method],MATCH(0,IF(CO$1=PTable[2-Test],COUNTIF(CO$1:CO9,PTable[3-Method]), \"\"),0)),\"\")","v":""},{"$f":"IFERROR(INDEX(PTable[3-Method],MATCH(0,IF(CP$1=PTable[2-Test],COUNTIF(CP$1:CP9,PTable[3-Method]), \"\"),0)),\"\")","v":""},{"$f":"IFERROR(INDEX(PTable[3-Method],MATCH(0,IF(CQ$1=PTable[2-Test],COUNTIF(CQ$1:CQ9,PTable[3-Method]), \"\"),0)),\"\")","v":"mSMWtn"},{"$f":"IFERROR(INDEX(PTable[3-Method],MATCH(0,IF(CR$1=PTable[2-Test],COUNTIF(CR$1:CR9,PTable[3-Method]), \"\"),0)),\"\")","v":""},{"$f":"IFERROR(INDEX(PTable[3-Method],MATCH(0,IF(CS$1=PTable[2-Test],COUNTIF(CS$1:CS9,PTable[3-Method]), \"\"),0)),\"\")","v":""},{"$f":"IFERROR(INDEX(PTable[3-Method],MATCH(0,IF(CT$1=PTable[2-Test],COUNTIF(CT$1:CT9,PTable[3-Method]), \"\"),0)),\"\")","v":""},{"$f":"IFERROR(INDEX(PTable[3-Method],MATCH(0,IF(CU$1=PTable[2-Test],COUNTIF(CU$1:CU9,PTable[3-Method]), \"\"),0)),\"\")","v":""},{"$f":"IFERROR(INDEX(PTable[3-Method],MATCH(0,IF(CV$1=PTable[2-Test],COUNTIF(CV$1:CV9,PTable[3-Method]), \"\"),0)),\"\")","v":""},{"$f":"IFERROR(INDEX(PTable[3-Method],MATCH(0,IF(CW$1=PTable[2-Test],COUNTIF(CW$1:CW9,PTable[3-Method]), \"\"),0)),\"\")","v":""},{"$f":"IFERROR(INDEX(PTable[3-Method],MATCH(0,IF(CX$1=PTable[2-Test],COUNTIF(CX$1:CX9,PTable[3-Method]), \"\"),0)),\"\")","v":""},{"$f":"IFERROR(INDEX(PTable[3-Method],MATCH(0,IF(CY$1=PTable[2-Test],COUNTIF(CY$1:CY9,PTable[3-Method]), \"\"),0)),\"\")","v":""},{"$f":"IFERROR(INDEX(PTable[3-Method],MATCH(0,IF(CZ$1=PTable[2-Test],COUNTIF(CZ$1:CZ9,PTable[3-Method]), \"\"),0)),\"\")","v":""},{"$f":"IFERROR(INDEX(PTable[3-Method],MATCH(0,IF(DA$1=PTable[2-Test],COUNTIF(DA$1:DA9,PTable[3-Method]), \"\"),0)),\"\")","v":""},{"$f":"IFERROR(INDEX(PTable[3-Method],MATCH(0,IF(DB$1=PTable[2-Test],COUNTIF(DB$1:DB9,PTable[3-Method]), \"\"),0)),\"\")","v":""},{"$f":"IFERROR(INDEX(PTable[3-Method],MATCH(0,IF(DC$1=PTable[2-Test],COUNTIF(DC$1:DC9,PTable[3-Method]), \"\"),0)),\"\")","v":""},{"$f":"IFERROR(INDEX(PTable[3-Method],MATCH(0,IF(DD$1=PTable[2-Test],COUNTIF(DD$1:DD9,PTable[3-Method]), \"\"),0)),\"\")","v":""},{"$f":"IFERROR(INDEX(PTable[3-Method],MATCH(0,IF(DE$1=PTable[2-Test],COUNTIF(DE$1:DE9,PTable[3-Method]), \"\"),0)),\"\")","v":""},{"$f":"IFERROR(INDEX(PTable[3-Method],MATCH(0,IF(DF$1=PTable[2-Test],COUNTIF(DF$1:DF9,PTable[3-Method]), \"\"),0)),\"\")","v":""},{"$f":"IFERROR(INDEX(PTable[3-Method],MATCH(0,IF(DG$1=PTable[2-Test],COUNTIF(DG$1:DG9,PTable[3-Method]), \"\"),0)),\"\")","v":""},{"$f":"IFERROR(INDEX(PTable[3-Method],MATCH(0,IF(DH$1=PTable[2-Test],COUNTIF(DH$1:DH9,PTable[3-Method]), \"\"),0)),\"\")","v":""},{"$f":"IFERROR(INDEX(PTable[3-Method],MATCH(0,IF(DI$1=PTable[2-Test],COUNTIF(DI$1:DI9,PTable[3-Method]), \"\"),0)),\"\")","v":""},{"$f":"IFERROR(INDEX(PTable[3-Method],MATCH(0,IF(DJ$1=PTable[2-Test],COUNTIF(DJ$1:DJ9,PTable[3-Method]), \"\"),0)),\"\")","v":""}]
[null,{"$f":"IFERROR(INDEX(PTable[2-Test],MATCH(0,IF(B$1=PTable[1-Type],COUNTIF(B$1:B10,PTable[2-Test]), \"\"),0)),\"\")","v":"APC7"},{"$f":"IFERROR(INDEX(PTable[2-Test],MATCH(0,IF(C$1=PTable[1-Type],COUNTIF(C$1:C10,PTable[2-Test]), \"\"),0)),\"\")","v":"PCT"},{"$f":"IFERROR(INDEX(PTable[2-Test],MATCH(0,IF(D$1=PTable[1-Type],COUNTIF(D$1:D10,PTable[2-Test]), \"\"),0)),\"\")","v":"Fat"},{"$f":"IFERROR(INDEX(PTable[2-Test],MATCH(0,IF(E$1=PTable[1-Type],COUNTIF(E$1:E10,PTable[2-Test]), \"\"),0)),\"\")","v":""},{"$f":"IFERROR(INDEX(PTable[2-Test],MATCH(0,IF(F$1=PTable[1-Type],COUNTIF(F$1:F10,PTable[2-Test]), \"\"),0)),\"\")","v":"Hazel"},{"$f":"IFERROR(INDEX(PTable[3-Method],MATCH(0,IF(G$1=PTable[2-Test],COUNTIF(G$1:G10,PTable[3-Method]), \"\"),0)),\"\")","v":""},{"$f":"IFERROR(INDEX(PTable[3-Method],MATCH(0,IF(H$1=PTable[2-Test],COUNTIF(H$1:H10,PTable[3-Method]), \"\"),0)),\"\")","v":""},{"$f":"IFERROR(INDEX(PTable[3-Method],MATCH(0,IF(I$1=PTable[2-Test],COUNTIF(I$1:I10,PTable[3-Method]), \"\"),0)),\"\")","v":""},{"$f":"IFERROR(INDEX(PTable[3-Method],MATCH(0,IF(J$1=PTable[2-Test],COUNTIF(J$1:J10,PTable[3-Method]), \"\"),0)),\"\")","v":""},{"$f":"IFERROR(INDEX(PTable[3-Method],MATCH(0,IF(K$1=PTable[2-Test],COUNTIF(K$1:K10,PTable[3-Method]), \"\"),0)),\"\")","v":""},{"$f":"IFERROR(INDEX(PTable[3-Method],MATCH(0,IF(L$1=PTable[2-Test],COUNTIF(L$1:L10,PTable[3-Method]), \"\"),0)),\"\")","v":""},{"$f":"IFERROR(INDEX(PTable[3-Method],MATCH(0,IF(M$1=PTable[2-Test],COUNTIF(M$1:M10,PTable[3-Method]), \"\"),0)),\"\")","v":""},{"$f":"IFERROR(INDEX(PTable[3-Method],MATCH(0,IF(N$1=PTable[2-Test],COUNTIF(N$1:N10,PTable[3-Method]), \"\"),0)),\"\")","v":""},{"$f":"IFERROR(INDEX(PTable[3-Method],MATCH(0,IF(O$1=PTable[2-Test],COUNTIF(O$1:O10,PTable[3-Method]), \"\"),0)),\"\")","v":""},{"$f":"IFERROR(INDEX(PTable[3-Method],MATCH(0,IF(P$1=PTable[2-Test],COUNTIF(P$1:P10,PTable[3-Method]), \"\"),0)),\"\")","v":""},{"$f":"IFERROR(INDEX(PTable[3-Method],MATCH(0,IF(Q$1=PTable[2-Test],COUNTIF(Q$1:Q10,PTable[3-Method]), \"\"),0)),\"\")","v":""},{"$f":"IFERROR(INDEX(PTable[3-Method],MATCH(0,IF(R$1=PTable[2-Test],COUNTIF(R$1:R10,PTable[3-Method]), \"\"),0)),\"\")","v":""},{"$f":"IFERROR(INDEX(PTable[3-Method],MATCH(0,IF(S$1=PTable[2-Test],COUNTIF(S$1:S10,PTable[3-Method]), \"\"),0)),\"\")","v":""},{"$f":"IFERROR(INDEX(PTable[3-Method],MATCH(0,IF(T$1=PTable[2-Test],COUNTIF(T$1:T10,PTable[3-Method]), \"\"),0)),\"\")","v":""},{"$f":"IFERROR(INDEX(PTable[3-Method],MATCH(0,IF(U$1=PTable[2-Test],COUNTIF(U$1:U10,PTable[3-Method]), \"\"),0)),\"\")","v":""},{"$f":"IFERROR(INDEX(PTable[3-Method],MATCH(0,IF(V$1=PTable[2-Test],COUNTIF(V$1:V10,PTable[3-Method]), \"\"),0)),\"\")","v":""},{"$f":"IFERROR(INDEX(PTable[3-Method],MATCH(0,IF(W$1=PTable[2-Test],COUNTIF(W$1:W10,PTable[3-Method]), \"\"),0)),\"\")","v":""},{"$f":"IFERROR(INDEX(PTable[3-Method],MATCH(0,IF(X$1=PTable[2-Test],COUNTIF(X$1:X10,PTable[3-Method]), \"\"),0)),\"\")","v":""},{"$f":"IFERROR(INDEX(PTable[3-Method],MATCH(0,IF(Y$1=PTable[2-Test],COUNTIF(Y$1:Y10,PTable[3-Method]), \"\"),0)),\"\")","v":""},{"$f":"IFERROR(INDEX(PTable[3-Method],MATCH(0,IF(Z$1=PTable[2-Test],COUNTIF(Z$1:Z10,PTable[3-Method]), \"\"),0)),\"\")","v":""},{"$f":"IFERROR(INDEX(PTable[3-Method],MATCH(0,IF(AA$1=PTable[2-Test],COUNTIF(AA$1:AA10,PTable[3-Method]), \"\"),0)),\"\")","v":""},{"$f":"IFERROR(INDEX(PTable[3-Method],MATCH(0,IF(AB$1=PTable[2-Test],COUNTIF(AB$1:AB10,PTable[3-Method]), \"\"),0)),\"\")","v":""},{"$f":"IFERROR(INDEX(PTable[3-Method],MATCH(0,IF(AC$1=PTable[2-Test],COUNTIF(AC$1:AC10,PTable[3-Method]), \"\"),0)),\"\")","v":""},{"$f":"IFERROR(INDEX(PTable[3-Method],MATCH(0,IF(AD$1=PTable[2-Test],COUNTIF(AD$1:AD10,PTable[3-Method]), \"\"),0)),\"\")","v":""},{"$f":"IFERROR(INDEX(PTable[3-Method],MATCH(0,IF(AE$1=PTable[2-Test],COUNTIF(AE$1:AE10,PTable[3-Method]), \"\"),0)),\"\")","v":""},{"$f":"IFERROR(INDEX(PTable[3-Method],MATCH(0,IF(AF$1=PTable[2-Test],COUNTIF(AF$1:AF10,PTable[3-Method]), \"\"),0)),\"\")","v":""},{"$f":"IFERROR(INDEX(PTable[3-Method],MATCH(0,IF(AG$1=PTable[2-Test],COUNTIF(AG$1:AG10,PTable[3-Method]), \"\"),0)),\"\")","v":""},{"$f":"IFERROR(INDEX(PTable[3-Method],MATCH(0,IF(AH$1=PTable[2-Test],COUNTIF(AH$1:AH10,PTable[3-Method]), \"\"),0)),\"\")","v":""},{"$f":"IFERROR(INDEX(PTable[3-Method],MATCH(0,IF(AI$1=PTable[2-Test],COUNTIF(AI$1:AI10,PTable[3-Method]), \"\"),0)),\"\")","v":""},{"$f":"IFERROR(INDEX(PTable[3-Method],MATCH(0,IF(AJ$1=PTable[2-Test],COUNTIF(AJ$1:AJ10,PTable[3-Method]), \"\"),0)),\"\")","v":""},{"$f":"IFERROR(INDEX(PTable[3-Method],MATCH(0,IF(AK$1=PTable[2-Test],COUNTIF(AK$1:AK10,PTable[3-Method]), \"\"),0)),\"\")","v":""},{"$f":"IFERROR(INDEX(PTable[3-Method],MATCH(0,IF(AL$1=PTable[2-Test],COUNTIF(AL$1:AL10,PTable[3-Method]), \"\"),0)),\"\")","v":""},{"$f":"IFERROR(INDEX(PTable[3-Method],MATCH(0,IF(AM$1=PTable[2-Test],COUNTIF(AM$1:AM10,PTable[3-Method]), \"\"),0)),\"\")","v":""},{"$f":"IFERROR(INDEX(PTable[3-Method],MATCH(0,IF(AN$1=PTable[2-Test],COUNTIF(AN$1:AN10,PTable[3-Method]), \"\"),0)),\"\")","v":""},{"$f":"IFERROR(INDEX(PTable[3-Method],MATCH(0,IF(AO$1=PTable[2-Test],COUNTIF(AO$1:AO10,PTable[3-Method]), \"\"),0)),\"\")","v":""},{"$f":"IFERROR(INDEX(PTable[3-Method],MATCH(0,IF(AP$1=PTable[2-Test],COUNTIF(AP$1:AP10,PTable[3-Method]), \"\"),0)),\"\")","v":""},{"$f":"IFERROR(INDEX(PTable[3-Method],MATCH(0,IF(AQ$1=PTable[2-Test],COUNTIF(AQ$1:AQ10,PTable[3-Method]), \"\"),0)),\"\")","v":""},{"$f":"IFERROR(INDEX(PTable[3-Method],MATCH(0,IF(AR$1=PTable[2-Test],COUNTIF(AR$1:AR10,PTable[3-Method]), \"\"),0)),\"\")","v":""},{"$f":"IFERROR(INDEX(PTable[3-Method],MATCH(0,IF(AS$1=PTable[2-Test],COUNTIF(AS$1:AS10,PTable[3-Method]), \"\"),0)),\"\")","v":""},{"$f":"IFERROR(INDEX(PTable[3-Method],MATCH(0,IF(AT$1=PTable[2-Test],COUNTIF(AT$1:AT10,PTable[3-Method]), \"\"),0)),\"\")","v":""},{"$f":"IFERROR(INDEX(PTable[3-Method],MATCH(0,IF(AU$1=PTable[2-Test],COUNTIF(AU$1:AU10,PTable[3-Method]), \"\"),0)),\"\")","v":""},{"$f":"IFERROR(INDEX(PTable[3-Method],MATCH(0,IF(AV$1=PTable[2-Test],COUNTIF(AV$1:AV10,PTable[3-Method]), \"\"),0)),\"\")","v":""},{"$f":"IFERROR(INDEX(PTable[3-Method],MATCH(0,IF(AW$1=PTable[2-Test],COUNTIF(AW$1:AW10,PTable[3-Method]), \"\"),0)),\"\")","v":""},{"$f":"IFERROR(INDEX(PTable[3-Method],MATCH(0,IF(AX$1=PTable[2-Test],COUNTIF(AX$1:AX10,PTable[3-Method]), \"\"),0)),\"\")","v":""},{"$f":"IFERROR(INDEX(PTable[3-Method],MATCH(0,IF(AY$1=PTable[2-Test],COUNTIF(AY$1:AY10,PTable[3-Method]), \"\"),0)),\"\")","v":""},{"$f":"IFERROR(INDEX(PTable[3-Method],MATCH(0,IF(AZ$1=PTable[2-Test],COUNTIF(AZ$1:AZ10,PTable[3-Method]), \"\"),0)),\"\")","v":""},{"$f":"IFERROR(INDEX(PTable[3-Method],MATCH(0,IF(BA$1=PTable[2-Test],COUNTIF(BA$1:BA10,PTable[3-Method]), \"\"),0)),\"\")","v":""},{"$f":"IFERROR(INDEX(PTable[3-Method],MATCH(0,IF(BB$1=PTable[2-Test],COUNTIF(BB$1:BB10,PTable[3-Method]), \"\"),0)),\"\")","v":""},{"$f":"IFERROR(INDEX(PTable[3-Method],MATCH(0,IF(BC$1=PTable[2-Test],COUNTIF(BC$1:BC10,PTable[3-Method]), \"\"),0)),\"\")","v":""},{"$f":"IFERROR(INDEX(PTable[3-Method],MATCH(0,IF(BD$1=PTable[2-Test],COUNTIF(BD$1:BD10,PTable[3-Method]), \"\"),0)),\"\")","v":""},{"$f":"IFERROR(INDEX(PTable[3-Method],MATCH(0,IF(BE$1=PTable[2-Test],COUNTIF(BE$1:BE10,PTable[3-Method]), \"\"),0)),\"\")","v":""},{"$f":"IFERROR(INDEX(PTable[3-Method],MATCH(0,IF(BF$1=PTable[2-Test],COUNTIF(BF$1:BF10,PTable[3-Method]), \"\"),0)),\"\")","v":""},{"$f":"IFERROR(INDEX(PTable[3-Method],MATCH(0,IF(BG$1=PTable[2-Test],COUNTIF(BG$1:BG10,PTable[3-Method]), \"\"),0)),\"\")","v":""},{"$f":"IFERROR(INDEX(PTable[3-Method],MATCH(0,IF(BH$1=PTable[2-Test],COUNTIF(BH$1:BH10,PTable[3-Method]), \"\"),0)),\"\")","v":""},{"$f":"IFERROR(INDEX(PTable[3-Method],MATCH(0,IF(BI$1=PTable[2-Test],COUNTIF(BI$1:BI10,PTable[3-Method]), \"\"),0)),\"\")","v":""},{"$f":"IFERROR(INDEX(PTable[3-Method],MATCH(0,IF(BJ$1=PTable[2-Test],COUNTIF(BJ$1:BJ10,PTable[3-Method]), \"\"),0)),\"\")","v":""},{"$f":"IFERROR(INDEX(PTable[3-Method],MATCH(0,IF(BK$1=PTable[2-Test],COUNTIF(BK$1:BK10,PTable[3-Method]), \"\"),0)),\"\")","v":""},{"$f":"IFERROR(INDEX(PTable[3-Method],MATCH(0,IF(BL$1=PTable[2-Test],COUNTIF(BL$1:BL10,PTable[3-Method]), \"\"),0)),\"\")","v":"mUS25g"},{"$f":"IFERROR(INDEX(PTable[3-Method],MATCH(0,IF(BM$1=PTable[2-Test],COUNTIF(BM$1:BM10,PTable[3-Method]), \"\"),0)),\"\")","v":"mBXsam"},{"$f":"IFERROR(INDEX(PTable[3-Method],MATCH(0,IF(BN$1=PTable[2-Test],COUNTIF(BN$1:BN10,PTable[3-Method]), \"\"),0)),\"\")","v":"SALmi"},{"$f":"IFERROR(INDEX(PTable[3-Method],MATCH(0,IF(BO$1=PTable[2-Test],COUNTIF(BO$1:BO10,PTable[3-Method]), \"\"),0)),\"\")","v":""},{"$f":"IFERROR(INDEX(PTable[3-Method],MATCH(0,IF(BP$1=PTable[2-Test],COUNTIF(BP$1:BP10,PTable[3-Method]), \"\"),0)),\"\")","v":"mBX75g"},{"$f":"IFERROR(INDEX(PTable[3-Method],MATCH(0,IF(BQ$1=PTable[2-Test],COUNTIF(BQ$1:BQ10,PTable[3-Method]), \"\"),0)),\"\")","v":""},{"$f":"IFERROR(INDEX(PTable[3-Method],MATCH(0,IF(BR$1=PTable[2-Test],COUNTIF(BR$1:BR10,PTable[3-Method]), \"\"),0)),\"\")","v":""},{"$f":"IFERROR(INDEX(PTable[3-Method],MATCH(0,IF(BS$1=PTable[2-Test],COUNTIF(BS$1:BS10,PTable[3-Method]), \"\"),0)),\"\")","v":""},{"$f":"IFERROR(INDEX(PTable[3-Method],MATCH(0,IF(BT$1=PTable[2-Test],COUNTIF(BT$1:BT10,PTable[3-Method]), \"\"),0)),\"\")","v":""},{"$f":"IFERROR(INDEX(PTable[3-Method],MATCH(0,IF(BU$1=PTable[2-Test],COUNTIF(BU$1:BU10,PTable[3-Method]), \"\"),0)),\"\")","v":""},{"$f":"IFERROR(INDEX(PTable[3-Method],MATCH(0,IF(BV$1=PTable[2-Test],COUNTIF(BV$1:BV10,PTable[3-Method]), \"\"),0)),\"\")","v":""},{"$f":"IFERROR(INDEX(PTable[3-Method],MATCH(0,IF(BW$1=PTable[2-Test],COUNTIF(BW$1:BW10,PTable[3-Method]), \"\"),0)),\"\")","v":""},{"$f":"IFERROR(INDEX(PTable[3-Method],MATCH(0,IF(BX$1=PTable[2-Test],COUNTIF(BX$1:BX10,PTable[3-Method]), \"\"),0)),\"\")","v":""},{"$f":"IFERROR(INDEX(PTable[3-Method],MATCH(0,IF(BY$1=PTable[2-Test],COUNTIF(BY$1:BY10,PTable[3-Method]), \"\"),0)),\"\")","v":""},{"$f":"IFERROR(INDEX(PTable[3-Method],MATCH(0,IF(BZ$1=PTable[2-Test],COUNTIF(BZ$1:BZ10,PTable[3-Method]), \"\"),0)),\"\")","v":""},{"$f":"IFERROR(INDEX(PTable[3-Method],MATCH(0,IF(CA$1=PTable[2-Test],COUNTIF(CA$1:CA10,PTable[3-Method]), \"\"),0)),\"\")","v":""},{"$f":"IFERROR(INDEX(PTable[3-Method],MATCH(0,IF(CB$1=PTable[2-Test],COUNTIF(CB$1:CB10,PTable[3-Method]), \"\"),0)),\"\")","v":""},{"$f":"IFERROR(INDEX(PTable[3-Method],MATCH(0,IF(CC$1=PTable[2-Test],COUNTIF(CC$1:CC10,PTable[3-Method]), \"\"),0)),\"\")","v":""},{"$f":"IFERROR(INDEX(PTable[3-Method],MATCH(0,IF(CD$1=PTable[2-Test],COUNTIF(CD$1:CD10,PTable[3-Method]), \"\"),0)),\"\")","v":""},{"$f":"IFERROR(INDEX(PTable[3-Method],MATCH(0,IF(CE$1=PTable[2-Test],COUNTIF(CE$1:CE10,PTable[3-Method]), \"\"),0)),\"\")","v":""},{"$f":"IFERROR(INDEX(PTable[3-Method],MATCH(0,IF(CF$1=PTable[2-Test],COUNTIF(CF$1:CF10,PTable[3-Method]), \"\"),0)),\"\")","v":""},{"$f":"IFERROR(INDEX(PTable[3-Method],MATCH(0,IF(CG$1=PTable[2-Test],COUNTIF(CG$1:CG10,PTable[3-Method]), \"\"),0)),\"\")","v":""},{"$f":"IFERROR(INDEX(PTable[3-Method],MATCH(0,IF(CH$1=PTable[2-Test],COUNTIF(CH$1:CH10,PTable[3-Method]), \"\"),0)),\"\")","v":""},{"$f":"IFERROR(INDEX(PTable[3-Method],MATCH(0,IF(CI$1=PTable[2-Test],COUNTIF(CI$1:CI10,PTable[3-Method]), \"\"),0)),\"\")","v":""},{"$f":"IFERROR(INDEX(PTable[3-Method],MATCH(0,IF(CJ$1=PTable[2-Test],COUNTIF(CJ$1:CJ10,PTable[3-Method]), \"\"),0)),\"\")","v":""},{"$f":"IFERROR(INDEX(PTable[3-Method],MATCH(0,IF(CK$1=PTable[2-Test],COUNTIF(CK$1:CK10,PTable[3-Method]), \"\"),0)),\"\")","v":""},{"$f":"IFERROR(INDEX(PTable[3-Method],MATCH(0,IF(CL$1=PTable[2-Test],COUNTIF(CL$1:CL10,PTable[3-Method]), \"\"),0)),\"\")","v":""},{"$f":"IFERROR(INDEX(PTable[3-Method],MATCH(0,IF(CM$1=PTable[2-Test],COUNTIF(CM$1:CM10,PTable[3-Method]), \"\"),0)),\"\")","v":""},{"$f":"IFERROR(INDEX(PTable[3-Method],MATCH(0,IF(CN$1=PTable[2-Test],COUNTIF(CN$1:CN10,PTable[3-Method]), \"\"),0)),\"\")","v":""},{"$f":"IFERROR(INDEX(PTable[3-Method],MATCH(0,IF(CO$1=PTable[2-Test],COUNTIF(CO$1:CO10,PTable[3-Method]), \"\"),0)),\"\")","v":""},{"$f":"IFERROR(INDEX(PTable[3-Method],MATCH(0,IF(CP$1=PTable[2-Test],COUNTIF(CP$1:CP10,PTable[3-Method]), \"\"),0)),\"\")","v":""},{"$f":"IFERROR(INDEX(PTable[3-Method],MATCH(0,IF(CQ$1=PTable[2-Test],COUNTIF(CQ$1:CQ10,PTable[3-Method]), \"\"),0)),\"\")","v":""},{"$f":"IFERROR(INDEX(PTable[3-Method],MATCH(0,IF(CR$1=PTable[2-Test],COUNTIF(CR$1:CR10,PTable[3-Method]), \"\"),0)),\"\")","v":""},{"$f":"IFERROR(INDEX(PTable[3-Method],MATCH(0,IF(CS$1=PTable[2-Test],COUNTIF(CS$1:CS10,PTable[3-Method]), \"\"),0)),\"\")","v":""},{"$f":"IFERROR(INDEX(PTable[3-Method],MATCH(0,IF(CT$1=PTable[2-Test],COUNTIF(CT$1:CT10,PTable[3-Method]), \"\"),0)),\"\")","v":""},{"$f":"IFERROR(INDEX(PTable[3-Method],MATCH(0,IF(CU$1=PTable[2-Test],COUNTIF(CU$1:CU10,PTable[3-Method]), \"\"),0)),\"\")","v":""},{"$f":"IFERROR(INDEX(PTable[3-Method],MATCH(0,IF(CV$1=PTable[2-Test],COUNTIF(CV$1:CV10,PTable[3-Method]), \"\"),0)),\"\")","v":""},{"$f":"IFERROR(INDEX(PTable[3-Method],MATCH(0,IF(CW$1=PTable[2-Test],COUNTIF(CW$1:CW10,PTable[3-Method]), \"\"),0)),\"\")","v":""},{"$f":"IFERROR(INDEX(PTable[3-Method],MATCH(0,IF(CX$1=PTable[2-Test],COUNTIF(CX$1:CX10,PTable[3-Method]), \"\"),0)),\"\")","v":""},{"$f":"IFERROR(INDEX(PTable[3-Method],MATCH(0,IF(CY$1=PTable[2-Test],COUNTIF(CY$1:CY10,PTable[3-Method]), \"\"),0)),\"\")","v":""},{"$f":"IFERROR(INDEX(PTable[3-Method],MATCH(0,IF(CZ$1=PTable[2-Test],COUNTIF(CZ$1:CZ10,PTable[3-Method]), \"\"),0)),\"\")","v":""},{"$f":"IFERROR(INDEX(PTable[3-Method],MATCH(0,IF(DA$1=PTable[2-Test],COUNTIF(DA$1:DA10,PTable[3-Method]), \"\"),0)),\"\")","v":""},{"$f":"IFERROR(INDEX(PTable[3-Method],MATCH(0,IF(DB$1=PTable[2-Test],COUNTIF(DB$1:DB10,PTable[3-Method]), \"\"),0)),\"\")","v":""},{"$f":"IFERROR(INDEX(PTable[3-Method],MATCH(0,IF(DC$1=PTable[2-Test],COUNTIF(DC$1:DC10,PTable[3-Method]), \"\"),0)),\"\")","v":""},{"$f":"IFERROR(INDEX(PTable[3-Method],MATCH(0,IF(DD$1=PTable[2-Test],COUNTIF(DD$1:DD10,PTable[3-Method]), \"\"),0)),\"\")","v":""},{"$f":"IFERROR(INDEX(PTable[3-Method],MATCH(0,IF(DE$1=PTable[2-Test],COUNTIF(DE$1:DE10,PTable[3-Method]), \"\"),0)),\"\")","v":""},{"$f":"IFERROR(INDEX(PTable[3-Method],MATCH(0,IF(DF$1=PTable[2-Test],COUNTIF(DF$1:DF10,PTable[3-Method]), \"\"),0)),\"\")","v":""},{"$f":"IFERROR(INDEX(PTable[3-Method],MATCH(0,IF(DG$1=PTable[2-Test],COUNTIF(DG$1:DG10,PTable[3-Method]), \"\"),0)),\"\")","v":""},{"$f":"IFERROR(INDEX(PTable[3-Method],MATCH(0,IF(DH$1=PTable[2-Test],COUNTIF(DH$1:DH10,PTable[3-Method]), \"\"),0)),\"\")","v":""},{"$f":"IFERROR(INDEX(PTable[3-Method],MATCH(0,IF(DI$1=PTable[2-Test],COUNTIF(DI$1:DI10,PTable[3-Method]), \"\"),0)),\"\")","v":""},{"$f":"IFERROR(INDEX(PTable[3-Method],MATCH(0,IF(DJ$1=PTable[2-Test],COUNTIF(DJ$1:DJ10,PTable[3-Method]), \"\"),0)),\"\")","v":""}]
[null,{"$f":"IFERROR(INDEX(PTable[2-Test],MATCH(0,IF(B$1=PTable[1-Type],COUNTIF(B$1:B11,PTable[2-Test]), \"\"),0)),\"\")","v":"APRM"},{"$f":"IFERROR(INDEX(PTable[2-Test],MATCH(0,IF(C$1=PTable[1-Type],COUNTIF(C$1:C11,PTable[2-Test]), \"\"),0)),\"\")","v":"Pseudo.a"},{"$f":"IFERROR(INDEX(PTable[2-Test],MATCH(0,IF(D$1=PTable[1-Type],COUNTIF(D$1:D11,PTable[2-Test]), \"\"),0)),\"\")","v":"FFA"},{"$f":"IFERROR(INDEX(PTable[2-Test],MATCH(0,IF(E$1=PTable[1-Type],COUNTIF(E$1:E11,PTable[2-Test]), \"\"),0)),\"\")","v":""},{"$f":"IFERROR(INDEX(PTable[2-Test],MATCH(0,IF(F$1=PTable[1-Type],COUNTIF(F$1:F11,PTable[2-Test]), \"\"),0)),\"\")","v":"Macadmi"},{"$f":"IFERROR(INDEX(PTable[3-Method],MATCH(0,IF(G$1=PTable[2-Test],COUNTIF(G$1:G11,PTable[3-Method]), \"\"),0)),\"\")","v":""},{"$f":"IFERROR(INDEX(PTable[3-Method],MATCH(0,IF(H$1=PTable[2-Test],COUNTIF(H$1:H11,PTable[3-Method]), \"\"),0)),\"\")","v":""},{"$f":"IFERROR(INDEX(PTable[3-Method],MATCH(0,IF(I$1=PTable[2-Test],COUNTIF(I$1:I11,PTable[3-Method]), \"\"),0)),\"\")","v":""},{"$f":"IFERROR(INDEX(PTable[3-Method],MATCH(0,IF(J$1=PTable[2-Test],COUNTIF(J$1:J11,PTable[3-Method]), \"\"),0)),\"\")","v":""},{"$f":"IFERROR(INDEX(PTable[3-Method],MATCH(0,IF(K$1=PTable[2-Test],COUNTIF(K$1:K11,PTable[3-Method]), \"\"),0)),\"\")","v":""},{"$f":"IFERROR(INDEX(PTable[3-Method],MATCH(0,IF(L$1=PTable[2-Test],COUNTIF(L$1:L11,PTable[3-Method]), \"\"),0)),\"\")","v":""},{"$f":"IFERROR(INDEX(PTable[3-Method],MATCH(0,IF(M$1=PTable[2-Test],COUNTIF(M$1:M11,PTable[3-Method]), \"\"),0)),\"\")","v":""},{"$f":"IFERROR(INDEX(PTable[3-Method],MATCH(0,IF(N$1=PTable[2-Test],COUNTIF(N$1:N11,PTable[3-Method]), \"\"),0)),\"\")","v":""},{"$f":"IFERROR(INDEX(PTable[3-Method],MATCH(0,IF(O$1=PTable[2-Test],COUNTIF(O$1:O11,PTable[3-Method]), \"\"),0)),\"\")","v":""},{"$f":"IFERROR(INDEX(PTable[3-Method],MATCH(0,IF(P$1=PTable[2-Test],COUNTIF(P$1:P11,PTable[3-Method]), \"\"),0)),\"\")","v":""},{"$f":"IFERROR(INDEX(PTable[3-Method],MATCH(0,IF(Q$1=PTable[2-Test],COUNTIF(Q$1:Q11,PTable[3-Method]), \"\"),0)),\"\")","v":""},{"$f":"IFERROR(INDEX(PTable[3-Method],MATCH(0,IF(R$1=PTable[2-Test],COUNTIF(R$1:R11,PTable[3-Method]), \"\"),0)),\"\")","v":""},{"$f":"IFERROR(INDEX(PTable[3-Method],MATCH(0,IF(S$1=PTable[2-Test],COUNTIF(S$1:S11,PTable[3-Method]), \"\"),0)),\"\")","v":""},{"$f":"IFERROR(INDEX(PTable[3-Method],MATCH(0,IF(T$1=PTable[2-Test],COUNTIF(T$1:T11,PTable[3-Method]), \"\"),0)),\"\")","v":""},{"$f":"IFERROR(INDEX(PTable[3-Method],MATCH(0,IF(U$1=PTable[2-Test],COUNTIF(U$1:U11,PTable[3-Method]), \"\"),0)),\"\")","v":""},{"$f":"IFERROR(INDEX(PTable[3-Method],MATCH(0,IF(V$1=PTable[2-Test],COUNTIF(V$1:V11,PTable[3-Method]), \"\"),0)),\"\")","v":""},{"$f":"IFERROR(INDEX(PTable[3-Method],MATCH(0,IF(W$1=PTable[2-Test],COUNTIF(W$1:W11,PTable[3-Method]), \"\"),0)),\"\")","v":""},{"$f":"IFERROR(INDEX(PTable[3-Method],MATCH(0,IF(X$1=PTable[2-Test],COUNTIF(X$1:X11,PTable[3-Method]), \"\"),0)),\"\")","v":""},{"$f":"IFERROR(INDEX(PTable[3-Method],MATCH(0,IF(Y$1=PTable[2-Test],COUNTIF(Y$1:Y11,PTable[3-Method]), \"\"),0)),\"\")","v":""},{"$f":"IFERROR(INDEX(PTable[3-Method],MATCH(0,IF(Z$1=PTable[2-Test],COUNTIF(Z$1:Z11,PTable[3-Method]), \"\"),0)),\"\")","v":""},{"$f":"IFERROR(INDEX(PTable[3-Method],MATCH(0,IF(AA$1=PTable[2-Test],COUNTIF(AA$1:AA11,PTable[3-Method]), \"\"),0)),\"\")","v":""},{"$f":"IFERROR(INDEX(PTable[3-Method],MATCH(0,IF(AB$1=PTable[2-Test],COUNTIF(AB$1:AB11,PTable[3-Method]), \"\"),0)),\"\")","v":""},{"$f":"IFERROR(INDEX(PTable[3-Method],MATCH(0,IF(AC$1=PTable[2-Test],COUNTIF(AC$1:AC11,PTable[3-Method]), \"\"),0)),\"\")","v":""},{"$f":"IFERROR(INDEX(PTable[3-Method],MATCH(0,IF(AD$1=PTable[2-Test],COUNTIF(AD$1:AD11,PTable[3-Method]), \"\"),0)),\"\")","v":""},{"$f":"IFERROR(INDEX(PTable[3-Method],MATCH(0,IF(AE$1=PTable[2-Test],COUNTIF(AE$1:AE11,PTable[3-Method]), \"\"),0)),\"\")","v":""},{"$f":"IFERROR(INDEX(PTable[3-Method],MATCH(0,IF(AF$1=PTable[2-Test],COUNTIF(AF$1:AF11,PTable[3-Method]), \"\"),0)),\"\")","v":""},{"$f":"IFERROR(INDEX(PTable[3-Method],MATCH(0,IF(AG$1=PTable[2-Test],COUNTIF(AG$1:AG11,PTable[3-Method]), \"\"),0)),\"\")","v":""},{"$f":"IFERROR(INDEX(PTable[3-Method],MATCH(0,IF(AH$1=PTable[2-Test],COUNTIF(AH$1:AH11,PTable[3-Method]), \"\"),0)),\"\")","v":""},{"$f":"IFERROR(INDEX(PTable[3-Method],MATCH(0,IF(AI$1=PTable[2-Test],COUNTIF(AI$1:AI11,PTable[3-Method]), \"\"),0)),\"\")","v":""},{"$f":"IFERROR(INDEX(PTable[3-Method],MATCH(0,IF(AJ$1=PTable[2-Test],COUNTIF(AJ$1:AJ11,PTable[3-Method]), \"\"),0)),\"\")","v":""},{"$f":"IFERROR(INDEX(PTable[3-Method],MATCH(0,IF(AK$1=PTable[2-Test],COUNTIF(AK$1:AK11,PTable[3-Method]), \"\"),0)),\"\")","v":""},{"$f":"IFERROR(INDEX(PTable[3-Method],MATCH(0,IF(AL$1=PTable[2-Test],COUNTIF(AL$1:AL11,PTable[3-Method]), \"\"),0)),\"\")","v":""},{"$f":"IFERROR(INDEX(PTable[3-Method],MATCH(0,IF(AM$1=PTable[2-Test],COUNTIF(AM$1:AM11,PTable[3-Method]), \"\"),0)),\"\")","v":""},{"$f":"IFERROR(INDEX(PTable[3-Method],MATCH(0,IF(AN$1=PTable[2-Test],COUNTIF(AN$1:AN11,PTable[3-Method]), \"\"),0)),\"\")","v":""},{"$f":"IFERROR(INDEX(PTable[3-Method],MATCH(0,IF(AO$1=PTable[2-Test],COUNTIF(AO$1:AO11,PTable[3-Method]), \"\"),0)),\"\")","v":""},{"$f":"IFERROR(INDEX(PTable[3-Method],MATCH(0,IF(AP$1=PTable[2-Test],COUNTIF(AP$1:AP11,PTable[3-Method]), \"\"),0)),\"\")","v":""},{"$f":"IFERROR(INDEX(PTable[3-Method],MATCH(0,IF(AQ$1=PTable[2-Test],COUNTIF(AQ$1:AQ11,PTable[3-Method]), \"\"),0)),\"\")","v":""},{"$f":"IFERROR(INDEX(PTable[3-Method],MATCH(0,IF(AR$1=PTable[2-Test],COUNTIF(AR$1:AR11,PTable[3-Method]), \"\"),0)),\"\")","v":""},{"$f":"IFERROR(INDEX(PTable[3-Method],MATCH(0,IF(AS$1=PTable[2-Test],COUNTIF(AS$1:AS11,PTable[3-Method]), \"\"),0)),\"\")","v":""},{"$f":"IFERROR(INDEX(PTable[3-Method],MATCH(0,IF(AT$1=PTable[2-Test],COUNTIF(AT$1:AT11,PTable[3-Method]), \"\"),0)),\"\")","v":""},{"$f":"IFERROR(INDEX(PTable[3-Method],MATCH(0,IF(AU$1=PTable[2-Test],COUNTIF(AU$1:AU11,PTable[3-Method]), \"\"),0)),\"\")","v":""},{"$f":"IFERROR(INDEX(PTable[3-Method],MATCH(0,IF(AV$1=PTable[2-Test],COUNTIF(AV$1:AV11,PTable[3-Method]), \"\"),0)),\"\")","v":""},{"$f":"IFERROR(INDEX(PTable[3-Method],MATCH(0,IF(AW$1=PTable[2-Test],COUNTIF(AW$1:AW11,PTable[3-Method]), \"\"),0)),\"\")","v":""},{"$f":"IFERROR(INDEX(PTable[3-Method],MATCH(0,IF(AX$1=PTable[2-Test],COUNTIF(AX$1:AX11,PTable[3-Method]), \"\"),0)),\"\")","v":""},{"$f":"IFERROR(INDEX(PTable[3-Method],MATCH(0,IF(AY$1=PTable[2-Test],COUNTIF(AY$1:AY11,PTable[3-Method]), \"\"),0)),\"\")","v":""},{"$f":"IFERROR(INDEX(PTable[3-Method],MATCH(0,IF(AZ$1=PTable[2-Test],COUNTIF(AZ$1:AZ11,PTable[3-Method]), \"\"),0)),\"\")","v":""},{"$f":"IFERROR(INDEX(PTable[3-Method],MATCH(0,IF(BA$1=PTable[2-Test],COUNTIF(BA$1:BA11,PTable[3-Method]), \"\"),0)),\"\")","v":""},{"$f":"IFERROR(INDEX(PTable[3-Method],MATCH(0,IF(BB$1=PTable[2-Test],COUNTIF(BB$1:BB11,PTable[3-Method]), \"\"),0)),\"\")","v":""},{"$f":"IFERROR(INDEX(PTable[3-Method],MATCH(0,IF(BC$1=PTable[2-Test],COUNTIF(BC$1:BC11,PTable[3-Method]), \"\"),0)),\"\")","v":""},{"$f":"IFERROR(INDEX(PTable[3-Method],MATCH(0,IF(BD$1=PTable[2-Test],COUNTIF(BD$1:BD11,PTable[3-Method]), \"\"),0)),\"\")","v":""},{"$f":"IFERROR(INDEX(PTable[3-Method],MATCH(0,IF(BE$1=PTable[2-Test],COUNTIF(BE$1:BE11,PTable[3-Method]), \"\"),0)),\"\")","v":""},{"$f":"IFERROR(INDEX(PTable[3-Method],MATCH(0,IF(BF$1=PTable[2-Test],COUNTIF(BF$1:BF11,PTable[3-Method]), \"\"),0)),\"\")","v":""},{"$f":"IFERROR(INDEX(PTable[3-Method],MATCH(0,IF(BG$1=PTable[2-Test],COUNTIF(BG$1:BG11,PTable[3-Method]), \"\"),0)),\"\")","v":""},{"$f":"IFERROR(INDEX(PTable[3-Method],MATCH(0,IF(BH$1=PTable[2-Test],COUNTIF(BH$1:BH11,PTable[3-Method]), \"\"),0)),\"\")","v":""},{"$f":"IFERROR(INDEX(PTable[3-Method],MATCH(0,IF(BI$1=PTable[2-Test],COUNTIF(BI$1:BI11,PTable[3-Method]), \"\"),0)),\"\")","v":""},{"$f":"IFERROR(INDEX(PTable[3-Method],MATCH(0,IF(BJ$1=PTable[2-Test],COUNTIF(BJ$1:BJ11,PTable[3-Method]), \"\"),0)),\"\")","v":""},{"$f":"IFERROR(INDEX(PTable[3-Method],MATCH(0,IF(BK$1=PTable[2-Test],COUNTIF(BK$1:BK11,PTable[3-Method]), \"\"),0)),\"\")","v":""},{"$f":"IFERROR(INDEX(PTable[3-Method],MATCH(0,IF(BL$1=PTable[2-Test],COUNTIF(BL$1:BL11,PTable[3-Method]), \"\"),0)),\"\")","v":"mUS325g"},{"$f":"IFERROR(INDEX(PTable[3-Method],MATCH(0,IF(BM$1=PTable[2-Test],COUNTIF(BM$1:BM11,PTable[3-Method]), \"\"),0)),\"\")","v":"mBXX25g"},{"$f":"IFERROR(INDEX(PTable[3-Method],MATCH(0,IF(BN$1=PTable[2-Test],COUNTIF(BN$1:BN11,PTable[3-Method]), \"\"),0)),\"\")","v":"STECmi"},{"$f":"IFERROR(INDEX(PTable[3-Method],MATCH(0,IF(BO$1=PTable[2-Test],COUNTIF(BO$1:BO11,PTable[3-Method]), \"\"),0)),\"\")","v":""},{"$f":"IFERROR(INDEX(PTable[3-Method],MATCH(0,IF(BP$1=PTable[2-Test],COUNTIF(BP$1:BP11,PTable[3-Method]), \"\"),0)),\"\")","v":"mBXsam"},{"$f":"IFERROR(INDEX(PTable[3-Method],MATCH(0,IF(BQ$1=PTable[2-Test],COUNTIF(BQ$1:BQ11,PTable[3-Method]), \"\"),0)),\"\")","v":""},{"$f":"IFERROR(INDEX(PTable[3-Method],MATCH(0,IF(BR$1=PTable[2-Test],COUNTIF(BR$1:BR11,PTable[3-Method]), \"\"),0)),\"\")","v":""},{"$f":"IFERROR(INDEX(PTable[3-Method],MATCH(0,IF(BS$1=PTable[2-Test],COUNTIF(BS$1:BS11,PTable[3-Method]), \"\"),0)),\"\")","v":""},{"$f":"IFERROR(INDEX(PTable[3-Method],MATCH(0,IF(BT$1=PTable[2-Test],COUNTIF(BT$1:BT11,PTable[3-Method]), \"\"),0)),\"\")","v":""},{"$f":"IFERROR(INDEX(PTable[3-Method],MATCH(0,IF(BU$1=PTable[2-Test],COUNTIF(BU$1:BU11,PTable[3-Method]), \"\"),0)),\"\")","v":""},{"$f":"IFERROR(INDEX(PTable[3-Method],MATCH(0,IF(BV$1=PTable[2-Test],COUNTIF(BV$1:BV11,PTable[3-Method]), \"\"),0)),\"\")","v":""},{"$f":"IFERROR(INDEX(PTable[3-Method],MATCH(0,IF(BW$1=PTable[2-Test],COUNTIF(BW$1:BW11,PTable[3-Method]), \"\"),0)),\"\")","v":""},{"$f":"IFERROR(INDEX(PTable[3-Method],MATCH(0,IF(BX$1=PTable[2-Test],COUNTIF(BX$1:BX11,PTable[3-Method]), \"\"),0)),\"\")","v":""},{"$f":"IFERROR(INDEX(PTable[3-Method],MATCH(0,IF(BY$1=PTable[2-Test],COUNTIF(BY$1:BY11,PTable[3-Method]), \"\"),0)),\"\")","v":""},{"$f":"IFERROR(INDEX(PTable[3-Method],MATCH(0,IF(BZ$1=PTable[2-Test],COUNTIF(BZ$1:BZ11,PTable[3-Method]), \"\"),0)),\"\")","v":""},{"$f":"IFERROR(INDEX(PTable[3-Method],MATCH(0,IF(CA$1=PTable[2-Test],COUNTIF(CA$1:CA11,PTable[3-Method]), \"\"),0)),\"\")","v":""},{"$f":"IFERROR(INDEX(PTable[3-Method],MATCH(0,IF(CB$1=PTable[2-Test],COUNTIF(CB$1:CB11,PTable[3-Method]), \"\"),0)),\"\")","v":""},{"$f":"IFERROR(INDEX(PTable[3-Method],MATCH(0,IF(CC$1=PTable[2-Test],COUNTIF(CC$1:CC11,PTable[3-Method]), \"\"),0)),\"\")","v":""},{"$f":"IFERROR(INDEX(PTable[3-Method],MATCH(0,IF(CD$1=PTable[2-Test],COUNTIF(CD$1:CD11,PTable[3-Method]), \"\"),0)),\"\")","v":""},{"$f":"IFERROR(INDEX(PTable[3-Method],MATCH(0,IF(CE$1=PTable[2-Test],COUNTIF(CE$1:CE11,PTable[3-Method]), \"\"),0)),\"\")","v":""},{"$f":"IFERROR(INDEX(PTable[3-Method],MATCH(0,IF(CF$1=PTable[2-Test],COUNTIF(CF$1:CF11,PTable[3-Method]), \"\"),0)),\"\")","v":""},{"$f":"IFERROR(INDEX(PTable[3-Method],MATCH(0,IF(CG$1=PTable[2-Test],COUNTIF(CG$1:CG11,PTable[3-Method]), \"\"),0)),\"\")","v":""},{"$f":"IFERROR(INDEX(PTable[3-Method],MATCH(0,IF(CH$1=PTable[2-Test],COUNTIF(CH$1:CH11,PTable[3-Method]), \"\"),0)),\"\")","v":""},{"$f":"IFERROR(INDEX(PTable[3-Method],MATCH(0,IF(CI$1=PTable[2-Test],COUNTIF(CI$1:CI11,PTable[3-Method]), \"\"),0)),\"\")","v":""},{"$f":"IFERROR(INDEX(PTable[3-Method],MATCH(0,IF(CJ$1=PTable[2-Test],COUNTIF(CJ$1:CJ11,PTable[3-Method]), \"\"),0)),\"\")","v":""},{"$f":"IFERROR(INDEX(PTable[3-Method],MATCH(0,IF(CK$1=PTable[2-Test],COUNTIF(CK$1:CK11,PTable[3-Method]), \"\"),0)),\"\")","v":""},{"$f":"IFERROR(INDEX(PTable[3-Method],MATCH(0,IF(CL$1=PTable[2-Test],COUNTIF(CL$1:CL11,PTable[3-Method]), \"\"),0)),\"\")","v":""},{"$f":"IFERROR(INDEX(PTable[3-Method],MATCH(0,IF(CM$1=PTable[2-Test],COUNTIF(CM$1:CM11,PTable[3-Method]), \"\"),0)),\"\")","v":""},{"$f":"IFERROR(INDEX(PTable[3-Method],MATCH(0,IF(CN$1=PTable[2-Test],COUNTIF(CN$1:CN11,PTable[3-Method]), \"\"),0)),\"\")","v":""},{"$f":"IFERROR(INDEX(PTable[3-Method],MATCH(0,IF(CO$1=PTable[2-Test],COUNTIF(CO$1:CO11,PTable[3-Method]), \"\"),0)),\"\")","v":""},{"$f":"IFERROR(INDEX(PTable[3-Method],MATCH(0,IF(CP$1=PTable[2-Test],COUNTIF(CP$1:CP11,PTable[3-Method]), \"\"),0)),\"\")","v":""},{"$f":"IFERROR(INDEX(PTable[3-Method],MATCH(0,IF(CQ$1=PTable[2-Test],COUNTIF(CQ$1:CQ11,PTable[3-Method]), \"\"),0)),\"\")","v":""},{"$f":"IFERROR(INDEX(PTable[3-Method],MATCH(0,IF(CR$1=PTable[2-Test],COUNTIF(CR$1:CR11,PTable[3-Method]), \"\"),0)),\"\")","v":""},{"$f":"IFERROR(INDEX(PTable[3-Method],MATCH(0,IF(CS$1=PTable[2-Test],COUNTIF(CS$1:CS11,PTable[3-Method]), \"\"),0)),\"\")","v":""},{"$f":"IFERROR(INDEX(PTable[3-Method],MATCH(0,IF(CT$1=PTable[2-Test],COUNTIF(CT$1:CT11,PTable[3-Method]), \"\"),0)),\"\")","v":""},{"$f":"IFERROR(INDEX(PTable[3-Method],MATCH(0,IF(CU$1=PTable[2-Test],COUNTIF(CU$1:CU11,PTable[3-Method]), \"\"),0)),\"\")","v":""},{"$f":"IFERROR(INDEX(PTable[3-Method],MATCH(0,IF(CV$1=PTable[2-Test],COUNTIF(CV$1:CV11,PTable[3-Method]), \"\"),0)),\"\")","v":""},{"$f":"IFERROR(INDEX(PTable[3-Method],MATCH(0,IF(CW$1=PTable[2-Test],COUNTIF(CW$1:CW11,PTable[3-Method]), \"\"),0)),\"\")","v":""},{"$f":"IFERROR(INDEX(PTable[3-Method],MATCH(0,IF(CX$1=PTable[2-Test],COUNTIF(CX$1:CX11,PTable[3-Method]), \"\"),0)),\"\")","v":""},{"$f":"IFERROR(INDEX(PTable[3-Method],MATCH(0,IF(CY$1=PTable[2-Test],COUNTIF(CY$1:CY11,PTable[3-Method]), \"\"),0)),\"\")","v":""},{"$f":"IFERROR(INDEX(PTable[3-Method],MATCH(0,IF(CZ$1=PTable[2-Test],COUNTIF(CZ$1:CZ11,PTable[3-Method]), \"\"),0)),\"\")","v":""},{"$f":"IFERROR(INDEX(PTable[3-Method],MATCH(0,IF(DA$1=PTable[2-Test],COUNTIF(DA$1:DA11,PTable[3-Method]), \"\"),0)),\"\")","v":""},{"$f":"IFERROR(INDEX(PTable[3-Method],MATCH(0,IF(DB$1=PTable[2-Test],COUNTIF(DB$1:DB11,PTable[3-Method]), \"\"),0)),\"\")","v":""},{"$f":"IFERROR(INDEX(PTable[3-Method],MATCH(0,IF(DC$1=PTable[2-Test],COUNTIF(DC$1:DC11,PTable[3-Method]), \"\"),0)),\"\")","v":""},{"$f":"IFERROR(INDEX(PTable[3-Method],MATCH(0,IF(DD$1=PTable[2-Test],COUNTIF(DD$1:DD11,PTable[3-Method]), \"\"),0)),\"\")","v":""},{"$f":"IFERROR(INDEX(PTable[3-Method],MATCH(0,IF(DE$1=PTable[2-Test],COUNTIF(DE$1:DE11,PTable[3-Method]), \"\"),0)),\"\")","v":""},{"$f":"IFERROR(INDEX(PTable[3-Method],MATCH(0,IF(DF$1=PTable[2-Test],COUNTIF(DF$1:DF11,PTable[3-Method]), \"\"),0)),\"\")","v":""},{"$f":"IFERROR(INDEX(PTable[3-Method],MATCH(0,IF(DG$1=PTable[2-Test],COUNTIF(DG$1:DG11,PTable[3-Method]), \"\"),0)),\"\")","v":""},{"$f":"IFERROR(INDEX(PTable[3-Method],MATCH(0,IF(DH$1=PTable[2-Test],COUNTIF(DH$1:DH11,PTable[3-Method]), \"\"),0)),\"\")","v":""},{"$f":"IFERROR(INDEX(PTable[3-Method],MATCH(0,IF(DI$1=PTable[2-Test],COUNTIF(DI$1:DI11,PTable[3-Method]), \"\"),0)),\"\")","v":""},{"$f":"IFERROR(INDEX(PTable[3-Method],MATCH(0,IF(DJ$1=PTable[2-Test],COUNTIF(DJ$1:DJ11,PTable[3-Method]), \"\"),0)),\"\")","v":""}]
[null,{"$f":"IFERROR(INDEX(PTable[2-Test],MATCH(0,IF(B$1=PTable[1-Type],COUNTIF(B$1:B12,PTable[2-Test]), \"\"),0)),\"\")","v":"APRY"},{"$f":"IFERROR(INDEX(PTable[2-Test],MATCH(0,IF(C$1=PTable[1-Type],COUNTIF(C$1:C12,PTable[2-Test]), \"\"),0)),\"\")","v":"SAL"},{"$f":"IFERROR(INDEX(PTable[2-Test],MATCH(0,IF(D$1=PTable[1-Type],COUNTIF(D$1:D12,PTable[2-Test]), \"\"),0)),\"\")","v":"Hardness"},{"$f":"IFERROR(INDEX(PTable[2-Test],MATCH(0,IF(E$1=PTable[1-Type],COUNTIF(E$1:E12,PTable[2-Test]), \"\"),0)),\"\")","v":""},{"$f":"IFERROR(INDEX(PTable[2-Test],MATCH(0,IF(F$1=PTable[1-Type],COUNTIF(F$1:F12,PTable[2-Test]), \"\"),0)),\"\")","v":"Milk"},{"$f":"IFERROR(INDEX(PTable[3-Method],MATCH(0,IF(G$1=PTable[2-Test],COUNTIF(G$1:G12,PTable[3-Method]), \"\"),0)),\"\")","v":""},{"$f":"IFERROR(INDEX(PTable[3-Method],MATCH(0,IF(H$1=PTable[2-Test],COUNTIF(H$1:H12,PTable[3-Method]), \"\"),0)),\"\")","v":""},{"$f":"IFERROR(INDEX(PTable[3-Method],MATCH(0,IF(I$1=PTable[2-Test],COUNTIF(I$1:I12,PTable[3-Method]), \"\"),0)),\"\")","v":""},{"$f":"IFERROR(INDEX(PTable[3-Method],MATCH(0,IF(J$1=PTable[2-Test],COUNTIF(J$1:J12,PTable[3-Method]), \"\"),0)),\"\")","v":""},{"$f":"IFERROR(INDEX(PTable[3-Method],MATCH(0,IF(K$1=PTable[2-Test],COUNTIF(K$1:K12,PTable[3-Method]), \"\"),0)),\"\")","v":""},{"$f":"IFERROR(INDEX(PTable[3-Method],MATCH(0,IF(L$1=PTable[2-Test],COUNTIF(L$1:L12,PTable[3-Method]), \"\"),0)),\"\")","v":""},{"$f":"IFERROR(INDEX(PTable[3-Method],MATCH(0,IF(M$1=PTable[2-Test],COUNTIF(M$1:M12,PTable[3-Method]), \"\"),0)),\"\")","v":""},{"$f":"IFERROR(INDEX(PTable[3-Method],MATCH(0,IF(N$1=PTable[2-Test],COUNTIF(N$1:N12,PTable[3-Method]), \"\"),0)),\"\")","v":""},{"$f":"IFERROR(INDEX(PTable[3-Method],MATCH(0,IF(O$1=PTable[2-Test],COUNTIF(O$1:O12,PTable[3-Method]), \"\"),0)),\"\")","v":""},{"$f":"IFERROR(INDEX(PTable[3-Method],MATCH(0,IF(P$1=PTable[2-Test],COUNTIF(P$1:P12,PTable[3-Method]), \"\"),0)),\"\")","v":""},{"$f":"IFERROR(INDEX(PTable[3-Method],MATCH(0,IF(Q$1=PTable[2-Test],COUNTIF(Q$1:Q12,PTable[3-Method]), \"\"),0)),\"\")","v":""},{"$f":"IFERROR(INDEX(PTable[3-Method],MATCH(0,IF(R$1=PTable[2-Test],COUNTIF(R$1:R12,PTable[3-Method]), \"\"),0)),\"\")","v":""},{"$f":"IFERROR(INDEX(PTable[3-Method],MATCH(0,IF(S$1=PTable[2-Test],COUNTIF(S$1:S12,PTable[3-Method]), \"\"),0)),\"\")","v":""},{"$f":"IFERROR(INDEX(PTable[3-Method],MATCH(0,IF(T$1=PTable[2-Test],COUNTIF(T$1:T12,PTable[3-Method]), \"\"),0)),\"\")","v":""},{"$f":"IFERROR(INDEX(PTable[3-Method],MATCH(0,IF(U$1=PTable[2-Test],COUNTIF(U$1:U12,PTable[3-Method]), \"\"),0)),\"\")","v":""},{"$f":"IFERROR(INDEX(PTable[3-Method],MATCH(0,IF(V$1=PTable[2-Test],COUNTIF(V$1:V12,PTable[3-Method]), \"\"),0)),\"\")","v":""},{"$f":"IFERROR(INDEX(PTable[3-Method],MATCH(0,IF(W$1=PTable[2-Test],COUNTIF(W$1:W12,PTable[3-Method]), \"\"),0)),\"\")","v":""},{"$f":"IFERROR(INDEX(PTable[3-Method],MATCH(0,IF(X$1=PTable[2-Test],COUNTIF(X$1:X12,PTable[3-Method]), \"\"),0)),\"\")","v":""},{"$f":"IFERROR(INDEX(PTable[3-Method],MATCH(0,IF(Y$1=PTable[2-Test],COUNTIF(Y$1:Y12,PTable[3-Method]), \"\"),0)),\"\")","v":""},{"$f":"IFERROR(INDEX(PTable[3-Method],MATCH(0,IF(Z$1=PTable[2-Test],COUNTIF(Z$1:Z12,PTable[3-Method]), \"\"),0)),\"\")","v":""},{"$f":"IFERROR(INDEX(PTable[3-Method],MATCH(0,IF(AA$1=PTable[2-Test],COUNTIF(AA$1:AA12,PTable[3-Method]), \"\"),0)),\"\")","v":""},{"$f":"IFERROR(INDEX(PTable[3-Method],MATCH(0,IF(AB$1=PTable[2-Test],COUNTIF(AB$1:AB12,PTable[3-Method]), \"\"),0)),\"\")","v":""},{"$f":"IFERROR(INDEX(PTable[3-Method],MATCH(0,IF(AC$1=PTable[2-Test],COUNTIF(AC$1:AC12,PTable[3-Method]), \"\"),0)),\"\")","v":""},{"$f":"IFERROR(INDEX(PTable[3-Method],MATCH(0,IF(AD$1=PTable[2-Test],COUNTIF(AD$1:AD12,PTable[3-Method]), \"\"),0)),\"\")","v":""},{"$f":"IFERROR(INDEX(PTable[3-Method],MATCH(0,IF(AE$1=PTable[2-Test],COUNTIF(AE$1:AE12,PTable[3-Method]), \"\"),0)),\"\")","v":""},{"$f":"IFERROR(INDEX(PTable[3-Method],MATCH(0,IF(AF$1=PTable[2-Test],COUNTIF(AF$1:AF12,PTable[3-Method]), \"\"),0)),\"\")","v":""},{"$f":"IFERROR(INDEX(PTable[3-Method],MATCH(0,IF(AG$1=PTable[2-Test],COUNTIF(AG$1:AG12,PTable[3-Method]), \"\"),0)),\"\")","v":""},{"$f":"IFERROR(INDEX(PTable[3-Method],MATCH(0,IF(AH$1=PTable[2-Test],COUNTIF(AH$1:AH12,PTable[3-Method]), \"\"),0)),\"\")","v":""},{"$f":"IFERROR(INDEX(PTable[3-Method],MATCH(0,IF(AI$1=PTable[2-Test],COUNTIF(AI$1:AI12,PTable[3-Method]), \"\"),0)),\"\")","v":""},{"$f":"IFERROR(INDEX(PTable[3-Method],MATCH(0,IF(AJ$1=PTable[2-Test],COUNTIF(AJ$1:AJ12,PTable[3-Method]), \"\"),0)),\"\")","v":""},{"$f":"IFERROR(INDEX(PTable[3-Method],MATCH(0,IF(AK$1=PTable[2-Test],COUNTIF(AK$1:AK12,PTable[3-Method]), \"\"),0)),\"\")","v":""},{"$f":"IFERROR(INDEX(PTable[3-Method],MATCH(0,IF(AL$1=PTable[2-Test],COUNTIF(AL$1:AL12,PTable[3-Method]), \"\"),0)),\"\")","v":""},{"$f":"IFERROR(INDEX(PTable[3-Method],MATCH(0,IF(AM$1=PTable[2-Test],COUNTIF(AM$1:AM12,PTable[3-Method]), \"\"),0)),\"\")","v":""},{"$f":"IFERROR(INDEX(PTable[3-Method],MATCH(0,IF(AN$1=PTable[2-Test],COUNTIF(AN$1:AN12,PTable[3-Method]), \"\"),0)),\"\")","v":""},{"$f":"IFERROR(INDEX(PTable[3-Method],MATCH(0,IF(AO$1=PTable[2-Test],COUNTIF(AO$1:AO12,PTable[3-Method]), \"\"),0)),\"\")","v":""},{"$f":"IFERROR(INDEX(PTable[3-Method],MATCH(0,IF(AP$1=PTable[2-Test],COUNTIF(AP$1:AP12,PTable[3-Method]), \"\"),0)),\"\")","v":""},{"$f":"IFERROR(INDEX(PTable[3-Method],MATCH(0,IF(AQ$1=PTable[2-Test],COUNTIF(AQ$1:AQ12,PTable[3-Method]), \"\"),0)),\"\")","v":""},{"$f":"IFERROR(INDEX(PTable[3-Method],MATCH(0,IF(AR$1=PTable[2-Test],COUNTIF(AR$1:AR12,PTable[3-Method]), \"\"),0)),\"\")","v":""},{"$f":"IFERROR(INDEX(PTable[3-Method],MATCH(0,IF(AS$1=PTable[2-Test],COUNTIF(AS$1:AS12,PTable[3-Method]), \"\"),0)),\"\")","v":""},{"$f":"IFERROR(INDEX(PTable[3-Method],MATCH(0,IF(AT$1=PTable[2-Test],COUNTIF(AT$1:AT12,PTable[3-Method]), \"\"),0)),\"\")","v":""},{"$f":"IFERROR(INDEX(PTable[3-Method],MATCH(0,IF(AU$1=PTable[2-Test],COUNTIF(AU$1:AU12,PTable[3-Method]), \"\"),0)),\"\")","v":""},{"$f":"IFERROR(INDEX(PTable[3-Method],MATCH(0,IF(AV$1=PTable[2-Test],COUNTIF(AV$1:AV12,PTable[3-Method]), \"\"),0)),\"\")","v":""},{"$f":"IFERROR(INDEX(PTable[3-Method],MATCH(0,IF(AW$1=PTable[2-Test],COUNTIF(AW$1:AW12,PTable[3-Method]), \"\"),0)),\"\")","v":""},{"$f":"IFERROR(INDEX(PTable[3-Method],MATCH(0,IF(AX$1=PTable[2-Test],COUNTIF(AX$1:AX12,PTable[3-Method]), \"\"),0)),\"\")","v":""},{"$f":"IFERROR(INDEX(PTable[3-Method],MATCH(0,IF(AY$1=PTable[2-Test],COUNTIF(AY$1:AY12,PTable[3-Method]), \"\"),0)),\"\")","v":""},{"$f":"IFERROR(INDEX(PTable[3-Method],MATCH(0,IF(AZ$1=PTable[2-Test],COUNTIF(AZ$1:AZ12,PTable[3-Method]), \"\"),0)),\"\")","v":""},{"$f":"IFERROR(INDEX(PTable[3-Method],MATCH(0,IF(BA$1=PTable[2-Test],COUNTIF(BA$1:BA12,PTable[3-Method]), \"\"),0)),\"\")","v":""},{"$f":"IFERROR(INDEX(PTable[3-Method],MATCH(0,IF(BB$1=PTable[2-Test],COUNTIF(BB$1:BB12,PTable[3-Method]), \"\"),0)),\"\")","v":""},{"$f":"IFERROR(INDEX(PTable[3-Method],MATCH(0,IF(BC$1=PTable[2-Test],COUNTIF(BC$1:BC12,PTable[3-Method]), \"\"),0)),\"\")","v":""},{"$f":"IFERROR(INDEX(PTable[3-Method],MATCH(0,IF(BD$1=PTable[2-Test],COUNTIF(BD$1:BD12,PTable[3-Method]), \"\"),0)),\"\")","v":""},{"$f":"IFERROR(INDEX(PTable[3-Method],MATCH(0,IF(BE$1=PTable[2-Test],COUNTIF(BE$1:BE12,PTable[3-Method]), \"\"),0)),\"\")","v":""},{"$f":"IFERROR(INDEX(PTable[3-Method],MATCH(0,IF(BF$1=PTable[2-Test],COUNTIF(BF$1:BF12,PTable[3-Method]), \"\"),0)),\"\")","v":""},{"$f":"IFERROR(INDEX(PTable[3-Method],MATCH(0,IF(BG$1=PTable[2-Test],COUNTIF(BG$1:BG12,PTable[3-Method]), \"\"),0)),\"\")","v":""},{"$f":"IFERROR(INDEX(PTable[3-Method],MATCH(0,IF(BH$1=PTable[2-Test],COUNTIF(BH$1:BH12,PTable[3-Method]), \"\"),0)),\"\")","v":""},{"$f":"IFERROR(INDEX(PTable[3-Method],MATCH(0,IF(BI$1=PTable[2-Test],COUNTIF(BI$1:BI12,PTable[3-Method]), \"\"),0)),\"\")","v":""},{"$f":"IFERROR(INDEX(PTable[3-Method],MATCH(0,IF(BJ$1=PTable[2-Test],COUNTIF(BJ$1:BJ12,PTable[3-Method]), \"\"),0)),\"\")","v":""},{"$f":"IFERROR(INDEX(PTable[3-Method],MATCH(0,IF(BK$1=PTable[2-Test],COUNTIF(BK$1:BK12,PTable[3-Method]), \"\"),0)),\"\")","v":""},{"$f":"IFERROR(INDEX(PTable[3-Method],MATCH(0,IF(BL$1=PTable[2-Test],COUNTIF(BL$1:BL12,PTable[3-Method]), \"\"),0)),\"\")","v":"mUS375g"},{"$f":"IFERROR(INDEX(PTable[3-Method],MATCH(0,IF(BM$1=PTable[2-Test],COUNTIF(BM$1:BM12,PTable[3-Method]), \"\"),0)),\"\")","v":"mFD100g"},{"$f":"IFERROR(INDEX(PTable[3-Method],MATCH(0,IF(BN$1=PTable[2-Test],COUNTIF(BN$1:BN12,PTable[3-Method]), \"\"),0)),\"\")","v":""},{"$f":"IFERROR(INDEX(PTable[3-Method],MATCH(0,IF(BO$1=PTable[2-Test],COUNTIF(BO$1:BO12,PTable[3-Method]), \"\"),0)),\"\")","v":""},{"$f":"IFERROR(INDEX(PTable[3-Method],MATCH(0,IF(BP$1=PTable[2-Test],COUNTIF(BP$1:BP12,PTable[3-Method]), \"\"),0)),\"\")","v":"mFD100g"},{"$f":"IFERROR(INDEX(PTable[3-Method],MATCH(0,IF(BQ$1=PTable[2-Test],COUNTIF(BQ$1:BQ12,PTable[3-Method]), \"\"),0)),\"\")","v":""},{"$f":"IFERROR(INDEX(PTable[3-Method],MATCH(0,IF(BR$1=PTable[2-Test],COUNTIF(BR$1:BR12,PTable[3-Method]), \"\"),0)),\"\")","v":""},{"$f":"IFERROR(INDEX(PTable[3-Method],MATCH(0,IF(BS$1=PTable[2-Test],COUNTIF(BS$1:BS12,PTable[3-Method]), \"\"),0)),\"\")","v":""},{"$f":"IFERROR(INDEX(PTable[3-Method],MATCH(0,IF(BT$1=PTable[2-Test],COUNTIF(BT$1:BT12,PTable[3-Method]), \"\"),0)),\"\")","v":""},{"$f":"IFERROR(INDEX(PTable[3-Method],MATCH(0,IF(BU$1=PTable[2-Test],COUNTIF(BU$1:BU12,PTable[3-Method]), \"\"),0)),\"\")","v":""},{"$f":"IFERROR(INDEX(PTable[3-Method],MATCH(0,IF(BV$1=PTable[2-Test],COUNTIF(BV$1:BV12,PTable[3-Method]), \"\"),0)),\"\")","v":""},{"$f":"IFERROR(INDEX(PTable[3-Method],MATCH(0,IF(BW$1=PTable[2-Test],COUNTIF(BW$1:BW12,PTable[3-Method]), \"\"),0)),\"\")","v":""},{"$f":"IFERROR(INDEX(PTable[3-Method],MATCH(0,IF(BX$1=PTable[2-Test],COUNTIF(BX$1:BX12,PTable[3-Method]), \"\"),0)),\"\")","v":""},{"$f":"IFERROR(INDEX(PTable[3-Method],MATCH(0,IF(BY$1=PTable[2-Test],COUNTIF(BY$1:BY12,PTable[3-Method]), \"\"),0)),\"\")","v":""},{"$f":"IFERROR(INDEX(PTable[3-Method],MATCH(0,IF(BZ$1=PTable[2-Test],COUNTIF(BZ$1:BZ12,PTable[3-Method]), \"\"),0)),\"\")","v":""},{"$f":"IFERROR(INDEX(PTable[3-Method],MATCH(0,IF(CA$1=PTable[2-Test],COUNTIF(CA$1:CA12,PTable[3-Method]), \"\"),0)),\"\")","v":""},{"$f":"IFERROR(INDEX(PTable[3-Method],MATCH(0,IF(CB$1=PTable[2-Test],COUNTIF(CB$1:CB12,PTable[3-Method]), \"\"),0)),\"\")","v":""},{"$f":"IFERROR(INDEX(PTable[3-Method],MATCH(0,IF(CC$1=PTable[2-Test],COUNTIF(CC$1:CC12,PTable[3-Method]), \"\"),0)),\"\")","v":""},{"$f":"IFERROR(INDEX(PTable[3-Method],MATCH(0,IF(CD$1=PTable[2-Test],COUNTIF(CD$1:CD12,PTable[3-Method]), \"\"),0)),\"\")","v":""},{"$f":"IFERROR(INDEX(PTable[3-Method],MATCH(0,IF(CE$1=PTable[2-Test],COUNTIF(CE$1:CE12,PTable[3-Method]), \"\"),0)),\"\")","v":""},{"$f":"IFERROR(INDEX(PTable[3-Method],MATCH(0,IF(CF$1=PTable[2-Test],COUNTIF(CF$1:CF12,PTable[3-Method]), \"\"),0)),\"\")","v":""},{"$f":"IFERROR(INDEX(PTable[3-Method],MATCH(0,IF(CG$1=PTable[2-Test],COUNTIF(CG$1:CG12,PTable[3-Method]), \"\"),0)),\"\")","v":""},{"$f":"IFERROR(INDEX(PTable[3-Method],MATCH(0,IF(CH$1=PTable[2-Test],COUNTIF(CH$1:CH12,PTable[3-Method]), \"\"),0)),\"\")","v":""},{"$f":"IFERROR(INDEX(PTable[3-Method],MATCH(0,IF(CI$1=PTable[2-Test],COUNTIF(CI$1:CI12,PTable[3-Method]), \"\"),0)),\"\")","v":""},{"$f":"IFERROR(INDEX(PTable[3-Method],MATCH(0,IF(CJ$1=PTable[2-Test],COUNTIF(CJ$1:CJ12,PTable[3-Method]), \"\"),0)),\"\")","v":""},{"$f":"IFERROR(INDEX(PTable[3-Method],MATCH(0,IF(CK$1=PTable[2-Test],COUNTIF(CK$1:CK12,PTable[3-Method]), \"\"),0)),\"\")","v":""},{"$f":"IFERROR(INDEX(PTable[3-Method],MATCH(0,IF(CL$1=PTable[2-Test],COUNTIF(CL$1:CL12,PTable[3-Method]), \"\"),0)),\"\")","v":""},{"$f":"IFERROR(INDEX(PTable[3-Method],MATCH(0,IF(CM$1=PTable[2-Test],COUNTIF(CM$1:CM12,PTable[3-Method]), \"\"),0)),\"\")","v":""},{"$f":"IFERROR(INDEX(PTable[3-Method],MATCH(0,IF(CN$1=PTable[2-Test],COUNTIF(CN$1:CN12,PTable[3-Method]), \"\"),0)),\"\")","v":""},{"$f":"IFERROR(INDEX(PTable[3-Method],MATCH(0,IF(CO$1=PTable[2-Test],COUNTIF(CO$1:CO12,PTable[3-Method]), \"\"),0)),\"\")","v":""},{"$f":"IFERROR(INDEX(PTable[3-Method],MATCH(0,IF(CP$1=PTable[2-Test],COUNTIF(CP$1:CP12,PTable[3-Method]), \"\"),0)),\"\")","v":""},{"$f":"IFERROR(INDEX(PTable[3-Method],MATCH(0,IF(CQ$1=PTable[2-Test],COUNTIF(CQ$1:CQ12,PTable[3-Method]), \"\"),0)),\"\")","v":""},{"$f":"IFERROR(INDEX(PTable[3-Method],MATCH(0,IF(CR$1=PTable[2-Test],COUNTIF(CR$1:CR12,PTable[3-Method]), \"\"),0)),\"\")","v":""},{"$f":"IFERROR(INDEX(PTable[3-Method],MATCH(0,IF(CS$1=PTable[2-Test],COUNTIF(CS$1:CS12,PTable[3-Method]), \"\"),0)),\"\")","v":""},{"$f":"IFERROR(INDEX(PTable[3-Method],MATCH(0,IF(CT$1=PTable[2-Test],COUNTIF(CT$1:CT12,PTable[3-Method]), \"\"),0)),\"\")","v":""},{"$f":"IFERROR(INDEX(PTable[3-Method],MATCH(0,IF(CU$1=PTable[2-Test],COUNTIF(CU$1:CU12,PTable[3-Method]), \"\"),0)),\"\")","v":""},{"$f":"IFERROR(INDEX(PTable[3-Method],MATCH(0,IF(CV$1=PTable[2-Test],COUNTIF(CV$1:CV12,PTable[3-Method]), \"\"),0)),\"\")","v":""},{"$f":"IFERROR(INDEX(PTable[3-Method],MATCH(0,IF(CW$1=PTable[2-Test],COUNTIF(CW$1:CW12,PTable[3-Method]), \"\"),0)),\"\")","v":""},{"$f":"IFERROR(INDEX(PTable[3-Method],MATCH(0,IF(CX$1=PTable[2-Test],COUNTIF(CX$1:CX12,PTable[3-Method]), \"\"),0)),\"\")","v":""},{"$f":"IFERROR(INDEX(PTable[3-Method],MATCH(0,IF(CY$1=PTable[2-Test],COUNTIF(CY$1:CY12,PTable[3-Method]), \"\"),0)),\"\")","v":""},{"$f":"IFERROR(INDEX(PTable[3-Method],MATCH(0,IF(CZ$1=PTable[2-Test],COUNTIF(CZ$1:CZ12,PTable[3-Method]), \"\"),0)),\"\")","v":""},{"$f":"IFERROR(INDEX(PTable[3-Method],MATCH(0,IF(DA$1=PTable[2-Test],COUNTIF(DA$1:DA12,PTable[3-Method]), \"\"),0)),\"\")","v":""},{"$f":"IFERROR(INDEX(PTable[3-Method],MATCH(0,IF(DB$1=PTable[2-Test],COUNTIF(DB$1:DB12,PTable[3-Method]), \"\"),0)),\"\")","v":""},{"$f":"IFERROR(INDEX(PTable[3-Method],MATCH(0,IF(DC$1=PTable[2-Test],COUNTIF(DC$1:DC12,PTable[3-Method]), \"\"),0)),\"\")","v":""},{"$f":"IFERROR(INDEX(PTable[3-Method],MATCH(0,IF(DD$1=PTable[2-Test],COUNTIF(DD$1:DD12,PTable[3-Method]), \"\"),0)),\"\")","v":""},{"$f":"IFERROR(INDEX(PTable[3-Method],MATCH(0,IF(DE$1=PTable[2-Test],COUNTIF(DE$1:DE12,PTable[3-Method]), \"\"),0)),\"\")","v":""},{"$f":"IFERROR(INDEX(PTable[3-Method],MATCH(0,IF(DF$1=PTable[2-Test],COUNTIF(DF$1:DF12,PTable[3-Method]), \"\"),0)),\"\")","v":""},{"$f":"IFERROR(INDEX(PTable[3-Method],MATCH(0,IF(DG$1=PTable[2-Test],COUNTIF(DG$1:DG12,PTable[3-Method]), \"\"),0)),\"\")","v":""},{"$f":"IFERROR(INDEX(PTable[3-Method],MATCH(0,IF(DH$1=PTable[2-Test],COUNTIF(DH$1:DH12,PTable[3-Method]), \"\"),0)),\"\")","v":""},{"$f":"IFERROR(INDEX(PTable[3-Method],MATCH(0,IF(DI$1=PTable[2-Test],COUNTIF(DI$1:DI12,PTable[3-Method]), \"\"),0)),\"\")","v":""},{"$f":"IFERROR(INDEX(PTable[3-Method],MATCH(0,IF(DJ$1=PTable[2-Test],COUNTIF(DJ$1:DJ12,PTable[3-Method]), \"\"),0)),\"\")","v":""}]
[null,{"$f":"IFERROR(INDEX(PTable[2-Test],MATCH(0,IF(B$1=PTable[1-Type],COUNTIF(B$1:B13,PTable[2-Test]), \"\"),0)),\"\")","v":"B.cereus"},{"$f":"IFERROR(INDEX(PTable[2-Test],MATCH(0,IF(C$1=PTable[1-Type],COUNTIF(C$1:C13,PTable[2-Test]), \"\"),0)),\"\")","v":"Shigella"},{"$f":"IFERROR(INDEX(PTable[2-Test],MATCH(0,IF(D$1=PTable[1-Type],COUNTIF(D$1:D13,PTable[2-Test]), \"\"),0)),\"\")","v":"Moist"},{"$f":"IFERROR(INDEX(PTable[2-Test],MATCH(0,IF(E$1=PTable[1-Type],COUNTIF(E$1:E13,PTable[2-Test]), \"\"),0)),\"\")","v":""},{"$f":"IFERROR(INDEX(PTable[2-Test],MATCH(0,IF(F$1=PTable[1-Type],COUNTIF(F$1:F13,PTable[2-Test]), \"\"),0)),\"\")","v":"Peanut"},{"$f":"IFERROR(INDEX(PTable[3-Method],MATCH(0,IF(G$1=PTable[2-Test],COUNTIF(G$1:G13,PTable[3-Method]), \"\"),0)),\"\")","v":""},{"$f":"IFERROR(INDEX(PTable[3-Method],MATCH(0,IF(H$1=PTable[2-Test],COUNTIF(H$1:H13,PTable[3-Method]), \"\"),0)),\"\")","v":""},{"$f":"IFERROR(INDEX(PTable[3-Method],MATCH(0,IF(I$1=PTable[2-Test],COUNTIF(I$1:I13,PTable[3-Method]), \"\"),0)),\"\")","v":""},{"$f":"IFERROR(INDEX(PTable[3-Method],MATCH(0,IF(J$1=PTable[2-Test],COUNTIF(J$1:J13,PTable[3-Method]), \"\"),0)),\"\")","v":""},{"$f":"IFERROR(INDEX(PTable[3-Method],MATCH(0,IF(K$1=PTable[2-Test],COUNTIF(K$1:K13,PTable[3-Method]), \"\"),0)),\"\")","v":""},{"$f":"IFERROR(INDEX(PTable[3-Method],MATCH(0,IF(L$1=PTable[2-Test],COUNTIF(L$1:L13,PTable[3-Method]), \"\"),0)),\"\")","v":""},{"$f":"IFERROR(INDEX(PTable[3-Method],MATCH(0,IF(M$1=PTable[2-Test],COUNTIF(M$1:M13,PTable[3-Method]), \"\"),0)),\"\")","v":""},{"$f":"IFERROR(INDEX(PTable[3-Method],MATCH(0,IF(N$1=PTable[2-Test],COUNTIF(N$1:N13,PTable[3-Method]), \"\"),0)),\"\")","v":""},{"$f":"IFERROR(INDEX(PTable[3-Method],MATCH(0,IF(O$1=PTable[2-Test],COUNTIF(O$1:O13,PTable[3-Method]), \"\"),0)),\"\")","v":""},{"$f":"IFERROR(INDEX(PTable[3-Method],MATCH(0,IF(P$1=PTable[2-Test],COUNTIF(P$1:P13,PTable[3-Method]), \"\"),0)),\"\")","v":""},{"$f":"IFERROR(INDEX(PTable[3-Method],MATCH(0,IF(Q$1=PTable[2-Test],COUNTIF(Q$1:Q13,PTable[3-Method]), \"\"),0)),\"\")","v":""},{"$f":"IFERROR(INDEX(PTable[3-Method],MATCH(0,IF(R$1=PTable[2-Test],COUNTIF(R$1:R13,PTable[3-Method]), \"\"),0)),\"\")","v":""},{"$f":"IFERROR(INDEX(PTable[3-Method],MATCH(0,IF(S$1=PTable[2-Test],COUNTIF(S$1:S13,PTable[3-Method]), \"\"),0)),\"\")","v":""},{"$f":"IFERROR(INDEX(PTable[3-Method],MATCH(0,IF(T$1=PTable[2-Test],COUNTIF(T$1:T13,PTable[3-Method]), \"\"),0)),\"\")","v":""},{"$f":"IFERROR(INDEX(PTable[3-Method],MATCH(0,IF(U$1=PTable[2-Test],COUNTIF(U$1:U13,PTable[3-Method]), \"\"),0)),\"\")","v":""},{"$f":"IFERROR(INDEX(PTable[3-Method],MATCH(0,IF(V$1=PTable[2-Test],COUNTIF(V$1:V13,PTable[3-Method]), \"\"),0)),\"\")","v":""},{"$f":"IFERROR(INDEX(PTable[3-Method],MATCH(0,IF(W$1=PTable[2-Test],COUNTIF(W$1:W13,PTable[3-Method]), \"\"),0)),\"\")","v":""},{"$f":"IFERROR(INDEX(PTable[3-Method],MATCH(0,IF(X$1=PTable[2-Test],COUNTIF(X$1:X13,PTable[3-Method]), \"\"),0)),\"\")","v":""},{"$f":"IFERROR(INDEX(PTable[3-Method],MATCH(0,IF(Y$1=PTable[2-Test],COUNTIF(Y$1:Y13,PTable[3-Method]), \"\"),0)),\"\")","v":""},{"$f":"IFERROR(INDEX(PTable[3-Method],MATCH(0,IF(Z$1=PTable[2-Test],COUNTIF(Z$1:Z13,PTable[3-Method]), \"\"),0)),\"\")","v":""},{"$f":"IFERROR(INDEX(PTable[3-Method],MATCH(0,IF(AA$1=PTable[2-Test],COUNTIF(AA$1:AA13,PTable[3-Method]), \"\"),0)),\"\")","v":""},{"$f":"IFERROR(INDEX(PTable[3-Method],MATCH(0,IF(AB$1=PTable[2-Test],COUNTIF(AB$1:AB13,PTable[3-Method]), \"\"),0)),\"\")","v":""},{"$f":"IFERROR(INDEX(PTable[3-Method],MATCH(0,IF(AC$1=PTable[2-Test],COUNTIF(AC$1:AC13,PTable[3-Method]), \"\"),0)),\"\")","v":""},{"$f":"IFERROR(INDEX(PTable[3-Method],MATCH(0,IF(AD$1=PTable[2-Test],COUNTIF(AD$1:AD13,PTable[3-Method]), \"\"),0)),\"\")","v":""},{"$f":"IFERROR(INDEX(PTable[3-Method],MATCH(0,IF(AE$1=PTable[2-Test],COUNTIF(AE$1:AE13,PTable[3-Method]), \"\"),0)),\"\")","v":""},{"$f":"IFERROR(INDEX(PTable[3-Method],MATCH(0,IF(AF$1=PTable[2-Test],COUNTIF(AF$1:AF13,PTable[3-Method]), \"\"),0)),\"\")","v":""},{"$f":"IFERROR(INDEX(PTable[3-Method],MATCH(0,IF(AG$1=PTable[2-Test],COUNTIF(AG$1:AG13,PTable[3-Method]), \"\"),0)),\"\")","v":""},{"$f":"IFERROR(INDEX(PTable[3-Method],MATCH(0,IF(AH$1=PTable[2-Test],COUNTIF(AH$1:AH13,PTable[3-Method]), \"\"),0)),\"\")","v":""},{"$f":"IFERROR(INDEX(PTable[3-Method],MATCH(0,IF(AI$1=PTable[2-Test],COUNTIF(AI$1:AI13,PTable[3-Method]), \"\"),0)),\"\")","v":""},{"$f":"IFERROR(INDEX(PTable[3-Method],MATCH(0,IF(AJ$1=PTable[2-Test],COUNTIF(AJ$1:AJ13,PTable[3-Method]), \"\"),0)),\"\")","v":""},{"$f":"IFERROR(INDEX(PTable[3-Method],MATCH(0,IF(AK$1=PTable[2-Test],COUNTIF(AK$1:AK13,PTable[3-Method]), \"\"),0)),\"\")","v":""},{"$f":"IFERROR(INDEX(PTable[3-Method],MATCH(0,IF(AL$1=PTable[2-Test],COUNTIF(AL$1:AL13,PTable[3-Method]), \"\"),0)),\"\")","v":""},{"$f":"IFERROR(INDEX(PTable[3-Method],MATCH(0,IF(AM$1=PTable[2-Test],COUNTIF(AM$1:AM13,PTable[3-Method]), \"\"),0)),\"\")","v":""},{"$f":"IFERROR(INDEX(PTable[3-Method],MATCH(0,IF(AN$1=PTable[2-Test],COUNTIF(AN$1:AN13,PTable[3-Method]), \"\"),0)),\"\")","v":""},{"$f":"IFERROR(INDEX(PTable[3-Method],MATCH(0,IF(AO$1=PTable[2-Test],COUNTIF(AO$1:AO13,PTable[3-Method]), \"\"),0)),\"\")","v":""},{"$f":"IFERROR(INDEX(PTable[3-Method],MATCH(0,IF(AP$1=PTable[2-Test],COUNTIF(AP$1:AP13,PTable[3-Method]), \"\"),0)),\"\")","v":""},{"$f":"IFERROR(INDEX(PTable[3-Method],MATCH(0,IF(AQ$1=PTable[2-Test],COUNTIF(AQ$1:AQ13,PTable[3-Method]), \"\"),0)),\"\")","v":""},{"$f":"IFERROR(INDEX(PTable[3-Method],MATCH(0,IF(AR$1=PTable[2-Test],COUNTIF(AR$1:AR13,PTable[3-Method]), \"\"),0)),\"\")","v":""},{"$f":"IFERROR(INDEX(PTable[3-Method],MATCH(0,IF(AS$1=PTable[2-Test],COUNTIF(AS$1:AS13,PTable[3-Method]), \"\"),0)),\"\")","v":""},{"$f":"IFERROR(INDEX(PTable[3-Method],MATCH(0,IF(AT$1=PTable[2-Test],COUNTIF(AT$1:AT13,PTable[3-Method]), \"\"),0)),\"\")","v":""},{"$f":"IFERROR(INDEX(PTable[3-Method],MATCH(0,IF(AU$1=PTable[2-Test],COUNTIF(AU$1:AU13,PTable[3-Method]), \"\"),0)),\"\")","v":""},{"$f":"IFERROR(INDEX(PTable[3-Method],MATCH(0,IF(AV$1=PTable[2-Test],COUNTIF(AV$1:AV13,PTable[3-Method]), \"\"),0)),\"\")","v":""},{"$f":"IFERROR(INDEX(PTable[3-Method],MATCH(0,IF(AW$1=PTable[2-Test],COUNTIF(AW$1:AW13,PTable[3-Method]), \"\"),0)),\"\")","v":""},{"$f":"IFERROR(INDEX(PTable[3-Method],MATCH(0,IF(AX$1=PTable[2-Test],COUNTIF(AX$1:AX13,PTable[3-Method]), \"\"),0)),\"\")","v":""},{"$f":"IFERROR(INDEX(PTable[3-Method],MATCH(0,IF(AY$1=PTable[2-Test],COUNTIF(AY$1:AY13,PTable[3-Method]), \"\"),0)),\"\")","v":""},{"$f":"IFERROR(INDEX(PTable[3-Method],MATCH(0,IF(AZ$1=PTable[2-Test],COUNTIF(AZ$1:AZ13,PTable[3-Method]), \"\"),0)),\"\")","v":""},{"$f":"IFERROR(INDEX(PTable[3-Method],MATCH(0,IF(BA$1=PTable[2-Test],COUNTIF(BA$1:BA13,PTable[3-Method]), \"\"),0)),\"\")","v":""},{"$f":"IFERROR(INDEX(PTable[3-Method],MATCH(0,IF(BB$1=PTable[2-Test],COUNTIF(BB$1:BB13,PTable[3-Method]), \"\"),0)),\"\")","v":""},{"$f":"IFERROR(INDEX(PTable[3-Method],MATCH(0,IF(BC$1=PTable[2-Test],COUNTIF(BC$1:BC13,PTable[3-Method]), \"\"),0)),\"\")","v":""},{"$f":"IFERROR(INDEX(PTable[3-Method],MATCH(0,IF(BD$1=PTable[2-Test],COUNTIF(BD$1:BD13,PTable[3-Method]), \"\"),0)),\"\")","v":""},{"$f":"IFERROR(INDEX(PTable[3-Method],MATCH(0,IF(BE$1=PTable[2-Test],COUNTIF(BE$1:BE13,PTable[3-Method]), \"\"),0)),\"\")","v":""},{"$f":"IFERROR(INDEX(PTable[3-Method],MATCH(0,IF(BF$1=PTable[2-Test],COUNTIF(BF$1:BF13,PTable[3-Method]), \"\"),0)),\"\")","v":""},{"$f":"IFERROR(INDEX(PTable[3-Method],MATCH(0,IF(BG$1=PTable[2-Test],COUNTIF(BG$1:BG13,PTable[3-Method]), \"\"),0)),\"\")","v":""},{"$f":"IFERROR(INDEX(PTable[3-Method],MATCH(0,IF(BH$1=PTable[2-Test],COUNTIF(BH$1:BH13,PTable[3-Method]), \"\"),0)),\"\")","v":""},{"$f":"IFERROR(INDEX(PTable[3-Method],MATCH(0,IF(BI$1=PTable[2-Test],COUNTIF(BI$1:BI13,PTable[3-Method]), \"\"),0)),\"\")","v":""},{"$f":"IFERROR(INDEX(PTable[3-Method],MATCH(0,IF(BJ$1=PTable[2-Test],COUNTIF(BJ$1:BJ13,PTable[3-Method]), \"\"),0)),\"\")","v":""},{"$f":"IFERROR(INDEX(PTable[3-Method],MATCH(0,IF(BK$1=PTable[2-Test],COUNTIF(BK$1:BK13,PTable[3-Method]), \"\"),0)),\"\")","v":""},{"$f":"IFERROR(INDEX(PTable[3-Method],MATCH(0,IF(BL$1=PTable[2-Test],COUNTIF(BL$1:BL13,PTable[3-Method]), \"\"),0)),\"\")","v":"mUSsam"},{"$f":"IFERROR(INDEX(PTable[3-Method],MATCH(0,IF(BM$1=PTable[2-Test],COUNTIF(BM$1:BM13,PTable[3-Method]), \"\"),0)),\"\")","v":"mFD125g"},{"$f":"IFERROR(INDEX(PTable[3-Method],MATCH(0,IF(BN$1=PTable[2-Test],COUNTIF(BN$1:BN13,PTable[3-Method]), \"\"),0)),\"\")","v":""},{"$f":"IFERROR(INDEX(PTable[3-Method],MATCH(0,IF(BO$1=PTable[2-Test],COUNTIF(BO$1:BO13,PTable[3-Method]), \"\"),0)),\"\")","v":""},{"$f":"IFERROR(INDEX(PTable[3-Method],MATCH(0,IF(BP$1=PTable[2-Test],COUNTIF(BP$1:BP13,PTable[3-Method]), \"\"),0)),\"\")","v":"mFD125g"},{"$f":"IFERROR(INDEX(PTable[3-Method],MATCH(0,IF(BQ$1=PTable[2-Test],COUNTIF(BQ$1:BQ13,PTable[3-Method]), \"\"),0)),\"\")","v":""},{"$f":"IFERROR(INDEX(PTable[3-Method],MATCH(0,IF(BR$1=PTable[2-Test],COUNTIF(BR$1:BR13,PTable[3-Method]), \"\"),0)),\"\")","v":""},{"$f":"IFERROR(INDEX(PTable[3-Method],MATCH(0,IF(BS$1=PTable[2-Test],COUNTIF(BS$1:BS13,PTable[3-Method]), \"\"),0)),\"\")","v":""},{"$f":"IFERROR(INDEX(PTable[3-Method],MATCH(0,IF(BT$1=PTable[2-Test],COUNTIF(BT$1:BT13,PTable[3-Method]), \"\"),0)),\"\")","v":""},{"$f":"IFERROR(INDEX(PTable[3-Method],MATCH(0,IF(BU$1=PTable[2-Test],COUNTIF(BU$1:BU13,PTable[3-Method]), \"\"),0)),\"\")","v":""},{"$f":"IFERROR(INDEX(PTable[3-Method],MATCH(0,IF(BV$1=PTable[2-Test],COUNTIF(BV$1:BV13,PTable[3-Method]), \"\"),0)),\"\")","v":""},{"$f":"IFERROR(INDEX(PTable[3-Method],MATCH(0,IF(BW$1=PTable[2-Test],COUNTIF(BW$1:BW13,PTable[3-Method]), \"\"),0)),\"\")","v":""},{"$f":"IFERROR(INDEX(PTable[3-Method],MATCH(0,IF(BX$1=PTable[2-Test],COUNTIF(BX$1:BX13,PTable[3-Method]), \"\"),0)),\"\")","v":""},{"$f":"IFERROR(INDEX(PTable[3-Method],MATCH(0,IF(BY$1=PTable[2-Test],COUNTIF(BY$1:BY13,PTable[3-Method]), \"\"),0)),\"\")","v":""},{"$f":"IFERROR(INDEX(PTable[3-Method],MATCH(0,IF(BZ$1=PTable[2-Test],COUNTIF(BZ$1:BZ13,PTable[3-Method]), \"\"),0)),\"\")","v":""},{"$f":"IFERROR(INDEX(PTable[3-Method],MATCH(0,IF(CA$1=PTable[2-Test],COUNTIF(CA$1:CA13,PTable[3-Method]), \"\"),0)),\"\")","v":""},{"$f":"IFERROR(INDEX(PTable[3-Method],MATCH(0,IF(CB$1=PTable[2-Test],COUNTIF(CB$1:CB13,PTable[3-Method]), \"\"),0)),\"\")","v":""},{"$f":"IFERROR(INDEX(PTable[3-Method],MATCH(0,IF(CC$1=PTable[2-Test],COUNTIF(CC$1:CC13,PTable[3-Method]), \"\"),0)),\"\")","v":""},{"$f":"IFERROR(INDEX(PTable[3-Method],MATCH(0,IF(CD$1=PTable[2-Test],COUNTIF(CD$1:CD13,PTable[3-Method]), \"\"),0)),\"\")","v":""},{"$f":"IFERROR(INDEX(PTable[3-Method],MATCH(0,IF(CE$1=PTable[2-Test],COUNTIF(CE$1:CE13,PTable[3-Method]), \"\"),0)),\"\")","v":""},{"$f":"IFERROR(INDEX(PTable[3-Method],MATCH(0,IF(CF$1=PTable[2-Test],COUNTIF(CF$1:CF13,PTable[3-Method]), \"\"),0)),\"\")","v":""},{"$f":"IFERROR(INDEX(PTable[3-Method],MATCH(0,IF(CG$1=PTable[2-Test],COUNTIF(CG$1:CG13,PTable[3-Method]), \"\"),0)),\"\")","v":""},{"$f":"IFERROR(INDEX(PTable[3-Method],MATCH(0,IF(CH$1=PTable[2-Test],COUNTIF(CH$1:CH13,PTable[3-Method]), \"\"),0)),\"\")","v":""},{"$f":"IFERROR(INDEX(PTable[3-Method],MATCH(0,IF(CI$1=PTable[2-Test],COUNTIF(CI$1:CI13,PTable[3-Method]), \"\"),0)),\"\")","v":""},{"$f":"IFERROR(INDEX(PTable[3-Method],MATCH(0,IF(CJ$1=PTable[2-Test],COUNTIF(CJ$1:CJ13,PTable[3-Method]), \"\"),0)),\"\")","v":""},{"$f":"IFERROR(INDEX(PTable[3-Method],MATCH(0,IF(CK$1=PTable[2-Test],COUNTIF(CK$1:CK13,PTable[3-Method]), \"\"),0)),\"\")","v":""},{"$f":"IFERROR(INDEX(PTable[3-Method],MATCH(0,IF(CL$1=PTable[2-Test],COUNTIF(CL$1:CL13,PTable[3-Method]), \"\"),0)),\"\")","v":""},{"$f":"IFERROR(INDEX(PTable[3-Method],MATCH(0,IF(CM$1=PTable[2-Test],COUNTIF(CM$1:CM13,PTable[3-Method]), \"\"),0)),\"\")","v":""},{"$f":"IFERROR(INDEX(PTable[3-Method],MATCH(0,IF(CN$1=PTable[2-Test],COUNTIF(CN$1:CN13,PTable[3-Method]), \"\"),0)),\"\")","v":""},{"$f":"IFERROR(INDEX(PTable[3-Method],MATCH(0,IF(CO$1=PTable[2-Test],COUNTIF(CO$1:CO13,PTable[3-Method]), \"\"),0)),\"\")","v":""},{"$f":"IFERROR(INDEX(PTable[3-Method],MATCH(0,IF(CP$1=PTable[2-Test],COUNTIF(CP$1:CP13,PTable[3-Method]), \"\"),0)),\"\")","v":""},{"$f":"IFERROR(INDEX(PTable[3-Method],MATCH(0,IF(CQ$1=PTable[2-Test],COUNTIF(CQ$1:CQ13,PTable[3-Method]), \"\"),0)),\"\")","v":""},{"$f":"IFERROR(INDEX(PTable[3-Method],MATCH(0,IF(CR$1=PTable[2-Test],COUNTIF(CR$1:CR13,PTable[3-Method]), \"\"),0)),\"\")","v":""},{"$f":"IFERROR(INDEX(PTable[3-Method],MATCH(0,IF(CS$1=PTable[2-Test],COUNTIF(CS$1:CS13,PTable[3-Method]), \"\"),0)),\"\")","v":""},{"$f":"IFERROR(INDEX(PTable[3-Method],MATCH(0,IF(CT$1=PTable[2-Test],COUNTIF(CT$1:CT13,PTable[3-Method]), \"\"),0)),\"\")","v":""},{"$f":"IFERROR(INDEX(PTable[3-Method],MATCH(0,IF(CU$1=PTable[2-Test],COUNTIF(CU$1:CU13,PTable[3-Method]), \"\"),0)),\"\")","v":""},{"$f":"IFERROR(INDEX(PTable[3-Method],MATCH(0,IF(CV$1=PTable[2-Test],COUNTIF(CV$1:CV13,PTable[3-Method]), \"\"),0)),\"\")","v":""},{"$f":"IFERROR(INDEX(PTable[3-Method],MATCH(0,IF(CW$1=PTable[2-Test],COUNTIF(CW$1:CW13,PTable[3-Method]), \"\"),0)),\"\")","v":""},{"$f":"IFERROR(INDEX(PTable[3-Method],MATCH(0,IF(CX$1=PTable[2-Test],COUNTIF(CX$1:CX13,PTable[3-Method]), \"\"),0)),\"\")","v":""},{"$f":"IFERROR(INDEX(PTable[3-Method],MATCH(0,IF(CY$1=PTable[2-Test],COUNTIF(CY$1:CY13,PTable[3-Method]), \"\"),0)),\"\")","v":""},{"$f":"IFERROR(INDEX(PTable[3-Method],MATCH(0,IF(CZ$1=PTable[2-Test],COUNTIF(CZ$1:CZ13,PTable[3-Method]), \"\"),0)),\"\")","v":""},{"$f":"IFERROR(INDEX(PTable[3-Method],MATCH(0,IF(DA$1=PTable[2-Test],COUNTIF(DA$1:DA13,PTable[3-Method]), \"\"),0)),\"\")","v":""},{"$f":"IFERROR(INDEX(PTable[3-Method],MATCH(0,IF(DB$1=PTable[2-Test],COUNTIF(DB$1:DB13,PTable[3-Method]), \"\"),0)),\"\")","v":""},{"$f":"IFERROR(INDEX(PTable[3-Method],MATCH(0,IF(DC$1=PTable[2-Test],COUNTIF(DC$1:DC13,PTable[3-Method]), \"\"),0)),\"\")","v":""},{"$f":"IFERROR(INDEX(PTable[3-Method],MATCH(0,IF(DD$1=PTable[2-Test],COUNTIF(DD$1:DD13,PTable[3-Method]), \"\"),0)),\"\")","v":""},{"$f":"IFERROR(INDEX(PTable[3-Method],MATCH(0,IF(DE$1=PTable[2-Test],COUNTIF(DE$1:DE13,PTable[3-Method]), \"\"),0)),\"\")","v":""},{"$f":"IFERROR(INDEX(PTable[3-Method],MATCH(0,IF(DF$1=PTable[2-Test],COUNTIF(DF$1:DF13,PTable[3-Method]), \"\"),0)),\"\")","v":""},{"$f":"IFERROR(INDEX(PTable[3-Method],MATCH(0,IF(DG$1=PTable[2-Test],COUNTIF(DG$1:DG13,PTable[3-Method]), \"\"),0)),\"\")","v":""},{"$f":"IFERROR(INDEX(PTable[3-Method],MATCH(0,IF(DH$1=PTable[2-Test],COUNTIF(DH$1:DH13,PTable[3-Method]), \"\"),0)),\"\")","v":""},{"$f":"IFERROR(INDEX(PTable[3-Method],MATCH(0,IF(DI$1=PTable[2-Test],COUNTIF(DI$1:DI13,PTable[3-Method]), \"\"),0)),\"\")","v":""},{"$f":"IFERROR(INDEX(PTable[3-Method],MATCH(0,IF(DJ$1=PTable[2-Test],COUNTIF(DJ$1:DJ13,PTable[3-Method]), \"\"),0)),\"\")","v":""}]
[null,{"$f":"IFERROR(INDEX(PTable[2-Test],MATCH(0,IF(B$1=PTable[1-Type],COUNTIF(B$1:B14,PTable[2-Test]), \"\"),0)),\"\")","v":"BTGNqn"},{"$f":"IFERROR(INDEX(PTable[2-Test],MATCH(0,IF(C$1=PTable[1-Type],COUNTIF(C$1:C14,PTable[2-Test]), \"\"),0)),\"\")","v":"Sp.TAn"},{"$f":"IFERROR(INDEX(PTable[2-Test],MATCH(0,IF(D$1=PTable[1-Type],COUNTIF(D$1:D14,PTable[2-Test]), \"\"),0)),\"\")","v":"MPR"},{"$f":"IFERROR(INDEX(PTable[2-Test],MATCH(0,IF(E$1=PTable[1-Type],COUNTIF(E$1:E14,PTable[2-Test]), \"\"),0)),\"\")","v":""},{"$f":"IFERROR(INDEX(PTable[2-Test],MATCH(0,IF(F$1=PTable[1-Type],COUNTIF(F$1:F14,PTable[2-Test]), \"\"),0)),\"\")","v":"Pecan"},{"$f":"IFERROR(INDEX(PTable[3-Method],MATCH(0,IF(G$1=PTable[2-Test],COUNTIF(G$1:G14,PTable[3-Method]), \"\"),0)),\"\")","v":""},{"$f":"IFERROR(INDEX(PTable[3-Method],MATCH(0,IF(H$1=PTable[2-Test],COUNTIF(H$1:H14,PTable[3-Method]), \"\"),0)),\"\")","v":""},{"$f":"IFERROR(INDEX(PTable[3-Method],MATCH(0,IF(I$1=PTable[2-Test],COUNTIF(I$1:I14,PTable[3-Method]), \"\"),0)),\"\")","v":""},{"$f":"IFERROR(INDEX(PTable[3-Method],MATCH(0,IF(J$1=PTable[2-Test],COUNTIF(J$1:J14,PTable[3-Method]), \"\"),0)),\"\")","v":""},{"$f":"IFERROR(INDEX(PTable[3-Method],MATCH(0,IF(K$1=PTable[2-Test],COUNTIF(K$1:K14,PTable[3-Method]), \"\"),0)),\"\")","v":""},{"$f":"IFERROR(INDEX(PTable[3-Method],MATCH(0,IF(L$1=PTable[2-Test],COUNTIF(L$1:L14,PTable[3-Method]), \"\"),0)),\"\")","v":""},{"$f":"IFERROR(INDEX(PTable[3-Method],MATCH(0,IF(M$1=PTable[2-Test],COUNTIF(M$1:M14,PTable[3-Method]), \"\"),0)),\"\")","v":""},{"$f":"IFERROR(INDEX(PTable[3-Method],MATCH(0,IF(N$1=PTable[2-Test],COUNTIF(N$1:N14,PTable[3-Method]), \"\"),0)),\"\")","v":""},{"$f":"IFERROR(INDEX(PTable[3-Method],MATCH(0,IF(O$1=PTable[2-Test],COUNTIF(O$1:O14,PTable[3-Method]), \"\"),0)),\"\")","v":""},{"$f":"IFERROR(INDEX(PTable[3-Method],MATCH(0,IF(P$1=PTable[2-Test],COUNTIF(P$1:P14,PTable[3-Method]), \"\"),0)),\"\")","v":""},{"$f":"IFERROR(INDEX(PTable[3-Method],MATCH(0,IF(Q$1=PTable[2-Test],COUNTIF(Q$1:Q14,PTable[3-Method]), \"\"),0)),\"\")","v":""},{"$f":"IFERROR(INDEX(PTable[3-Method],MATCH(0,IF(R$1=PTable[2-Test],COUNTIF(R$1:R14,PTable[3-Method]), \"\"),0)),\"\")","v":""},{"$f":"IFERROR(INDEX(PTable[3-Method],MATCH(0,IF(S$1=PTable[2-Test],COUNTIF(S$1:S14,PTable[3-Method]), \"\"),0)),\"\")","v":""},{"$f":"IFERROR(INDEX(PTable[3-Method],MATCH(0,IF(T$1=PTable[2-Test],COUNTIF(T$1:T14,PTable[3-Method]), \"\"),0)),\"\")","v":""},{"$f":"IFERROR(INDEX(PTable[3-Method],MATCH(0,IF(U$1=PTable[2-Test],COUNTIF(U$1:U14,PTable[3-Method]), \"\"),0)),\"\")","v":""},{"$f":"IFERROR(INDEX(PTable[3-Method],MATCH(0,IF(V$1=PTable[2-Test],COUNTIF(V$1:V14,PTable[3-Method]), \"\"),0)),\"\")","v":""},{"$f":"IFERROR(INDEX(PTable[3-Method],MATCH(0,IF(W$1=PTable[2-Test],COUNTIF(W$1:W14,PTable[3-Method]), \"\"),0)),\"\")","v":""},{"$f":"IFERROR(INDEX(PTable[3-Method],MATCH(0,IF(X$1=PTable[2-Test],COUNTIF(X$1:X14,PTable[3-Method]), \"\"),0)),\"\")","v":""},{"$f":"IFERROR(INDEX(PTable[3-Method],MATCH(0,IF(Y$1=PTable[2-Test],COUNTIF(Y$1:Y14,PTable[3-Method]), \"\"),0)),\"\")","v":""},{"$f":"IFERROR(INDEX(PTable[3-Method],MATCH(0,IF(Z$1=PTable[2-Test],COUNTIF(Z$1:Z14,PTable[3-Method]), \"\"),0)),\"\")","v":""},{"$f":"IFERROR(INDEX(PTable[3-Method],MATCH(0,IF(AA$1=PTable[2-Test],COUNTIF(AA$1:AA14,PTable[3-Method]), \"\"),0)),\"\")","v":""},{"$f":"IFERROR(INDEX(PTable[3-Method],MATCH(0,IF(AB$1=PTable[2-Test],COUNTIF(AB$1:AB14,PTable[3-Method]), \"\"),0)),\"\")","v":""},{"$f":"IFERROR(INDEX(PTable[3-Method],MATCH(0,IF(AC$1=PTable[2-Test],COUNTIF(AC$1:AC14,PTable[3-Method]), \"\"),0)),\"\")","v":""},{"$f":"IFERROR(INDEX(PTable[3-Method],MATCH(0,IF(AD$1=PTable[2-Test],COUNTIF(AD$1:AD14,PTable[3-Method]), \"\"),0)),\"\")","v":""},{"$f":"IFERROR(INDEX(PTable[3-Method],MATCH(0,IF(AE$1=PTable[2-Test],COUNTIF(AE$1:AE14,PTable[3-Method]), \"\"),0)),\"\")","v":""},{"$f":"IFERROR(INDEX(PTable[3-Method],MATCH(0,IF(AF$1=PTable[2-Test],COUNTIF(AF$1:AF14,PTable[3-Method]), \"\"),0)),\"\")","v":""},{"$f":"IFERROR(INDEX(PTable[3-Method],MATCH(0,IF(AG$1=PTable[2-Test],COUNTIF(AG$1:AG14,PTable[3-Method]), \"\"),0)),\"\")","v":""},{"$f":"IFERROR(INDEX(PTable[3-Method],MATCH(0,IF(AH$1=PTable[2-Test],COUNTIF(AH$1:AH14,PTable[3-Method]), \"\"),0)),\"\")","v":""},{"$f":"IFERROR(INDEX(PTable[3-Method],MATCH(0,IF(AI$1=PTable[2-Test],COUNTIF(AI$1:AI14,PTable[3-Method]), \"\"),0)),\"\")","v":""},{"$f":"IFERROR(INDEX(PTable[3-Method],MATCH(0,IF(AJ$1=PTable[2-Test],COUNTIF(AJ$1:AJ14,PTable[3-Method]), \"\"),0)),\"\")","v":""},{"$f":"IFERROR(INDEX(PTable[3-Method],MATCH(0,IF(AK$1=PTable[2-Test],COUNTIF(AK$1:AK14,PTable[3-Method]), \"\"),0)),\"\")","v":""},{"$f":"IFERROR(INDEX(PTable[3-Method],MATCH(0,IF(AL$1=PTable[2-Test],COUNTIF(AL$1:AL14,PTable[3-Method]), \"\"),0)),\"\")","v":""},{"$f":"IFERROR(INDEX(PTable[3-Method],MATCH(0,IF(AM$1=PTable[2-Test],COUNTIF(AM$1:AM14,PTable[3-Method]), \"\"),0)),\"\")","v":""},{"$f":"IFERROR(INDEX(PTable[3-Method],MATCH(0,IF(AN$1=PTable[2-Test],COUNTIF(AN$1:AN14,PTable[3-Method]), \"\"),0)),\"\")","v":""},{"$f":"IFERROR(INDEX(PTable[3-Method],MATCH(0,IF(AO$1=PTable[2-Test],COUNTIF(AO$1:AO14,PTable[3-Method]), \"\"),0)),\"\")","v":""},{"$f":"IFERROR(INDEX(PTable[3-Method],MATCH(0,IF(AP$1=PTable[2-Test],COUNTIF(AP$1:AP14,PTable[3-Method]), \"\"),0)),\"\")","v":""},{"$f":"IFERROR(INDEX(PTable[3-Method],MATCH(0,IF(AQ$1=PTable[2-Test],COUNTIF(AQ$1:AQ14,PTable[3-Method]), \"\"),0)),\"\")","v":""},{"$f":"IFERROR(INDEX(PTable[3-Method],MATCH(0,IF(AR$1=PTable[2-Test],COUNTIF(AR$1:AR14,PTable[3-Method]), \"\"),0)),\"\")","v":""},{"$f":"IFERROR(INDEX(PTable[3-Method],MATCH(0,IF(AS$1=PTable[2-Test],COUNTIF(AS$1:AS14,PTable[3-Method]), \"\"),0)),\"\")","v":""},{"$f":"IFERROR(INDEX(PTable[3-Method],MATCH(0,IF(AT$1=PTable[2-Test],COUNTIF(AT$1:AT14,PTable[3-Method]), \"\"),0)),\"\")","v":""},{"$f":"IFERROR(INDEX(PTable[3-Method],MATCH(0,IF(AU$1=PTable[2-Test],COUNTIF(AU$1:AU14,PTable[3-Method]), \"\"),0)),\"\")","v":""},{"$f":"IFERROR(INDEX(PTable[3-Method],MATCH(0,IF(AV$1=PTable[2-Test],COUNTIF(AV$1:AV14,PTable[3-Method]), \"\"),0)),\"\")","v":""},{"$f":"IFERROR(INDEX(PTable[3-Method],MATCH(0,IF(AW$1=PTable[2-Test],COUNTIF(AW$1:AW14,PTable[3-Method]), \"\"),0)),\"\")","v":""},{"$f":"IFERROR(INDEX(PTable[3-Method],MATCH(0,IF(AX$1=PTable[2-Test],COUNTIF(AX$1:AX14,PTable[3-Method]), \"\"),0)),\"\")","v":""},{"$f":"IFERROR(INDEX(PTable[3-Method],MATCH(0,IF(AY$1=PTable[2-Test],COUNTIF(AY$1:AY14,PTable[3-Method]), \"\"),0)),\"\")","v":""},{"$f":"IFERROR(INDEX(PTable[3-Method],MATCH(0,IF(AZ$1=PTable[2-Test],COUNTIF(AZ$1:AZ14,PTable[3-Method]), \"\"),0)),\"\")","v":""},{"$f":"IFERROR(INDEX(PTable[3-Method],MATCH(0,IF(BA$1=PTable[2-Test],COUNTIF(BA$1:BA14,PTable[3-Method]), \"\"),0)),\"\")","v":""},{"$f":"IFERROR(INDEX(PTable[3-Method],MATCH(0,IF(BB$1=PTable[2-Test],COUNTIF(BB$1:BB14,PTable[3-Method]), \"\"),0)),\"\")","v":""},{"$f":"IFERROR(INDEX(PTable[3-Method],MATCH(0,IF(BC$1=PTable[2-Test],COUNTIF(BC$1:BC14,PTable[3-Method]), \"\"),0)),\"\")","v":""},{"$f":"IFERROR(INDEX(PTable[3-Method],MATCH(0,IF(BD$1=PTable[2-Test],COUNTIF(BD$1:BD14,PTable[3-Method]), \"\"),0)),\"\")","v":""},{"$f":"IFERROR(INDEX(PTable[3-Method],MATCH(0,IF(BE$1=PTable[2-Test],COUNTIF(BE$1:BE14,PTable[3-Method]), \"\"),0)),\"\")","v":""},{"$f":"IFERROR(INDEX(PTable[3-Method],MATCH(0,IF(BF$1=PTable[2-Test],COUNTIF(BF$1:BF14,PTable[3-Method]), \"\"),0)),\"\")","v":""},{"$f":"IFERROR(INDEX(PTable[3-Method],MATCH(0,IF(BG$1=PTable[2-Test],COUNTIF(BG$1:BG14,PTable[3-Method]), \"\"),0)),\"\")","v":""},{"$f":"IFERROR(INDEX(PTable[3-Method],MATCH(0,IF(BH$1=PTable[2-Test],COUNTIF(BH$1:BH14,PTable[3-Method]), \"\"),0)),\"\")","v":""},{"$f":"IFERROR(INDEX(PTable[3-Method],MATCH(0,IF(BI$1=PTable[2-Test],COUNTIF(BI$1:BI14,PTable[3-Method]), \"\"),0)),\"\")","v":""},{"$f":"IFERROR(INDEX(PTable[3-Method],MATCH(0,IF(BJ$1=PTable[2-Test],COUNTIF(BJ$1:BJ14,PTable[3-Method]), \"\"),0)),\"\")","v":""},{"$f":"IFERROR(INDEX(PTable[3-Method],MATCH(0,IF(BK$1=PTable[2-Test],COUNTIF(BK$1:BK14,PTable[3-Method]), \"\"),0)),\"\")","v":""},{"$f":"IFERROR(INDEX(PTable[3-Method],MATCH(0,IF(BL$1=PTable[2-Test],COUNTIF(BL$1:BL14,PTable[3-Method]), \"\"),0)),\"\")","v":"PCR100g"},{"$f":"IFERROR(INDEX(PTable[3-Method],MATCH(0,IF(BM$1=PTable[2-Test],COUNTIF(BM$1:BM14,PTable[3-Method]), \"\"),0)),\"\")","v":"mUS100g"},{"$f":"IFERROR(INDEX(PTable[3-Method],MATCH(0,IF(BN$1=PTable[2-Test],COUNTIF(BN$1:BN14,PTable[3-Method]), \"\"),0)),\"\")","v":""},{"$f":"IFERROR(INDEX(PTable[3-Method],MATCH(0,IF(BO$1=PTable[2-Test],COUNTIF(BO$1:BO14,PTable[3-Method]), \"\"),0)),\"\")","v":""},{"$f":"IFERROR(INDEX(PTable[3-Method],MATCH(0,IF(BP$1=PTable[2-Test],COUNTIF(BP$1:BP14,PTable[3-Method]), \"\"),0)),\"\")","v":"mFD150g"},{"$f":"IFERROR(INDEX(PTable[3-Method],MATCH(0,IF(BQ$1=PTable[2-Test],COUNTIF(BQ$1:BQ14,PTable[3-Method]), \"\"),0)),\"\")","v":""},{"$f":"IFERROR(INDEX(PTable[3-Method],MATCH(0,IF(BR$1=PTable[2-Test],COUNTIF(BR$1:BR14,PTable[3-Method]), \"\"),0)),\"\")","v":""},{"$f":"IFERROR(INDEX(PTable[3-Method],MATCH(0,IF(BS$1=PTable[2-Test],COUNTIF(BS$1:BS14,PTable[3-Method]), \"\"),0)),\"\")","v":""},{"$f":"IFERROR(INDEX(PTable[3-Method],MATCH(0,IF(BT$1=PTable[2-Test],COUNTIF(BT$1:BT14,PTable[3-Method]), \"\"),0)),\"\")","v":""},{"$f":"IFERROR(INDEX(PTable[3-Method],MATCH(0,IF(BU$1=PTable[2-Test],COUNTIF(BU$1:BU14,PTable[3-Method]), \"\"),0)),\"\")","v":""},{"$f":"IFERROR(INDEX(PTable[3-Method],MATCH(0,IF(BV$1=PTable[2-Test],COUNTIF(BV$1:BV14,PTable[3-Method]), \"\"),0)),\"\")","v":""},{"$f":"IFERROR(INDEX(PTable[3-Method],MATCH(0,IF(BW$1=PTable[2-Test],COUNTIF(BW$1:BW14,PTable[3-Method]), \"\"),0)),\"\")","v":""},{"$f":"IFERROR(INDEX(PTable[3-Method],MATCH(0,IF(BX$1=PTable[2-Test],COUNTIF(BX$1:BX14,PTable[3-Method]), \"\"),0)),\"\")","v":""},{"$f":"IFERROR(INDEX(PTable[3-Method],MATCH(0,IF(BY$1=PTable[2-Test],COUNTIF(BY$1:BY14,PTable[3-Method]), \"\"),0)),\"\")","v":""},{"$f":"IFERROR(INDEX(PTable[3-Method],MATCH(0,IF(BZ$1=PTable[2-Test],COUNTIF(BZ$1:BZ14,PTable[3-Method]), \"\"),0)),\"\")","v":""},{"$f":"IFERROR(INDEX(PTable[3-Method],MATCH(0,IF(CA$1=PTable[2-Test],COUNTIF(CA$1:CA14,PTable[3-Method]), \"\"),0)),\"\")","v":""},{"$f":"IFERROR(INDEX(PTable[3-Method],MATCH(0,IF(CB$1=PTable[2-Test],COUNTIF(CB$1:CB14,PTable[3-Method]), \"\"),0)),\"\")","v":""},{"$f":"IFERROR(INDEX(PTable[3-Method],MATCH(0,IF(CC$1=PTable[2-Test],COUNTIF(CC$1:CC14,PTable[3-Method]), \"\"),0)),\"\")","v":""},{"$f":"IFERROR(INDEX(PTable[3-Method],MATCH(0,IF(CD$1=PTable[2-Test],COUNTIF(CD$1:CD14,PTable[3-Method]), \"\"),0)),\"\")","v":""},{"$f":"IFERROR(INDEX(PTable[3-Method],MATCH(0,IF(CE$1=PTable[2-Test],COUNTIF(CE$1:CE14,PTable[3-Method]), \"\"),0)),\"\")","v":""},{"$f":"IFERROR(INDEX(PTable[3-Method],MATCH(0,IF(CF$1=PTable[2-Test],COUNTIF(CF$1:CF14,PTable[3-Method]), \"\"),0)),\"\")","v":""},{"$f":"IFERROR(INDEX(PTable[3-Method],MATCH(0,IF(CG$1=PTable[2-Test],COUNTIF(CG$1:CG14,PTable[3-Method]), \"\"),0)),\"\")","v":""},{"$f":"IFERROR(INDEX(PTable[3-Method],MATCH(0,IF(CH$1=PTable[2-Test],COUNTIF(CH$1:CH14,PTable[3-Method]), \"\"),0)),\"\")","v":""},{"$f":"IFERROR(INDEX(PTable[3-Method],MATCH(0,IF(CI$1=PTable[2-Test],COUNTIF(CI$1:CI14,PTable[3-Method]), \"\"),0)),\"\")","v":""},{"$f":"IFERROR(INDEX(PTable[3-Method],MATCH(0,IF(CJ$1=PTable[2-Test],COUNTIF(CJ$1:CJ14,PTable[3-Method]), \"\"),0)),\"\")","v":""},{"$f":"IFERROR(INDEX(PTable[3-Method],MATCH(0,IF(CK$1=PTable[2-Test],COUNTIF(CK$1:CK14,PTable[3-Method]), \"\"),0)),\"\")","v":""},{"$f":"IFERROR(INDEX(PTable[3-Method],MATCH(0,IF(CL$1=PTable[2-Test],COUNTIF(CL$1:CL14,PTable[3-Method]), \"\"),0)),\"\")","v":""},{"$f":"IFERROR(INDEX(PTable[3-Method],MATCH(0,IF(CM$1=PTable[2-Test],COUNTIF(CM$1:CM14,PTable[3-Method]), \"\"),0)),\"\")","v":""},{"$f":"IFERROR(INDEX(PTable[3-Method],MATCH(0,IF(CN$1=PTable[2-Test],COUNTIF(CN$1:CN14,PTable[3-Method]), \"\"),0)),\"\")","v":""},{"$f":"IFERROR(INDEX(PTable[3-Method],MATCH(0,IF(CO$1=PTable[2-Test],COUNTIF(CO$1:CO14,PTable[3-Method]), \"\"),0)),\"\")","v":""},{"$f":"IFERROR(INDEX(PTable[3-Method],MATCH(0,IF(CP$1=PTable[2-Test],COUNTIF(CP$1:CP14,PTable[3-Method]), \"\"),0)),\"\")","v":""},{"$f":"IFERROR(INDEX(PTable[3-Method],MATCH(0,IF(CQ$1=PTable[2-Test],COUNTIF(CQ$1:CQ14,PTable[3-Method]), \"\"),0)),\"\")","v":""},{"$f":"IFERROR(INDEX(PTable[3-Method],MATCH(0,IF(CR$1=PTable[2-Test],COUNTIF(CR$1:CR14,PTable[3-Method]), \"\"),0)),\"\")","v":""},{"$f":"IFERROR(INDEX(PTable[3-Method],MATCH(0,IF(CS$1=PTable[2-Test],COUNTIF(CS$1:CS14,PTable[3-Method]), \"\"),0)),\"\")","v":""},{"$f":"IFERROR(INDEX(PTable[3-Method],MATCH(0,IF(CT$1=PTable[2-Test],COUNTIF(CT$1:CT14,PTable[3-Method]), \"\"),0)),\"\")","v":""},{"$f":"IFERROR(INDEX(PTable[3-Method],MATCH(0,IF(CU$1=PTable[2-Test],COUNTIF(CU$1:CU14,PTable[3-Method]), \"\"),0)),\"\")","v":""},{"$f":"IFERROR(INDEX(PTable[3-Method],MATCH(0,IF(CV$1=PTable[2-Test],COUNTIF(CV$1:CV14,PTable[3-Method]), \"\"),0)),\"\")","v":""},{"$f":"IFERROR(INDEX(PTable[3-Method],MATCH(0,IF(CW$1=PTable[2-Test],COUNTIF(CW$1:CW14,PTable[3-Method]), \"\"),0)),\"\")","v":""},{"$f":"IFERROR(INDEX(PTable[3-Method],MATCH(0,IF(CX$1=PTable[2-Test],COUNTIF(CX$1:CX14,PTable[3-Method]), \"\"),0)),\"\")","v":""},{"$f":"IFERROR(INDEX(PTable[3-Method],MATCH(0,IF(CY$1=PTable[2-Test],COUNTIF(CY$1:CY14,PTable[3-Method]), \"\"),0)),\"\")","v":""},{"$f":"IFERROR(INDEX(PTable[3-Method],MATCH(0,IF(CZ$1=PTable[2-Test],COUNTIF(CZ$1:CZ14,PTable[3-Method]), \"\"),0)),\"\")","v":""},{"$f":"IFERROR(INDEX(PTable[3-Method],MATCH(0,IF(DA$1=PTable[2-Test],COUNTIF(DA$1:DA14,PTable[3-Method]), \"\"),0)),\"\")","v":""},{"$f":"IFERROR(INDEX(PTable[3-Method],MATCH(0,IF(DB$1=PTable[2-Test],COUNTIF(DB$1:DB14,PTable[3-Method]), \"\"),0)),\"\")","v":""},{"$f":"IFERROR(INDEX(PTable[3-Method],MATCH(0,IF(DC$1=PTable[2-Test],COUNTIF(DC$1:DC14,PTable[3-Method]), \"\"),0)),\"\")","v":""},{"$f":"IFERROR(INDEX(PTable[3-Method],MATCH(0,IF(DD$1=PTable[2-Test],COUNTIF(DD$1:DD14,PTable[3-Method]), \"\"),0)),\"\")","v":""},{"$f":"IFERROR(INDEX(PTable[3-Method],MATCH(0,IF(DE$1=PTable[2-Test],COUNTIF(DE$1:DE14,PTable[3-Method]), \"\"),0)),\"\")","v":""},{"$f":"IFERROR(INDEX(PTable[3-Method],MATCH(0,IF(DF$1=PTable[2-Test],COUNTIF(DF$1:DF14,PTable[3-Method]), \"\"),0)),\"\")","v":""},{"$f":"IFERROR(INDEX(PTable[3-Method],MATCH(0,IF(DG$1=PTable[2-Test],COUNTIF(DG$1:DG14,PTable[3-Method]), \"\"),0)),\"\")","v":""},{"$f":"IFERROR(INDEX(PTable[3-Method],MATCH(0,IF(DH$1=PTable[2-Test],COUNTIF(DH$1:DH14,PTable[3-Method]), \"\"),0)),\"\")","v":""},{"$f":"IFERROR(INDEX(PTable[3-Method],MATCH(0,IF(DI$1=PTable[2-Test],COUNTIF(DI$1:DI14,PTable[3-Method]), \"\"),0)),\"\")","v":""},{"$f":"IFERROR(INDEX(PTable[3-Method],MATCH(0,IF(DJ$1=PTable[2-Test],COUNTIF(DJ$1:DJ14,PTable[3-Method]), \"\"),0)),\"\")","v":""}]
[null,{"$f":"IFERROR(INDEX(PTable[2-Test],MATCH(0,IF(B$1=PTable[1-Type],COUNTIF(B$1:B15,PTable[2-Test]), \"\"),0)),\"\")","v":"C.bot"},{"$f":"IFERROR(INDEX(PTable[2-Test],MATCH(0,IF(C$1=PTable[1-Type],COUNTIF(C$1:C15,PTable[2-Test]), \"\"),0)),\"\")","v":"Staph.A"},{"$f":"IFERROR(INDEX(PTable[2-Test],MATCH(0,IF(D$1=PTable[1-Type],COUNTIF(D$1:D15,PTable[2-Test]), \"\"),0)),\"\")","v":"Na"},{"$f":"IFERROR(INDEX(PTable[2-Test],MATCH(0,IF(E$1=PTable[1-Type],COUNTIF(E$1:E15,PTable[2-Test]), \"\"),0)),\"\")","v":""},{"$f":"IFERROR(INDEX(PTable[2-Test],MATCH(0,IF(F$1=PTable[1-Type],COUNTIF(F$1:F15,PTable[2-Test]), \"\"),0)),\"\")","v":"Pine"},{"$f":"IFERROR(INDEX(PTable[3-Method],MATCH(0,IF(G$1=PTable[2-Test],COUNTIF(G$1:G15,PTable[3-Method]), \"\"),0)),\"\")","v":""},{"$f":"IFERROR(INDEX(PTable[3-Method],MATCH(0,IF(H$1=PTable[2-Test],COUNTIF(H$1:H15,PTable[3-Method]), \"\"),0)),\"\")","v":""},{"$f":"IFERROR(INDEX(PTable[3-Method],MATCH(0,IF(I$1=PTable[2-Test],COUNTIF(I$1:I15,PTable[3-Method]), \"\"),0)),\"\")","v":""},{"$f":"IFERROR(INDEX(PTable[3-Method],MATCH(0,IF(J$1=PTable[2-Test],COUNTIF(J$1:J15,PTable[3-Method]), \"\"),0)),\"\")","v":""},{"$f":"IFERROR(INDEX(PTable[3-Method],MATCH(0,IF(K$1=PTable[2-Test],COUNTIF(K$1:K15,PTable[3-Method]), \"\"),0)),\"\")","v":""},{"$f":"IFERROR(INDEX(PTable[3-Method],MATCH(0,IF(L$1=PTable[2-Test],COUNTIF(L$1:L15,PTable[3-Method]), \"\"),0)),\"\")","v":""},{"$f":"IFERROR(INDEX(PTable[3-Method],MATCH(0,IF(M$1=PTable[2-Test],COUNTIF(M$1:M15,PTable[3-Method]), \"\"),0)),\"\")","v":""},{"$f":"IFERROR(INDEX(PTable[3-Method],MATCH(0,IF(N$1=PTable[2-Test],COUNTIF(N$1:N15,PTable[3-Method]), \"\"),0)),\"\")","v":""},{"$f":"IFERROR(INDEX(PTable[3-Method],MATCH(0,IF(O$1=PTable[2-Test],COUNTIF(O$1:O15,PTable[3-Method]), \"\"),0)),\"\")","v":""},{"$f":"IFERROR(INDEX(PTable[3-Method],MATCH(0,IF(P$1=PTable[2-Test],COUNTIF(P$1:P15,PTable[3-Method]), \"\"),0)),\"\")","v":""},{"$f":"IFERROR(INDEX(PTable[3-Method],MATCH(0,IF(Q$1=PTable[2-Test],COUNTIF(Q$1:Q15,PTable[3-Method]), \"\"),0)),\"\")","v":""},{"$f":"IFERROR(INDEX(PTable[3-Method],MATCH(0,IF(R$1=PTable[2-Test],COUNTIF(R$1:R15,PTable[3-Method]), \"\"),0)),\"\")","v":""},{"$f":"IFERROR(INDEX(PTable[3-Method],MATCH(0,IF(S$1=PTable[2-Test],COUNTIF(S$1:S15,PTable[3-Method]), \"\"),0)),\"\")","v":""},{"$f":"IFERROR(INDEX(PTable[3-Method],MATCH(0,IF(T$1=PTable[2-Test],COUNTIF(T$1:T15,PTable[3-Method]), \"\"),0)),\"\")","v":""},{"$f":"IFERROR(INDEX(PTable[3-Method],MATCH(0,IF(U$1=PTable[2-Test],COUNTIF(U$1:U15,PTable[3-Method]), \"\"),0)),\"\")","v":""},{"$f":"IFERROR(INDEX(PTable[3-Method],MATCH(0,IF(V$1=PTable[2-Test],COUNTIF(V$1:V15,PTable[3-Method]), \"\"),0)),\"\")","v":""},{"$f":"IFERROR(INDEX(PTable[3-Method],MATCH(0,IF(W$1=PTable[2-Test],COUNTIF(W$1:W15,PTable[3-Method]), \"\"),0)),\"\")","v":""},{"$f":"IFERROR(INDEX(PTable[3-Method],MATCH(0,IF(X$1=PTable[2-Test],COUNTIF(X$1:X15,PTable[3-Method]), \"\"),0)),\"\")","v":""},{"$f":"IFERROR(INDEX(PTable[3-Method],MATCH(0,IF(Y$1=PTable[2-Test],COUNTIF(Y$1:Y15,PTable[3-Method]), \"\"),0)),\"\")","v":""},{"$f":"IFERROR(INDEX(PTable[3-Method],MATCH(0,IF(Z$1=PTable[2-Test],COUNTIF(Z$1:Z15,PTable[3-Method]), \"\"),0)),\"\")","v":""},{"$f":"IFERROR(INDEX(PTable[3-Method],MATCH(0,IF(AA$1=PTable[2-Test],COUNTIF(AA$1:AA15,PTable[3-Method]), \"\"),0)),\"\")","v":""},{"$f":"IFERROR(INDEX(PTable[3-Method],MATCH(0,IF(AB$1=PTable[2-Test],COUNTIF(AB$1:AB15,PTable[3-Method]), \"\"),0)),\"\")","v":""},{"$f":"IFERROR(INDEX(PTable[3-Method],MATCH(0,IF(AC$1=PTable[2-Test],COUNTIF(AC$1:AC15,PTable[3-Method]), \"\"),0)),\"\")","v":""},{"$f":"IFERROR(INDEX(PTable[3-Method],MATCH(0,IF(AD$1=PTable[2-Test],COUNTIF(AD$1:AD15,PTable[3-Method]), \"\"),0)),\"\")","v":""},{"$f":"IFERROR(INDEX(PTable[3-Method],MATCH(0,IF(AE$1=PTable[2-Test],COUNTIF(AE$1:AE15,PTable[3-Method]), \"\"),0)),\"\")","v":""},{"$f":"IFERROR(INDEX(PTable[3-Method],MATCH(0,IF(AF$1=PTable[2-Test],COUNTIF(AF$1:AF15,PTable[3-Method]), \"\"),0)),\"\")","v":""},{"$f":"IFERROR(INDEX(PTable[3-Method],MATCH(0,IF(AG$1=PTable[2-Test],COUNTIF(AG$1:AG15,PTable[3-Method]), \"\"),0)),\"\")","v":""},{"$f":"IFERROR(INDEX(PTable[3-Method],MATCH(0,IF(AH$1=PTable[2-Test],COUNTIF(AH$1:AH15,PTable[3-Method]), \"\"),0)),\"\")","v":""},{"$f":"IFERROR(INDEX(PTable[3-Method],MATCH(0,IF(AI$1=PTable[2-Test],COUNTIF(AI$1:AI15,PTable[3-Method]), \"\"),0)),\"\")","v":""},{"$f":"IFERROR(INDEX(PTable[3-Method],MATCH(0,IF(AJ$1=PTable[2-Test],COUNTIF(AJ$1:AJ15,PTable[3-Method]), \"\"),0)),\"\")","v":""},{"$f":"IFERROR(INDEX(PTable[3-Method],MATCH(0,IF(AK$1=PTable[2-Test],COUNTIF(AK$1:AK15,PTable[3-Method]), \"\"),0)),\"\")","v":""},{"$f":"IFERROR(INDEX(PTable[3-Method],MATCH(0,IF(AL$1=PTable[2-Test],COUNTIF(AL$1:AL15,PTable[3-Method]), \"\"),0)),\"\")","v":""},{"$f":"IFERROR(INDEX(PTable[3-Method],MATCH(0,IF(AM$1=PTable[2-Test],COUNTIF(AM$1:AM15,PTable[3-Method]), \"\"),0)),\"\")","v":""},{"$f":"IFERROR(INDEX(PTable[3-Method],MATCH(0,IF(AN$1=PTable[2-Test],COUNTIF(AN$1:AN15,PTable[3-Method]), \"\"),0)),\"\")","v":""},{"$f":"IFERROR(INDEX(PTable[3-Method],MATCH(0,IF(AO$1=PTable[2-Test],COUNTIF(AO$1:AO15,PTable[3-Method]), \"\"),0)),\"\")","v":""},{"$f":"IFERROR(INDEX(PTable[3-Method],MATCH(0,IF(AP$1=PTable[2-Test],COUNTIF(AP$1:AP15,PTable[3-Method]), \"\"),0)),\"\")","v":""},{"$f":"IFERROR(INDEX(PTable[3-Method],MATCH(0,IF(AQ$1=PTable[2-Test],COUNTIF(AQ$1:AQ15,PTable[3-Method]), \"\"),0)),\"\")","v":""},{"$f":"IFERROR(INDEX(PTable[3-Method],MATCH(0,IF(AR$1=PTable[2-Test],COUNTIF(AR$1:AR15,PTable[3-Method]), \"\"),0)),\"\")","v":""},{"$f":"IFERROR(INDEX(PTable[3-Method],MATCH(0,IF(AS$1=PTable[2-Test],COUNTIF(AS$1:AS15,PTable[3-Method]), \"\"),0)),\"\")","v":""},{"$f":"IFERROR(INDEX(PTable[3-Method],MATCH(0,IF(AT$1=PTable[2-Test],COUNTIF(AT$1:AT15,PTable[3-Method]), \"\"),0)),\"\")","v":""},{"$f":"IFERROR(INDEX(PTable[3-Method],MATCH(0,IF(AU$1=PTable[2-Test],COUNTIF(AU$1:AU15,PTable[3-Method]), \"\"),0)),\"\")","v":""},{"$f":"IFERROR(INDEX(PTable[3-Method],MATCH(0,IF(AV$1=PTable[2-Test],COUNTIF(AV$1:AV15,PTable[3-Method]), \"\"),0)),\"\")","v":""},{"$f":"IFERROR(INDEX(PTable[3-Method],MATCH(0,IF(AW$1=PTable[2-Test],COUNTIF(AW$1:AW15,PTable[3-Method]), \"\"),0)),\"\")","v":""},{"$f":"IFERROR(INDEX(PTable[3-Method],MATCH(0,IF(AX$1=PTable[2-Test],COUNTIF(AX$1:AX15,PTable[3-Method]), \"\"),0)),\"\")","v":""},{"$f":"IFERROR(INDEX(PTable[3-Method],MATCH(0,IF(AY$1=PTable[2-Test],COUNTIF(AY$1:AY15,PTable[3-Method]), \"\"),0)),\"\")","v":""},{"$f":"IFERROR(INDEX(PTable[3-Method],MATCH(0,IF(AZ$1=PTable[2-Test],COUNTIF(AZ$1:AZ15,PTable[3-Method]), \"\"),0)),\"\")","v":""},{"$f":"IFERROR(INDEX(PTable[3-Method],MATCH(0,IF(BA$1=PTable[2-Test],COUNTIF(BA$1:BA15,PTable[3-Method]), \"\"),0)),\"\")","v":""},{"$f":"IFERROR(INDEX(PTable[3-Method],MATCH(0,IF(BB$1=PTable[2-Test],COUNTIF(BB$1:BB15,PTable[3-Method]), \"\"),0)),\"\")","v":""},{"$f":"IFERROR(INDEX(PTable[3-Method],MATCH(0,IF(BC$1=PTable[2-Test],COUNTIF(BC$1:BC15,PTable[3-Method]), \"\"),0)),\"\")","v":""},{"$f":"IFERROR(INDEX(PTable[3-Method],MATCH(0,IF(BD$1=PTable[2-Test],COUNTIF(BD$1:BD15,PTable[3-Method]), \"\"),0)),\"\")","v":""},{"$f":"IFERROR(INDEX(PTable[3-Method],MATCH(0,IF(BE$1=PTable[2-Test],COUNTIF(BE$1:BE15,PTable[3-Method]), \"\"),0)),\"\")","v":""},{"$f":"IFERROR(INDEX(PTable[3-Method],MATCH(0,IF(BF$1=PTable[2-Test],COUNTIF(BF$1:BF15,PTable[3-Method]), \"\"),0)),\"\")","v":""},{"$f":"IFERROR(INDEX(PTable[3-Method],MATCH(0,IF(BG$1=PTable[2-Test],COUNTIF(BG$1:BG15,PTable[3-Method]), \"\"),0)),\"\")","v":""},{"$f":"IFERROR(INDEX(PTable[3-Method],MATCH(0,IF(BH$1=PTable[2-Test],COUNTIF(BH$1:BH15,PTable[3-Method]), \"\"),0)),\"\")","v":""},{"$f":"IFERROR(INDEX(PTable[3-Method],MATCH(0,IF(BI$1=PTable[2-Test],COUNTIF(BI$1:BI15,PTable[3-Method]), \"\"),0)),\"\")","v":""},{"$f":"IFERROR(INDEX(PTable[3-Method],MATCH(0,IF(BJ$1=PTable[2-Test],COUNTIF(BJ$1:BJ15,PTable[3-Method]), \"\"),0)),\"\")","v":""},{"$f":"IFERROR(INDEX(PTable[3-Method],MATCH(0,IF(BK$1=PTable[2-Test],COUNTIF(BK$1:BK15,PTable[3-Method]), \"\"),0)),\"\")","v":""},{"$f":"IFERROR(INDEX(PTable[3-Method],MATCH(0,IF(BL$1=PTable[2-Test],COUNTIF(BL$1:BL15,PTable[3-Method]), \"\"),0)),\"\")","v":"PCR125g"},{"$f":"IFERROR(INDEX(PTable[3-Method],MATCH(0,IF(BM$1=PTable[2-Test],COUNTIF(BM$1:BM15,PTable[3-Method]), \"\"),0)),\"\")","v":"mUS125g"},{"$f":"IFERROR(INDEX(PTable[3-Method],MATCH(0,IF(BN$1=PTable[2-Test],COUNTIF(BN$1:BN15,PTable[3-Method]), \"\"),0)),\"\")","v":""},{"$f":"IFERROR(INDEX(PTable[3-Method],MATCH(0,IF(BO$1=PTable[2-Test],COUNTIF(BO$1:BO15,PTable[3-Method]), \"\"),0)),\"\")","v":""},{"$f":"IFERROR(INDEX(PTable[3-Method],MATCH(0,IF(BP$1=PTable[2-Test],COUNTIF(BP$1:BP15,PTable[3-Method]), \"\"),0)),\"\")","v":"mFD175g"},{"$f":"IFERROR(INDEX(PTable[3-Method],MATCH(0,IF(BQ$1=PTable[2-Test],COUNTIF(BQ$1:BQ15,PTable[3-Method]), \"\"),0)),\"\")","v":""},{"$f":"IFERROR(INDEX(PTable[3-Method],MATCH(0,IF(BR$1=PTable[2-Test],COUNTIF(BR$1:BR15,PTable[3-Method]), \"\"),0)),\"\")","v":""},{"$f":"IFERROR(INDEX(PTable[3-Method],MATCH(0,IF(BS$1=PTable[2-Test],COUNTIF(BS$1:BS15,PTable[3-Method]), \"\"),0)),\"\")","v":""},{"$f":"IFERROR(INDEX(PTable[3-Method],MATCH(0,IF(BT$1=PTable[2-Test],COUNTIF(BT$1:BT15,PTable[3-Method]), \"\"),0)),\"\")","v":""},{"$f":"IFERROR(INDEX(PTable[3-Method],MATCH(0,IF(BU$1=PTable[2-Test],COUNTIF(BU$1:BU15,PTable[3-Method]), \"\"),0)),\"\")","v":""},{"$f":"IFERROR(INDEX(PTable[3-Method],MATCH(0,IF(BV$1=PTable[2-Test],COUNTIF(BV$1:BV15,PTable[3-Method]), \"\"),0)),\"\")","v":""},{"$f":"IFERROR(INDEX(PTable[3-Method],MATCH(0,IF(BW$1=PTable[2-Test],COUNTIF(BW$1:BW15,PTable[3-Method]), \"\"),0)),\"\")","v":""},{"$f":"IFERROR(INDEX(PTable[3-Method],MATCH(0,IF(BX$1=PTable[2-Test],COUNTIF(BX$1:BX15,PTable[3-Method]), \"\"),0)),\"\")","v":""},{"$f":"IFERROR(INDEX(PTable[3-Method],MATCH(0,IF(BY$1=PTable[2-Test],COUNTIF(BY$1:BY15,PTable[3-Method]), \"\"),0)),\"\")","v":""},{"$f":"IFERROR(INDEX(PTable[3-Method],MATCH(0,IF(BZ$1=PTable[2-Test],COUNTIF(BZ$1:BZ15,PTable[3-Method]), \"\"),0)),\"\")","v":""},{"$f":"IFERROR(INDEX(PTable[3-Method],MATCH(0,IF(CA$1=PTable[2-Test],COUNTIF(CA$1:CA15,PTable[3-Method]), \"\"),0)),\"\")","v":""},{"$f":"IFERROR(INDEX(PTable[3-Method],MATCH(0,IF(CB$1=PTable[2-Test],COUNTIF(CB$1:CB15,PTable[3-Method]), \"\"),0)),\"\")","v":""},{"$f":"IFERROR(INDEX(PTable[3-Method],MATCH(0,IF(CC$1=PTable[2-Test],COUNTIF(CC$1:CC15,PTable[3-Method]), \"\"),0)),\"\")","v":""},{"$f":"IFERROR(INDEX(PTable[3-Method],MATCH(0,IF(CD$1=PTable[2-Test],COUNTIF(CD$1:CD15,PTable[3-Method]), \"\"),0)),\"\")","v":""},{"$f":"IFERROR(INDEX(PTable[3-Method],MATCH(0,IF(CE$1=PTable[2-Test],COUNTIF(CE$1:CE15,PTable[3-Method]), \"\"),0)),\"\")","v":""},{"$f":"IFERROR(INDEX(PTable[3-Method],MATCH(0,IF(CF$1=PTable[2-Test],COUNTIF(CF$1:CF15,PTable[3-Method]), \"\"),0)),\"\")","v":""},{"$f":"IFERROR(INDEX(PTable[3-Method],MATCH(0,IF(CG$1=PTable[2-Test],COUNTIF(CG$1:CG15,PTable[3-Method]), \"\"),0)),\"\")","v":""},{"$f":"IFERROR(INDEX(PTable[3-Method],MATCH(0,IF(CH$1=PTable[2-Test],COUNTIF(CH$1:CH15,PTable[3-Method]), \"\"),0)),\"\")","v":""},{"$f":"IFERROR(INDEX(PTable[3-Method],MATCH(0,IF(CI$1=PTable[2-Test],COUNTIF(CI$1:CI15,PTable[3-Method]), \"\"),0)),\"\")","v":""},{"$f":"IFERROR(INDEX(PTable[3-Method],MATCH(0,IF(CJ$1=PTable[2-Test],COUNTIF(CJ$1:CJ15,PTable[3-Method]), \"\"),0)),\"\")","v":""},{"$f":"IFERROR(INDEX(PTable[3-Method],MATCH(0,IF(CK$1=PTable[2-Test],COUNTIF(CK$1:CK15,PTable[3-Method]), \"\"),0)),\"\")","v":""},{"$f":"IFERROR(INDEX(PTable[3-Method],MATCH(0,IF(CL$1=PTable[2-Test],COUNTIF(CL$1:CL15,PTable[3-Method]), \"\"),0)),\"\")","v":""},{"$f":"IFERROR(INDEX(PTable[3-Method],MATCH(0,IF(CM$1=PTable[2-Test],COUNTIF(CM$1:CM15,PTable[3-Method]), \"\"),0)),\"\")","v":""},{"$f":"IFERROR(INDEX(PTable[3-Method],MATCH(0,IF(CN$1=PTable[2-Test],COUNTIF(CN$1:CN15,PTable[3-Method]), \"\"),0)),\"\")","v":""},{"$f":"IFERROR(INDEX(PTable[3-Method],MATCH(0,IF(CO$1=PTable[2-Test],COUNTIF(CO$1:CO15,PTable[3-Method]), \"\"),0)),\"\")","v":""},{"$f":"IFERROR(INDEX(PTable[3-Method],MATCH(0,IF(CP$1=PTable[2-Test],COUNTIF(CP$1:CP15,PTable[3-Method]), \"\"),0)),\"\")","v":""},{"$f":"IFERROR(INDEX(PTable[3-Method],MATCH(0,IF(CQ$1=PTable[2-Test],COUNTIF(CQ$1:CQ15,PTable[3-Method]), \"\"),0)),\"\")","v":""},{"$f":"IFERROR(INDEX(PTable[3-Method],MATCH(0,IF(CR$1=PTable[2-Test],COUNTIF(CR$1:CR15,PTable[3-Method]), \"\"),0)),\"\")","v":""},{"$f":"IFERROR(INDEX(PTable[3-Method],MATCH(0,IF(CS$1=PTable[2-Test],COUNTIF(CS$1:CS15,PTable[3-Method]), \"\"),0)),\"\")","v":""},{"$f":"IFERROR(INDEX(PTable[3-Method],MATCH(0,IF(CT$1=PTable[2-Test],COUNTIF(CT$1:CT15,PTable[3-Method]), \"\"),0)),\"\")","v":""},{"$f":"IFERROR(INDEX(PTable[3-Method],MATCH(0,IF(CU$1=PTable[2-Test],COUNTIF(CU$1:CU15,PTable[3-Method]), \"\"),0)),\"\")","v":""},{"$f":"IFERROR(INDEX(PTable[3-Method],MATCH(0,IF(CV$1=PTable[2-Test],COUNTIF(CV$1:CV15,PTable[3-Method]), \"\"),0)),\"\")","v":""},{"$f":"IFERROR(INDEX(PTable[3-Method],MATCH(0,IF(CW$1=PTable[2-Test],COUNTIF(CW$1:CW15,PTable[3-Method]), \"\"),0)),\"\")","v":""},{"$f":"IFERROR(INDEX(PTable[3-Method],MATCH(0,IF(CX$1=PTable[2-Test],COUNTIF(CX$1:CX15,PTable[3-Method]), \"\"),0)),\"\")","v":""},{"$f":"IFERROR(INDEX(PTable[3-Method],MATCH(0,IF(CY$1=PTable[2-Test],COUNTIF(CY$1:CY15,PTable[3-Method]), \"\"),0)),\"\")","v":""},{"$f":"IFERROR(INDEX(PTable[3-Method],MATCH(0,IF(CZ$1=PTable[2-Test],COUNTIF(CZ$1:CZ15,PTable[3-Method]), \"\"),0)),\"\")","v":""},{"$f":"IFERROR(INDEX(PTable[3-Method],MATCH(0,IF(DA$1=PTable[2-Test],COUNTIF(DA$1:DA15,PTable[3-Method]), \"\"),0)),\"\")","v":""},{"$f":"IFERROR(INDEX(PTable[3-Method],MATCH(0,IF(DB$1=PTable[2-Test],COUNTIF(DB$1:DB15,PTable[3-Method]), \"\"),0)),\"\")","v":""},{"$f":"IFERROR(INDEX(PTable[3-Method],MATCH(0,IF(DC$1=PTable[2-Test],COUNTIF(DC$1:DC15,PTable[3-Method]), \"\"),0)),\"\")","v":""},{"$f":"IFERROR(INDEX(PTable[3-Method],MATCH(0,IF(DD$1=PTable[2-Test],COUNTIF(DD$1:DD15,PTable[3-Method]), \"\"),0)),\"\")","v":""},{"$f":"IFERROR(INDEX(PTable[3-Method],MATCH(0,IF(DE$1=PTable[2-Test],COUNTIF(DE$1:DE15,PTable[3-Method]), \"\"),0)),\"\")","v":""},{"$f":"IFERROR(INDEX(PTable[3-Method],MATCH(0,IF(DF$1=PTable[2-Test],COUNTIF(DF$1:DF15,PTable[3-Method]), \"\"),0)),\"\")","v":""},{"$f":"IFERROR(INDEX(PTable[3-Method],MATCH(0,IF(DG$1=PTable[2-Test],COUNTIF(DG$1:DG15,PTable[3-Method]), \"\"),0)),\"\")","v":""},{"$f":"IFERROR(INDEX(PTable[3-Method],MATCH(0,IF(DH$1=PTable[2-Test],COUNTIF(DH$1:DH15,PTable[3-Method]), \"\"),0)),\"\")","v":""},{"$f":"IFERROR(INDEX(PTable[3-Method],MATCH(0,IF(DI$1=PTable[2-Test],COUNTIF(DI$1:DI15,PTable[3-Method]), \"\"),0)),\"\")","v":""},{"$f":"IFERROR(INDEX(PTable[3-Method],MATCH(0,IF(DJ$1=PTable[2-Test],COUNTIF(DJ$1:DJ15,PTable[3-Method]), \"\"),0)),\"\")","v":""}]
[null,{"$f":"IFERROR(INDEX(PTable[2-Test],MATCH(0,IF(B$1=PTable[1-Type],COUNTIF(B$1:B16,PTable[2-Test]), \"\"),0)),\"\")","v":"C.perf"},{"$f":"IFERROR(INDEX(PTable[2-Test],MATCH(0,IF(C$1=PTable[1-Type],COUNTIF(C$1:C16,PTable[2-Test]), \"\"),0)),\"\")","v":"STEC"},{"$f":"IFERROR(INDEX(PTable[2-Test],MATCH(0,IF(D$1=PTable[1-Type],COUNTIF(D$1:D16,PTable[2-Test]), \"\"),0)),\"\")","v":"NO2"},{"$f":"IFERROR(INDEX(PTable[2-Test],MATCH(0,IF(E$1=PTable[1-Type],COUNTIF(E$1:E16,PTable[2-Test]), \"\"),0)),\"\")","v":""},{"$f":"IFERROR(INDEX(PTable[2-Test],MATCH(0,IF(F$1=PTable[1-Type],COUNTIF(F$1:F16,PTable[2-Test]), \"\"),0)),\"\")","v":"Pist"},{"$f":"IFERROR(INDEX(PTable[3-Method],MATCH(0,IF(G$1=PTable[2-Test],COUNTIF(G$1:G16,PTable[3-Method]), \"\"),0)),\"\")","v":""},{"$f":"IFERROR(INDEX(PTable[3-Method],MATCH(0,IF(H$1=PTable[2-Test],COUNTIF(H$1:H16,PTable[3-Method]), \"\"),0)),\"\")","v":""},{"$f":"IFERROR(INDEX(PTable[3-Method],MATCH(0,IF(I$1=PTable[2-Test],COUNTIF(I$1:I16,PTable[3-Method]), \"\"),0)),\"\")","v":""},{"$f":"IFERROR(INDEX(PTable[3-Method],MATCH(0,IF(J$1=PTable[2-Test],COUNTIF(J$1:J16,PTable[3-Method]), \"\"),0)),\"\")","v":""},{"$f":"IFERROR(INDEX(PTable[3-Method],MATCH(0,IF(K$1=PTable[2-Test],COUNTIF(K$1:K16,PTable[3-Method]), \"\"),0)),\"\")","v":""},{"$f":"IFERROR(INDEX(PTable[3-Method],MATCH(0,IF(L$1=PTable[2-Test],COUNTIF(L$1:L16,PTable[3-Method]), \"\"),0)),\"\")","v":""},{"$f":"IFERROR(INDEX(PTable[3-Method],MATCH(0,IF(M$1=PTable[2-Test],COUNTIF(M$1:M16,PTable[3-Method]), \"\"),0)),\"\")","v":""},{"$f":"IFERROR(INDEX(PTable[3-Method],MATCH(0,IF(N$1=PTable[2-Test],COUNTIF(N$1:N16,PTable[3-Method]), \"\"),0)),\"\")","v":""},{"$f":"IFERROR(INDEX(PTable[3-Method],MATCH(0,IF(O$1=PTable[2-Test],COUNTIF(O$1:O16,PTable[3-Method]), \"\"),0)),\"\")","v":""},{"$f":"IFERROR(INDEX(PTable[3-Method],MATCH(0,IF(P$1=PTable[2-Test],COUNTIF(P$1:P16,PTable[3-Method]), \"\"),0)),\"\")","v":""},{"$f":"IFERROR(INDEX(PTable[3-Method],MATCH(0,IF(Q$1=PTable[2-Test],COUNTIF(Q$1:Q16,PTable[3-Method]), \"\"),0)),\"\")","v":""},{"$f":"IFERROR(INDEX(PTable[3-Method],MATCH(0,IF(R$1=PTable[2-Test],COUNTIF(R$1:R16,PTable[3-Method]), \"\"),0)),\"\")","v":""},{"$f":"IFERROR(INDEX(PTable[3-Method],MATCH(0,IF(S$1=PTable[2-Test],COUNTIF(S$1:S16,PTable[3-Method]), \"\"),0)),\"\")","v":""},{"$f":"IFERROR(INDEX(PTable[3-Method],MATCH(0,IF(T$1=PTable[2-Test],COUNTIF(T$1:T16,PTable[3-Method]), \"\"),0)),\"\")","v":""},{"$f":"IFERROR(INDEX(PTable[3-Method],MATCH(0,IF(U$1=PTable[2-Test],COUNTIF(U$1:U16,PTable[3-Method]), \"\"),0)),\"\")","v":""},{"$f":"IFERROR(INDEX(PTable[3-Method],MATCH(0,IF(V$1=PTable[2-Test],COUNTIF(V$1:V16,PTable[3-Method]), \"\"),0)),\"\")","v":""},{"$f":"IFERROR(INDEX(PTable[3-Method],MATCH(0,IF(W$1=PTable[2-Test],COUNTIF(W$1:W16,PTable[3-Method]), \"\"),0)),\"\")","v":""},{"$f":"IFERROR(INDEX(PTable[3-Method],MATCH(0,IF(X$1=PTable[2-Test],COUNTIF(X$1:X16,PTable[3-Method]), \"\"),0)),\"\")","v":""},{"$f":"IFERROR(INDEX(PTable[3-Method],MATCH(0,IF(Y$1=PTable[2-Test],COUNTIF(Y$1:Y16,PTable[3-Method]), \"\"),0)),\"\")","v":""},{"$f":"IFERROR(INDEX(PTable[3-Method],MATCH(0,IF(Z$1=PTable[2-Test],COUNTIF(Z$1:Z16,PTable[3-Method]), \"\"),0)),\"\")","v":""},{"$f":"IFERROR(INDEX(PTable[3-Method],MATCH(0,IF(AA$1=PTable[2-Test],COUNTIF(AA$1:AA16,PTable[3-Method]), \"\"),0)),\"\")","v":""},{"$f":"IFERROR(INDEX(PTable[3-Method],MATCH(0,IF(AB$1=PTable[2-Test],COUNTIF(AB$1:AB16,PTable[3-Method]), \"\"),0)),\"\")","v":""},{"$f":"IFERROR(INDEX(PTable[3-Method],MATCH(0,IF(AC$1=PTable[2-Test],COUNTIF(AC$1:AC16,PTable[3-Method]), \"\"),0)),\"\")","v":""},{"$f":"IFERROR(INDEX(PTable[3-Method],MATCH(0,IF(AD$1=PTable[2-Test],COUNTIF(AD$1:AD16,PTable[3-Method]), \"\"),0)),\"\")","v":""},{"$f":"IFERROR(INDEX(PTable[3-Method],MATCH(0,IF(AE$1=PTable[2-Test],COUNTIF(AE$1:AE16,PTable[3-Method]), \"\"),0)),\"\")","v":""},{"$f":"IFERROR(INDEX(PTable[3-Method],MATCH(0,IF(AF$1=PTable[2-Test],COUNTIF(AF$1:AF16,PTable[3-Method]), \"\"),0)),\"\")","v":""},{"$f":"IFERROR(INDEX(PTable[3-Method],MATCH(0,IF(AG$1=PTable[2-Test],COUNTIF(AG$1:AG16,PTable[3-Method]), \"\"),0)),\"\")","v":""},{"$f":"IFERROR(INDEX(PTable[3-Method],MATCH(0,IF(AH$1=PTable[2-Test],COUNTIF(AH$1:AH16,PTable[3-Method]), \"\"),0)),\"\")","v":""},{"$f":"IFERROR(INDEX(PTable[3-Method],MATCH(0,IF(AI$1=PTable[2-Test],COUNTIF(AI$1:AI16,PTable[3-Method]), \"\"),0)),\"\")","v":""},{"$f":"IFERROR(INDEX(PTable[3-Method],MATCH(0,IF(AJ$1=PTable[2-Test],COUNTIF(AJ$1:AJ16,PTable[3-Method]), \"\"),0)),\"\")","v":""},{"$f":"IFERROR(INDEX(PTable[3-Method],MATCH(0,IF(AK$1=PTable[2-Test],COUNTIF(AK$1:AK16,PTable[3-Method]), \"\"),0)),\"\")","v":""},{"$f":"IFERROR(INDEX(PTable[3-Method],MATCH(0,IF(AL$1=PTable[2-Test],COUNTIF(AL$1:AL16,PTable[3-Method]), \"\"),0)),\"\")","v":""},{"$f":"IFERROR(INDEX(PTable[3-Method],MATCH(0,IF(AM$1=PTable[2-Test],COUNTIF(AM$1:AM16,PTable[3-Method]), \"\"),0)),\"\")","v":""},{"$f":"IFERROR(INDEX(PTable[3-Method],MATCH(0,IF(AN$1=PTable[2-Test],COUNTIF(AN$1:AN16,PTable[3-Method]), \"\"),0)),\"\")","v":""},{"$f":"IFERROR(INDEX(PTable[3-Method],MATCH(0,IF(AO$1=PTable[2-Test],COUNTIF(AO$1:AO16,PTable[3-Method]), \"\"),0)),\"\")","v":""},{"$f":"IFERROR(INDEX(PTable[3-Method],MATCH(0,IF(AP$1=PTable[2-Test],COUNTIF(AP$1:AP16,PTable[3-Method]), \"\"),0)),\"\")","v":""},{"$f":"IFERROR(INDEX(PTable[3-Method],MATCH(0,IF(AQ$1=PTable[2-Test],COUNTIF(AQ$1:AQ16,PTable[3-Method]), \"\"),0)),\"\")","v":""},{"$f":"IFERROR(INDEX(PTable[3-Method],MATCH(0,IF(AR$1=PTable[2-Test],COUNTIF(AR$1:AR16,PTable[3-Method]), \"\"),0)),\"\")","v":""},{"$f":"IFERROR(INDEX(PTable[3-Method],MATCH(0,IF(AS$1=PTable[2-Test],COUNTIF(AS$1:AS16,PTable[3-Method]), \"\"),0)),\"\")","v":""},{"$f":"IFERROR(INDEX(PTable[3-Method],MATCH(0,IF(AT$1=PTable[2-Test],COUNTIF(AT$1:AT16,PTable[3-Method]), \"\"),0)),\"\")","v":""},{"$f":"IFERROR(INDEX(PTable[3-Method],MATCH(0,IF(AU$1=PTable[2-Test],COUNTIF(AU$1:AU16,PTable[3-Method]), \"\"),0)),\"\")","v":""},{"$f":"IFERROR(INDEX(PTable[3-Method],MATCH(0,IF(AV$1=PTable[2-Test],COUNTIF(AV$1:AV16,PTable[3-Method]), \"\"),0)),\"\")","v":""},{"$f":"IFERROR(INDEX(PTable[3-Method],MATCH(0,IF(AW$1=PTable[2-Test],COUNTIF(AW$1:AW16,PTable[3-Method]), \"\"),0)),\"\")","v":""},{"$f":"IFERROR(INDEX(PTable[3-Method],MATCH(0,IF(AX$1=PTable[2-Test],COUNTIF(AX$1:AX16,PTable[3-Method]), \"\"),0)),\"\")","v":""},{"$f":"IFERROR(INDEX(PTable[3-Method],MATCH(0,IF(AY$1=PTable[2-Test],COUNTIF(AY$1:AY16,PTable[3-Method]), \"\"),0)),\"\")","v":""},{"$f":"IFERROR(INDEX(PTable[3-Method],MATCH(0,IF(AZ$1=PTable[2-Test],COUNTIF(AZ$1:AZ16,PTable[3-Method]), \"\"),0)),\"\")","v":""},{"$f":"IFERROR(INDEX(PTable[3-Method],MATCH(0,IF(BA$1=PTable[2-Test],COUNTIF(BA$1:BA16,PTable[3-Method]), \"\"),0)),\"\")","v":""},{"$f":"IFERROR(INDEX(PTable[3-Method],MATCH(0,IF(BB$1=PTable[2-Test],COUNTIF(BB$1:BB16,PTable[3-Method]), \"\"),0)),\"\")","v":""},{"$f":"IFERROR(INDEX(PTable[3-Method],MATCH(0,IF(BC$1=PTable[2-Test],COUNTIF(BC$1:BC16,PTable[3-Method]), \"\"),0)),\"\")","v":""},{"$f":"IFERROR(INDEX(PTable[3-Method],MATCH(0,IF(BD$1=PTable[2-Test],COUNTIF(BD$1:BD16,PTable[3-Method]), \"\"),0)),\"\")","v":""},{"$f":"IFERROR(INDEX(PTable[3-Method],MATCH(0,IF(BE$1=PTable[2-Test],COUNTIF(BE$1:BE16,PTable[3-Method]), \"\"),0)),\"\")","v":""},{"$f":"IFERROR(INDEX(PTable[3-Method],MATCH(0,IF(BF$1=PTable[2-Test],COUNTIF(BF$1:BF16,PTable[3-Method]), \"\"),0)),\"\")","v":""},{"$f":"IFERROR(INDEX(PTable[3-Method],MATCH(0,IF(BG$1=PTable[2-Test],COUNTIF(BG$1:BG16,PTable[3-Method]), \"\"),0)),\"\")","v":""},{"$f":"IFERROR(INDEX(PTable[3-Method],MATCH(0,IF(BH$1=PTable[2-Test],COUNTIF(BH$1:BH16,PTable[3-Method]), \"\"),0)),\"\")","v":""},{"$f":"IFERROR(INDEX(PTable[3-Method],MATCH(0,IF(BI$1=PTable[2-Test],COUNTIF(BI$1:BI16,PTable[3-Method]), \"\"),0)),\"\")","v":""},{"$f":"IFERROR(INDEX(PTable[3-Method],MATCH(0,IF(BJ$1=PTable[2-Test],COUNTIF(BJ$1:BJ16,PTable[3-Method]), \"\"),0)),\"\")","v":""},{"$f":"IFERROR(INDEX(PTable[3-Method],MATCH(0,IF(BK$1=PTable[2-Test],COUNTIF(BK$1:BK16,PTable[3-Method]), \"\"),0)),\"\")","v":""},{"$f":"IFERROR(INDEX(PTable[3-Method],MATCH(0,IF(BL$1=PTable[2-Test],COUNTIF(BL$1:BL16,PTable[3-Method]), \"\"),0)),\"\")","v":"PCR250g"},{"$f":"IFERROR(INDEX(PTable[3-Method],MATCH(0,IF(BM$1=PTable[2-Test],COUNTIF(BM$1:BM16,PTable[3-Method]), \"\"),0)),\"\")","v":"mUS150g"},{"$f":"IFERROR(INDEX(PTable[3-Method],MATCH(0,IF(BN$1=PTable[2-Test],COUNTIF(BN$1:BN16,PTable[3-Method]), \"\"),0)),\"\")","v":""},{"$f":"IFERROR(INDEX(PTable[3-Method],MATCH(0,IF(BO$1=PTable[2-Test],COUNTIF(BO$1:BO16,PTable[3-Method]), \"\"),0)),\"\")","v":""},{"$f":"IFERROR(INDEX(PTable[3-Method],MATCH(0,IF(BP$1=PTable[2-Test],COUNTIF(BP$1:BP16,PTable[3-Method]), \"\"),0)),\"\")","v":"mFD200g"},{"$f":"IFERROR(INDEX(PTable[3-Method],MATCH(0,IF(BQ$1=PTable[2-Test],COUNTIF(BQ$1:BQ16,PTable[3-Method]), \"\"),0)),\"\")","v":""},{"$f":"IFERROR(INDEX(PTable[3-Method],MATCH(0,IF(BR$1=PTable[2-Test],COUNTIF(BR$1:BR16,PTable[3-Method]), \"\"),0)),\"\")","v":""},{"$f":"IFERROR(INDEX(PTable[3-Method],MATCH(0,IF(BS$1=PTable[2-Test],COUNTIF(BS$1:BS16,PTable[3-Method]), \"\"),0)),\"\")","v":""},{"$f":"IFERROR(INDEX(PTable[3-Method],MATCH(0,IF(BT$1=PTable[2-Test],COUNTIF(BT$1:BT16,PTable[3-Method]), \"\"),0)),\"\")","v":""},{"$f":"IFERROR(INDEX(PTable[3-Method],MATCH(0,IF(BU$1=PTable[2-Test],COUNTIF(BU$1:BU16,PTable[3-Method]), \"\"),0)),\"\")","v":""},{"$f":"IFERROR(INDEX(PTable[3-Method],MATCH(0,IF(BV$1=PTable[2-Test],COUNTIF(BV$1:BV16,PTable[3-Method]), \"\"),0)),\"\")","v":""},{"$f":"IFERROR(INDEX(PTable[3-Method],MATCH(0,IF(BW$1=PTable[2-Test],COUNTIF(BW$1:BW16,PTable[3-Method]), \"\"),0)),\"\")","v":""},{"$f":"IFERROR(INDEX(PTable[3-Method],MATCH(0,IF(BX$1=PTable[2-Test],COUNTIF(BX$1:BX16,PTable[3-Method]), \"\"),0)),\"\")","v":""},{"$f":"IFERROR(INDEX(PTable[3-Method],MATCH(0,IF(BY$1=PTable[2-Test],COUNTIF(BY$1:BY16,PTable[3-Method]), \"\"),0)),\"\")","v":""},{"$f":"IFERROR(INDEX(PTable[3-Method],MATCH(0,IF(BZ$1=PTable[2-Test],COUNTIF(BZ$1:BZ16,PTable[3-Method]), \"\"),0)),\"\")","v":""},{"$f":"IFERROR(INDEX(PTable[3-Method],MATCH(0,IF(CA$1=PTable[2-Test],COUNTIF(CA$1:CA16,PTable[3-Method]), \"\"),0)),\"\")","v":""},{"$f":"IFERROR(INDEX(PTable[3-Method],MATCH(0,IF(CB$1=PTable[2-Test],COUNTIF(CB$1:CB16,PTable[3-Method]), \"\"),0)),\"\")","v":""},{"$f":"IFERROR(INDEX(PTable[3-Method],MATCH(0,IF(CC$1=PTable[2-Test],COUNTIF(CC$1:CC16,PTable[3-Method]), \"\"),0)),\"\")","v":""},{"$f":"IFERROR(INDEX(PTable[3-Method],MATCH(0,IF(CD$1=PTable[2-Test],COUNTIF(CD$1:CD16,PTable[3-Method]), \"\"),0)),\"\")","v":""},{"$f":"IFERROR(INDEX(PTable[3-Method],MATCH(0,IF(CE$1=PTable[2-Test],COUNTIF(CE$1:CE16,PTable[3-Method]), \"\"),0)),\"\")","v":""},{"$f":"IFERROR(INDEX(PTable[3-Method],MATCH(0,IF(CF$1=PTable[2-Test],COUNTIF(CF$1:CF16,PTable[3-Method]), \"\"),0)),\"\")","v":""},{"$f":"IFERROR(INDEX(PTable[3-Method],MATCH(0,IF(CG$1=PTable[2-Test],COUNTIF(CG$1:CG16,PTable[3-Method]), \"\"),0)),\"\")","v":""},{"$f":"IFERROR(INDEX(PTable[3-Method],MATCH(0,IF(CH$1=PTable[2-Test],COUNTIF(CH$1:CH16,PTable[3-Method]), \"\"),0)),\"\")","v":""},{"$f":"IFERROR(INDEX(PTable[3-Method],MATCH(0,IF(CI$1=PTable[2-Test],COUNTIF(CI$1:CI16,PTable[3-Method]), \"\"),0)),\"\")","v":""},{"$f":"IFERROR(INDEX(PTable[3-Method],MATCH(0,IF(CJ$1=PTable[2-Test],COUNTIF(CJ$1:CJ16,PTable[3-Method]), \"\"),0)),\"\")","v":""},{"$f":"IFERROR(INDEX(PTable[3-Method],MATCH(0,IF(CK$1=PTable[2-Test],COUNTIF(CK$1:CK16,PTable[3-Method]), \"\"),0)),\"\")","v":""},{"$f":"IFERROR(INDEX(PTable[3-Method],MATCH(0,IF(CL$1=PTable[2-Test],COUNTIF(CL$1:CL16,PTable[3-Method]), \"\"),0)),\"\")","v":""},{"$f":"IFERROR(INDEX(PTable[3-Method],MATCH(0,IF(CM$1=PTable[2-Test],COUNTIF(CM$1:CM16,PTable[3-Method]), \"\"),0)),\"\")","v":""},{"$f":"IFERROR(INDEX(PTable[3-Method],MATCH(0,IF(CN$1=PTable[2-Test],COUNTIF(CN$1:CN16,PTable[3-Method]), \"\"),0)),\"\")","v":""},{"$f":"IFERROR(INDEX(PTable[3-Method],MATCH(0,IF(CO$1=PTable[2-Test],COUNTIF(CO$1:CO16,PTable[3-Method]), \"\"),0)),\"\")","v":""},{"$f":"IFERROR(INDEX(PTable[3-Method],MATCH(0,IF(CP$1=PTable[2-Test],COUNTIF(CP$1:CP16,PTable[3-Method]), \"\"),0)),\"\")","v":""},{"$f":"IFERROR(INDEX(PTable[3-Method],MATCH(0,IF(CQ$1=PTable[2-Test],COUNTIF(CQ$1:CQ16,PTable[3-Method]), \"\"),0)),\"\")","v":""},{"$f":"IFERROR(INDEX(PTable[3-Method],MATCH(0,IF(CR$1=PTable[2-Test],COUNTIF(CR$1:CR16,PTable[3-Method]), \"\"),0)),\"\")","v":""},{"$f":"IFERROR(INDEX(PTable[3-Method],MATCH(0,IF(CS$1=PTable[2-Test],COUNTIF(CS$1:CS16,PTable[3-Method]), \"\"),0)),\"\")","v":""},{"$f":"IFERROR(INDEX(PTable[3-Method],MATCH(0,IF(CT$1=PTable[2-Test],COUNTIF(CT$1:CT16,PTable[3-Method]), \"\"),0)),\"\")","v":""},{"$f":"IFERROR(INDEX(PTable[3-Method],MATCH(0,IF(CU$1=PTable[2-Test],COUNTIF(CU$1:CU16,PTable[3-Method]), \"\"),0)),\"\")","v":""},{"$f":"IFERROR(INDEX(PTable[3-Method],MATCH(0,IF(CV$1=PTable[2-Test],COUNTIF(CV$1:CV16,PTable[3-Method]), \"\"),0)),\"\")","v":""},{"$f":"IFERROR(INDEX(PTable[3-Method],MATCH(0,IF(CW$1=PTable[2-Test],COUNTIF(CW$1:CW16,PTable[3-Method]), \"\"),0)),\"\")","v":""},{"$f":"IFERROR(INDEX(PTable[3-Method],MATCH(0,IF(CX$1=PTable[2-Test],COUNTIF(CX$1:CX16,PTable[3-Method]), \"\"),0)),\"\")","v":""},{"$f":"IFERROR(INDEX(PTable[3-Method],MATCH(0,IF(CY$1=PTable[2-Test],COUNTIF(CY$1:CY16,PTable[3-Method]), \"\"),0)),\"\")","v":""},{"$f":"IFERROR(INDEX(PTable[3-Method],MATCH(0,IF(CZ$1=PTable[2-Test],COUNTIF(CZ$1:CZ16,PTable[3-Method]), \"\"),0)),\"\")","v":""},{"$f":"IFERROR(INDEX(PTable[3-Method],MATCH(0,IF(DA$1=PTable[2-Test],COUNTIF(DA$1:DA16,PTable[3-Method]), \"\"),0)),\"\")","v":""},{"$f":"IFERROR(INDEX(PTable[3-Method],MATCH(0,IF(DB$1=PTable[2-Test],COUNTIF(DB$1:DB16,PTable[3-Method]), \"\"),0)),\"\")","v":""},{"$f":"IFERROR(INDEX(PTable[3-Method],MATCH(0,IF(DC$1=PTable[2-Test],COUNTIF(DC$1:DC16,PTable[3-Method]), \"\"),0)),\"\")","v":""},{"$f":"IFERROR(INDEX(PTable[3-Method],MATCH(0,IF(DD$1=PTable[2-Test],COUNTIF(DD$1:DD16,PTable[3-Method]), \"\"),0)),\"\")","v":""},{"$f":"IFERROR(INDEX(PTable[3-Method],MATCH(0,IF(DE$1=PTable[2-Test],COUNTIF(DE$1:DE16,PTable[3-Method]), \"\"),0)),\"\")","v":""},{"$f":"IFERROR(INDEX(PTable[3-Method],MATCH(0,IF(DF$1=PTable[2-Test],COUNTIF(DF$1:DF16,PTable[3-Method]), \"\"),0)),\"\")","v":""},{"$f":"IFERROR(INDEX(PTable[3-Method],MATCH(0,IF(DG$1=PTable[2-Test],COUNTIF(DG$1:DG16,PTable[3-Method]), \"\"),0)),\"\")","v":""},{"$f":"IFERROR(INDEX(PTable[3-Method],MATCH(0,IF(DH$1=PTable[2-Test],COUNTIF(DH$1:DH16,PTable[3-Method]), \"\"),0)),\"\")","v":""},{"$f":"IFERROR(INDEX(PTable[3-Method],MATCH(0,IF(DI$1=PTable[2-Test],COUNTIF(DI$1:DI16,PTable[3-Method]), \"\"),0)),\"\")","v":""},{"$f":"IFERROR(INDEX(PTable[3-Method],MATCH(0,IF(DJ$1=PTable[2-Test],COUNTIF(DJ$1:DJ16,PTable[3-Method]), \"\"),0)),\"\")","v":""}]
[null,{"$f":"IFERROR(INDEX(PTable[2-Test],MATCH(0,IF(B$1=PTable[1-Type],COUNTIF(B$1:B17,PTable[2-Test]), \"\"),0)),\"\")","v":"Clost.SR"},{"$f":"IFERROR(INDEX(PTable[2-Test],MATCH(0,IF(C$1=PTable[1-Type],COUNTIF(C$1:C17,PTable[2-Test]), \"\"),0)),\"\")","v":"TAnNPHS"},{"$f":"IFERROR(INDEX(PTable[2-Test],MATCH(0,IF(D$1=PTable[1-Type],COUNTIF(D$1:D17,PTable[2-Test]), \"\"),0)),\"\")","v":"Perxdase"},{"$f":"IFERROR(INDEX(PTable[2-Test],MATCH(0,IF(E$1=PTable[1-Type],COUNTIF(E$1:E17,PTable[2-Test]), \"\"),0)),\"\")","v":""},{"$f":"IFERROR(INDEX(PTable[2-Test],MATCH(0,IF(F$1=PTable[1-Type],COUNTIF(F$1:F17,PTable[2-Test]), \"\"),0)),\"\")","v":"Sesame"},{"$f":"IFERROR(INDEX(PTable[3-Method],MATCH(0,IF(G$1=PTable[2-Test],COUNTIF(G$1:G17,PTable[3-Method]), \"\"),0)),\"\")","v":""},{"$f":"IFERROR(INDEX(PTable[3-Method],MATCH(0,IF(H$1=PTable[2-Test],COUNTIF(H$1:H17,PTable[3-Method]), \"\"),0)),\"\")","v":""},{"$f":"IFERROR(INDEX(PTable[3-Method],MATCH(0,IF(I$1=PTable[2-Test],COUNTIF(I$1:I17,PTable[3-Method]), \"\"),0)),\"\")","v":""},{"$f":"IFERROR(INDEX(PTable[3-Method],MATCH(0,IF(J$1=PTable[2-Test],COUNTIF(J$1:J17,PTable[3-Method]), \"\"),0)),\"\")","v":""},{"$f":"IFERROR(INDEX(PTable[3-Method],MATCH(0,IF(K$1=PTable[2-Test],COUNTIF(K$1:K17,PTable[3-Method]), \"\"),0)),\"\")","v":""},{"$f":"IFERROR(INDEX(PTable[3-Method],MATCH(0,IF(L$1=PTable[2-Test],COUNTIF(L$1:L17,PTable[3-Method]), \"\"),0)),\"\")","v":""},{"$f":"IFERROR(INDEX(PTable[3-Method],MATCH(0,IF(M$1=PTable[2-Test],COUNTIF(M$1:M17,PTable[3-Method]), \"\"),0)),\"\")","v":""},{"$f":"IFERROR(INDEX(PTable[3-Method],MATCH(0,IF(N$1=PTable[2-Test],COUNTIF(N$1:N17,PTable[3-Method]), \"\"),0)),\"\")","v":""},{"$f":"IFERROR(INDEX(PTable[3-Method],MATCH(0,IF(O$1=PTable[2-Test],COUNTIF(O$1:O17,PTable[3-Method]), \"\"),0)),\"\")","v":""},{"$f":"IFERROR(INDEX(PTable[3-Method],MATCH(0,IF(P$1=PTable[2-Test],COUNTIF(P$1:P17,PTable[3-Method]), \"\"),0)),\"\")","v":""},{"$f":"IFERROR(INDEX(PTable[3-Method],MATCH(0,IF(Q$1=PTable[2-Test],COUNTIF(Q$1:Q17,PTable[3-Method]), \"\"),0)),\"\")","v":""},{"$f":"IFERROR(INDEX(PTable[3-Method],MATCH(0,IF(R$1=PTable[2-Test],COUNTIF(R$1:R17,PTable[3-Method]), \"\"),0)),\"\")","v":""},{"$f":"IFERROR(INDEX(PTable[3-Method],MATCH(0,IF(S$1=PTable[2-Test],COUNTIF(S$1:S17,PTable[3-Method]), \"\"),0)),\"\")","v":""},{"$f":"IFERROR(INDEX(PTable[3-Method],MATCH(0,IF(T$1=PTable[2-Test],COUNTIF(T$1:T17,PTable[3-Method]), \"\"),0)),\"\")","v":""},{"$f":"IFERROR(INDEX(PTable[3-Method],MATCH(0,IF(U$1=PTable[2-Test],COUNTIF(U$1:U17,PTable[3-Method]), \"\"),0)),\"\")","v":""},{"$f":"IFERROR(INDEX(PTable[3-Method],MATCH(0,IF(V$1=PTable[2-Test],COUNTIF(V$1:V17,PTable[3-Method]), \"\"),0)),\"\")","v":""},{"$f":"IFERROR(INDEX(PTable[3-Method],MATCH(0,IF(W$1=PTable[2-Test],COUNTIF(W$1:W17,PTable[3-Method]), \"\"),0)),\"\")","v":""},{"$f":"IFERROR(INDEX(PTable[3-Method],MATCH(0,IF(X$1=PTable[2-Test],COUNTIF(X$1:X17,PTable[3-Method]), \"\"),0)),\"\")","v":""},{"$f":"IFERROR(INDEX(PTable[3-Method],MATCH(0,IF(Y$1=PTable[2-Test],COUNTIF(Y$1:Y17,PTable[3-Method]), \"\"),0)),\"\")","v":""},{"$f":"IFERROR(INDEX(PTable[3-Method],MATCH(0,IF(Z$1=PTable[2-Test],COUNTIF(Z$1:Z17,PTable[3-Method]), \"\"),0)),\"\")","v":""},{"$f":"IFERROR(INDEX(PTable[3-Method],MATCH(0,IF(AA$1=PTable[2-Test],COUNTIF(AA$1:AA17,PTable[3-Method]), \"\"),0)),\"\")","v":""},{"$f":"IFERROR(INDEX(PTable[3-Method],MATCH(0,IF(AB$1=PTable[2-Test],COUNTIF(AB$1:AB17,PTable[3-Method]), \"\"),0)),\"\")","v":""},{"$f":"IFERROR(INDEX(PTable[3-Method],MATCH(0,IF(AC$1=PTable[2-Test],COUNTIF(AC$1:AC17,PTable[3-Method]), \"\"),0)),\"\")","v":""},{"$f":"IFERROR(INDEX(PTable[3-Method],MATCH(0,IF(AD$1=PTable[2-Test],COUNTIF(AD$1:AD17,PTable[3-Method]), \"\"),0)),\"\")","v":""},{"$f":"IFERROR(INDEX(PTable[3-Method],MATCH(0,IF(AE$1=PTable[2-Test],COUNTIF(AE$1:AE17,PTable[3-Method]), \"\"),0)),\"\")","v":""},{"$f":"IFERROR(INDEX(PTable[3-Method],MATCH(0,IF(AF$1=PTable[2-Test],COUNTIF(AF$1:AF17,PTable[3-Method]), \"\"),0)),\"\")","v":""},{"$f":"IFERROR(INDEX(PTable[3-Method],MATCH(0,IF(AG$1=PTable[2-Test],COUNTIF(AG$1:AG17,PTable[3-Method]), \"\"),0)),\"\")","v":""},{"$f":"IFERROR(INDEX(PTable[3-Method],MATCH(0,IF(AH$1=PTable[2-Test],COUNTIF(AH$1:AH17,PTable[3-Method]), \"\"),0)),\"\")","v":""},{"$f":"IFERROR(INDEX(PTable[3-Method],MATCH(0,IF(AI$1=PTable[2-Test],COUNTIF(AI$1:AI17,PTable[3-Method]), \"\"),0)),\"\")","v":""},{"$f":"IFERROR(INDEX(PTable[3-Method],MATCH(0,IF(AJ$1=PTable[2-Test],COUNTIF(AJ$1:AJ17,PTable[3-Method]), \"\"),0)),\"\")","v":""},{"$f":"IFERROR(INDEX(PTable[3-Method],MATCH(0,IF(AK$1=PTable[2-Test],COUNTIF(AK$1:AK17,PTable[3-Method]), \"\"),0)),\"\")","v":""},{"$f":"IFERROR(INDEX(PTable[3-Method],MATCH(0,IF(AL$1=PTable[2-Test],COUNTIF(AL$1:AL17,PTable[3-Method]), \"\"),0)),\"\")","v":""},{"$f":"IFERROR(INDEX(PTable[3-Method],MATCH(0,IF(AM$1=PTable[2-Test],COUNTIF(AM$1:AM17,PTable[3-Method]), \"\"),0)),\"\")","v":""},{"$f":"IFERROR(INDEX(PTable[3-Method],MATCH(0,IF(AN$1=PTable[2-Test],COUNTIF(AN$1:AN17,PTable[3-Method]), \"\"),0)),\"\")","v":""},{"$f":"IFERROR(INDEX(PTable[3-Method],MATCH(0,IF(AO$1=PTable[2-Test],COUNTIF(AO$1:AO17,PTable[3-Method]), \"\"),0)),\"\")","v":""},{"$f":"IFERROR(INDEX(PTable[3-Method],MATCH(0,IF(AP$1=PTable[2-Test],COUNTIF(AP$1:AP17,PTable[3-Method]), \"\"),0)),\"\")","v":""},{"$f":"IFERROR(INDEX(PTable[3-Method],MATCH(0,IF(AQ$1=PTable[2-Test],COUNTIF(AQ$1:AQ17,PTable[3-Method]), \"\"),0)),\"\")","v":""},{"$f":"IFERROR(INDEX(PTable[3-Method],MATCH(0,IF(AR$1=PTable[2-Test],COUNTIF(AR$1:AR17,PTable[3-Method]), \"\"),0)),\"\")","v":""},{"$f":"IFERROR(INDEX(PTable[3-Method],MATCH(0,IF(AS$1=PTable[2-Test],COUNTIF(AS$1:AS17,PTable[3-Method]), \"\"),0)),\"\")","v":""},{"$f":"IFERROR(INDEX(PTable[3-Method],MATCH(0,IF(AT$1=PTable[2-Test],COUNTIF(AT$1:AT17,PTable[3-Method]), \"\"),0)),\"\")","v":""},{"$f":"IFERROR(INDEX(PTable[3-Method],MATCH(0,IF(AU$1=PTable[2-Test],COUNTIF(AU$1:AU17,PTable[3-Method]), \"\"),0)),\"\")","v":""},{"$f":"IFERROR(INDEX(PTable[3-Method],MATCH(0,IF(AV$1=PTable[2-Test],COUNTIF(AV$1:AV17,PTable[3-Method]), \"\"),0)),\"\")","v":""},{"$f":"IFERROR(INDEX(PTable[3-Method],MATCH(0,IF(AW$1=PTable[2-Test],COUNTIF(AW$1:AW17,PTable[3-Method]), \"\"),0)),\"\")","v":""},{"$f":"IFERROR(INDEX(PTable[3-Method],MATCH(0,IF(AX$1=PTable[2-Test],COUNTIF(AX$1:AX17,PTable[3-Method]), \"\"),0)),\"\")","v":""},{"$f":"IFERROR(INDEX(PTable[3-Method],MATCH(0,IF(AY$1=PTable[2-Test],COUNTIF(AY$1:AY17,PTable[3-Method]), \"\"),0)),\"\")","v":""},{"$f":"IFERROR(INDEX(PTable[3-Method],MATCH(0,IF(AZ$1=PTable[2-Test],COUNTIF(AZ$1:AZ17,PTable[3-Method]), \"\"),0)),\"\")","v":""},{"$f":"IFERROR(INDEX(PTable[3-Method],MATCH(0,IF(BA$1=PTable[2-Test],COUNTIF(BA$1:BA17,PTable[3-Method]), \"\"),0)),\"\")","v":""},{"$f":"IFERROR(INDEX(PTable[3-Method],MATCH(0,IF(BB$1=PTable[2-Test],COUNTIF(BB$1:BB17,PTable[3-Method]), \"\"),0)),\"\")","v":""},{"$f":"IFERROR(INDEX(PTable[3-Method],MATCH(0,IF(BC$1=PTable[2-Test],COUNTIF(BC$1:BC17,PTable[3-Method]), \"\"),0)),\"\")","v":""},{"$f":"IFERROR(INDEX(PTable[3-Method],MATCH(0,IF(BD$1=PTable[2-Test],COUNTIF(BD$1:BD17,PTable[3-Method]), \"\"),0)),\"\")","v":""},{"$f":"IFERROR(INDEX(PTable[3-Method],MATCH(0,IF(BE$1=PTable[2-Test],COUNTIF(BE$1:BE17,PTable[3-Method]), \"\"),0)),\"\")","v":""},{"$f":"IFERROR(INDEX(PTable[3-Method],MATCH(0,IF(BF$1=PTable[2-Test],COUNTIF(BF$1:BF17,PTable[3-Method]), \"\"),0)),\"\")","v":""},{"$f":"IFERROR(INDEX(PTable[3-Method],MATCH(0,IF(BG$1=PTable[2-Test],COUNTIF(BG$1:BG17,PTable[3-Method]), \"\"),0)),\"\")","v":""},{"$f":"IFERROR(INDEX(PTable[3-Method],MATCH(0,IF(BH$1=PTable[2-Test],COUNTIF(BH$1:BH17,PTable[3-Method]), \"\"),0)),\"\")","v":""},{"$f":"IFERROR(INDEX(PTable[3-Method],MATCH(0,IF(BI$1=PTable[2-Test],COUNTIF(BI$1:BI17,PTable[3-Method]), \"\"),0)),\"\")","v":""},{"$f":"IFERROR(INDEX(PTable[3-Method],MATCH(0,IF(BJ$1=PTable[2-Test],COUNTIF(BJ$1:BJ17,PTable[3-Method]), \"\"),0)),\"\")","v":""},{"$f":"IFERROR(INDEX(PTable[3-Method],MATCH(0,IF(BK$1=PTable[2-Test],COUNTIF(BK$1:BK17,PTable[3-Method]), \"\"),0)),\"\")","v":""},{"$f":"IFERROR(INDEX(PTable[3-Method],MATCH(0,IF(BL$1=PTable[2-Test],COUNTIF(BL$1:BL17,PTable[3-Method]), \"\"),0)),\"\")","v":"PCR25g"},{"$f":"IFERROR(INDEX(PTable[3-Method],MATCH(0,IF(BM$1=PTable[2-Test],COUNTIF(BM$1:BM17,PTable[3-Method]), \"\"),0)),\"\")","v":"mUS200g"},{"$f":"IFERROR(INDEX(PTable[3-Method],MATCH(0,IF(BN$1=PTable[2-Test],COUNTIF(BN$1:BN17,PTable[3-Method]), \"\"),0)),\"\")","v":""},{"$f":"IFERROR(INDEX(PTable[3-Method],MATCH(0,IF(BO$1=PTable[2-Test],COUNTIF(BO$1:BO17,PTable[3-Method]), \"\"),0)),\"\")","v":""},{"$f":"IFERROR(INDEX(PTable[3-Method],MATCH(0,IF(BP$1=PTable[2-Test],COUNTIF(BP$1:BP17,PTable[3-Method]), \"\"),0)),\"\")","v":"mFD250g"},{"$f":"IFERROR(INDEX(PTable[3-Method],MATCH(0,IF(BQ$1=PTable[2-Test],COUNTIF(BQ$1:BQ17,PTable[3-Method]), \"\"),0)),\"\")","v":""},{"$f":"IFERROR(INDEX(PTable[3-Method],MATCH(0,IF(BR$1=PTable[2-Test],COUNTIF(BR$1:BR17,PTable[3-Method]), \"\"),0)),\"\")","v":""},{"$f":"IFERROR(INDEX(PTable[3-Method],MATCH(0,IF(BS$1=PTable[2-Test],COUNTIF(BS$1:BS17,PTable[3-Method]), \"\"),0)),\"\")","v":""},{"$f":"IFERROR(INDEX(PTable[3-Method],MATCH(0,IF(BT$1=PTable[2-Test],COUNTIF(BT$1:BT17,PTable[3-Method]), \"\"),0)),\"\")","v":""},{"$f":"IFERROR(INDEX(PTable[3-Method],MATCH(0,IF(BU$1=PTable[2-Test],COUNTIF(BU$1:BU17,PTable[3-Method]), \"\"),0)),\"\")","v":""},{"$f":"IFERROR(INDEX(PTable[3-Method],MATCH(0,IF(BV$1=PTable[2-Test],COUNTIF(BV$1:BV17,PTable[3-Method]), \"\"),0)),\"\")","v":""},{"$f":"IFERROR(INDEX(PTable[3-Method],MATCH(0,IF(BW$1=PTable[2-Test],COUNTIF(BW$1:BW17,PTable[3-Method]), \"\"),0)),\"\")","v":""},{"$f":"IFERROR(INDEX(PTable[3-Method],MATCH(0,IF(BX$1=PTable[2-Test],COUNTIF(BX$1:BX17,PTable[3-Method]), \"\"),0)),\"\")","v":""},{"$f":"IFERROR(INDEX(PTable[3-Method],MATCH(0,IF(BY$1=PTable[2-Test],COUNTIF(BY$1:BY17,PTable[3-Method]), \"\"),0)),\"\")","v":""},{"$f":"IFERROR(INDEX(PTable[3-Method],MATCH(0,IF(BZ$1=PTable[2-Test],COUNTIF(BZ$1:BZ17,PTable[3-Method]), \"\"),0)),\"\")","v":""},{"$f":"IFERROR(INDEX(PTable[3-Method],MATCH(0,IF(CA$1=PTable[2-Test],COUNTIF(CA$1:CA17,PTable[3-Method]), \"\"),0)),\"\")","v":""},{"$f":"IFERROR(INDEX(PTable[3-Method],MATCH(0,IF(CB$1=PTable[2-Test],COUNTIF(CB$1:CB17,PTable[3-Method]), \"\"),0)),\"\")","v":""},{"$f":"IFERROR(INDEX(PTable[3-Method],MATCH(0,IF(CC$1=PTable[2-Test],COUNTIF(CC$1:CC17,PTable[3-Method]), \"\"),0)),\"\")","v":""},{"$f":"IFERROR(INDEX(PTable[3-Method],MATCH(0,IF(CD$1=PTable[2-Test],COUNTIF(CD$1:CD17,PTable[3-Method]), \"\"),0)),\"\")","v":""},{"$f":"IFERROR(INDEX(PTable[3-Method],MATCH(0,IF(CE$1=PTable[2-Test],COUNTIF(CE$1:CE17,PTable[3-Method]), \"\"),0)),\"\")","v":""},{"$f":"IFERROR(INDEX(PTable[3-Method],MATCH(0,IF(CF$1=PTable[2-Test],COUNTIF(CF$1:CF17,PTable[3-Method]), \"\"),0)),\"\")","v":""},{"$f":"IFERROR(INDEX(PTable[3-Method],MATCH(0,IF(CG$1=PTable[2-Test],COUNTIF(CG$1:CG17,PTable[3-Method]), \"\"),0)),\"\")","v":""},{"$f":"IFERROR(INDEX(PTable[3-Method],MATCH(0,IF(CH$1=PTable[2-Test],COUNTIF(CH$1:CH17,PTable[3-Method]), \"\"),0)),\"\")","v":""},{"$f":"IFERROR(INDEX(PTable[3-Method],MATCH(0,IF(CI$1=PTable[2-Test],COUNTIF(CI$1:CI17,PTable[3-Method]), \"\"),0)),\"\")","v":""},{"$f":"IFERROR(INDEX(PTable[3-Method],MATCH(0,IF(CJ$1=PTable[2-Test],COUNTIF(CJ$1:CJ17,PTable[3-Method]), \"\"),0)),\"\")","v":""},{"$f":"IFERROR(INDEX(PTable[3-Method],MATCH(0,IF(CK$1=PTable[2-Test],COUNTIF(CK$1:CK17,PTable[3-Method]), \"\"),0)),\"\")","v":""},{"$f":"IFERROR(INDEX(PTable[3-Method],MATCH(0,IF(CL$1=PTable[2-Test],COUNTIF(CL$1:CL17,PTable[3-Method]), \"\"),0)),\"\")","v":""},{"$f":"IFERROR(INDEX(PTable[3-Method],MATCH(0,IF(CM$1=PTable[2-Test],COUNTIF(CM$1:CM17,PTable[3-Method]), \"\"),0)),\"\")","v":""},{"$f":"IFERROR(INDEX(PTable[3-Method],MATCH(0,IF(CN$1=PTable[2-Test],COUNTIF(CN$1:CN17,PTable[3-Method]), \"\"),0)),\"\")","v":""},{"$f":"IFERROR(INDEX(PTable[3-Method],MATCH(0,IF(CO$1=PTable[2-Test],COUNTIF(CO$1:CO17,PTable[3-Method]), \"\"),0)),\"\")","v":""},{"$f":"IFERROR(INDEX(PTable[3-Method],MATCH(0,IF(CP$1=PTable[2-Test],COUNTIF(CP$1:CP17,PTable[3-Method]), \"\"),0)),\"\")","v":""},{"$f":"IFERROR(INDEX(PTable[3-Method],MATCH(0,IF(CQ$1=PTable[2-Test],COUNTIF(CQ$1:CQ17,PTable[3-Method]), \"\"),0)),\"\")","v":""},{"$f":"IFERROR(INDEX(PTable[3-Method],MATCH(0,IF(CR$1=PTable[2-Test],COUNTIF(CR$1:CR17,PTable[3-Method]), \"\"),0)),\"\")","v":""},{"$f":"IFERROR(INDEX(PTable[3-Method],MATCH(0,IF(CS$1=PTable[2-Test],COUNTIF(CS$1:CS17,PTable[3-Method]), \"\"),0)),\"\")","v":""},{"$f":"IFERROR(INDEX(PTable[3-Method],MATCH(0,IF(CT$1=PTable[2-Test],COUNTIF(CT$1:CT17,PTable[3-Method]), \"\"),0)),\"\")","v":""},{"$f":"IFERROR(INDEX(PTable[3-Method],MATCH(0,IF(CU$1=PTable[2-Test],COUNTIF(CU$1:CU17,PTable[3-Method]), \"\"),0)),\"\")","v":""},{"$f":"IFERROR(INDEX(PTable[3-Method],MATCH(0,IF(CV$1=PTable[2-Test],COUNTIF(CV$1:CV17,PTable[3-Method]), \"\"),0)),\"\")","v":""},{"$f":"IFERROR(INDEX(PTable[3-Method],MATCH(0,IF(CW$1=PTable[2-Test],COUNTIF(CW$1:CW17,PTable[3-Method]), \"\"),0)),\"\")","v":""},{"$f":"IFERROR(INDEX(PTable[3-Method],MATCH(0,IF(CX$1=PTable[2-Test],COUNTIF(CX$1:CX17,PTable[3-Method]), \"\"),0)),\"\")","v":""},{"$f":"IFERROR(INDEX(PTable[3-Method],MATCH(0,IF(CY$1=PTable[2-Test],COUNTIF(CY$1:CY17,PTable[3-Method]), \"\"),0)),\"\")","v":""},{"$f":"IFERROR(INDEX(PTable[3-Method],MATCH(0,IF(CZ$1=PTable[2-Test],COUNTIF(CZ$1:CZ17,PTable[3-Method]), \"\"),0)),\"\")","v":""},{"$f":"IFERROR(INDEX(PTable[3-Method],MATCH(0,IF(DA$1=PTable[2-Test],COUNTIF(DA$1:DA17,PTable[3-Method]), \"\"),0)),\"\")","v":""},{"$f":"IFERROR(INDEX(PTable[3-Method],MATCH(0,IF(DB$1=PTable[2-Test],COUNTIF(DB$1:DB17,PTable[3-Method]), \"\"),0)),\"\")","v":""},{"$f":"IFERROR(INDEX(PTable[3-Method],MATCH(0,IF(DC$1=PTable[2-Test],COUNTIF(DC$1:DC17,PTable[3-Method]), \"\"),0)),\"\")","v":""},{"$f":"IFERROR(INDEX(PTable[3-Method],MATCH(0,IF(DD$1=PTable[2-Test],COUNTIF(DD$1:DD17,PTable[3-Method]), \"\"),0)),\"\")","v":""},{"$f":"IFERROR(INDEX(PTable[3-Method],MATCH(0,IF(DE$1=PTable[2-Test],COUNTIF(DE$1:DE17,PTable[3-Method]), \"\"),0)),\"\")","v":""},{"$f":"IFERROR(INDEX(PTable[3-Method],MATCH(0,IF(DF$1=PTable[2-Test],COUNTIF(DF$1:DF17,PTable[3-Method]), \"\"),0)),\"\")","v":""},{"$f":"IFERROR(INDEX(PTable[3-Method],MATCH(0,IF(DG$1=PTable[2-Test],COUNTIF(DG$1:DG17,PTable[3-Method]), \"\"),0)),\"\")","v":""},{"$f":"IFERROR(INDEX(PTable[3-Method],MATCH(0,IF(DH$1=PTable[2-Test],COUNTIF(DH$1:DH17,PTable[3-Method]), \"\"),0)),\"\")","v":""},{"$f":"IFERROR(INDEX(PTable[3-Method],MATCH(0,IF(DI$1=PTable[2-Test],COUNTIF(DI$1:DI17,PTable[3-Method]), \"\"),0)),\"\")","v":""},{"$f":"IFERROR(INDEX(PTable[3-Method],MATCH(0,IF(DJ$1=PTable[2-Test],COUNTIF(DJ$1:DJ17,PTable[3-Method]), \"\"),0)),\"\")","v":""}]
[null,{"$f":"IFERROR(INDEX(PTable[2-Test],MATCH(0,IF(B$1=PTable[1-Type],COUNTIF(B$1:B18,PTable[2-Test]), \"\"),0)),\"\")","v":"COLI"},{"$f":"IFERROR(INDEX(PTable[2-Test],MATCH(0,IF(C$1=PTable[1-Type],COUNTIF(C$1:C18,PTable[2-Test]), \"\"),0)),\"\")","v":""},{"$f":"IFERROR(INDEX(PTable[2-Test],MATCH(0,IF(D$1=PTable[1-Type],COUNTIF(D$1:D18,PTable[2-Test]), \"\"),0)),\"\")","v":"PFF"},{"$f":"IFERROR(INDEX(PTable[2-Test],MATCH(0,IF(E$1=PTable[1-Type],COUNTIF(E$1:E18,PTable[2-Test]), \"\"),0)),\"\")","v":""},{"$f":"IFERROR(INDEX(PTable[2-Test],MATCH(0,IF(F$1=PTable[1-Type],COUNTIF(F$1:F18,PTable[2-Test]), \"\"),0)),\"\")","v":"Soy"},{"$f":"IFERROR(INDEX(PTable[3-Method],MATCH(0,IF(G$1=PTable[2-Test],COUNTIF(G$1:G18,PTable[3-Method]), \"\"),0)),\"\")","v":""},{"$f":"IFERROR(INDEX(PTable[3-Method],MATCH(0,IF(H$1=PTable[2-Test],COUNTIF(H$1:H18,PTable[3-Method]), \"\"),0)),\"\")","v":""},{"$f":"IFERROR(INDEX(PTable[3-Method],MATCH(0,IF(I$1=PTable[2-Test],COUNTIF(I$1:I18,PTable[3-Method]), \"\"),0)),\"\")","v":""},{"$f":"IFERROR(INDEX(PTable[3-Method],MATCH(0,IF(J$1=PTable[2-Test],COUNTIF(J$1:J18,PTable[3-Method]), \"\"),0)),\"\")","v":""},{"$f":"IFERROR(INDEX(PTable[3-Method],MATCH(0,IF(K$1=PTable[2-Test],COUNTIF(K$1:K18,PTable[3-Method]), \"\"),0)),\"\")","v":""},{"$f":"IFERROR(INDEX(PTable[3-Method],MATCH(0,IF(L$1=PTable[2-Test],COUNTIF(L$1:L18,PTable[3-Method]), \"\"),0)),\"\")","v":""},{"$f":"IFERROR(INDEX(PTable[3-Method],MATCH(0,IF(M$1=PTable[2-Test],COUNTIF(M$1:M18,PTable[3-Method]), \"\"),0)),\"\")","v":""},{"$f":"IFERROR(INDEX(PTable[3-Method],MATCH(0,IF(N$1=PTable[2-Test],COUNTIF(N$1:N18,PTable[3-Method]), \"\"),0)),\"\")","v":""},{"$f":"IFERROR(INDEX(PTable[3-Method],MATCH(0,IF(O$1=PTable[2-Test],COUNTIF(O$1:O18,PTable[3-Method]), \"\"),0)),\"\")","v":""},{"$f":"IFERROR(INDEX(PTable[3-Method],MATCH(0,IF(P$1=PTable[2-Test],COUNTIF(P$1:P18,PTable[3-Method]), \"\"),0)),\"\")","v":""},{"$f":"IFERROR(INDEX(PTable[3-Method],MATCH(0,IF(Q$1=PTable[2-Test],COUNTIF(Q$1:Q18,PTable[3-Method]), \"\"),0)),\"\")","v":""},{"$f":"IFERROR(INDEX(PTable[3-Method],MATCH(0,IF(R$1=PTable[2-Test],COUNTIF(R$1:R18,PTable[3-Method]), \"\"),0)),\"\")","v":""},{"$f":"IFERROR(INDEX(PTable[3-Method],MATCH(0,IF(S$1=PTable[2-Test],COUNTIF(S$1:S18,PTable[3-Method]), \"\"),0)),\"\")","v":""},{"$f":"IFERROR(INDEX(PTable[3-Method],MATCH(0,IF(T$1=PTable[2-Test],COUNTIF(T$1:T18,PTable[3-Method]), \"\"),0)),\"\")","v":""},{"$f":"IFERROR(INDEX(PTable[3-Method],MATCH(0,IF(U$1=PTable[2-Test],COUNTIF(U$1:U18,PTable[3-Method]), \"\"),0)),\"\")","v":""},{"$f":"IFERROR(INDEX(PTable[3-Method],MATCH(0,IF(V$1=PTable[2-Test],COUNTIF(V$1:V18,PTable[3-Method]), \"\"),0)),\"\")","v":""},{"$f":"IFERROR(INDEX(PTable[3-Method],MATCH(0,IF(W$1=PTable[2-Test],COUNTIF(W$1:W18,PTable[3-Method]), \"\"),0)),\"\")","v":""},{"$f":"IFERROR(INDEX(PTable[3-Method],MATCH(0,IF(X$1=PTable[2-Test],COUNTIF(X$1:X18,PTable[3-Method]), \"\"),0)),\"\")","v":""},{"$f":"IFERROR(INDEX(PTable[3-Method],MATCH(0,IF(Y$1=PTable[2-Test],COUNTIF(Y$1:Y18,PTable[3-Method]), \"\"),0)),\"\")","v":""},{"$f":"IFERROR(INDEX(PTable[3-Method],MATCH(0,IF(Z$1=PTable[2-Test],COUNTIF(Z$1:Z18,PTable[3-Method]), \"\"),0)),\"\")","v":""},{"$f":"IFERROR(INDEX(PTable[3-Method],MATCH(0,IF(AA$1=PTable[2-Test],COUNTIF(AA$1:AA18,PTable[3-Method]), \"\"),0)),\"\")","v":""},{"$f":"IFERROR(INDEX(PTable[3-Method],MATCH(0,IF(AB$1=PTable[2-Test],COUNTIF(AB$1:AB18,PTable[3-Method]), \"\"),0)),\"\")","v":""},{"$f":"IFERROR(INDEX(PTable[3-Method],MATCH(0,IF(AC$1=PTable[2-Test],COUNTIF(AC$1:AC18,PTable[3-Method]), \"\"),0)),\"\")","v":""},{"$f":"IFERROR(INDEX(PTable[3-Method],MATCH(0,IF(AD$1=PTable[2-Test],COUNTIF(AD$1:AD18,PTable[3-Method]), \"\"),0)),\"\")","v":""},{"$f":"IFERROR(INDEX(PTable[3-Method],MATCH(0,IF(AE$1=PTable[2-Test],COUNTIF(AE$1:AE18,PTable[3-Method]), \"\"),0)),\"\")","v":""},{"$f":"IFERROR(INDEX(PTable[3-Method],MATCH(0,IF(AF$1=PTable[2-Test],COUNTIF(AF$1:AF18,PTable[3-Method]), \"\"),0)),\"\")","v":""},{"$f":"IFERROR(INDEX(PTable[3-Method],MATCH(0,IF(AG$1=PTable[2-Test],COUNTIF(AG$1:AG18,PTable[3-Method]), \"\"),0)),\"\")","v":""},{"$f":"IFERROR(INDEX(PTable[3-Method],MATCH(0,IF(AH$1=PTable[2-Test],COUNTIF(AH$1:AH18,PTable[3-Method]), \"\"),0)),\"\")","v":""},{"$f":"IFERROR(INDEX(PTable[3-Method],MATCH(0,IF(AI$1=PTable[2-Test],COUNTIF(AI$1:AI18,PTable[3-Method]), \"\"),0)),\"\")","v":""},{"$f":"IFERROR(INDEX(PTable[3-Method],MATCH(0,IF(AJ$1=PTable[2-Test],COUNTIF(AJ$1:AJ18,PTable[3-Method]), \"\"),0)),\"\")","v":""},{"$f":"IFERROR(INDEX(PTable[3-Method],MATCH(0,IF(AK$1=PTable[2-Test],COUNTIF(AK$1:AK18,PTable[3-Method]), \"\"),0)),\"\")","v":""},{"$f":"IFERROR(INDEX(PTable[3-Method],MATCH(0,IF(AL$1=PTable[2-Test],COUNTIF(AL$1:AL18,PTable[3-Method]), \"\"),0)),\"\")","v":""},{"$f":"IFERROR(INDEX(PTable[3-Method],MATCH(0,IF(AM$1=PTable[2-Test],COUNTIF(AM$1:AM18,PTable[3-Method]), \"\"),0)),\"\")","v":""},{"$f":"IFERROR(INDEX(PTable[3-Method],MATCH(0,IF(AN$1=PTable[2-Test],COUNTIF(AN$1:AN18,PTable[3-Method]), \"\"),0)),\"\")","v":""},{"$f":"IFERROR(INDEX(PTable[3-Method],MATCH(0,IF(AO$1=PTable[2-Test],COUNTIF(AO$1:AO18,PTable[3-Method]), \"\"),0)),\"\")","v":""},{"$f":"IFERROR(INDEX(PTable[3-Method],MATCH(0,IF(AP$1=PTable[2-Test],COUNTIF(AP$1:AP18,PTable[3-Method]), \"\"),0)),\"\")","v":""},{"$f":"IFERROR(INDEX(PTable[3-Method],MATCH(0,IF(AQ$1=PTable[2-Test],COUNTIF(AQ$1:AQ18,PTable[3-Method]), \"\"),0)),\"\")","v":""},{"$f":"IFERROR(INDEX(PTable[3-Method],MATCH(0,IF(AR$1=PTable[2-Test],COUNTIF(AR$1:AR18,PTable[3-Method]), \"\"),0)),\"\")","v":""},{"$f":"IFERROR(INDEX(PTable[3-Method],MATCH(0,IF(AS$1=PTable[2-Test],COUNTIF(AS$1:AS18,PTable[3-Method]), \"\"),0)),\"\")","v":""},{"$f":"IFERROR(INDEX(PTable[3-Method],MATCH(0,IF(AT$1=PTable[2-Test],COUNTIF(AT$1:AT18,PTable[3-Method]), \"\"),0)),\"\")","v":""},{"$f":"IFERROR(INDEX(PTable[3-Method],MATCH(0,IF(AU$1=PTable[2-Test],COUNTIF(AU$1:AU18,PTable[3-Method]), \"\"),0)),\"\")","v":""},{"$f":"IFERROR(INDEX(PTable[3-Method],MATCH(0,IF(AV$1=PTable[2-Test],COUNTIF(AV$1:AV18,PTable[3-Method]), \"\"),0)),\"\")","v":""},{"$f":"IFERROR(INDEX(PTable[3-Method],MATCH(0,IF(AW$1=PTable[2-Test],COUNTIF(AW$1:AW18,PTable[3-Method]), \"\"),0)),\"\")","v":""},{"$f":"IFERROR(INDEX(PTable[3-Method],MATCH(0,IF(AX$1=PTable[2-Test],COUNTIF(AX$1:AX18,PTable[3-Method]), \"\"),0)),\"\")","v":""},{"$f":"IFERROR(INDEX(PTable[3-Method],MATCH(0,IF(AY$1=PTable[2-Test],COUNTIF(AY$1:AY18,PTable[3-Method]), \"\"),0)),\"\")","v":""},{"$f":"IFERROR(INDEX(PTable[3-Method],MATCH(0,IF(AZ$1=PTable[2-Test],COUNTIF(AZ$1:AZ18,PTable[3-Method]), \"\"),0)),\"\")","v":""},{"$f":"IFERROR(INDEX(PTable[3-Method],MATCH(0,IF(BA$1=PTable[2-Test],COUNTIF(BA$1:BA18,PTable[3-Method]), \"\"),0)),\"\")","v":""},{"$f":"IFERROR(INDEX(PTable[3-Method],MATCH(0,IF(BB$1=PTable[2-Test],COUNTIF(BB$1:BB18,PTable[3-Method]), \"\"),0)),\"\")","v":""},{"$f":"IFERROR(INDEX(PTable[3-Method],MATCH(0,IF(BC$1=PTable[2-Test],COUNTIF(BC$1:BC18,PTable[3-Method]), \"\"),0)),\"\")","v":""},{"$f":"IFERROR(INDEX(PTable[3-Method],MATCH(0,IF(BD$1=PTable[2-Test],COUNTIF(BD$1:BD18,PTable[3-Method]), \"\"),0)),\"\")","v":""},{"$f":"IFERROR(INDEX(PTable[3-Method],MATCH(0,IF(BE$1=PTable[2-Test],COUNTIF(BE$1:BE18,PTable[3-Method]), \"\"),0)),\"\")","v":""},{"$f":"IFERROR(INDEX(PTable[3-Method],MATCH(0,IF(BF$1=PTable[2-Test],COUNTIF(BF$1:BF18,PTable[3-Method]), \"\"),0)),\"\")","v":""},{"$f":"IFERROR(INDEX(PTable[3-Method],MATCH(0,IF(BG$1=PTable[2-Test],COUNTIF(BG$1:BG18,PTable[3-Method]), \"\"),0)),\"\")","v":""},{"$f":"IFERROR(INDEX(PTable[3-Method],MATCH(0,IF(BH$1=PTable[2-Test],COUNTIF(BH$1:BH18,PTable[3-Method]), \"\"),0)),\"\")","v":""},{"$f":"IFERROR(INDEX(PTable[3-Method],MATCH(0,IF(BI$1=PTable[2-Test],COUNTIF(BI$1:BI18,PTable[3-Method]), \"\"),0)),\"\")","v":""},{"$f":"IFERROR(INDEX(PTable[3-Method],MATCH(0,IF(BJ$1=PTable[2-Test],COUNTIF(BJ$1:BJ18,PTable[3-Method]), \"\"),0)),\"\")","v":""},{"$f":"IFERROR(INDEX(PTable[3-Method],MATCH(0,IF(BK$1=PTable[2-Test],COUNTIF(BK$1:BK18,PTable[3-Method]), \"\"),0)),\"\")","v":""},{"$f":"IFERROR(INDEX(PTable[3-Method],MATCH(0,IF(BL$1=PTable[2-Test],COUNTIF(BL$1:BL18,PTable[3-Method]), \"\"),0)),\"\")","v":"PCR325g"},{"$f":"IFERROR(INDEX(PTable[3-Method],MATCH(0,IF(BM$1=PTable[2-Test],COUNTIF(BM$1:BM18,PTable[3-Method]), \"\"),0)),\"\")","v":"mUS225g"},{"$f":"IFERROR(INDEX(PTable[3-Method],MATCH(0,IF(BN$1=PTable[2-Test],COUNTIF(BN$1:BN18,PTable[3-Method]), \"\"),0)),\"\")","v":""},{"$f":"IFERROR(INDEX(PTable[3-Method],MATCH(0,IF(BO$1=PTable[2-Test],COUNTIF(BO$1:BO18,PTable[3-Method]), \"\"),0)),\"\")","v":""},{"$f":"IFERROR(INDEX(PTable[3-Method],MATCH(0,IF(BP$1=PTable[2-Test],COUNTIF(BP$1:BP18,PTable[3-Method]), \"\"),0)),\"\")","v":"mFD25g"},{"$f":"IFERROR(INDEX(PTable[3-Method],MATCH(0,IF(BQ$1=PTable[2-Test],COUNTIF(BQ$1:BQ18,PTable[3-Method]), \"\"),0)),\"\")","v":""},{"$f":"IFERROR(INDEX(PTable[3-Method],MATCH(0,IF(BR$1=PTable[2-Test],COUNTIF(BR$1:BR18,PTable[3-Method]), \"\"),0)),\"\")","v":""},{"$f":"IFERROR(INDEX(PTable[3-Method],MATCH(0,IF(BS$1=PTable[2-Test],COUNTIF(BS$1:BS18,PTable[3-Method]), \"\"),0)),\"\")","v":""},{"$f":"IFERROR(INDEX(PTable[3-Method],MATCH(0,IF(BT$1=PTable[2-Test],COUNTIF(BT$1:BT18,PTable[3-Method]), \"\"),0)),\"\")","v":""},{"$f":"IFERROR(INDEX(PTable[3-Method],MATCH(0,IF(BU$1=PTable[2-Test],COUNTIF(BU$1:BU18,PTable[3-Method]), \"\"),0)),\"\")","v":""},{"$f":"IFERROR(INDEX(PTable[3-Method],MATCH(0,IF(BV$1=PTable[2-Test],COUNTIF(BV$1:BV18,PTable[3-Method]), \"\"),0)),\"\")","v":""},{"$f":"IFERROR(INDEX(PTable[3-Method],MATCH(0,IF(BW$1=PTable[2-Test],COUNTIF(BW$1:BW18,PTable[3-Method]), \"\"),0)),\"\")","v":""},{"$f":"IFERROR(INDEX(PTable[3-Method],MATCH(0,IF(BX$1=PTable[2-Test],COUNTIF(BX$1:BX18,PTable[3-Method]), \"\"),0)),\"\")","v":""},{"$f":"IFERROR(INDEX(PTable[3-Method],MATCH(0,IF(BY$1=PTable[2-Test],COUNTIF(BY$1:BY18,PTable[3-Method]), \"\"),0)),\"\")","v":""},{"$f":"IFERROR(INDEX(PTable[3-Method],MATCH(0,IF(BZ$1=PTable[2-Test],COUNTIF(BZ$1:BZ18,PTable[3-Method]), \"\"),0)),\"\")","v":""},{"$f":"IFERROR(INDEX(PTable[3-Method],MATCH(0,IF(CA$1=PTable[2-Test],COUNTIF(CA$1:CA18,PTable[3-Method]), \"\"),0)),\"\")","v":""},{"$f":"IFERROR(INDEX(PTable[3-Method],MATCH(0,IF(CB$1=PTable[2-Test],COUNTIF(CB$1:CB18,PTable[3-Method]), \"\"),0)),\"\")","v":""},{"$f":"IFERROR(INDEX(PTable[3-Method],MATCH(0,IF(CC$1=PTable[2-Test],COUNTIF(CC$1:CC18,PTable[3-Method]), \"\"),0)),\"\")","v":""},{"$f":"IFERROR(INDEX(PTable[3-Method],MATCH(0,IF(CD$1=PTable[2-Test],COUNTIF(CD$1:CD18,PTable[3-Method]), \"\"),0)),\"\")","v":""},{"$f":"IFERROR(INDEX(PTable[3-Method],MATCH(0,IF(CE$1=PTable[2-Test],COUNTIF(CE$1:CE18,PTable[3-Method]), \"\"),0)),\"\")","v":""},{"$f":"IFERROR(INDEX(PTable[3-Method],MATCH(0,IF(CF$1=PTable[2-Test],COUNTIF(CF$1:CF18,PTable[3-Method]), \"\"),0)),\"\")","v":""},{"$f":"IFERROR(INDEX(PTable[3-Method],MATCH(0,IF(CG$1=PTable[2-Test],COUNTIF(CG$1:CG18,PTable[3-Method]), \"\"),0)),\"\")","v":""},{"$f":"IFERROR(INDEX(PTable[3-Method],MATCH(0,IF(CH$1=PTable[2-Test],COUNTIF(CH$1:CH18,PTable[3-Method]), \"\"),0)),\"\")","v":""},{"$f":"IFERROR(INDEX(PTable[3-Method],MATCH(0,IF(CI$1=PTable[2-Test],COUNTIF(CI$1:CI18,PTable[3-Method]), \"\"),0)),\"\")","v":""},{"$f":"IFERROR(INDEX(PTable[3-Method],MATCH(0,IF(CJ$1=PTable[2-Test],COUNTIF(CJ$1:CJ18,PTable[3-Method]), \"\"),0)),\"\")","v":""},{"$f":"IFERROR(INDEX(PTable[3-Method],MATCH(0,IF(CK$1=PTable[2-Test],COUNTIF(CK$1:CK18,PTable[3-Method]), \"\"),0)),\"\")","v":""},{"$f":"IFERROR(INDEX(PTable[3-Method],MATCH(0,IF(CL$1=PTable[2-Test],COUNTIF(CL$1:CL18,PTable[3-Method]), \"\"),0)),\"\")","v":""},{"$f":"IFERROR(INDEX(PTable[3-Method],MATCH(0,IF(CM$1=PTable[2-Test],COUNTIF(CM$1:CM18,PTable[3-Method]), \"\"),0)),\"\")","v":""},{"$f":"IFERROR(INDEX(PTable[3-Method],MATCH(0,IF(CN$1=PTable[2-Test],COUNTIF(CN$1:CN18,PTable[3-Method]), \"\"),0)),\"\")","v":""},{"$f":"IFERROR(INDEX(PTable[3-Method],MATCH(0,IF(CO$1=PTable[2-Test],COUNTIF(CO$1:CO18,PTable[3-Method]), \"\"),0)),\"\")","v":""},{"$f":"IFERROR(INDEX(PTable[3-Method],MATCH(0,IF(CP$1=PTable[2-Test],COUNTIF(CP$1:CP18,PTable[3-Method]), \"\"),0)),\"\")","v":""},{"$f":"IFERROR(INDEX(PTable[3-Method],MATCH(0,IF(CQ$1=PTable[2-Test],COUNTIF(CQ$1:CQ18,PTable[3-Method]), \"\"),0)),\"\")","v":""},{"$f":"IFERROR(INDEX(PTable[3-Method],MATCH(0,IF(CR$1=PTable[2-Test],COUNTIF(CR$1:CR18,PTable[3-Method]), \"\"),0)),\"\")","v":""},{"$f":"IFERROR(INDEX(PTable[3-Method],MATCH(0,IF(CS$1=PTable[2-Test],COUNTIF(CS$1:CS18,PTable[3-Method]), \"\"),0)),\"\")","v":""},{"$f":"IFERROR(INDEX(PTable[3-Method],MATCH(0,IF(CT$1=PTable[2-Test],COUNTIF(CT$1:CT18,PTable[3-Method]), \"\"),0)),\"\")","v":""},{"$f":"IFERROR(INDEX(PTable[3-Method],MATCH(0,IF(CU$1=PTable[2-Test],COUNTIF(CU$1:CU18,PTable[3-Method]), \"\"),0)),\"\")","v":""},{"$f":"IFERROR(INDEX(PTable[3-Method],MATCH(0,IF(CV$1=PTable[2-Test],COUNTIF(CV$1:CV18,PTable[3-Method]), \"\"),0)),\"\")","v":""},{"$f":"IFERROR(INDEX(PTable[3-Method],MATCH(0,IF(CW$1=PTable[2-Test],COUNTIF(CW$1:CW18,PTable[3-Method]), \"\"),0)),\"\")","v":""},{"$f":"IFERROR(INDEX(PTable[3-Method],MATCH(0,IF(CX$1=PTable[2-Test],COUNTIF(CX$1:CX18,PTable[3-Method]), \"\"),0)),\"\")","v":""},{"$f":"IFERROR(INDEX(PTable[3-Method],MATCH(0,IF(CY$1=PTable[2-Test],COUNTIF(CY$1:CY18,PTable[3-Method]), \"\"),0)),\"\")","v":""},{"$f":"IFERROR(INDEX(PTable[3-Method],MATCH(0,IF(CZ$1=PTable[2-Test],COUNTIF(CZ$1:CZ18,PTable[3-Method]), \"\"),0)),\"\")","v":""},{"$f":"IFERROR(INDEX(PTable[3-Method],MATCH(0,IF(DA$1=PTable[2-Test],COUNTIF(DA$1:DA18,PTable[3-Method]), \"\"),0)),\"\")","v":""},{"$f":"IFERROR(INDEX(PTable[3-Method],MATCH(0,IF(DB$1=PTable[2-Test],COUNTIF(DB$1:DB18,PTable[3-Method]), \"\"),0)),\"\")","v":""},{"$f":"IFERROR(INDEX(PTable[3-Method],MATCH(0,IF(DC$1=PTable[2-Test],COUNTIF(DC$1:DC18,PTable[3-Method]), \"\"),0)),\"\")","v":""},{"$f":"IFERROR(INDEX(PTable[3-Method],MATCH(0,IF(DD$1=PTable[2-Test],COUNTIF(DD$1:DD18,PTable[3-Method]), \"\"),0)),\"\")","v":""},{"$f":"IFERROR(INDEX(PTable[3-Method],MATCH(0,IF(DE$1=PTable[2-Test],COUNTIF(DE$1:DE18,PTable[3-Method]), \"\"),0)),\"\")","v":""},{"$f":"IFERROR(INDEX(PTable[3-Method],MATCH(0,IF(DF$1=PTable[2-Test],COUNTIF(DF$1:DF18,PTable[3-Method]), \"\"),0)),\"\")","v":""},{"$f":"IFERROR(INDEX(PTable[3-Method],MATCH(0,IF(DG$1=PTable[2-Test],COUNTIF(DG$1:DG18,PTable[3-Method]), \"\"),0)),\"\")","v":""},{"$f":"IFERROR(INDEX(PTable[3-Method],MATCH(0,IF(DH$1=PTable[2-Test],COUNTIF(DH$1:DH18,PTable[3-Method]), \"\"),0)),\"\")","v":""},{"$f":"IFERROR(INDEX(PTable[3-Method],MATCH(0,IF(DI$1=PTable[2-Test],COUNTIF(DI$1:DI18,PTable[3-Method]), \"\"),0)),\"\")","v":""},{"$f":"IFERROR(INDEX(PTable[3-Method],MATCH(0,IF(DJ$1=PTable[2-Test],COUNTIF(DJ$1:DJ18,PTable[3-Method]), \"\"),0)),\"\")","v":""}]
[null,{"$f":"IFERROR(INDEX(PTable[2-Test],MATCH(0,IF(B$1=PTable[1-Type],COUNTIF(B$1:B19,PTable[2-Test]), \"\"),0)),\"\")","v":"COLI32"},{"$f":"IFERROR(INDEX(PTable[2-Test],MATCH(0,IF(C$1=PTable[1-Type],COUNTIF(C$1:C19,PTable[2-Test]), \"\"),0)),\"\")","v":""},{"$f":"IFERROR(INDEX(PTable[2-Test],MATCH(0,IF(D$1=PTable[1-Type],COUNTIF(D$1:D19,PTable[2-Test]), \"\"),0)),\"\")","v":"pH"},{"$f":"IFERROR(INDEX(PTable[2-Test],MATCH(0,IF(E$1=PTable[1-Type],COUNTIF(E$1:E19,PTable[2-Test]), \"\"),0)),\"\")","v":""},{"$f":"IFERROR(INDEX(PTable[2-Test],MATCH(0,IF(F$1=PTable[1-Type],COUNTIF(F$1:F19,PTable[2-Test]), \"\"),0)),\"\")","v":"Walnut"},{"$f":"IFERROR(INDEX(PTable[3-Method],MATCH(0,IF(G$1=PTable[2-Test],COUNTIF(G$1:G19,PTable[3-Method]), \"\"),0)),\"\")","v":""},{"$f":"IFERROR(INDEX(PTable[3-Method],MATCH(0,IF(H$1=PTable[2-Test],COUNTIF(H$1:H19,PTable[3-Method]), \"\"),0)),\"\")","v":""},{"$f":"IFERROR(INDEX(PTable[3-Method],MATCH(0,IF(I$1=PTable[2-Test],COUNTIF(I$1:I19,PTable[3-Method]), \"\"),0)),\"\")","v":""},{"$f":"IFERROR(INDEX(PTable[3-Method],MATCH(0,IF(J$1=PTable[2-Test],COUNTIF(J$1:J19,PTable[3-Method]), \"\"),0)),\"\")","v":""},{"$f":"IFERROR(INDEX(PTable[3-Method],MATCH(0,IF(K$1=PTable[2-Test],COUNTIF(K$1:K19,PTable[3-Method]), \"\"),0)),\"\")","v":""},{"$f":"IFERROR(INDEX(PTable[3-Method],MATCH(0,IF(L$1=PTable[2-Test],COUNTIF(L$1:L19,PTable[3-Method]), \"\"),0)),\"\")","v":""},{"$f":"IFERROR(INDEX(PTable[3-Method],MATCH(0,IF(M$1=PTable[2-Test],COUNTIF(M$1:M19,PTable[3-Method]), \"\"),0)),\"\")","v":""},{"$f":"IFERROR(INDEX(PTable[3-Method],MATCH(0,IF(N$1=PTable[2-Test],COUNTIF(N$1:N19,PTable[3-Method]), \"\"),0)),\"\")","v":""},{"$f":"IFERROR(INDEX(PTable[3-Method],MATCH(0,IF(O$1=PTable[2-Test],COUNTIF(O$1:O19,PTable[3-Method]), \"\"),0)),\"\")","v":""},{"$f":"IFERROR(INDEX(PTable[3-Method],MATCH(0,IF(P$1=PTable[2-Test],COUNTIF(P$1:P19,PTable[3-Method]), \"\"),0)),\"\")","v":""},{"$f":"IFERROR(INDEX(PTable[3-Method],MATCH(0,IF(Q$1=PTable[2-Test],COUNTIF(Q$1:Q19,PTable[3-Method]), \"\"),0)),\"\")","v":""},{"$f":"IFERROR(INDEX(PTable[3-Method],MATCH(0,IF(R$1=PTable[2-Test],COUNTIF(R$1:R19,PTable[3-Method]), \"\"),0)),\"\")","v":""},{"$f":"IFERROR(INDEX(PTable[3-Method],MATCH(0,IF(S$1=PTable[2-Test],COUNTIF(S$1:S19,PTable[3-Method]), \"\"),0)),\"\")","v":""},{"$f":"IFERROR(INDEX(PTable[3-Method],MATCH(0,IF(T$1=PTable[2-Test],COUNTIF(T$1:T19,PTable[3-Method]), \"\"),0)),\"\")","v":""},{"$f":"IFERROR(INDEX(PTable[3-Method],MATCH(0,IF(U$1=PTable[2-Test],COUNTIF(U$1:U19,PTable[3-Method]), \"\"),0)),\"\")","v":""},{"$f":"IFERROR(INDEX(PTable[3-Method],MATCH(0,IF(V$1=PTable[2-Test],COUNTIF(V$1:V19,PTable[3-Method]), \"\"),0)),\"\")","v":""},{"$f":"IFERROR(INDEX(PTable[3-Method],MATCH(0,IF(W$1=PTable[2-Test],COUNTIF(W$1:W19,PTable[3-Method]), \"\"),0)),\"\")","v":""},{"$f":"IFERROR(INDEX(PTable[3-Method],MATCH(0,IF(X$1=PTable[2-Test],COUNTIF(X$1:X19,PTable[3-Method]), \"\"),0)),\"\")","v":""},{"$f":"IFERROR(INDEX(PTable[3-Method],MATCH(0,IF(Y$1=PTable[2-Test],COUNTIF(Y$1:Y19,PTable[3-Method]), \"\"),0)),\"\")","v":""},{"$f":"IFERROR(INDEX(PTable[3-Method],MATCH(0,IF(Z$1=PTable[2-Test],COUNTIF(Z$1:Z19,PTable[3-Method]), \"\"),0)),\"\")","v":""},{"$f":"IFERROR(INDEX(PTable[3-Method],MATCH(0,IF(AA$1=PTable[2-Test],COUNTIF(AA$1:AA19,PTable[3-Method]), \"\"),0)),\"\")","v":""},{"$f":"IFERROR(INDEX(PTable[3-Method],MATCH(0,IF(AB$1=PTable[2-Test],COUNTIF(AB$1:AB19,PTable[3-Method]), \"\"),0)),\"\")","v":""},{"$f":"IFERROR(INDEX(PTable[3-Method],MATCH(0,IF(AC$1=PTable[2-Test],COUNTIF(AC$1:AC19,PTable[3-Method]), \"\"),0)),\"\")","v":""},{"$f":"IFERROR(INDEX(PTable[3-Method],MATCH(0,IF(AD$1=PTable[2-Test],COUNTIF(AD$1:AD19,PTable[3-Method]), \"\"),0)),\"\")","v":""},{"$f":"IFERROR(INDEX(PTable[3-Method],MATCH(0,IF(AE$1=PTable[2-Test],COUNTIF(AE$1:AE19,PTable[3-Method]), \"\"),0)),\"\")","v":""},{"$f":"IFERROR(INDEX(PTable[3-Method],MATCH(0,IF(AF$1=PTable[2-Test],COUNTIF(AF$1:AF19,PTable[3-Method]), \"\"),0)),\"\")","v":""},{"$f":"IFERROR(INDEX(PTable[3-Method],MATCH(0,IF(AG$1=PTable[2-Test],COUNTIF(AG$1:AG19,PTable[3-Method]), \"\"),0)),\"\")","v":""},{"$f":"IFERROR(INDEX(PTable[3-Method],MATCH(0,IF(AH$1=PTable[2-Test],COUNTIF(AH$1:AH19,PTable[3-Method]), \"\"),0)),\"\")","v":""},{"$f":"IFERROR(INDEX(PTable[3-Method],MATCH(0,IF(AI$1=PTable[2-Test],COUNTIF(AI$1:AI19,PTable[3-Method]), \"\"),0)),\"\")","v":""},{"$f":"IFERROR(INDEX(PTable[3-Method],MATCH(0,IF(AJ$1=PTable[2-Test],COUNTIF(AJ$1:AJ19,PTable[3-Method]), \"\"),0)),\"\")","v":""},{"$f":"IFERROR(INDEX(PTable[3-Method],MATCH(0,IF(AK$1=PTable[2-Test],COUNTIF(AK$1:AK19,PTable[3-Method]), \"\"),0)),\"\")","v":""},{"$f":"IFERROR(INDEX(PTable[3-Method],MATCH(0,IF(AL$1=PTable[2-Test],COUNTIF(AL$1:AL19,PTable[3-Method]), \"\"),0)),\"\")","v":""},{"$f":"IFERROR(INDEX(PTable[3-Method],MATCH(0,IF(AM$1=PTable[2-Test],COUNTIF(AM$1:AM19,PTable[3-Method]), \"\"),0)),\"\")","v":""},{"$f":"IFERROR(INDEX(PTable[3-Method],MATCH(0,IF(AN$1=PTable[2-Test],COUNTIF(AN$1:AN19,PTable[3-Method]), \"\"),0)),\"\")","v":""},{"$f":"IFERROR(INDEX(PTable[3-Method],MATCH(0,IF(AO$1=PTable[2-Test],COUNTIF(AO$1:AO19,PTable[3-Method]), \"\"),0)),\"\")","v":""},{"$f":"IFERROR(INDEX(PTable[3-Method],MATCH(0,IF(AP$1=PTable[2-Test],COUNTIF(AP$1:AP19,PTable[3-Method]), \"\"),0)),\"\")","v":""},{"$f":"IFERROR(INDEX(PTable[3-Method],MATCH(0,IF(AQ$1=PTable[2-Test],COUNTIF(AQ$1:AQ19,PTable[3-Method]), \"\"),0)),\"\")","v":""},{"$f":"IFERROR(INDEX(PTable[3-Method],MATCH(0,IF(AR$1=PTable[2-Test],COUNTIF(AR$1:AR19,PTable[3-Method]), \"\"),0)),\"\")","v":""},{"$f":"IFERROR(INDEX(PTable[3-Method],MATCH(0,IF(AS$1=PTable[2-Test],COUNTIF(AS$1:AS19,PTable[3-Method]), \"\"),0)),\"\")","v":""},{"$f":"IFERROR(INDEX(PTable[3-Method],MATCH(0,IF(AT$1=PTable[2-Test],COUNTIF(AT$1:AT19,PTable[3-Method]), \"\"),0)),\"\")","v":""},{"$f":"IFERROR(INDEX(PTable[3-Method],MATCH(0,IF(AU$1=PTable[2-Test],COUNTIF(AU$1:AU19,PTable[3-Method]), \"\"),0)),\"\")","v":""},{"$f":"IFERROR(INDEX(PTable[3-Method],MATCH(0,IF(AV$1=PTable[2-Test],COUNTIF(AV$1:AV19,PTable[3-Method]), \"\"),0)),\"\")","v":""},{"$f":"IFERROR(INDEX(PTable[3-Method],MATCH(0,IF(AW$1=PTable[2-Test],COUNTIF(AW$1:AW19,PTable[3-Method]), \"\"),0)),\"\")","v":""},{"$f":"IFERROR(INDEX(PTable[3-Method],MATCH(0,IF(AX$1=PTable[2-Test],COUNTIF(AX$1:AX19,PTable[3-Method]), \"\"),0)),\"\")","v":""},{"$f":"IFERROR(INDEX(PTable[3-Method],MATCH(0,IF(AY$1=PTable[2-Test],COUNTIF(AY$1:AY19,PTable[3-Method]), \"\"),0)),\"\")","v":""},{"$f":"IFERROR(INDEX(PTable[3-Method],MATCH(0,IF(AZ$1=PTable[2-Test],COUNTIF(AZ$1:AZ19,PTable[3-Method]), \"\"),0)),\"\")","v":""},{"$f":"IFERROR(INDEX(PTable[3-Method],MATCH(0,IF(BA$1=PTable[2-Test],COUNTIF(BA$1:BA19,PTable[3-Method]), \"\"),0)),\"\")","v":""},{"$f":"IFERROR(INDEX(PTable[3-Method],MATCH(0,IF(BB$1=PTable[2-Test],COUNTIF(BB$1:BB19,PTable[3-Method]), \"\"),0)),\"\")","v":""},{"$f":"IFERROR(INDEX(PTable[3-Method],MATCH(0,IF(BC$1=PTable[2-Test],COUNTIF(BC$1:BC19,PTable[3-Method]), \"\"),0)),\"\")","v":""},{"$f":"IFERROR(INDEX(PTable[3-Method],MATCH(0,IF(BD$1=PTable[2-Test],COUNTIF(BD$1:BD19,PTable[3-Method]), \"\"),0)),\"\")","v":""},{"$f":"IFERROR(INDEX(PTable[3-Method],MATCH(0,IF(BE$1=PTable[2-Test],COUNTIF(BE$1:BE19,PTable[3-Method]), \"\"),0)),\"\")","v":""},{"$f":"IFERROR(INDEX(PTable[3-Method],MATCH(0,IF(BF$1=PTable[2-Test],COUNTIF(BF$1:BF19,PTable[3-Method]), \"\"),0)),\"\")","v":""},{"$f":"IFERROR(INDEX(PTable[3-Method],MATCH(0,IF(BG$1=PTable[2-Test],COUNTIF(BG$1:BG19,PTable[3-Method]), \"\"),0)),\"\")","v":""},{"$f":"IFERROR(INDEX(PTable[3-Method],MATCH(0,IF(BH$1=PTable[2-Test],COUNTIF(BH$1:BH19,PTable[3-Method]), \"\"),0)),\"\")","v":""},{"$f":"IFERROR(INDEX(PTable[3-Method],MATCH(0,IF(BI$1=PTable[2-Test],COUNTIF(BI$1:BI19,PTable[3-Method]), \"\"),0)),\"\")","v":""},{"$f":"IFERROR(INDEX(PTable[3-Method],MATCH(0,IF(BJ$1=PTable[2-Test],COUNTIF(BJ$1:BJ19,PTable[3-Method]), \"\"),0)),\"\")","v":""},{"$f":"IFERROR(INDEX(PTable[3-Method],MATCH(0,IF(BK$1=PTable[2-Test],COUNTIF(BK$1:BK19,PTable[3-Method]), \"\"),0)),\"\")","v":""},{"$f":"IFERROR(INDEX(PTable[3-Method],MATCH(0,IF(BL$1=PTable[2-Test],COUNTIF(BL$1:BL19,PTable[3-Method]), \"\"),0)),\"\")","v":"PCR375g"},{"$f":"IFERROR(INDEX(PTable[3-Method],MATCH(0,IF(BM$1=PTable[2-Test],COUNTIF(BM$1:BM19,PTable[3-Method]), \"\"),0)),\"\")","v":"mUS250g"},{"$f":"IFERROR(INDEX(PTable[3-Method],MATCH(0,IF(BN$1=PTable[2-Test],COUNTIF(BN$1:BN19,PTable[3-Method]), \"\"),0)),\"\")","v":""},{"$f":"IFERROR(INDEX(PTable[3-Method],MATCH(0,IF(BO$1=PTable[2-Test],COUNTIF(BO$1:BO19,PTable[3-Method]), \"\"),0)),\"\")","v":""},{"$f":"IFERROR(INDEX(PTable[3-Method],MATCH(0,IF(BP$1=PTable[2-Test],COUNTIF(BP$1:BP19,PTable[3-Method]), \"\"),0)),\"\")","v":"mFD325g"},{"$f":"IFERROR(INDEX(PTable[3-Method],MATCH(0,IF(BQ$1=PTable[2-Test],COUNTIF(BQ$1:BQ19,PTable[3-Method]), \"\"),0)),\"\")","v":""},{"$f":"IFERROR(INDEX(PTable[3-Method],MATCH(0,IF(BR$1=PTable[2-Test],COUNTIF(BR$1:BR19,PTable[3-Method]), \"\"),0)),\"\")","v":""},{"$f":"IFERROR(INDEX(PTable[3-Method],MATCH(0,IF(BS$1=PTable[2-Test],COUNTIF(BS$1:BS19,PTable[3-Method]), \"\"),0)),\"\")","v":""},{"$f":"IFERROR(INDEX(PTable[3-Method],MATCH(0,IF(BT$1=PTable[2-Test],COUNTIF(BT$1:BT19,PTable[3-Method]), \"\"),0)),\"\")","v":""},{"$f":"IFERROR(INDEX(PTable[3-Method],MATCH(0,IF(BU$1=PTable[2-Test],COUNTIF(BU$1:BU19,PTable[3-Method]), \"\"),0)),\"\")","v":""},{"$f":"IFERROR(INDEX(PTable[3-Method],MATCH(0,IF(BV$1=PTable[2-Test],COUNTIF(BV$1:BV19,PTable[3-Method]), \"\"),0)),\"\")","v":""},{"$f":"IFERROR(INDEX(PTable[3-Method],MATCH(0,IF(BW$1=PTable[2-Test],COUNTIF(BW$1:BW19,PTable[3-Method]), \"\"),0)),\"\")","v":""},{"$f":"IFERROR(INDEX(PTable[3-Method],MATCH(0,IF(BX$1=PTable[2-Test],COUNTIF(BX$1:BX19,PTable[3-Method]), \"\"),0)),\"\")","v":""},{"$f":"IFERROR(INDEX(PTable[3-Method],MATCH(0,IF(BY$1=PTable[2-Test],COUNTIF(BY$1:BY19,PTable[3-Method]), \"\"),0)),\"\")","v":""},{"$f":"IFERROR(INDEX(PTable[3-Method],MATCH(0,IF(BZ$1=PTable[2-Test],COUNTIF(BZ$1:BZ19,PTable[3-Method]), \"\"),0)),\"\")","v":""},{"$f":"IFERROR(INDEX(PTable[3-Method],MATCH(0,IF(CA$1=PTable[2-Test],COUNTIF(CA$1:CA19,PTable[3-Method]), \"\"),0)),\"\")","v":""},{"$f":"IFERROR(INDEX(PTable[3-Method],MATCH(0,IF(CB$1=PTable[2-Test],COUNTIF(CB$1:CB19,PTable[3-Method]), \"\"),0)),\"\")","v":""},{"$f":"IFERROR(INDEX(PTable[3-Method],MATCH(0,IF(CC$1=PTable[2-Test],COUNTIF(CC$1:CC19,PTable[3-Method]), \"\"),0)),\"\")","v":""},{"$f":"IFERROR(INDEX(PTable[3-Method],MATCH(0,IF(CD$1=PTable[2-Test],COUNTIF(CD$1:CD19,PTable[3-Method]), \"\"),0)),\"\")","v":""},{"$f":"IFERROR(INDEX(PTable[3-Method],MATCH(0,IF(CE$1=PTable[2-Test],COUNTIF(CE$1:CE19,PTable[3-Method]), \"\"),0)),\"\")","v":""},{"$f":"IFERROR(INDEX(PTable[3-Method],MATCH(0,IF(CF$1=PTable[2-Test],COUNTIF(CF$1:CF19,PTable[3-Method]), \"\"),0)),\"\")","v":""},{"$f":"IFERROR(INDEX(PTable[3-Method],MATCH(0,IF(CG$1=PTable[2-Test],COUNTIF(CG$1:CG19,PTable[3-Method]), \"\"),0)),\"\")","v":""},{"$f":"IFERROR(INDEX(PTable[3-Method],MATCH(0,IF(CH$1=PTable[2-Test],COUNTIF(CH$1:CH19,PTable[3-Method]), \"\"),0)),\"\")","v":""},{"$f":"IFERROR(INDEX(PTable[3-Method],MATCH(0,IF(CI$1=PTable[2-Test],COUNTIF(CI$1:CI19,PTable[3-Method]), \"\"),0)),\"\")","v":""},{"$f":"IFERROR(INDEX(PTable[3-Method],MATCH(0,IF(CJ$1=PTable[2-Test],COUNTIF(CJ$1:CJ19,PTable[3-Method]), \"\"),0)),\"\")","v":""},{"$f":"IFERROR(INDEX(PTable[3-Method],MATCH(0,IF(CK$1=PTable[2-Test],COUNTIF(CK$1:CK19,PTable[3-Method]), \"\"),0)),\"\")","v":""},{"$f":"IFERROR(INDEX(PTable[3-Method],MATCH(0,IF(CL$1=PTable[2-Test],COUNTIF(CL$1:CL19,PTable[3-Method]), \"\"),0)),\"\")","v":""},{"$f":"IFERROR(INDEX(PTable[3-Method],MATCH(0,IF(CM$1=PTable[2-Test],COUNTIF(CM$1:CM19,PTable[3-Method]), \"\"),0)),\"\")","v":""},{"$f":"IFERROR(INDEX(PTable[3-Method],MATCH(0,IF(CN$1=PTable[2-Test],COUNTIF(CN$1:CN19,PTable[3-Method]), \"\"),0)),\"\")","v":""},{"$f":"IFERROR(INDEX(PTable[3-Method],MATCH(0,IF(CO$1=PTable[2-Test],COUNTIF(CO$1:CO19,PTable[3-Method]), \"\"),0)),\"\")","v":""},{"$f":"IFERROR(INDEX(PTable[3-Method],MATCH(0,IF(CP$1=PTable[2-Test],COUNTIF(CP$1:CP19,PTable[3-Method]), \"\"),0)),\"\")","v":""},{"$f":"IFERROR(INDEX(PTable[3-Method],MATCH(0,IF(CQ$1=PTable[2-Test],COUNTIF(CQ$1:CQ19,PTable[3-Method]), \"\"),0)),\"\")","v":""},{"$f":"IFERROR(INDEX(PTable[3-Method],MATCH(0,IF(CR$1=PTable[2-Test],COUNTIF(CR$1:CR19,PTable[3-Method]), \"\"),0)),\"\")","v":""},{"$f":"IFERROR(INDEX(PTable[3-Method],MATCH(0,IF(CS$1=PTable[2-Test],COUNTIF(CS$1:CS19,PTable[3-Method]), \"\"),0)),\"\")","v":""},{"$f":"IFERROR(INDEX(PTable[3-Method],MATCH(0,IF(CT$1=PTable[2-Test],COUNTIF(CT$1:CT19,PTable[3-Method]), \"\"),0)),\"\")","v":""},{"$f":"IFERROR(INDEX(PTable[3-Method],MATCH(0,IF(CU$1=PTable[2-Test],COUNTIF(CU$1:CU19,PTable[3-Method]), \"\"),0)),\"\")","v":""},{"$f":"IFERROR(INDEX(PTable[3-Method],MATCH(0,IF(CV$1=PTable[2-Test],COUNTIF(CV$1:CV19,PTable[3-Method]), \"\"),0)),\"\")","v":""},{"$f":"IFERROR(INDEX(PTable[3-Method],MATCH(0,IF(CW$1=PTable[2-Test],COUNTIF(CW$1:CW19,PTable[3-Method]), \"\"),0)),\"\")","v":""},{"$f":"IFERROR(INDEX(PTable[3-Method],MATCH(0,IF(CX$1=PTable[2-Test],COUNTIF(CX$1:CX19,PTable[3-Method]), \"\"),0)),\"\")","v":""},{"$f":"IFERROR(INDEX(PTable[3-Method],MATCH(0,IF(CY$1=PTable[2-Test],COUNTIF(CY$1:CY19,PTable[3-Method]), \"\"),0)),\"\")","v":""},{"$f":"IFERROR(INDEX(PTable[3-Method],MATCH(0,IF(CZ$1=PTable[2-Test],COUNTIF(CZ$1:CZ19,PTable[3-Method]), \"\"),0)),\"\")","v":""},{"$f":"IFERROR(INDEX(PTable[3-Method],MATCH(0,IF(DA$1=PTable[2-Test],COUNTIF(DA$1:DA19,PTable[3-Method]), \"\"),0)),\"\")","v":""},{"$f":"IFERROR(INDEX(PTable[3-Method],MATCH(0,IF(DB$1=PTable[2-Test],COUNTIF(DB$1:DB19,PTable[3-Method]), \"\"),0)),\"\")","v":""},{"$f":"IFERROR(INDEX(PTable[3-Method],MATCH(0,IF(DC$1=PTable[2-Test],COUNTIF(DC$1:DC19,PTable[3-Method]), \"\"),0)),\"\")","v":""},{"$f":"IFERROR(INDEX(PTable[3-Method],MATCH(0,IF(DD$1=PTable[2-Test],COUNTIF(DD$1:DD19,PTable[3-Method]), \"\"),0)),\"\")","v":""},{"$f":"IFERROR(INDEX(PTable[3-Method],MATCH(0,IF(DE$1=PTable[2-Test],COUNTIF(DE$1:DE19,PTable[3-Method]), \"\"),0)),\"\")","v":""},{"$f":"IFERROR(INDEX(PTable[3-Method],MATCH(0,IF(DF$1=PTable[2-Test],COUNTIF(DF$1:DF19,PTable[3-Method]), \"\"),0)),\"\")","v":""},{"$f":"IFERROR(INDEX(PTable[3-Method],MATCH(0,IF(DG$1=PTable[2-Test],COUNTIF(DG$1:DG19,PTable[3-Method]), \"\"),0)),\"\")","v":""},{"$f":"IFERROR(INDEX(PTable[3-Method],MATCH(0,IF(DH$1=PTable[2-Test],COUNTIF(DH$1:DH19,PTable[3-Method]), \"\"),0)),\"\")","v":""},{"$f":"IFERROR(INDEX(PTable[3-Method],MATCH(0,IF(DI$1=PTable[2-Test],COUNTIF(DI$1:DI19,PTable[3-Method]), \"\"),0)),\"\")","v":""},{"$f":"IFERROR(INDEX(PTable[3-Method],MATCH(0,IF(DJ$1=PTable[2-Test],COUNTIF(DJ$1:DJ19,PTable[3-Method]), \"\"),0)),\"\")","v":""}]
[null,{"$f":"IFERROR(INDEX(PTable[2-Test],MATCH(0,IF(B$1=PTable[1-Type],COUNTIF(B$1:B20,PTable[2-Test]), \"\"),0)),\"\")","v":"EB"},{"$f":"IFERROR(INDEX(PTable[2-Test],MATCH(0,IF(C$1=PTable[1-Type],COUNTIF(C$1:C20,PTable[2-Test]), \"\"),0)),\"\")","v":""},{"$f":"IFERROR(INDEX(PTable[2-Test],MATCH(0,IF(D$1=PTable[1-Type],COUNTIF(D$1:D20,PTable[2-Test]), \"\"),0)),\"\")","v":"Protein"},{"$f":"IFERROR(INDEX(PTable[2-Test],MATCH(0,IF(E$1=PTable[1-Type],COUNTIF(E$1:E20,PTable[2-Test]), \"\"),0)),\"\")","v":""},{"$f":"IFERROR(INDEX(PTable[2-Test],MATCH(0,IF(F$1=PTable[1-Type],COUNTIF(F$1:F20,PTable[2-Test]), \"\"),0)),\"\")","v":""},{"$f":"IFERROR(INDEX(PTable[3-Method],MATCH(0,IF(G$1=PTable[2-Test],COUNTIF(G$1:G20,PTable[3-Method]), \"\"),0)),\"\")","v":""},{"$f":"IFERROR(INDEX(PTable[3-Method],MATCH(0,IF(H$1=PTable[2-Test],COUNTIF(H$1:H20,PTable[3-Method]), \"\"),0)),\"\")","v":""},{"$f":"IFERROR(INDEX(PTable[3-Method],MATCH(0,IF(I$1=PTable[2-Test],COUNTIF(I$1:I20,PTable[3-Method]), \"\"),0)),\"\")","v":""},{"$f":"IFERROR(INDEX(PTable[3-Method],MATCH(0,IF(J$1=PTable[2-Test],COUNTIF(J$1:J20,PTable[3-Method]), \"\"),0)),\"\")","v":""},{"$f":"IFERROR(INDEX(PTable[3-Method],MATCH(0,IF(K$1=PTable[2-Test],COUNTIF(K$1:K20,PTable[3-Method]), \"\"),0)),\"\")","v":""},{"$f":"IFERROR(INDEX(PTable[3-Method],MATCH(0,IF(L$1=PTable[2-Test],COUNTIF(L$1:L20,PTable[3-Method]), \"\"),0)),\"\")","v":""},{"$f":"IFERROR(INDEX(PTable[3-Method],MATCH(0,IF(M$1=PTable[2-Test],COUNTIF(M$1:M20,PTable[3-Method]), \"\"),0)),\"\")","v":""},{"$f":"IFERROR(INDEX(PTable[3-Method],MATCH(0,IF(N$1=PTable[2-Test],COUNTIF(N$1:N20,PTable[3-Method]), \"\"),0)),\"\")","v":""},{"$f":"IFERROR(INDEX(PTable[3-Method],MATCH(0,IF(O$1=PTable[2-Test],COUNTIF(O$1:O20,PTable[3-Method]), \"\"),0)),\"\")","v":""},{"$f":"IFERROR(INDEX(PTable[3-Method],MATCH(0,IF(P$1=PTable[2-Test],COUNTIF(P$1:P20,PTable[3-Method]), \"\"),0)),\"\")","v":""},{"$f":"IFERROR(INDEX(PTable[3-Method],MATCH(0,IF(Q$1=PTable[2-Test],COUNTIF(Q$1:Q20,PTable[3-Method]), \"\"),0)),\"\")","v":""},{"$f":"IFERROR(INDEX(PTable[3-Method],MATCH(0,IF(R$1=PTable[2-Test],COUNTIF(R$1:R20,PTable[3-Method]), \"\"),0)),\"\")","v":""},{"$f":"IFERROR(INDEX(PTable[3-Method],MATCH(0,IF(S$1=PTable[2-Test],COUNTIF(S$1:S20,PTable[3-Method]), \"\"),0)),\"\")","v":""},{"$f":"IFERROR(INDEX(PTable[3-Method],MATCH(0,IF(T$1=PTable[2-Test],COUNTIF(T$1:T20,PTable[3-Method]), \"\"),0)),\"\")","v":""},{"$f":"IFERROR(INDEX(PTable[3-Method],MATCH(0,IF(U$1=PTable[2-Test],COUNTIF(U$1:U20,PTable[3-Method]), \"\"),0)),\"\")","v":""},{"$f":"IFERROR(INDEX(PTable[3-Method],MATCH(0,IF(V$1=PTable[2-Test],COUNTIF(V$1:V20,PTable[3-Method]), \"\"),0)),\"\")","v":""},{"$f":"IFERROR(INDEX(PTable[3-Method],MATCH(0,IF(W$1=PTable[2-Test],COUNTIF(W$1:W20,PTable[3-Method]), \"\"),0)),\"\")","v":""},{"$f":"IFERROR(INDEX(PTable[3-Method],MATCH(0,IF(X$1=PTable[2-Test],COUNTIF(X$1:X20,PTable[3-Method]), \"\"),0)),\"\")","v":""},{"$f":"IFERROR(INDEX(PTable[3-Method],MATCH(0,IF(Y$1=PTable[2-Test],COUNTIF(Y$1:Y20,PTable[3-Method]), \"\"),0)),\"\")","v":""},{"$f":"IFERROR(INDEX(PTable[3-Method],MATCH(0,IF(Z$1=PTable[2-Test],COUNTIF(Z$1:Z20,PTable[3-Method]), \"\"),0)),\"\")","v":""},{"$f":"IFERROR(INDEX(PTable[3-Method],MATCH(0,IF(AA$1=PTable[2-Test],COUNTIF(AA$1:AA20,PTable[3-Method]), \"\"),0)),\"\")","v":""},{"$f":"IFERROR(INDEX(PTable[3-Method],MATCH(0,IF(AB$1=PTable[2-Test],COUNTIF(AB$1:AB20,PTable[3-Method]), \"\"),0)),\"\")","v":""},{"$f":"IFERROR(INDEX(PTable[3-Method],MATCH(0,IF(AC$1=PTable[2-Test],COUNTIF(AC$1:AC20,PTable[3-Method]), \"\"),0)),\"\")","v":""},{"$f":"IFERROR(INDEX(PTable[3-Method],MATCH(0,IF(AD$1=PTable[2-Test],COUNTIF(AD$1:AD20,PTable[3-Method]), \"\"),0)),\"\")","v":""},{"$f":"IFERROR(INDEX(PTable[3-Method],MATCH(0,IF(AE$1=PTable[2-Test],COUNTIF(AE$1:AE20,PTable[3-Method]), \"\"),0)),\"\")","v":""},{"$f":"IFERROR(INDEX(PTable[3-Method],MATCH(0,IF(AF$1=PTable[2-Test],COUNTIF(AF$1:AF20,PTable[3-Method]), \"\"),0)),\"\")","v":""},{"$f":"IFERROR(INDEX(PTable[3-Method],MATCH(0,IF(AG$1=PTable[2-Test],COUNTIF(AG$1:AG20,PTable[3-Method]), \"\"),0)),\"\")","v":""},{"$f":"IFERROR(INDEX(PTable[3-Method],MATCH(0,IF(AH$1=PTable[2-Test],COUNTIF(AH$1:AH20,PTable[3-Method]), \"\"),0)),\"\")","v":""},{"$f":"IFERROR(INDEX(PTable[3-Method],MATCH(0,IF(AI$1=PTable[2-Test],COUNTIF(AI$1:AI20,PTable[3-Method]), \"\"),0)),\"\")","v":""},{"$f":"IFERROR(INDEX(PTable[3-Method],MATCH(0,IF(AJ$1=PTable[2-Test],COUNTIF(AJ$1:AJ20,PTable[3-Method]), \"\"),0)),\"\")","v":""},{"$f":"IFERROR(INDEX(PTable[3-Method],MATCH(0,IF(AK$1=PTable[2-Test],COUNTIF(AK$1:AK20,PTable[3-Method]), \"\"),0)),\"\")","v":""},{"$f":"IFERROR(INDEX(PTable[3-Method],MATCH(0,IF(AL$1=PTable[2-Test],COUNTIF(AL$1:AL20,PTable[3-Method]), \"\"),0)),\"\")","v":""},{"$f":"IFERROR(INDEX(PTable[3-Method],MATCH(0,IF(AM$1=PTable[2-Test],COUNTIF(AM$1:AM20,PTable[3-Method]), \"\"),0)),\"\")","v":""},{"$f":"IFERROR(INDEX(PTable[3-Method],MATCH(0,IF(AN$1=PTable[2-Test],COUNTIF(AN$1:AN20,PTable[3-Method]), \"\"),0)),\"\")","v":""},{"$f":"IFERROR(INDEX(PTable[3-Method],MATCH(0,IF(AO$1=PTable[2-Test],COUNTIF(AO$1:AO20,PTable[3-Method]), \"\"),0)),\"\")","v":""},{"$f":"IFERROR(INDEX(PTable[3-Method],MATCH(0,IF(AP$1=PTable[2-Test],COUNTIF(AP$1:AP20,PTable[3-Method]), \"\"),0)),\"\")","v":""},{"$f":"IFERROR(INDEX(PTable[3-Method],MATCH(0,IF(AQ$1=PTable[2-Test],COUNTIF(AQ$1:AQ20,PTable[3-Method]), \"\"),0)),\"\")","v":""},{"$f":"IFERROR(INDEX(PTable[3-Method],MATCH(0,IF(AR$1=PTable[2-Test],COUNTIF(AR$1:AR20,PTable[3-Method]), \"\"),0)),\"\")","v":""},{"$f":"IFERROR(INDEX(PTable[3-Method],MATCH(0,IF(AS$1=PTable[2-Test],COUNTIF(AS$1:AS20,PTable[3-Method]), \"\"),0)),\"\")","v":""},{"$f":"IFERROR(INDEX(PTable[3-Method],MATCH(0,IF(AT$1=PTable[2-Test],COUNTIF(AT$1:AT20,PTable[3-Method]), \"\"),0)),\"\")","v":""},{"$f":"IFERROR(INDEX(PTable[3-Method],MATCH(0,IF(AU$1=PTable[2-Test],COUNTIF(AU$1:AU20,PTable[3-Method]), \"\"),0)),\"\")","v":""},{"$f":"IFERROR(INDEX(PTable[3-Method],MATCH(0,IF(AV$1=PTable[2-Test],COUNTIF(AV$1:AV20,PTable[3-Method]), \"\"),0)),\"\")","v":""},{"$f":"IFERROR(INDEX(PTable[3-Method],MATCH(0,IF(AW$1=PTable[2-Test],COUNTIF(AW$1:AW20,PTable[3-Method]), \"\"),0)),\"\")","v":""},{"$f":"IFERROR(INDEX(PTable[3-Method],MATCH(0,IF(AX$1=PTable[2-Test],COUNTIF(AX$1:AX20,PTable[3-Method]), \"\"),0)),\"\")","v":""},{"$f":"IFERROR(INDEX(PTable[3-Method],MATCH(0,IF(AY$1=PTable[2-Test],COUNTIF(AY$1:AY20,PTable[3-Method]), \"\"),0)),\"\")","v":""},{"$f":"IFERROR(INDEX(PTable[3-Method],MATCH(0,IF(AZ$1=PTable[2-Test],COUNTIF(AZ$1:AZ20,PTable[3-Method]), \"\"),0)),\"\")","v":""},{"$f":"IFERROR(INDEX(PTable[3-Method],MATCH(0,IF(BA$1=PTable[2-Test],COUNTIF(BA$1:BA20,PTable[3-Method]), \"\"),0)),\"\")","v":""},{"$f":"IFERROR(INDEX(PTable[3-Method],MATCH(0,IF(BB$1=PTable[2-Test],COUNTIF(BB$1:BB20,PTable[3-Method]), \"\"),0)),\"\")","v":""},{"$f":"IFERROR(INDEX(PTable[3-Method],MATCH(0,IF(BC$1=PTable[2-Test],COUNTIF(BC$1:BC20,PTable[3-Method]), \"\"),0)),\"\")","v":""},{"$f":"IFERROR(INDEX(PTable[3-Method],MATCH(0,IF(BD$1=PTable[2-Test],COUNTIF(BD$1:BD20,PTable[3-Method]), \"\"),0)),\"\")","v":""},{"$f":"IFERROR(INDEX(PTable[3-Method],MATCH(0,IF(BE$1=PTable[2-Test],COUNTIF(BE$1:BE20,PTable[3-Method]), \"\"),0)),\"\")","v":""},{"$f":"IFERROR(INDEX(PTable[3-Method],MATCH(0,IF(BF$1=PTable[2-Test],COUNTIF(BF$1:BF20,PTable[3-Method]), \"\"),0)),\"\")","v":""},{"$f":"IFERROR(INDEX(PTable[3-Method],MATCH(0,IF(BG$1=PTable[2-Test],COUNTIF(BG$1:BG20,PTable[3-Method]), \"\"),0)),\"\")","v":""},{"$f":"IFERROR(INDEX(PTable[3-Method],MATCH(0,IF(BH$1=PTable[2-Test],COUNTIF(BH$1:BH20,PTable[3-Method]), \"\"),0)),\"\")","v":""},{"$f":"IFERROR(INDEX(PTable[3-Method],MATCH(0,IF(BI$1=PTable[2-Test],COUNTIF(BI$1:BI20,PTable[3-Method]), \"\"),0)),\"\")","v":""},{"$f":"IFERROR(INDEX(PTable[3-Method],MATCH(0,IF(BJ$1=PTable[2-Test],COUNTIF(BJ$1:BJ20,PTable[3-Method]), \"\"),0)),\"\")","v":""},{"$f":"IFERROR(INDEX(PTable[3-Method],MATCH(0,IF(BK$1=PTable[2-Test],COUNTIF(BK$1:BK20,PTable[3-Method]), \"\"),0)),\"\")","v":""},{"$f":"IFERROR(INDEX(PTable[3-Method],MATCH(0,IF(BL$1=PTable[2-Test],COUNTIF(BL$1:BL20,PTable[3-Method]), \"\"),0)),\"\")","v":"PCRsam"},{"$f":"IFERROR(INDEX(PTable[3-Method],MATCH(0,IF(BM$1=PTable[2-Test],COUNTIF(BM$1:BM20,PTable[3-Method]), \"\"),0)),\"\")","v":"mUS25g"},{"$f":"IFERROR(INDEX(PTable[3-Method],MATCH(0,IF(BN$1=PTable[2-Test],COUNTIF(BN$1:BN20,PTable[3-Method]), \"\"),0)),\"\")","v":""},{"$f":"IFERROR(INDEX(PTable[3-Method],MATCH(0,IF(BO$1=PTable[2-Test],COUNTIF(BO$1:BO20,PTable[3-Method]), \"\"),0)),\"\")","v":""},{"$f":"IFERROR(INDEX(PTable[3-Method],MATCH(0,IF(BP$1=PTable[2-Test],COUNTIF(BP$1:BP20,PTable[3-Method]), \"\"),0)),\"\")","v":"mFD375g"},{"$f":"IFERROR(INDEX(PTable[3-Method],MATCH(0,IF(BQ$1=PTable[2-Test],COUNTIF(BQ$1:BQ20,PTable[3-Method]), \"\"),0)),\"\")","v":""},{"$f":"IFERROR(INDEX(PTable[3-Method],MATCH(0,IF(BR$1=PTable[2-Test],COUNTIF(BR$1:BR20,PTable[3-Method]), \"\"),0)),\"\")","v":""},{"$f":"IFERROR(INDEX(PTable[3-Method],MATCH(0,IF(BS$1=PTable[2-Test],COUNTIF(BS$1:BS20,PTable[3-Method]), \"\"),0)),\"\")","v":""},{"$f":"IFERROR(INDEX(PTable[3-Method],MATCH(0,IF(BT$1=PTable[2-Test],COUNTIF(BT$1:BT20,PTable[3-Method]), \"\"),0)),\"\")","v":""},{"$f":"IFERROR(INDEX(PTable[3-Method],MATCH(0,IF(BU$1=PTable[2-Test],COUNTIF(BU$1:BU20,PTable[3-Method]), \"\"),0)),\"\")","v":""},{"$f":"IFERROR(INDEX(PTable[3-Method],MATCH(0,IF(BV$1=PTable[2-Test],COUNTIF(BV$1:BV20,PTable[3-Method]), \"\"),0)),\"\")","v":""},{"$f":"IFERROR(INDEX(PTable[3-Method],MATCH(0,IF(BW$1=PTable[2-Test],COUNTIF(BW$1:BW20,PTable[3-Method]), \"\"),0)),\"\")","v":""},{"$f":"IFERROR(INDEX(PTable[3-Method],MATCH(0,IF(BX$1=PTable[2-Test],COUNTIF(BX$1:BX20,PTable[3-Method]), \"\"),0)),\"\")","v":""},{"$f":"IFERROR(INDEX(PTable[3-Method],MATCH(0,IF(BY$1=PTable[2-Test],COUNTIF(BY$1:BY20,PTable[3-Method]), \"\"),0)),\"\")","v":""},{"$f":"IFERROR(INDEX(PTable[3-Method],MATCH(0,IF(BZ$1=PTable[2-Test],COUNTIF(BZ$1:BZ20,PTable[3-Method]), \"\"),0)),\"\")","v":""},{"$f":"IFERROR(INDEX(PTable[3-Method],MATCH(0,IF(CA$1=PTable[2-Test],COUNTIF(CA$1:CA20,PTable[3-Method]), \"\"),0)),\"\")","v":""},{"$f":"IFERROR(INDEX(PTable[3-Method],MATCH(0,IF(CB$1=PTable[2-Test],COUNTIF(CB$1:CB20,PTable[3-Method]), \"\"),0)),\"\")","v":""},{"$f":"IFERROR(INDEX(PTable[3-Method],MATCH(0,IF(CC$1=PTable[2-Test],COUNTIF(CC$1:CC20,PTable[3-Method]), \"\"),0)),\"\")","v":""},{"$f":"IFERROR(INDEX(PTable[3-Method],MATCH(0,IF(CD$1=PTable[2-Test],COUNTIF(CD$1:CD20,PTable[3-Method]), \"\"),0)),\"\")","v":""},{"$f":"IFERROR(INDEX(PTable[3-Method],MATCH(0,IF(CE$1=PTable[2-Test],COUNTIF(CE$1:CE20,PTable[3-Method]), \"\"),0)),\"\")","v":""},{"$f":"IFERROR(INDEX(PTable[3-Method],MATCH(0,IF(CF$1=PTable[2-Test],COUNTIF(CF$1:CF20,PTable[3-Method]), \"\"),0)),\"\")","v":""},{"$f":"IFERROR(INDEX(PTable[3-Method],MATCH(0,IF(CG$1=PTable[2-Test],COUNTIF(CG$1:CG20,PTable[3-Method]), \"\"),0)),\"\")","v":""},{"$f":"IFERROR(INDEX(PTable[3-Method],MATCH(0,IF(CH$1=PTable[2-Test],COUNTIF(CH$1:CH20,PTable[3-Method]), \"\"),0)),\"\")","v":""},{"$f":"IFERROR(INDEX(PTable[3-Method],MATCH(0,IF(CI$1=PTable[2-Test],COUNTIF(CI$1:CI20,PTable[3-Method]), \"\"),0)),\"\")","v":""},{"$f":"IFERROR(INDEX(PTable[3-Method],MATCH(0,IF(CJ$1=PTable[2-Test],COUNTIF(CJ$1:CJ20,PTable[3-Method]), \"\"),0)),\"\")","v":""},{"$f":"IFERROR(INDEX(PTable[3-Method],MATCH(0,IF(CK$1=PTable[2-Test],COUNTIF(CK$1:CK20,PTable[3-Method]), \"\"),0)),\"\")","v":""},{"$f":"IFERROR(INDEX(PTable[3-Method],MATCH(0,IF(CL$1=PTable[2-Test],COUNTIF(CL$1:CL20,PTable[3-Method]), \"\"),0)),\"\")","v":""},{"$f":"IFERROR(INDEX(PTable[3-Method],MATCH(0,IF(CM$1=PTable[2-Test],COUNTIF(CM$1:CM20,PTable[3-Method]), \"\"),0)),\"\")","v":""},{"$f":"IFERROR(INDEX(PTable[3-Method],MATCH(0,IF(CN$1=PTable[2-Test],COUNTIF(CN$1:CN20,PTable[3-Method]), \"\"),0)),\"\")","v":""},{"$f":"IFERROR(INDEX(PTable[3-Method],MATCH(0,IF(CO$1=PTable[2-Test],COUNTIF(CO$1:CO20,PTable[3-Method]), \"\"),0)),\"\")","v":""},{"$f":"IFERROR(INDEX(PTable[3-Method],MATCH(0,IF(CP$1=PTable[2-Test],COUNTIF(CP$1:CP20,PTable[3-Method]), \"\"),0)),\"\")","v":""},{"$f":"IFERROR(INDEX(PTable[3-Method],MATCH(0,IF(CQ$1=PTable[2-Test],COUNTIF(CQ$1:CQ20,PTable[3-Method]), \"\"),0)),\"\")","v":""},{"$f":"IFERROR(INDEX(PTable[3-Method],MATCH(0,IF(CR$1=PTable[2-Test],COUNTIF(CR$1:CR20,PTable[3-Method]), \"\"),0)),\"\")","v":""},{"$f":"IFERROR(INDEX(PTable[3-Method],MATCH(0,IF(CS$1=PTable[2-Test],COUNTIF(CS$1:CS20,PTable[3-Method]), \"\"),0)),\"\")","v":""},{"$f":"IFERROR(INDEX(PTable[3-Method],MATCH(0,IF(CT$1=PTable[2-Test],COUNTIF(CT$1:CT20,PTable[3-Method]), \"\"),0)),\"\")","v":""},{"$f":"IFERROR(INDEX(PTable[3-Method],MATCH(0,IF(CU$1=PTable[2-Test],COUNTIF(CU$1:CU20,PTable[3-Method]), \"\"),0)),\"\")","v":""},{"$f":"IFERROR(INDEX(PTable[3-Method],MATCH(0,IF(CV$1=PTable[2-Test],COUNTIF(CV$1:CV20,PTable[3-Method]), \"\"),0)),\"\")","v":""},{"$f":"IFERROR(INDEX(PTable[3-Method],MATCH(0,IF(CW$1=PTable[2-Test],COUNTIF(CW$1:CW20,PTable[3-Method]), \"\"),0)),\"\")","v":""},{"$f":"IFERROR(INDEX(PTable[3-Method],MATCH(0,IF(CX$1=PTable[2-Test],COUNTIF(CX$1:CX20,PTable[3-Method]), \"\"),0)),\"\")","v":""},{"$f":"IFERROR(INDEX(PTable[3-Method],MATCH(0,IF(CY$1=PTable[2-Test],COUNTIF(CY$1:CY20,PTable[3-Method]), \"\"),0)),\"\")","v":""},{"$f":"IFERROR(INDEX(PTable[3-Method],MATCH(0,IF(CZ$1=PTable[2-Test],COUNTIF(CZ$1:CZ20,PTable[3-Method]), \"\"),0)),\"\")","v":""},{"$f":"IFERROR(INDEX(PTable[3-Method],MATCH(0,IF(DA$1=PTable[2-Test],COUNTIF(DA$1:DA20,PTable[3-Method]), \"\"),0)),\"\")","v":""},{"$f":"IFERROR(INDEX(PTable[3-Method],MATCH(0,IF(DB$1=PTable[2-Test],COUNTIF(DB$1:DB20,PTable[3-Method]), \"\"),0)),\"\")","v":""},{"$f":"IFERROR(INDEX(PTable[3-Method],MATCH(0,IF(DC$1=PTable[2-Test],COUNTIF(DC$1:DC20,PTable[3-Method]), \"\"),0)),\"\")","v":""},{"$f":"IFERROR(INDEX(PTable[3-Method],MATCH(0,IF(DD$1=PTable[2-Test],COUNTIF(DD$1:DD20,PTable[3-Method]), \"\"),0)),\"\")","v":""},{"$f":"IFERROR(INDEX(PTable[3-Method],MATCH(0,IF(DE$1=PTable[2-Test],COUNTIF(DE$1:DE20,PTable[3-Method]), \"\"),0)),\"\")","v":""},{"$f":"IFERROR(INDEX(PTable[3-Method],MATCH(0,IF(DF$1=PTable[2-Test],COUNTIF(DF$1:DF20,PTable[3-Method]), \"\"),0)),\"\")","v":""},{"$f":"IFERROR(INDEX(PTable[3-Method],MATCH(0,IF(DG$1=PTable[2-Test],COUNTIF(DG$1:DG20,PTable[3-Method]), \"\"),0)),\"\")","v":""},{"$f":"IFERROR(INDEX(PTable[3-Method],MATCH(0,IF(DH$1=PTable[2-Test],COUNTIF(DH$1:DH20,PTable[3-Method]), \"\"),0)),\"\")","v":""},{"$f":"IFERROR(INDEX(PTable[3-Method],MATCH(0,IF(DI$1=PTable[2-Test],COUNTIF(DI$1:DI20,PTable[3-Method]), \"\"),0)),\"\")","v":""},{"$f":"IFERROR(INDEX(PTable[3-Method],MATCH(0,IF(DJ$1=PTable[2-Test],COUNTIF(DJ$1:DJ20,PTable[3-Method]), \"\"),0)),\"\")","v":""}]
[null,{"$f":"IFERROR(INDEX(PTable[2-Test],MATCH(0,IF(B$1=PTable[1-Type],COUNTIF(B$1:B21,PTable[2-Test]), \"\"),0)),\"\")","v":"EC"},{"$f":"IFERROR(INDEX(PTable[2-Test],MATCH(0,IF(C$1=PTable[1-Type],COUNTIF(C$1:C21,PTable[2-Test]), \"\"),0)),\"\")","v":""},{"$f":"IFERROR(INDEX(PTable[2-Test],MATCH(0,IF(D$1=PTable[1-Type],COUNTIF(D$1:D21,PTable[2-Test]), \"\"),0)),\"\")","v":"Purge"},{"$f":"IFERROR(INDEX(PTable[2-Test],MATCH(0,IF(E$1=PTable[1-Type],COUNTIF(E$1:E21,PTable[2-Test]), \"\"),0)),\"\")","v":""},{"$f":"IFERROR(INDEX(PTable[2-Test],MATCH(0,IF(F$1=PTable[1-Type],COUNTIF(F$1:F21,PTable[2-Test]), \"\"),0)),\"\")","v":""},{"$f":"IFERROR(INDEX(PTable[3-Method],MATCH(0,IF(G$1=PTable[2-Test],COUNTIF(G$1:G21,PTable[3-Method]), \"\"),0)),\"\")","v":""},{"$f":"IFERROR(INDEX(PTable[3-Method],MATCH(0,IF(H$1=PTable[2-Test],COUNTIF(H$1:H21,PTable[3-Method]), \"\"),0)),\"\")","v":""},{"$f":"IFERROR(INDEX(PTable[3-Method],MATCH(0,IF(I$1=PTable[2-Test],COUNTIF(I$1:I21,PTable[3-Method]), \"\"),0)),\"\")","v":""},{"$f":"IFERROR(INDEX(PTable[3-Method],MATCH(0,IF(J$1=PTable[2-Test],COUNTIF(J$1:J21,PTable[3-Method]), \"\"),0)),\"\")","v":""},{"$f":"IFERROR(INDEX(PTable[3-Method],MATCH(0,IF(K$1=PTable[2-Test],COUNTIF(K$1:K21,PTable[3-Method]), \"\"),0)),\"\")","v":""},{"$f":"IFERROR(INDEX(PTable[3-Method],MATCH(0,IF(L$1=PTable[2-Test],COUNTIF(L$1:L21,PTable[3-Method]), \"\"),0)),\"\")","v":""},{"$f":"IFERROR(INDEX(PTable[3-Method],MATCH(0,IF(M$1=PTable[2-Test],COUNTIF(M$1:M21,PTable[3-Method]), \"\"),0)),\"\")","v":""},{"$f":"IFERROR(INDEX(PTable[3-Method],MATCH(0,IF(N$1=PTable[2-Test],COUNTIF(N$1:N21,PTable[3-Method]), \"\"),0)),\"\")","v":""},{"$f":"IFERROR(INDEX(PTable[3-Method],MATCH(0,IF(O$1=PTable[2-Test],COUNTIF(O$1:O21,PTable[3-Method]), \"\"),0)),\"\")","v":""},{"$f":"IFERROR(INDEX(PTable[3-Method],MATCH(0,IF(P$1=PTable[2-Test],COUNTIF(P$1:P21,PTable[3-Method]), \"\"),0)),\"\")","v":""},{"$f":"IFERROR(INDEX(PTable[3-Method],MATCH(0,IF(Q$1=PTable[2-Test],COUNTIF(Q$1:Q21,PTable[3-Method]), \"\"),0)),\"\")","v":""},{"$f":"IFERROR(INDEX(PTable[3-Method],MATCH(0,IF(R$1=PTable[2-Test],COUNTIF(R$1:R21,PTable[3-Method]), \"\"),0)),\"\")","v":""},{"$f":"IFERROR(INDEX(PTable[3-Method],MATCH(0,IF(S$1=PTable[2-Test],COUNTIF(S$1:S21,PTable[3-Method]), \"\"),0)),\"\")","v":""},{"$f":"IFERROR(INDEX(PTable[3-Method],MATCH(0,IF(T$1=PTable[2-Test],COUNTIF(T$1:T21,PTable[3-Method]), \"\"),0)),\"\")","v":""},{"$f":"IFERROR(INDEX(PTable[3-Method],MATCH(0,IF(U$1=PTable[2-Test],COUNTIF(U$1:U21,PTable[3-Method]), \"\"),0)),\"\")","v":""},{"$f":"IFERROR(INDEX(PTable[3-Method],MATCH(0,IF(V$1=PTable[2-Test],COUNTIF(V$1:V21,PTable[3-Method]), \"\"),0)),\"\")","v":""},{"$f":"IFERROR(INDEX(PTable[3-Method],MATCH(0,IF(W$1=PTable[2-Test],COUNTIF(W$1:W21,PTable[3-Method]), \"\"),0)),\"\")","v":""},{"$f":"IFERROR(INDEX(PTable[3-Method],MATCH(0,IF(X$1=PTable[2-Test],COUNTIF(X$1:X21,PTable[3-Method]), \"\"),0)),\"\")","v":""},{"$f":"IFERROR(INDEX(PTable[3-Method],MATCH(0,IF(Y$1=PTable[2-Test],COUNTIF(Y$1:Y21,PTable[3-Method]), \"\"),0)),\"\")","v":""},{"$f":"IFERROR(INDEX(PTable[3-Method],MATCH(0,IF(Z$1=PTable[2-Test],COUNTIF(Z$1:Z21,PTable[3-Method]), \"\"),0)),\"\")","v":""},{"$f":"IFERROR(INDEX(PTable[3-Method],MATCH(0,IF(AA$1=PTable[2-Test],COUNTIF(AA$1:AA21,PTable[3-Method]), \"\"),0)),\"\")","v":""},{"$f":"IFERROR(INDEX(PTable[3-Method],MATCH(0,IF(AB$1=PTable[2-Test],COUNTIF(AB$1:AB21,PTable[3-Method]), \"\"),0)),\"\")","v":""},{"$f":"IFERROR(INDEX(PTable[3-Method],MATCH(0,IF(AC$1=PTable[2-Test],COUNTIF(AC$1:AC21,PTable[3-Method]), \"\"),0)),\"\")","v":""},{"$f":"IFERROR(INDEX(PTable[3-Method],MATCH(0,IF(AD$1=PTable[2-Test],COUNTIF(AD$1:AD21,PTable[3-Method]), \"\"),0)),\"\")","v":""},{"$f":"IFERROR(INDEX(PTable[3-Method],MATCH(0,IF(AE$1=PTable[2-Test],COUNTIF(AE$1:AE21,PTable[3-Method]), \"\"),0)),\"\")","v":""},{"$f":"IFERROR(INDEX(PTable[3-Method],MATCH(0,IF(AF$1=PTable[2-Test],COUNTIF(AF$1:AF21,PTable[3-Method]), \"\"),0)),\"\")","v":""},{"$f":"IFERROR(INDEX(PTable[3-Method],MATCH(0,IF(AG$1=PTable[2-Test],COUNTIF(AG$1:AG21,PTable[3-Method]), \"\"),0)),\"\")","v":""},{"$f":"IFERROR(INDEX(PTable[3-Method],MATCH(0,IF(AH$1=PTable[2-Test],COUNTIF(AH$1:AH21,PTable[3-Method]), \"\"),0)),\"\")","v":""},{"$f":"IFERROR(INDEX(PTable[3-Method],MATCH(0,IF(AI$1=PTable[2-Test],COUNTIF(AI$1:AI21,PTable[3-Method]), \"\"),0)),\"\")","v":""},{"$f":"IFERROR(INDEX(PTable[3-Method],MATCH(0,IF(AJ$1=PTable[2-Test],COUNTIF(AJ$1:AJ21,PTable[3-Method]), \"\"),0)),\"\")","v":""},{"$f":"IFERROR(INDEX(PTable[3-Method],MATCH(0,IF(AK$1=PTable[2-Test],COUNTIF(AK$1:AK21,PTable[3-Method]), \"\"),0)),\"\")","v":""},{"$f":"IFERROR(INDEX(PTable[3-Method],MATCH(0,IF(AL$1=PTable[2-Test],COUNTIF(AL$1:AL21,PTable[3-Method]), \"\"),0)),\"\")","v":""},{"$f":"IFERROR(INDEX(PTable[3-Method],MATCH(0,IF(AM$1=PTable[2-Test],COUNTIF(AM$1:AM21,PTable[3-Method]), \"\"),0)),\"\")","v":""},{"$f":"IFERROR(INDEX(PTable[3-Method],MATCH(0,IF(AN$1=PTable[2-Test],COUNTIF(AN$1:AN21,PTable[3-Method]), \"\"),0)),\"\")","v":""},{"$f":"IFERROR(INDEX(PTable[3-Method],MATCH(0,IF(AO$1=PTable[2-Test],COUNTIF(AO$1:AO21,PTable[3-Method]), \"\"),0)),\"\")","v":""},{"$f":"IFERROR(INDEX(PTable[3-Method],MATCH(0,IF(AP$1=PTable[2-Test],COUNTIF(AP$1:AP21,PTable[3-Method]), \"\"),0)),\"\")","v":""},{"$f":"IFERROR(INDEX(PTable[3-Method],MATCH(0,IF(AQ$1=PTable[2-Test],COUNTIF(AQ$1:AQ21,PTable[3-Method]), \"\"),0)),\"\")","v":""},{"$f":"IFERROR(INDEX(PTable[3-Method],MATCH(0,IF(AR$1=PTable[2-Test],COUNTIF(AR$1:AR21,PTable[3-Method]), \"\"),0)),\"\")","v":""},{"$f":"IFERROR(INDEX(PTable[3-Method],MATCH(0,IF(AS$1=PTable[2-Test],COUNTIF(AS$1:AS21,PTable[3-Method]), \"\"),0)),\"\")","v":""},{"$f":"IFERROR(INDEX(PTable[3-Method],MATCH(0,IF(AT$1=PTable[2-Test],COUNTIF(AT$1:AT21,PTable[3-Method]), \"\"),0)),\"\")","v":""},{"$f":"IFERROR(INDEX(PTable[3-Method],MATCH(0,IF(AU$1=PTable[2-Test],COUNTIF(AU$1:AU21,PTable[3-Method]), \"\"),0)),\"\")","v":""},{"$f":"IFERROR(INDEX(PTable[3-Method],MATCH(0,IF(AV$1=PTable[2-Test],COUNTIF(AV$1:AV21,PTable[3-Method]), \"\"),0)),\"\")","v":""},{"$f":"IFERROR(INDEX(PTable[3-Method],MATCH(0,IF(AW$1=PTable[2-Test],COUNTIF(AW$1:AW21,PTable[3-Method]), \"\"),0)),\"\")","v":""},{"$f":"IFERROR(INDEX(PTable[3-Method],MATCH(0,IF(AX$1=PTable[2-Test],COUNTIF(AX$1:AX21,PTable[3-Method]), \"\"),0)),\"\")","v":""},{"$f":"IFERROR(INDEX(PTable[3-Method],MATCH(0,IF(AY$1=PTable[2-Test],COUNTIF(AY$1:AY21,PTable[3-Method]), \"\"),0)),\"\")","v":""},{"$f":"IFERROR(INDEX(PTable[3-Method],MATCH(0,IF(AZ$1=PTable[2-Test],COUNTIF(AZ$1:AZ21,PTable[3-Method]), \"\"),0)),\"\")","v":""},{"$f":"IFERROR(INDEX(PTable[3-Method],MATCH(0,IF(BA$1=PTable[2-Test],COUNTIF(BA$1:BA21,PTable[3-Method]), \"\"),0)),\"\")","v":""},{"$f":"IFERROR(INDEX(PTable[3-Method],MATCH(0,IF(BB$1=PTable[2-Test],COUNTIF(BB$1:BB21,PTable[3-Method]), \"\"),0)),\"\")","v":""},{"$f":"IFERROR(INDEX(PTable[3-Method],MATCH(0,IF(BC$1=PTable[2-Test],COUNTIF(BC$1:BC21,PTable[3-Method]), \"\"),0)),\"\")","v":""},{"$f":"IFERROR(INDEX(PTable[3-Method],MATCH(0,IF(BD$1=PTable[2-Test],COUNTIF(BD$1:BD21,PTable[3-Method]), \"\"),0)),\"\")","v":""},{"$f":"IFERROR(INDEX(PTable[3-Method],MATCH(0,IF(BE$1=PTable[2-Test],COUNTIF(BE$1:BE21,PTable[3-Method]), \"\"),0)),\"\")","v":""},{"$f":"IFERROR(INDEX(PTable[3-Method],MATCH(0,IF(BF$1=PTable[2-Test],COUNTIF(BF$1:BF21,PTable[3-Method]), \"\"),0)),\"\")","v":""},{"$f":"IFERROR(INDEX(PTable[3-Method],MATCH(0,IF(BG$1=PTable[2-Test],COUNTIF(BG$1:BG21,PTable[3-Method]), \"\"),0)),\"\")","v":""},{"$f":"IFERROR(INDEX(PTable[3-Method],MATCH(0,IF(BH$1=PTable[2-Test],COUNTIF(BH$1:BH21,PTable[3-Method]), \"\"),0)),\"\")","v":""},{"$f":"IFERROR(INDEX(PTable[3-Method],MATCH(0,IF(BI$1=PTable[2-Test],COUNTIF(BI$1:BI21,PTable[3-Method]), \"\"),0)),\"\")","v":""},{"$f":"IFERROR(INDEX(PTable[3-Method],MATCH(0,IF(BJ$1=PTable[2-Test],COUNTIF(BJ$1:BJ21,PTable[3-Method]), \"\"),0)),\"\")","v":""},{"$f":"IFERROR(INDEX(PTable[3-Method],MATCH(0,IF(BK$1=PTable[2-Test],COUNTIF(BK$1:BK21,PTable[3-Method]), \"\"),0)),\"\")","v":""},{"$f":"IFERROR(INDEX(PTable[3-Method],MATCH(0,IF(BL$1=PTable[2-Test],COUNTIF(BL$1:BL21,PTable[3-Method]), \"\"),0)),\"\")","v":""},{"$f":"IFERROR(INDEX(PTable[3-Method],MATCH(0,IF(BM$1=PTable[2-Test],COUNTIF(BM$1:BM21,PTable[3-Method]), \"\"),0)),\"\")","v":"mUS325g"},{"$f":"IFERROR(INDEX(PTable[3-Method],MATCH(0,IF(BN$1=PTable[2-Test],COUNTIF(BN$1:BN21,PTable[3-Method]), \"\"),0)),\"\")","v":""},{"$f":"IFERROR(INDEX(PTable[3-Method],MATCH(0,IF(BO$1=PTable[2-Test],COUNTIF(BO$1:BO21,PTable[3-Method]), \"\"),0)),\"\")","v":""},{"$f":"IFERROR(INDEX(PTable[3-Method],MATCH(0,IF(BP$1=PTable[2-Test],COUNTIF(BP$1:BP21,PTable[3-Method]), \"\"),0)),\"\")","v":"mFD375m"},{"$f":"IFERROR(INDEX(PTable[3-Method],MATCH(0,IF(BQ$1=PTable[2-Test],COUNTIF(BQ$1:BQ21,PTable[3-Method]), \"\"),0)),\"\")","v":""},{"$f":"IFERROR(INDEX(PTable[3-Method],MATCH(0,IF(BR$1=PTable[2-Test],COUNTIF(BR$1:BR21,PTable[3-Method]), \"\"),0)),\"\")","v":""},{"$f":"IFERROR(INDEX(PTable[3-Method],MATCH(0,IF(BS$1=PTable[2-Test],COUNTIF(BS$1:BS21,PTable[3-Method]), \"\"),0)),\"\")","v":""},{"$f":"IFERROR(INDEX(PTable[3-Method],MATCH(0,IF(BT$1=PTable[2-Test],COUNTIF(BT$1:BT21,PTable[3-Method]), \"\"),0)),\"\")","v":""},{"$f":"IFERROR(INDEX(PTable[3-Method],MATCH(0,IF(BU$1=PTable[2-Test],COUNTIF(BU$1:BU21,PTable[3-Method]), \"\"),0)),\"\")","v":""},{"$f":"IFERROR(INDEX(PTable[3-Method],MATCH(0,IF(BV$1=PTable[2-Test],COUNTIF(BV$1:BV21,PTable[3-Method]), \"\"),0)),\"\")","v":""},{"$f":"IFERROR(INDEX(PTable[3-Method],MATCH(0,IF(BW$1=PTable[2-Test],COUNTIF(BW$1:BW21,PTable[3-Method]), \"\"),0)),\"\")","v":""},{"$f":"IFERROR(INDEX(PTable[3-Method],MATCH(0,IF(BX$1=PTable[2-Test],COUNTIF(BX$1:BX21,PTable[3-Method]), \"\"),0)),\"\")","v":""},{"$f":"IFERROR(INDEX(PTable[3-Method],MATCH(0,IF(BY$1=PTable[2-Test],COUNTIF(BY$1:BY21,PTable[3-Method]), \"\"),0)),\"\")","v":""},{"$f":"IFERROR(INDEX(PTable[3-Method],MATCH(0,IF(BZ$1=PTable[2-Test],COUNTIF(BZ$1:BZ21,PTable[3-Method]), \"\"),0)),\"\")","v":""},{"$f":"IFERROR(INDEX(PTable[3-Method],MATCH(0,IF(CA$1=PTable[2-Test],COUNTIF(CA$1:CA21,PTable[3-Method]), \"\"),0)),\"\")","v":""},{"$f":"IFERROR(INDEX(PTable[3-Method],MATCH(0,IF(CB$1=PTable[2-Test],COUNTIF(CB$1:CB21,PTable[3-Method]), \"\"),0)),\"\")","v":""},{"$f":"IFERROR(INDEX(PTable[3-Method],MATCH(0,IF(CC$1=PTable[2-Test],COUNTIF(CC$1:CC21,PTable[3-Method]), \"\"),0)),\"\")","v":""},{"$f":"IFERROR(INDEX(PTable[3-Method],MATCH(0,IF(CD$1=PTable[2-Test],COUNTIF(CD$1:CD21,PTable[3-Method]), \"\"),0)),\"\")","v":""},{"$f":"IFERROR(INDEX(PTable[3-Method],MATCH(0,IF(CE$1=PTable[2-Test],COUNTIF(CE$1:CE21,PTable[3-Method]), \"\"),0)),\"\")","v":""},{"$f":"IFERROR(INDEX(PTable[3-Method],MATCH(0,IF(CF$1=PTable[2-Test],COUNTIF(CF$1:CF21,PTable[3-Method]), \"\"),0)),\"\")","v":""},{"$f":"IFERROR(INDEX(PTable[3-Method],MATCH(0,IF(CG$1=PTable[2-Test],COUNTIF(CG$1:CG21,PTable[3-Method]), \"\"),0)),\"\")","v":""},{"$f":"IFERROR(INDEX(PTable[3-Method],MATCH(0,IF(CH$1=PTable[2-Test],COUNTIF(CH$1:CH21,PTable[3-Method]), \"\"),0)),\"\")","v":""},{"$f":"IFERROR(INDEX(PTable[3-Method],MATCH(0,IF(CI$1=PTable[2-Test],COUNTIF(CI$1:CI21,PTable[3-Method]), \"\"),0)),\"\")","v":""},{"$f":"IFERROR(INDEX(PTable[3-Method],MATCH(0,IF(CJ$1=PTable[2-Test],COUNTIF(CJ$1:CJ21,PTable[3-Method]), \"\"),0)),\"\")","v":""},{"$f":"IFERROR(INDEX(PTable[3-Method],MATCH(0,IF(CK$1=PTable[2-Test],COUNTIF(CK$1:CK21,PTable[3-Method]), \"\"),0)),\"\")","v":""},{"$f":"IFERROR(INDEX(PTable[3-Method],MATCH(0,IF(CL$1=PTable[2-Test],COUNTIF(CL$1:CL21,PTable[3-Method]), \"\"),0)),\"\")","v":""},{"$f":"IFERROR(INDEX(PTable[3-Method],MATCH(0,IF(CM$1=PTable[2-Test],COUNTIF(CM$1:CM21,PTable[3-Method]), \"\"),0)),\"\")","v":""},{"$f":"IFERROR(INDEX(PTable[3-Method],MATCH(0,IF(CN$1=PTable[2-Test],COUNTIF(CN$1:CN21,PTable[3-Method]), \"\"),0)),\"\")","v":""},{"$f":"IFERROR(INDEX(PTable[3-Method],MATCH(0,IF(CO$1=PTable[2-Test],COUNTIF(CO$1:CO21,PTable[3-Method]), \"\"),0)),\"\")","v":""},{"$f":"IFERROR(INDEX(PTable[3-Method],MATCH(0,IF(CP$1=PTable[2-Test],COUNTIF(CP$1:CP21,PTable[3-Method]), \"\"),0)),\"\")","v":""},{"$f":"IFERROR(INDEX(PTable[3-Method],MATCH(0,IF(CQ$1=PTable[2-Test],COUNTIF(CQ$1:CQ21,PTable[3-Method]), \"\"),0)),\"\")","v":""},{"$f":"IFERROR(INDEX(PTable[3-Method],MATCH(0,IF(CR$1=PTable[2-Test],COUNTIF(CR$1:CR21,PTable[3-Method]), \"\"),0)),\"\")","v":""},{"$f":"IFERROR(INDEX(PTable[3-Method],MATCH(0,IF(CS$1=PTable[2-Test],COUNTIF(CS$1:CS21,PTable[3-Method]), \"\"),0)),\"\")","v":""},{"$f":"IFERROR(INDEX(PTable[3-Method],MATCH(0,IF(CT$1=PTable[2-Test],COUNTIF(CT$1:CT21,PTable[3-Method]), \"\"),0)),\"\")","v":""},{"$f":"IFERROR(INDEX(PTable[3-Method],MATCH(0,IF(CU$1=PTable[2-Test],COUNTIF(CU$1:CU21,PTable[3-Method]), \"\"),0)),\"\")","v":""},{"$f":"IFERROR(INDEX(PTable[3-Method],MATCH(0,IF(CV$1=PTable[2-Test],COUNTIF(CV$1:CV21,PTable[3-Method]), \"\"),0)),\"\")","v":""},{"$f":"IFERROR(INDEX(PTable[3-Method],MATCH(0,IF(CW$1=PTable[2-Test],COUNTIF(CW$1:CW21,PTable[3-Method]), \"\"),0)),\"\")","v":""},{"$f":"IFERROR(INDEX(PTable[3-Method],MATCH(0,IF(CX$1=PTable[2-Test],COUNTIF(CX$1:CX21,PTable[3-Method]), \"\"),0)),\"\")","v":""},{"$f":"IFERROR(INDEX(PTable[3-Method],MATCH(0,IF(CY$1=PTable[2-Test],COUNTIF(CY$1:CY21,PTable[3-Method]), \"\"),0)),\"\")","v":""},{"$f":"IFERROR(INDEX(PTable[3-Method],MATCH(0,IF(CZ$1=PTable[2-Test],COUNTIF(CZ$1:CZ21,PTable[3-Method]), \"\"),0)),\"\")","v":""},{"$f":"IFERROR(INDEX(PTable[3-Method],MATCH(0,IF(DA$1=PTable[2-Test],COUNTIF(DA$1:DA21,PTable[3-Method]), \"\"),0)),\"\")","v":""},{"$f":"IFERROR(INDEX(PTable[3-Method],MATCH(0,IF(DB$1=PTable[2-Test],COUNTIF(DB$1:DB21,PTable[3-Method]), \"\"),0)),\"\")","v":""},{"$f":"IFERROR(INDEX(PTable[3-Method],MATCH(0,IF(DC$1=PTable[2-Test],COUNTIF(DC$1:DC21,PTable[3-Method]), \"\"),0)),\"\")","v":""},{"$f":"IFERROR(INDEX(PTable[3-Method],MATCH(0,IF(DD$1=PTable[2-Test],COUNTIF(DD$1:DD21,PTable[3-Method]), \"\"),0)),\"\")","v":""},{"$f":"IFERROR(INDEX(PTable[3-Method],MATCH(0,IF(DE$1=PTable[2-Test],COUNTIF(DE$1:DE21,PTable[3-Method]), \"\"),0)),\"\")","v":""},{"$f":"IFERROR(INDEX(PTable[3-Method],MATCH(0,IF(DF$1=PTable[2-Test],COUNTIF(DF$1:DF21,PTable[3-Method]), \"\"),0)),\"\")","v":""},{"$f":"IFERROR(INDEX(PTable[3-Method],MATCH(0,IF(DG$1=PTable[2-Test],COUNTIF(DG$1:DG21,PTable[3-Method]), \"\"),0)),\"\")","v":""},{"$f":"IFERROR(INDEX(PTable[3-Method],MATCH(0,IF(DH$1=PTable[2-Test],COUNTIF(DH$1:DH21,PTable[3-Method]), \"\"),0)),\"\")","v":""},{"$f":"IFERROR(INDEX(PTable[3-Method],MATCH(0,IF(DI$1=PTable[2-Test],COUNTIF(DI$1:DI21,PTable[3-Method]), \"\"),0)),\"\")","v":""},{"$f":"IFERROR(INDEX(PTable[3-Method],MATCH(0,IF(DJ$1=PTable[2-Test],COUNTIF(DJ$1:DJ21,PTable[3-Method]), \"\"),0)),\"\")","v":""}]
[null,{"$f":"IFERROR(INDEX(PTable[2-Test],MATCH(0,IF(B$1=PTable[1-Type],COUNTIF(B$1:B22,PTable[2-Test]), \"\"),0)),\"\")","v":"Fec.COLI"},{"$f":"IFERROR(INDEX(PTable[2-Test],MATCH(0,IF(C$1=PTable[1-Type],COUNTIF(C$1:C22,PTable[2-Test]), \"\"),0)),\"\")","v":""},{"$f":"IFERROR(INDEX(PTable[2-Test],MATCH(0,IF(D$1=PTable[1-Type],COUNTIF(D$1:D22,PTable[2-Test]), \"\"),0)),\"\")","v":"PV"},{"$f":"IFERROR(INDEX(PTable[2-Test],MATCH(0,IF(E$1=PTable[1-Type],COUNTIF(E$1:E22,PTable[2-Test]), \"\"),0)),\"\")","v":""},{"$f":"IFERROR(INDEX(PTable[2-Test],MATCH(0,IF(F$1=PTable[1-Type],COUNTIF(F$1:F22,PTable[2-Test]), \"\"),0)),\"\")","v":""},{"$f":"IFERROR(INDEX(PTable[3-Method],MATCH(0,IF(G$1=PTable[2-Test],COUNTIF(G$1:G22,PTable[3-Method]), \"\"),0)),\"\")","v":""},{"$f":"IFERROR(INDEX(PTable[3-Method],MATCH(0,IF(H$1=PTable[2-Test],COUNTIF(H$1:H22,PTable[3-Method]), \"\"),0)),\"\")","v":""},{"$f":"IFERROR(INDEX(PTable[3-Method],MATCH(0,IF(I$1=PTable[2-Test],COUNTIF(I$1:I22,PTable[3-Method]), \"\"),0)),\"\")","v":""},{"$f":"IFERROR(INDEX(PTable[3-Method],MATCH(0,IF(J$1=PTable[2-Test],COUNTIF(J$1:J22,PTable[3-Method]), \"\"),0)),\"\")","v":""},{"$f":"IFERROR(INDEX(PTable[3-Method],MATCH(0,IF(K$1=PTable[2-Test],COUNTIF(K$1:K22,PTable[3-Method]), \"\"),0)),\"\")","v":""},{"$f":"IFERROR(INDEX(PTable[3-Method],MATCH(0,IF(L$1=PTable[2-Test],COUNTIF(L$1:L22,PTable[3-Method]), \"\"),0)),\"\")","v":""},{"$f":"IFERROR(INDEX(PTable[3-Method],MATCH(0,IF(M$1=PTable[2-Test],COUNTIF(M$1:M22,PTable[3-Method]), \"\"),0)),\"\")","v":""},{"$f":"IFERROR(INDEX(PTable[3-Method],MATCH(0,IF(N$1=PTable[2-Test],COUNTIF(N$1:N22,PTable[3-Method]), \"\"),0)),\"\")","v":""},{"$f":"IFERROR(INDEX(PTable[3-Method],MATCH(0,IF(O$1=PTable[2-Test],COUNTIF(O$1:O22,PTable[3-Method]), \"\"),0)),\"\")","v":""},{"$f":"IFERROR(INDEX(PTable[3-Method],MATCH(0,IF(P$1=PTable[2-Test],COUNTIF(P$1:P22,PTable[3-Method]), \"\"),0)),\"\")","v":""},{"$f":"IFERROR(INDEX(PTable[3-Method],MATCH(0,IF(Q$1=PTable[2-Test],COUNTIF(Q$1:Q22,PTable[3-Method]), \"\"),0)),\"\")","v":""},{"$f":"IFERROR(INDEX(PTable[3-Method],MATCH(0,IF(R$1=PTable[2-Test],COUNTIF(R$1:R22,PTable[3-Method]), \"\"),0)),\"\")","v":""},{"$f":"IFERROR(INDEX(PTable[3-Method],MATCH(0,IF(S$1=PTable[2-Test],COUNTIF(S$1:S22,PTable[3-Method]), \"\"),0)),\"\")","v":""},{"$f":"IFERROR(INDEX(PTable[3-Method],MATCH(0,IF(T$1=PTable[2-Test],COUNTIF(T$1:T22,PTable[3-Method]), \"\"),0)),\"\")","v":""},{"$f":"IFERROR(INDEX(PTable[3-Method],MATCH(0,IF(U$1=PTable[2-Test],COUNTIF(U$1:U22,PTable[3-Method]), \"\"),0)),\"\")","v":""},{"$f":"IFERROR(INDEX(PTable[3-Method],MATCH(0,IF(V$1=PTable[2-Test],COUNTIF(V$1:V22,PTable[3-Method]), \"\"),0)),\"\")","v":""},{"$f":"IFERROR(INDEX(PTable[3-Method],MATCH(0,IF(W$1=PTable[2-Test],COUNTIF(W$1:W22,PTable[3-Method]), \"\"),0)),\"\")","v":""},{"$f":"IFERROR(INDEX(PTable[3-Method],MATCH(0,IF(X$1=PTable[2-Test],COUNTIF(X$1:X22,PTable[3-Method]), \"\"),0)),\"\")","v":""},{"$f":"IFERROR(INDEX(PTable[3-Method],MATCH(0,IF(Y$1=PTable[2-Test],COUNTIF(Y$1:Y22,PTable[3-Method]), \"\"),0)),\"\")","v":""},{"$f":"IFERROR(INDEX(PTable[3-Method],MATCH(0,IF(Z$1=PTable[2-Test],COUNTIF(Z$1:Z22,PTable[3-Method]), \"\"),0)),\"\")","v":""},{"$f":"IFERROR(INDEX(PTable[3-Method],MATCH(0,IF(AA$1=PTable[2-Test],COUNTIF(AA$1:AA22,PTable[3-Method]), \"\"),0)),\"\")","v":""},{"$f":"IFERROR(INDEX(PTable[3-Method],MATCH(0,IF(AB$1=PTable[2-Test],COUNTIF(AB$1:AB22,PTable[3-Method]), \"\"),0)),\"\")","v":""},{"$f":"IFERROR(INDEX(PTable[3-Method],MATCH(0,IF(AC$1=PTable[2-Test],COUNTIF(AC$1:AC22,PTable[3-Method]), \"\"),0)),\"\")","v":""},{"$f":"IFERROR(INDEX(PTable[3-Method],MATCH(0,IF(AD$1=PTable[2-Test],COUNTIF(AD$1:AD22,PTable[3-Method]), \"\"),0)),\"\")","v":""},{"$f":"IFERROR(INDEX(PTable[3-Method],MATCH(0,IF(AE$1=PTable[2-Test],COUNTIF(AE$1:AE22,PTable[3-Method]), \"\"),0)),\"\")","v":""},{"$f":"IFERROR(INDEX(PTable[3-Method],MATCH(0,IF(AF$1=PTable[2-Test],COUNTIF(AF$1:AF22,PTable[3-Method]), \"\"),0)),\"\")","v":""},{"$f":"IFERROR(INDEX(PTable[3-Method],MATCH(0,IF(AG$1=PTable[2-Test],COUNTIF(AG$1:AG22,PTable[3-Method]), \"\"),0)),\"\")","v":""},{"$f":"IFERROR(INDEX(PTable[3-Method],MATCH(0,IF(AH$1=PTable[2-Test],COUNTIF(AH$1:AH22,PTable[3-Method]), \"\"),0)),\"\")","v":""},{"$f":"IFERROR(INDEX(PTable[3-Method],MATCH(0,IF(AI$1=PTable[2-Test],COUNTIF(AI$1:AI22,PTable[3-Method]), \"\"),0)),\"\")","v":""},{"$f":"IFERROR(INDEX(PTable[3-Method],MATCH(0,IF(AJ$1=PTable[2-Test],COUNTIF(AJ$1:AJ22,PTable[3-Method]), \"\"),0)),\"\")","v":""},{"$f":"IFERROR(INDEX(PTable[3-Method],MATCH(0,IF(AK$1=PTable[2-Test],COUNTIF(AK$1:AK22,PTable[3-Method]), \"\"),0)),\"\")","v":""},{"$f":"IFERROR(INDEX(PTable[3-Method],MATCH(0,IF(AL$1=PTable[2-Test],COUNTIF(AL$1:AL22,PTable[3-Method]), \"\"),0)),\"\")","v":""},{"$f":"IFERROR(INDEX(PTable[3-Method],MATCH(0,IF(AM$1=PTable[2-Test],COUNTIF(AM$1:AM22,PTable[3-Method]), \"\"),0)),\"\")","v":""},{"$f":"IFERROR(INDEX(PTable[3-Method],MATCH(0,IF(AN$1=PTable[2-Test],COUNTIF(AN$1:AN22,PTable[3-Method]), \"\"),0)),\"\")","v":""},{"$f":"IFERROR(INDEX(PTable[3-Method],MATCH(0,IF(AO$1=PTable[2-Test],COUNTIF(AO$1:AO22,PTable[3-Method]), \"\"),0)),\"\")","v":""},{"$f":"IFERROR(INDEX(PTable[3-Method],MATCH(0,IF(AP$1=PTable[2-Test],COUNTIF(AP$1:AP22,PTable[3-Method]), \"\"),0)),\"\")","v":""},{"$f":"IFERROR(INDEX(PTable[3-Method],MATCH(0,IF(AQ$1=PTable[2-Test],COUNTIF(AQ$1:AQ22,PTable[3-Method]), \"\"),0)),\"\")","v":""},{"$f":"IFERROR(INDEX(PTable[3-Method],MATCH(0,IF(AR$1=PTable[2-Test],COUNTIF(AR$1:AR22,PTable[3-Method]), \"\"),0)),\"\")","v":""},{"$f":"IFERROR(INDEX(PTable[3-Method],MATCH(0,IF(AS$1=PTable[2-Test],COUNTIF(AS$1:AS22,PTable[3-Method]), \"\"),0)),\"\")","v":""},{"$f":"IFERROR(INDEX(PTable[3-Method],MATCH(0,IF(AT$1=PTable[2-Test],COUNTIF(AT$1:AT22,PTable[3-Method]), \"\"),0)),\"\")","v":""},{"$f":"IFERROR(INDEX(PTable[3-Method],MATCH(0,IF(AU$1=PTable[2-Test],COUNTIF(AU$1:AU22,PTable[3-Method]), \"\"),0)),\"\")","v":""},{"$f":"IFERROR(INDEX(PTable[3-Method],MATCH(0,IF(AV$1=PTable[2-Test],COUNTIF(AV$1:AV22,PTable[3-Method]), \"\"),0)),\"\")","v":""},{"$f":"IFERROR(INDEX(PTable[3-Method],MATCH(0,IF(AW$1=PTable[2-Test],COUNTIF(AW$1:AW22,PTable[3-Method]), \"\"),0)),\"\")","v":""},{"$f":"IFERROR(INDEX(PTable[3-Method],MATCH(0,IF(AX$1=PTable[2-Test],COUNTIF(AX$1:AX22,PTable[3-Method]), \"\"),0)),\"\")","v":""},{"$f":"IFERROR(INDEX(PTable[3-Method],MATCH(0,IF(AY$1=PTable[2-Test],COUNTIF(AY$1:AY22,PTable[3-Method]), \"\"),0)),\"\")","v":""},{"$f":"IFERROR(INDEX(PTable[3-Method],MATCH(0,IF(AZ$1=PTable[2-Test],COUNTIF(AZ$1:AZ22,PTable[3-Method]), \"\"),0)),\"\")","v":""},{"$f":"IFERROR(INDEX(PTable[3-Method],MATCH(0,IF(BA$1=PTable[2-Test],COUNTIF(BA$1:BA22,PTable[3-Method]), \"\"),0)),\"\")","v":""},{"$f":"IFERROR(INDEX(PTable[3-Method],MATCH(0,IF(BB$1=PTable[2-Test],COUNTIF(BB$1:BB22,PTable[3-Method]), \"\"),0)),\"\")","v":""},{"$f":"IFERROR(INDEX(PTable[3-Method],MATCH(0,IF(BC$1=PTable[2-Test],COUNTIF(BC$1:BC22,PTable[3-Method]), \"\"),0)),\"\")","v":""},{"$f":"IFERROR(INDEX(PTable[3-Method],MATCH(0,IF(BD$1=PTable[2-Test],COUNTIF(BD$1:BD22,PTable[3-Method]), \"\"),0)),\"\")","v":""},{"$f":"IFERROR(INDEX(PTable[3-Method],MATCH(0,IF(BE$1=PTable[2-Test],COUNTIF(BE$1:BE22,PTable[3-Method]), \"\"),0)),\"\")","v":""},{"$f":"IFERROR(INDEX(PTable[3-Method],MATCH(0,IF(BF$1=PTable[2-Test],COUNTIF(BF$1:BF22,PTable[3-Method]), \"\"),0)),\"\")","v":""},{"$f":"IFERROR(INDEX(PTable[3-Method],MATCH(0,IF(BG$1=PTable[2-Test],COUNTIF(BG$1:BG22,PTable[3-Method]), \"\"),0)),\"\")","v":""},{"$f":"IFERROR(INDEX(PTable[3-Method],MATCH(0,IF(BH$1=PTable[2-Test],COUNTIF(BH$1:BH22,PTable[3-Method]), \"\"),0)),\"\")","v":""},{"$f":"IFERROR(INDEX(PTable[3-Method],MATCH(0,IF(BI$1=PTable[2-Test],COUNTIF(BI$1:BI22,PTable[3-Method]), \"\"),0)),\"\")","v":""},{"$f":"IFERROR(INDEX(PTable[3-Method],MATCH(0,IF(BJ$1=PTable[2-Test],COUNTIF(BJ$1:BJ22,PTable[3-Method]), \"\"),0)),\"\")","v":""},{"$f":"IFERROR(INDEX(PTable[3-Method],MATCH(0,IF(BK$1=PTable[2-Test],COUNTIF(BK$1:BK22,PTable[3-Method]), \"\"),0)),\"\")","v":""},{"$f":"IFERROR(INDEX(PTable[3-Method],MATCH(0,IF(BL$1=PTable[2-Test],COUNTIF(BL$1:BL22,PTable[3-Method]), \"\"),0)),\"\")","v":""},{"$f":"IFERROR(INDEX(PTable[3-Method],MATCH(0,IF(BM$1=PTable[2-Test],COUNTIF(BM$1:BM22,PTable[3-Method]), \"\"),0)),\"\")","v":"mUS375g"},{"$f":"IFERROR(INDEX(PTable[3-Method],MATCH(0,IF(BN$1=PTable[2-Test],COUNTIF(BN$1:BN22,PTable[3-Method]), \"\"),0)),\"\")","v":""},{"$f":"IFERROR(INDEX(PTable[3-Method],MATCH(0,IF(BO$1=PTable[2-Test],COUNTIF(BO$1:BO22,PTable[3-Method]), \"\"),0)),\"\")","v":""},{"$f":"IFERROR(INDEX(PTable[3-Method],MATCH(0,IF(BP$1=PTable[2-Test],COUNTIF(BP$1:BP22,PTable[3-Method]), \"\"),0)),\"\")","v":"mFD400g"},{"$f":"IFERROR(INDEX(PTable[3-Method],MATCH(0,IF(BQ$1=PTable[2-Test],COUNTIF(BQ$1:BQ22,PTable[3-Method]), \"\"),0)),\"\")","v":""},{"$f":"IFERROR(INDEX(PTable[3-Method],MATCH(0,IF(BR$1=PTable[2-Test],COUNTIF(BR$1:BR22,PTable[3-Method]), \"\"),0)),\"\")","v":""},{"$f":"IFERROR(INDEX(PTable[3-Method],MATCH(0,IF(BS$1=PTable[2-Test],COUNTIF(BS$1:BS22,PTable[3-Method]), \"\"),0)),\"\")","v":""},{"$f":"IFERROR(INDEX(PTable[3-Method],MATCH(0,IF(BT$1=PTable[2-Test],COUNTIF(BT$1:BT22,PTable[3-Method]), \"\"),0)),\"\")","v":""},{"$f":"IFERROR(INDEX(PTable[3-Method],MATCH(0,IF(BU$1=PTable[2-Test],COUNTIF(BU$1:BU22,PTable[3-Method]), \"\"),0)),\"\")","v":""},{"$f":"IFERROR(INDEX(PTable[3-Method],MATCH(0,IF(BV$1=PTable[2-Test],COUNTIF(BV$1:BV22,PTable[3-Method]), \"\"),0)),\"\")","v":""},{"$f":"IFERROR(INDEX(PTable[3-Method],MATCH(0,IF(BW$1=PTable[2-Test],COUNTIF(BW$1:BW22,PTable[3-Method]), \"\"),0)),\"\")","v":""},{"$f":"IFERROR(INDEX(PTable[3-Method],MATCH(0,IF(BX$1=PTable[2-Test],COUNTIF(BX$1:BX22,PTable[3-Method]), \"\"),0)),\"\")","v":""},{"$f":"IFERROR(INDEX(PTable[3-Method],MATCH(0,IF(BY$1=PTable[2-Test],COUNTIF(BY$1:BY22,PTable[3-Method]), \"\"),0)),\"\")","v":""},{"$f":"IFERROR(INDEX(PTable[3-Method],MATCH(0,IF(BZ$1=PTable[2-Test],COUNTIF(BZ$1:BZ22,PTable[3-Method]), \"\"),0)),\"\")","v":""},{"$f":"IFERROR(INDEX(PTable[3-Method],MATCH(0,IF(CA$1=PTable[2-Test],COUNTIF(CA$1:CA22,PTable[3-Method]), \"\"),0)),\"\")","v":""},{"$f":"IFERROR(INDEX(PTable[3-Method],MATCH(0,IF(CB$1=PTable[2-Test],COUNTIF(CB$1:CB22,PTable[3-Method]), \"\"),0)),\"\")","v":""},{"$f":"IFERROR(INDEX(PTable[3-Method],MATCH(0,IF(CC$1=PTable[2-Test],COUNTIF(CC$1:CC22,PTable[3-Method]), \"\"),0)),\"\")","v":""},{"$f":"IFERROR(INDEX(PTable[3-Method],MATCH(0,IF(CD$1=PTable[2-Test],COUNTIF(CD$1:CD22,PTable[3-Method]), \"\"),0)),\"\")","v":""},{"$f":"IFERROR(INDEX(PTable[3-Method],MATCH(0,IF(CE$1=PTable[2-Test],COUNTIF(CE$1:CE22,PTable[3-Method]), \"\"),0)),\"\")","v":""},{"$f":"IFERROR(INDEX(PTable[3-Method],MATCH(0,IF(CF$1=PTable[2-Test],COUNTIF(CF$1:CF22,PTable[3-Method]), \"\"),0)),\"\")","v":""},{"$f":"IFERROR(INDEX(PTable[3-Method],MATCH(0,IF(CG$1=PTable[2-Test],COUNTIF(CG$1:CG22,PTable[3-Method]), \"\"),0)),\"\")","v":""},{"$f":"IFERROR(INDEX(PTable[3-Method],MATCH(0,IF(CH$1=PTable[2-Test],COUNTIF(CH$1:CH22,PTable[3-Method]), \"\"),0)),\"\")","v":""},{"$f":"IFERROR(INDEX(PTable[3-Method],MATCH(0,IF(CI$1=PTable[2-Test],COUNTIF(CI$1:CI22,PTable[3-Method]), \"\"),0)),\"\")","v":""},{"$f":"IFERROR(INDEX(PTable[3-Method],MATCH(0,IF(CJ$1=PTable[2-Test],COUNTIF(CJ$1:CJ22,PTable[3-Method]), \"\"),0)),\"\")","v":""},{"$f":"IFERROR(INDEX(PTable[3-Method],MATCH(0,IF(CK$1=PTable[2-Test],COUNTIF(CK$1:CK22,PTable[3-Method]), \"\"),0)),\"\")","v":""},{"$f":"IFERROR(INDEX(PTable[3-Method],MATCH(0,IF(CL$1=PTable[2-Test],COUNTIF(CL$1:CL22,PTable[3-Method]), \"\"),0)),\"\")","v":""},{"$f":"IFERROR(INDEX(PTable[3-Method],MATCH(0,IF(CM$1=PTable[2-Test],COUNTIF(CM$1:CM22,PTable[3-Method]), \"\"),0)),\"\")","v":""},{"$f":"IFERROR(INDEX(PTable[3-Method],MATCH(0,IF(CN$1=PTable[2-Test],COUNTIF(CN$1:CN22,PTable[3-Method]), \"\"),0)),\"\")","v":""},{"$f":"IFERROR(INDEX(PTable[3-Method],MATCH(0,IF(CO$1=PTable[2-Test],COUNTIF(CO$1:CO22,PTable[3-Method]), \"\"),0)),\"\")","v":""},{"$f":"IFERROR(INDEX(PTable[3-Method],MATCH(0,IF(CP$1=PTable[2-Test],COUNTIF(CP$1:CP22,PTable[3-Method]), \"\"),0)),\"\")","v":""},{"$f":"IFERROR(INDEX(PTable[3-Method],MATCH(0,IF(CQ$1=PTable[2-Test],COUNTIF(CQ$1:CQ22,PTable[3-Method]), \"\"),0)),\"\")","v":""},{"$f":"IFERROR(INDEX(PTable[3-Method],MATCH(0,IF(CR$1=PTable[2-Test],COUNTIF(CR$1:CR22,PTable[3-Method]), \"\"),0)),\"\")","v":""},{"$f":"IFERROR(INDEX(PTable[3-Method],MATCH(0,IF(CS$1=PTable[2-Test],COUNTIF(CS$1:CS22,PTable[3-Method]), \"\"),0)),\"\")","v":""},{"$f":"IFERROR(INDEX(PTable[3-Method],MATCH(0,IF(CT$1=PTable[2-Test],COUNTIF(CT$1:CT22,PTable[3-Method]), \"\"),0)),\"\")","v":""},{"$f":"IFERROR(INDEX(PTable[3-Method],MATCH(0,IF(CU$1=PTable[2-Test],COUNTIF(CU$1:CU22,PTable[3-Method]), \"\"),0)),\"\")","v":""},{"$f":"IFERROR(INDEX(PTable[3-Method],MATCH(0,IF(CV$1=PTable[2-Test],COUNTIF(CV$1:CV22,PTable[3-Method]), \"\"),0)),\"\")","v":""},{"$f":"IFERROR(INDEX(PTable[3-Method],MATCH(0,IF(CW$1=PTable[2-Test],COUNTIF(CW$1:CW22,PTable[3-Method]), \"\"),0)),\"\")","v":""},{"$f":"IFERROR(INDEX(PTable[3-Method],MATCH(0,IF(CX$1=PTable[2-Test],COUNTIF(CX$1:CX22,PTable[3-Method]), \"\"),0)),\"\")","v":""},{"$f":"IFERROR(INDEX(PTable[3-Method],MATCH(0,IF(CY$1=PTable[2-Test],COUNTIF(CY$1:CY22,PTable[3-Method]), \"\"),0)),\"\")","v":""},{"$f":"IFERROR(INDEX(PTable[3-Method],MATCH(0,IF(CZ$1=PTable[2-Test],COUNTIF(CZ$1:CZ22,PTable[3-Method]), \"\"),0)),\"\")","v":""},{"$f":"IFERROR(INDEX(PTable[3-Method],MATCH(0,IF(DA$1=PTable[2-Test],COUNTIF(DA$1:DA22,PTable[3-Method]), \"\"),0)),\"\")","v":""},{"$f":"IFERROR(INDEX(PTable[3-Method],MATCH(0,IF(DB$1=PTable[2-Test],COUNTIF(DB$1:DB22,PTable[3-Method]), \"\"),0)),\"\")","v":""},{"$f":"IFERROR(INDEX(PTable[3-Method],MATCH(0,IF(DC$1=PTable[2-Test],COUNTIF(DC$1:DC22,PTable[3-Method]), \"\"),0)),\"\")","v":""},{"$f":"IFERROR(INDEX(PTable[3-Method],MATCH(0,IF(DD$1=PTable[2-Test],COUNTIF(DD$1:DD22,PTable[3-Method]), \"\"),0)),\"\")","v":""},{"$f":"IFERROR(INDEX(PTable[3-Method],MATCH(0,IF(DE$1=PTable[2-Test],COUNTIF(DE$1:DE22,PTable[3-Method]), \"\"),0)),\"\")","v":""},{"$f":"IFERROR(INDEX(PTable[3-Method],MATCH(0,IF(DF$1=PTable[2-Test],COUNTIF(DF$1:DF22,PTable[3-Method]), \"\"),0)),\"\")","v":""},{"$f":"IFERROR(INDEX(PTable[3-Method],MATCH(0,IF(DG$1=PTable[2-Test],COUNTIF(DG$1:DG22,PTable[3-Method]), \"\"),0)),\"\")","v":""},{"$f":"IFERROR(INDEX(PTable[3-Method],MATCH(0,IF(DH$1=PTable[2-Test],COUNTIF(DH$1:DH22,PTable[3-Method]), \"\"),0)),\"\")","v":""},{"$f":"IFERROR(INDEX(PTable[3-Method],MATCH(0,IF(DI$1=PTable[2-Test],COUNTIF(DI$1:DI22,PTable[3-Method]), \"\"),0)),\"\")","v":""},{"$f":"IFERROR(INDEX(PTable[3-Method],MATCH(0,IF(DJ$1=PTable[2-Test],COUNTIF(DJ$1:DJ22,PTable[3-Method]), \"\"),0)),\"\")","v":""}]
[null,{"$f":"IFERROR(INDEX(PTable[2-Test],MATCH(0,IF(B$1=PTable[1-Type],COUNTIF(B$1:B23,PTable[2-Test]), \"\"),0)),\"\")","v":"HLAB"},{"$f":"IFERROR(INDEX(PTable[2-Test],MATCH(0,IF(C$1=PTable[1-Type],COUNTIF(C$1:C23,PTable[2-Test]), \"\"),0)),\"\")","v":""},{"$f":"IFERROR(INDEX(PTable[2-Test],MATCH(0,IF(D$1=PTable[1-Type],COUNTIF(D$1:D23,PTable[2-Test]), \"\"),0)),\"\")","v":"Salt"},{"$f":"IFERROR(INDEX(PTable[2-Test],MATCH(0,IF(E$1=PTable[1-Type],COUNTIF(E$1:E23,PTable[2-Test]), \"\"),0)),\"\")","v":""},{"$f":"IFERROR(INDEX(PTable[2-Test],MATCH(0,IF(F$1=PTable[1-Type],COUNTIF(F$1:F23,PTable[2-Test]), \"\"),0)),\"\")","v":""},{"$f":"IFERROR(INDEX(PTable[3-Method],MATCH(0,IF(G$1=PTable[2-Test],COUNTIF(G$1:G23,PTable[3-Method]), \"\"),0)),\"\")","v":""},{"$f":"IFERROR(INDEX(PTable[3-Method],MATCH(0,IF(H$1=PTable[2-Test],COUNTIF(H$1:H23,PTable[3-Method]), \"\"),0)),\"\")","v":""},{"$f":"IFERROR(INDEX(PTable[3-Method],MATCH(0,IF(I$1=PTable[2-Test],COUNTIF(I$1:I23,PTable[3-Method]), \"\"),0)),\"\")","v":""},{"$f":"IFERROR(INDEX(PTable[3-Method],MATCH(0,IF(J$1=PTable[2-Test],COUNTIF(J$1:J23,PTable[3-Method]), \"\"),0)),\"\")","v":""},{"$f":"IFERROR(INDEX(PTable[3-Method],MATCH(0,IF(K$1=PTable[2-Test],COUNTIF(K$1:K23,PTable[3-Method]), \"\"),0)),\"\")","v":""},{"$f":"IFERROR(INDEX(PTable[3-Method],MATCH(0,IF(L$1=PTable[2-Test],COUNTIF(L$1:L23,PTable[3-Method]), \"\"),0)),\"\")","v":""},{"$f":"IFERROR(INDEX(PTable[3-Method],MATCH(0,IF(M$1=PTable[2-Test],COUNTIF(M$1:M23,PTable[3-Method]), \"\"),0)),\"\")","v":""},{"$f":"IFERROR(INDEX(PTable[3-Method],MATCH(0,IF(N$1=PTable[2-Test],COUNTIF(N$1:N23,PTable[3-Method]), \"\"),0)),\"\")","v":""},{"$f":"IFERROR(INDEX(PTable[3-Method],MATCH(0,IF(O$1=PTable[2-Test],COUNTIF(O$1:O23,PTable[3-Method]), \"\"),0)),\"\")","v":""},{"$f":"IFERROR(INDEX(PTable[3-Method],MATCH(0,IF(P$1=PTable[2-Test],COUNTIF(P$1:P23,PTable[3-Method]), \"\"),0)),\"\")","v":""},{"$f":"IFERROR(INDEX(PTable[3-Method],MATCH(0,IF(Q$1=PTable[2-Test],COUNTIF(Q$1:Q23,PTable[3-Method]), \"\"),0)),\"\")","v":""},{"$f":"IFERROR(INDEX(PTable[3-Method],MATCH(0,IF(R$1=PTable[2-Test],COUNTIF(R$1:R23,PTable[3-Method]), \"\"),0)),\"\")","v":""},{"$f":"IFERROR(INDEX(PTable[3-Method],MATCH(0,IF(S$1=PTable[2-Test],COUNTIF(S$1:S23,PTable[3-Method]), \"\"),0)),\"\")","v":""},{"$f":"IFERROR(INDEX(PTable[3-Method],MATCH(0,IF(T$1=PTable[2-Test],COUNTIF(T$1:T23,PTable[3-Method]), \"\"),0)),\"\")","v":""},{"$f":"IFERROR(INDEX(PTable[3-Method],MATCH(0,IF(U$1=PTable[2-Test],COUNTIF(U$1:U23,PTable[3-Method]), \"\"),0)),\"\")","v":""},{"$f":"IFERROR(INDEX(PTable[3-Method],MATCH(0,IF(V$1=PTable[2-Test],COUNTIF(V$1:V23,PTable[3-Method]), \"\"),0)),\"\")","v":""},{"$f":"IFERROR(INDEX(PTable[3-Method],MATCH(0,IF(W$1=PTable[2-Test],COUNTIF(W$1:W23,PTable[3-Method]), \"\"),0)),\"\")","v":""},{"$f":"IFERROR(INDEX(PTable[3-Method],MATCH(0,IF(X$1=PTable[2-Test],COUNTIF(X$1:X23,PTable[3-Method]), \"\"),0)),\"\")","v":""},{"$f":"IFERROR(INDEX(PTable[3-Method],MATCH(0,IF(Y$1=PTable[2-Test],COUNTIF(Y$1:Y23,PTable[3-Method]), \"\"),0)),\"\")","v":""},{"$f":"IFERROR(INDEX(PTable[3-Method],MATCH(0,IF(Z$1=PTable[2-Test],COUNTIF(Z$1:Z23,PTable[3-Method]), \"\"),0)),\"\")","v":""},{"$f":"IFERROR(INDEX(PTable[3-Method],MATCH(0,IF(AA$1=PTable[2-Test],COUNTIF(AA$1:AA23,PTable[3-Method]), \"\"),0)),\"\")","v":""},{"$f":"IFERROR(INDEX(PTable[3-Method],MATCH(0,IF(AB$1=PTable[2-Test],COUNTIF(AB$1:AB23,PTable[3-Method]), \"\"),0)),\"\")","v":""},{"$f":"IFERROR(INDEX(PTable[3-Method],MATCH(0,IF(AC$1=PTable[2-Test],COUNTIF(AC$1:AC23,PTable[3-Method]), \"\"),0)),\"\")","v":""},{"$f":"IFERROR(INDEX(PTable[3-Method],MATCH(0,IF(AD$1=PTable[2-Test],COUNTIF(AD$1:AD23,PTable[3-Method]), \"\"),0)),\"\")","v":""},{"$f":"IFERROR(INDEX(PTable[3-Method],MATCH(0,IF(AE$1=PTable[2-Test],COUNTIF(AE$1:AE23,PTable[3-Method]), \"\"),0)),\"\")","v":""},{"$f":"IFERROR(INDEX(PTable[3-Method],MATCH(0,IF(AF$1=PTable[2-Test],COUNTIF(AF$1:AF23,PTable[3-Method]), \"\"),0)),\"\")","v":""},{"$f":"IFERROR(INDEX(PTable[3-Method],MATCH(0,IF(AG$1=PTable[2-Test],COUNTIF(AG$1:AG23,PTable[3-Method]), \"\"),0)),\"\")","v":""},{"$f":"IFERROR(INDEX(PTable[3-Method],MATCH(0,IF(AH$1=PTable[2-Test],COUNTIF(AH$1:AH23,PTable[3-Method]), \"\"),0)),\"\")","v":""},{"$f":"IFERROR(INDEX(PTable[3-Method],MATCH(0,IF(AI$1=PTable[2-Test],COUNTIF(AI$1:AI23,PTable[3-Method]), \"\"),0)),\"\")","v":""},{"$f":"IFERROR(INDEX(PTable[3-Method],MATCH(0,IF(AJ$1=PTable[2-Test],COUNTIF(AJ$1:AJ23,PTable[3-Method]), \"\"),0)),\"\")","v":""},{"$f":"IFERROR(INDEX(PTable[3-Method],MATCH(0,IF(AK$1=PTable[2-Test],COUNTIF(AK$1:AK23,PTable[3-Method]), \"\"),0)),\"\")","v":""},{"$f":"IFERROR(INDEX(PTable[3-Method],MATCH(0,IF(AL$1=PTable[2-Test],COUNTIF(AL$1:AL23,PTable[3-Method]), \"\"),0)),\"\")","v":""},{"$f":"IFERROR(INDEX(PTable[3-Method],MATCH(0,IF(AM$1=PTable[2-Test],COUNTIF(AM$1:AM23,PTable[3-Method]), \"\"),0)),\"\")","v":""},{"$f":"IFERROR(INDEX(PTable[3-Method],MATCH(0,IF(AN$1=PTable[2-Test],COUNTIF(AN$1:AN23,PTable[3-Method]), \"\"),0)),\"\")","v":""},{"$f":"IFERROR(INDEX(PTable[3-Method],MATCH(0,IF(AO$1=PTable[2-Test],COUNTIF(AO$1:AO23,PTable[3-Method]), \"\"),0)),\"\")","v":""},{"$f":"IFERROR(INDEX(PTable[3-Method],MATCH(0,IF(AP$1=PTable[2-Test],COUNTIF(AP$1:AP23,PTable[3-Method]), \"\"),0)),\"\")","v":""},{"$f":"IFERROR(INDEX(PTable[3-Method],MATCH(0,IF(AQ$1=PTable[2-Test],COUNTIF(AQ$1:AQ23,PTable[3-Method]), \"\"),0)),\"\")","v":""},{"$f":"IFERROR(INDEX(PTable[3-Method],MATCH(0,IF(AR$1=PTable[2-Test],COUNTIF(AR$1:AR23,PTable[3-Method]), \"\"),0)),\"\")","v":""},{"$f":"IFERROR(INDEX(PTable[3-Method],MATCH(0,IF(AS$1=PTable[2-Test],COUNTIF(AS$1:AS23,PTable[3-Method]), \"\"),0)),\"\")","v":""},{"$f":"IFERROR(INDEX(PTable[3-Method],MATCH(0,IF(AT$1=PTable[2-Test],COUNTIF(AT$1:AT23,PTable[3-Method]), \"\"),0)),\"\")","v":""},{"$f":"IFERROR(INDEX(PTable[3-Method],MATCH(0,IF(AU$1=PTable[2-Test],COUNTIF(AU$1:AU23,PTable[3-Method]), \"\"),0)),\"\")","v":""},{"$f":"IFERROR(INDEX(PTable[3-Method],MATCH(0,IF(AV$1=PTable[2-Test],COUNTIF(AV$1:AV23,PTable[3-Method]), \"\"),0)),\"\")","v":""},{"$f":"IFERROR(INDEX(PTable[3-Method],MATCH(0,IF(AW$1=PTable[2-Test],COUNTIF(AW$1:AW23,PTable[3-Method]), \"\"),0)),\"\")","v":""},{"$f":"IFERROR(INDEX(PTable[3-Method],MATCH(0,IF(AX$1=PTable[2-Test],COUNTIF(AX$1:AX23,PTable[3-Method]), \"\"),0)),\"\")","v":""},{"$f":"IFERROR(INDEX(PTable[3-Method],MATCH(0,IF(AY$1=PTable[2-Test],COUNTIF(AY$1:AY23,PTable[3-Method]), \"\"),0)),\"\")","v":""},{"$f":"IFERROR(INDEX(PTable[3-Method],MATCH(0,IF(AZ$1=PTable[2-Test],COUNTIF(AZ$1:AZ23,PTable[3-Method]), \"\"),0)),\"\")","v":""},{"$f":"IFERROR(INDEX(PTable[3-Method],MATCH(0,IF(BA$1=PTable[2-Test],COUNTIF(BA$1:BA23,PTable[3-Method]), \"\"),0)),\"\")","v":""},{"$f":"IFERROR(INDEX(PTable[3-Method],MATCH(0,IF(BB$1=PTable[2-Test],COUNTIF(BB$1:BB23,PTable[3-Method]), \"\"),0)),\"\")","v":""},{"$f":"IFERROR(INDEX(PTable[3-Method],MATCH(0,IF(BC$1=PTable[2-Test],COUNTIF(BC$1:BC23,PTable[3-Method]), \"\"),0)),\"\")","v":""},{"$f":"IFERROR(INDEX(PTable[3-Method],MATCH(0,IF(BD$1=PTable[2-Test],COUNTIF(BD$1:BD23,PTable[3-Method]), \"\"),0)),\"\")","v":""},{"$f":"IFERROR(INDEX(PTable[3-Method],MATCH(0,IF(BE$1=PTable[2-Test],COUNTIF(BE$1:BE23,PTable[3-Method]), \"\"),0)),\"\")","v":""},{"$f":"IFERROR(INDEX(PTable[3-Method],MATCH(0,IF(BF$1=PTable[2-Test],COUNTIF(BF$1:BF23,PTable[3-Method]), \"\"),0)),\"\")","v":""},{"$f":"IFERROR(INDEX(PTable[3-Method],MATCH(0,IF(BG$1=PTable[2-Test],COUNTIF(BG$1:BG23,PTable[3-Method]), \"\"),0)),\"\")","v":""},{"$f":"IFERROR(INDEX(PTable[3-Method],MATCH(0,IF(BH$1=PTable[2-Test],COUNTIF(BH$1:BH23,PTable[3-Method]), \"\"),0)),\"\")","v":""},{"$f":"IFERROR(INDEX(PTable[3-Method],MATCH(0,IF(BI$1=PTable[2-Test],COUNTIF(BI$1:BI23,PTable[3-Method]), \"\"),0)),\"\")","v":""},{"$f":"IFERROR(INDEX(PTable[3-Method],MATCH(0,IF(BJ$1=PTable[2-Test],COUNTIF(BJ$1:BJ23,PTable[3-Method]), \"\"),0)),\"\")","v":""},{"$f":"IFERROR(INDEX(PTable[3-Method],MATCH(0,IF(BK$1=PTable[2-Test],COUNTIF(BK$1:BK23,PTable[3-Method]), \"\"),0)),\"\")","v":""},{"$f":"IFERROR(INDEX(PTable[3-Method],MATCH(0,IF(BL$1=PTable[2-Test],COUNTIF(BL$1:BL23,PTable[3-Method]), \"\"),0)),\"\")","v":""},{"$f":"IFERROR(INDEX(PTable[3-Method],MATCH(0,IF(BM$1=PTable[2-Test],COUNTIF(BM$1:BM23,PTable[3-Method]), \"\"),0)),\"\")","v":"mUS50g"},{"$f":"IFERROR(INDEX(PTable[3-Method],MATCH(0,IF(BN$1=PTable[2-Test],COUNTIF(BN$1:BN23,PTable[3-Method]), \"\"),0)),\"\")","v":""},{"$f":"IFERROR(INDEX(PTable[3-Method],MATCH(0,IF(BO$1=PTable[2-Test],COUNTIF(BO$1:BO23,PTable[3-Method]), \"\"),0)),\"\")","v":""},{"$f":"IFERROR(INDEX(PTable[3-Method],MATCH(0,IF(BP$1=PTable[2-Test],COUNTIF(BP$1:BP23,PTable[3-Method]), \"\"),0)),\"\")","v":"mFD50g"},{"$f":"IFERROR(INDEX(PTable[3-Method],MATCH(0,IF(BQ$1=PTable[2-Test],COUNTIF(BQ$1:BQ23,PTable[3-Method]), \"\"),0)),\"\")","v":""},{"$f":"IFERROR(INDEX(PTable[3-Method],MATCH(0,IF(BR$1=PTable[2-Test],COUNTIF(BR$1:BR23,PTable[3-Method]), \"\"),0)),\"\")","v":""},{"$f":"IFERROR(INDEX(PTable[3-Method],MATCH(0,IF(BS$1=PTable[2-Test],COUNTIF(BS$1:BS23,PTable[3-Method]), \"\"),0)),\"\")","v":""},{"$f":"IFERROR(INDEX(PTable[3-Method],MATCH(0,IF(BT$1=PTable[2-Test],COUNTIF(BT$1:BT23,PTable[3-Method]), \"\"),0)),\"\")","v":""},{"$f":"IFERROR(INDEX(PTable[3-Method],MATCH(0,IF(BU$1=PTable[2-Test],COUNTIF(BU$1:BU23,PTable[3-Method]), \"\"),0)),\"\")","v":""},{"$f":"IFERROR(INDEX(PTable[3-Method],MATCH(0,IF(BV$1=PTable[2-Test],COUNTIF(BV$1:BV23,PTable[3-Method]), \"\"),0)),\"\")","v":""},{"$f":"IFERROR(INDEX(PTable[3-Method],MATCH(0,IF(BW$1=PTable[2-Test],COUNTIF(BW$1:BW23,PTable[3-Method]), \"\"),0)),\"\")","v":""},{"$f":"IFERROR(INDEX(PTable[3-Method],MATCH(0,IF(BX$1=PTable[2-Test],COUNTIF(BX$1:BX23,PTable[3-Method]), \"\"),0)),\"\")","v":""},{"$f":"IFERROR(INDEX(PTable[3-Method],MATCH(0,IF(BY$1=PTable[2-Test],COUNTIF(BY$1:BY23,PTable[3-Method]), \"\"),0)),\"\")","v":""},{"$f":"IFERROR(INDEX(PTable[3-Method],MATCH(0,IF(BZ$1=PTable[2-Test],COUNTIF(BZ$1:BZ23,PTable[3-Method]), \"\"),0)),\"\")","v":""},{"$f":"IFERROR(INDEX(PTable[3-Method],MATCH(0,IF(CA$1=PTable[2-Test],COUNTIF(CA$1:CA23,PTable[3-Method]), \"\"),0)),\"\")","v":""},{"$f":"IFERROR(INDEX(PTable[3-Method],MATCH(0,IF(CB$1=PTable[2-Test],COUNTIF(CB$1:CB23,PTable[3-Method]), \"\"),0)),\"\")","v":""},{"$f":"IFERROR(INDEX(PTable[3-Method],MATCH(0,IF(CC$1=PTable[2-Test],COUNTIF(CC$1:CC23,PTable[3-Method]), \"\"),0)),\"\")","v":""},{"$f":"IFERROR(INDEX(PTable[3-Method],MATCH(0,IF(CD$1=PTable[2-Test],COUNTIF(CD$1:CD23,PTable[3-Method]), \"\"),0)),\"\")","v":""},{"$f":"IFERROR(INDEX(PTable[3-Method],MATCH(0,IF(CE$1=PTable[2-Test],COUNTIF(CE$1:CE23,PTable[3-Method]), \"\"),0)),\"\")","v":""},{"$f":"IFERROR(INDEX(PTable[3-Method],MATCH(0,IF(CF$1=PTable[2-Test],COUNTIF(CF$1:CF23,PTable[3-Method]), \"\"),0)),\"\")","v":""},{"$f":"IFERROR(INDEX(PTable[3-Method],MATCH(0,IF(CG$1=PTable[2-Test],COUNTIF(CG$1:CG23,PTable[3-Method]), \"\"),0)),\"\")","v":""},{"$f":"IFERROR(INDEX(PTable[3-Method],MATCH(0,IF(CH$1=PTable[2-Test],COUNTIF(CH$1:CH23,PTable[3-Method]), \"\"),0)),\"\")","v":""},{"$f":"IFERROR(INDEX(PTable[3-Method],MATCH(0,IF(CI$1=PTable[2-Test],COUNTIF(CI$1:CI23,PTable[3-Method]), \"\"),0)),\"\")","v":""},{"$f":"IFERROR(INDEX(PTable[3-Method],MATCH(0,IF(CJ$1=PTable[2-Test],COUNTIF(CJ$1:CJ23,PTable[3-Method]), \"\"),0)),\"\")","v":""},{"$f":"IFERROR(INDEX(PTable[3-Method],MATCH(0,IF(CK$1=PTable[2-Test],COUNTIF(CK$1:CK23,PTable[3-Method]), \"\"),0)),\"\")","v":""},{"$f":"IFERROR(INDEX(PTable[3-Method],MATCH(0,IF(CL$1=PTable[2-Test],COUNTIF(CL$1:CL23,PTable[3-Method]), \"\"),0)),\"\")","v":""},{"$f":"IFERROR(INDEX(PTable[3-Method],MATCH(0,IF(CM$1=PTable[2-Test],COUNTIF(CM$1:CM23,PTable[3-Method]), \"\"),0)),\"\")","v":""},{"$f":"IFERROR(INDEX(PTable[3-Method],MATCH(0,IF(CN$1=PTable[2-Test],COUNTIF(CN$1:CN23,PTable[3-Method]), \"\"),0)),\"\")","v":""},{"$f":"IFERROR(INDEX(PTable[3-Method],MATCH(0,IF(CO$1=PTable[2-Test],COUNTIF(CO$1:CO23,PTable[3-Method]), \"\"),0)),\"\")","v":""},{"$f":"IFERROR(INDEX(PTable[3-Method],MATCH(0,IF(CP$1=PTable[2-Test],COUNTIF(CP$1:CP23,PTable[3-Method]), \"\"),0)),\"\")","v":""},{"$f":"IFERROR(INDEX(PTable[3-Method],MATCH(0,IF(CQ$1=PTable[2-Test],COUNTIF(CQ$1:CQ23,PTable[3-Method]), \"\"),0)),\"\")","v":""},{"$f":"IFERROR(INDEX(PTable[3-Method],MATCH(0,IF(CR$1=PTable[2-Test],COUNTIF(CR$1:CR23,PTable[3-Method]), \"\"),0)),\"\")","v":""},{"$f":"IFERROR(INDEX(PTable[3-Method],MATCH(0,IF(CS$1=PTable[2-Test],COUNTIF(CS$1:CS23,PTable[3-Method]), \"\"),0)),\"\")","v":""},{"$f":"IFERROR(INDEX(PTable[3-Method],MATCH(0,IF(CT$1=PTable[2-Test],COUNTIF(CT$1:CT23,PTable[3-Method]), \"\"),0)),\"\")","v":""},{"$f":"IFERROR(INDEX(PTable[3-Method],MATCH(0,IF(CU$1=PTable[2-Test],COUNTIF(CU$1:CU23,PTable[3-Method]), \"\"),0)),\"\")","v":""},{"$f":"IFERROR(INDEX(PTable[3-Method],MATCH(0,IF(CV$1=PTable[2-Test],COUNTIF(CV$1:CV23,PTable[3-Method]), \"\"),0)),\"\")","v":""},{"$f":"IFERROR(INDEX(PTable[3-Method],MATCH(0,IF(CW$1=PTable[2-Test],COUNTIF(CW$1:CW23,PTable[3-Method]), \"\"),0)),\"\")","v":""},{"$f":"IFERROR(INDEX(PTable[3-Method],MATCH(0,IF(CX$1=PTable[2-Test],COUNTIF(CX$1:CX23,PTable[3-Method]), \"\"),0)),\"\")","v":""},{"$f":"IFERROR(INDEX(PTable[3-Method],MATCH(0,IF(CY$1=PTable[2-Test],COUNTIF(CY$1:CY23,PTable[3-Method]), \"\"),0)),\"\")","v":""},{"$f":"IFERROR(INDEX(PTable[3-Method],MATCH(0,IF(CZ$1=PTable[2-Test],COUNTIF(CZ$1:CZ23,PTable[3-Method]), \"\"),0)),\"\")","v":""},{"$f":"IFERROR(INDEX(PTable[3-Method],MATCH(0,IF(DA$1=PTable[2-Test],COUNTIF(DA$1:DA23,PTable[3-Method]), \"\"),0)),\"\")","v":""},{"$f":"IFERROR(INDEX(PTable[3-Method],MATCH(0,IF(DB$1=PTable[2-Test],COUNTIF(DB$1:DB23,PTable[3-Method]), \"\"),0)),\"\")","v":""},{"$f":"IFERROR(INDEX(PTable[3-Method],MATCH(0,IF(DC$1=PTable[2-Test],COUNTIF(DC$1:DC23,PTable[3-Method]), \"\"),0)),\"\")","v":""},{"$f":"IFERROR(INDEX(PTable[3-Method],MATCH(0,IF(DD$1=PTable[2-Test],COUNTIF(DD$1:DD23,PTable[3-Method]), \"\"),0)),\"\")","v":""},{"$f":"IFERROR(INDEX(PTable[3-Method],MATCH(0,IF(DE$1=PTable[2-Test],COUNTIF(DE$1:DE23,PTable[3-Method]), \"\"),0)),\"\")","v":""},{"$f":"IFERROR(INDEX(PTable[3-Method],MATCH(0,IF(DF$1=PTable[2-Test],COUNTIF(DF$1:DF23,PTable[3-Method]), \"\"),0)),\"\")","v":""},{"$f":"IFERROR(INDEX(PTable[3-Method],MATCH(0,IF(DG$1=PTable[2-Test],COUNTIF(DG$1:DG23,PTable[3-Method]), \"\"),0)),\"\")","v":""},{"$f":"IFERROR(INDEX(PTable[3-Method],MATCH(0,IF(DH$1=PTable[2-Test],COUNTIF(DH$1:DH23,PTable[3-Method]), \"\"),0)),\"\")","v":""},{"$f":"IFERROR(INDEX(PTable[3-Method],MATCH(0,IF(DI$1=PTable[2-Test],COUNTIF(DI$1:DI23,PTable[3-Method]), \"\"),0)),\"\")","v":""},{"$f":"IFERROR(INDEX(PTable[3-Method],MATCH(0,IF(DJ$1=PTable[2-Test],COUNTIF(DJ$1:DJ23,PTable[3-Method]), \"\"),0)),\"\")","v":""}]
[null,{"$f":"IFERROR(INDEX(PTable[2-Test],MATCH(0,IF(B$1=PTable[1-Type],COUNTIF(B$1:B24,PTable[2-Test]), \"\"),0)),\"\")","v":"LAB"},{"$f":"IFERROR(INDEX(PTable[2-Test],MATCH(0,IF(C$1=PTable[1-Type],COUNTIF(C$1:C24,PTable[2-Test]), \"\"),0)),\"\")","v":""},{"$f":"IFERROR(INDEX(PTable[2-Test],MATCH(0,IF(D$1=PTable[1-Type],COUNTIF(D$1:D24,PTable[2-Test]), \"\"),0)),\"\")","v":"SG"},{"$f":"IFERROR(INDEX(PTable[2-Test],MATCH(0,IF(E$1=PTable[1-Type],COUNTIF(E$1:E24,PTable[2-Test]), \"\"),0)),\"\")","v":""},{"$f":"IFERROR(INDEX(PTable[2-Test],MATCH(0,IF(F$1=PTable[1-Type],COUNTIF(F$1:F24,PTable[2-Test]), \"\"),0)),\"\")","v":""},{"$f":"IFERROR(INDEX(PTable[3-Method],MATCH(0,IF(G$1=PTable[2-Test],COUNTIF(G$1:G24,PTable[3-Method]), \"\"),0)),\"\")","v":""},{"$f":"IFERROR(INDEX(PTable[3-Method],MATCH(0,IF(H$1=PTable[2-Test],COUNTIF(H$1:H24,PTable[3-Method]), \"\"),0)),\"\")","v":""},{"$f":"IFERROR(INDEX(PTable[3-Method],MATCH(0,IF(I$1=PTable[2-Test],COUNTIF(I$1:I24,PTable[3-Method]), \"\"),0)),\"\")","v":""},{"$f":"IFERROR(INDEX(PTable[3-Method],MATCH(0,IF(J$1=PTable[2-Test],COUNTIF(J$1:J24,PTable[3-Method]), \"\"),0)),\"\")","v":""},{"$f":"IFERROR(INDEX(PTable[3-Method],MATCH(0,IF(K$1=PTable[2-Test],COUNTIF(K$1:K24,PTable[3-Method]), \"\"),0)),\"\")","v":""},{"$f":"IFERROR(INDEX(PTable[3-Method],MATCH(0,IF(L$1=PTable[2-Test],COUNTIF(L$1:L24,PTable[3-Method]), \"\"),0)),\"\")","v":""},{"$f":"IFERROR(INDEX(PTable[3-Method],MATCH(0,IF(M$1=PTable[2-Test],COUNTIF(M$1:M24,PTable[3-Method]), \"\"),0)),\"\")","v":""},{"$f":"IFERROR(INDEX(PTable[3-Method],MATCH(0,IF(N$1=PTable[2-Test],COUNTIF(N$1:N24,PTable[3-Method]), \"\"),0)),\"\")","v":""},{"$f":"IFERROR(INDEX(PTable[3-Method],MATCH(0,IF(O$1=PTable[2-Test],COUNTIF(O$1:O24,PTable[3-Method]), \"\"),0)),\"\")","v":""},{"$f":"IFERROR(INDEX(PTable[3-Method],MATCH(0,IF(P$1=PTable[2-Test],COUNTIF(P$1:P24,PTable[3-Method]), \"\"),0)),\"\")","v":""},{"$f":"IFERROR(INDEX(PTable[3-Method],MATCH(0,IF(Q$1=PTable[2-Test],COUNTIF(Q$1:Q24,PTable[3-Method]), \"\"),0)),\"\")","v":""},{"$f":"IFERROR(INDEX(PTable[3-Method],MATCH(0,IF(R$1=PTable[2-Test],COUNTIF(R$1:R24,PTable[3-Method]), \"\"),0)),\"\")","v":""},{"$f":"IFERROR(INDEX(PTable[3-Method],MATCH(0,IF(S$1=PTable[2-Test],COUNTIF(S$1:S24,PTable[3-Method]), \"\"),0)),\"\")","v":""},{"$f":"IFERROR(INDEX(PTable[3-Method],MATCH(0,IF(T$1=PTable[2-Test],COUNTIF(T$1:T24,PTable[3-Method]), \"\"),0)),\"\")","v":""},{"$f":"IFERROR(INDEX(PTable[3-Method],MATCH(0,IF(U$1=PTable[2-Test],COUNTIF(U$1:U24,PTable[3-Method]), \"\"),0)),\"\")","v":""},{"$f":"IFERROR(INDEX(PTable[3-Method],MATCH(0,IF(V$1=PTable[2-Test],COUNTIF(V$1:V24,PTable[3-Method]), \"\"),0)),\"\")","v":""},{"$f":"IFERROR(INDEX(PTable[3-Method],MATCH(0,IF(W$1=PTable[2-Test],COUNTIF(W$1:W24,PTable[3-Method]), \"\"),0)),\"\")","v":""},{"$f":"IFERROR(INDEX(PTable[3-Method],MATCH(0,IF(X$1=PTable[2-Test],COUNTIF(X$1:X24,PTable[3-Method]), \"\"),0)),\"\")","v":""},{"$f":"IFERROR(INDEX(PTable[3-Method],MATCH(0,IF(Y$1=PTable[2-Test],COUNTIF(Y$1:Y24,PTable[3-Method]), \"\"),0)),\"\")","v":""},{"$f":"IFERROR(INDEX(PTable[3-Method],MATCH(0,IF(Z$1=PTable[2-Test],COUNTIF(Z$1:Z24,PTable[3-Method]), \"\"),0)),\"\")","v":""},{"$f":"IFERROR(INDEX(PTable[3-Method],MATCH(0,IF(AA$1=PTable[2-Test],COUNTIF(AA$1:AA24,PTable[3-Method]), \"\"),0)),\"\")","v":""},{"$f":"IFERROR(INDEX(PTable[3-Method],MATCH(0,IF(AB$1=PTable[2-Test],COUNTIF(AB$1:AB24,PTable[3-Method]), \"\"),0)),\"\")","v":""},{"$f":"IFERROR(INDEX(PTable[3-Method],MATCH(0,IF(AC$1=PTable[2-Test],COUNTIF(AC$1:AC24,PTable[3-Method]), \"\"),0)),\"\")","v":""},{"$f":"IFERROR(INDEX(PTable[3-Method],MATCH(0,IF(AD$1=PTable[2-Test],COUNTIF(AD$1:AD24,PTable[3-Method]), \"\"),0)),\"\")","v":""},{"$f":"IFERROR(INDEX(PTable[3-Method],MATCH(0,IF(AE$1=PTable[2-Test],COUNTIF(AE$1:AE24,PTable[3-Method]), \"\"),0)),\"\")","v":""},{"$f":"IFERROR(INDEX(PTable[3-Method],MATCH(0,IF(AF$1=PTable[2-Test],COUNTIF(AF$1:AF24,PTable[3-Method]), \"\"),0)),\"\")","v":""},{"$f":"IFERROR(INDEX(PTable[3-Method],MATCH(0,IF(AG$1=PTable[2-Test],COUNTIF(AG$1:AG24,PTable[3-Method]), \"\"),0)),\"\")","v":""},{"$f":"IFERROR(INDEX(PTable[3-Method],MATCH(0,IF(AH$1=PTable[2-Test],COUNTIF(AH$1:AH24,PTable[3-Method]), \"\"),0)),\"\")","v":""},{"$f":"IFERROR(INDEX(PTable[3-Method],MATCH(0,IF(AI$1=PTable[2-Test],COUNTIF(AI$1:AI24,PTable[3-Method]), \"\"),0)),\"\")","v":""},{"$f":"IFERROR(INDEX(PTable[3-Method],MATCH(0,IF(AJ$1=PTable[2-Test],COUNTIF(AJ$1:AJ24,PTable[3-Method]), \"\"),0)),\"\")","v":""},{"$f":"IFERROR(INDEX(PTable[3-Method],MATCH(0,IF(AK$1=PTable[2-Test],COUNTIF(AK$1:AK24,PTable[3-Method]), \"\"),0)),\"\")","v":""},{"$f":"IFERROR(INDEX(PTable[3-Method],MATCH(0,IF(AL$1=PTable[2-Test],COUNTIF(AL$1:AL24,PTable[3-Method]), \"\"),0)),\"\")","v":""},{"$f":"IFERROR(INDEX(PTable[3-Method],MATCH(0,IF(AM$1=PTable[2-Test],COUNTIF(AM$1:AM24,PTable[3-Method]), \"\"),0)),\"\")","v":""},{"$f":"IFERROR(INDEX(PTable[3-Method],MATCH(0,IF(AN$1=PTable[2-Test],COUNTIF(AN$1:AN24,PTable[3-Method]), \"\"),0)),\"\")","v":""},{"$f":"IFERROR(INDEX(PTable[3-Method],MATCH(0,IF(AO$1=PTable[2-Test],COUNTIF(AO$1:AO24,PTable[3-Method]), \"\"),0)),\"\")","v":""},{"$f":"IFERROR(INDEX(PTable[3-Method],MATCH(0,IF(AP$1=PTable[2-Test],COUNTIF(AP$1:AP24,PTable[3-Method]), \"\"),0)),\"\")","v":""},{"$f":"IFERROR(INDEX(PTable[3-Method],MATCH(0,IF(AQ$1=PTable[2-Test],COUNTIF(AQ$1:AQ24,PTable[3-Method]), \"\"),0)),\"\")","v":""},{"$f":"IFERROR(INDEX(PTable[3-Method],MATCH(0,IF(AR$1=PTable[2-Test],COUNTIF(AR$1:AR24,PTable[3-Method]), \"\"),0)),\"\")","v":""},{"$f":"IFERROR(INDEX(PTable[3-Method],MATCH(0,IF(AS$1=PTable[2-Test],COUNTIF(AS$1:AS24,PTable[3-Method]), \"\"),0)),\"\")","v":""},{"$f":"IFERROR(INDEX(PTable[3-Method],MATCH(0,IF(AT$1=PTable[2-Test],COUNTIF(AT$1:AT24,PTable[3-Method]), \"\"),0)),\"\")","v":""},{"$f":"IFERROR(INDEX(PTable[3-Method],MATCH(0,IF(AU$1=PTable[2-Test],COUNTIF(AU$1:AU24,PTable[3-Method]), \"\"),0)),\"\")","v":""},{"$f":"IFERROR(INDEX(PTable[3-Method],MATCH(0,IF(AV$1=PTable[2-Test],COUNTIF(AV$1:AV24,PTable[3-Method]), \"\"),0)),\"\")","v":""},{"$f":"IFERROR(INDEX(PTable[3-Method],MATCH(0,IF(AW$1=PTable[2-Test],COUNTIF(AW$1:AW24,PTable[3-Method]), \"\"),0)),\"\")","v":""},{"$f":"IFERROR(INDEX(PTable[3-Method],MATCH(0,IF(AX$1=PTable[2-Test],COUNTIF(AX$1:AX24,PTable[3-Method]), \"\"),0)),\"\")","v":""},{"$f":"IFERROR(INDEX(PTable[3-Method],MATCH(0,IF(AY$1=PTable[2-Test],COUNTIF(AY$1:AY24,PTable[3-Method]), \"\"),0)),\"\")","v":""},{"$f":"IFERROR(INDEX(PTable[3-Method],MATCH(0,IF(AZ$1=PTable[2-Test],COUNTIF(AZ$1:AZ24,PTable[3-Method]), \"\"),0)),\"\")","v":""},{"$f":"IFERROR(INDEX(PTable[3-Method],MATCH(0,IF(BA$1=PTable[2-Test],COUNTIF(BA$1:BA24,PTable[3-Method]), \"\"),0)),\"\")","v":""},{"$f":"IFERROR(INDEX(PTable[3-Method],MATCH(0,IF(BB$1=PTable[2-Test],COUNTIF(BB$1:BB24,PTable[3-Method]), \"\"),0)),\"\")","v":""},{"$f":"IFERROR(INDEX(PTable[3-Method],MATCH(0,IF(BC$1=PTable[2-Test],COUNTIF(BC$1:BC24,PTable[3-Method]), \"\"),0)),\"\")","v":""},{"$f":"IFERROR(INDEX(PTable[3-Method],MATCH(0,IF(BD$1=PTable[2-Test],COUNTIF(BD$1:BD24,PTable[3-Method]), \"\"),0)),\"\")","v":""},{"$f":"IFERROR(INDEX(PTable[3-Method],MATCH(0,IF(BE$1=PTable[2-Test],COUNTIF(BE$1:BE24,PTable[3-Method]), \"\"),0)),\"\")","v":""},{"$f":"IFERROR(INDEX(PTable[3-Method],MATCH(0,IF(BF$1=PTable[2-Test],COUNTIF(BF$1:BF24,PTable[3-Method]), \"\"),0)),\"\")","v":""},{"$f":"IFERROR(INDEX(PTable[3-Method],MATCH(0,IF(BG$1=PTable[2-Test],COUNTIF(BG$1:BG24,PTable[3-Method]), \"\"),0)),\"\")","v":""},{"$f":"IFERROR(INDEX(PTable[3-Method],MATCH(0,IF(BH$1=PTable[2-Test],COUNTIF(BH$1:BH24,PTable[3-Method]), \"\"),0)),\"\")","v":""},{"$f":"IFERROR(INDEX(PTable[3-Method],MATCH(0,IF(BI$1=PTable[2-Test],COUNTIF(BI$1:BI24,PTable[3-Method]), \"\"),0)),\"\")","v":""},{"$f":"IFERROR(INDEX(PTable[3-Method],MATCH(0,IF(BJ$1=PTable[2-Test],COUNTIF(BJ$1:BJ24,PTable[3-Method]), \"\"),0)),\"\")","v":""},{"$f":"IFERROR(INDEX(PTable[3-Method],MATCH(0,IF(BK$1=PTable[2-Test],COUNTIF(BK$1:BK24,PTable[3-Method]), \"\"),0)),\"\")","v":""},{"$f":"IFERROR(INDEX(PTable[3-Method],MATCH(0,IF(BL$1=PTable[2-Test],COUNTIF(BL$1:BL24,PTable[3-Method]), \"\"),0)),\"\")","v":""},{"$f":"IFERROR(INDEX(PTable[3-Method],MATCH(0,IF(BM$1=PTable[2-Test],COUNTIF(BM$1:BM24,PTable[3-Method]), \"\"),0)),\"\")","v":"mUS75g"},{"$f":"IFERROR(INDEX(PTable[3-Method],MATCH(0,IF(BN$1=PTable[2-Test],COUNTIF(BN$1:BN24,PTable[3-Method]), \"\"),0)),\"\")","v":""},{"$f":"IFERROR(INDEX(PTable[3-Method],MATCH(0,IF(BO$1=PTable[2-Test],COUNTIF(BO$1:BO24,PTable[3-Method]), \"\"),0)),\"\")","v":""},{"$f":"IFERROR(INDEX(PTable[3-Method],MATCH(0,IF(BP$1=PTable[2-Test],COUNTIF(BP$1:BP24,PTable[3-Method]), \"\"),0)),\"\")","v":"mFD75g"},{"$f":"IFERROR(INDEX(PTable[3-Method],MATCH(0,IF(BQ$1=PTable[2-Test],COUNTIF(BQ$1:BQ24,PTable[3-Method]), \"\"),0)),\"\")","v":""},{"$f":"IFERROR(INDEX(PTable[3-Method],MATCH(0,IF(BR$1=PTable[2-Test],COUNTIF(BR$1:BR24,PTable[3-Method]), \"\"),0)),\"\")","v":""},{"$f":"IFERROR(INDEX(PTable[3-Method],MATCH(0,IF(BS$1=PTable[2-Test],COUNTIF(BS$1:BS24,PTable[3-Method]), \"\"),0)),\"\")","v":""},{"$f":"IFERROR(INDEX(PTable[3-Method],MATCH(0,IF(BT$1=PTable[2-Test],COUNTIF(BT$1:BT24,PTable[3-Method]), \"\"),0)),\"\")","v":""},{"$f":"IFERROR(INDEX(PTable[3-Method],MATCH(0,IF(BU$1=PTable[2-Test],COUNTIF(BU$1:BU24,PTable[3-Method]), \"\"),0)),\"\")","v":""},{"$f":"IFERROR(INDEX(PTable[3-Method],MATCH(0,IF(BV$1=PTable[2-Test],COUNTIF(BV$1:BV24,PTable[3-Method]), \"\"),0)),\"\")","v":""},{"$f":"IFERROR(INDEX(PTable[3-Method],MATCH(0,IF(BW$1=PTable[2-Test],COUNTIF(BW$1:BW24,PTable[3-Method]), \"\"),0)),\"\")","v":""},{"$f":"IFERROR(INDEX(PTable[3-Method],MATCH(0,IF(BX$1=PTable[2-Test],COUNTIF(BX$1:BX24,PTable[3-Method]), \"\"),0)),\"\")","v":""},{"$f":"IFERROR(INDEX(PTable[3-Method],MATCH(0,IF(BY$1=PTable[2-Test],COUNTIF(BY$1:BY24,PTable[3-Method]), \"\"),0)),\"\")","v":""},{"$f":"IFERROR(INDEX(PTable[3-Method],MATCH(0,IF(BZ$1=PTable[2-Test],COUNTIF(BZ$1:BZ24,PTable[3-Method]), \"\"),0)),\"\")","v":""},{"$f":"IFERROR(INDEX(PTable[3-Method],MATCH(0,IF(CA$1=PTable[2-Test],COUNTIF(CA$1:CA24,PTable[3-Method]), \"\"),0)),\"\")","v":""},{"$f":"IFERROR(INDEX(PTable[3-Method],MATCH(0,IF(CB$1=PTable[2-Test],COUNTIF(CB$1:CB24,PTable[3-Method]), \"\"),0)),\"\")","v":""},{"$f":"IFERROR(INDEX(PTable[3-Method],MATCH(0,IF(CC$1=PTable[2-Test],COUNTIF(CC$1:CC24,PTable[3-Method]), \"\"),0)),\"\")","v":""},{"$f":"IFERROR(INDEX(PTable[3-Method],MATCH(0,IF(CD$1=PTable[2-Test],COUNTIF(CD$1:CD24,PTable[3-Method]), \"\"),0)),\"\")","v":""},{"$f":"IFERROR(INDEX(PTable[3-Method],MATCH(0,IF(CE$1=PTable[2-Test],COUNTIF(CE$1:CE24,PTable[3-Method]), \"\"),0)),\"\")","v":""},{"$f":"IFERROR(INDEX(PTable[3-Method],MATCH(0,IF(CF$1=PTable[2-Test],COUNTIF(CF$1:CF24,PTable[3-Method]), \"\"),0)),\"\")","v":""},{"$f":"IFERROR(INDEX(PTable[3-Method],MATCH(0,IF(CG$1=PTable[2-Test],COUNTIF(CG$1:CG24,PTable[3-Method]), \"\"),0)),\"\")","v":""},{"$f":"IFERROR(INDEX(PTable[3-Method],MATCH(0,IF(CH$1=PTable[2-Test],COUNTIF(CH$1:CH24,PTable[3-Method]), \"\"),0)),\"\")","v":""},{"$f":"IFERROR(INDEX(PTable[3-Method],MATCH(0,IF(CI$1=PTable[2-Test],COUNTIF(CI$1:CI24,PTable[3-Method]), \"\"),0)),\"\")","v":""},{"$f":"IFERROR(INDEX(PTable[3-Method],MATCH(0,IF(CJ$1=PTable[2-Test],COUNTIF(CJ$1:CJ24,PTable[3-Method]), \"\"),0)),\"\")","v":""},{"$f":"IFERROR(INDEX(PTable[3-Method],MATCH(0,IF(CK$1=PTable[2-Test],COUNTIF(CK$1:CK24,PTable[3-Method]), \"\"),0)),\"\")","v":""},{"$f":"IFERROR(INDEX(PTable[3-Method],MATCH(0,IF(CL$1=PTable[2-Test],COUNTIF(CL$1:CL24,PTable[3-Method]), \"\"),0)),\"\")","v":""},{"$f":"IFERROR(INDEX(PTable[3-Method],MATCH(0,IF(CM$1=PTable[2-Test],COUNTIF(CM$1:CM24,PTable[3-Method]), \"\"),0)),\"\")","v":""},{"$f":"IFERROR(INDEX(PTable[3-Method],MATCH(0,IF(CN$1=PTable[2-Test],COUNTIF(CN$1:CN24,PTable[3-Method]), \"\"),0)),\"\")","v":""},{"$f":"IFERROR(INDEX(PTable[3-Method],MATCH(0,IF(CO$1=PTable[2-Test],COUNTIF(CO$1:CO24,PTable[3-Method]), \"\"),0)),\"\")","v":""},{"$f":"IFERROR(INDEX(PTable[3-Method],MATCH(0,IF(CP$1=PTable[2-Test],COUNTIF(CP$1:CP24,PTable[3-Method]), \"\"),0)),\"\")","v":""},{"$f":"IFERROR(INDEX(PTable[3-Method],MATCH(0,IF(CQ$1=PTable[2-Test],COUNTIF(CQ$1:CQ24,PTable[3-Method]), \"\"),0)),\"\")","v":""},{"$f":"IFERROR(INDEX(PTable[3-Method],MATCH(0,IF(CR$1=PTable[2-Test],COUNTIF(CR$1:CR24,PTable[3-Method]), \"\"),0)),\"\")","v":""},{"$f":"IFERROR(INDEX(PTable[3-Method],MATCH(0,IF(CS$1=PTable[2-Test],COUNTIF(CS$1:CS24,PTable[3-Method]), \"\"),0)),\"\")","v":""},{"$f":"IFERROR(INDEX(PTable[3-Method],MATCH(0,IF(CT$1=PTable[2-Test],COUNTIF(CT$1:CT24,PTable[3-Method]), \"\"),0)),\"\")","v":""},{"$f":"IFERROR(INDEX(PTable[3-Method],MATCH(0,IF(CU$1=PTable[2-Test],COUNTIF(CU$1:CU24,PTable[3-Method]), \"\"),0)),\"\")","v":""},{"$f":"IFERROR(INDEX(PTable[3-Method],MATCH(0,IF(CV$1=PTable[2-Test],COUNTIF(CV$1:CV24,PTable[3-Method]), \"\"),0)),\"\")","v":""},{"$f":"IFERROR(INDEX(PTable[3-Method],MATCH(0,IF(CW$1=PTable[2-Test],COUNTIF(CW$1:CW24,PTable[3-Method]), \"\"),0)),\"\")","v":""},{"$f":"IFERROR(INDEX(PTable[3-Method],MATCH(0,IF(CX$1=PTable[2-Test],COUNTIF(CX$1:CX24,PTable[3-Method]), \"\"),0)),\"\")","v":""},{"$f":"IFERROR(INDEX(PTable[3-Method],MATCH(0,IF(CY$1=PTable[2-Test],COUNTIF(CY$1:CY24,PTable[3-Method]), \"\"),0)),\"\")","v":""},{"$f":"IFERROR(INDEX(PTable[3-Method],MATCH(0,IF(CZ$1=PTable[2-Test],COUNTIF(CZ$1:CZ24,PTable[3-Method]), \"\"),0)),\"\")","v":""},{"$f":"IFERROR(INDEX(PTable[3-Method],MATCH(0,IF(DA$1=PTable[2-Test],COUNTIF(DA$1:DA24,PTable[3-Method]), \"\"),0)),\"\")","v":""},{"$f":"IFERROR(INDEX(PTable[3-Method],MATCH(0,IF(DB$1=PTable[2-Test],COUNTIF(DB$1:DB24,PTable[3-Method]), \"\"),0)),\"\")","v":""},{"$f":"IFERROR(INDEX(PTable[3-Method],MATCH(0,IF(DC$1=PTable[2-Test],COUNTIF(DC$1:DC24,PTable[3-Method]), \"\"),0)),\"\")","v":""},{"$f":"IFERROR(INDEX(PTable[3-Method],MATCH(0,IF(DD$1=PTable[2-Test],COUNTIF(DD$1:DD24,PTable[3-Method]), \"\"),0)),\"\")","v":""},{"$f":"IFERROR(INDEX(PTable[3-Method],MATCH(0,IF(DE$1=PTable[2-Test],COUNTIF(DE$1:DE24,PTable[3-Method]), \"\"),0)),\"\")","v":""},{"$f":"IFERROR(INDEX(PTable[3-Method],MATCH(0,IF(DF$1=PTable[2-Test],COUNTIF(DF$1:DF24,PTable[3-Method]), \"\"),0)),\"\")","v":""},{"$f":"IFERROR(INDEX(PTable[3-Method],MATCH(0,IF(DG$1=PTable[2-Test],COUNTIF(DG$1:DG24,PTable[3-Method]), \"\"),0)),\"\")","v":""},{"$f":"IFERROR(INDEX(PTable[3-Method],MATCH(0,IF(DH$1=PTable[2-Test],COUNTIF(DH$1:DH24,PTable[3-Method]), \"\"),0)),\"\")","v":""},{"$f":"IFERROR(INDEX(PTable[3-Method],MATCH(0,IF(DI$1=PTable[2-Test],COUNTIF(DI$1:DI24,PTable[3-Method]), \"\"),0)),\"\")","v":""},{"$f":"IFERROR(INDEX(PTable[3-Method],MATCH(0,IF(DJ$1=PTable[2-Test],COUNTIF(DJ$1:DJ24,PTable[3-Method]), \"\"),0)),\"\")","v":""}]
[null,{"$f":"IFERROR(INDEX(PTable[2-Test],MATCH(0,IF(B$1=PTable[1-Type],COUNTIF(B$1:B25,PTable[2-Test]), \"\"),0)),\"\")","v":"Leuco"},{"$f":"IFERROR(INDEX(PTable[2-Test],MATCH(0,IF(C$1=PTable[1-Type],COUNTIF(C$1:C25,PTable[2-Test]), \"\"),0)),\"\")","v":""},{"$f":"IFERROR(INDEX(PTable[2-Test],MATCH(0,IF(D$1=PTable[1-Type],COUNTIF(D$1:D25,PTable[2-Test]), \"\"),0)),\"\")","v":"TA"},{"$f":"IFERROR(INDEX(PTable[2-Test],MATCH(0,IF(E$1=PTable[1-Type],COUNTIF(E$1:E25,PTable[2-Test]), \"\"),0)),\"\")","v":""},{"$f":"IFERROR(INDEX(PTable[2-Test],MATCH(0,IF(F$1=PTable[1-Type],COUNTIF(F$1:F25,PTable[2-Test]), \"\"),0)),\"\")","v":""},{"$f":"IFERROR(INDEX(PTable[3-Method],MATCH(0,IF(G$1=PTable[2-Test],COUNTIF(G$1:G25,PTable[3-Method]), \"\"),0)),\"\")","v":""},{"$f":"IFERROR(INDEX(PTable[3-Method],MATCH(0,IF(H$1=PTable[2-Test],COUNTIF(H$1:H25,PTable[3-Method]), \"\"),0)),\"\")","v":""},{"$f":"IFERROR(INDEX(PTable[3-Method],MATCH(0,IF(I$1=PTable[2-Test],COUNTIF(I$1:I25,PTable[3-Method]), \"\"),0)),\"\")","v":""},{"$f":"IFERROR(INDEX(PTable[3-Method],MATCH(0,IF(J$1=PTable[2-Test],COUNTIF(J$1:J25,PTable[3-Method]), \"\"),0)),\"\")","v":""},{"$f":"IFERROR(INDEX(PTable[3-Method],MATCH(0,IF(K$1=PTable[2-Test],COUNTIF(K$1:K25,PTable[3-Method]), \"\"),0)),\"\")","v":""},{"$f":"IFERROR(INDEX(PTable[3-Method],MATCH(0,IF(L$1=PTable[2-Test],COUNTIF(L$1:L25,PTable[3-Method]), \"\"),0)),\"\")","v":""},{"$f":"IFERROR(INDEX(PTable[3-Method],MATCH(0,IF(M$1=PTable[2-Test],COUNTIF(M$1:M25,PTable[3-Method]), \"\"),0)),\"\")","v":""},{"$f":"IFERROR(INDEX(PTable[3-Method],MATCH(0,IF(N$1=PTable[2-Test],COUNTIF(N$1:N25,PTable[3-Method]), \"\"),0)),\"\")","v":""},{"$f":"IFERROR(INDEX(PTable[3-Method],MATCH(0,IF(O$1=PTable[2-Test],COUNTIF(O$1:O25,PTable[3-Method]), \"\"),0)),\"\")","v":""},{"$f":"IFERROR(INDEX(PTable[3-Method],MATCH(0,IF(P$1=PTable[2-Test],COUNTIF(P$1:P25,PTable[3-Method]), \"\"),0)),\"\")","v":""},{"$f":"IFERROR(INDEX(PTable[3-Method],MATCH(0,IF(Q$1=PTable[2-Test],COUNTIF(Q$1:Q25,PTable[3-Method]), \"\"),0)),\"\")","v":""},{"$f":"IFERROR(INDEX(PTable[3-Method],MATCH(0,IF(R$1=PTable[2-Test],COUNTIF(R$1:R25,PTable[3-Method]), \"\"),0)),\"\")","v":""},{"$f":"IFERROR(INDEX(PTable[3-Method],MATCH(0,IF(S$1=PTable[2-Test],COUNTIF(S$1:S25,PTable[3-Method]), \"\"),0)),\"\")","v":""},{"$f":"IFERROR(INDEX(PTable[3-Method],MATCH(0,IF(T$1=PTable[2-Test],COUNTIF(T$1:T25,PTable[3-Method]), \"\"),0)),\"\")","v":""},{"$f":"IFERROR(INDEX(PTable[3-Method],MATCH(0,IF(U$1=PTable[2-Test],COUNTIF(U$1:U25,PTable[3-Method]), \"\"),0)),\"\")","v":""},{"$f":"IFERROR(INDEX(PTable[3-Method],MATCH(0,IF(V$1=PTable[2-Test],COUNTIF(V$1:V25,PTable[3-Method]), \"\"),0)),\"\")","v":""},{"$f":"IFERROR(INDEX(PTable[3-Method],MATCH(0,IF(W$1=PTable[2-Test],COUNTIF(W$1:W25,PTable[3-Method]), \"\"),0)),\"\")","v":""},{"$f":"IFERROR(INDEX(PTable[3-Method],MATCH(0,IF(X$1=PTable[2-Test],COUNTIF(X$1:X25,PTable[3-Method]), \"\"),0)),\"\")","v":""},{"$f":"IFERROR(INDEX(PTable[3-Method],MATCH(0,IF(Y$1=PTable[2-Test],COUNTIF(Y$1:Y25,PTable[3-Method]), \"\"),0)),\"\")","v":""},{"$f":"IFERROR(INDEX(PTable[3-Method],MATCH(0,IF(Z$1=PTable[2-Test],COUNTIF(Z$1:Z25,PTable[3-Method]), \"\"),0)),\"\")","v":""},{"$f":"IFERROR(INDEX(PTable[3-Method],MATCH(0,IF(AA$1=PTable[2-Test],COUNTIF(AA$1:AA25,PTable[3-Method]), \"\"),0)),\"\")","v":""},{"$f":"IFERROR(INDEX(PTable[3-Method],MATCH(0,IF(AB$1=PTable[2-Test],COUNTIF(AB$1:AB25,PTable[3-Method]), \"\"),0)),\"\")","v":""},{"$f":"IFERROR(INDEX(PTable[3-Method],MATCH(0,IF(AC$1=PTable[2-Test],COUNTIF(AC$1:AC25,PTable[3-Method]), \"\"),0)),\"\")","v":""},{"$f":"IFERROR(INDEX(PTable[3-Method],MATCH(0,IF(AD$1=PTable[2-Test],COUNTIF(AD$1:AD25,PTable[3-Method]), \"\"),0)),\"\")","v":""},{"$f":"IFERROR(INDEX(PTable[3-Method],MATCH(0,IF(AE$1=PTable[2-Test],COUNTIF(AE$1:AE25,PTable[3-Method]), \"\"),0)),\"\")","v":""},{"$f":"IFERROR(INDEX(PTable[3-Method],MATCH(0,IF(AF$1=PTable[2-Test],COUNTIF(AF$1:AF25,PTable[3-Method]), \"\"),0)),\"\")","v":""},{"$f":"IFERROR(INDEX(PTable[3-Method],MATCH(0,IF(AG$1=PTable[2-Test],COUNTIF(AG$1:AG25,PTable[3-Method]), \"\"),0)),\"\")","v":""},{"$f":"IFERROR(INDEX(PTable[3-Method],MATCH(0,IF(AH$1=PTable[2-Test],COUNTIF(AH$1:AH25,PTable[3-Method]), \"\"),0)),\"\")","v":""},{"$f":"IFERROR(INDEX(PTable[3-Method],MATCH(0,IF(AI$1=PTable[2-Test],COUNTIF(AI$1:AI25,PTable[3-Method]), \"\"),0)),\"\")","v":""},{"$f":"IFERROR(INDEX(PTable[3-Method],MATCH(0,IF(AJ$1=PTable[2-Test],COUNTIF(AJ$1:AJ25,PTable[3-Method]), \"\"),0)),\"\")","v":""},{"$f":"IFERROR(INDEX(PTable[3-Method],MATCH(0,IF(AK$1=PTable[2-Test],COUNTIF(AK$1:AK25,PTable[3-Method]), \"\"),0)),\"\")","v":""},{"$f":"IFERROR(INDEX(PTable[3-Method],MATCH(0,IF(AL$1=PTable[2-Test],COUNTIF(AL$1:AL25,PTable[3-Method]), \"\"),0)),\"\")","v":""},{"$f":"IFERROR(INDEX(PTable[3-Method],MATCH(0,IF(AM$1=PTable[2-Test],COUNTIF(AM$1:AM25,PTable[3-Method]), \"\"),0)),\"\")","v":""},{"$f":"IFERROR(INDEX(PTable[3-Method],MATCH(0,IF(AN$1=PTable[2-Test],COUNTIF(AN$1:AN25,PTable[3-Method]), \"\"),0)),\"\")","v":""},{"$f":"IFERROR(INDEX(PTable[3-Method],MATCH(0,IF(AO$1=PTable[2-Test],COUNTIF(AO$1:AO25,PTable[3-Method]), \"\"),0)),\"\")","v":""},{"$f":"IFERROR(INDEX(PTable[3-Method],MATCH(0,IF(AP$1=PTable[2-Test],COUNTIF(AP$1:AP25,PTable[3-Method]), \"\"),0)),\"\")","v":""},{"$f":"IFERROR(INDEX(PTable[3-Method],MATCH(0,IF(AQ$1=PTable[2-Test],COUNTIF(AQ$1:AQ25,PTable[3-Method]), \"\"),0)),\"\")","v":""},{"$f":"IFERROR(INDEX(PTable[3-Method],MATCH(0,IF(AR$1=PTable[2-Test],COUNTIF(AR$1:AR25,PTable[3-Method]), \"\"),0)),\"\")","v":""},{"$f":"IFERROR(INDEX(PTable[3-Method],MATCH(0,IF(AS$1=PTable[2-Test],COUNTIF(AS$1:AS25,PTable[3-Method]), \"\"),0)),\"\")","v":""},{"$f":"IFERROR(INDEX(PTable[3-Method],MATCH(0,IF(AT$1=PTable[2-Test],COUNTIF(AT$1:AT25,PTable[3-Method]), \"\"),0)),\"\")","v":""},{"$f":"IFERROR(INDEX(PTable[3-Method],MATCH(0,IF(AU$1=PTable[2-Test],COUNTIF(AU$1:AU25,PTable[3-Method]), \"\"),0)),\"\")","v":""},{"$f":"IFERROR(INDEX(PTable[3-Method],MATCH(0,IF(AV$1=PTable[2-Test],COUNTIF(AV$1:AV25,PTable[3-Method]), \"\"),0)),\"\")","v":""},{"$f":"IFERROR(INDEX(PTable[3-Method],MATCH(0,IF(AW$1=PTable[2-Test],COUNTIF(AW$1:AW25,PTable[3-Method]), \"\"),0)),\"\")","v":""},{"$f":"IFERROR(INDEX(PTable[3-Method],MATCH(0,IF(AX$1=PTable[2-Test],COUNTIF(AX$1:AX25,PTable[3-Method]), \"\"),0)),\"\")","v":""},{"$f":"IFERROR(INDEX(PTable[3-Method],MATCH(0,IF(AY$1=PTable[2-Test],COUNTIF(AY$1:AY25,PTable[3-Method]), \"\"),0)),\"\")","v":""},{"$f":"IFERROR(INDEX(PTable[3-Method],MATCH(0,IF(AZ$1=PTable[2-Test],COUNTIF(AZ$1:AZ25,PTable[3-Method]), \"\"),0)),\"\")","v":""},{"$f":"IFERROR(INDEX(PTable[3-Method],MATCH(0,IF(BA$1=PTable[2-Test],COUNTIF(BA$1:BA25,PTable[3-Method]), \"\"),0)),\"\")","v":""},{"$f":"IFERROR(INDEX(PTable[3-Method],MATCH(0,IF(BB$1=PTable[2-Test],COUNTIF(BB$1:BB25,PTable[3-Method]), \"\"),0)),\"\")","v":""},{"$f":"IFERROR(INDEX(PTable[3-Method],MATCH(0,IF(BC$1=PTable[2-Test],COUNTIF(BC$1:BC25,PTable[3-Method]), \"\"),0)),\"\")","v":""},{"$f":"IFERROR(INDEX(PTable[3-Method],MATCH(0,IF(BD$1=PTable[2-Test],COUNTIF(BD$1:BD25,PTable[3-Method]), \"\"),0)),\"\")","v":""},{"$f":"IFERROR(INDEX(PTable[3-Method],MATCH(0,IF(BE$1=PTable[2-Test],COUNTIF(BE$1:BE25,PTable[3-Method]), \"\"),0)),\"\")","v":""},{"$f":"IFERROR(INDEX(PTable[3-Method],MATCH(0,IF(BF$1=PTable[2-Test],COUNTIF(BF$1:BF25,PTable[3-Method]), \"\"),0)),\"\")","v":""},{"$f":"IFERROR(INDEX(PTable[3-Method],MATCH(0,IF(BG$1=PTable[2-Test],COUNTIF(BG$1:BG25,PTable[3-Method]), \"\"),0)),\"\")","v":""},{"$f":"IFERROR(INDEX(PTable[3-Method],MATCH(0,IF(BH$1=PTable[2-Test],COUNTIF(BH$1:BH25,PTable[3-Method]), \"\"),0)),\"\")","v":""},{"$f":"IFERROR(INDEX(PTable[3-Method],MATCH(0,IF(BI$1=PTable[2-Test],COUNTIF(BI$1:BI25,PTable[3-Method]), \"\"),0)),\"\")","v":""},{"$f":"IFERROR(INDEX(PTable[3-Method],MATCH(0,IF(BJ$1=PTable[2-Test],COUNTIF(BJ$1:BJ25,PTable[3-Method]), \"\"),0)),\"\")","v":""},{"$f":"IFERROR(INDEX(PTable[3-Method],MATCH(0,IF(BK$1=PTable[2-Test],COUNTIF(BK$1:BK25,PTable[3-Method]), \"\"),0)),\"\")","v":""},{"$f":"IFERROR(INDEX(PTable[3-Method],MATCH(0,IF(BL$1=PTable[2-Test],COUNTIF(BL$1:BL25,PTable[3-Method]), \"\"),0)),\"\")","v":""},{"$f":"IFERROR(INDEX(PTable[3-Method],MATCH(0,IF(BM$1=PTable[2-Test],COUNTIF(BM$1:BM25,PTable[3-Method]), \"\"),0)),\"\")","v":"mUSsam"},{"$f":"IFERROR(INDEX(PTable[3-Method],MATCH(0,IF(BN$1=PTable[2-Test],COUNTIF(BN$1:BN25,PTable[3-Method]), \"\"),0)),\"\")","v":""},{"$f":"IFERROR(INDEX(PTable[3-Method],MATCH(0,IF(BO$1=PTable[2-Test],COUNTIF(BO$1:BO25,PTable[3-Method]), \"\"),0)),\"\")","v":""},{"$f":"IFERROR(INDEX(PTable[3-Method],MATCH(0,IF(BP$1=PTable[2-Test],COUNTIF(BP$1:BP25,PTable[3-Method]), \"\"),0)),\"\")","v":"mFDsam"},{"$f":"IFERROR(INDEX(PTable[3-Method],MATCH(0,IF(BQ$1=PTable[2-Test],COUNTIF(BQ$1:BQ25,PTable[3-Method]), \"\"),0)),\"\")","v":""},{"$f":"IFERROR(INDEX(PTable[3-Method],MATCH(0,IF(BR$1=PTable[2-Test],COUNTIF(BR$1:BR25,PTable[3-Method]), \"\"),0)),\"\")","v":""},{"$f":"IFERROR(INDEX(PTable[3-Method],MATCH(0,IF(BS$1=PTable[2-Test],COUNTIF(BS$1:BS25,PTable[3-Method]), \"\"),0)),\"\")","v":""},{"$f":"IFERROR(INDEX(PTable[3-Method],MATCH(0,IF(BT$1=PTable[2-Test],COUNTIF(BT$1:BT25,PTable[3-Method]), \"\"),0)),\"\")","v":""},{"$f":"IFERROR(INDEX(PTable[3-Method],MATCH(0,IF(BU$1=PTable[2-Test],COUNTIF(BU$1:BU25,PTable[3-Method]), \"\"),0)),\"\")","v":""},{"$f":"IFERROR(INDEX(PTable[3-Method],MATCH(0,IF(BV$1=PTable[2-Test],COUNTIF(BV$1:BV25,PTable[3-Method]), \"\"),0)),\"\")","v":""},{"$f":"IFERROR(INDEX(PTable[3-Method],MATCH(0,IF(BW$1=PTable[2-Test],COUNTIF(BW$1:BW25,PTable[3-Method]), \"\"),0)),\"\")","v":""},{"$f":"IFERROR(INDEX(PTable[3-Method],MATCH(0,IF(BX$1=PTable[2-Test],COUNTIF(BX$1:BX25,PTable[3-Method]), \"\"),0)),\"\")","v":""},{"$f":"IFERROR(INDEX(PTable[3-Method],MATCH(0,IF(BY$1=PTable[2-Test],COUNTIF(BY$1:BY25,PTable[3-Method]), \"\"),0)),\"\")","v":""},{"$f":"IFERROR(INDEX(PTable[3-Method],MATCH(0,IF(BZ$1=PTable[2-Test],COUNTIF(BZ$1:BZ25,PTable[3-Method]), \"\"),0)),\"\")","v":""},{"$f":"IFERROR(INDEX(PTable[3-Method],MATCH(0,IF(CA$1=PTable[2-Test],COUNTIF(CA$1:CA25,PTable[3-Method]), \"\"),0)),\"\")","v":""},{"$f":"IFERROR(INDEX(PTable[3-Method],MATCH(0,IF(CB$1=PTable[2-Test],COUNTIF(CB$1:CB25,PTable[3-Method]), \"\"),0)),\"\")","v":""},{"$f":"IFERROR(INDEX(PTable[3-Method],MATCH(0,IF(CC$1=PTable[2-Test],COUNTIF(CC$1:CC25,PTable[3-Method]), \"\"),0)),\"\")","v":""},{"$f":"IFERROR(INDEX(PTable[3-Method],MATCH(0,IF(CD$1=PTable[2-Test],COUNTIF(CD$1:CD25,PTable[3-Method]), \"\"),0)),\"\")","v":""},{"$f":"IFERROR(INDEX(PTable[3-Method],MATCH(0,IF(CE$1=PTable[2-Test],COUNTIF(CE$1:CE25,PTable[3-Method]), \"\"),0)),\"\")","v":""},{"$f":"IFERROR(INDEX(PTable[3-Method],MATCH(0,IF(CF$1=PTable[2-Test],COUNTIF(CF$1:CF25,PTable[3-Method]), \"\"),0)),\"\")","v":""},{"$f":"IFERROR(INDEX(PTable[3-Method],MATCH(0,IF(CG$1=PTable[2-Test],COUNTIF(CG$1:CG25,PTable[3-Method]), \"\"),0)),\"\")","v":""},{"$f":"IFERROR(INDEX(PTable[3-Method],MATCH(0,IF(CH$1=PTable[2-Test],COUNTIF(CH$1:CH25,PTable[3-Method]), \"\"),0)),\"\")","v":""},{"$f":"IFERROR(INDEX(PTable[3-Method],MATCH(0,IF(CI$1=PTable[2-Test],COUNTIF(CI$1:CI25,PTable[3-Method]), \"\"),0)),\"\")","v":""},{"$f":"IFERROR(INDEX(PTable[3-Method],MATCH(0,IF(CJ$1=PTable[2-Test],COUNTIF(CJ$1:CJ25,PTable[3-Method]), \"\"),0)),\"\")","v":""},{"$f":"IFERROR(INDEX(PTable[3-Method],MATCH(0,IF(CK$1=PTable[2-Test],COUNTIF(CK$1:CK25,PTable[3-Method]), \"\"),0)),\"\")","v":""},{"$f":"IFERROR(INDEX(PTable[3-Method],MATCH(0,IF(CL$1=PTable[2-Test],COUNTIF(CL$1:CL25,PTable[3-Method]), \"\"),0)),\"\")","v":""},{"$f":"IFERROR(INDEX(PTable[3-Method],MATCH(0,IF(CM$1=PTable[2-Test],COUNTIF(CM$1:CM25,PTable[3-Method]), \"\"),0)),\"\")","v":""},{"$f":"IFERROR(INDEX(PTable[3-Method],MATCH(0,IF(CN$1=PTable[2-Test],COUNTIF(CN$1:CN25,PTable[3-Method]), \"\"),0)),\"\")","v":""},{"$f":"IFERROR(INDEX(PTable[3-Method],MATCH(0,IF(CO$1=PTable[2-Test],COUNTIF(CO$1:CO25,PTable[3-Method]), \"\"),0)),\"\")","v":""},{"$f":"IFERROR(INDEX(PTable[3-Method],MATCH(0,IF(CP$1=PTable[2-Test],COUNTIF(CP$1:CP25,PTable[3-Method]), \"\"),0)),\"\")","v":""},{"$f":"IFERROR(INDEX(PTable[3-Method],MATCH(0,IF(CQ$1=PTable[2-Test],COUNTIF(CQ$1:CQ25,PTable[3-Method]), \"\"),0)),\"\")","v":""},{"$f":"IFERROR(INDEX(PTable[3-Method],MATCH(0,IF(CR$1=PTable[2-Test],COUNTIF(CR$1:CR25,PTable[3-Method]), \"\"),0)),\"\")","v":""},{"$f":"IFERROR(INDEX(PTable[3-Method],MATCH(0,IF(CS$1=PTable[2-Test],COUNTIF(CS$1:CS25,PTable[3-Method]), \"\"),0)),\"\")","v":""},{"$f":"IFERROR(INDEX(PTable[3-Method],MATCH(0,IF(CT$1=PTable[2-Test],COUNTIF(CT$1:CT25,PTable[3-Method]), \"\"),0)),\"\")","v":""},{"$f":"IFERROR(INDEX(PTable[3-Method],MATCH(0,IF(CU$1=PTable[2-Test],COUNTIF(CU$1:CU25,PTable[3-Method]), \"\"),0)),\"\")","v":""},{"$f":"IFERROR(INDEX(PTable[3-Method],MATCH(0,IF(CV$1=PTable[2-Test],COUNTIF(CV$1:CV25,PTable[3-Method]), \"\"),0)),\"\")","v":""},{"$f":"IFERROR(INDEX(PTable[3-Method],MATCH(0,IF(CW$1=PTable[2-Test],COUNTIF(CW$1:CW25,PTable[3-Method]), \"\"),0)),\"\")","v":""},{"$f":"IFERROR(INDEX(PTable[3-Method],MATCH(0,IF(CX$1=PTable[2-Test],COUNTIF(CX$1:CX25,PTable[3-Method]), \"\"),0)),\"\")","v":""},{"$f":"IFERROR(INDEX(PTable[3-Method],MATCH(0,IF(CY$1=PTable[2-Test],COUNTIF(CY$1:CY25,PTable[3-Method]), \"\"),0)),\"\")","v":""},{"$f":"IFERROR(INDEX(PTable[3-Method],MATCH(0,IF(CZ$1=PTable[2-Test],COUNTIF(CZ$1:CZ25,PTable[3-Method]), \"\"),0)),\"\")","v":""},{"$f":"IFERROR(INDEX(PTable[3-Method],MATCH(0,IF(DA$1=PTable[2-Test],COUNTIF(DA$1:DA25,PTable[3-Method]), \"\"),0)),\"\")","v":""},{"$f":"IFERROR(INDEX(PTable[3-Method],MATCH(0,IF(DB$1=PTable[2-Test],COUNTIF(DB$1:DB25,PTable[3-Method]), \"\"),0)),\"\")","v":""},{"$f":"IFERROR(INDEX(PTable[3-Method],MATCH(0,IF(DC$1=PTable[2-Test],COUNTIF(DC$1:DC25,PTable[3-Method]), \"\"),0)),\"\")","v":""},{"$f":"IFERROR(INDEX(PTable[3-Method],MATCH(0,IF(DD$1=PTable[2-Test],COUNTIF(DD$1:DD25,PTable[3-Method]), \"\"),0)),\"\")","v":""},{"$f":"IFERROR(INDEX(PTable[3-Method],MATCH(0,IF(DE$1=PTable[2-Test],COUNTIF(DE$1:DE25,PTable[3-Method]), \"\"),0)),\"\")","v":""},{"$f":"IFERROR(INDEX(PTable[3-Method],MATCH(0,IF(DF$1=PTable[2-Test],COUNTIF(DF$1:DF25,PTable[3-Method]), \"\"),0)),\"\")","v":""},{"$f":"IFERROR(INDEX(PTable[3-Method],MATCH(0,IF(DG$1=PTable[2-Test],COUNTIF(DG$1:DG25,PTable[3-Method]), \"\"),0)),\"\")","v":""},{"$f":"IFERROR(INDEX(PTable[3-Method],MATCH(0,IF(DH$1=PTable[2-Test],COUNTIF(DH$1:DH25,PTable[3-Method]), \"\"),0)),\"\")","v":""},{"$f":"IFERROR(INDEX(PTable[3-Method],MATCH(0,IF(DI$1=PTable[2-Test],COUNTIF(DI$1:DI25,PTable[3-Method]), \"\"),0)),\"\")","v":""},{"$f":"IFERROR(INDEX(PTable[3-Method],MATCH(0,IF(DJ$1=PTable[2-Test],COUNTIF(DJ$1:DJ25,PTable[3-Method]), \"\"),0)),\"\")","v":""}]
[null,{"$f":"IFERROR(INDEX(PTable[2-Test],MATCH(0,IF(B$1=PTable[1-Type],COUNTIF(B$1:B26,PTable[2-Test]), \"\"),0)),\"\")","v":"LMqn"},{"$f":"IFERROR(INDEX(PTable[2-Test],MATCH(0,IF(C$1=PTable[1-Type],COUNTIF(C$1:C26,PTable[2-Test]), \"\"),0)),\"\")","v":""},{"$f":"IFERROR(INDEX(PTable[2-Test],MATCH(0,IF(D$1=PTable[1-Type],COUNTIF(D$1:D26,PTable[2-Test]), \"\"),0)),\"\")","v":"TBA"},{"$f":"IFERROR(INDEX(PTable[2-Test],MATCH(0,IF(E$1=PTable[1-Type],COUNTIF(E$1:E26,PTable[2-Test]), \"\"),0)),\"\")","v":""},{"$f":"IFERROR(INDEX(PTable[2-Test],MATCH(0,IF(F$1=PTable[1-Type],COUNTIF(F$1:F26,PTable[2-Test]), \"\"),0)),\"\")","v":""},{"$f":"IFERROR(INDEX(PTable[3-Method],MATCH(0,IF(G$1=PTable[2-Test],COUNTIF(G$1:G26,PTable[3-Method]), \"\"),0)),\"\")","v":""},{"$f":"IFERROR(INDEX(PTable[3-Method],MATCH(0,IF(H$1=PTable[2-Test],COUNTIF(H$1:H26,PTable[3-Method]), \"\"),0)),\"\")","v":""},{"$f":"IFERROR(INDEX(PTable[3-Method],MATCH(0,IF(I$1=PTable[2-Test],COUNTIF(I$1:I26,PTable[3-Method]), \"\"),0)),\"\")","v":""},{"$f":"IFERROR(INDEX(PTable[3-Method],MATCH(0,IF(J$1=PTable[2-Test],COUNTIF(J$1:J26,PTable[3-Method]), \"\"),0)),\"\")","v":""},{"$f":"IFERROR(INDEX(PTable[3-Method],MATCH(0,IF(K$1=PTable[2-Test],COUNTIF(K$1:K26,PTable[3-Method]), \"\"),0)),\"\")","v":""},{"$f":"IFERROR(INDEX(PTable[3-Method],MATCH(0,IF(L$1=PTable[2-Test],COUNTIF(L$1:L26,PTable[3-Method]), \"\"),0)),\"\")","v":""},{"$f":"IFERROR(INDEX(PTable[3-Method],MATCH(0,IF(M$1=PTable[2-Test],COUNTIF(M$1:M26,PTable[3-Method]), \"\"),0)),\"\")","v":""},{"$f":"IFERROR(INDEX(PTable[3-Method],MATCH(0,IF(N$1=PTable[2-Test],COUNTIF(N$1:N26,PTable[3-Method]), \"\"),0)),\"\")","v":""},{"$f":"IFERROR(INDEX(PTable[3-Method],MATCH(0,IF(O$1=PTable[2-Test],COUNTIF(O$1:O26,PTable[3-Method]), \"\"),0)),\"\")","v":""},{"$f":"IFERROR(INDEX(PTable[3-Method],MATCH(0,IF(P$1=PTable[2-Test],COUNTIF(P$1:P26,PTable[3-Method]), \"\"),0)),\"\")","v":""},{"$f":"IFERROR(INDEX(PTable[3-Method],MATCH(0,IF(Q$1=PTable[2-Test],COUNTIF(Q$1:Q26,PTable[3-Method]), \"\"),0)),\"\")","v":""},{"$f":"IFERROR(INDEX(PTable[3-Method],MATCH(0,IF(R$1=PTable[2-Test],COUNTIF(R$1:R26,PTable[3-Method]), \"\"),0)),\"\")","v":""},{"$f":"IFERROR(INDEX(PTable[3-Method],MATCH(0,IF(S$1=PTable[2-Test],COUNTIF(S$1:S26,PTable[3-Method]), \"\"),0)),\"\")","v":""},{"$f":"IFERROR(INDEX(PTable[3-Method],MATCH(0,IF(T$1=PTable[2-Test],COUNTIF(T$1:T26,PTable[3-Method]), \"\"),0)),\"\")","v":""},{"$f":"IFERROR(INDEX(PTable[3-Method],MATCH(0,IF(U$1=PTable[2-Test],COUNTIF(U$1:U26,PTable[3-Method]), \"\"),0)),\"\")","v":""},{"$f":"IFERROR(INDEX(PTable[3-Method],MATCH(0,IF(V$1=PTable[2-Test],COUNTIF(V$1:V26,PTable[3-Method]), \"\"),0)),\"\")","v":""},{"$f":"IFERROR(INDEX(PTable[3-Method],MATCH(0,IF(W$1=PTable[2-Test],COUNTIF(W$1:W26,PTable[3-Method]), \"\"),0)),\"\")","v":""},{"$f":"IFERROR(INDEX(PTable[3-Method],MATCH(0,IF(X$1=PTable[2-Test],COUNTIF(X$1:X26,PTable[3-Method]), \"\"),0)),\"\")","v":""},{"$f":"IFERROR(INDEX(PTable[3-Method],MATCH(0,IF(Y$1=PTable[2-Test],COUNTIF(Y$1:Y26,PTable[3-Method]), \"\"),0)),\"\")","v":""},{"$f":"IFERROR(INDEX(PTable[3-Method],MATCH(0,IF(Z$1=PTable[2-Test],COUNTIF(Z$1:Z26,PTable[3-Method]), \"\"),0)),\"\")","v":""},{"$f":"IFERROR(INDEX(PTable[3-Method],MATCH(0,IF(AA$1=PTable[2-Test],COUNTIF(AA$1:AA26,PTable[3-Method]), \"\"),0)),\"\")","v":""},{"$f":"IFERROR(INDEX(PTable[3-Method],MATCH(0,IF(AB$1=PTable[2-Test],COUNTIF(AB$1:AB26,PTable[3-Method]), \"\"),0)),\"\")","v":""},{"$f":"IFERROR(INDEX(PTable[3-Method],MATCH(0,IF(AC$1=PTable[2-Test],COUNTIF(AC$1:AC26,PTable[3-Method]), \"\"),0)),\"\")","v":""},{"$f":"IFERROR(INDEX(PTable[3-Method],MATCH(0,IF(AD$1=PTable[2-Test],COUNTIF(AD$1:AD26,PTable[3-Method]), \"\"),0)),\"\")","v":""},{"$f":"IFERROR(INDEX(PTable[3-Method],MATCH(0,IF(AE$1=PTable[2-Test],COUNTIF(AE$1:AE26,PTable[3-Method]), \"\"),0)),\"\")","v":""},{"$f":"IFERROR(INDEX(PTable[3-Method],MATCH(0,IF(AF$1=PTable[2-Test],COUNTIF(AF$1:AF26,PTable[3-Method]), \"\"),0)),\"\")","v":""},{"$f":"IFERROR(INDEX(PTable[3-Method],MATCH(0,IF(AG$1=PTable[2-Test],COUNTIF(AG$1:AG26,PTable[3-Method]), \"\"),0)),\"\")","v":""},{"$f":"IFERROR(INDEX(PTable[3-Method],MATCH(0,IF(AH$1=PTable[2-Test],COUNTIF(AH$1:AH26,PTable[3-Method]), \"\"),0)),\"\")","v":""},{"$f":"IFERROR(INDEX(PTable[3-Method],MATCH(0,IF(AI$1=PTable[2-Test],COUNTIF(AI$1:AI26,PTable[3-Method]), \"\"),0)),\"\")","v":""},{"$f":"IFERROR(INDEX(PTable[3-Method],MATCH(0,IF(AJ$1=PTable[2-Test],COUNTIF(AJ$1:AJ26,PTable[3-Method]), \"\"),0)),\"\")","v":""},{"$f":"IFERROR(INDEX(PTable[3-Method],MATCH(0,IF(AK$1=PTable[2-Test],COUNTIF(AK$1:AK26,PTable[3-Method]), \"\"),0)),\"\")","v":""},{"$f":"IFERROR(INDEX(PTable[3-Method],MATCH(0,IF(AL$1=PTable[2-Test],COUNTIF(AL$1:AL26,PTable[3-Method]), \"\"),0)),\"\")","v":""},{"$f":"IFERROR(INDEX(PTable[3-Method],MATCH(0,IF(AM$1=PTable[2-Test],COUNTIF(AM$1:AM26,PTable[3-Method]), \"\"),0)),\"\")","v":""},{"$f":"IFERROR(INDEX(PTable[3-Method],MATCH(0,IF(AN$1=PTable[2-Test],COUNTIF(AN$1:AN26,PTable[3-Method]), \"\"),0)),\"\")","v":""},{"$f":"IFERROR(INDEX(PTable[3-Method],MATCH(0,IF(AO$1=PTable[2-Test],COUNTIF(AO$1:AO26,PTable[3-Method]), \"\"),0)),\"\")","v":""},{"$f":"IFERROR(INDEX(PTable[3-Method],MATCH(0,IF(AP$1=PTable[2-Test],COUNTIF(AP$1:AP26,PTable[3-Method]), \"\"),0)),\"\")","v":""},{"$f":"IFERROR(INDEX(PTable[3-Method],MATCH(0,IF(AQ$1=PTable[2-Test],COUNTIF(AQ$1:AQ26,PTable[3-Method]), \"\"),0)),\"\")","v":""},{"$f":"IFERROR(INDEX(PTable[3-Method],MATCH(0,IF(AR$1=PTable[2-Test],COUNTIF(AR$1:AR26,PTable[3-Method]), \"\"),0)),\"\")","v":""},{"$f":"IFERROR(INDEX(PTable[3-Method],MATCH(0,IF(AS$1=PTable[2-Test],COUNTIF(AS$1:AS26,PTable[3-Method]), \"\"),0)),\"\")","v":""},{"$f":"IFERROR(INDEX(PTable[3-Method],MATCH(0,IF(AT$1=PTable[2-Test],COUNTIF(AT$1:AT26,PTable[3-Method]), \"\"),0)),\"\")","v":""},{"$f":"IFERROR(INDEX(PTable[3-Method],MATCH(0,IF(AU$1=PTable[2-Test],COUNTIF(AU$1:AU26,PTable[3-Method]), \"\"),0)),\"\")","v":""},{"$f":"IFERROR(INDEX(PTable[3-Method],MATCH(0,IF(AV$1=PTable[2-Test],COUNTIF(AV$1:AV26,PTable[3-Method]), \"\"),0)),\"\")","v":""},{"$f":"IFERROR(INDEX(PTable[3-Method],MATCH(0,IF(AW$1=PTable[2-Test],COUNTIF(AW$1:AW26,PTable[3-Method]), \"\"),0)),\"\")","v":""},{"$f":"IFERROR(INDEX(PTable[3-Method],MATCH(0,IF(AX$1=PTable[2-Test],COUNTIF(AX$1:AX26,PTable[3-Method]), \"\"),0)),\"\")","v":""},{"$f":"IFERROR(INDEX(PTable[3-Method],MATCH(0,IF(AY$1=PTable[2-Test],COUNTIF(AY$1:AY26,PTable[3-Method]), \"\"),0)),\"\")","v":""},{"$f":"IFERROR(INDEX(PTable[3-Method],MATCH(0,IF(AZ$1=PTable[2-Test],COUNTIF(AZ$1:AZ26,PTable[3-Method]), \"\"),0)),\"\")","v":""},{"$f":"IFERROR(INDEX(PTable[3-Method],MATCH(0,IF(BA$1=PTable[2-Test],COUNTIF(BA$1:BA26,PTable[3-Method]), \"\"),0)),\"\")","v":""},{"$f":"IFERROR(INDEX(PTable[3-Method],MATCH(0,IF(BB$1=PTable[2-Test],COUNTIF(BB$1:BB26,PTable[3-Method]), \"\"),0)),\"\")","v":""},{"$f":"IFERROR(INDEX(PTable[3-Method],MATCH(0,IF(BC$1=PTable[2-Test],COUNTIF(BC$1:BC26,PTable[3-Method]), \"\"),0)),\"\")","v":""},{"$f":"IFERROR(INDEX(PTable[3-Method],MATCH(0,IF(BD$1=PTable[2-Test],COUNTIF(BD$1:BD26,PTable[3-Method]), \"\"),0)),\"\")","v":""},{"$f":"IFERROR(INDEX(PTable[3-Method],MATCH(0,IF(BE$1=PTable[2-Test],COUNTIF(BE$1:BE26,PTable[3-Method]), \"\"),0)),\"\")","v":""},{"$f":"IFERROR(INDEX(PTable[3-Method],MATCH(0,IF(BF$1=PTable[2-Test],COUNTIF(BF$1:BF26,PTable[3-Method]), \"\"),0)),\"\")","v":""},{"$f":"IFERROR(INDEX(PTable[3-Method],MATCH(0,IF(BG$1=PTable[2-Test],COUNTIF(BG$1:BG26,PTable[3-Method]), \"\"),0)),\"\")","v":""},{"$f":"IFERROR(INDEX(PTable[3-Method],MATCH(0,IF(BH$1=PTable[2-Test],COUNTIF(BH$1:BH26,PTable[3-Method]), \"\"),0)),\"\")","v":""},{"$f":"IFERROR(INDEX(PTable[3-Method],MATCH(0,IF(BI$1=PTable[2-Test],COUNTIF(BI$1:BI26,PTable[3-Method]), \"\"),0)),\"\")","v":""},{"$f":"IFERROR(INDEX(PTable[3-Method],MATCH(0,IF(BJ$1=PTable[2-Test],COUNTIF(BJ$1:BJ26,PTable[3-Method]), \"\"),0)),\"\")","v":""},{"$f":"IFERROR(INDEX(PTable[3-Method],MATCH(0,IF(BK$1=PTable[2-Test],COUNTIF(BK$1:BK26,PTable[3-Method]), \"\"),0)),\"\")","v":""},{"$f":"IFERROR(INDEX(PTable[3-Method],MATCH(0,IF(BL$1=PTable[2-Test],COUNTIF(BL$1:BL26,PTable[3-Method]), \"\"),0)),\"\")","v":""},{"$f":"IFERROR(INDEX(PTable[3-Method],MATCH(0,IF(BM$1=PTable[2-Test],COUNTIF(BM$1:BM26,PTable[3-Method]), \"\"),0)),\"\")","v":"PCR100g"},{"$f":"IFERROR(INDEX(PTable[3-Method],MATCH(0,IF(BN$1=PTable[2-Test],COUNTIF(BN$1:BN26,PTable[3-Method]), \"\"),0)),\"\")","v":""},{"$f":"IFERROR(INDEX(PTable[3-Method],MATCH(0,IF(BO$1=PTable[2-Test],COUNTIF(BO$1:BO26,PTable[3-Method]), \"\"),0)),\"\")","v":""},{"$f":"IFERROR(INDEX(PTable[3-Method],MATCH(0,IF(BP$1=PTable[2-Test],COUNTIF(BP$1:BP26,PTable[3-Method]), \"\"),0)),\"\")","v":"PCR100g"},{"$f":"IFERROR(INDEX(PTable[3-Method],MATCH(0,IF(BQ$1=PTable[2-Test],COUNTIF(BQ$1:BQ26,PTable[3-Method]), \"\"),0)),\"\")","v":""},{"$f":"IFERROR(INDEX(PTable[3-Method],MATCH(0,IF(BR$1=PTable[2-Test],COUNTIF(BR$1:BR26,PTable[3-Method]), \"\"),0)),\"\")","v":""},{"$f":"IFERROR(INDEX(PTable[3-Method],MATCH(0,IF(BS$1=PTable[2-Test],COUNTIF(BS$1:BS26,PTable[3-Method]), \"\"),0)),\"\")","v":""},{"$f":"IFERROR(INDEX(PTable[3-Method],MATCH(0,IF(BT$1=PTable[2-Test],COUNTIF(BT$1:BT26,PTable[3-Method]), \"\"),0)),\"\")","v":""},{"$f":"IFERROR(INDEX(PTable[3-Method],MATCH(0,IF(BU$1=PTable[2-Test],COUNTIF(BU$1:BU26,PTable[3-Method]), \"\"),0)),\"\")","v":""},{"$f":"IFERROR(INDEX(PTable[3-Method],MATCH(0,IF(BV$1=PTable[2-Test],COUNTIF(BV$1:BV26,PTable[3-Method]), \"\"),0)),\"\")","v":""},{"$f":"IFERROR(INDEX(PTable[3-Method],MATCH(0,IF(BW$1=PTable[2-Test],COUNTIF(BW$1:BW26,PTable[3-Method]), \"\"),0)),\"\")","v":""},{"$f":"IFERROR(INDEX(PTable[3-Method],MATCH(0,IF(BX$1=PTable[2-Test],COUNTIF(BX$1:BX26,PTable[3-Method]), \"\"),0)),\"\")","v":""},{"$f":"IFERROR(INDEX(PTable[3-Method],MATCH(0,IF(BY$1=PTable[2-Test],COUNTIF(BY$1:BY26,PTable[3-Method]), \"\"),0)),\"\")","v":""},{"$f":"IFERROR(INDEX(PTable[3-Method],MATCH(0,IF(BZ$1=PTable[2-Test],COUNTIF(BZ$1:BZ26,PTable[3-Method]), \"\"),0)),\"\")","v":""},{"$f":"IFERROR(INDEX(PTable[3-Method],MATCH(0,IF(CA$1=PTable[2-Test],COUNTIF(CA$1:CA26,PTable[3-Method]), \"\"),0)),\"\")","v":""},{"$f":"IFERROR(INDEX(PTable[3-Method],MATCH(0,IF(CB$1=PTable[2-Test],COUNTIF(CB$1:CB26,PTable[3-Method]), \"\"),0)),\"\")","v":""},{"$f":"IFERROR(INDEX(PTable[3-Method],MATCH(0,IF(CC$1=PTable[2-Test],COUNTIF(CC$1:CC26,PTable[3-Method]), \"\"),0)),\"\")","v":""},{"$f":"IFERROR(INDEX(PTable[3-Method],MATCH(0,IF(CD$1=PTable[2-Test],COUNTIF(CD$1:CD26,PTable[3-Method]), \"\"),0)),\"\")","v":""},{"$f":"IFERROR(INDEX(PTable[3-Method],MATCH(0,IF(CE$1=PTable[2-Test],COUNTIF(CE$1:CE26,PTable[3-Method]), \"\"),0)),\"\")","v":""},{"$f":"IFERROR(INDEX(PTable[3-Method],MATCH(0,IF(CF$1=PTable[2-Test],COUNTIF(CF$1:CF26,PTable[3-Method]), \"\"),0)),\"\")","v":""},{"$f":"IFERROR(INDEX(PTable[3-Method],MATCH(0,IF(CG$1=PTable[2-Test],COUNTIF(CG$1:CG26,PTable[3-Method]), \"\"),0)),\"\")","v":""},{"$f":"IFERROR(INDEX(PTable[3-Method],MATCH(0,IF(CH$1=PTable[2-Test],COUNTIF(CH$1:CH26,PTable[3-Method]), \"\"),0)),\"\")","v":""},{"$f":"IFERROR(INDEX(PTable[3-Method],MATCH(0,IF(CI$1=PTable[2-Test],COUNTIF(CI$1:CI26,PTable[3-Method]), \"\"),0)),\"\")","v":""},{"$f":"IFERROR(INDEX(PTable[3-Method],MATCH(0,IF(CJ$1=PTable[2-Test],COUNTIF(CJ$1:CJ26,PTable[3-Method]), \"\"),0)),\"\")","v":""},{"$f":"IFERROR(INDEX(PTable[3-Method],MATCH(0,IF(CK$1=PTable[2-Test],COUNTIF(CK$1:CK26,PTable[3-Method]), \"\"),0)),\"\")","v":""},{"$f":"IFERROR(INDEX(PTable[3-Method],MATCH(0,IF(CL$1=PTable[2-Test],COUNTIF(CL$1:CL26,PTable[3-Method]), \"\"),0)),\"\")","v":""},{"$f":"IFERROR(INDEX(PTable[3-Method],MATCH(0,IF(CM$1=PTable[2-Test],COUNTIF(CM$1:CM26,PTable[3-Method]), \"\"),0)),\"\")","v":""},{"$f":"IFERROR(INDEX(PTable[3-Method],MATCH(0,IF(CN$1=PTable[2-Test],COUNTIF(CN$1:CN26,PTable[3-Method]), \"\"),0)),\"\")","v":""},{"$f":"IFERROR(INDEX(PTable[3-Method],MATCH(0,IF(CO$1=PTable[2-Test],COUNTIF(CO$1:CO26,PTable[3-Method]), \"\"),0)),\"\")","v":""},{"$f":"IFERROR(INDEX(PTable[3-Method],MATCH(0,IF(CP$1=PTable[2-Test],COUNTIF(CP$1:CP26,PTable[3-Method]), \"\"),0)),\"\")","v":""},{"$f":"IFERROR(INDEX(PTable[3-Method],MATCH(0,IF(CQ$1=PTable[2-Test],COUNTIF(CQ$1:CQ26,PTable[3-Method]), \"\"),0)),\"\")","v":""},{"$f":"IFERROR(INDEX(PTable[3-Method],MATCH(0,IF(CR$1=PTable[2-Test],COUNTIF(CR$1:CR26,PTable[3-Method]), \"\"),0)),\"\")","v":""},{"$f":"IFERROR(INDEX(PTable[3-Method],MATCH(0,IF(CS$1=PTable[2-Test],COUNTIF(CS$1:CS26,PTable[3-Method]), \"\"),0)),\"\")","v":""},{"$f":"IFERROR(INDEX(PTable[3-Method],MATCH(0,IF(CT$1=PTable[2-Test],COUNTIF(CT$1:CT26,PTable[3-Method]), \"\"),0)),\"\")","v":""},{"$f":"IFERROR(INDEX(PTable[3-Method],MATCH(0,IF(CU$1=PTable[2-Test],COUNTIF(CU$1:CU26,PTable[3-Method]), \"\"),0)),\"\")","v":""},{"$f":"IFERROR(INDEX(PTable[3-Method],MATCH(0,IF(CV$1=PTable[2-Test],COUNTIF(CV$1:CV26,PTable[3-Method]), \"\"),0)),\"\")","v":""},{"$f":"IFERROR(INDEX(PTable[3-Method],MATCH(0,IF(CW$1=PTable[2-Test],COUNTIF(CW$1:CW26,PTable[3-Method]), \"\"),0)),\"\")","v":""},{"$f":"IFERROR(INDEX(PTable[3-Method],MATCH(0,IF(CX$1=PTable[2-Test],COUNTIF(CX$1:CX26,PTable[3-Method]), \"\"),0)),\"\")","v":""},{"$f":"IFERROR(INDEX(PTable[3-Method],MATCH(0,IF(CY$1=PTable[2-Test],COUNTIF(CY$1:CY26,PTable[3-Method]), \"\"),0)),\"\")","v":""},{"$f":"IFERROR(INDEX(PTable[3-Method],MATCH(0,IF(CZ$1=PTable[2-Test],COUNTIF(CZ$1:CZ26,PTable[3-Method]), \"\"),0)),\"\")","v":""},{"$f":"IFERROR(INDEX(PTable[3-Method],MATCH(0,IF(DA$1=PTable[2-Test],COUNTIF(DA$1:DA26,PTable[3-Method]), \"\"),0)),\"\")","v":""},{"$f":"IFERROR(INDEX(PTable[3-Method],MATCH(0,IF(DB$1=PTable[2-Test],COUNTIF(DB$1:DB26,PTable[3-Method]), \"\"),0)),\"\")","v":""},{"$f":"IFERROR(INDEX(PTable[3-Method],MATCH(0,IF(DC$1=PTable[2-Test],COUNTIF(DC$1:DC26,PTable[3-Method]), \"\"),0)),\"\")","v":""},{"$f":"IFERROR(INDEX(PTable[3-Method],MATCH(0,IF(DD$1=PTable[2-Test],COUNTIF(DD$1:DD26,PTable[3-Method]), \"\"),0)),\"\")","v":""},{"$f":"IFERROR(INDEX(PTable[3-Method],MATCH(0,IF(DE$1=PTable[2-Test],COUNTIF(DE$1:DE26,PTable[3-Method]), \"\"),0)),\"\")","v":""},{"$f":"IFERROR(INDEX(PTable[3-Method],MATCH(0,IF(DF$1=PTable[2-Test],COUNTIF(DF$1:DF26,PTable[3-Method]), \"\"),0)),\"\")","v":""},{"$f":"IFERROR(INDEX(PTable[3-Method],MATCH(0,IF(DG$1=PTable[2-Test],COUNTIF(DG$1:DG26,PTable[3-Method]), \"\"),0)),\"\")","v":""},{"$f":"IFERROR(INDEX(PTable[3-Method],MATCH(0,IF(DH$1=PTable[2-Test],COUNTIF(DH$1:DH26,PTable[3-Method]), \"\"),0)),\"\")","v":""},{"$f":"IFERROR(INDEX(PTable[3-Method],MATCH(0,IF(DI$1=PTable[2-Test],COUNTIF(DI$1:DI26,PTable[3-Method]), \"\"),0)),\"\")","v":""},{"$f":"IFERROR(INDEX(PTable[3-Method],MATCH(0,IF(DJ$1=PTable[2-Test],COUNTIF(DJ$1:DJ26,PTable[3-Method]), \"\"),0)),\"\")","v":""}]
[null,{"$f":"IFERROR(INDEX(PTable[2-Test],MATCH(0,IF(B$1=PTable[1-Type],COUNTIF(B$1:B27,PTable[2-Test]), \"\"),0)),\"\")","v":"M"},{"$f":"IFERROR(INDEX(PTable[2-Test],MATCH(0,IF(C$1=PTable[1-Type],COUNTIF(C$1:C27,PTable[2-Test]), \"\"),0)),\"\")","v":""},{"$f":"IFERROR(INDEX(PTable[2-Test],MATCH(0,IF(D$1=PTable[1-Type],COUNTIF(D$1:D27,PTable[2-Test]), \"\"),0)),\"\")","v":"TSS"},{"$f":"IFERROR(INDEX(PTable[2-Test],MATCH(0,IF(E$1=PTable[1-Type],COUNTIF(E$1:E27,PTable[2-Test]), \"\"),0)),\"\")","v":""},{"$f":"IFERROR(INDEX(PTable[2-Test],MATCH(0,IF(F$1=PTable[1-Type],COUNTIF(F$1:F27,PTable[2-Test]), \"\"),0)),\"\")","v":""},{"$f":"IFERROR(INDEX(PTable[3-Method],MATCH(0,IF(G$1=PTable[2-Test],COUNTIF(G$1:G27,PTable[3-Method]), \"\"),0)),\"\")","v":""},{"$f":"IFERROR(INDEX(PTable[3-Method],MATCH(0,IF(H$1=PTable[2-Test],COUNTIF(H$1:H27,PTable[3-Method]), \"\"),0)),\"\")","v":""},{"$f":"IFERROR(INDEX(PTable[3-Method],MATCH(0,IF(I$1=PTable[2-Test],COUNTIF(I$1:I27,PTable[3-Method]), \"\"),0)),\"\")","v":""},{"$f":"IFERROR(INDEX(PTable[3-Method],MATCH(0,IF(J$1=PTable[2-Test],COUNTIF(J$1:J27,PTable[3-Method]), \"\"),0)),\"\")","v":""},{"$f":"IFERROR(INDEX(PTable[3-Method],MATCH(0,IF(K$1=PTable[2-Test],COUNTIF(K$1:K27,PTable[3-Method]), \"\"),0)),\"\")","v":""},{"$f":"IFERROR(INDEX(PTable[3-Method],MATCH(0,IF(L$1=PTable[2-Test],COUNTIF(L$1:L27,PTable[3-Method]), \"\"),0)),\"\")","v":""},{"$f":"IFERROR(INDEX(PTable[3-Method],MATCH(0,IF(M$1=PTable[2-Test],COUNTIF(M$1:M27,PTable[3-Method]), \"\"),0)),\"\")","v":""},{"$f":"IFERROR(INDEX(PTable[3-Method],MATCH(0,IF(N$1=PTable[2-Test],COUNTIF(N$1:N27,PTable[3-Method]), \"\"),0)),\"\")","v":""},{"$f":"IFERROR(INDEX(PTable[3-Method],MATCH(0,IF(O$1=PTable[2-Test],COUNTIF(O$1:O27,PTable[3-Method]), \"\"),0)),\"\")","v":""},{"$f":"IFERROR(INDEX(PTable[3-Method],MATCH(0,IF(P$1=PTable[2-Test],COUNTIF(P$1:P27,PTable[3-Method]), \"\"),0)),\"\")","v":""},{"$f":"IFERROR(INDEX(PTable[3-Method],MATCH(0,IF(Q$1=PTable[2-Test],COUNTIF(Q$1:Q27,PTable[3-Method]), \"\"),0)),\"\")","v":""},{"$f":"IFERROR(INDEX(PTable[3-Method],MATCH(0,IF(R$1=PTable[2-Test],COUNTIF(R$1:R27,PTable[3-Method]), \"\"),0)),\"\")","v":""},{"$f":"IFERROR(INDEX(PTable[3-Method],MATCH(0,IF(S$1=PTable[2-Test],COUNTIF(S$1:S27,PTable[3-Method]), \"\"),0)),\"\")","v":""},{"$f":"IFERROR(INDEX(PTable[3-Method],MATCH(0,IF(T$1=PTable[2-Test],COUNTIF(T$1:T27,PTable[3-Method]), \"\"),0)),\"\")","v":""},{"$f":"IFERROR(INDEX(PTable[3-Method],MATCH(0,IF(U$1=PTable[2-Test],COUNTIF(U$1:U27,PTable[3-Method]), \"\"),0)),\"\")","v":""},{"$f":"IFERROR(INDEX(PTable[3-Method],MATCH(0,IF(V$1=PTable[2-Test],COUNTIF(V$1:V27,PTable[3-Method]), \"\"),0)),\"\")","v":""},{"$f":"IFERROR(INDEX(PTable[3-Method],MATCH(0,IF(W$1=PTable[2-Test],COUNTIF(W$1:W27,PTable[3-Method]), \"\"),0)),\"\")","v":""},{"$f":"IFERROR(INDEX(PTable[3-Method],MATCH(0,IF(X$1=PTable[2-Test],COUNTIF(X$1:X27,PTable[3-Method]), \"\"),0)),\"\")","v":""},{"$f":"IFERROR(INDEX(PTable[3-Method],MATCH(0,IF(Y$1=PTable[2-Test],COUNTIF(Y$1:Y27,PTable[3-Method]), \"\"),0)),\"\")","v":""},{"$f":"IFERROR(INDEX(PTable[3-Method],MATCH(0,IF(Z$1=PTable[2-Test],COUNTIF(Z$1:Z27,PTable[3-Method]), \"\"),0)),\"\")","v":""},{"$f":"IFERROR(INDEX(PTable[3-Method],MATCH(0,IF(AA$1=PTable[2-Test],COUNTIF(AA$1:AA27,PTable[3-Method]), \"\"),0)),\"\")","v":""},{"$f":"IFERROR(INDEX(PTable[3-Method],MATCH(0,IF(AB$1=PTable[2-Test],COUNTIF(AB$1:AB27,PTable[3-Method]), \"\"),0)),\"\")","v":""},{"$f":"IFERROR(INDEX(PTable[3-Method],MATCH(0,IF(AC$1=PTable[2-Test],COUNTIF(AC$1:AC27,PTable[3-Method]), \"\"),0)),\"\")","v":""},{"$f":"IFERROR(INDEX(PTable[3-Method],MATCH(0,IF(AD$1=PTable[2-Test],COUNTIF(AD$1:AD27,PTable[3-Method]), \"\"),0)),\"\")","v":""},{"$f":"IFERROR(INDEX(PTable[3-Method],MATCH(0,IF(AE$1=PTable[2-Test],COUNTIF(AE$1:AE27,PTable[3-Method]), \"\"),0)),\"\")","v":""},{"$f":"IFERROR(INDEX(PTable[3-Method],MATCH(0,IF(AF$1=PTable[2-Test],COUNTIF(AF$1:AF27,PTable[3-Method]), \"\"),0)),\"\")","v":""},{"$f":"IFERROR(INDEX(PTable[3-Method],MATCH(0,IF(AG$1=PTable[2-Test],COUNTIF(AG$1:AG27,PTable[3-Method]), \"\"),0)),\"\")","v":""},{"$f":"IFERROR(INDEX(PTable[3-Method],MATCH(0,IF(AH$1=PTable[2-Test],COUNTIF(AH$1:AH27,PTable[3-Method]), \"\"),0)),\"\")","v":""},{"$f":"IFERROR(INDEX(PTable[3-Method],MATCH(0,IF(AI$1=PTable[2-Test],COUNTIF(AI$1:AI27,PTable[3-Method]), \"\"),0)),\"\")","v":""},{"$f":"IFERROR(INDEX(PTable[3-Method],MATCH(0,IF(AJ$1=PTable[2-Test],COUNTIF(AJ$1:AJ27,PTable[3-Method]), \"\"),0)),\"\")","v":""},{"$f":"IFERROR(INDEX(PTable[3-Method],MATCH(0,IF(AK$1=PTable[2-Test],COUNTIF(AK$1:AK27,PTable[3-Method]), \"\"),0)),\"\")","v":""},{"$f":"IFERROR(INDEX(PTable[3-Method],MATCH(0,IF(AL$1=PTable[2-Test],COUNTIF(AL$1:AL27,PTable[3-Method]), \"\"),0)),\"\")","v":""},{"$f":"IFERROR(INDEX(PTable[3-Method],MATCH(0,IF(AM$1=PTable[2-Test],COUNTIF(AM$1:AM27,PTable[3-Method]), \"\"),0)),\"\")","v":""},{"$f":"IFERROR(INDEX(PTable[3-Method],MATCH(0,IF(AN$1=PTable[2-Test],COUNTIF(AN$1:AN27,PTable[3-Method]), \"\"),0)),\"\")","v":""},{"$f":"IFERROR(INDEX(PTable[3-Method],MATCH(0,IF(AO$1=PTable[2-Test],COUNTIF(AO$1:AO27,PTable[3-Method]), \"\"),0)),\"\")","v":""},{"$f":"IFERROR(INDEX(PTable[3-Method],MATCH(0,IF(AP$1=PTable[2-Test],COUNTIF(AP$1:AP27,PTable[3-Method]), \"\"),0)),\"\")","v":""},{"$f":"IFERROR(INDEX(PTable[3-Method],MATCH(0,IF(AQ$1=PTable[2-Test],COUNTIF(AQ$1:AQ27,PTable[3-Method]), \"\"),0)),\"\")","v":""},{"$f":"IFERROR(INDEX(PTable[3-Method],MATCH(0,IF(AR$1=PTable[2-Test],COUNTIF(AR$1:AR27,PTable[3-Method]), \"\"),0)),\"\")","v":""},{"$f":"IFERROR(INDEX(PTable[3-Method],MATCH(0,IF(AS$1=PTable[2-Test],COUNTIF(AS$1:AS27,PTable[3-Method]), \"\"),0)),\"\")","v":""},{"$f":"IFERROR(INDEX(PTable[3-Method],MATCH(0,IF(AT$1=PTable[2-Test],COUNTIF(AT$1:AT27,PTable[3-Method]), \"\"),0)),\"\")","v":""},{"$f":"IFERROR(INDEX(PTable[3-Method],MATCH(0,IF(AU$1=PTable[2-Test],COUNTIF(AU$1:AU27,PTable[3-Method]), \"\"),0)),\"\")","v":""},{"$f":"IFERROR(INDEX(PTable[3-Method],MATCH(0,IF(AV$1=PTable[2-Test],COUNTIF(AV$1:AV27,PTable[3-Method]), \"\"),0)),\"\")","v":""},{"$f":"IFERROR(INDEX(PTable[3-Method],MATCH(0,IF(AW$1=PTable[2-Test],COUNTIF(AW$1:AW27,PTable[3-Method]), \"\"),0)),\"\")","v":""},{"$f":"IFERROR(INDEX(PTable[3-Method],MATCH(0,IF(AX$1=PTable[2-Test],COUNTIF(AX$1:AX27,PTable[3-Method]), \"\"),0)),\"\")","v":""},{"$f":"IFERROR(INDEX(PTable[3-Method],MATCH(0,IF(AY$1=PTable[2-Test],COUNTIF(AY$1:AY27,PTable[3-Method]), \"\"),0)),\"\")","v":""},{"$f":"IFERROR(INDEX(PTable[3-Method],MATCH(0,IF(AZ$1=PTable[2-Test],COUNTIF(AZ$1:AZ27,PTable[3-Method]), \"\"),0)),\"\")","v":""},{"$f":"IFERROR(INDEX(PTable[3-Method],MATCH(0,IF(BA$1=PTable[2-Test],COUNTIF(BA$1:BA27,PTable[3-Method]), \"\"),0)),\"\")","v":""},{"$f":"IFERROR(INDEX(PTable[3-Method],MATCH(0,IF(BB$1=PTable[2-Test],COUNTIF(BB$1:BB27,PTable[3-Method]), \"\"),0)),\"\")","v":""},{"$f":"IFERROR(INDEX(PTable[3-Method],MATCH(0,IF(BC$1=PTable[2-Test],COUNTIF(BC$1:BC27,PTable[3-Method]), \"\"),0)),\"\")","v":""},{"$f":"IFERROR(INDEX(PTable[3-Method],MATCH(0,IF(BD$1=PTable[2-Test],COUNTIF(BD$1:BD27,PTable[3-Method]), \"\"),0)),\"\")","v":""},{"$f":"IFERROR(INDEX(PTable[3-Method],MATCH(0,IF(BE$1=PTable[2-Test],COUNTIF(BE$1:BE27,PTable[3-Method]), \"\"),0)),\"\")","v":""},{"$f":"IFERROR(INDEX(PTable[3-Method],MATCH(0,IF(BF$1=PTable[2-Test],COUNTIF(BF$1:BF27,PTable[3-Method]), \"\"),0)),\"\")","v":""},{"$f":"IFERROR(INDEX(PTable[3-Method],MATCH(0,IF(BG$1=PTable[2-Test],COUNTIF(BG$1:BG27,PTable[3-Method]), \"\"),0)),\"\")","v":""},{"$f":"IFERROR(INDEX(PTable[3-Method],MATCH(0,IF(BH$1=PTable[2-Test],COUNTIF(BH$1:BH27,PTable[3-Method]), \"\"),0)),\"\")","v":""},{"$f":"IFERROR(INDEX(PTable[3-Method],MATCH(0,IF(BI$1=PTable[2-Test],COUNTIF(BI$1:BI27,PTable[3-Method]), \"\"),0)),\"\")","v":""},{"$f":"IFERROR(INDEX(PTable[3-Method],MATCH(0,IF(BJ$1=PTable[2-Test],COUNTIF(BJ$1:BJ27,PTable[3-Method]), \"\"),0)),\"\")","v":""},{"$f":"IFERROR(INDEX(PTable[3-Method],MATCH(0,IF(BK$1=PTable[2-Test],COUNTIF(BK$1:BK27,PTable[3-Method]), \"\"),0)),\"\")","v":""},{"$f":"IFERROR(INDEX(PTable[3-Method],MATCH(0,IF(BL$1=PTable[2-Test],COUNTIF(BL$1:BL27,PTable[3-Method]), \"\"),0)),\"\")","v":""},{"$f":"IFERROR(INDEX(PTable[3-Method],MATCH(0,IF(BM$1=PTable[2-Test],COUNTIF(BM$1:BM27,PTable[3-Method]), \"\"),0)),\"\")","v":"PCR125g"},{"$f":"IFERROR(INDEX(PTable[3-Method],MATCH(0,IF(BN$1=PTable[2-Test],COUNTIF(BN$1:BN27,PTable[3-Method]), \"\"),0)),\"\")","v":""},{"$f":"IFERROR(INDEX(PTable[3-Method],MATCH(0,IF(BO$1=PTable[2-Test],COUNTIF(BO$1:BO27,PTable[3-Method]), \"\"),0)),\"\")","v":""},{"$f":"IFERROR(INDEX(PTable[3-Method],MATCH(0,IF(BP$1=PTable[2-Test],COUNTIF(BP$1:BP27,PTable[3-Method]), \"\"),0)),\"\")","v":"PCR125g"},{"$f":"IFERROR(INDEX(PTable[3-Method],MATCH(0,IF(BQ$1=PTable[2-Test],COUNTIF(BQ$1:BQ27,PTable[3-Method]), \"\"),0)),\"\")","v":""},{"$f":"IFERROR(INDEX(PTable[3-Method],MATCH(0,IF(BR$1=PTable[2-Test],COUNTIF(BR$1:BR27,PTable[3-Method]), \"\"),0)),\"\")","v":""},{"$f":"IFERROR(INDEX(PTable[3-Method],MATCH(0,IF(BS$1=PTable[2-Test],COUNTIF(BS$1:BS27,PTable[3-Method]), \"\"),0)),\"\")","v":""},{"$f":"IFERROR(INDEX(PTable[3-Method],MATCH(0,IF(BT$1=PTable[2-Test],COUNTIF(BT$1:BT27,PTable[3-Method]), \"\"),0)),\"\")","v":""},{"$f":"IFERROR(INDEX(PTable[3-Method],MATCH(0,IF(BU$1=PTable[2-Test],COUNTIF(BU$1:BU27,PTable[3-Method]), \"\"),0)),\"\")","v":""},{"$f":"IFERROR(INDEX(PTable[3-Method],MATCH(0,IF(BV$1=PTable[2-Test],COUNTIF(BV$1:BV27,PTable[3-Method]), \"\"),0)),\"\")","v":""},{"$f":"IFERROR(INDEX(PTable[3-Method],MATCH(0,IF(BW$1=PTable[2-Test],COUNTIF(BW$1:BW27,PTable[3-Method]), \"\"),0)),\"\")","v":""},{"$f":"IFERROR(INDEX(PTable[3-Method],MATCH(0,IF(BX$1=PTable[2-Test],COUNTIF(BX$1:BX27,PTable[3-Method]), \"\"),0)),\"\")","v":""},{"$f":"IFERROR(INDEX(PTable[3-Method],MATCH(0,IF(BY$1=PTable[2-Test],COUNTIF(BY$1:BY27,PTable[3-Method]), \"\"),0)),\"\")","v":""},{"$f":"IFERROR(INDEX(PTable[3-Method],MATCH(0,IF(BZ$1=PTable[2-Test],COUNTIF(BZ$1:BZ27,PTable[3-Method]), \"\"),0)),\"\")","v":""},{"$f":"IFERROR(INDEX(PTable[3-Method],MATCH(0,IF(CA$1=PTable[2-Test],COUNTIF(CA$1:CA27,PTable[3-Method]), \"\"),0)),\"\")","v":""},{"$f":"IFERROR(INDEX(PTable[3-Method],MATCH(0,IF(CB$1=PTable[2-Test],COUNTIF(CB$1:CB27,PTable[3-Method]), \"\"),0)),\"\")","v":""},{"$f":"IFERROR(INDEX(PTable[3-Method],MATCH(0,IF(CC$1=PTable[2-Test],COUNTIF(CC$1:CC27,PTable[3-Method]), \"\"),0)),\"\")","v":""},{"$f":"IFERROR(INDEX(PTable[3-Method],MATCH(0,IF(CD$1=PTable[2-Test],COUNTIF(CD$1:CD27,PTable[3-Method]), \"\"),0)),\"\")","v":""},{"$f":"IFERROR(INDEX(PTable[3-Method],MATCH(0,IF(CE$1=PTable[2-Test],COUNTIF(CE$1:CE27,PTable[3-Method]), \"\"),0)),\"\")","v":""},{"$f":"IFERROR(INDEX(PTable[3-Method],MATCH(0,IF(CF$1=PTable[2-Test],COUNTIF(CF$1:CF27,PTable[3-Method]), \"\"),0)),\"\")","v":""},{"$f":"IFERROR(INDEX(PTable[3-Method],MATCH(0,IF(CG$1=PTable[2-Test],COUNTIF(CG$1:CG27,PTable[3-Method]), \"\"),0)),\"\")","v":""},{"$f":"IFERROR(INDEX(PTable[3-Method],MATCH(0,IF(CH$1=PTable[2-Test],COUNTIF(CH$1:CH27,PTable[3-Method]), \"\"),0)),\"\")","v":""},{"$f":"IFERROR(INDEX(PTable[3-Method],MATCH(0,IF(CI$1=PTable[2-Test],COUNTIF(CI$1:CI27,PTable[3-Method]), \"\"),0)),\"\")","v":""},{"$f":"IFERROR(INDEX(PTable[3-Method],MATCH(0,IF(CJ$1=PTable[2-Test],COUNTIF(CJ$1:CJ27,PTable[3-Method]), \"\"),0)),\"\")","v":""},{"$f":"IFERROR(INDEX(PTable[3-Method],MATCH(0,IF(CK$1=PTable[2-Test],COUNTIF(CK$1:CK27,PTable[3-Method]), \"\"),0)),\"\")","v":""},{"$f":"IFERROR(INDEX(PTable[3-Method],MATCH(0,IF(CL$1=PTable[2-Test],COUNTIF(CL$1:CL27,PTable[3-Method]), \"\"),0)),\"\")","v":""},{"$f":"IFERROR(INDEX(PTable[3-Method],MATCH(0,IF(CM$1=PTable[2-Test],COUNTIF(CM$1:CM27,PTable[3-Method]), \"\"),0)),\"\")","v":""},{"$f":"IFERROR(INDEX(PTable[3-Method],MATCH(0,IF(CN$1=PTable[2-Test],COUNTIF(CN$1:CN27,PTable[3-Method]), \"\"),0)),\"\")","v":""},{"$f":"IFERROR(INDEX(PTable[3-Method],MATCH(0,IF(CO$1=PTable[2-Test],COUNTIF(CO$1:CO27,PTable[3-Method]), \"\"),0)),\"\")","v":""},{"$f":"IFERROR(INDEX(PTable[3-Method],MATCH(0,IF(CP$1=PTable[2-Test],COUNTIF(CP$1:CP27,PTable[3-Method]), \"\"),0)),\"\")","v":""},{"$f":"IFERROR(INDEX(PTable[3-Method],MATCH(0,IF(CQ$1=PTable[2-Test],COUNTIF(CQ$1:CQ27,PTable[3-Method]), \"\"),0)),\"\")","v":""},{"$f":"IFERROR(INDEX(PTable[3-Method],MATCH(0,IF(CR$1=PTable[2-Test],COUNTIF(CR$1:CR27,PTable[3-Method]), \"\"),0)),\"\")","v":""},{"$f":"IFERROR(INDEX(PTable[3-Method],MATCH(0,IF(CS$1=PTable[2-Test],COUNTIF(CS$1:CS27,PTable[3-Method]), \"\"),0)),\"\")","v":""},{"$f":"IFERROR(INDEX(PTable[3-Method],MATCH(0,IF(CT$1=PTable[2-Test],COUNTIF(CT$1:CT27,PTable[3-Method]), \"\"),0)),\"\")","v":""},{"$f":"IFERROR(INDEX(PTable[3-Method],MATCH(0,IF(CU$1=PTable[2-Test],COUNTIF(CU$1:CU27,PTable[3-Method]), \"\"),0)),\"\")","v":""},{"$f":"IFERROR(INDEX(PTable[3-Method],MATCH(0,IF(CV$1=PTable[2-Test],COUNTIF(CV$1:CV27,PTable[3-Method]), \"\"),0)),\"\")","v":""},{"$f":"IFERROR(INDEX(PTable[3-Method],MATCH(0,IF(CW$1=PTable[2-Test],COUNTIF(CW$1:CW27,PTable[3-Method]), \"\"),0)),\"\")","v":""},{"$f":"IFERROR(INDEX(PTable[3-Method],MATCH(0,IF(CX$1=PTable[2-Test],COUNTIF(CX$1:CX27,PTable[3-Method]), \"\"),0)),\"\")","v":""},{"$f":"IFERROR(INDEX(PTable[3-Method],MATCH(0,IF(CY$1=PTable[2-Test],COUNTIF(CY$1:CY27,PTable[3-Method]), \"\"),0)),\"\")","v":""},{"$f":"IFERROR(INDEX(PTable[3-Method],MATCH(0,IF(CZ$1=PTable[2-Test],COUNTIF(CZ$1:CZ27,PTable[3-Method]), \"\"),0)),\"\")","v":""},{"$f":"IFERROR(INDEX(PTable[3-Method],MATCH(0,IF(DA$1=PTable[2-Test],COUNTIF(DA$1:DA27,PTable[3-Method]), \"\"),0)),\"\")","v":""},{"$f":"IFERROR(INDEX(PTable[3-Method],MATCH(0,IF(DB$1=PTable[2-Test],COUNTIF(DB$1:DB27,PTable[3-Method]), \"\"),0)),\"\")","v":""},{"$f":"IFERROR(INDEX(PTable[3-Method],MATCH(0,IF(DC$1=PTable[2-Test],COUNTIF(DC$1:DC27,PTable[3-Method]), \"\"),0)),\"\")","v":""},{"$f":"IFERROR(INDEX(PTable[3-Method],MATCH(0,IF(DD$1=PTable[2-Test],COUNTIF(DD$1:DD27,PTable[3-Method]), \"\"),0)),\"\")","v":""},{"$f":"IFERROR(INDEX(PTable[3-Method],MATCH(0,IF(DE$1=PTable[2-Test],COUNTIF(DE$1:DE27,PTable[3-Method]), \"\"),0)),\"\")","v":""},{"$f":"IFERROR(INDEX(PTable[3-Method],MATCH(0,IF(DF$1=PTable[2-Test],COUNTIF(DF$1:DF27,PTable[3-Method]), \"\"),0)),\"\")","v":""},{"$f":"IFERROR(INDEX(PTable[3-Method],MATCH(0,IF(DG$1=PTable[2-Test],COUNTIF(DG$1:DG27,PTable[3-Method]), \"\"),0)),\"\")","v":""},{"$f":"IFERROR(INDEX(PTable[3-Method],MATCH(0,IF(DH$1=PTable[2-Test],COUNTIF(DH$1:DH27,PTable[3-Method]), \"\"),0)),\"\")","v":""},{"$f":"IFERROR(INDEX(PTable[3-Method],MATCH(0,IF(DI$1=PTable[2-Test],COUNTIF(DI$1:DI27,PTable[3-Method]), \"\"),0)),\"\")","v":""},{"$f":"IFERROR(INDEX(PTable[3-Method],MATCH(0,IF(DJ$1=PTable[2-Test],COUNTIF(DJ$1:DJ27,PTable[3-Method]), \"\"),0)),\"\")","v":""}]
[null,{"$f":"IFERROR(INDEX(PTable[2-Test],MATCH(0,IF(B$1=PTable[1-Type],COUNTIF(B$1:B28,PTable[2-Test]), \"\"),0)),\"\")","v":"Os.APC25"},{"$f":"IFERROR(INDEX(PTable[2-Test],MATCH(0,IF(C$1=PTable[1-Type],COUNTIF(C$1:C28,PTable[2-Test]), \"\"),0)),\"\")","v":""},{"$f":"IFERROR(INDEX(PTable[2-Test],MATCH(0,IF(D$1=PTable[1-Type],COUNTIF(D$1:D28,PTable[2-Test]), \"\"),0)),\"\")","v":"Viscosity"},{"$f":"IFERROR(INDEX(PTable[2-Test],MATCH(0,IF(E$1=PTable[1-Type],COUNTIF(E$1:E28,PTable[2-Test]), \"\"),0)),\"\")","v":""},{"$f":"IFERROR(INDEX(PTable[2-Test],MATCH(0,IF(F$1=PTable[1-Type],COUNTIF(F$1:F28,PTable[2-Test]), \"\"),0)),\"\")","v":""},{"$f":"IFERROR(INDEX(PTable[3-Method],MATCH(0,IF(G$1=PTable[2-Test],COUNTIF(G$1:G28,PTable[3-Method]), \"\"),0)),\"\")","v":""},{"$f":"IFERROR(INDEX(PTable[3-Method],MATCH(0,IF(H$1=PTable[2-Test],COUNTIF(H$1:H28,PTable[3-Method]), \"\"),0)),\"\")","v":""},{"$f":"IFERROR(INDEX(PTable[3-Method],MATCH(0,IF(I$1=PTable[2-Test],COUNTIF(I$1:I28,PTable[3-Method]), \"\"),0)),\"\")","v":""},{"$f":"IFERROR(INDEX(PTable[3-Method],MATCH(0,IF(J$1=PTable[2-Test],COUNTIF(J$1:J28,PTable[3-Method]), \"\"),0)),\"\")","v":""},{"$f":"IFERROR(INDEX(PTable[3-Method],MATCH(0,IF(K$1=PTable[2-Test],COUNTIF(K$1:K28,PTable[3-Method]), \"\"),0)),\"\")","v":""},{"$f":"IFERROR(INDEX(PTable[3-Method],MATCH(0,IF(L$1=PTable[2-Test],COUNTIF(L$1:L28,PTable[3-Method]), \"\"),0)),\"\")","v":""},{"$f":"IFERROR(INDEX(PTable[3-Method],MATCH(0,IF(M$1=PTable[2-Test],COUNTIF(M$1:M28,PTable[3-Method]), \"\"),0)),\"\")","v":""},{"$f":"IFERROR(INDEX(PTable[3-Method],MATCH(0,IF(N$1=PTable[2-Test],COUNTIF(N$1:N28,PTable[3-Method]), \"\"),0)),\"\")","v":""},{"$f":"IFERROR(INDEX(PTable[3-Method],MATCH(0,IF(O$1=PTable[2-Test],COUNTIF(O$1:O28,PTable[3-Method]), \"\"),0)),\"\")","v":""},{"$f":"IFERROR(INDEX(PTable[3-Method],MATCH(0,IF(P$1=PTable[2-Test],COUNTIF(P$1:P28,PTable[3-Method]), \"\"),0)),\"\")","v":""},{"$f":"IFERROR(INDEX(PTable[3-Method],MATCH(0,IF(Q$1=PTable[2-Test],COUNTIF(Q$1:Q28,PTable[3-Method]), \"\"),0)),\"\")","v":""},{"$f":"IFERROR(INDEX(PTable[3-Method],MATCH(0,IF(R$1=PTable[2-Test],COUNTIF(R$1:R28,PTable[3-Method]), \"\"),0)),\"\")","v":""},{"$f":"IFERROR(INDEX(PTable[3-Method],MATCH(0,IF(S$1=PTable[2-Test],COUNTIF(S$1:S28,PTable[3-Method]), \"\"),0)),\"\")","v":""},{"$f":"IFERROR(INDEX(PTable[3-Method],MATCH(0,IF(T$1=PTable[2-Test],COUNTIF(T$1:T28,PTable[3-Method]), \"\"),0)),\"\")","v":""},{"$f":"IFERROR(INDEX(PTable[3-Method],MATCH(0,IF(U$1=PTable[2-Test],COUNTIF(U$1:U28,PTable[3-Method]), \"\"),0)),\"\")","v":""},{"$f":"IFERROR(INDEX(PTable[3-Method],MATCH(0,IF(V$1=PTable[2-Test],COUNTIF(V$1:V28,PTable[3-Method]), \"\"),0)),\"\")","v":""},{"$f":"IFERROR(INDEX(PTable[3-Method],MATCH(0,IF(W$1=PTable[2-Test],COUNTIF(W$1:W28,PTable[3-Method]), \"\"),0)),\"\")","v":""},{"$f":"IFERROR(INDEX(PTable[3-Method],MATCH(0,IF(X$1=PTable[2-Test],COUNTIF(X$1:X28,PTable[3-Method]), \"\"),0)),\"\")","v":""},{"$f":"IFERROR(INDEX(PTable[3-Method],MATCH(0,IF(Y$1=PTable[2-Test],COUNTIF(Y$1:Y28,PTable[3-Method]), \"\"),0)),\"\")","v":""},{"$f":"IFERROR(INDEX(PTable[3-Method],MATCH(0,IF(Z$1=PTable[2-Test],COUNTIF(Z$1:Z28,PTable[3-Method]), \"\"),0)),\"\")","v":""},{"$f":"IFERROR(INDEX(PTable[3-Method],MATCH(0,IF(AA$1=PTable[2-Test],COUNTIF(AA$1:AA28,PTable[3-Method]), \"\"),0)),\"\")","v":""},{"$f":"IFERROR(INDEX(PTable[3-Method],MATCH(0,IF(AB$1=PTable[2-Test],COUNTIF(AB$1:AB28,PTable[3-Method]), \"\"),0)),\"\")","v":""},{"$f":"IFERROR(INDEX(PTable[3-Method],MATCH(0,IF(AC$1=PTable[2-Test],COUNTIF(AC$1:AC28,PTable[3-Method]), \"\"),0)),\"\")","v":""},{"$f":"IFERROR(INDEX(PTable[3-Method],MATCH(0,IF(AD$1=PTable[2-Test],COUNTIF(AD$1:AD28,PTable[3-Method]), \"\"),0)),\"\")","v":""},{"$f":"IFERROR(INDEX(PTable[3-Method],MATCH(0,IF(AE$1=PTable[2-Test],COUNTIF(AE$1:AE28,PTable[3-Method]), \"\"),0)),\"\")","v":""},{"$f":"IFERROR(INDEX(PTable[3-Method],MATCH(0,IF(AF$1=PTable[2-Test],COUNTIF(AF$1:AF28,PTable[3-Method]), \"\"),0)),\"\")","v":""},{"$f":"IFERROR(INDEX(PTable[3-Method],MATCH(0,IF(AG$1=PTable[2-Test],COUNTIF(AG$1:AG28,PTable[3-Method]), \"\"),0)),\"\")","v":""},{"$f":"IFERROR(INDEX(PTable[3-Method],MATCH(0,IF(AH$1=PTable[2-Test],COUNTIF(AH$1:AH28,PTable[3-Method]), \"\"),0)),\"\")","v":""},{"$f":"IFERROR(INDEX(PTable[3-Method],MATCH(0,IF(AI$1=PTable[2-Test],COUNTIF(AI$1:AI28,PTable[3-Method]), \"\"),0)),\"\")","v":""},{"$f":"IFERROR(INDEX(PTable[3-Method],MATCH(0,IF(AJ$1=PTable[2-Test],COUNTIF(AJ$1:AJ28,PTable[3-Method]), \"\"),0)),\"\")","v":""},{"$f":"IFERROR(INDEX(PTable[3-Method],MATCH(0,IF(AK$1=PTable[2-Test],COUNTIF(AK$1:AK28,PTable[3-Method]), \"\"),0)),\"\")","v":""},{"$f":"IFERROR(INDEX(PTable[3-Method],MATCH(0,IF(AL$1=PTable[2-Test],COUNTIF(AL$1:AL28,PTable[3-Method]), \"\"),0)),\"\")","v":""},{"$f":"IFERROR(INDEX(PTable[3-Method],MATCH(0,IF(AM$1=PTable[2-Test],COUNTIF(AM$1:AM28,PTable[3-Method]), \"\"),0)),\"\")","v":""},{"$f":"IFERROR(INDEX(PTable[3-Method],MATCH(0,IF(AN$1=PTable[2-Test],COUNTIF(AN$1:AN28,PTable[3-Method]), \"\"),0)),\"\")","v":""},{"$f":"IFERROR(INDEX(PTable[3-Method],MATCH(0,IF(AO$1=PTable[2-Test],COUNTIF(AO$1:AO28,PTable[3-Method]), \"\"),0)),\"\")","v":""},{"$f":"IFERROR(INDEX(PTable[3-Method],MATCH(0,IF(AP$1=PTable[2-Test],COUNTIF(AP$1:AP28,PTable[3-Method]), \"\"),0)),\"\")","v":""},{"$f":"IFERROR(INDEX(PTable[3-Method],MATCH(0,IF(AQ$1=PTable[2-Test],COUNTIF(AQ$1:AQ28,PTable[3-Method]), \"\"),0)),\"\")","v":""},{"$f":"IFERROR(INDEX(PTable[3-Method],MATCH(0,IF(AR$1=PTable[2-Test],COUNTIF(AR$1:AR28,PTable[3-Method]), \"\"),0)),\"\")","v":""},{"$f":"IFERROR(INDEX(PTable[3-Method],MATCH(0,IF(AS$1=PTable[2-Test],COUNTIF(AS$1:AS28,PTable[3-Method]), \"\"),0)),\"\")","v":""},{"$f":"IFERROR(INDEX(PTable[3-Method],MATCH(0,IF(AT$1=PTable[2-Test],COUNTIF(AT$1:AT28,PTable[3-Method]), \"\"),0)),\"\")","v":""},{"$f":"IFERROR(INDEX(PTable[3-Method],MATCH(0,IF(AU$1=PTable[2-Test],COUNTIF(AU$1:AU28,PTable[3-Method]), \"\"),0)),\"\")","v":""},{"$f":"IFERROR(INDEX(PTable[3-Method],MATCH(0,IF(AV$1=PTable[2-Test],COUNTIF(AV$1:AV28,PTable[3-Method]), \"\"),0)),\"\")","v":""},{"$f":"IFERROR(INDEX(PTable[3-Method],MATCH(0,IF(AW$1=PTable[2-Test],COUNTIF(AW$1:AW28,PTable[3-Method]), \"\"),0)),\"\")","v":""},{"$f":"IFERROR(INDEX(PTable[3-Method],MATCH(0,IF(AX$1=PTable[2-Test],COUNTIF(AX$1:AX28,PTable[3-Method]), \"\"),0)),\"\")","v":""},{"$f":"IFERROR(INDEX(PTable[3-Method],MATCH(0,IF(AY$1=PTable[2-Test],COUNTIF(AY$1:AY28,PTable[3-Method]), \"\"),0)),\"\")","v":""},{"$f":"IFERROR(INDEX(PTable[3-Method],MATCH(0,IF(AZ$1=PTable[2-Test],COUNTIF(AZ$1:AZ28,PTable[3-Method]), \"\"),0)),\"\")","v":""},{"$f":"IFERROR(INDEX(PTable[3-Method],MATCH(0,IF(BA$1=PTable[2-Test],COUNTIF(BA$1:BA28,PTable[3-Method]), \"\"),0)),\"\")","v":""},{"$f":"IFERROR(INDEX(PTable[3-Method],MATCH(0,IF(BB$1=PTable[2-Test],COUNTIF(BB$1:BB28,PTable[3-Method]), \"\"),0)),\"\")","v":""},{"$f":"IFERROR(INDEX(PTable[3-Method],MATCH(0,IF(BC$1=PTable[2-Test],COUNTIF(BC$1:BC28,PTable[3-Method]), \"\"),0)),\"\")","v":""},{"$f":"IFERROR(INDEX(PTable[3-Method],MATCH(0,IF(BD$1=PTable[2-Test],COUNTIF(BD$1:BD28,PTable[3-Method]), \"\"),0)),\"\")","v":""},{"$f":"IFERROR(INDEX(PTable[3-Method],MATCH(0,IF(BE$1=PTable[2-Test],COUNTIF(BE$1:BE28,PTable[3-Method]), \"\"),0)),\"\")","v":""},{"$f":"IFERROR(INDEX(PTable[3-Method],MATCH(0,IF(BF$1=PTable[2-Test],COUNTIF(BF$1:BF28,PTable[3-Method]), \"\"),0)),\"\")","v":""},{"$f":"IFERROR(INDEX(PTable[3-Method],MATCH(0,IF(BG$1=PTable[2-Test],COUNTIF(BG$1:BG28,PTable[3-Method]), \"\"),0)),\"\")","v":""},{"$f":"IFERROR(INDEX(PTable[3-Method],MATCH(0,IF(BH$1=PTable[2-Test],COUNTIF(BH$1:BH28,PTable[3-Method]), \"\"),0)),\"\")","v":""},{"$f":"IFERROR(INDEX(PTable[3-Method],MATCH(0,IF(BI$1=PTable[2-Test],COUNTIF(BI$1:BI28,PTable[3-Method]), \"\"),0)),\"\")","v":""},{"$f":"IFERROR(INDEX(PTable[3-Method],MATCH(0,IF(BJ$1=PTable[2-Test],COUNTIF(BJ$1:BJ28,PTable[3-Method]), \"\"),0)),\"\")","v":""},{"$f":"IFERROR(INDEX(PTable[3-Method],MATCH(0,IF(BK$1=PTable[2-Test],COUNTIF(BK$1:BK28,PTable[3-Method]), \"\"),0)),\"\")","v":""},{"$f":"IFERROR(INDEX(PTable[3-Method],MATCH(0,IF(BL$1=PTable[2-Test],COUNTIF(BL$1:BL28,PTable[3-Method]), \"\"),0)),\"\")","v":""},{"$f":"IFERROR(INDEX(PTable[3-Method],MATCH(0,IF(BM$1=PTable[2-Test],COUNTIF(BM$1:BM28,PTable[3-Method]), \"\"),0)),\"\")","v":"PCR150g"},{"$f":"IFERROR(INDEX(PTable[3-Method],MATCH(0,IF(BN$1=PTable[2-Test],COUNTIF(BN$1:BN28,PTable[3-Method]), \"\"),0)),\"\")","v":""},{"$f":"IFERROR(INDEX(PTable[3-Method],MATCH(0,IF(BO$1=PTable[2-Test],COUNTIF(BO$1:BO28,PTable[3-Method]), \"\"),0)),\"\")","v":""},{"$f":"IFERROR(INDEX(PTable[3-Method],MATCH(0,IF(BP$1=PTable[2-Test],COUNTIF(BP$1:BP28,PTable[3-Method]), \"\"),0)),\"\")","v":"PCR150g"},{"$f":"IFERROR(INDEX(PTable[3-Method],MATCH(0,IF(BQ$1=PTable[2-Test],COUNTIF(BQ$1:BQ28,PTable[3-Method]), \"\"),0)),\"\")","v":""},{"$f":"IFERROR(INDEX(PTable[3-Method],MATCH(0,IF(BR$1=PTable[2-Test],COUNTIF(BR$1:BR28,PTable[3-Method]), \"\"),0)),\"\")","v":""},{"$f":"IFERROR(INDEX(PTable[3-Method],MATCH(0,IF(BS$1=PTable[2-Test],COUNTIF(BS$1:BS28,PTable[3-Method]), \"\"),0)),\"\")","v":""},{"$f":"IFERROR(INDEX(PTable[3-Method],MATCH(0,IF(BT$1=PTable[2-Test],COUNTIF(BT$1:BT28,PTable[3-Method]), \"\"),0)),\"\")","v":""},{"$f":"IFERROR(INDEX(PTable[3-Method],MATCH(0,IF(BU$1=PTable[2-Test],COUNTIF(BU$1:BU28,PTable[3-Method]), \"\"),0)),\"\")","v":""},{"$f":"IFERROR(INDEX(PTable[3-Method],MATCH(0,IF(BV$1=PTable[2-Test],COUNTIF(BV$1:BV28,PTable[3-Method]), \"\"),0)),\"\")","v":""},{"$f":"IFERROR(INDEX(PTable[3-Method],MATCH(0,IF(BW$1=PTable[2-Test],COUNTIF(BW$1:BW28,PTable[3-Method]), \"\"),0)),\"\")","v":""},{"$f":"IFERROR(INDEX(PTable[3-Method],MATCH(0,IF(BX$1=PTable[2-Test],COUNTIF(BX$1:BX28,PTable[3-Method]), \"\"),0)),\"\")","v":""},{"$f":"IFERROR(INDEX(PTable[3-Method],MATCH(0,IF(BY$1=PTable[2-Test],COUNTIF(BY$1:BY28,PTable[3-Method]), \"\"),0)),\"\")","v":""},{"$f":"IFERROR(INDEX(PTable[3-Method],MATCH(0,IF(BZ$1=PTable[2-Test],COUNTIF(BZ$1:BZ28,PTable[3-Method]), \"\"),0)),\"\")","v":""},{"$f":"IFERROR(INDEX(PTable[3-Method],MATCH(0,IF(CA$1=PTable[2-Test],COUNTIF(CA$1:CA28,PTable[3-Method]), \"\"),0)),\"\")","v":""},{"$f":"IFERROR(INDEX(PTable[3-Method],MATCH(0,IF(CB$1=PTable[2-Test],COUNTIF(CB$1:CB28,PTable[3-Method]), \"\"),0)),\"\")","v":""},{"$f":"IFERROR(INDEX(PTable[3-Method],MATCH(0,IF(CC$1=PTable[2-Test],COUNTIF(CC$1:CC28,PTable[3-Method]), \"\"),0)),\"\")","v":""},{"$f":"IFERROR(INDEX(PTable[3-Method],MATCH(0,IF(CD$1=PTable[2-Test],COUNTIF(CD$1:CD28,PTable[3-Method]), \"\"),0)),\"\")","v":""},{"$f":"IFERROR(INDEX(PTable[3-Method],MATCH(0,IF(CE$1=PTable[2-Test],COUNTIF(CE$1:CE28,PTable[3-Method]), \"\"),0)),\"\")","v":""},{"$f":"IFERROR(INDEX(PTable[3-Method],MATCH(0,IF(CF$1=PTable[2-Test],COUNTIF(CF$1:CF28,PTable[3-Method]), \"\"),0)),\"\")","v":""},{"$f":"IFERROR(INDEX(PTable[3-Method],MATCH(0,IF(CG$1=PTable[2-Test],COUNTIF(CG$1:CG28,PTable[3-Method]), \"\"),0)),\"\")","v":""},{"$f":"IFERROR(INDEX(PTable[3-Method],MATCH(0,IF(CH$1=PTable[2-Test],COUNTIF(CH$1:CH28,PTable[3-Method]), \"\"),0)),\"\")","v":""},{"$f":"IFERROR(INDEX(PTable[3-Method],MATCH(0,IF(CI$1=PTable[2-Test],COUNTIF(CI$1:CI28,PTable[3-Method]), \"\"),0)),\"\")","v":""},{"$f":"IFERROR(INDEX(PTable[3-Method],MATCH(0,IF(CJ$1=PTable[2-Test],COUNTIF(CJ$1:CJ28,PTable[3-Method]), \"\"),0)),\"\")","v":""},{"$f":"IFERROR(INDEX(PTable[3-Method],MATCH(0,IF(CK$1=PTable[2-Test],COUNTIF(CK$1:CK28,PTable[3-Method]), \"\"),0)),\"\")","v":""},{"$f":"IFERROR(INDEX(PTable[3-Method],MATCH(0,IF(CL$1=PTable[2-Test],COUNTIF(CL$1:CL28,PTable[3-Method]), \"\"),0)),\"\")","v":""},{"$f":"IFERROR(INDEX(PTable[3-Method],MATCH(0,IF(CM$1=PTable[2-Test],COUNTIF(CM$1:CM28,PTable[3-Method]), \"\"),0)),\"\")","v":""},{"$f":"IFERROR(INDEX(PTable[3-Method],MATCH(0,IF(CN$1=PTable[2-Test],COUNTIF(CN$1:CN28,PTable[3-Method]), \"\"),0)),\"\")","v":""},{"$f":"IFERROR(INDEX(PTable[3-Method],MATCH(0,IF(CO$1=PTable[2-Test],COUNTIF(CO$1:CO28,PTable[3-Method]), \"\"),0)),\"\")","v":""},{"$f":"IFERROR(INDEX(PTable[3-Method],MATCH(0,IF(CP$1=PTable[2-Test],COUNTIF(CP$1:CP28,PTable[3-Method]), \"\"),0)),\"\")","v":""},{"$f":"IFERROR(INDEX(PTable[3-Method],MATCH(0,IF(CQ$1=PTable[2-Test],COUNTIF(CQ$1:CQ28,PTable[3-Method]), \"\"),0)),\"\")","v":""},{"$f":"IFERROR(INDEX(PTable[3-Method],MATCH(0,IF(CR$1=PTable[2-Test],COUNTIF(CR$1:CR28,PTable[3-Method]), \"\"),0)),\"\")","v":""},{"$f":"IFERROR(INDEX(PTable[3-Method],MATCH(0,IF(CS$1=PTable[2-Test],COUNTIF(CS$1:CS28,PTable[3-Method]), \"\"),0)),\"\")","v":""},{"$f":"IFERROR(INDEX(PTable[3-Method],MATCH(0,IF(CT$1=PTable[2-Test],COUNTIF(CT$1:CT28,PTable[3-Method]), \"\"),0)),\"\")","v":""},{"$f":"IFERROR(INDEX(PTable[3-Method],MATCH(0,IF(CU$1=PTable[2-Test],COUNTIF(CU$1:CU28,PTable[3-Method]), \"\"),0)),\"\")","v":""},{"$f":"IFERROR(INDEX(PTable[3-Method],MATCH(0,IF(CV$1=PTable[2-Test],COUNTIF(CV$1:CV28,PTable[3-Method]), \"\"),0)),\"\")","v":""},{"$f":"IFERROR(INDEX(PTable[3-Method],MATCH(0,IF(CW$1=PTable[2-Test],COUNTIF(CW$1:CW28,PTable[3-Method]), \"\"),0)),\"\")","v":""},{"$f":"IFERROR(INDEX(PTable[3-Method],MATCH(0,IF(CX$1=PTable[2-Test],COUNTIF(CX$1:CX28,PTable[3-Method]), \"\"),0)),\"\")","v":""},{"$f":"IFERROR(INDEX(PTable[3-Method],MATCH(0,IF(CY$1=PTable[2-Test],COUNTIF(CY$1:CY28,PTable[3-Method]), \"\"),0)),\"\")","v":""},{"$f":"IFERROR(INDEX(PTable[3-Method],MATCH(0,IF(CZ$1=PTable[2-Test],COUNTIF(CZ$1:CZ28,PTable[3-Method]), \"\"),0)),\"\")","v":""},{"$f":"IFERROR(INDEX(PTable[3-Method],MATCH(0,IF(DA$1=PTable[2-Test],COUNTIF(DA$1:DA28,PTable[3-Method]), \"\"),0)),\"\")","v":""},{"$f":"IFERROR(INDEX(PTable[3-Method],MATCH(0,IF(DB$1=PTable[2-Test],COUNTIF(DB$1:DB28,PTable[3-Method]), \"\"),0)),\"\")","v":""},{"$f":"IFERROR(INDEX(PTable[3-Method],MATCH(0,IF(DC$1=PTable[2-Test],COUNTIF(DC$1:DC28,PTable[3-Method]), \"\"),0)),\"\")","v":""},{"$f":"IFERROR(INDEX(PTable[3-Method],MATCH(0,IF(DD$1=PTable[2-Test],COUNTIF(DD$1:DD28,PTable[3-Method]), \"\"),0)),\"\")","v":""},{"$f":"IFERROR(INDEX(PTable[3-Method],MATCH(0,IF(DE$1=PTable[2-Test],COUNTIF(DE$1:DE28,PTable[3-Method]), \"\"),0)),\"\")","v":""},{"$f":"IFERROR(INDEX(PTable[3-Method],MATCH(0,IF(DF$1=PTable[2-Test],COUNTIF(DF$1:DF28,PTable[3-Method]), \"\"),0)),\"\")","v":""},{"$f":"IFERROR(INDEX(PTable[3-Method],MATCH(0,IF(DG$1=PTable[2-Test],COUNTIF(DG$1:DG28,PTable[3-Method]), \"\"),0)),\"\")","v":""},{"$f":"IFERROR(INDEX(PTable[3-Method],MATCH(0,IF(DH$1=PTable[2-Test],COUNTIF(DH$1:DH28,PTable[3-Method]), \"\"),0)),\"\")","v":""},{"$f":"IFERROR(INDEX(PTable[3-Method],MATCH(0,IF(DI$1=PTable[2-Test],COUNTIF(DI$1:DI28,PTable[3-Method]), \"\"),0)),\"\")","v":""},{"$f":"IFERROR(INDEX(PTable[3-Method],MATCH(0,IF(DJ$1=PTable[2-Test],COUNTIF(DJ$1:DJ28,PTable[3-Method]), \"\"),0)),\"\")","v":""}]
[null,{"$f":"IFERROR(INDEX(PTable[2-Test],MATCH(0,IF(B$1=PTable[1-Type],COUNTIF(B$1:B29,PTable[2-Test]), \"\"),0)),\"\")","v":"Os.APC35"},{"$f":"IFERROR(INDEX(PTable[2-Test],MATCH(0,IF(C$1=PTable[1-Type],COUNTIF(C$1:C29,PTable[2-Test]), \"\"),0)),\"\")","v":""},{"$f":"IFERROR(INDEX(PTable[2-Test],MATCH(0,IF(D$1=PTable[1-Type],COUNTIF(D$1:D29,PTable[2-Test]), \"\"),0)),\"\")","v":"VO"},{"$f":"IFERROR(INDEX(PTable[2-Test],MATCH(0,IF(E$1=PTable[1-Type],COUNTIF(E$1:E29,PTable[2-Test]), \"\"),0)),\"\")","v":""},{"$f":"IFERROR(INDEX(PTable[2-Test],MATCH(0,IF(F$1=PTable[1-Type],COUNTIF(F$1:F29,PTable[2-Test]), \"\"),0)),\"\")","v":""},{"$f":"IFERROR(INDEX(PTable[3-Method],MATCH(0,IF(G$1=PTable[2-Test],COUNTIF(G$1:G29,PTable[3-Method]), \"\"),0)),\"\")","v":""},{"$f":"IFERROR(INDEX(PTable[3-Method],MATCH(0,IF(H$1=PTable[2-Test],COUNTIF(H$1:H29,PTable[3-Method]), \"\"),0)),\"\")","v":""},{"$f":"IFERROR(INDEX(PTable[3-Method],MATCH(0,IF(I$1=PTable[2-Test],COUNTIF(I$1:I29,PTable[3-Method]), \"\"),0)),\"\")","v":""},{"$f":"IFERROR(INDEX(PTable[3-Method],MATCH(0,IF(J$1=PTable[2-Test],COUNTIF(J$1:J29,PTable[3-Method]), \"\"),0)),\"\")","v":""},{"$f":"IFERROR(INDEX(PTable[3-Method],MATCH(0,IF(K$1=PTable[2-Test],COUNTIF(K$1:K29,PTable[3-Method]), \"\"),0)),\"\")","v":""},{"$f":"IFERROR(INDEX(PTable[3-Method],MATCH(0,IF(L$1=PTable[2-Test],COUNTIF(L$1:L29,PTable[3-Method]), \"\"),0)),\"\")","v":""},{"$f":"IFERROR(INDEX(PTable[3-Method],MATCH(0,IF(M$1=PTable[2-Test],COUNTIF(M$1:M29,PTable[3-Method]), \"\"),0)),\"\")","v":""},{"$f":"IFERROR(INDEX(PTable[3-Method],MATCH(0,IF(N$1=PTable[2-Test],COUNTIF(N$1:N29,PTable[3-Method]), \"\"),0)),\"\")","v":""},{"$f":"IFERROR(INDEX(PTable[3-Method],MATCH(0,IF(O$1=PTable[2-Test],COUNTIF(O$1:O29,PTable[3-Method]), \"\"),0)),\"\")","v":""},{"$f":"IFERROR(INDEX(PTable[3-Method],MATCH(0,IF(P$1=PTable[2-Test],COUNTIF(P$1:P29,PTable[3-Method]), \"\"),0)),\"\")","v":""},{"$f":"IFERROR(INDEX(PTable[3-Method],MATCH(0,IF(Q$1=PTable[2-Test],COUNTIF(Q$1:Q29,PTable[3-Method]), \"\"),0)),\"\")","v":""},{"$f":"IFERROR(INDEX(PTable[3-Method],MATCH(0,IF(R$1=PTable[2-Test],COUNTIF(R$1:R29,PTable[3-Method]), \"\"),0)),\"\")","v":""},{"$f":"IFERROR(INDEX(PTable[3-Method],MATCH(0,IF(S$1=PTable[2-Test],COUNTIF(S$1:S29,PTable[3-Method]), \"\"),0)),\"\")","v":""},{"$f":"IFERROR(INDEX(PTable[3-Method],MATCH(0,IF(T$1=PTable[2-Test],COUNTIF(T$1:T29,PTable[3-Method]), \"\"),0)),\"\")","v":""},{"$f":"IFERROR(INDEX(PTable[3-Method],MATCH(0,IF(U$1=PTable[2-Test],COUNTIF(U$1:U29,PTable[3-Method]), \"\"),0)),\"\")","v":""},{"$f":"IFERROR(INDEX(PTable[3-Method],MATCH(0,IF(V$1=PTable[2-Test],COUNTIF(V$1:V29,PTable[3-Method]), \"\"),0)),\"\")","v":""},{"$f":"IFERROR(INDEX(PTable[3-Method],MATCH(0,IF(W$1=PTable[2-Test],COUNTIF(W$1:W29,PTable[3-Method]), \"\"),0)),\"\")","v":""},{"$f":"IFERROR(INDEX(PTable[3-Method],MATCH(0,IF(X$1=PTable[2-Test],COUNTIF(X$1:X29,PTable[3-Method]), \"\"),0)),\"\")","v":""},{"$f":"IFERROR(INDEX(PTable[3-Method],MATCH(0,IF(Y$1=PTable[2-Test],COUNTIF(Y$1:Y29,PTable[3-Method]), \"\"),0)),\"\")","v":""},{"$f":"IFERROR(INDEX(PTable[3-Method],MATCH(0,IF(Z$1=PTable[2-Test],COUNTIF(Z$1:Z29,PTable[3-Method]), \"\"),0)),\"\")","v":""},{"$f":"IFERROR(INDEX(PTable[3-Method],MATCH(0,IF(AA$1=PTable[2-Test],COUNTIF(AA$1:AA29,PTable[3-Method]), \"\"),0)),\"\")","v":""},{"$f":"IFERROR(INDEX(PTable[3-Method],MATCH(0,IF(AB$1=PTable[2-Test],COUNTIF(AB$1:AB29,PTable[3-Method]), \"\"),0)),\"\")","v":""},{"$f":"IFERROR(INDEX(PTable[3-Method],MATCH(0,IF(AC$1=PTable[2-Test],COUNTIF(AC$1:AC29,PTable[3-Method]), \"\"),0)),\"\")","v":""},{"$f":"IFERROR(INDEX(PTable[3-Method],MATCH(0,IF(AD$1=PTable[2-Test],COUNTIF(AD$1:AD29,PTable[3-Method]), \"\"),0)),\"\")","v":""},{"$f":"IFERROR(INDEX(PTable[3-Method],MATCH(0,IF(AE$1=PTable[2-Test],COUNTIF(AE$1:AE29,PTable[3-Method]), \"\"),0)),\"\")","v":""},{"$f":"IFERROR(INDEX(PTable[3-Method],MATCH(0,IF(AF$1=PTable[2-Test],COUNTIF(AF$1:AF29,PTable[3-Method]), \"\"),0)),\"\")","v":""},{"$f":"IFERROR(INDEX(PTable[3-Method],MATCH(0,IF(AG$1=PTable[2-Test],COUNTIF(AG$1:AG29,PTable[3-Method]), \"\"),0)),\"\")","v":""},{"$f":"IFERROR(INDEX(PTable[3-Method],MATCH(0,IF(AH$1=PTable[2-Test],COUNTIF(AH$1:AH29,PTable[3-Method]), \"\"),0)),\"\")","v":""},{"$f":"IFERROR(INDEX(PTable[3-Method],MATCH(0,IF(AI$1=PTable[2-Test],COUNTIF(AI$1:AI29,PTable[3-Method]), \"\"),0)),\"\")","v":""},{"$f":"IFERROR(INDEX(PTable[3-Method],MATCH(0,IF(AJ$1=PTable[2-Test],COUNTIF(AJ$1:AJ29,PTable[3-Method]), \"\"),0)),\"\")","v":""},{"$f":"IFERROR(INDEX(PTable[3-Method],MATCH(0,IF(AK$1=PTable[2-Test],COUNTIF(AK$1:AK29,PTable[3-Method]), \"\"),0)),\"\")","v":""},{"$f":"IFERROR(INDEX(PTable[3-Method],MATCH(0,IF(AL$1=PTable[2-Test],COUNTIF(AL$1:AL29,PTable[3-Method]), \"\"),0)),\"\")","v":""},{"$f":"IFERROR(INDEX(PTable[3-Method],MATCH(0,IF(AM$1=PTable[2-Test],COUNTIF(AM$1:AM29,PTable[3-Method]), \"\"),0)),\"\")","v":""},{"$f":"IFERROR(INDEX(PTable[3-Method],MATCH(0,IF(AN$1=PTable[2-Test],COUNTIF(AN$1:AN29,PTable[3-Method]), \"\"),0)),\"\")","v":""},{"$f":"IFERROR(INDEX(PTable[3-Method],MATCH(0,IF(AO$1=PTable[2-Test],COUNTIF(AO$1:AO29,PTable[3-Method]), \"\"),0)),\"\")","v":""},{"$f":"IFERROR(INDEX(PTable[3-Method],MATCH(0,IF(AP$1=PTable[2-Test],COUNTIF(AP$1:AP29,PTable[3-Method]), \"\"),0)),\"\")","v":""},{"$f":"IFERROR(INDEX(PTable[3-Method],MATCH(0,IF(AQ$1=PTable[2-Test],COUNTIF(AQ$1:AQ29,PTable[3-Method]), \"\"),0)),\"\")","v":""},{"$f":"IFERROR(INDEX(PTable[3-Method],MATCH(0,IF(AR$1=PTable[2-Test],COUNTIF(AR$1:AR29,PTable[3-Method]), \"\"),0)),\"\")","v":""},{"$f":"IFERROR(INDEX(PTable[3-Method],MATCH(0,IF(AS$1=PTable[2-Test],COUNTIF(AS$1:AS29,PTable[3-Method]), \"\"),0)),\"\")","v":""},{"$f":"IFERROR(INDEX(PTable[3-Method],MATCH(0,IF(AT$1=PTable[2-Test],COUNTIF(AT$1:AT29,PTable[3-Method]), \"\"),0)),\"\")","v":""},{"$f":"IFERROR(INDEX(PTable[3-Method],MATCH(0,IF(AU$1=PTable[2-Test],COUNTIF(AU$1:AU29,PTable[3-Method]), \"\"),0)),\"\")","v":""},{"$f":"IFERROR(INDEX(PTable[3-Method],MATCH(0,IF(AV$1=PTable[2-Test],COUNTIF(AV$1:AV29,PTable[3-Method]), \"\"),0)),\"\")","v":""},{"$f":"IFERROR(INDEX(PTable[3-Method],MATCH(0,IF(AW$1=PTable[2-Test],COUNTIF(AW$1:AW29,PTable[3-Method]), \"\"),0)),\"\")","v":""},{"$f":"IFERROR(INDEX(PTable[3-Method],MATCH(0,IF(AX$1=PTable[2-Test],COUNTIF(AX$1:AX29,PTable[3-Method]), \"\"),0)),\"\")","v":""},{"$f":"IFERROR(INDEX(PTable[3-Method],MATCH(0,IF(AY$1=PTable[2-Test],COUNTIF(AY$1:AY29,PTable[3-Method]), \"\"),0)),\"\")","v":""},{"$f":"IFERROR(INDEX(PTable[3-Method],MATCH(0,IF(AZ$1=PTable[2-Test],COUNTIF(AZ$1:AZ29,PTable[3-Method]), \"\"),0)),\"\")","v":""},{"$f":"IFERROR(INDEX(PTable[3-Method],MATCH(0,IF(BA$1=PTable[2-Test],COUNTIF(BA$1:BA29,PTable[3-Method]), \"\"),0)),\"\")","v":""},{"$f":"IFERROR(INDEX(PTable[3-Method],MATCH(0,IF(BB$1=PTable[2-Test],COUNTIF(BB$1:BB29,PTable[3-Method]), \"\"),0)),\"\")","v":""},{"$f":"IFERROR(INDEX(PTable[3-Method],MATCH(0,IF(BC$1=PTable[2-Test],COUNTIF(BC$1:BC29,PTable[3-Method]), \"\"),0)),\"\")","v":""},{"$f":"IFERROR(INDEX(PTable[3-Method],MATCH(0,IF(BD$1=PTable[2-Test],COUNTIF(BD$1:BD29,PTable[3-Method]), \"\"),0)),\"\")","v":""},{"$f":"IFERROR(INDEX(PTable[3-Method],MATCH(0,IF(BE$1=PTable[2-Test],COUNTIF(BE$1:BE29,PTable[3-Method]), \"\"),0)),\"\")","v":""},{"$f":"IFERROR(INDEX(PTable[3-Method],MATCH(0,IF(BF$1=PTable[2-Test],COUNTIF(BF$1:BF29,PTable[3-Method]), \"\"),0)),\"\")","v":""},{"$f":"IFERROR(INDEX(PTable[3-Method],MATCH(0,IF(BG$1=PTable[2-Test],COUNTIF(BG$1:BG29,PTable[3-Method]), \"\"),0)),\"\")","v":""},{"$f":"IFERROR(INDEX(PTable[3-Method],MATCH(0,IF(BH$1=PTable[2-Test],COUNTIF(BH$1:BH29,PTable[3-Method]), \"\"),0)),\"\")","v":""},{"$f":"IFERROR(INDEX(PTable[3-Method],MATCH(0,IF(BI$1=PTable[2-Test],COUNTIF(BI$1:BI29,PTable[3-Method]), \"\"),0)),\"\")","v":""},{"$f":"IFERROR(INDEX(PTable[3-Method],MATCH(0,IF(BJ$1=PTable[2-Test],COUNTIF(BJ$1:BJ29,PTable[3-Method]), \"\"),0)),\"\")","v":""},{"$f":"IFERROR(INDEX(PTable[3-Method],MATCH(0,IF(BK$1=PTable[2-Test],COUNTIF(BK$1:BK29,PTable[3-Method]), \"\"),0)),\"\")","v":""},{"$f":"IFERROR(INDEX(PTable[3-Method],MATCH(0,IF(BL$1=PTable[2-Test],COUNTIF(BL$1:BL29,PTable[3-Method]), \"\"),0)),\"\")","v":""},{"$f":"IFERROR(INDEX(PTable[3-Method],MATCH(0,IF(BM$1=PTable[2-Test],COUNTIF(BM$1:BM29,PTable[3-Method]), \"\"),0)),\"\")","v":"PCR200g"},{"$f":"IFERROR(INDEX(PTable[3-Method],MATCH(0,IF(BN$1=PTable[2-Test],COUNTIF(BN$1:BN29,PTable[3-Method]), \"\"),0)),\"\")","v":""},{"$f":"IFERROR(INDEX(PTable[3-Method],MATCH(0,IF(BO$1=PTable[2-Test],COUNTIF(BO$1:BO29,PTable[3-Method]), \"\"),0)),\"\")","v":""},{"$f":"IFERROR(INDEX(PTable[3-Method],MATCH(0,IF(BP$1=PTable[2-Test],COUNTIF(BP$1:BP29,PTable[3-Method]), \"\"),0)),\"\")","v":"PCR250g"},{"$f":"IFERROR(INDEX(PTable[3-Method],MATCH(0,IF(BQ$1=PTable[2-Test],COUNTIF(BQ$1:BQ29,PTable[3-Method]), \"\"),0)),\"\")","v":""},{"$f":"IFERROR(INDEX(PTable[3-Method],MATCH(0,IF(BR$1=PTable[2-Test],COUNTIF(BR$1:BR29,PTable[3-Method]), \"\"),0)),\"\")","v":""},{"$f":"IFERROR(INDEX(PTable[3-Method],MATCH(0,IF(BS$1=PTable[2-Test],COUNTIF(BS$1:BS29,PTable[3-Method]), \"\"),0)),\"\")","v":""},{"$f":"IFERROR(INDEX(PTable[3-Method],MATCH(0,IF(BT$1=PTable[2-Test],COUNTIF(BT$1:BT29,PTable[3-Method]), \"\"),0)),\"\")","v":""},{"$f":"IFERROR(INDEX(PTable[3-Method],MATCH(0,IF(BU$1=PTable[2-Test],COUNTIF(BU$1:BU29,PTable[3-Method]), \"\"),0)),\"\")","v":""},{"$f":"IFERROR(INDEX(PTable[3-Method],MATCH(0,IF(BV$1=PTable[2-Test],COUNTIF(BV$1:BV29,PTable[3-Method]), \"\"),0)),\"\")","v":""},{"$f":"IFERROR(INDEX(PTable[3-Method],MATCH(0,IF(BW$1=PTable[2-Test],COUNTIF(BW$1:BW29,PTable[3-Method]), \"\"),0)),\"\")","v":""},{"$f":"IFERROR(INDEX(PTable[3-Method],MATCH(0,IF(BX$1=PTable[2-Test],COUNTIF(BX$1:BX29,PTable[3-Method]), \"\"),0)),\"\")","v":""},{"$f":"IFERROR(INDEX(PTable[3-Method],MATCH(0,IF(BY$1=PTable[2-Test],COUNTIF(BY$1:BY29,PTable[3-Method]), \"\"),0)),\"\")","v":""},{"$f":"IFERROR(INDEX(PTable[3-Method],MATCH(0,IF(BZ$1=PTable[2-Test],COUNTIF(BZ$1:BZ29,PTable[3-Method]), \"\"),0)),\"\")","v":""},{"$f":"IFERROR(INDEX(PTable[3-Method],MATCH(0,IF(CA$1=PTable[2-Test],COUNTIF(CA$1:CA29,PTable[3-Method]), \"\"),0)),\"\")","v":""},{"$f":"IFERROR(INDEX(PTable[3-Method],MATCH(0,IF(CB$1=PTable[2-Test],COUNTIF(CB$1:CB29,PTable[3-Method]), \"\"),0)),\"\")","v":""},{"$f":"IFERROR(INDEX(PTable[3-Method],MATCH(0,IF(CC$1=PTable[2-Test],COUNTIF(CC$1:CC29,PTable[3-Method]), \"\"),0)),\"\")","v":""},{"$f":"IFERROR(INDEX(PTable[3-Method],MATCH(0,IF(CD$1=PTable[2-Test],COUNTIF(CD$1:CD29,PTable[3-Method]), \"\"),0)),\"\")","v":""},{"$f":"IFERROR(INDEX(PTable[3-Method],MATCH(0,IF(CE$1=PTable[2-Test],COUNTIF(CE$1:CE29,PTable[3-Method]), \"\"),0)),\"\")","v":""},{"$f":"IFERROR(INDEX(PTable[3-Method],MATCH(0,IF(CF$1=PTable[2-Test],COUNTIF(CF$1:CF29,PTable[3-Method]), \"\"),0)),\"\")","v":""},{"$f":"IFERROR(INDEX(PTable[3-Method],MATCH(0,IF(CG$1=PTable[2-Test],COUNTIF(CG$1:CG29,PTable[3-Method]), \"\"),0)),\"\")","v":""},{"$f":"IFERROR(INDEX(PTable[3-Method],MATCH(0,IF(CH$1=PTable[2-Test],COUNTIF(CH$1:CH29,PTable[3-Method]), \"\"),0)),\"\")","v":""},{"$f":"IFERROR(INDEX(PTable[3-Method],MATCH(0,IF(CI$1=PTable[2-Test],COUNTIF(CI$1:CI29,PTable[3-Method]), \"\"),0)),\"\")","v":""},{"$f":"IFERROR(INDEX(PTable[3-Method],MATCH(0,IF(CJ$1=PTable[2-Test],COUNTIF(CJ$1:CJ29,PTable[3-Method]), \"\"),0)),\"\")","v":""},{"$f":"IFERROR(INDEX(PTable[3-Method],MATCH(0,IF(CK$1=PTable[2-Test],COUNTIF(CK$1:CK29,PTable[3-Method]), \"\"),0)),\"\")","v":""},{"$f":"IFERROR(INDEX(PTable[3-Method],MATCH(0,IF(CL$1=PTable[2-Test],COUNTIF(CL$1:CL29,PTable[3-Method]), \"\"),0)),\"\")","v":""},{"$f":"IFERROR(INDEX(PTable[3-Method],MATCH(0,IF(CM$1=PTable[2-Test],COUNTIF(CM$1:CM29,PTable[3-Method]), \"\"),0)),\"\")","v":""},{"$f":"IFERROR(INDEX(PTable[3-Method],MATCH(0,IF(CN$1=PTable[2-Test],COUNTIF(CN$1:CN29,PTable[3-Method]), \"\"),0)),\"\")","v":""},{"$f":"IFERROR(INDEX(PTable[3-Method],MATCH(0,IF(CO$1=PTable[2-Test],COUNTIF(CO$1:CO29,PTable[3-Method]), \"\"),0)),\"\")","v":""},{"$f":"IFERROR(INDEX(PTable[3-Method],MATCH(0,IF(CP$1=PTable[2-Test],COUNTIF(CP$1:CP29,PTable[3-Method]), \"\"),0)),\"\")","v":""},{"$f":"IFERROR(INDEX(PTable[3-Method],MATCH(0,IF(CQ$1=PTable[2-Test],COUNTIF(CQ$1:CQ29,PTable[3-Method]), \"\"),0)),\"\")","v":""},{"$f":"IFERROR(INDEX(PTable[3-Method],MATCH(0,IF(CR$1=PTable[2-Test],COUNTIF(CR$1:CR29,PTable[3-Method]), \"\"),0)),\"\")","v":""},{"$f":"IFERROR(INDEX(PTable[3-Method],MATCH(0,IF(CS$1=PTable[2-Test],COUNTIF(CS$1:CS29,PTable[3-Method]), \"\"),0)),\"\")","v":""},{"$f":"IFERROR(INDEX(PTable[3-Method],MATCH(0,IF(CT$1=PTable[2-Test],COUNTIF(CT$1:CT29,PTable[3-Method]), \"\"),0)),\"\")","v":""},{"$f":"IFERROR(INDEX(PTable[3-Method],MATCH(0,IF(CU$1=PTable[2-Test],COUNTIF(CU$1:CU29,PTable[3-Method]), \"\"),0)),\"\")","v":""},{"$f":"IFERROR(INDEX(PTable[3-Method],MATCH(0,IF(CV$1=PTable[2-Test],COUNTIF(CV$1:CV29,PTable[3-Method]), \"\"),0)),\"\")","v":""},{"$f":"IFERROR(INDEX(PTable[3-Method],MATCH(0,IF(CW$1=PTable[2-Test],COUNTIF(CW$1:CW29,PTable[3-Method]), \"\"),0)),\"\")","v":""},{"$f":"IFERROR(INDEX(PTable[3-Method],MATCH(0,IF(CX$1=PTable[2-Test],COUNTIF(CX$1:CX29,PTable[3-Method]), \"\"),0)),\"\")","v":""},{"$f":"IFERROR(INDEX(PTable[3-Method],MATCH(0,IF(CY$1=PTable[2-Test],COUNTIF(CY$1:CY29,PTable[3-Method]), \"\"),0)),\"\")","v":""},{"$f":"IFERROR(INDEX(PTable[3-Method],MATCH(0,IF(CZ$1=PTable[2-Test],COUNTIF(CZ$1:CZ29,PTable[3-Method]), \"\"),0)),\"\")","v":""},{"$f":"IFERROR(INDEX(PTable[3-Method],MATCH(0,IF(DA$1=PTable[2-Test],COUNTIF(DA$1:DA29,PTable[3-Method]), \"\"),0)),\"\")","v":""},{"$f":"IFERROR(INDEX(PTable[3-Method],MATCH(0,IF(DB$1=PTable[2-Test],COUNTIF(DB$1:DB29,PTable[3-Method]), \"\"),0)),\"\")","v":""},{"$f":"IFERROR(INDEX(PTable[3-Method],MATCH(0,IF(DC$1=PTable[2-Test],COUNTIF(DC$1:DC29,PTable[3-Method]), \"\"),0)),\"\")","v":""},{"$f":"IFERROR(INDEX(PTable[3-Method],MATCH(0,IF(DD$1=PTable[2-Test],COUNTIF(DD$1:DD29,PTable[3-Method]), \"\"),0)),\"\")","v":""},{"$f":"IFERROR(INDEX(PTable[3-Method],MATCH(0,IF(DE$1=PTable[2-Test],COUNTIF(DE$1:DE29,PTable[3-Method]), \"\"),0)),\"\")","v":""},{"$f":"IFERROR(INDEX(PTable[3-Method],MATCH(0,IF(DF$1=PTable[2-Test],COUNTIF(DF$1:DF29,PTable[3-Method]), \"\"),0)),\"\")","v":""},{"$f":"IFERROR(INDEX(PTable[3-Method],MATCH(0,IF(DG$1=PTable[2-Test],COUNTIF(DG$1:DG29,PTable[3-Method]), \"\"),0)),\"\")","v":""},{"$f":"IFERROR(INDEX(PTable[3-Method],MATCH(0,IF(DH$1=PTable[2-Test],COUNTIF(DH$1:DH29,PTable[3-Method]), \"\"),0)),\"\")","v":""},{"$f":"IFERROR(INDEX(PTable[3-Method],MATCH(0,IF(DI$1=PTable[2-Test],COUNTIF(DI$1:DI29,PTable[3-Method]), \"\"),0)),\"\")","v":""},{"$f":"IFERROR(INDEX(PTable[3-Method],MATCH(0,IF(DJ$1=PTable[2-Test],COUNTIF(DJ$1:DJ29,PTable[3-Method]), \"\"),0)),\"\")","v":""}]
[null,{"$f":"IFERROR(INDEX(PTable[2-Test],MATCH(0,IF(B$1=PTable[1-Type],COUNTIF(B$1:B30,PTable[2-Test]), \"\"),0)),\"\")","v":"Os.M"},{"$f":"IFERROR(INDEX(PTable[2-Test],MATCH(0,IF(C$1=PTable[1-Type],COUNTIF(C$1:C30,PTable[2-Test]), \"\"),0)),\"\")","v":""},{"$f":"IFERROR(INDEX(PTable[2-Test],MATCH(0,IF(D$1=PTable[1-Type],COUNTIF(D$1:D30,PTable[2-Test]), \"\"),0)),\"\")","v":"WPSC"},{"$f":"IFERROR(INDEX(PTable[2-Test],MATCH(0,IF(E$1=PTable[1-Type],COUNTIF(E$1:E30,PTable[2-Test]), \"\"),0)),\"\")","v":""},{"$f":"IFERROR(INDEX(PTable[2-Test],MATCH(0,IF(F$1=PTable[1-Type],COUNTIF(F$1:F30,PTable[2-Test]), \"\"),0)),\"\")","v":""},{"$f":"IFERROR(INDEX(PTable[3-Method],MATCH(0,IF(G$1=PTable[2-Test],COUNTIF(G$1:G30,PTable[3-Method]), \"\"),0)),\"\")","v":""},{"$f":"IFERROR(INDEX(PTable[3-Method],MATCH(0,IF(H$1=PTable[2-Test],COUNTIF(H$1:H30,PTable[3-Method]), \"\"),0)),\"\")","v":""},{"$f":"IFERROR(INDEX(PTable[3-Method],MATCH(0,IF(I$1=PTable[2-Test],COUNTIF(I$1:I30,PTable[3-Method]), \"\"),0)),\"\")","v":""},{"$f":"IFERROR(INDEX(PTable[3-Method],MATCH(0,IF(J$1=PTable[2-Test],COUNTIF(J$1:J30,PTable[3-Method]), \"\"),0)),\"\")","v":""},{"$f":"IFERROR(INDEX(PTable[3-Method],MATCH(0,IF(K$1=PTable[2-Test],COUNTIF(K$1:K30,PTable[3-Method]), \"\"),0)),\"\")","v":""},{"$f":"IFERROR(INDEX(PTable[3-Method],MATCH(0,IF(L$1=PTable[2-Test],COUNTIF(L$1:L30,PTable[3-Method]), \"\"),0)),\"\")","v":""},{"$f":"IFERROR(INDEX(PTable[3-Method],MATCH(0,IF(M$1=PTable[2-Test],COUNTIF(M$1:M30,PTable[3-Method]), \"\"),0)),\"\")","v":""},{"$f":"IFERROR(INDEX(PTable[3-Method],MATCH(0,IF(N$1=PTable[2-Test],COUNTIF(N$1:N30,PTable[3-Method]), \"\"),0)),\"\")","v":""},{"$f":"IFERROR(INDEX(PTable[3-Method],MATCH(0,IF(O$1=PTable[2-Test],COUNTIF(O$1:O30,PTable[3-Method]), \"\"),0)),\"\")","v":""},{"$f":"IFERROR(INDEX(PTable[3-Method],MATCH(0,IF(P$1=PTable[2-Test],COUNTIF(P$1:P30,PTable[3-Method]), \"\"),0)),\"\")","v":""},{"$f":"IFERROR(INDEX(PTable[3-Method],MATCH(0,IF(Q$1=PTable[2-Test],COUNTIF(Q$1:Q30,PTable[3-Method]), \"\"),0)),\"\")","v":""},{"$f":"IFERROR(INDEX(PTable[3-Method],MATCH(0,IF(R$1=PTable[2-Test],COUNTIF(R$1:R30,PTable[3-Method]), \"\"),0)),\"\")","v":""},{"$f":"IFERROR(INDEX(PTable[3-Method],MATCH(0,IF(S$1=PTable[2-Test],COUNTIF(S$1:S30,PTable[3-Method]), \"\"),0)),\"\")","v":""},{"$f":"IFERROR(INDEX(PTable[3-Method],MATCH(0,IF(T$1=PTable[2-Test],COUNTIF(T$1:T30,PTable[3-Method]), \"\"),0)),\"\")","v":""},{"$f":"IFERROR(INDEX(PTable[3-Method],MATCH(0,IF(U$1=PTable[2-Test],COUNTIF(U$1:U30,PTable[3-Method]), \"\"),0)),\"\")","v":""},{"$f":"IFERROR(INDEX(PTable[3-Method],MATCH(0,IF(V$1=PTable[2-Test],COUNTIF(V$1:V30,PTable[3-Method]), \"\"),0)),\"\")","v":""},{"$f":"IFERROR(INDEX(PTable[3-Method],MATCH(0,IF(W$1=PTable[2-Test],COUNTIF(W$1:W30,PTable[3-Method]), \"\"),0)),\"\")","v":""},{"$f":"IFERROR(INDEX(PTable[3-Method],MATCH(0,IF(X$1=PTable[2-Test],COUNTIF(X$1:X30,PTable[3-Method]), \"\"),0)),\"\")","v":""},{"$f":"IFERROR(INDEX(PTable[3-Method],MATCH(0,IF(Y$1=PTable[2-Test],COUNTIF(Y$1:Y30,PTable[3-Method]), \"\"),0)),\"\")","v":""},{"$f":"IFERROR(INDEX(PTable[3-Method],MATCH(0,IF(Z$1=PTable[2-Test],COUNTIF(Z$1:Z30,PTable[3-Method]), \"\"),0)),\"\")","v":""},{"$f":"IFERROR(INDEX(PTable[3-Method],MATCH(0,IF(AA$1=PTable[2-Test],COUNTIF(AA$1:AA30,PTable[3-Method]), \"\"),0)),\"\")","v":""},{"$f":"IFERROR(INDEX(PTable[3-Method],MATCH(0,IF(AB$1=PTable[2-Test],COUNTIF(AB$1:AB30,PTable[3-Method]), \"\"),0)),\"\")","v":""},{"$f":"IFERROR(INDEX(PTable[3-Method],MATCH(0,IF(AC$1=PTable[2-Test],COUNTIF(AC$1:AC30,PTable[3-Method]), \"\"),0)),\"\")","v":""},{"$f":"IFERROR(INDEX(PTable[3-Method],MATCH(0,IF(AD$1=PTable[2-Test],COUNTIF(AD$1:AD30,PTable[3-Method]), \"\"),0)),\"\")","v":""},{"$f":"IFERROR(INDEX(PTable[3-Method],MATCH(0,IF(AE$1=PTable[2-Test],COUNTIF(AE$1:AE30,PTable[3-Method]), \"\"),0)),\"\")","v":""},{"$f":"IFERROR(INDEX(PTable[3-Method],MATCH(0,IF(AF$1=PTable[2-Test],COUNTIF(AF$1:AF30,PTable[3-Method]), \"\"),0)),\"\")","v":""},{"$f":"IFERROR(INDEX(PTable[3-Method],MATCH(0,IF(AG$1=PTable[2-Test],COUNTIF(AG$1:AG30,PTable[3-Method]), \"\"),0)),\"\")","v":""},{"$f":"IFERROR(INDEX(PTable[3-Method],MATCH(0,IF(AH$1=PTable[2-Test],COUNTIF(AH$1:AH30,PTable[3-Method]), \"\"),0)),\"\")","v":""},{"$f":"IFERROR(INDEX(PTable[3-Method],MATCH(0,IF(AI$1=PTable[2-Test],COUNTIF(AI$1:AI30,PTable[3-Method]), \"\"),0)),\"\")","v":""},{"$f":"IFERROR(INDEX(PTable[3-Method],MATCH(0,IF(AJ$1=PTable[2-Test],COUNTIF(AJ$1:AJ30,PTable[3-Method]), \"\"),0)),\"\")","v":""},{"$f":"IFERROR(INDEX(PTable[3-Method],MATCH(0,IF(AK$1=PTable[2-Test],COUNTIF(AK$1:AK30,PTable[3-Method]), \"\"),0)),\"\")","v":""},{"$f":"IFERROR(INDEX(PTable[3-Method],MATCH(0,IF(AL$1=PTable[2-Test],COUNTIF(AL$1:AL30,PTable[3-Method]), \"\"),0)),\"\")","v":""},{"$f":"IFERROR(INDEX(PTable[3-Method],MATCH(0,IF(AM$1=PTable[2-Test],COUNTIF(AM$1:AM30,PTable[3-Method]), \"\"),0)),\"\")","v":""},{"$f":"IFERROR(INDEX(PTable[3-Method],MATCH(0,IF(AN$1=PTable[2-Test],COUNTIF(AN$1:AN30,PTable[3-Method]), \"\"),0)),\"\")","v":""},{"$f":"IFERROR(INDEX(PTable[3-Method],MATCH(0,IF(AO$1=PTable[2-Test],COUNTIF(AO$1:AO30,PTable[3-Method]), \"\"),0)),\"\")","v":""},{"$f":"IFERROR(INDEX(PTable[3-Method],MATCH(0,IF(AP$1=PTable[2-Test],COUNTIF(AP$1:AP30,PTable[3-Method]), \"\"),0)),\"\")","v":""},{"$f":"IFERROR(INDEX(PTable[3-Method],MATCH(0,IF(AQ$1=PTable[2-Test],COUNTIF(AQ$1:AQ30,PTable[3-Method]), \"\"),0)),\"\")","v":""},{"$f":"IFERROR(INDEX(PTable[3-Method],MATCH(0,IF(AR$1=PTable[2-Test],COUNTIF(AR$1:AR30,PTable[3-Method]), \"\"),0)),\"\")","v":""},{"$f":"IFERROR(INDEX(PTable[3-Method],MATCH(0,IF(AS$1=PTable[2-Test],COUNTIF(AS$1:AS30,PTable[3-Method]), \"\"),0)),\"\")","v":""},{"$f":"IFERROR(INDEX(PTable[3-Method],MATCH(0,IF(AT$1=PTable[2-Test],COUNTIF(AT$1:AT30,PTable[3-Method]), \"\"),0)),\"\")","v":""},{"$f":"IFERROR(INDEX(PTable[3-Method],MATCH(0,IF(AU$1=PTable[2-Test],COUNTIF(AU$1:AU30,PTable[3-Method]), \"\"),0)),\"\")","v":""},{"$f":"IFERROR(INDEX(PTable[3-Method],MATCH(0,IF(AV$1=PTable[2-Test],COUNTIF(AV$1:AV30,PTable[3-Method]), \"\"),0)),\"\")","v":""},{"$f":"IFERROR(INDEX(PTable[3-Method],MATCH(0,IF(AW$1=PTable[2-Test],COUNTIF(AW$1:AW30,PTable[3-Method]), \"\"),0)),\"\")","v":""},{"$f":"IFERROR(INDEX(PTable[3-Method],MATCH(0,IF(AX$1=PTable[2-Test],COUNTIF(AX$1:AX30,PTable[3-Method]), \"\"),0)),\"\")","v":""},{"$f":"IFERROR(INDEX(PTable[3-Method],MATCH(0,IF(AY$1=PTable[2-Test],COUNTIF(AY$1:AY30,PTable[3-Method]), \"\"),0)),\"\")","v":""},{"$f":"IFERROR(INDEX(PTable[3-Method],MATCH(0,IF(AZ$1=PTable[2-Test],COUNTIF(AZ$1:AZ30,PTable[3-Method]), \"\"),0)),\"\")","v":""},{"$f":"IFERROR(INDEX(PTable[3-Method],MATCH(0,IF(BA$1=PTable[2-Test],COUNTIF(BA$1:BA30,PTable[3-Method]), \"\"),0)),\"\")","v":""},{"$f":"IFERROR(INDEX(PTable[3-Method],MATCH(0,IF(BB$1=PTable[2-Test],COUNTIF(BB$1:BB30,PTable[3-Method]), \"\"),0)),\"\")","v":""},{"$f":"IFERROR(INDEX(PTable[3-Method],MATCH(0,IF(BC$1=PTable[2-Test],COUNTIF(BC$1:BC30,PTable[3-Method]), \"\"),0)),\"\")","v":""},{"$f":"IFERROR(INDEX(PTable[3-Method],MATCH(0,IF(BD$1=PTable[2-Test],COUNTIF(BD$1:BD30,PTable[3-Method]), \"\"),0)),\"\")","v":""},{"$f":"IFERROR(INDEX(PTable[3-Method],MATCH(0,IF(BE$1=PTable[2-Test],COUNTIF(BE$1:BE30,PTable[3-Method]), \"\"),0)),\"\")","v":""},{"$f":"IFERROR(INDEX(PTable[3-Method],MATCH(0,IF(BF$1=PTable[2-Test],COUNTIF(BF$1:BF30,PTable[3-Method]), \"\"),0)),\"\")","v":""},{"$f":"IFERROR(INDEX(PTable[3-Method],MATCH(0,IF(BG$1=PTable[2-Test],COUNTIF(BG$1:BG30,PTable[3-Method]), \"\"),0)),\"\")","v":""},{"$f":"IFERROR(INDEX(PTable[3-Method],MATCH(0,IF(BH$1=PTable[2-Test],COUNTIF(BH$1:BH30,PTable[3-Method]), \"\"),0)),\"\")","v":""},{"$f":"IFERROR(INDEX(PTable[3-Method],MATCH(0,IF(BI$1=PTable[2-Test],COUNTIF(BI$1:BI30,PTable[3-Method]), \"\"),0)),\"\")","v":""},{"$f":"IFERROR(INDEX(PTable[3-Method],MATCH(0,IF(BJ$1=PTable[2-Test],COUNTIF(BJ$1:BJ30,PTable[3-Method]), \"\"),0)),\"\")","v":""},{"$f":"IFERROR(INDEX(PTable[3-Method],MATCH(0,IF(BK$1=PTable[2-Test],COUNTIF(BK$1:BK30,PTable[3-Method]), \"\"),0)),\"\")","v":""},{"$f":"IFERROR(INDEX(PTable[3-Method],MATCH(0,IF(BL$1=PTable[2-Test],COUNTIF(BL$1:BL30,PTable[3-Method]), \"\"),0)),\"\")","v":""},{"$f":"IFERROR(INDEX(PTable[3-Method],MATCH(0,IF(BM$1=PTable[2-Test],COUNTIF(BM$1:BM30,PTable[3-Method]), \"\"),0)),\"\")","v":"PCR250g"},{"$f":"IFERROR(INDEX(PTable[3-Method],MATCH(0,IF(BN$1=PTable[2-Test],COUNTIF(BN$1:BN30,PTable[3-Method]), \"\"),0)),\"\")","v":""},{"$f":"IFERROR(INDEX(PTable[3-Method],MATCH(0,IF(BO$1=PTable[2-Test],COUNTIF(BO$1:BO30,PTable[3-Method]), \"\"),0)),\"\")","v":""},{"$f":"IFERROR(INDEX(PTable[3-Method],MATCH(0,IF(BP$1=PTable[2-Test],COUNTIF(BP$1:BP30,PTable[3-Method]), \"\"),0)),\"\")","v":"PCR25g"},{"$f":"IFERROR(INDEX(PTable[3-Method],MATCH(0,IF(BQ$1=PTable[2-Test],COUNTIF(BQ$1:BQ30,PTable[3-Method]), \"\"),0)),\"\")","v":""},{"$f":"IFERROR(INDEX(PTable[3-Method],MATCH(0,IF(BR$1=PTable[2-Test],COUNTIF(BR$1:BR30,PTable[3-Method]), \"\"),0)),\"\")","v":""},{"$f":"IFERROR(INDEX(PTable[3-Method],MATCH(0,IF(BS$1=PTable[2-Test],COUNTIF(BS$1:BS30,PTable[3-Method]), \"\"),0)),\"\")","v":""},{"$f":"IFERROR(INDEX(PTable[3-Method],MATCH(0,IF(BT$1=PTable[2-Test],COUNTIF(BT$1:BT30,PTable[3-Method]), \"\"),0)),\"\")","v":""},{"$f":"IFERROR(INDEX(PTable[3-Method],MATCH(0,IF(BU$1=PTable[2-Test],COUNTIF(BU$1:BU30,PTable[3-Method]), \"\"),0)),\"\")","v":""},{"$f":"IFERROR(INDEX(PTable[3-Method],MATCH(0,IF(BV$1=PTable[2-Test],COUNTIF(BV$1:BV30,PTable[3-Method]), \"\"),0)),\"\")","v":""},{"$f":"IFERROR(INDEX(PTable[3-Method],MATCH(0,IF(BW$1=PTable[2-Test],COUNTIF(BW$1:BW30,PTable[3-Method]), \"\"),0)),\"\")","v":""},{"$f":"IFERROR(INDEX(PTable[3-Method],MATCH(0,IF(BX$1=PTable[2-Test],COUNTIF(BX$1:BX30,PTable[3-Method]), \"\"),0)),\"\")","v":""},{"$f":"IFERROR(INDEX(PTable[3-Method],MATCH(0,IF(BY$1=PTable[2-Test],COUNTIF(BY$1:BY30,PTable[3-Method]), \"\"),0)),\"\")","v":""},{"$f":"IFERROR(INDEX(PTable[3-Method],MATCH(0,IF(BZ$1=PTable[2-Test],COUNTIF(BZ$1:BZ30,PTable[3-Method]), \"\"),0)),\"\")","v":""},{"$f":"IFERROR(INDEX(PTable[3-Method],MATCH(0,IF(CA$1=PTable[2-Test],COUNTIF(CA$1:CA30,PTable[3-Method]), \"\"),0)),\"\")","v":""},{"$f":"IFERROR(INDEX(PTable[3-Method],MATCH(0,IF(CB$1=PTable[2-Test],COUNTIF(CB$1:CB30,PTable[3-Method]), \"\"),0)),\"\")","v":""},{"$f":"IFERROR(INDEX(PTable[3-Method],MATCH(0,IF(CC$1=PTable[2-Test],COUNTIF(CC$1:CC30,PTable[3-Method]), \"\"),0)),\"\")","v":""},{"$f":"IFERROR(INDEX(PTable[3-Method],MATCH(0,IF(CD$1=PTable[2-Test],COUNTIF(CD$1:CD30,PTable[3-Method]), \"\"),0)),\"\")","v":""},{"$f":"IFERROR(INDEX(PTable[3-Method],MATCH(0,IF(CE$1=PTable[2-Test],COUNTIF(CE$1:CE30,PTable[3-Method]), \"\"),0)),\"\")","v":""},{"$f":"IFERROR(INDEX(PTable[3-Method],MATCH(0,IF(CF$1=PTable[2-Test],COUNTIF(CF$1:CF30,PTable[3-Method]), \"\"),0)),\"\")","v":""},{"$f":"IFERROR(INDEX(PTable[3-Method],MATCH(0,IF(CG$1=PTable[2-Test],COUNTIF(CG$1:CG30,PTable[3-Method]), \"\"),0)),\"\")","v":""},{"$f":"IFERROR(INDEX(PTable[3-Method],MATCH(0,IF(CH$1=PTable[2-Test],COUNTIF(CH$1:CH30,PTable[3-Method]), \"\"),0)),\"\")","v":""},{"$f":"IFERROR(INDEX(PTable[3-Method],MATCH(0,IF(CI$1=PTable[2-Test],COUNTIF(CI$1:CI30,PTable[3-Method]), \"\"),0)),\"\")","v":""},{"$f":"IFERROR(INDEX(PTable[3-Method],MATCH(0,IF(CJ$1=PTable[2-Test],COUNTIF(CJ$1:CJ30,PTable[3-Method]), \"\"),0)),\"\")","v":""},{"$f":"IFERROR(INDEX(PTable[3-Method],MATCH(0,IF(CK$1=PTable[2-Test],COUNTIF(CK$1:CK30,PTable[3-Method]), \"\"),0)),\"\")","v":""},{"$f":"IFERROR(INDEX(PTable[3-Method],MATCH(0,IF(CL$1=PTable[2-Test],COUNTIF(CL$1:CL30,PTable[3-Method]), \"\"),0)),\"\")","v":""},{"$f":"IFERROR(INDEX(PTable[3-Method],MATCH(0,IF(CM$1=PTable[2-Test],COUNTIF(CM$1:CM30,PTable[3-Method]), \"\"),0)),\"\")","v":""},{"$f":"IFERROR(INDEX(PTable[3-Method],MATCH(0,IF(CN$1=PTable[2-Test],COUNTIF(CN$1:CN30,PTable[3-Method]), \"\"),0)),\"\")","v":""},{"$f":"IFERROR(INDEX(PTable[3-Method],MATCH(0,IF(CO$1=PTable[2-Test],COUNTIF(CO$1:CO30,PTable[3-Method]), \"\"),0)),\"\")","v":""},{"$f":"IFERROR(INDEX(PTable[3-Method],MATCH(0,IF(CP$1=PTable[2-Test],COUNTIF(CP$1:CP30,PTable[3-Method]), \"\"),0)),\"\")","v":""},{"$f":"IFERROR(INDEX(PTable[3-Method],MATCH(0,IF(CQ$1=PTable[2-Test],COUNTIF(CQ$1:CQ30,PTable[3-Method]), \"\"),0)),\"\")","v":""},{"$f":"IFERROR(INDEX(PTable[3-Method],MATCH(0,IF(CR$1=PTable[2-Test],COUNTIF(CR$1:CR30,PTable[3-Method]), \"\"),0)),\"\")","v":""},{"$f":"IFERROR(INDEX(PTable[3-Method],MATCH(0,IF(CS$1=PTable[2-Test],COUNTIF(CS$1:CS30,PTable[3-Method]), \"\"),0)),\"\")","v":""},{"$f":"IFERROR(INDEX(PTable[3-Method],MATCH(0,IF(CT$1=PTable[2-Test],COUNTIF(CT$1:CT30,PTable[3-Method]), \"\"),0)),\"\")","v":""},{"$f":"IFERROR(INDEX(PTable[3-Method],MATCH(0,IF(CU$1=PTable[2-Test],COUNTIF(CU$1:CU30,PTable[3-Method]), \"\"),0)),\"\")","v":""},{"$f":"IFERROR(INDEX(PTable[3-Method],MATCH(0,IF(CV$1=PTable[2-Test],COUNTIF(CV$1:CV30,PTable[3-Method]), \"\"),0)),\"\")","v":""},{"$f":"IFERROR(INDEX(PTable[3-Method],MATCH(0,IF(CW$1=PTable[2-Test],COUNTIF(CW$1:CW30,PTable[3-Method]), \"\"),0)),\"\")","v":""},{"$f":"IFERROR(INDEX(PTable[3-Method],MATCH(0,IF(CX$1=PTable[2-Test],COUNTIF(CX$1:CX30,PTable[3-Method]), \"\"),0)),\"\")","v":""},{"$f":"IFERROR(INDEX(PTable[3-Method],MATCH(0,IF(CY$1=PTable[2-Test],COUNTIF(CY$1:CY30,PTable[3-Method]), \"\"),0)),\"\")","v":""},{"$f":"IFERROR(INDEX(PTable[3-Method],MATCH(0,IF(CZ$1=PTable[2-Test],COUNTIF(CZ$1:CZ30,PTable[3-Method]), \"\"),0)),\"\")","v":""},{"$f":"IFERROR(INDEX(PTable[3-Method],MATCH(0,IF(DA$1=PTable[2-Test],COUNTIF(DA$1:DA30,PTable[3-Method]), \"\"),0)),\"\")","v":""},{"$f":"IFERROR(INDEX(PTable[3-Method],MATCH(0,IF(DB$1=PTable[2-Test],COUNTIF(DB$1:DB30,PTable[3-Method]), \"\"),0)),\"\")","v":""},{"$f":"IFERROR(INDEX(PTable[3-Method],MATCH(0,IF(DC$1=PTable[2-Test],COUNTIF(DC$1:DC30,PTable[3-Method]), \"\"),0)),\"\")","v":""},{"$f":"IFERROR(INDEX(PTable[3-Method],MATCH(0,IF(DD$1=PTable[2-Test],COUNTIF(DD$1:DD30,PTable[3-Method]), \"\"),0)),\"\")","v":""},{"$f":"IFERROR(INDEX(PTable[3-Method],MATCH(0,IF(DE$1=PTable[2-Test],COUNTIF(DE$1:DE30,PTable[3-Method]), \"\"),0)),\"\")","v":""},{"$f":"IFERROR(INDEX(PTable[3-Method],MATCH(0,IF(DF$1=PTable[2-Test],COUNTIF(DF$1:DF30,PTable[3-Method]), \"\"),0)),\"\")","v":""},{"$f":"IFERROR(INDEX(PTable[3-Method],MATCH(0,IF(DG$1=PTable[2-Test],COUNTIF(DG$1:DG30,PTable[3-Method]), \"\"),0)),\"\")","v":""},{"$f":"IFERROR(INDEX(PTable[3-Method],MATCH(0,IF(DH$1=PTable[2-Test],COUNTIF(DH$1:DH30,PTable[3-Method]), \"\"),0)),\"\")","v":""},{"$f":"IFERROR(INDEX(PTable[3-Method],MATCH(0,IF(DI$1=PTable[2-Test],COUNTIF(DI$1:DI30,PTable[3-Method]), \"\"),0)),\"\")","v":""},{"$f":"IFERROR(INDEX(PTable[3-Method],MATCH(0,IF(DJ$1=PTable[2-Test],COUNTIF(DJ$1:DJ30,PTable[3-Method]), \"\"),0)),\"\")","v":""}]
[null,{"$f":"IFERROR(INDEX(PTable[2-Test],MATCH(0,IF(B$1=PTable[1-Type],COUNTIF(B$1:B31,PTable[2-Test]), \"\"),0)),\"\")","v":"Os.Y"},{"$f":"IFERROR(INDEX(PTable[2-Test],MATCH(0,IF(C$1=PTable[1-Type],COUNTIF(C$1:C31,PTable[2-Test]), \"\"),0)),\"\")","v":""},{"$f":"IFERROR(INDEX(PTable[2-Test],MATCH(0,IF(D$1=PTable[1-Type],COUNTIF(D$1:D31,PTable[2-Test]), \"\"),0)),\"\")","v":""},{"$f":"IFERROR(INDEX(PTable[2-Test],MATCH(0,IF(E$1=PTable[1-Type],COUNTIF(E$1:E31,PTable[2-Test]), \"\"),0)),\"\")","v":""},{"$f":"IFERROR(INDEX(PTable[2-Test],MATCH(0,IF(F$1=PTable[1-Type],COUNTIF(F$1:F31,PTable[2-Test]), \"\"),0)),\"\")","v":""},{"$f":"IFERROR(INDEX(PTable[3-Method],MATCH(0,IF(G$1=PTable[2-Test],COUNTIF(G$1:G31,PTable[3-Method]), \"\"),0)),\"\")","v":""},{"$f":"IFERROR(INDEX(PTable[3-Method],MATCH(0,IF(H$1=PTable[2-Test],COUNTIF(H$1:H31,PTable[3-Method]), \"\"),0)),\"\")","v":""},{"$f":"IFERROR(INDEX(PTable[3-Method],MATCH(0,IF(I$1=PTable[2-Test],COUNTIF(I$1:I31,PTable[3-Method]), \"\"),0)),\"\")","v":""},{"$f":"IFERROR(INDEX(PTable[3-Method],MATCH(0,IF(J$1=PTable[2-Test],COUNTIF(J$1:J31,PTable[3-Method]), \"\"),0)),\"\")","v":""},{"$f":"IFERROR(INDEX(PTable[3-Method],MATCH(0,IF(K$1=PTable[2-Test],COUNTIF(K$1:K31,PTable[3-Method]), \"\"),0)),\"\")","v":""},{"$f":"IFERROR(INDEX(PTable[3-Method],MATCH(0,IF(L$1=PTable[2-Test],COUNTIF(L$1:L31,PTable[3-Method]), \"\"),0)),\"\")","v":""},{"$f":"IFERROR(INDEX(PTable[3-Method],MATCH(0,IF(M$1=PTable[2-Test],COUNTIF(M$1:M31,PTable[3-Method]), \"\"),0)),\"\")","v":""},{"$f":"IFERROR(INDEX(PTable[3-Method],MATCH(0,IF(N$1=PTable[2-Test],COUNTIF(N$1:N31,PTable[3-Method]), \"\"),0)),\"\")","v":""},{"$f":"IFERROR(INDEX(PTable[3-Method],MATCH(0,IF(O$1=PTable[2-Test],COUNTIF(O$1:O31,PTable[3-Method]), \"\"),0)),\"\")","v":""},{"$f":"IFERROR(INDEX(PTable[3-Method],MATCH(0,IF(P$1=PTable[2-Test],COUNTIF(P$1:P31,PTable[3-Method]), \"\"),0)),\"\")","v":""},{"$f":"IFERROR(INDEX(PTable[3-Method],MATCH(0,IF(Q$1=PTable[2-Test],COUNTIF(Q$1:Q31,PTable[3-Method]), \"\"),0)),\"\")","v":""},{"$f":"IFERROR(INDEX(PTable[3-Method],MATCH(0,IF(R$1=PTable[2-Test],COUNTIF(R$1:R31,PTable[3-Method]), \"\"),0)),\"\")","v":""},{"$f":"IFERROR(INDEX(PTable[3-Method],MATCH(0,IF(S$1=PTable[2-Test],COUNTIF(S$1:S31,PTable[3-Method]), \"\"),0)),\"\")","v":""},{"$f":"IFERROR(INDEX(PTable[3-Method],MATCH(0,IF(T$1=PTable[2-Test],COUNTIF(T$1:T31,PTable[3-Method]), \"\"),0)),\"\")","v":""},{"$f":"IFERROR(INDEX(PTable[3-Method],MATCH(0,IF(U$1=PTable[2-Test],COUNTIF(U$1:U31,PTable[3-Method]), \"\"),0)),\"\")","v":""},{"$f":"IFERROR(INDEX(PTable[3-Method],MATCH(0,IF(V$1=PTable[2-Test],COUNTIF(V$1:V31,PTable[3-Method]), \"\"),0)),\"\")","v":""},{"$f":"IFERROR(INDEX(PTable[3-Method],MATCH(0,IF(W$1=PTable[2-Test],COUNTIF(W$1:W31,PTable[3-Method]), \"\"),0)),\"\")","v":""},{"$f":"IFERROR(INDEX(PTable[3-Method],MATCH(0,IF(X$1=PTable[2-Test],COUNTIF(X$1:X31,PTable[3-Method]), \"\"),0)),\"\")","v":""},{"$f":"IFERROR(INDEX(PTable[3-Method],MATCH(0,IF(Y$1=PTable[2-Test],COUNTIF(Y$1:Y31,PTable[3-Method]), \"\"),0)),\"\")","v":""},{"$f":"IFERROR(INDEX(PTable[3-Method],MATCH(0,IF(Z$1=PTable[2-Test],COUNTIF(Z$1:Z31,PTable[3-Method]), \"\"),0)),\"\")","v":""},{"$f":"IFERROR(INDEX(PTable[3-Method],MATCH(0,IF(AA$1=PTable[2-Test],COUNTIF(AA$1:AA31,PTable[3-Method]), \"\"),0)),\"\")","v":""},{"$f":"IFERROR(INDEX(PTable[3-Method],MATCH(0,IF(AB$1=PTable[2-Test],COUNTIF(AB$1:AB31,PTable[3-Method]), \"\"),0)),\"\")","v":""},{"$f":"IFERROR(INDEX(PTable[3-Method],MATCH(0,IF(AC$1=PTable[2-Test],COUNTIF(AC$1:AC31,PTable[3-Method]), \"\"),0)),\"\")","v":""},{"$f":"IFERROR(INDEX(PTable[3-Method],MATCH(0,IF(AD$1=PTable[2-Test],COUNTIF(AD$1:AD31,PTable[3-Method]), \"\"),0)),\"\")","v":""},{"$f":"IFERROR(INDEX(PTable[3-Method],MATCH(0,IF(AE$1=PTable[2-Test],COUNTIF(AE$1:AE31,PTable[3-Method]), \"\"),0)),\"\")","v":""},{"$f":"IFERROR(INDEX(PTable[3-Method],MATCH(0,IF(AF$1=PTable[2-Test],COUNTIF(AF$1:AF31,PTable[3-Method]), \"\"),0)),\"\")","v":""},{"$f":"IFERROR(INDEX(PTable[3-Method],MATCH(0,IF(AG$1=PTable[2-Test],COUNTIF(AG$1:AG31,PTable[3-Method]), \"\"),0)),\"\")","v":""},{"$f":"IFERROR(INDEX(PTable[3-Method],MATCH(0,IF(AH$1=PTable[2-Test],COUNTIF(AH$1:AH31,PTable[3-Method]), \"\"),0)),\"\")","v":""},{"$f":"IFERROR(INDEX(PTable[3-Method],MATCH(0,IF(AI$1=PTable[2-Test],COUNTIF(AI$1:AI31,PTable[3-Method]), \"\"),0)),\"\")","v":""},{"$f":"IFERROR(INDEX(PTable[3-Method],MATCH(0,IF(AJ$1=PTable[2-Test],COUNTIF(AJ$1:AJ31,PTable[3-Method]), \"\"),0)),\"\")","v":""},{"$f":"IFERROR(INDEX(PTable[3-Method],MATCH(0,IF(AK$1=PTable[2-Test],COUNTIF(AK$1:AK31,PTable[3-Method]), \"\"),0)),\"\")","v":""},{"$f":"IFERROR(INDEX(PTable[3-Method],MATCH(0,IF(AL$1=PTable[2-Test],COUNTIF(AL$1:AL31,PTable[3-Method]), \"\"),0)),\"\")","v":""},{"$f":"IFERROR(INDEX(PTable[3-Method],MATCH(0,IF(AM$1=PTable[2-Test],COUNTIF(AM$1:AM31,PTable[3-Method]), \"\"),0)),\"\")","v":""},{"$f":"IFERROR(INDEX(PTable[3-Method],MATCH(0,IF(AN$1=PTable[2-Test],COUNTIF(AN$1:AN31,PTable[3-Method]), \"\"),0)),\"\")","v":""},{"$f":"IFERROR(INDEX(PTable[3-Method],MATCH(0,IF(AO$1=PTable[2-Test],COUNTIF(AO$1:AO31,PTable[3-Method]), \"\"),0)),\"\")","v":""},{"$f":"IFERROR(INDEX(PTable[3-Method],MATCH(0,IF(AP$1=PTable[2-Test],COUNTIF(AP$1:AP31,PTable[3-Method]), \"\"),0)),\"\")","v":""},{"$f":"IFERROR(INDEX(PTable[3-Method],MATCH(0,IF(AQ$1=PTable[2-Test],COUNTIF(AQ$1:AQ31,PTable[3-Method]), \"\"),0)),\"\")","v":""},{"$f":"IFERROR(INDEX(PTable[3-Method],MATCH(0,IF(AR$1=PTable[2-Test],COUNTIF(AR$1:AR31,PTable[3-Method]), \"\"),0)),\"\")","v":""},{"$f":"IFERROR(INDEX(PTable[3-Method],MATCH(0,IF(AS$1=PTable[2-Test],COUNTIF(AS$1:AS31,PTable[3-Method]), \"\"),0)),\"\")","v":""},{"$f":"IFERROR(INDEX(PTable[3-Method],MATCH(0,IF(AT$1=PTable[2-Test],COUNTIF(AT$1:AT31,PTable[3-Method]), \"\"),0)),\"\")","v":""},{"$f":"IFERROR(INDEX(PTable[3-Method],MATCH(0,IF(AU$1=PTable[2-Test],COUNTIF(AU$1:AU31,PTable[3-Method]), \"\"),0)),\"\")","v":""},{"$f":"IFERROR(INDEX(PTable[3-Method],MATCH(0,IF(AV$1=PTable[2-Test],COUNTIF(AV$1:AV31,PTable[3-Method]), \"\"),0)),\"\")","v":""},{"$f":"IFERROR(INDEX(PTable[3-Method],MATCH(0,IF(AW$1=PTable[2-Test],COUNTIF(AW$1:AW31,PTable[3-Method]), \"\"),0)),\"\")","v":""},{"$f":"IFERROR(INDEX(PTable[3-Method],MATCH(0,IF(AX$1=PTable[2-Test],COUNTIF(AX$1:AX31,PTable[3-Method]), \"\"),0)),\"\")","v":""},{"$f":"IFERROR(INDEX(PTable[3-Method],MATCH(0,IF(AY$1=PTable[2-Test],COUNTIF(AY$1:AY31,PTable[3-Method]), \"\"),0)),\"\")","v":""},{"$f":"IFERROR(INDEX(PTable[3-Method],MATCH(0,IF(AZ$1=PTable[2-Test],COUNTIF(AZ$1:AZ31,PTable[3-Method]), \"\"),0)),\"\")","v":""},{"$f":"IFERROR(INDEX(PTable[3-Method],MATCH(0,IF(BA$1=PTable[2-Test],COUNTIF(BA$1:BA31,PTable[3-Method]), \"\"),0)),\"\")","v":""},{"$f":"IFERROR(INDEX(PTable[3-Method],MATCH(0,IF(BB$1=PTable[2-Test],COUNTIF(BB$1:BB31,PTable[3-Method]), \"\"),0)),\"\")","v":""},{"$f":"IFERROR(INDEX(PTable[3-Method],MATCH(0,IF(BC$1=PTable[2-Test],COUNTIF(BC$1:BC31,PTable[3-Method]), \"\"),0)),\"\")","v":""},{"$f":"IFERROR(INDEX(PTable[3-Method],MATCH(0,IF(BD$1=PTable[2-Test],COUNTIF(BD$1:BD31,PTable[3-Method]), \"\"),0)),\"\")","v":""},{"$f":"IFERROR(INDEX(PTable[3-Method],MATCH(0,IF(BE$1=PTable[2-Test],COUNTIF(BE$1:BE31,PTable[3-Method]), \"\"),0)),\"\")","v":""},{"$f":"IFERROR(INDEX(PTable[3-Method],MATCH(0,IF(BF$1=PTable[2-Test],COUNTIF(BF$1:BF31,PTable[3-Method]), \"\"),0)),\"\")","v":""},{"$f":"IFERROR(INDEX(PTable[3-Method],MATCH(0,IF(BG$1=PTable[2-Test],COUNTIF(BG$1:BG31,PTable[3-Method]), \"\"),0)),\"\")","v":""},{"$f":"IFERROR(INDEX(PTable[3-Method],MATCH(0,IF(BH$1=PTable[2-Test],COUNTIF(BH$1:BH31,PTable[3-Method]), \"\"),0)),\"\")","v":""},{"$f":"IFERROR(INDEX(PTable[3-Method],MATCH(0,IF(BI$1=PTable[2-Test],COUNTIF(BI$1:BI31,PTable[3-Method]), \"\"),0)),\"\")","v":""},{"$f":"IFERROR(INDEX(PTable[3-Method],MATCH(0,IF(BJ$1=PTable[2-Test],COUNTIF(BJ$1:BJ31,PTable[3-Method]), \"\"),0)),\"\")","v":""},{"$f":"IFERROR(INDEX(PTable[3-Method],MATCH(0,IF(BK$1=PTable[2-Test],COUNTIF(BK$1:BK31,PTable[3-Method]), \"\"),0)),\"\")","v":""},{"$f":"IFERROR(INDEX(PTable[3-Method],MATCH(0,IF(BL$1=PTable[2-Test],COUNTIF(BL$1:BL31,PTable[3-Method]), \"\"),0)),\"\")","v":""},{"$f":"IFERROR(INDEX(PTable[3-Method],MATCH(0,IF(BM$1=PTable[2-Test],COUNTIF(BM$1:BM31,PTable[3-Method]), \"\"),0)),\"\")","v":"PCR25g"},{"$f":"IFERROR(INDEX(PTable[3-Method],MATCH(0,IF(BN$1=PTable[2-Test],COUNTIF(BN$1:BN31,PTable[3-Method]), \"\"),0)),\"\")","v":""},{"$f":"IFERROR(INDEX(PTable[3-Method],MATCH(0,IF(BO$1=PTable[2-Test],COUNTIF(BO$1:BO31,PTable[3-Method]), \"\"),0)),\"\")","v":""},{"$f":"IFERROR(INDEX(PTable[3-Method],MATCH(0,IF(BP$1=PTable[2-Test],COUNTIF(BP$1:BP31,PTable[3-Method]), \"\"),0)),\"\")","v":"PCR30mL"},{"$f":"IFERROR(INDEX(PTable[3-Method],MATCH(0,IF(BQ$1=PTable[2-Test],COUNTIF(BQ$1:BQ31,PTable[3-Method]), \"\"),0)),\"\")","v":""},{"$f":"IFERROR(INDEX(PTable[3-Method],MATCH(0,IF(BR$1=PTable[2-Test],COUNTIF(BR$1:BR31,PTable[3-Method]), \"\"),0)),\"\")","v":""},{"$f":"IFERROR(INDEX(PTable[3-Method],MATCH(0,IF(BS$1=PTable[2-Test],COUNTIF(BS$1:BS31,PTable[3-Method]), \"\"),0)),\"\")","v":""},{"$f":"IFERROR(INDEX(PTable[3-Method],MATCH(0,IF(BT$1=PTable[2-Test],COUNTIF(BT$1:BT31,PTable[3-Method]), \"\"),0)),\"\")","v":""},{"$f":"IFERROR(INDEX(PTable[3-Method],MATCH(0,IF(BU$1=PTable[2-Test],COUNTIF(BU$1:BU31,PTable[3-Method]), \"\"),0)),\"\")","v":""},{"$f":"IFERROR(INDEX(PTable[3-Method],MATCH(0,IF(BV$1=PTable[2-Test],COUNTIF(BV$1:BV31,PTable[3-Method]), \"\"),0)),\"\")","v":""},{"$f":"IFERROR(INDEX(PTable[3-Method],MATCH(0,IF(BW$1=PTable[2-Test],COUNTIF(BW$1:BW31,PTable[3-Method]), \"\"),0)),\"\")","v":""},{"$f":"IFERROR(INDEX(PTable[3-Method],MATCH(0,IF(BX$1=PTable[2-Test],COUNTIF(BX$1:BX31,PTable[3-Method]), \"\"),0)),\"\")","v":""},{"$f":"IFERROR(INDEX(PTable[3-Method],MATCH(0,IF(BY$1=PTable[2-Test],COUNTIF(BY$1:BY31,PTable[3-Method]), \"\"),0)),\"\")","v":""},{"$f":"IFERROR(INDEX(PTable[3-Method],MATCH(0,IF(BZ$1=PTable[2-Test],COUNTIF(BZ$1:BZ31,PTable[3-Method]), \"\"),0)),\"\")","v":""},{"$f":"IFERROR(INDEX(PTable[3-Method],MATCH(0,IF(CA$1=PTable[2-Test],COUNTIF(CA$1:CA31,PTable[3-Method]), \"\"),0)),\"\")","v":""},{"$f":"IFERROR(INDEX(PTable[3-Method],MATCH(0,IF(CB$1=PTable[2-Test],COUNTIF(CB$1:CB31,PTable[3-Method]), \"\"),0)),\"\")","v":""},{"$f":"IFERROR(INDEX(PTable[3-Method],MATCH(0,IF(CC$1=PTable[2-Test],COUNTIF(CC$1:CC31,PTable[3-Method]), \"\"),0)),\"\")","v":""},{"$f":"IFERROR(INDEX(PTable[3-Method],MATCH(0,IF(CD$1=PTable[2-Test],COUNTIF(CD$1:CD31,PTable[3-Method]), \"\"),0)),\"\")","v":""},{"$f":"IFERROR(INDEX(PTable[3-Method],MATCH(0,IF(CE$1=PTable[2-Test],COUNTIF(CE$1:CE31,PTable[3-Method]), \"\"),0)),\"\")","v":""},{"$f":"IFERROR(INDEX(PTable[3-Method],MATCH(0,IF(CF$1=PTable[2-Test],COUNTIF(CF$1:CF31,PTable[3-Method]), \"\"),0)),\"\")","v":""},{"$f":"IFERROR(INDEX(PTable[3-Method],MATCH(0,IF(CG$1=PTable[2-Test],COUNTIF(CG$1:CG31,PTable[3-Method]), \"\"),0)),\"\")","v":""},{"$f":"IFERROR(INDEX(PTable[3-Method],MATCH(0,IF(CH$1=PTable[2-Test],COUNTIF(CH$1:CH31,PTable[3-Method]), \"\"),0)),\"\")","v":""},{"$f":"IFERROR(INDEX(PTable[3-Method],MATCH(0,IF(CI$1=PTable[2-Test],COUNTIF(CI$1:CI31,PTable[3-Method]), \"\"),0)),\"\")","v":""},{"$f":"IFERROR(INDEX(PTable[3-Method],MATCH(0,IF(CJ$1=PTable[2-Test],COUNTIF(CJ$1:CJ31,PTable[3-Method]), \"\"),0)),\"\")","v":""},{"$f":"IFERROR(INDEX(PTable[3-Method],MATCH(0,IF(CK$1=PTable[2-Test],COUNTIF(CK$1:CK31,PTable[3-Method]), \"\"),0)),\"\")","v":""},{"$f":"IFERROR(INDEX(PTable[3-Method],MATCH(0,IF(CL$1=PTable[2-Test],COUNTIF(CL$1:CL31,PTable[3-Method]), \"\"),0)),\"\")","v":""},{"$f":"IFERROR(INDEX(PTable[3-Method],MATCH(0,IF(CM$1=PTable[2-Test],COUNTIF(CM$1:CM31,PTable[3-Method]), \"\"),0)),\"\")","v":""},{"$f":"IFERROR(INDEX(PTable[3-Method],MATCH(0,IF(CN$1=PTable[2-Test],COUNTIF(CN$1:CN31,PTable[3-Method]), \"\"),0)),\"\")","v":""},{"$f":"IFERROR(INDEX(PTable[3-Method],MATCH(0,IF(CO$1=PTable[2-Test],COUNTIF(CO$1:CO31,PTable[3-Method]), \"\"),0)),\"\")","v":""},{"$f":"IFERROR(INDEX(PTable[3-Method],MATCH(0,IF(CP$1=PTable[2-Test],COUNTIF(CP$1:CP31,PTable[3-Method]), \"\"),0)),\"\")","v":""},{"$f":"IFERROR(INDEX(PTable[3-Method],MATCH(0,IF(CQ$1=PTable[2-Test],COUNTIF(CQ$1:CQ31,PTable[3-Method]), \"\"),0)),\"\")","v":""},{"$f":"IFERROR(INDEX(PTable[3-Method],MATCH(0,IF(CR$1=PTable[2-Test],COUNTIF(CR$1:CR31,PTable[3-Method]), \"\"),0)),\"\")","v":""},{"$f":"IFERROR(INDEX(PTable[3-Method],MATCH(0,IF(CS$1=PTable[2-Test],COUNTIF(CS$1:CS31,PTable[3-Method]), \"\"),0)),\"\")","v":""},{"$f":"IFERROR(INDEX(PTable[3-Method],MATCH(0,IF(CT$1=PTable[2-Test],COUNTIF(CT$1:CT31,PTable[3-Method]), \"\"),0)),\"\")","v":""},{"$f":"IFERROR(INDEX(PTable[3-Method],MATCH(0,IF(CU$1=PTable[2-Test],COUNTIF(CU$1:CU31,PTable[3-Method]), \"\"),0)),\"\")","v":""},{"$f":"IFERROR(INDEX(PTable[3-Method],MATCH(0,IF(CV$1=PTable[2-Test],COUNTIF(CV$1:CV31,PTable[3-Method]), \"\"),0)),\"\")","v":""},{"$f":"IFERROR(INDEX(PTable[3-Method],MATCH(0,IF(CW$1=PTable[2-Test],COUNTIF(CW$1:CW31,PTable[3-Method]), \"\"),0)),\"\")","v":""},{"$f":"IFERROR(INDEX(PTable[3-Method],MATCH(0,IF(CX$1=PTable[2-Test],COUNTIF(CX$1:CX31,PTable[3-Method]), \"\"),0)),\"\")","v":""},{"$f":"IFERROR(INDEX(PTable[3-Method],MATCH(0,IF(CY$1=PTable[2-Test],COUNTIF(CY$1:CY31,PTable[3-Method]), \"\"),0)),\"\")","v":""},{"$f":"IFERROR(INDEX(PTable[3-Method],MATCH(0,IF(CZ$1=PTable[2-Test],COUNTIF(CZ$1:CZ31,PTable[3-Method]), \"\"),0)),\"\")","v":""},{"$f":"IFERROR(INDEX(PTable[3-Method],MATCH(0,IF(DA$1=PTable[2-Test],COUNTIF(DA$1:DA31,PTable[3-Method]), \"\"),0)),\"\")","v":""},{"$f":"IFERROR(INDEX(PTable[3-Method],MATCH(0,IF(DB$1=PTable[2-Test],COUNTIF(DB$1:DB31,PTable[3-Method]), \"\"),0)),\"\")","v":""},{"$f":"IFERROR(INDEX(PTable[3-Method],MATCH(0,IF(DC$1=PTable[2-Test],COUNTIF(DC$1:DC31,PTable[3-Method]), \"\"),0)),\"\")","v":""},{"$f":"IFERROR(INDEX(PTable[3-Method],MATCH(0,IF(DD$1=PTable[2-Test],COUNTIF(DD$1:DD31,PTable[3-Method]), \"\"),0)),\"\")","v":""},{"$f":"IFERROR(INDEX(PTable[3-Method],MATCH(0,IF(DE$1=PTable[2-Test],COUNTIF(DE$1:DE31,PTable[3-Method]), \"\"),0)),\"\")","v":""},{"$f":"IFERROR(INDEX(PTable[3-Method],MATCH(0,IF(DF$1=PTable[2-Test],COUNTIF(DF$1:DF31,PTable[3-Method]), \"\"),0)),\"\")","v":""},{"$f":"IFERROR(INDEX(PTable[3-Method],MATCH(0,IF(DG$1=PTable[2-Test],COUNTIF(DG$1:DG31,PTable[3-Method]), \"\"),0)),\"\")","v":""},{"$f":"IFERROR(INDEX(PTable[3-Method],MATCH(0,IF(DH$1=PTable[2-Test],COUNTIF(DH$1:DH31,PTable[3-Method]), \"\"),0)),\"\")","v":""},{"$f":"IFERROR(INDEX(PTable[3-Method],MATCH(0,IF(DI$1=PTable[2-Test],COUNTIF(DI$1:DI31,PTable[3-Method]), \"\"),0)),\"\")","v":""},{"$f":"IFERROR(INDEX(PTable[3-Method],MATCH(0,IF(DJ$1=PTable[2-Test],COUNTIF(DJ$1:DJ31,PTable[3-Method]), \"\"),0)),\"\")","v":""}]
[null,{"$f":"IFERROR(INDEX(PTable[2-Test],MATCH(0,IF(B$1=PTable[1-Type],COUNTIF(B$1:B32,PTable[2-Test]), \"\"),0)),\"\")","v":"Pseud.sp"},{"$f":"IFERROR(INDEX(PTable[2-Test],MATCH(0,IF(C$1=PTable[1-Type],COUNTIF(C$1:C32,PTable[2-Test]), \"\"),0)),\"\")","v":""},{"$f":"IFERROR(INDEX(PTable[2-Test],MATCH(0,IF(D$1=PTable[1-Type],COUNTIF(D$1:D32,PTable[2-Test]), \"\"),0)),\"\")","v":""},{"$f":"IFERROR(INDEX(PTable[2-Test],MATCH(0,IF(E$1=PTable[1-Type],COUNTIF(E$1:E32,PTable[2-Test]), \"\"),0)),\"\")","v":""},{"$f":"IFERROR(INDEX(PTable[2-Test],MATCH(0,IF(F$1=PTable[1-Type],COUNTIF(F$1:F32,PTable[2-Test]), \"\"),0)),\"\")","v":""},{"$f":"IFERROR(INDEX(PTable[3-Method],MATCH(0,IF(G$1=PTable[2-Test],COUNTIF(G$1:G32,PTable[3-Method]), \"\"),0)),\"\")","v":""},{"$f":"IFERROR(INDEX(PTable[3-Method],MATCH(0,IF(H$1=PTable[2-Test],COUNTIF(H$1:H32,PTable[3-Method]), \"\"),0)),\"\")","v":""},{"$f":"IFERROR(INDEX(PTable[3-Method],MATCH(0,IF(I$1=PTable[2-Test],COUNTIF(I$1:I32,PTable[3-Method]), \"\"),0)),\"\")","v":""},{"$f":"IFERROR(INDEX(PTable[3-Method],MATCH(0,IF(J$1=PTable[2-Test],COUNTIF(J$1:J32,PTable[3-Method]), \"\"),0)),\"\")","v":""},{"$f":"IFERROR(INDEX(PTable[3-Method],MATCH(0,IF(K$1=PTable[2-Test],COUNTIF(K$1:K32,PTable[3-Method]), \"\"),0)),\"\")","v":""},{"$f":"IFERROR(INDEX(PTable[3-Method],MATCH(0,IF(L$1=PTable[2-Test],COUNTIF(L$1:L32,PTable[3-Method]), \"\"),0)),\"\")","v":""},{"$f":"IFERROR(INDEX(PTable[3-Method],MATCH(0,IF(M$1=PTable[2-Test],COUNTIF(M$1:M32,PTable[3-Method]), \"\"),0)),\"\")","v":""},{"$f":"IFERROR(INDEX(PTable[3-Method],MATCH(0,IF(N$1=PTable[2-Test],COUNTIF(N$1:N32,PTable[3-Method]), \"\"),0)),\"\")","v":""},{"$f":"IFERROR(INDEX(PTable[3-Method],MATCH(0,IF(O$1=PTable[2-Test],COUNTIF(O$1:O32,PTable[3-Method]), \"\"),0)),\"\")","v":""},{"$f":"IFERROR(INDEX(PTable[3-Method],MATCH(0,IF(P$1=PTable[2-Test],COUNTIF(P$1:P32,PTable[3-Method]), \"\"),0)),\"\")","v":""},{"$f":"IFERROR(INDEX(PTable[3-Method],MATCH(0,IF(Q$1=PTable[2-Test],COUNTIF(Q$1:Q32,PTable[3-Method]), \"\"),0)),\"\")","v":""},{"$f":"IFERROR(INDEX(PTable[3-Method],MATCH(0,IF(R$1=PTable[2-Test],COUNTIF(R$1:R32,PTable[3-Method]), \"\"),0)),\"\")","v":""},{"$f":"IFERROR(INDEX(PTable[3-Method],MATCH(0,IF(S$1=PTable[2-Test],COUNTIF(S$1:S32,PTable[3-Method]), \"\"),0)),\"\")","v":""},{"$f":"IFERROR(INDEX(PTable[3-Method],MATCH(0,IF(T$1=PTable[2-Test],COUNTIF(T$1:T32,PTable[3-Method]), \"\"),0)),\"\")","v":""},{"$f":"IFERROR(INDEX(PTable[3-Method],MATCH(0,IF(U$1=PTable[2-Test],COUNTIF(U$1:U32,PTable[3-Method]), \"\"),0)),\"\")","v":""},{"$f":"IFERROR(INDEX(PTable[3-Method],MATCH(0,IF(V$1=PTable[2-Test],COUNTIF(V$1:V32,PTable[3-Method]), \"\"),0)),\"\")","v":""},{"$f":"IFERROR(INDEX(PTable[3-Method],MATCH(0,IF(W$1=PTable[2-Test],COUNTIF(W$1:W32,PTable[3-Method]), \"\"),0)),\"\")","v":""},{"$f":"IFERROR(INDEX(PTable[3-Method],MATCH(0,IF(X$1=PTable[2-Test],COUNTIF(X$1:X32,PTable[3-Method]), \"\"),0)),\"\")","v":""},{"$f":"IFERROR(INDEX(PTable[3-Method],MATCH(0,IF(Y$1=PTable[2-Test],COUNTIF(Y$1:Y32,PTable[3-Method]), \"\"),0)),\"\")","v":""},{"$f":"IFERROR(INDEX(PTable[3-Method],MATCH(0,IF(Z$1=PTable[2-Test],COUNTIF(Z$1:Z32,PTable[3-Method]), \"\"),0)),\"\")","v":""},{"$f":"IFERROR(INDEX(PTable[3-Method],MATCH(0,IF(AA$1=PTable[2-Test],COUNTIF(AA$1:AA32,PTable[3-Method]), \"\"),0)),\"\")","v":""},{"$f":"IFERROR(INDEX(PTable[3-Method],MATCH(0,IF(AB$1=PTable[2-Test],COUNTIF(AB$1:AB32,PTable[3-Method]), \"\"),0)),\"\")","v":""},{"$f":"IFERROR(INDEX(PTable[3-Method],MATCH(0,IF(AC$1=PTable[2-Test],COUNTIF(AC$1:AC32,PTable[3-Method]), \"\"),0)),\"\")","v":""},{"$f":"IFERROR(INDEX(PTable[3-Method],MATCH(0,IF(AD$1=PTable[2-Test],COUNTIF(AD$1:AD32,PTable[3-Method]), \"\"),0)),\"\")","v":""},{"$f":"IFERROR(INDEX(PTable[3-Method],MATCH(0,IF(AE$1=PTable[2-Test],COUNTIF(AE$1:AE32,PTable[3-Method]), \"\"),0)),\"\")","v":""},{"$f":"IFERROR(INDEX(PTable[3-Method],MATCH(0,IF(AF$1=PTable[2-Test],COUNTIF(AF$1:AF32,PTable[3-Method]), \"\"),0)),\"\")","v":""},{"$f":"IFERROR(INDEX(PTable[3-Method],MATCH(0,IF(AG$1=PTable[2-Test],COUNTIF(AG$1:AG32,PTable[3-Method]), \"\"),0)),\"\")","v":""},{"$f":"IFERROR(INDEX(PTable[3-Method],MATCH(0,IF(AH$1=PTable[2-Test],COUNTIF(AH$1:AH32,PTable[3-Method]), \"\"),0)),\"\")","v":""},{"$f":"IFERROR(INDEX(PTable[3-Method],MATCH(0,IF(AI$1=PTable[2-Test],COUNTIF(AI$1:AI32,PTable[3-Method]), \"\"),0)),\"\")","v":""},{"$f":"IFERROR(INDEX(PTable[3-Method],MATCH(0,IF(AJ$1=PTable[2-Test],COUNTIF(AJ$1:AJ32,PTable[3-Method]), \"\"),0)),\"\")","v":""},{"$f":"IFERROR(INDEX(PTable[3-Method],MATCH(0,IF(AK$1=PTable[2-Test],COUNTIF(AK$1:AK32,PTable[3-Method]), \"\"),0)),\"\")","v":""},{"$f":"IFERROR(INDEX(PTable[3-Method],MATCH(0,IF(AL$1=PTable[2-Test],COUNTIF(AL$1:AL32,PTable[3-Method]), \"\"),0)),\"\")","v":""},{"$f":"IFERROR(INDEX(PTable[3-Method],MATCH(0,IF(AM$1=PTable[2-Test],COUNTIF(AM$1:AM32,PTable[3-Method]), \"\"),0)),\"\")","v":""},{"$f":"IFERROR(INDEX(PTable[3-Method],MATCH(0,IF(AN$1=PTable[2-Test],COUNTIF(AN$1:AN32,PTable[3-Method]), \"\"),0)),\"\")","v":""},{"$f":"IFERROR(INDEX(PTable[3-Method],MATCH(0,IF(AO$1=PTable[2-Test],COUNTIF(AO$1:AO32,PTable[3-Method]), \"\"),0)),\"\")","v":""},{"$f":"IFERROR(INDEX(PTable[3-Method],MATCH(0,IF(AP$1=PTable[2-Test],COUNTIF(AP$1:AP32,PTable[3-Method]), \"\"),0)),\"\")","v":""},{"$f":"IFERROR(INDEX(PTable[3-Method],MATCH(0,IF(AQ$1=PTable[2-Test],COUNTIF(AQ$1:AQ32,PTable[3-Method]), \"\"),0)),\"\")","v":""},{"$f":"IFERROR(INDEX(PTable[3-Method],MATCH(0,IF(AR$1=PTable[2-Test],COUNTIF(AR$1:AR32,PTable[3-Method]), \"\"),0)),\"\")","v":""},{"$f":"IFERROR(INDEX(PTable[3-Method],MATCH(0,IF(AS$1=PTable[2-Test],COUNTIF(AS$1:AS32,PTable[3-Method]), \"\"),0)),\"\")","v":""},{"$f":"IFERROR(INDEX(PTable[3-Method],MATCH(0,IF(AT$1=PTable[2-Test],COUNTIF(AT$1:AT32,PTable[3-Method]), \"\"),0)),\"\")","v":""},{"$f":"IFERROR(INDEX(PTable[3-Method],MATCH(0,IF(AU$1=PTable[2-Test],COUNTIF(AU$1:AU32,PTable[3-Method]), \"\"),0)),\"\")","v":""},{"$f":"IFERROR(INDEX(PTable[3-Method],MATCH(0,IF(AV$1=PTable[2-Test],COUNTIF(AV$1:AV32,PTable[3-Method]), \"\"),0)),\"\")","v":""},{"$f":"IFERROR(INDEX(PTable[3-Method],MATCH(0,IF(AW$1=PTable[2-Test],COUNTIF(AW$1:AW32,PTable[3-Method]), \"\"),0)),\"\")","v":""},{"$f":"IFERROR(INDEX(PTable[3-Method],MATCH(0,IF(AX$1=PTable[2-Test],COUNTIF(AX$1:AX32,PTable[3-Method]), \"\"),0)),\"\")","v":""},{"$f":"IFERROR(INDEX(PTable[3-Method],MATCH(0,IF(AY$1=PTable[2-Test],COUNTIF(AY$1:AY32,PTable[3-Method]), \"\"),0)),\"\")","v":""},{"$f":"IFERROR(INDEX(PTable[3-Method],MATCH(0,IF(AZ$1=PTable[2-Test],COUNTIF(AZ$1:AZ32,PTable[3-Method]), \"\"),0)),\"\")","v":""},{"$f":"IFERROR(INDEX(PTable[3-Method],MATCH(0,IF(BA$1=PTable[2-Test],COUNTIF(BA$1:BA32,PTable[3-Method]), \"\"),0)),\"\")","v":""},{"$f":"IFERROR(INDEX(PTable[3-Method],MATCH(0,IF(BB$1=PTable[2-Test],COUNTIF(BB$1:BB32,PTable[3-Method]), \"\"),0)),\"\")","v":""},{"$f":"IFERROR(INDEX(PTable[3-Method],MATCH(0,IF(BC$1=PTable[2-Test],COUNTIF(BC$1:BC32,PTable[3-Method]), \"\"),0)),\"\")","v":""},{"$f":"IFERROR(INDEX(PTable[3-Method],MATCH(0,IF(BD$1=PTable[2-Test],COUNTIF(BD$1:BD32,PTable[3-Method]), \"\"),0)),\"\")","v":""},{"$f":"IFERROR(INDEX(PTable[3-Method],MATCH(0,IF(BE$1=PTable[2-Test],COUNTIF(BE$1:BE32,PTable[3-Method]), \"\"),0)),\"\")","v":""},{"$f":"IFERROR(INDEX(PTable[3-Method],MATCH(0,IF(BF$1=PTable[2-Test],COUNTIF(BF$1:BF32,PTable[3-Method]), \"\"),0)),\"\")","v":""},{"$f":"IFERROR(INDEX(PTable[3-Method],MATCH(0,IF(BG$1=PTable[2-Test],COUNTIF(BG$1:BG32,PTable[3-Method]), \"\"),0)),\"\")","v":""},{"$f":"IFERROR(INDEX(PTable[3-Method],MATCH(0,IF(BH$1=PTable[2-Test],COUNTIF(BH$1:BH32,PTable[3-Method]), \"\"),0)),\"\")","v":""},{"$f":"IFERROR(INDEX(PTable[3-Method],MATCH(0,IF(BI$1=PTable[2-Test],COUNTIF(BI$1:BI32,PTable[3-Method]), \"\"),0)),\"\")","v":""},{"$f":"IFERROR(INDEX(PTable[3-Method],MATCH(0,IF(BJ$1=PTable[2-Test],COUNTIF(BJ$1:BJ32,PTable[3-Method]), \"\"),0)),\"\")","v":""},{"$f":"IFERROR(INDEX(PTable[3-Method],MATCH(0,IF(BK$1=PTable[2-Test],COUNTIF(BK$1:BK32,PTable[3-Method]), \"\"),0)),\"\")","v":""},{"$f":"IFERROR(INDEX(PTable[3-Method],MATCH(0,IF(BL$1=PTable[2-Test],COUNTIF(BL$1:BL32,PTable[3-Method]), \"\"),0)),\"\")","v":""},{"$f":"IFERROR(INDEX(PTable[3-Method],MATCH(0,IF(BM$1=PTable[2-Test],COUNTIF(BM$1:BM32,PTable[3-Method]), \"\"),0)),\"\")","v":"PCR325g"},{"$f":"IFERROR(INDEX(PTable[3-Method],MATCH(0,IF(BN$1=PTable[2-Test],COUNTIF(BN$1:BN32,PTable[3-Method]), \"\"),0)),\"\")","v":""},{"$f":"IFERROR(INDEX(PTable[3-Method],MATCH(0,IF(BO$1=PTable[2-Test],COUNTIF(BO$1:BO32,PTable[3-Method]), \"\"),0)),\"\")","v":""},{"$f":"IFERROR(INDEX(PTable[3-Method],MATCH(0,IF(BP$1=PTable[2-Test],COUNTIF(BP$1:BP32,PTable[3-Method]), \"\"),0)),\"\")","v":"PCR325g"},{"$f":"IFERROR(INDEX(PTable[3-Method],MATCH(0,IF(BQ$1=PTable[2-Test],COUNTIF(BQ$1:BQ32,PTable[3-Method]), \"\"),0)),\"\")","v":""},{"$f":"IFERROR(INDEX(PTable[3-Method],MATCH(0,IF(BR$1=PTable[2-Test],COUNTIF(BR$1:BR32,PTable[3-Method]), \"\"),0)),\"\")","v":""},{"$f":"IFERROR(INDEX(PTable[3-Method],MATCH(0,IF(BS$1=PTable[2-Test],COUNTIF(BS$1:BS32,PTable[3-Method]), \"\"),0)),\"\")","v":""},{"$f":"IFERROR(INDEX(PTable[3-Method],MATCH(0,IF(BT$1=PTable[2-Test],COUNTIF(BT$1:BT32,PTable[3-Method]), \"\"),0)),\"\")","v":""},{"$f":"IFERROR(INDEX(PTable[3-Method],MATCH(0,IF(BU$1=PTable[2-Test],COUNTIF(BU$1:BU32,PTable[3-Method]), \"\"),0)),\"\")","v":""},{"$f":"IFERROR(INDEX(PTable[3-Method],MATCH(0,IF(BV$1=PTable[2-Test],COUNTIF(BV$1:BV32,PTable[3-Method]), \"\"),0)),\"\")","v":""},{"$f":"IFERROR(INDEX(PTable[3-Method],MATCH(0,IF(BW$1=PTable[2-Test],COUNTIF(BW$1:BW32,PTable[3-Method]), \"\"),0)),\"\")","v":""},{"$f":"IFERROR(INDEX(PTable[3-Method],MATCH(0,IF(BX$1=PTable[2-Test],COUNTIF(BX$1:BX32,PTable[3-Method]), \"\"),0)),\"\")","v":""},{"$f":"IFERROR(INDEX(PTable[3-Method],MATCH(0,IF(BY$1=PTable[2-Test],COUNTIF(BY$1:BY32,PTable[3-Method]), \"\"),0)),\"\")","v":""},{"$f":"IFERROR(INDEX(PTable[3-Method],MATCH(0,IF(BZ$1=PTable[2-Test],COUNTIF(BZ$1:BZ32,PTable[3-Method]), \"\"),0)),\"\")","v":""},{"$f":"IFERROR(INDEX(PTable[3-Method],MATCH(0,IF(CA$1=PTable[2-Test],COUNTIF(CA$1:CA32,PTable[3-Method]), \"\"),0)),\"\")","v":""},{"$f":"IFERROR(INDEX(PTable[3-Method],MATCH(0,IF(CB$1=PTable[2-Test],COUNTIF(CB$1:CB32,PTable[3-Method]), \"\"),0)),\"\")","v":""},{"$f":"IFERROR(INDEX(PTable[3-Method],MATCH(0,IF(CC$1=PTable[2-Test],COUNTIF(CC$1:CC32,PTable[3-Method]), \"\"),0)),\"\")","v":""},{"$f":"IFERROR(INDEX(PTable[3-Method],MATCH(0,IF(CD$1=PTable[2-Test],COUNTIF(CD$1:CD32,PTable[3-Method]), \"\"),0)),\"\")","v":""},{"$f":"IFERROR(INDEX(PTable[3-Method],MATCH(0,IF(CE$1=PTable[2-Test],COUNTIF(CE$1:CE32,PTable[3-Method]), \"\"),0)),\"\")","v":""},{"$f":"IFERROR(INDEX(PTable[3-Method],MATCH(0,IF(CF$1=PTable[2-Test],COUNTIF(CF$1:CF32,PTable[3-Method]), \"\"),0)),\"\")","v":""},{"$f":"IFERROR(INDEX(PTable[3-Method],MATCH(0,IF(CG$1=PTable[2-Test],COUNTIF(CG$1:CG32,PTable[3-Method]), \"\"),0)),\"\")","v":""},{"$f":"IFERROR(INDEX(PTable[3-Method],MATCH(0,IF(CH$1=PTable[2-Test],COUNTIF(CH$1:CH32,PTable[3-Method]), \"\"),0)),\"\")","v":""},{"$f":"IFERROR(INDEX(PTable[3-Method],MATCH(0,IF(CI$1=PTable[2-Test],COUNTIF(CI$1:CI32,PTable[3-Method]), \"\"),0)),\"\")","v":""},{"$f":"IFERROR(INDEX(PTable[3-Method],MATCH(0,IF(CJ$1=PTable[2-Test],COUNTIF(CJ$1:CJ32,PTable[3-Method]), \"\"),0)),\"\")","v":""},{"$f":"IFERROR(INDEX(PTable[3-Method],MATCH(0,IF(CK$1=PTable[2-Test],COUNTIF(CK$1:CK32,PTable[3-Method]), \"\"),0)),\"\")","v":""},{"$f":"IFERROR(INDEX(PTable[3-Method],MATCH(0,IF(CL$1=PTable[2-Test],COUNTIF(CL$1:CL32,PTable[3-Method]), \"\"),0)),\"\")","v":""},{"$f":"IFERROR(INDEX(PTable[3-Method],MATCH(0,IF(CM$1=PTable[2-Test],COUNTIF(CM$1:CM32,PTable[3-Method]), \"\"),0)),\"\")","v":""},{"$f":"IFERROR(INDEX(PTable[3-Method],MATCH(0,IF(CN$1=PTable[2-Test],COUNTIF(CN$1:CN32,PTable[3-Method]), \"\"),0)),\"\")","v":""},{"$f":"IFERROR(INDEX(PTable[3-Method],MATCH(0,IF(CO$1=PTable[2-Test],COUNTIF(CO$1:CO32,PTable[3-Method]), \"\"),0)),\"\")","v":""},{"$f":"IFERROR(INDEX(PTable[3-Method],MATCH(0,IF(CP$1=PTable[2-Test],COUNTIF(CP$1:CP32,PTable[3-Method]), \"\"),0)),\"\")","v":""},{"$f":"IFERROR(INDEX(PTable[3-Method],MATCH(0,IF(CQ$1=PTable[2-Test],COUNTIF(CQ$1:CQ32,PTable[3-Method]), \"\"),0)),\"\")","v":""},{"$f":"IFERROR(INDEX(PTable[3-Method],MATCH(0,IF(CR$1=PTable[2-Test],COUNTIF(CR$1:CR32,PTable[3-Method]), \"\"),0)),\"\")","v":""},{"$f":"IFERROR(INDEX(PTable[3-Method],MATCH(0,IF(CS$1=PTable[2-Test],COUNTIF(CS$1:CS32,PTable[3-Method]), \"\"),0)),\"\")","v":""},{"$f":"IFERROR(INDEX(PTable[3-Method],MATCH(0,IF(CT$1=PTable[2-Test],COUNTIF(CT$1:CT32,PTable[3-Method]), \"\"),0)),\"\")","v":""},{"$f":"IFERROR(INDEX(PTable[3-Method],MATCH(0,IF(CU$1=PTable[2-Test],COUNTIF(CU$1:CU32,PTable[3-Method]), \"\"),0)),\"\")","v":""},{"$f":"IFERROR(INDEX(PTable[3-Method],MATCH(0,IF(CV$1=PTable[2-Test],COUNTIF(CV$1:CV32,PTable[3-Method]), \"\"),0)),\"\")","v":""},{"$f":"IFERROR(INDEX(PTable[3-Method],MATCH(0,IF(CW$1=PTable[2-Test],COUNTIF(CW$1:CW32,PTable[3-Method]), \"\"),0)),\"\")","v":""},{"$f":"IFERROR(INDEX(PTable[3-Method],MATCH(0,IF(CX$1=PTable[2-Test],COUNTIF(CX$1:CX32,PTable[3-Method]), \"\"),0)),\"\")","v":""},{"$f":"IFERROR(INDEX(PTable[3-Method],MATCH(0,IF(CY$1=PTable[2-Test],COUNTIF(CY$1:CY32,PTable[3-Method]), \"\"),0)),\"\")","v":""},{"$f":"IFERROR(INDEX(PTable[3-Method],MATCH(0,IF(CZ$1=PTable[2-Test],COUNTIF(CZ$1:CZ32,PTable[3-Method]), \"\"),0)),\"\")","v":""},{"$f":"IFERROR(INDEX(PTable[3-Method],MATCH(0,IF(DA$1=PTable[2-Test],COUNTIF(DA$1:DA32,PTable[3-Method]), \"\"),0)),\"\")","v":""},{"$f":"IFERROR(INDEX(PTable[3-Method],MATCH(0,IF(DB$1=PTable[2-Test],COUNTIF(DB$1:DB32,PTable[3-Method]), \"\"),0)),\"\")","v":""},{"$f":"IFERROR(INDEX(PTable[3-Method],MATCH(0,IF(DC$1=PTable[2-Test],COUNTIF(DC$1:DC32,PTable[3-Method]), \"\"),0)),\"\")","v":""},{"$f":"IFERROR(INDEX(PTable[3-Method],MATCH(0,IF(DD$1=PTable[2-Test],COUNTIF(DD$1:DD32,PTable[3-Method]), \"\"),0)),\"\")","v":""},{"$f":"IFERROR(INDEX(PTable[3-Method],MATCH(0,IF(DE$1=PTable[2-Test],COUNTIF(DE$1:DE32,PTable[3-Method]), \"\"),0)),\"\")","v":""},{"$f":"IFERROR(INDEX(PTable[3-Method],MATCH(0,IF(DF$1=PTable[2-Test],COUNTIF(DF$1:DF32,PTable[3-Method]), \"\"),0)),\"\")","v":""},{"$f":"IFERROR(INDEX(PTable[3-Method],MATCH(0,IF(DG$1=PTable[2-Test],COUNTIF(DG$1:DG32,PTable[3-Method]), \"\"),0)),\"\")","v":""},{"$f":"IFERROR(INDEX(PTable[3-Method],MATCH(0,IF(DH$1=PTable[2-Test],COUNTIF(DH$1:DH32,PTable[3-Method]), \"\"),0)),\"\")","v":""},{"$f":"IFERROR(INDEX(PTable[3-Method],MATCH(0,IF(DI$1=PTable[2-Test],COUNTIF(DI$1:DI32,PTable[3-Method]), \"\"),0)),\"\")","v":""},{"$f":"IFERROR(INDEX(PTable[3-Method],MATCH(0,IF(DJ$1=PTable[2-Test],COUNTIF(DJ$1:DJ32,PTable[3-Method]), \"\"),0)),\"\")","v":""}]
[null,{"$f":"IFERROR(INDEX(PTable[2-Test],MATCH(0,IF(B$1=PTable[1-Type],COUNTIF(B$1:B33,PTable[2-Test]), \"\"),0)),\"\")","v":"Sp.MAe"},{"$f":"IFERROR(INDEX(PTable[2-Test],MATCH(0,IF(C$1=PTable[1-Type],COUNTIF(C$1:C33,PTable[2-Test]), \"\"),0)),\"\")","v":""},{"$f":"IFERROR(INDEX(PTable[2-Test],MATCH(0,IF(D$1=PTable[1-Type],COUNTIF(D$1:D33,PTable[2-Test]), \"\"),0)),\"\")","v":""},{"$f":"IFERROR(INDEX(PTable[2-Test],MATCH(0,IF(E$1=PTable[1-Type],COUNTIF(E$1:E33,PTable[2-Test]), \"\"),0)),\"\")","v":""},{"$f":"IFERROR(INDEX(PTable[2-Test],MATCH(0,IF(F$1=PTable[1-Type],COUNTIF(F$1:F33,PTable[2-Test]), \"\"),0)),\"\")","v":""},{"$f":"IFERROR(INDEX(PTable[3-Method],MATCH(0,IF(G$1=PTable[2-Test],COUNTIF(G$1:G33,PTable[3-Method]), \"\"),0)),\"\")","v":""},{"$f":"IFERROR(INDEX(PTable[3-Method],MATCH(0,IF(H$1=PTable[2-Test],COUNTIF(H$1:H33,PTable[3-Method]), \"\"),0)),\"\")","v":""},{"$f":"IFERROR(INDEX(PTable[3-Method],MATCH(0,IF(I$1=PTable[2-Test],COUNTIF(I$1:I33,PTable[3-Method]), \"\"),0)),\"\")","v":""},{"$f":"IFERROR(INDEX(PTable[3-Method],MATCH(0,IF(J$1=PTable[2-Test],COUNTIF(J$1:J33,PTable[3-Method]), \"\"),0)),\"\")","v":""},{"$f":"IFERROR(INDEX(PTable[3-Method],MATCH(0,IF(K$1=PTable[2-Test],COUNTIF(K$1:K33,PTable[3-Method]), \"\"),0)),\"\")","v":""},{"$f":"IFERROR(INDEX(PTable[3-Method],MATCH(0,IF(L$1=PTable[2-Test],COUNTIF(L$1:L33,PTable[3-Method]), \"\"),0)),\"\")","v":""},{"$f":"IFERROR(INDEX(PTable[3-Method],MATCH(0,IF(M$1=PTable[2-Test],COUNTIF(M$1:M33,PTable[3-Method]), \"\"),0)),\"\")","v":""},{"$f":"IFERROR(INDEX(PTable[3-Method],MATCH(0,IF(N$1=PTable[2-Test],COUNTIF(N$1:N33,PTable[3-Method]), \"\"),0)),\"\")","v":""},{"$f":"IFERROR(INDEX(PTable[3-Method],MATCH(0,IF(O$1=PTable[2-Test],COUNTIF(O$1:O33,PTable[3-Method]), \"\"),0)),\"\")","v":""},{"$f":"IFERROR(INDEX(PTable[3-Method],MATCH(0,IF(P$1=PTable[2-Test],COUNTIF(P$1:P33,PTable[3-Method]), \"\"),0)),\"\")","v":""},{"$f":"IFERROR(INDEX(PTable[3-Method],MATCH(0,IF(Q$1=PTable[2-Test],COUNTIF(Q$1:Q33,PTable[3-Method]), \"\"),0)),\"\")","v":""},{"$f":"IFERROR(INDEX(PTable[3-Method],MATCH(0,IF(R$1=PTable[2-Test],COUNTIF(R$1:R33,PTable[3-Method]), \"\"),0)),\"\")","v":""},{"$f":"IFERROR(INDEX(PTable[3-Method],MATCH(0,IF(S$1=PTable[2-Test],COUNTIF(S$1:S33,PTable[3-Method]), \"\"),0)),\"\")","v":""},{"$f":"IFERROR(INDEX(PTable[3-Method],MATCH(0,IF(T$1=PTable[2-Test],COUNTIF(T$1:T33,PTable[3-Method]), \"\"),0)),\"\")","v":""},{"$f":"IFERROR(INDEX(PTable[3-Method],MATCH(0,IF(U$1=PTable[2-Test],COUNTIF(U$1:U33,PTable[3-Method]), \"\"),0)),\"\")","v":""},{"$f":"IFERROR(INDEX(PTable[3-Method],MATCH(0,IF(V$1=PTable[2-Test],COUNTIF(V$1:V33,PTable[3-Method]), \"\"),0)),\"\")","v":""},{"$f":"IFERROR(INDEX(PTable[3-Method],MATCH(0,IF(W$1=PTable[2-Test],COUNTIF(W$1:W33,PTable[3-Method]), \"\"),0)),\"\")","v":""},{"$f":"IFERROR(INDEX(PTable[3-Method],MATCH(0,IF(X$1=PTable[2-Test],COUNTIF(X$1:X33,PTable[3-Method]), \"\"),0)),\"\")","v":""},{"$f":"IFERROR(INDEX(PTable[3-Method],MATCH(0,IF(Y$1=PTable[2-Test],COUNTIF(Y$1:Y33,PTable[3-Method]), \"\"),0)),\"\")","v":""},{"$f":"IFERROR(INDEX(PTable[3-Method],MATCH(0,IF(Z$1=PTable[2-Test],COUNTIF(Z$1:Z33,PTable[3-Method]), \"\"),0)),\"\")","v":""},{"$f":"IFERROR(INDEX(PTable[3-Method],MATCH(0,IF(AA$1=PTable[2-Test],COUNTIF(AA$1:AA33,PTable[3-Method]), \"\"),0)),\"\")","v":""},{"$f":"IFERROR(INDEX(PTable[3-Method],MATCH(0,IF(AB$1=PTable[2-Test],COUNTIF(AB$1:AB33,PTable[3-Method]), \"\"),0)),\"\")","v":""},{"$f":"IFERROR(INDEX(PTable[3-Method],MATCH(0,IF(AC$1=PTable[2-Test],COUNTIF(AC$1:AC33,PTable[3-Method]), \"\"),0)),\"\")","v":""},{"$f":"IFERROR(INDEX(PTable[3-Method],MATCH(0,IF(AD$1=PTable[2-Test],COUNTIF(AD$1:AD33,PTable[3-Method]), \"\"),0)),\"\")","v":""},{"$f":"IFERROR(INDEX(PTable[3-Method],MATCH(0,IF(AE$1=PTable[2-Test],COUNTIF(AE$1:AE33,PTable[3-Method]), \"\"),0)),\"\")","v":""},{"$f":"IFERROR(INDEX(PTable[3-Method],MATCH(0,IF(AF$1=PTable[2-Test],COUNTIF(AF$1:AF33,PTable[3-Method]), \"\"),0)),\"\")","v":""},{"$f":"IFERROR(INDEX(PTable[3-Method],MATCH(0,IF(AG$1=PTable[2-Test],COUNTIF(AG$1:AG33,PTable[3-Method]), \"\"),0)),\"\")","v":""},{"$f":"IFERROR(INDEX(PTable[3-Method],MATCH(0,IF(AH$1=PTable[2-Test],COUNTIF(AH$1:AH33,PTable[3-Method]), \"\"),0)),\"\")","v":""},{"$f":"IFERROR(INDEX(PTable[3-Method],MATCH(0,IF(AI$1=PTable[2-Test],COUNTIF(AI$1:AI33,PTable[3-Method]), \"\"),0)),\"\")","v":""},{"$f":"IFERROR(INDEX(PTable[3-Method],MATCH(0,IF(AJ$1=PTable[2-Test],COUNTIF(AJ$1:AJ33,PTable[3-Method]), \"\"),0)),\"\")","v":""},{"$f":"IFERROR(INDEX(PTable[3-Method],MATCH(0,IF(AK$1=PTable[2-Test],COUNTIF(AK$1:AK33,PTable[3-Method]), \"\"),0)),\"\")","v":""},{"$f":"IFERROR(INDEX(PTable[3-Method],MATCH(0,IF(AL$1=PTable[2-Test],COUNTIF(AL$1:AL33,PTable[3-Method]), \"\"),0)),\"\")","v":""},{"$f":"IFERROR(INDEX(PTable[3-Method],MATCH(0,IF(AM$1=PTable[2-Test],COUNTIF(AM$1:AM33,PTable[3-Method]), \"\"),0)),\"\")","v":""},{"$f":"IFERROR(INDEX(PTable[3-Method],MATCH(0,IF(AN$1=PTable[2-Test],COUNTIF(AN$1:AN33,PTable[3-Method]), \"\"),0)),\"\")","v":""},{"$f":"IFERROR(INDEX(PTable[3-Method],MATCH(0,IF(AO$1=PTable[2-Test],COUNTIF(AO$1:AO33,PTable[3-Method]), \"\"),0)),\"\")","v":""},{"$f":"IFERROR(INDEX(PTable[3-Method],MATCH(0,IF(AP$1=PTable[2-Test],COUNTIF(AP$1:AP33,PTable[3-Method]), \"\"),0)),\"\")","v":""},{"$f":"IFERROR(INDEX(PTable[3-Method],MATCH(0,IF(AQ$1=PTable[2-Test],COUNTIF(AQ$1:AQ33,PTable[3-Method]), \"\"),0)),\"\")","v":""},{"$f":"IFERROR(INDEX(PTable[3-Method],MATCH(0,IF(AR$1=PTable[2-Test],COUNTIF(AR$1:AR33,PTable[3-Method]), \"\"),0)),\"\")","v":""},{"$f":"IFERROR(INDEX(PTable[3-Method],MATCH(0,IF(AS$1=PTable[2-Test],COUNTIF(AS$1:AS33,PTable[3-Method]), \"\"),0)),\"\")","v":""},{"$f":"IFERROR(INDEX(PTable[3-Method],MATCH(0,IF(AT$1=PTable[2-Test],COUNTIF(AT$1:AT33,PTable[3-Method]), \"\"),0)),\"\")","v":""},{"$f":"IFERROR(INDEX(PTable[3-Method],MATCH(0,IF(AU$1=PTable[2-Test],COUNTIF(AU$1:AU33,PTable[3-Method]), \"\"),0)),\"\")","v":""},{"$f":"IFERROR(INDEX(PTable[3-Method],MATCH(0,IF(AV$1=PTable[2-Test],COUNTIF(AV$1:AV33,PTable[3-Method]), \"\"),0)),\"\")","v":""},{"$f":"IFERROR(INDEX(PTable[3-Method],MATCH(0,IF(AW$1=PTable[2-Test],COUNTIF(AW$1:AW33,PTable[3-Method]), \"\"),0)),\"\")","v":""},{"$f":"IFERROR(INDEX(PTable[3-Method],MATCH(0,IF(AX$1=PTable[2-Test],COUNTIF(AX$1:AX33,PTable[3-Method]), \"\"),0)),\"\")","v":""},{"$f":"IFERROR(INDEX(PTable[3-Method],MATCH(0,IF(AY$1=PTable[2-Test],COUNTIF(AY$1:AY33,PTable[3-Method]), \"\"),0)),\"\")","v":""},{"$f":"IFERROR(INDEX(PTable[3-Method],MATCH(0,IF(AZ$1=PTable[2-Test],COUNTIF(AZ$1:AZ33,PTable[3-Method]), \"\"),0)),\"\")","v":""},{"$f":"IFERROR(INDEX(PTable[3-Method],MATCH(0,IF(BA$1=PTable[2-Test],COUNTIF(BA$1:BA33,PTable[3-Method]), \"\"),0)),\"\")","v":""},{"$f":"IFERROR(INDEX(PTable[3-Method],MATCH(0,IF(BB$1=PTable[2-Test],COUNTIF(BB$1:BB33,PTable[3-Method]), \"\"),0)),\"\")","v":""},{"$f":"IFERROR(INDEX(PTable[3-Method],MATCH(0,IF(BC$1=PTable[2-Test],COUNTIF(BC$1:BC33,PTable[3-Method]), \"\"),0)),\"\")","v":""},{"$f":"IFERROR(INDEX(PTable[3-Method],MATCH(0,IF(BD$1=PTable[2-Test],COUNTIF(BD$1:BD33,PTable[3-Method]), \"\"),0)),\"\")","v":""},{"$f":"IFERROR(INDEX(PTable[3-Method],MATCH(0,IF(BE$1=PTable[2-Test],COUNTIF(BE$1:BE33,PTable[3-Method]), \"\"),0)),\"\")","v":""},{"$f":"IFERROR(INDEX(PTable[3-Method],MATCH(0,IF(BF$1=PTable[2-Test],COUNTIF(BF$1:BF33,PTable[3-Method]), \"\"),0)),\"\")","v":""},{"$f":"IFERROR(INDEX(PTable[3-Method],MATCH(0,IF(BG$1=PTable[2-Test],COUNTIF(BG$1:BG33,PTable[3-Method]), \"\"),0)),\"\")","v":""},{"$f":"IFERROR(INDEX(PTable[3-Method],MATCH(0,IF(BH$1=PTable[2-Test],COUNTIF(BH$1:BH33,PTable[3-Method]), \"\"),0)),\"\")","v":""},{"$f":"IFERROR(INDEX(PTable[3-Method],MATCH(0,IF(BI$1=PTable[2-Test],COUNTIF(BI$1:BI33,PTable[3-Method]), \"\"),0)),\"\")","v":""},{"$f":"IFERROR(INDEX(PTable[3-Method],MATCH(0,IF(BJ$1=PTable[2-Test],COUNTIF(BJ$1:BJ33,PTable[3-Method]), \"\"),0)),\"\")","v":""},{"$f":"IFERROR(INDEX(PTable[3-Method],MATCH(0,IF(BK$1=PTable[2-Test],COUNTIF(BK$1:BK33,PTable[3-Method]), \"\"),0)),\"\")","v":""},{"$f":"IFERROR(INDEX(PTable[3-Method],MATCH(0,IF(BL$1=PTable[2-Test],COUNTIF(BL$1:BL33,PTable[3-Method]), \"\"),0)),\"\")","v":""},{"$f":"IFERROR(INDEX(PTable[3-Method],MATCH(0,IF(BM$1=PTable[2-Test],COUNTIF(BM$1:BM33,PTable[3-Method]), \"\"),0)),\"\")","v":"PCR375g"},{"$f":"IFERROR(INDEX(PTable[3-Method],MATCH(0,IF(BN$1=PTable[2-Test],COUNTIF(BN$1:BN33,PTable[3-Method]), \"\"),0)),\"\")","v":""},{"$f":"IFERROR(INDEX(PTable[3-Method],MATCH(0,IF(BO$1=PTable[2-Test],COUNTIF(BO$1:BO33,PTable[3-Method]), \"\"),0)),\"\")","v":""},{"$f":"IFERROR(INDEX(PTable[3-Method],MATCH(0,IF(BP$1=PTable[2-Test],COUNTIF(BP$1:BP33,PTable[3-Method]), \"\"),0)),\"\")","v":"PCR375g"},{"$f":"IFERROR(INDEX(PTable[3-Method],MATCH(0,IF(BQ$1=PTable[2-Test],COUNTIF(BQ$1:BQ33,PTable[3-Method]), \"\"),0)),\"\")","v":""},{"$f":"IFERROR(INDEX(PTable[3-Method],MATCH(0,IF(BR$1=PTable[2-Test],COUNTIF(BR$1:BR33,PTable[3-Method]), \"\"),0)),\"\")","v":""},{"$f":"IFERROR(INDEX(PTable[3-Method],MATCH(0,IF(BS$1=PTable[2-Test],COUNTIF(BS$1:BS33,PTable[3-Method]), \"\"),0)),\"\")","v":""},{"$f":"IFERROR(INDEX(PTable[3-Method],MATCH(0,IF(BT$1=PTable[2-Test],COUNTIF(BT$1:BT33,PTable[3-Method]), \"\"),0)),\"\")","v":""},{"$f":"IFERROR(INDEX(PTable[3-Method],MATCH(0,IF(BU$1=PTable[2-Test],COUNTIF(BU$1:BU33,PTable[3-Method]), \"\"),0)),\"\")","v":""},{"$f":"IFERROR(INDEX(PTable[3-Method],MATCH(0,IF(BV$1=PTable[2-Test],COUNTIF(BV$1:BV33,PTable[3-Method]), \"\"),0)),\"\")","v":""},{"$f":"IFERROR(INDEX(PTable[3-Method],MATCH(0,IF(BW$1=PTable[2-Test],COUNTIF(BW$1:BW33,PTable[3-Method]), \"\"),0)),\"\")","v":""},{"$f":"IFERROR(INDEX(PTable[3-Method],MATCH(0,IF(BX$1=PTable[2-Test],COUNTIF(BX$1:BX33,PTable[3-Method]), \"\"),0)),\"\")","v":""},{"$f":"IFERROR(INDEX(PTable[3-Method],MATCH(0,IF(BY$1=PTable[2-Test],COUNTIF(BY$1:BY33,PTable[3-Method]), \"\"),0)),\"\")","v":""},{"$f":"IFERROR(INDEX(PTable[3-Method],MATCH(0,IF(BZ$1=PTable[2-Test],COUNTIF(BZ$1:BZ33,PTable[3-Method]), \"\"),0)),\"\")","v":""},{"$f":"IFERROR(INDEX(PTable[3-Method],MATCH(0,IF(CA$1=PTable[2-Test],COUNTIF(CA$1:CA33,PTable[3-Method]), \"\"),0)),\"\")","v":""},{"$f":"IFERROR(INDEX(PTable[3-Method],MATCH(0,IF(CB$1=PTable[2-Test],COUNTIF(CB$1:CB33,PTable[3-Method]), \"\"),0)),\"\")","v":""},{"$f":"IFERROR(INDEX(PTable[3-Method],MATCH(0,IF(CC$1=PTable[2-Test],COUNTIF(CC$1:CC33,PTable[3-Method]), \"\"),0)),\"\")","v":""},{"$f":"IFERROR(INDEX(PTable[3-Method],MATCH(0,IF(CD$1=PTable[2-Test],COUNTIF(CD$1:CD33,PTable[3-Method]), \"\"),0)),\"\")","v":""},{"$f":"IFERROR(INDEX(PTable[3-Method],MATCH(0,IF(CE$1=PTable[2-Test],COUNTIF(CE$1:CE33,PTable[3-Method]), \"\"),0)),\"\")","v":""},{"$f":"IFERROR(INDEX(PTable[3-Method],MATCH(0,IF(CF$1=PTable[2-Test],COUNTIF(CF$1:CF33,PTable[3-Method]), \"\"),0)),\"\")","v":""},{"$f":"IFERROR(INDEX(PTable[3-Method],MATCH(0,IF(CG$1=PTable[2-Test],COUNTIF(CG$1:CG33,PTable[3-Method]), \"\"),0)),\"\")","v":""},{"$f":"IFERROR(INDEX(PTable[3-Method],MATCH(0,IF(CH$1=PTable[2-Test],COUNTIF(CH$1:CH33,PTable[3-Method]), \"\"),0)),\"\")","v":""},{"$f":"IFERROR(INDEX(PTable[3-Method],MATCH(0,IF(CI$1=PTable[2-Test],COUNTIF(CI$1:CI33,PTable[3-Method]), \"\"),0)),\"\")","v":""},{"$f":"IFERROR(INDEX(PTable[3-Method],MATCH(0,IF(CJ$1=PTable[2-Test],COUNTIF(CJ$1:CJ33,PTable[3-Method]), \"\"),0)),\"\")","v":""},{"$f":"IFERROR(INDEX(PTable[3-Method],MATCH(0,IF(CK$1=PTable[2-Test],COUNTIF(CK$1:CK33,PTable[3-Method]), \"\"),0)),\"\")","v":""},{"$f":"IFERROR(INDEX(PTable[3-Method],MATCH(0,IF(CL$1=PTable[2-Test],COUNTIF(CL$1:CL33,PTable[3-Method]), \"\"),0)),\"\")","v":""},{"$f":"IFERROR(INDEX(PTable[3-Method],MATCH(0,IF(CM$1=PTable[2-Test],COUNTIF(CM$1:CM33,PTable[3-Method]), \"\"),0)),\"\")","v":""},{"$f":"IFERROR(INDEX(PTable[3-Method],MATCH(0,IF(CN$1=PTable[2-Test],COUNTIF(CN$1:CN33,PTable[3-Method]), \"\"),0)),\"\")","v":""},{"$f":"IFERROR(INDEX(PTable[3-Method],MATCH(0,IF(CO$1=PTable[2-Test],COUNTIF(CO$1:CO33,PTable[3-Method]), \"\"),0)),\"\")","v":""},{"$f":"IFERROR(INDEX(PTable[3-Method],MATCH(0,IF(CP$1=PTable[2-Test],COUNTIF(CP$1:CP33,PTable[3-Method]), \"\"),0)),\"\")","v":""},{"$f":"IFERROR(INDEX(PTable[3-Method],MATCH(0,IF(CQ$1=PTable[2-Test],COUNTIF(CQ$1:CQ33,PTable[3-Method]), \"\"),0)),\"\")","v":""},{"$f":"IFERROR(INDEX(PTable[3-Method],MATCH(0,IF(CR$1=PTable[2-Test],COUNTIF(CR$1:CR33,PTable[3-Method]), \"\"),0)),\"\")","v":""},{"$f":"IFERROR(INDEX(PTable[3-Method],MATCH(0,IF(CS$1=PTable[2-Test],COUNTIF(CS$1:CS33,PTable[3-Method]), \"\"),0)),\"\")","v":""},{"$f":"IFERROR(INDEX(PTable[3-Method],MATCH(0,IF(CT$1=PTable[2-Test],COUNTIF(CT$1:CT33,PTable[3-Method]), \"\"),0)),\"\")","v":""},{"$f":"IFERROR(INDEX(PTable[3-Method],MATCH(0,IF(CU$1=PTable[2-Test],COUNTIF(CU$1:CU33,PTable[3-Method]), \"\"),0)),\"\")","v":""},{"$f":"IFERROR(INDEX(PTable[3-Method],MATCH(0,IF(CV$1=PTable[2-Test],COUNTIF(CV$1:CV33,PTable[3-Method]), \"\"),0)),\"\")","v":""},{"$f":"IFERROR(INDEX(PTable[3-Method],MATCH(0,IF(CW$1=PTable[2-Test],COUNTIF(CW$1:CW33,PTable[3-Method]), \"\"),0)),\"\")","v":""},{"$f":"IFERROR(INDEX(PTable[3-Method],MATCH(0,IF(CX$1=PTable[2-Test],COUNTIF(CX$1:CX33,PTable[3-Method]), \"\"),0)),\"\")","v":""},{"$f":"IFERROR(INDEX(PTable[3-Method],MATCH(0,IF(CY$1=PTable[2-Test],COUNTIF(CY$1:CY33,PTable[3-Method]), \"\"),0)),\"\")","v":""},{"$f":"IFERROR(INDEX(PTable[3-Method],MATCH(0,IF(CZ$1=PTable[2-Test],COUNTIF(CZ$1:CZ33,PTable[3-Method]), \"\"),0)),\"\")","v":""},{"$f":"IFERROR(INDEX(PTable[3-Method],MATCH(0,IF(DA$1=PTable[2-Test],COUNTIF(DA$1:DA33,PTable[3-Method]), \"\"),0)),\"\")","v":""},{"$f":"IFERROR(INDEX(PTable[3-Method],MATCH(0,IF(DB$1=PTable[2-Test],COUNTIF(DB$1:DB33,PTable[3-Method]), \"\"),0)),\"\")","v":""},{"$f":"IFERROR(INDEX(PTable[3-Method],MATCH(0,IF(DC$1=PTable[2-Test],COUNTIF(DC$1:DC33,PTable[3-Method]), \"\"),0)),\"\")","v":""},{"$f":"IFERROR(INDEX(PTable[3-Method],MATCH(0,IF(DD$1=PTable[2-Test],COUNTIF(DD$1:DD33,PTable[3-Method]), \"\"),0)),\"\")","v":""},{"$f":"IFERROR(INDEX(PTable[3-Method],MATCH(0,IF(DE$1=PTable[2-Test],COUNTIF(DE$1:DE33,PTable[3-Method]), \"\"),0)),\"\")","v":""},{"$f":"IFERROR(INDEX(PTable[3-Method],MATCH(0,IF(DF$1=PTable[2-Test],COUNTIF(DF$1:DF33,PTable[3-Method]), \"\"),0)),\"\")","v":""},{"$f":"IFERROR(INDEX(PTable[3-Method],MATCH(0,IF(DG$1=PTable[2-Test],COUNTIF(DG$1:DG33,PTable[3-Method]), \"\"),0)),\"\")","v":""},{"$f":"IFERROR(INDEX(PTable[3-Method],MATCH(0,IF(DH$1=PTable[2-Test],COUNTIF(DH$1:DH33,PTable[3-Method]), \"\"),0)),\"\")","v":""},{"$f":"IFERROR(INDEX(PTable[3-Method],MATCH(0,IF(DI$1=PTable[2-Test],COUNTIF(DI$1:DI33,PTable[3-Method]), \"\"),0)),\"\")","v":""},{"$f":"IFERROR(INDEX(PTable[3-Method],MATCH(0,IF(DJ$1=PTable[2-Test],COUNTIF(DJ$1:DJ33,PTable[3-Method]), \"\"),0)),\"\")","v":""}]
[null,{"$f":"IFERROR(INDEX(PTable[2-Test],MATCH(0,IF(B$1=PTable[1-Type],COUNTIF(B$1:B34,PTable[2-Test]), \"\"),0)),\"\")","v":"Sp.MAn"},{"$f":"IFERROR(INDEX(PTable[2-Test],MATCH(0,IF(C$1=PTable[1-Type],COUNTIF(C$1:C34,PTable[2-Test]), \"\"),0)),\"\")","v":""},{"$f":"IFERROR(INDEX(PTable[2-Test],MATCH(0,IF(D$1=PTable[1-Type],COUNTIF(D$1:D34,PTable[2-Test]), \"\"),0)),\"\")","v":""},{"$f":"IFERROR(INDEX(PTable[2-Test],MATCH(0,IF(E$1=PTable[1-Type],COUNTIF(E$1:E34,PTable[2-Test]), \"\"),0)),\"\")","v":""},{"$f":"IFERROR(INDEX(PTable[2-Test],MATCH(0,IF(F$1=PTable[1-Type],COUNTIF(F$1:F34,PTable[2-Test]), \"\"),0)),\"\")","v":""},{"$f":"IFERROR(INDEX(PTable[3-Method],MATCH(0,IF(G$1=PTable[2-Test],COUNTIF(G$1:G34,PTable[3-Method]), \"\"),0)),\"\")","v":""},{"$f":"IFERROR(INDEX(PTable[3-Method],MATCH(0,IF(H$1=PTable[2-Test],COUNTIF(H$1:H34,PTable[3-Method]), \"\"),0)),\"\")","v":""},{"$f":"IFERROR(INDEX(PTable[3-Method],MATCH(0,IF(I$1=PTable[2-Test],COUNTIF(I$1:I34,PTable[3-Method]), \"\"),0)),\"\")","v":""},{"$f":"IFERROR(INDEX(PTable[3-Method],MATCH(0,IF(J$1=PTable[2-Test],COUNTIF(J$1:J34,PTable[3-Method]), \"\"),0)),\"\")","v":""},{"$f":"IFERROR(INDEX(PTable[3-Method],MATCH(0,IF(K$1=PTable[2-Test],COUNTIF(K$1:K34,PTable[3-Method]), \"\"),0)),\"\")","v":""},{"$f":"IFERROR(INDEX(PTable[3-Method],MATCH(0,IF(L$1=PTable[2-Test],COUNTIF(L$1:L34,PTable[3-Method]), \"\"),0)),\"\")","v":""},{"$f":"IFERROR(INDEX(PTable[3-Method],MATCH(0,IF(M$1=PTable[2-Test],COUNTIF(M$1:M34,PTable[3-Method]), \"\"),0)),\"\")","v":""},{"$f":"IFERROR(INDEX(PTable[3-Method],MATCH(0,IF(N$1=PTable[2-Test],COUNTIF(N$1:N34,PTable[3-Method]), \"\"),0)),\"\")","v":""},{"$f":"IFERROR(INDEX(PTable[3-Method],MATCH(0,IF(O$1=PTable[2-Test],COUNTIF(O$1:O34,PTable[3-Method]), \"\"),0)),\"\")","v":""},{"$f":"IFERROR(INDEX(PTable[3-Method],MATCH(0,IF(P$1=PTable[2-Test],COUNTIF(P$1:P34,PTable[3-Method]), \"\"),0)),\"\")","v":""},{"$f":"IFERROR(INDEX(PTable[3-Method],MATCH(0,IF(Q$1=PTable[2-Test],COUNTIF(Q$1:Q34,PTable[3-Method]), \"\"),0)),\"\")","v":""},{"$f":"IFERROR(INDEX(PTable[3-Method],MATCH(0,IF(R$1=PTable[2-Test],COUNTIF(R$1:R34,PTable[3-Method]), \"\"),0)),\"\")","v":""},{"$f":"IFERROR(INDEX(PTable[3-Method],MATCH(0,IF(S$1=PTable[2-Test],COUNTIF(S$1:S34,PTable[3-Method]), \"\"),0)),\"\")","v":""},{"$f":"IFERROR(INDEX(PTable[3-Method],MATCH(0,IF(T$1=PTable[2-Test],COUNTIF(T$1:T34,PTable[3-Method]), \"\"),0)),\"\")","v":""},{"$f":"IFERROR(INDEX(PTable[3-Method],MATCH(0,IF(U$1=PTable[2-Test],COUNTIF(U$1:U34,PTable[3-Method]), \"\"),0)),\"\")","v":""},{"$f":"IFERROR(INDEX(PTable[3-Method],MATCH(0,IF(V$1=PTable[2-Test],COUNTIF(V$1:V34,PTable[3-Method]), \"\"),0)),\"\")","v":""},{"$f":"IFERROR(INDEX(PTable[3-Method],MATCH(0,IF(W$1=PTable[2-Test],COUNTIF(W$1:W34,PTable[3-Method]), \"\"),0)),\"\")","v":""},{"$f":"IFERROR(INDEX(PTable[3-Method],MATCH(0,IF(X$1=PTable[2-Test],COUNTIF(X$1:X34,PTable[3-Method]), \"\"),0)),\"\")","v":""},{"$f":"IFERROR(INDEX(PTable[3-Method],MATCH(0,IF(Y$1=PTable[2-Test],COUNTIF(Y$1:Y34,PTable[3-Method]), \"\"),0)),\"\")","v":""},{"$f":"IFERROR(INDEX(PTable[3-Method],MATCH(0,IF(Z$1=PTable[2-Test],COUNTIF(Z$1:Z34,PTable[3-Method]), \"\"),0)),\"\")","v":""},{"$f":"IFERROR(INDEX(PTable[3-Method],MATCH(0,IF(AA$1=PTable[2-Test],COUNTIF(AA$1:AA34,PTable[3-Method]), \"\"),0)),\"\")","v":""},{"$f":"IFERROR(INDEX(PTable[3-Method],MATCH(0,IF(AB$1=PTable[2-Test],COUNTIF(AB$1:AB34,PTable[3-Method]), \"\"),0)),\"\")","v":""},{"$f":"IFERROR(INDEX(PTable[3-Method],MATCH(0,IF(AC$1=PTable[2-Test],COUNTIF(AC$1:AC34,PTable[3-Method]), \"\"),0)),\"\")","v":""},{"$f":"IFERROR(INDEX(PTable[3-Method],MATCH(0,IF(AD$1=PTable[2-Test],COUNTIF(AD$1:AD34,PTable[3-Method]), \"\"),0)),\"\")","v":""},{"$f":"IFERROR(INDEX(PTable[3-Method],MATCH(0,IF(AE$1=PTable[2-Test],COUNTIF(AE$1:AE34,PTable[3-Method]), \"\"),0)),\"\")","v":""},{"$f":"IFERROR(INDEX(PTable[3-Method],MATCH(0,IF(AF$1=PTable[2-Test],COUNTIF(AF$1:AF34,PTable[3-Method]), \"\"),0)),\"\")","v":""},{"$f":"IFERROR(INDEX(PTable[3-Method],MATCH(0,IF(AG$1=PTable[2-Test],COUNTIF(AG$1:AG34,PTable[3-Method]), \"\"),0)),\"\")","v":""},{"$f":"IFERROR(INDEX(PTable[3-Method],MATCH(0,IF(AH$1=PTable[2-Test],COUNTIF(AH$1:AH34,PTable[3-Method]), \"\"),0)),\"\")","v":""},{"$f":"IFERROR(INDEX(PTable[3-Method],MATCH(0,IF(AI$1=PTable[2-Test],COUNTIF(AI$1:AI34,PTable[3-Method]), \"\"),0)),\"\")","v":""},{"$f":"IFERROR(INDEX(PTable[3-Method],MATCH(0,IF(AJ$1=PTable[2-Test],COUNTIF(AJ$1:AJ34,PTable[3-Method]), \"\"),0)),\"\")","v":""},{"$f":"IFERROR(INDEX(PTable[3-Method],MATCH(0,IF(AK$1=PTable[2-Test],COUNTIF(AK$1:AK34,PTable[3-Method]), \"\"),0)),\"\")","v":""},{"$f":"IFERROR(INDEX(PTable[3-Method],MATCH(0,IF(AL$1=PTable[2-Test],COUNTIF(AL$1:AL34,PTable[3-Method]), \"\"),0)),\"\")","v":""},{"$f":"IFERROR(INDEX(PTable[3-Method],MATCH(0,IF(AM$1=PTable[2-Test],COUNTIF(AM$1:AM34,PTable[3-Method]), \"\"),0)),\"\")","v":""},{"$f":"IFERROR(INDEX(PTable[3-Method],MATCH(0,IF(AN$1=PTable[2-Test],COUNTIF(AN$1:AN34,PTable[3-Method]), \"\"),0)),\"\")","v":""},{"$f":"IFERROR(INDEX(PTable[3-Method],MATCH(0,IF(AO$1=PTable[2-Test],COUNTIF(AO$1:AO34,PTable[3-Method]), \"\"),0)),\"\")","v":""},{"$f":"IFERROR(INDEX(PTable[3-Method],MATCH(0,IF(AP$1=PTable[2-Test],COUNTIF(AP$1:AP34,PTable[3-Method]), \"\"),0)),\"\")","v":""},{"$f":"IFERROR(INDEX(PTable[3-Method],MATCH(0,IF(AQ$1=PTable[2-Test],COUNTIF(AQ$1:AQ34,PTable[3-Method]), \"\"),0)),\"\")","v":""},{"$f":"IFERROR(INDEX(PTable[3-Method],MATCH(0,IF(AR$1=PTable[2-Test],COUNTIF(AR$1:AR34,PTable[3-Method]), \"\"),0)),\"\")","v":""},{"$f":"IFERROR(INDEX(PTable[3-Method],MATCH(0,IF(AS$1=PTable[2-Test],COUNTIF(AS$1:AS34,PTable[3-Method]), \"\"),0)),\"\")","v":""},{"$f":"IFERROR(INDEX(PTable[3-Method],MATCH(0,IF(AT$1=PTable[2-Test],COUNTIF(AT$1:AT34,PTable[3-Method]), \"\"),0)),\"\")","v":""},{"$f":"IFERROR(INDEX(PTable[3-Method],MATCH(0,IF(AU$1=PTable[2-Test],COUNTIF(AU$1:AU34,PTable[3-Method]), \"\"),0)),\"\")","v":""},{"$f":"IFERROR(INDEX(PTable[3-Method],MATCH(0,IF(AV$1=PTable[2-Test],COUNTIF(AV$1:AV34,PTable[3-Method]), \"\"),0)),\"\")","v":""},{"$f":"IFERROR(INDEX(PTable[3-Method],MATCH(0,IF(AW$1=PTable[2-Test],COUNTIF(AW$1:AW34,PTable[3-Method]), \"\"),0)),\"\")","v":""},{"$f":"IFERROR(INDEX(PTable[3-Method],MATCH(0,IF(AX$1=PTable[2-Test],COUNTIF(AX$1:AX34,PTable[3-Method]), \"\"),0)),\"\")","v":""},{"$f":"IFERROR(INDEX(PTable[3-Method],MATCH(0,IF(AY$1=PTable[2-Test],COUNTIF(AY$1:AY34,PTable[3-Method]), \"\"),0)),\"\")","v":""},{"$f":"IFERROR(INDEX(PTable[3-Method],MATCH(0,IF(AZ$1=PTable[2-Test],COUNTIF(AZ$1:AZ34,PTable[3-Method]), \"\"),0)),\"\")","v":""},{"$f":"IFERROR(INDEX(PTable[3-Method],MATCH(0,IF(BA$1=PTable[2-Test],COUNTIF(BA$1:BA34,PTable[3-Method]), \"\"),0)),\"\")","v":""},{"$f":"IFERROR(INDEX(PTable[3-Method],MATCH(0,IF(BB$1=PTable[2-Test],COUNTIF(BB$1:BB34,PTable[3-Method]), \"\"),0)),\"\")","v":""},{"$f":"IFERROR(INDEX(PTable[3-Method],MATCH(0,IF(BC$1=PTable[2-Test],COUNTIF(BC$1:BC34,PTable[3-Method]), \"\"),0)),\"\")","v":""},{"$f":"IFERROR(INDEX(PTable[3-Method],MATCH(0,IF(BD$1=PTable[2-Test],COUNTIF(BD$1:BD34,PTable[3-Method]), \"\"),0)),\"\")","v":""},{"$f":"IFERROR(INDEX(PTable[3-Method],MATCH(0,IF(BE$1=PTable[2-Test],COUNTIF(BE$1:BE34,PTable[3-Method]), \"\"),0)),\"\")","v":""},{"$f":"IFERROR(INDEX(PTable[3-Method],MATCH(0,IF(BF$1=PTable[2-Test],COUNTIF(BF$1:BF34,PTable[3-Method]), \"\"),0)),\"\")","v":""},{"$f":"IFERROR(INDEX(PTable[3-Method],MATCH(0,IF(BG$1=PTable[2-Test],COUNTIF(BG$1:BG34,PTable[3-Method]), \"\"),0)),\"\")","v":""},{"$f":"IFERROR(INDEX(PTable[3-Method],MATCH(0,IF(BH$1=PTable[2-Test],COUNTIF(BH$1:BH34,PTable[3-Method]), \"\"),0)),\"\")","v":""},{"$f":"IFERROR(INDEX(PTable[3-Method],MATCH(0,IF(BI$1=PTable[2-Test],COUNTIF(BI$1:BI34,PTable[3-Method]), \"\"),0)),\"\")","v":""},{"$f":"IFERROR(INDEX(PTable[3-Method],MATCH(0,IF(BJ$1=PTable[2-Test],COUNTIF(BJ$1:BJ34,PTable[3-Method]), \"\"),0)),\"\")","v":""},{"$f":"IFERROR(INDEX(PTable[3-Method],MATCH(0,IF(BK$1=PTable[2-Test],COUNTIF(BK$1:BK34,PTable[3-Method]), \"\"),0)),\"\")","v":""},{"$f":"IFERROR(INDEX(PTable[3-Method],MATCH(0,IF(BL$1=PTable[2-Test],COUNTIF(BL$1:BL34,PTable[3-Method]), \"\"),0)),\"\")","v":""},{"$f":"IFERROR(INDEX(PTable[3-Method],MATCH(0,IF(BM$1=PTable[2-Test],COUNTIF(BM$1:BM34,PTable[3-Method]), \"\"),0)),\"\")","v":"PCR50g"},{"$f":"IFERROR(INDEX(PTable[3-Method],MATCH(0,IF(BN$1=PTable[2-Test],COUNTIF(BN$1:BN34,PTable[3-Method]), \"\"),0)),\"\")","v":""},{"$f":"IFERROR(INDEX(PTable[3-Method],MATCH(0,IF(BO$1=PTable[2-Test],COUNTIF(BO$1:BO34,PTable[3-Method]), \"\"),0)),\"\")","v":""},{"$f":"IFERROR(INDEX(PTable[3-Method],MATCH(0,IF(BP$1=PTable[2-Test],COUNTIF(BP$1:BP34,PTable[3-Method]), \"\"),0)),\"\")","v":"PCR375m"},{"$f":"IFERROR(INDEX(PTable[3-Method],MATCH(0,IF(BQ$1=PTable[2-Test],COUNTIF(BQ$1:BQ34,PTable[3-Method]), \"\"),0)),\"\")","v":""},{"$f":"IFERROR(INDEX(PTable[3-Method],MATCH(0,IF(BR$1=PTable[2-Test],COUNTIF(BR$1:BR34,PTable[3-Method]), \"\"),0)),\"\")","v":""},{"$f":"IFERROR(INDEX(PTable[3-Method],MATCH(0,IF(BS$1=PTable[2-Test],COUNTIF(BS$1:BS34,PTable[3-Method]), \"\"),0)),\"\")","v":""},{"$f":"IFERROR(INDEX(PTable[3-Method],MATCH(0,IF(BT$1=PTable[2-Test],COUNTIF(BT$1:BT34,PTable[3-Method]), \"\"),0)),\"\")","v":""},{"$f":"IFERROR(INDEX(PTable[3-Method],MATCH(0,IF(BU$1=PTable[2-Test],COUNTIF(BU$1:BU34,PTable[3-Method]), \"\"),0)),\"\")","v":""},{"$f":"IFERROR(INDEX(PTable[3-Method],MATCH(0,IF(BV$1=PTable[2-Test],COUNTIF(BV$1:BV34,PTable[3-Method]), \"\"),0)),\"\")","v":""},{"$f":"IFERROR(INDEX(PTable[3-Method],MATCH(0,IF(BW$1=PTable[2-Test],COUNTIF(BW$1:BW34,PTable[3-Method]), \"\"),0)),\"\")","v":""},{"$f":"IFERROR(INDEX(PTable[3-Method],MATCH(0,IF(BX$1=PTable[2-Test],COUNTIF(BX$1:BX34,PTable[3-Method]), \"\"),0)),\"\")","v":""},{"$f":"IFERROR(INDEX(PTable[3-Method],MATCH(0,IF(BY$1=PTable[2-Test],COUNTIF(BY$1:BY34,PTable[3-Method]), \"\"),0)),\"\")","v":""},{"$f":"IFERROR(INDEX(PTable[3-Method],MATCH(0,IF(BZ$1=PTable[2-Test],COUNTIF(BZ$1:BZ34,PTable[3-Method]), \"\"),0)),\"\")","v":""},{"$f":"IFERROR(INDEX(PTable[3-Method],MATCH(0,IF(CA$1=PTable[2-Test],COUNTIF(CA$1:CA34,PTable[3-Method]), \"\"),0)),\"\")","v":""},{"$f":"IFERROR(INDEX(PTable[3-Method],MATCH(0,IF(CB$1=PTable[2-Test],COUNTIF(CB$1:CB34,PTable[3-Method]), \"\"),0)),\"\")","v":""},{"$f":"IFERROR(INDEX(PTable[3-Method],MATCH(0,IF(CC$1=PTable[2-Test],COUNTIF(CC$1:CC34,PTable[3-Method]), \"\"),0)),\"\")","v":""},{"$f":"IFERROR(INDEX(PTable[3-Method],MATCH(0,IF(CD$1=PTable[2-Test],COUNTIF(CD$1:CD34,PTable[3-Method]), \"\"),0)),\"\")","v":""},{"$f":"IFERROR(INDEX(PTable[3-Method],MATCH(0,IF(CE$1=PTable[2-Test],COUNTIF(CE$1:CE34,PTable[3-Method]), \"\"),0)),\"\")","v":""},{"$f":"IFERROR(INDEX(PTable[3-Method],MATCH(0,IF(CF$1=PTable[2-Test],COUNTIF(CF$1:CF34,PTable[3-Method]), \"\"),0)),\"\")","v":""},{"$f":"IFERROR(INDEX(PTable[3-Method],MATCH(0,IF(CG$1=PTable[2-Test],COUNTIF(CG$1:CG34,PTable[3-Method]), \"\"),0)),\"\")","v":""},{"$f":"IFERROR(INDEX(PTable[3-Method],MATCH(0,IF(CH$1=PTable[2-Test],COUNTIF(CH$1:CH34,PTable[3-Method]), \"\"),0)),\"\")","v":""},{"$f":"IFERROR(INDEX(PTable[3-Method],MATCH(0,IF(CI$1=PTable[2-Test],COUNTIF(CI$1:CI34,PTable[3-Method]), \"\"),0)),\"\")","v":""},{"$f":"IFERROR(INDEX(PTable[3-Method],MATCH(0,IF(CJ$1=PTable[2-Test],COUNTIF(CJ$1:CJ34,PTable[3-Method]), \"\"),0)),\"\")","v":""},{"$f":"IFERROR(INDEX(PTable[3-Method],MATCH(0,IF(CK$1=PTable[2-Test],COUNTIF(CK$1:CK34,PTable[3-Method]), \"\"),0)),\"\")","v":""},{"$f":"IFERROR(INDEX(PTable[3-Method],MATCH(0,IF(CL$1=PTable[2-Test],COUNTIF(CL$1:CL34,PTable[3-Method]), \"\"),0)),\"\")","v":""},{"$f":"IFERROR(INDEX(PTable[3-Method],MATCH(0,IF(CM$1=PTable[2-Test],COUNTIF(CM$1:CM34,PTable[3-Method]), \"\"),0)),\"\")","v":""},{"$f":"IFERROR(INDEX(PTable[3-Method],MATCH(0,IF(CN$1=PTable[2-Test],COUNTIF(CN$1:CN34,PTable[3-Method]), \"\"),0)),\"\")","v":""},{"$f":"IFERROR(INDEX(PTable[3-Method],MATCH(0,IF(CO$1=PTable[2-Test],COUNTIF(CO$1:CO34,PTable[3-Method]), \"\"),0)),\"\")","v":""},{"$f":"IFERROR(INDEX(PTable[3-Method],MATCH(0,IF(CP$1=PTable[2-Test],COUNTIF(CP$1:CP34,PTable[3-Method]), \"\"),0)),\"\")","v":""},{"$f":"IFERROR(INDEX(PTable[3-Method],MATCH(0,IF(CQ$1=PTable[2-Test],COUNTIF(CQ$1:CQ34,PTable[3-Method]), \"\"),0)),\"\")","v":""},{"$f":"IFERROR(INDEX(PTable[3-Method],MATCH(0,IF(CR$1=PTable[2-Test],COUNTIF(CR$1:CR34,PTable[3-Method]), \"\"),0)),\"\")","v":""},{"$f":"IFERROR(INDEX(PTable[3-Method],MATCH(0,IF(CS$1=PTable[2-Test],COUNTIF(CS$1:CS34,PTable[3-Method]), \"\"),0)),\"\")","v":""},{"$f":"IFERROR(INDEX(PTable[3-Method],MATCH(0,IF(CT$1=PTable[2-Test],COUNTIF(CT$1:CT34,PTable[3-Method]), \"\"),0)),\"\")","v":""},{"$f":"IFERROR(INDEX(PTable[3-Method],MATCH(0,IF(CU$1=PTable[2-Test],COUNTIF(CU$1:CU34,PTable[3-Method]), \"\"),0)),\"\")","v":""},{"$f":"IFERROR(INDEX(PTable[3-Method],MATCH(0,IF(CV$1=PTable[2-Test],COUNTIF(CV$1:CV34,PTable[3-Method]), \"\"),0)),\"\")","v":""},{"$f":"IFERROR(INDEX(PTable[3-Method],MATCH(0,IF(CW$1=PTable[2-Test],COUNTIF(CW$1:CW34,PTable[3-Method]), \"\"),0)),\"\")","v":""},{"$f":"IFERROR(INDEX(PTable[3-Method],MATCH(0,IF(CX$1=PTable[2-Test],COUNTIF(CX$1:CX34,PTable[3-Method]), \"\"),0)),\"\")","v":""},{"$f":"IFERROR(INDEX(PTable[3-Method],MATCH(0,IF(CY$1=PTable[2-Test],COUNTIF(CY$1:CY34,PTable[3-Method]), \"\"),0)),\"\")","v":""},{"$f":"IFERROR(INDEX(PTable[3-Method],MATCH(0,IF(CZ$1=PTable[2-Test],COUNTIF(CZ$1:CZ34,PTable[3-Method]), \"\"),0)),\"\")","v":""},{"$f":"IFERROR(INDEX(PTable[3-Method],MATCH(0,IF(DA$1=PTable[2-Test],COUNTIF(DA$1:DA34,PTable[3-Method]), \"\"),0)),\"\")","v":""},{"$f":"IFERROR(INDEX(PTable[3-Method],MATCH(0,IF(DB$1=PTable[2-Test],COUNTIF(DB$1:DB34,PTable[3-Method]), \"\"),0)),\"\")","v":""},{"$f":"IFERROR(INDEX(PTable[3-Method],MATCH(0,IF(DC$1=PTable[2-Test],COUNTIF(DC$1:DC34,PTable[3-Method]), \"\"),0)),\"\")","v":""},{"$f":"IFERROR(INDEX(PTable[3-Method],MATCH(0,IF(DD$1=PTable[2-Test],COUNTIF(DD$1:DD34,PTable[3-Method]), \"\"),0)),\"\")","v":""},{"$f":"IFERROR(INDEX(PTable[3-Method],MATCH(0,IF(DE$1=PTable[2-Test],COUNTIF(DE$1:DE34,PTable[3-Method]), \"\"),0)),\"\")","v":""},{"$f":"IFERROR(INDEX(PTable[3-Method],MATCH(0,IF(DF$1=PTable[2-Test],COUNTIF(DF$1:DF34,PTable[3-Method]), \"\"),0)),\"\")","v":""},{"$f":"IFERROR(INDEX(PTable[3-Method],MATCH(0,IF(DG$1=PTable[2-Test],COUNTIF(DG$1:DG34,PTable[3-Method]), \"\"),0)),\"\")","v":""},{"$f":"IFERROR(INDEX(PTable[3-Method],MATCH(0,IF(DH$1=PTable[2-Test],COUNTIF(DH$1:DH34,PTable[3-Method]), \"\"),0)),\"\")","v":""},{"$f":"IFERROR(INDEX(PTable[3-Method],MATCH(0,IF(DI$1=PTable[2-Test],COUNTIF(DI$1:DI34,PTable[3-Method]), \"\"),0)),\"\")","v":""},{"$f":"IFERROR(INDEX(PTable[3-Method],MATCH(0,IF(DJ$1=PTable[2-Test],COUNTIF(DJ$1:DJ34,PTable[3-Method]), \"\"),0)),\"\")","v":""}]
[null,{"$f":"IFERROR(INDEX(PTable[2-Test],MATCH(0,IF(B$1=PTable[1-Type],COUNTIF(B$1:B35,PTable[2-Test]), \"\"),0)),\"\")","v":"Sp.Sulf."},{"$f":"IFERROR(INDEX(PTable[2-Test],MATCH(0,IF(C$1=PTable[1-Type],COUNTIF(C$1:C35,PTable[2-Test]), \"\"),0)),\"\")","v":""},{"$f":"IFERROR(INDEX(PTable[2-Test],MATCH(0,IF(D$1=PTable[1-Type],COUNTIF(D$1:D35,PTable[2-Test]), \"\"),0)),\"\")","v":""},{"$f":"IFERROR(INDEX(PTable[2-Test],MATCH(0,IF(E$1=PTable[1-Type],COUNTIF(E$1:E35,PTable[2-Test]), \"\"),0)),\"\")","v":""},{"$f":"IFERROR(INDEX(PTable[2-Test],MATCH(0,IF(F$1=PTable[1-Type],COUNTIF(F$1:F35,PTable[2-Test]), \"\"),0)),\"\")","v":""},{"$f":"IFERROR(INDEX(PTable[3-Method],MATCH(0,IF(G$1=PTable[2-Test],COUNTIF(G$1:G35,PTable[3-Method]), \"\"),0)),\"\")","v":""},{"$f":"IFERROR(INDEX(PTable[3-Method],MATCH(0,IF(H$1=PTable[2-Test],COUNTIF(H$1:H35,PTable[3-Method]), \"\"),0)),\"\")","v":""},{"$f":"IFERROR(INDEX(PTable[3-Method],MATCH(0,IF(I$1=PTable[2-Test],COUNTIF(I$1:I35,PTable[3-Method]), \"\"),0)),\"\")","v":""},{"$f":"IFERROR(INDEX(PTable[3-Method],MATCH(0,IF(J$1=PTable[2-Test],COUNTIF(J$1:J35,PTable[3-Method]), \"\"),0)),\"\")","v":""},{"$f":"IFERROR(INDEX(PTable[3-Method],MATCH(0,IF(K$1=PTable[2-Test],COUNTIF(K$1:K35,PTable[3-Method]), \"\"),0)),\"\")","v":""},{"$f":"IFERROR(INDEX(PTable[3-Method],MATCH(0,IF(L$1=PTable[2-Test],COUNTIF(L$1:L35,PTable[3-Method]), \"\"),0)),\"\")","v":""},{"$f":"IFERROR(INDEX(PTable[3-Method],MATCH(0,IF(M$1=PTable[2-Test],COUNTIF(M$1:M35,PTable[3-Method]), \"\"),0)),\"\")","v":""},{"$f":"IFERROR(INDEX(PTable[3-Method],MATCH(0,IF(N$1=PTable[2-Test],COUNTIF(N$1:N35,PTable[3-Method]), \"\"),0)),\"\")","v":""},{"$f":"IFERROR(INDEX(PTable[3-Method],MATCH(0,IF(O$1=PTable[2-Test],COUNTIF(O$1:O35,PTable[3-Method]), \"\"),0)),\"\")","v":""},{"$f":"IFERROR(INDEX(PTable[3-Method],MATCH(0,IF(P$1=PTable[2-Test],COUNTIF(P$1:P35,PTable[3-Method]), \"\"),0)),\"\")","v":""},{"$f":"IFERROR(INDEX(PTable[3-Method],MATCH(0,IF(Q$1=PTable[2-Test],COUNTIF(Q$1:Q35,PTable[3-Method]), \"\"),0)),\"\")","v":""},{"$f":"IFERROR(INDEX(PTable[3-Method],MATCH(0,IF(R$1=PTable[2-Test],COUNTIF(R$1:R35,PTable[3-Method]), \"\"),0)),\"\")","v":""},{"$f":"IFERROR(INDEX(PTable[3-Method],MATCH(0,IF(S$1=PTable[2-Test],COUNTIF(S$1:S35,PTable[3-Method]), \"\"),0)),\"\")","v":""},{"$f":"IFERROR(INDEX(PTable[3-Method],MATCH(0,IF(T$1=PTable[2-Test],COUNTIF(T$1:T35,PTable[3-Method]), \"\"),0)),\"\")","v":""},{"$f":"IFERROR(INDEX(PTable[3-Method],MATCH(0,IF(U$1=PTable[2-Test],COUNTIF(U$1:U35,PTable[3-Method]), \"\"),0)),\"\")","v":""},{"$f":"IFERROR(INDEX(PTable[3-Method],MATCH(0,IF(V$1=PTable[2-Test],COUNTIF(V$1:V35,PTable[3-Method]), \"\"),0)),\"\")","v":""},{"$f":"IFERROR(INDEX(PTable[3-Method],MATCH(0,IF(W$1=PTable[2-Test],COUNTIF(W$1:W35,PTable[3-Method]), \"\"),0)),\"\")","v":""},{"$f":"IFERROR(INDEX(PTable[3-Method],MATCH(0,IF(X$1=PTable[2-Test],COUNTIF(X$1:X35,PTable[3-Method]), \"\"),0)),\"\")","v":""},{"$f":"IFERROR(INDEX(PTable[3-Method],MATCH(0,IF(Y$1=PTable[2-Test],COUNTIF(Y$1:Y35,PTable[3-Method]), \"\"),0)),\"\")","v":""},{"$f":"IFERROR(INDEX(PTable[3-Method],MATCH(0,IF(Z$1=PTable[2-Test],COUNTIF(Z$1:Z35,PTable[3-Method]), \"\"),0)),\"\")","v":""},{"$f":"IFERROR(INDEX(PTable[3-Method],MATCH(0,IF(AA$1=PTable[2-Test],COUNTIF(AA$1:AA35,PTable[3-Method]), \"\"),0)),\"\")","v":""},{"$f":"IFERROR(INDEX(PTable[3-Method],MATCH(0,IF(AB$1=PTable[2-Test],COUNTIF(AB$1:AB35,PTable[3-Method]), \"\"),0)),\"\")","v":""},{"$f":"IFERROR(INDEX(PTable[3-Method],MATCH(0,IF(AC$1=PTable[2-Test],COUNTIF(AC$1:AC35,PTable[3-Method]), \"\"),0)),\"\")","v":""},{"$f":"IFERROR(INDEX(PTable[3-Method],MATCH(0,IF(AD$1=PTable[2-Test],COUNTIF(AD$1:AD35,PTable[3-Method]), \"\"),0)),\"\")","v":""},{"$f":"IFERROR(INDEX(PTable[3-Method],MATCH(0,IF(AE$1=PTable[2-Test],COUNTIF(AE$1:AE35,PTable[3-Method]), \"\"),0)),\"\")","v":""},{"$f":"IFERROR(INDEX(PTable[3-Method],MATCH(0,IF(AF$1=PTable[2-Test],COUNTIF(AF$1:AF35,PTable[3-Method]), \"\"),0)),\"\")","v":""},{"$f":"IFERROR(INDEX(PTable[3-Method],MATCH(0,IF(AG$1=PTable[2-Test],COUNTIF(AG$1:AG35,PTable[3-Method]), \"\"),0)),\"\")","v":""},{"$f":"IFERROR(INDEX(PTable[3-Method],MATCH(0,IF(AH$1=PTable[2-Test],COUNTIF(AH$1:AH35,PTable[3-Method]), \"\"),0)),\"\")","v":""},{"$f":"IFERROR(INDEX(PTable[3-Method],MATCH(0,IF(AI$1=PTable[2-Test],COUNTIF(AI$1:AI35,PTable[3-Method]), \"\"),0)),\"\")","v":""},{"$f":"IFERROR(INDEX(PTable[3-Method],MATCH(0,IF(AJ$1=PTable[2-Test],COUNTIF(AJ$1:AJ35,PTable[3-Method]), \"\"),0)),\"\")","v":""},{"$f":"IFERROR(INDEX(PTable[3-Method],MATCH(0,IF(AK$1=PTable[2-Test],COUNTIF(AK$1:AK35,PTable[3-Method]), \"\"),0)),\"\")","v":""},{"$f":"IFERROR(INDEX(PTable[3-Method],MATCH(0,IF(AL$1=PTable[2-Test],COUNTIF(AL$1:AL35,PTable[3-Method]), \"\"),0)),\"\")","v":""},{"$f":"IFERROR(INDEX(PTable[3-Method],MATCH(0,IF(AM$1=PTable[2-Test],COUNTIF(AM$1:AM35,PTable[3-Method]), \"\"),0)),\"\")","v":""},{"$f":"IFERROR(INDEX(PTable[3-Method],MATCH(0,IF(AN$1=PTable[2-Test],COUNTIF(AN$1:AN35,PTable[3-Method]), \"\"),0)),\"\")","v":""},{"$f":"IFERROR(INDEX(PTable[3-Method],MATCH(0,IF(AO$1=PTable[2-Test],COUNTIF(AO$1:AO35,PTable[3-Method]), \"\"),0)),\"\")","v":""},{"$f":"IFERROR(INDEX(PTable[3-Method],MATCH(0,IF(AP$1=PTable[2-Test],COUNTIF(AP$1:AP35,PTable[3-Method]), \"\"),0)),\"\")","v":""},{"$f":"IFERROR(INDEX(PTable[3-Method],MATCH(0,IF(AQ$1=PTable[2-Test],COUNTIF(AQ$1:AQ35,PTable[3-Method]), \"\"),0)),\"\")","v":""},{"$f":"IFERROR(INDEX(PTable[3-Method],MATCH(0,IF(AR$1=PTable[2-Test],COUNTIF(AR$1:AR35,PTable[3-Method]), \"\"),0)),\"\")","v":""},{"$f":"IFERROR(INDEX(PTable[3-Method],MATCH(0,IF(AS$1=PTable[2-Test],COUNTIF(AS$1:AS35,PTable[3-Method]), \"\"),0)),\"\")","v":""},{"$f":"IFERROR(INDEX(PTable[3-Method],MATCH(0,IF(AT$1=PTable[2-Test],COUNTIF(AT$1:AT35,PTable[3-Method]), \"\"),0)),\"\")","v":""},{"$f":"IFERROR(INDEX(PTable[3-Method],MATCH(0,IF(AU$1=PTable[2-Test],COUNTIF(AU$1:AU35,PTable[3-Method]), \"\"),0)),\"\")","v":""},{"$f":"IFERROR(INDEX(PTable[3-Method],MATCH(0,IF(AV$1=PTable[2-Test],COUNTIF(AV$1:AV35,PTable[3-Method]), \"\"),0)),\"\")","v":""},{"$f":"IFERROR(INDEX(PTable[3-Method],MATCH(0,IF(AW$1=PTable[2-Test],COUNTIF(AW$1:AW35,PTable[3-Method]), \"\"),0)),\"\")","v":""},{"$f":"IFERROR(INDEX(PTable[3-Method],MATCH(0,IF(AX$1=PTable[2-Test],COUNTIF(AX$1:AX35,PTable[3-Method]), \"\"),0)),\"\")","v":""},{"$f":"IFERROR(INDEX(PTable[3-Method],MATCH(0,IF(AY$1=PTable[2-Test],COUNTIF(AY$1:AY35,PTable[3-Method]), \"\"),0)),\"\")","v":""},{"$f":"IFERROR(INDEX(PTable[3-Method],MATCH(0,IF(AZ$1=PTable[2-Test],COUNTIF(AZ$1:AZ35,PTable[3-Method]), \"\"),0)),\"\")","v":""},{"$f":"IFERROR(INDEX(PTable[3-Method],MATCH(0,IF(BA$1=PTable[2-Test],COUNTIF(BA$1:BA35,PTable[3-Method]), \"\"),0)),\"\")","v":""},{"$f":"IFERROR(INDEX(PTable[3-Method],MATCH(0,IF(BB$1=PTable[2-Test],COUNTIF(BB$1:BB35,PTable[3-Method]), \"\"),0)),\"\")","v":""},{"$f":"IFERROR(INDEX(PTable[3-Method],MATCH(0,IF(BC$1=PTable[2-Test],COUNTIF(BC$1:BC35,PTable[3-Method]), \"\"),0)),\"\")","v":""},{"$f":"IFERROR(INDEX(PTable[3-Method],MATCH(0,IF(BD$1=PTable[2-Test],COUNTIF(BD$1:BD35,PTable[3-Method]), \"\"),0)),\"\")","v":""},{"$f":"IFERROR(INDEX(PTable[3-Method],MATCH(0,IF(BE$1=PTable[2-Test],COUNTIF(BE$1:BE35,PTable[3-Method]), \"\"),0)),\"\")","v":""},{"$f":"IFERROR(INDEX(PTable[3-Method],MATCH(0,IF(BF$1=PTable[2-Test],COUNTIF(BF$1:BF35,PTable[3-Method]), \"\"),0)),\"\")","v":""},{"$f":"IFERROR(INDEX(PTable[3-Method],MATCH(0,IF(BG$1=PTable[2-Test],COUNTIF(BG$1:BG35,PTable[3-Method]), \"\"),0)),\"\")","v":""},{"$f":"IFERROR(INDEX(PTable[3-Method],MATCH(0,IF(BH$1=PTable[2-Test],COUNTIF(BH$1:BH35,PTable[3-Method]), \"\"),0)),\"\")","v":""},{"$f":"IFERROR(INDEX(PTable[3-Method],MATCH(0,IF(BI$1=PTable[2-Test],COUNTIF(BI$1:BI35,PTable[3-Method]), \"\"),0)),\"\")","v":""},{"$f":"IFERROR(INDEX(PTable[3-Method],MATCH(0,IF(BJ$1=PTable[2-Test],COUNTIF(BJ$1:BJ35,PTable[3-Method]), \"\"),0)),\"\")","v":""},{"$f":"IFERROR(INDEX(PTable[3-Method],MATCH(0,IF(BK$1=PTable[2-Test],COUNTIF(BK$1:BK35,PTable[3-Method]), \"\"),0)),\"\")","v":""},{"$f":"IFERROR(INDEX(PTable[3-Method],MATCH(0,IF(BL$1=PTable[2-Test],COUNTIF(BL$1:BL35,PTable[3-Method]), \"\"),0)),\"\")","v":""},{"$f":"IFERROR(INDEX(PTable[3-Method],MATCH(0,IF(BM$1=PTable[2-Test],COUNTIF(BM$1:BM35,PTable[3-Method]), \"\"),0)),\"\")","v":"PCRsam"},{"$f":"IFERROR(INDEX(PTable[3-Method],MATCH(0,IF(BN$1=PTable[2-Test],COUNTIF(BN$1:BN35,PTable[3-Method]), \"\"),0)),\"\")","v":""},{"$f":"IFERROR(INDEX(PTable[3-Method],MATCH(0,IF(BO$1=PTable[2-Test],COUNTIF(BO$1:BO35,PTable[3-Method]), \"\"),0)),\"\")","v":""},{"$f":"IFERROR(INDEX(PTable[3-Method],MATCH(0,IF(BP$1=PTable[2-Test],COUNTIF(BP$1:BP35,PTable[3-Method]), \"\"),0)),\"\")","v":"PCR750g"},{"$f":"IFERROR(INDEX(PTable[3-Method],MATCH(0,IF(BQ$1=PTable[2-Test],COUNTIF(BQ$1:BQ35,PTable[3-Method]), \"\"),0)),\"\")","v":""},{"$f":"IFERROR(INDEX(PTable[3-Method],MATCH(0,IF(BR$1=PTable[2-Test],COUNTIF(BR$1:BR35,PTable[3-Method]), \"\"),0)),\"\")","v":""},{"$f":"IFERROR(INDEX(PTable[3-Method],MATCH(0,IF(BS$1=PTable[2-Test],COUNTIF(BS$1:BS35,PTable[3-Method]), \"\"),0)),\"\")","v":""},{"$f":"IFERROR(INDEX(PTable[3-Method],MATCH(0,IF(BT$1=PTable[2-Test],COUNTIF(BT$1:BT35,PTable[3-Method]), \"\"),0)),\"\")","v":""},{"$f":"IFERROR(INDEX(PTable[3-Method],MATCH(0,IF(BU$1=PTable[2-Test],COUNTIF(BU$1:BU35,PTable[3-Method]), \"\"),0)),\"\")","v":""},{"$f":"IFERROR(INDEX(PTable[3-Method],MATCH(0,IF(BV$1=PTable[2-Test],COUNTIF(BV$1:BV35,PTable[3-Method]), \"\"),0)),\"\")","v":""},{"$f":"IFERROR(INDEX(PTable[3-Method],MATCH(0,IF(BW$1=PTable[2-Test],COUNTIF(BW$1:BW35,PTable[3-Method]), \"\"),0)),\"\")","v":""},{"$f":"IFERROR(INDEX(PTable[3-Method],MATCH(0,IF(BX$1=PTable[2-Test],COUNTIF(BX$1:BX35,PTable[3-Method]), \"\"),0)),\"\")","v":""},{"$f":"IFERROR(INDEX(PTable[3-Method],MATCH(0,IF(BY$1=PTable[2-Test],COUNTIF(BY$1:BY35,PTable[3-Method]), \"\"),0)),\"\")","v":""},{"$f":"IFERROR(INDEX(PTable[3-Method],MATCH(0,IF(BZ$1=PTable[2-Test],COUNTIF(BZ$1:BZ35,PTable[3-Method]), \"\"),0)),\"\")","v":""},{"$f":"IFERROR(INDEX(PTable[3-Method],MATCH(0,IF(CA$1=PTable[2-Test],COUNTIF(CA$1:CA35,PTable[3-Method]), \"\"),0)),\"\")","v":""},{"$f":"IFERROR(INDEX(PTable[3-Method],MATCH(0,IF(CB$1=PTable[2-Test],COUNTIF(CB$1:CB35,PTable[3-Method]), \"\"),0)),\"\")","v":""},{"$f":"IFERROR(INDEX(PTable[3-Method],MATCH(0,IF(CC$1=PTable[2-Test],COUNTIF(CC$1:CC35,PTable[3-Method]), \"\"),0)),\"\")","v":""},{"$f":"IFERROR(INDEX(PTable[3-Method],MATCH(0,IF(CD$1=PTable[2-Test],COUNTIF(CD$1:CD35,PTable[3-Method]), \"\"),0)),\"\")","v":""},{"$f":"IFERROR(INDEX(PTable[3-Method],MATCH(0,IF(CE$1=PTable[2-Test],COUNTIF(CE$1:CE35,PTable[3-Method]), \"\"),0)),\"\")","v":""},{"$f":"IFERROR(INDEX(PTable[3-Method],MATCH(0,IF(CF$1=PTable[2-Test],COUNTIF(CF$1:CF35,PTable[3-Method]), \"\"),0)),\"\")","v":""},{"$f":"IFERROR(INDEX(PTable[3-Method],MATCH(0,IF(CG$1=PTable[2-Test],COUNTIF(CG$1:CG35,PTable[3-Method]), \"\"),0)),\"\")","v":""},{"$f":"IFERROR(INDEX(PTable[3-Method],MATCH(0,IF(CH$1=PTable[2-Test],COUNTIF(CH$1:CH35,PTable[3-Method]), \"\"),0)),\"\")","v":""},{"$f":"IFERROR(INDEX(PTable[3-Method],MATCH(0,IF(CI$1=PTable[2-Test],COUNTIF(CI$1:CI35,PTable[3-Method]), \"\"),0)),\"\")","v":""},{"$f":"IFERROR(INDEX(PTable[3-Method],MATCH(0,IF(CJ$1=PTable[2-Test],COUNTIF(CJ$1:CJ35,PTable[3-Method]), \"\"),0)),\"\")","v":""},{"$f":"IFERROR(INDEX(PTable[3-Method],MATCH(0,IF(CK$1=PTable[2-Test],COUNTIF(CK$1:CK35,PTable[3-Method]), \"\"),0)),\"\")","v":""},{"$f":"IFERROR(INDEX(PTable[3-Method],MATCH(0,IF(CL$1=PTable[2-Test],COUNTIF(CL$1:CL35,PTable[3-Method]), \"\"),0)),\"\")","v":""},{"$f":"IFERROR(INDEX(PTable[3-Method],MATCH(0,IF(CM$1=PTable[2-Test],COUNTIF(CM$1:CM35,PTable[3-Method]), \"\"),0)),\"\")","v":""},{"$f":"IFERROR(INDEX(PTable[3-Method],MATCH(0,IF(CN$1=PTable[2-Test],COUNTIF(CN$1:CN35,PTable[3-Method]), \"\"),0)),\"\")","v":""},{"$f":"IFERROR(INDEX(PTable[3-Method],MATCH(0,IF(CO$1=PTable[2-Test],COUNTIF(CO$1:CO35,PTable[3-Method]), \"\"),0)),\"\")","v":""},{"$f":"IFERROR(INDEX(PTable[3-Method],MATCH(0,IF(CP$1=PTable[2-Test],COUNTIF(CP$1:CP35,PTable[3-Method]), \"\"),0)),\"\")","v":""},{"$f":"IFERROR(INDEX(PTable[3-Method],MATCH(0,IF(CQ$1=PTable[2-Test],COUNTIF(CQ$1:CQ35,PTable[3-Method]), \"\"),0)),\"\")","v":""},{"$f":"IFERROR(INDEX(PTable[3-Method],MATCH(0,IF(CR$1=PTable[2-Test],COUNTIF(CR$1:CR35,PTable[3-Method]), \"\"),0)),\"\")","v":""},{"$f":"IFERROR(INDEX(PTable[3-Method],MATCH(0,IF(CS$1=PTable[2-Test],COUNTIF(CS$1:CS35,PTable[3-Method]), \"\"),0)),\"\")","v":""},{"$f":"IFERROR(INDEX(PTable[3-Method],MATCH(0,IF(CT$1=PTable[2-Test],COUNTIF(CT$1:CT35,PTable[3-Method]), \"\"),0)),\"\")","v":""},{"$f":"IFERROR(INDEX(PTable[3-Method],MATCH(0,IF(CU$1=PTable[2-Test],COUNTIF(CU$1:CU35,PTable[3-Method]), \"\"),0)),\"\")","v":""},{"$f":"IFERROR(INDEX(PTable[3-Method],MATCH(0,IF(CV$1=PTable[2-Test],COUNTIF(CV$1:CV35,PTable[3-Method]), \"\"),0)),\"\")","v":""},{"$f":"IFERROR(INDEX(PTable[3-Method],MATCH(0,IF(CW$1=PTable[2-Test],COUNTIF(CW$1:CW35,PTable[3-Method]), \"\"),0)),\"\")","v":""},{"$f":"IFERROR(INDEX(PTable[3-Method],MATCH(0,IF(CX$1=PTable[2-Test],COUNTIF(CX$1:CX35,PTable[3-Method]), \"\"),0)),\"\")","v":""},{"$f":"IFERROR(INDEX(PTable[3-Method],MATCH(0,IF(CY$1=PTable[2-Test],COUNTIF(CY$1:CY35,PTable[3-Method]), \"\"),0)),\"\")","v":""},{"$f":"IFERROR(INDEX(PTable[3-Method],MATCH(0,IF(CZ$1=PTable[2-Test],COUNTIF(CZ$1:CZ35,PTable[3-Method]), \"\"),0)),\"\")","v":""},{"$f":"IFERROR(INDEX(PTable[3-Method],MATCH(0,IF(DA$1=PTable[2-Test],COUNTIF(DA$1:DA35,PTable[3-Method]), \"\"),0)),\"\")","v":""},{"$f":"IFERROR(INDEX(PTable[3-Method],MATCH(0,IF(DB$1=PTable[2-Test],COUNTIF(DB$1:DB35,PTable[3-Method]), \"\"),0)),\"\")","v":""},{"$f":"IFERROR(INDEX(PTable[3-Method],MATCH(0,IF(DC$1=PTable[2-Test],COUNTIF(DC$1:DC35,PTable[3-Method]), \"\"),0)),\"\")","v":""},{"$f":"IFERROR(INDEX(PTable[3-Method],MATCH(0,IF(DD$1=PTable[2-Test],COUNTIF(DD$1:DD35,PTable[3-Method]), \"\"),0)),\"\")","v":""},{"$f":"IFERROR(INDEX(PTable[3-Method],MATCH(0,IF(DE$1=PTable[2-Test],COUNTIF(DE$1:DE35,PTable[3-Method]), \"\"),0)),\"\")","v":""},{"$f":"IFERROR(INDEX(PTable[3-Method],MATCH(0,IF(DF$1=PTable[2-Test],COUNTIF(DF$1:DF35,PTable[3-Method]), \"\"),0)),\"\")","v":""},{"$f":"IFERROR(INDEX(PTable[3-Method],MATCH(0,IF(DG$1=PTable[2-Test],COUNTIF(DG$1:DG35,PTable[3-Method]), \"\"),0)),\"\")","v":""},{"$f":"IFERROR(INDEX(PTable[3-Method],MATCH(0,IF(DH$1=PTable[2-Test],COUNTIF(DH$1:DH35,PTable[3-Method]), \"\"),0)),\"\")","v":""},{"$f":"IFERROR(INDEX(PTable[3-Method],MATCH(0,IF(DI$1=PTable[2-Test],COUNTIF(DI$1:DI35,PTable[3-Method]), \"\"),0)),\"\")","v":""},{"$f":"IFERROR(INDEX(PTable[3-Method],MATCH(0,IF(DJ$1=PTable[2-Test],COUNTIF(DJ$1:DJ35,PTable[3-Method]), \"\"),0)),\"\")","v":""}]
[null,{"$f":"IFERROR(INDEX(PTable[2-Test],MATCH(0,IF(B$1=PTable[1-Type],COUNTIF(B$1:B36,PTable[2-Test]), \"\"),0)),\"\")","v":"Sp.Tflat"},{"$f":"IFERROR(INDEX(PTable[2-Test],MATCH(0,IF(C$1=PTable[1-Type],COUNTIF(C$1:C36,PTable[2-Test]), \"\"),0)),\"\")","v":""},{"$f":"IFERROR(INDEX(PTable[2-Test],MATCH(0,IF(D$1=PTable[1-Type],COUNTIF(D$1:D36,PTable[2-Test]), \"\"),0)),\"\")","v":""},{"$f":"IFERROR(INDEX(PTable[2-Test],MATCH(0,IF(E$1=PTable[1-Type],COUNTIF(E$1:E36,PTable[2-Test]), \"\"),0)),\"\")","v":""},{"$f":"IFERROR(INDEX(PTable[2-Test],MATCH(0,IF(F$1=PTable[1-Type],COUNTIF(F$1:F36,PTable[2-Test]), \"\"),0)),\"\")","v":""},{"$f":"IFERROR(INDEX(PTable[3-Method],MATCH(0,IF(G$1=PTable[2-Test],COUNTIF(G$1:G36,PTable[3-Method]), \"\"),0)),\"\")","v":""},{"$f":"IFERROR(INDEX(PTable[3-Method],MATCH(0,IF(H$1=PTable[2-Test],COUNTIF(H$1:H36,PTable[3-Method]), \"\"),0)),\"\")","v":""},{"$f":"IFERROR(INDEX(PTable[3-Method],MATCH(0,IF(I$1=PTable[2-Test],COUNTIF(I$1:I36,PTable[3-Method]), \"\"),0)),\"\")","v":""},{"$f":"IFERROR(INDEX(PTable[3-Method],MATCH(0,IF(J$1=PTable[2-Test],COUNTIF(J$1:J36,PTable[3-Method]), \"\"),0)),\"\")","v":""},{"$f":"IFERROR(INDEX(PTable[3-Method],MATCH(0,IF(K$1=PTable[2-Test],COUNTIF(K$1:K36,PTable[3-Method]), \"\"),0)),\"\")","v":""},{"$f":"IFERROR(INDEX(PTable[3-Method],MATCH(0,IF(L$1=PTable[2-Test],COUNTIF(L$1:L36,PTable[3-Method]), \"\"),0)),\"\")","v":""},{"$f":"IFERROR(INDEX(PTable[3-Method],MATCH(0,IF(M$1=PTable[2-Test],COUNTIF(M$1:M36,PTable[3-Method]), \"\"),0)),\"\")","v":""},{"$f":"IFERROR(INDEX(PTable[3-Method],MATCH(0,IF(N$1=PTable[2-Test],COUNTIF(N$1:N36,PTable[3-Method]), \"\"),0)),\"\")","v":""},{"$f":"IFERROR(INDEX(PTable[3-Method],MATCH(0,IF(O$1=PTable[2-Test],COUNTIF(O$1:O36,PTable[3-Method]), \"\"),0)),\"\")","v":""},{"$f":"IFERROR(INDEX(PTable[3-Method],MATCH(0,IF(P$1=PTable[2-Test],COUNTIF(P$1:P36,PTable[3-Method]), \"\"),0)),\"\")","v":""},{"$f":"IFERROR(INDEX(PTable[3-Method],MATCH(0,IF(Q$1=PTable[2-Test],COUNTIF(Q$1:Q36,PTable[3-Method]), \"\"),0)),\"\")","v":""},{"$f":"IFERROR(INDEX(PTable[3-Method],MATCH(0,IF(R$1=PTable[2-Test],COUNTIF(R$1:R36,PTable[3-Method]), \"\"),0)),\"\")","v":""},{"$f":"IFERROR(INDEX(PTable[3-Method],MATCH(0,IF(S$1=PTable[2-Test],COUNTIF(S$1:S36,PTable[3-Method]), \"\"),0)),\"\")","v":""},{"$f":"IFERROR(INDEX(PTable[3-Method],MATCH(0,IF(T$1=PTable[2-Test],COUNTIF(T$1:T36,PTable[3-Method]), \"\"),0)),\"\")","v":""},{"$f":"IFERROR(INDEX(PTable[3-Method],MATCH(0,IF(U$1=PTable[2-Test],COUNTIF(U$1:U36,PTable[3-Method]), \"\"),0)),\"\")","v":""},{"$f":"IFERROR(INDEX(PTable[3-Method],MATCH(0,IF(V$1=PTable[2-Test],COUNTIF(V$1:V36,PTable[3-Method]), \"\"),0)),\"\")","v":""},{"$f":"IFERROR(INDEX(PTable[3-Method],MATCH(0,IF(W$1=PTable[2-Test],COUNTIF(W$1:W36,PTable[3-Method]), \"\"),0)),\"\")","v":""},{"$f":"IFERROR(INDEX(PTable[3-Method],MATCH(0,IF(X$1=PTable[2-Test],COUNTIF(X$1:X36,PTable[3-Method]), \"\"),0)),\"\")","v":""},{"$f":"IFERROR(INDEX(PTable[3-Method],MATCH(0,IF(Y$1=PTable[2-Test],COUNTIF(Y$1:Y36,PTable[3-Method]), \"\"),0)),\"\")","v":""},{"$f":"IFERROR(INDEX(PTable[3-Method],MATCH(0,IF(Z$1=PTable[2-Test],COUNTIF(Z$1:Z36,PTable[3-Method]), \"\"),0)),\"\")","v":""},{"$f":"IFERROR(INDEX(PTable[3-Method],MATCH(0,IF(AA$1=PTable[2-Test],COUNTIF(AA$1:AA36,PTable[3-Method]), \"\"),0)),\"\")","v":""},{"$f":"IFERROR(INDEX(PTable[3-Method],MATCH(0,IF(AB$1=PTable[2-Test],COUNTIF(AB$1:AB36,PTable[3-Method]), \"\"),0)),\"\")","v":""},{"$f":"IFERROR(INDEX(PTable[3-Method],MATCH(0,IF(AC$1=PTable[2-Test],COUNTIF(AC$1:AC36,PTable[3-Method]), \"\"),0)),\"\")","v":""},{"$f":"IFERROR(INDEX(PTable[3-Method],MATCH(0,IF(AD$1=PTable[2-Test],COUNTIF(AD$1:AD36,PTable[3-Method]), \"\"),0)),\"\")","v":""},{"$f":"IFERROR(INDEX(PTable[3-Method],MATCH(0,IF(AE$1=PTable[2-Test],COUNTIF(AE$1:AE36,PTable[3-Method]), \"\"),0)),\"\")","v":""},{"$f":"IFERROR(INDEX(PTable[3-Method],MATCH(0,IF(AF$1=PTable[2-Test],COUNTIF(AF$1:AF36,PTable[3-Method]), \"\"),0)),\"\")","v":""},{"$f":"IFERROR(INDEX(PTable[3-Method],MATCH(0,IF(AG$1=PTable[2-Test],COUNTIF(AG$1:AG36,PTable[3-Method]), \"\"),0)),\"\")","v":""},{"$f":"IFERROR(INDEX(PTable[3-Method],MATCH(0,IF(AH$1=PTable[2-Test],COUNTIF(AH$1:AH36,PTable[3-Method]), \"\"),0)),\"\")","v":""},{"$f":"IFERROR(INDEX(PTable[3-Method],MATCH(0,IF(AI$1=PTable[2-Test],COUNTIF(AI$1:AI36,PTable[3-Method]), \"\"),0)),\"\")","v":""},{"$f":"IFERROR(INDEX(PTable[3-Method],MATCH(0,IF(AJ$1=PTable[2-Test],COUNTIF(AJ$1:AJ36,PTable[3-Method]), \"\"),0)),\"\")","v":""},{"$f":"IFERROR(INDEX(PTable[3-Method],MATCH(0,IF(AK$1=PTable[2-Test],COUNTIF(AK$1:AK36,PTable[3-Method]), \"\"),0)),\"\")","v":""},{"$f":"IFERROR(INDEX(PTable[3-Method],MATCH(0,IF(AL$1=PTable[2-Test],COUNTIF(AL$1:AL36,PTable[3-Method]), \"\"),0)),\"\")","v":""},{"$f":"IFERROR(INDEX(PTable[3-Method],MATCH(0,IF(AM$1=PTable[2-Test],COUNTIF(AM$1:AM36,PTable[3-Method]), \"\"),0)),\"\")","v":""},{"$f":"IFERROR(INDEX(PTable[3-Method],MATCH(0,IF(AN$1=PTable[2-Test],COUNTIF(AN$1:AN36,PTable[3-Method]), \"\"),0)),\"\")","v":""},{"$f":"IFERROR(INDEX(PTable[3-Method],MATCH(0,IF(AO$1=PTable[2-Test],COUNTIF(AO$1:AO36,PTable[3-Method]), \"\"),0)),\"\")","v":""},{"$f":"IFERROR(INDEX(PTable[3-Method],MATCH(0,IF(AP$1=PTable[2-Test],COUNTIF(AP$1:AP36,PTable[3-Method]), \"\"),0)),\"\")","v":""},{"$f":"IFERROR(INDEX(PTable[3-Method],MATCH(0,IF(AQ$1=PTable[2-Test],COUNTIF(AQ$1:AQ36,PTable[3-Method]), \"\"),0)),\"\")","v":""},{"$f":"IFERROR(INDEX(PTable[3-Method],MATCH(0,IF(AR$1=PTable[2-Test],COUNTIF(AR$1:AR36,PTable[3-Method]), \"\"),0)),\"\")","v":""},{"$f":"IFERROR(INDEX(PTable[3-Method],MATCH(0,IF(AS$1=PTable[2-Test],COUNTIF(AS$1:AS36,PTable[3-Method]), \"\"),0)),\"\")","v":""},{"$f":"IFERROR(INDEX(PTable[3-Method],MATCH(0,IF(AT$1=PTable[2-Test],COUNTIF(AT$1:AT36,PTable[3-Method]), \"\"),0)),\"\")","v":""},{"$f":"IFERROR(INDEX(PTable[3-Method],MATCH(0,IF(AU$1=PTable[2-Test],COUNTIF(AU$1:AU36,PTable[3-Method]), \"\"),0)),\"\")","v":""},{"$f":"IFERROR(INDEX(PTable[3-Method],MATCH(0,IF(AV$1=PTable[2-Test],COUNTIF(AV$1:AV36,PTable[3-Method]), \"\"),0)),\"\")","v":""},{"$f":"IFERROR(INDEX(PTable[3-Method],MATCH(0,IF(AW$1=PTable[2-Test],COUNTIF(AW$1:AW36,PTable[3-Method]), \"\"),0)),\"\")","v":""},{"$f":"IFERROR(INDEX(PTable[3-Method],MATCH(0,IF(AX$1=PTable[2-Test],COUNTIF(AX$1:AX36,PTable[3-Method]), \"\"),0)),\"\")","v":""},{"$f":"IFERROR(INDEX(PTable[3-Method],MATCH(0,IF(AY$1=PTable[2-Test],COUNTIF(AY$1:AY36,PTable[3-Method]), \"\"),0)),\"\")","v":""},{"$f":"IFERROR(INDEX(PTable[3-Method],MATCH(0,IF(AZ$1=PTable[2-Test],COUNTIF(AZ$1:AZ36,PTable[3-Method]), \"\"),0)),\"\")","v":""},{"$f":"IFERROR(INDEX(PTable[3-Method],MATCH(0,IF(BA$1=PTable[2-Test],COUNTIF(BA$1:BA36,PTable[3-Method]), \"\"),0)),\"\")","v":""},{"$f":"IFERROR(INDEX(PTable[3-Method],MATCH(0,IF(BB$1=PTable[2-Test],COUNTIF(BB$1:BB36,PTable[3-Method]), \"\"),0)),\"\")","v":""},{"$f":"IFERROR(INDEX(PTable[3-Method],MATCH(0,IF(BC$1=PTable[2-Test],COUNTIF(BC$1:BC36,PTable[3-Method]), \"\"),0)),\"\")","v":""},{"$f":"IFERROR(INDEX(PTable[3-Method],MATCH(0,IF(BD$1=PTable[2-Test],COUNTIF(BD$1:BD36,PTable[3-Method]), \"\"),0)),\"\")","v":""},{"$f":"IFERROR(INDEX(PTable[3-Method],MATCH(0,IF(BE$1=PTable[2-Test],COUNTIF(BE$1:BE36,PTable[3-Method]), \"\"),0)),\"\")","v":""},{"$f":"IFERROR(INDEX(PTable[3-Method],MATCH(0,IF(BF$1=PTable[2-Test],COUNTIF(BF$1:BF36,PTable[3-Method]), \"\"),0)),\"\")","v":""},{"$f":"IFERROR(INDEX(PTable[3-Method],MATCH(0,IF(BG$1=PTable[2-Test],COUNTIF(BG$1:BG36,PTable[3-Method]), \"\"),0)),\"\")","v":""},{"$f":"IFERROR(INDEX(PTable[3-Method],MATCH(0,IF(BH$1=PTable[2-Test],COUNTIF(BH$1:BH36,PTable[3-Method]), \"\"),0)),\"\")","v":""},{"$f":"IFERROR(INDEX(PTable[3-Method],MATCH(0,IF(BI$1=PTable[2-Test],COUNTIF(BI$1:BI36,PTable[3-Method]), \"\"),0)),\"\")","v":""},{"$f":"IFERROR(INDEX(PTable[3-Method],MATCH(0,IF(BJ$1=PTable[2-Test],COUNTIF(BJ$1:BJ36,PTable[3-Method]), \"\"),0)),\"\")","v":""},{"$f":"IFERROR(INDEX(PTable[3-Method],MATCH(0,IF(BK$1=PTable[2-Test],COUNTIF(BK$1:BK36,PTable[3-Method]), \"\"),0)),\"\")","v":""},{"$f":"IFERROR(INDEX(PTable[3-Method],MATCH(0,IF(BL$1=PTable[2-Test],COUNTIF(BL$1:BL36,PTable[3-Method]), \"\"),0)),\"\")","v":""},{"$f":"IFERROR(INDEX(PTable[3-Method],MATCH(0,IF(BM$1=PTable[2-Test],COUNTIF(BM$1:BM36,PTable[3-Method]), \"\"),0)),\"\")","v":""},{"$f":"IFERROR(INDEX(PTable[3-Method],MATCH(0,IF(BN$1=PTable[2-Test],COUNTIF(BN$1:BN36,PTable[3-Method]), \"\"),0)),\"\")","v":""},{"$f":"IFERROR(INDEX(PTable[3-Method],MATCH(0,IF(BO$1=PTable[2-Test],COUNTIF(BO$1:BO36,PTable[3-Method]), \"\"),0)),\"\")","v":""},{"$f":"IFERROR(INDEX(PTable[3-Method],MATCH(0,IF(BP$1=PTable[2-Test],COUNTIF(BP$1:BP36,PTable[3-Method]), \"\"),0)),\"\")","v":"PCR75g"},{"$f":"IFERROR(INDEX(PTable[3-Method],MATCH(0,IF(BQ$1=PTable[2-Test],COUNTIF(BQ$1:BQ36,PTable[3-Method]), \"\"),0)),\"\")","v":""},{"$f":"IFERROR(INDEX(PTable[3-Method],MATCH(0,IF(BR$1=PTable[2-Test],COUNTIF(BR$1:BR36,PTable[3-Method]), \"\"),0)),\"\")","v":""},{"$f":"IFERROR(INDEX(PTable[3-Method],MATCH(0,IF(BS$1=PTable[2-Test],COUNTIF(BS$1:BS36,PTable[3-Method]), \"\"),0)),\"\")","v":""},{"$f":"IFERROR(INDEX(PTable[3-Method],MATCH(0,IF(BT$1=PTable[2-Test],COUNTIF(BT$1:BT36,PTable[3-Method]), \"\"),0)),\"\")","v":""},{"$f":"IFERROR(INDEX(PTable[3-Method],MATCH(0,IF(BU$1=PTable[2-Test],COUNTIF(BU$1:BU36,PTable[3-Method]), \"\"),0)),\"\")","v":""},{"$f":"IFERROR(INDEX(PTable[3-Method],MATCH(0,IF(BV$1=PTable[2-Test],COUNTIF(BV$1:BV36,PTable[3-Method]), \"\"),0)),\"\")","v":""},{"$f":"IFERROR(INDEX(PTable[3-Method],MATCH(0,IF(BW$1=PTable[2-Test],COUNTIF(BW$1:BW36,PTable[3-Method]), \"\"),0)),\"\")","v":""},{"$f":"IFERROR(INDEX(PTable[3-Method],MATCH(0,IF(BX$1=PTable[2-Test],COUNTIF(BX$1:BX36,PTable[3-Method]), \"\"),0)),\"\")","v":""},{"$f":"IFERROR(INDEX(PTable[3-Method],MATCH(0,IF(BY$1=PTable[2-Test],COUNTIF(BY$1:BY36,PTable[3-Method]), \"\"),0)),\"\")","v":""},{"$f":"IFERROR(INDEX(PTable[3-Method],MATCH(0,IF(BZ$1=PTable[2-Test],COUNTIF(BZ$1:BZ36,PTable[3-Method]), \"\"),0)),\"\")","v":""},{"$f":"IFERROR(INDEX(PTable[3-Method],MATCH(0,IF(CA$1=PTable[2-Test],COUNTIF(CA$1:CA36,PTable[3-Method]), \"\"),0)),\"\")","v":""},{"$f":"IFERROR(INDEX(PTable[3-Method],MATCH(0,IF(CB$1=PTable[2-Test],COUNTIF(CB$1:CB36,PTable[3-Method]), \"\"),0)),\"\")","v":""},{"$f":"IFERROR(INDEX(PTable[3-Method],MATCH(0,IF(CC$1=PTable[2-Test],COUNTIF(CC$1:CC36,PTable[3-Method]), \"\"),0)),\"\")","v":""},{"$f":"IFERROR(INDEX(PTable[3-Method],MATCH(0,IF(CD$1=PTable[2-Test],COUNTIF(CD$1:CD36,PTable[3-Method]), \"\"),0)),\"\")","v":""},{"$f":"IFERROR(INDEX(PTable[3-Method],MATCH(0,IF(CE$1=PTable[2-Test],COUNTIF(CE$1:CE36,PTable[3-Method]), \"\"),0)),\"\")","v":""},{"$f":"IFERROR(INDEX(PTable[3-Method],MATCH(0,IF(CF$1=PTable[2-Test],COUNTIF(CF$1:CF36,PTable[3-Method]), \"\"),0)),\"\")","v":""},{"$f":"IFERROR(INDEX(PTable[3-Method],MATCH(0,IF(CG$1=PTable[2-Test],COUNTIF(CG$1:CG36,PTable[3-Method]), \"\"),0)),\"\")","v":""},{"$f":"IFERROR(INDEX(PTable[3-Method],MATCH(0,IF(CH$1=PTable[2-Test],COUNTIF(CH$1:CH36,PTable[3-Method]), \"\"),0)),\"\")","v":""},{"$f":"IFERROR(INDEX(PTable[3-Method],MATCH(0,IF(CI$1=PTable[2-Test],COUNTIF(CI$1:CI36,PTable[3-Method]), \"\"),0)),\"\")","v":""},{"$f":"IFERROR(INDEX(PTable[3-Method],MATCH(0,IF(CJ$1=PTable[2-Test],COUNTIF(CJ$1:CJ36,PTable[3-Method]), \"\"),0)),\"\")","v":""},{"$f":"IFERROR(INDEX(PTable[3-Method],MATCH(0,IF(CK$1=PTable[2-Test],COUNTIF(CK$1:CK36,PTable[3-Method]), \"\"),0)),\"\")","v":""},{"$f":"IFERROR(INDEX(PTable[3-Method],MATCH(0,IF(CL$1=PTable[2-Test],COUNTIF(CL$1:CL36,PTable[3-Method]), \"\"),0)),\"\")","v":""},{"$f":"IFERROR(INDEX(PTable[3-Method],MATCH(0,IF(CM$1=PTable[2-Test],COUNTIF(CM$1:CM36,PTable[3-Method]), \"\"),0)),\"\")","v":""},{"$f":"IFERROR(INDEX(PTable[3-Method],MATCH(0,IF(CN$1=PTable[2-Test],COUNTIF(CN$1:CN36,PTable[3-Method]), \"\"),0)),\"\")","v":""},{"$f":"IFERROR(INDEX(PTable[3-Method],MATCH(0,IF(CO$1=PTable[2-Test],COUNTIF(CO$1:CO36,PTable[3-Method]), \"\"),0)),\"\")","v":""},{"$f":"IFERROR(INDEX(PTable[3-Method],MATCH(0,IF(CP$1=PTable[2-Test],COUNTIF(CP$1:CP36,PTable[3-Method]), \"\"),0)),\"\")","v":""},{"$f":"IFERROR(INDEX(PTable[3-Method],MATCH(0,IF(CQ$1=PTable[2-Test],COUNTIF(CQ$1:CQ36,PTable[3-Method]), \"\"),0)),\"\")","v":""},{"$f":"IFERROR(INDEX(PTable[3-Method],MATCH(0,IF(CR$1=PTable[2-Test],COUNTIF(CR$1:CR36,PTable[3-Method]), \"\"),0)),\"\")","v":""},{"$f":"IFERROR(INDEX(PTable[3-Method],MATCH(0,IF(CS$1=PTable[2-Test],COUNTIF(CS$1:CS36,PTable[3-Method]), \"\"),0)),\"\")","v":""},{"$f":"IFERROR(INDEX(PTable[3-Method],MATCH(0,IF(CT$1=PTable[2-Test],COUNTIF(CT$1:CT36,PTable[3-Method]), \"\"),0)),\"\")","v":""},{"$f":"IFERROR(INDEX(PTable[3-Method],MATCH(0,IF(CU$1=PTable[2-Test],COUNTIF(CU$1:CU36,PTable[3-Method]), \"\"),0)),\"\")","v":""},{"$f":"IFERROR(INDEX(PTable[3-Method],MATCH(0,IF(CV$1=PTable[2-Test],COUNTIF(CV$1:CV36,PTable[3-Method]), \"\"),0)),\"\")","v":""},{"$f":"IFERROR(INDEX(PTable[3-Method],MATCH(0,IF(CW$1=PTable[2-Test],COUNTIF(CW$1:CW36,PTable[3-Method]), \"\"),0)),\"\")","v":""},{"$f":"IFERROR(INDEX(PTable[3-Method],MATCH(0,IF(CX$1=PTable[2-Test],COUNTIF(CX$1:CX36,PTable[3-Method]), \"\"),0)),\"\")","v":""},{"$f":"IFERROR(INDEX(PTable[3-Method],MATCH(0,IF(CY$1=PTable[2-Test],COUNTIF(CY$1:CY36,PTable[3-Method]), \"\"),0)),\"\")","v":""},{"$f":"IFERROR(INDEX(PTable[3-Method],MATCH(0,IF(CZ$1=PTable[2-Test],COUNTIF(CZ$1:CZ36,PTable[3-Method]), \"\"),0)),\"\")","v":""},{"$f":"IFERROR(INDEX(PTable[3-Method],MATCH(0,IF(DA$1=PTable[2-Test],COUNTIF(DA$1:DA36,PTable[3-Method]), \"\"),0)),\"\")","v":""},{"$f":"IFERROR(INDEX(PTable[3-Method],MATCH(0,IF(DB$1=PTable[2-Test],COUNTIF(DB$1:DB36,PTable[3-Method]), \"\"),0)),\"\")","v":""},{"$f":"IFERROR(INDEX(PTable[3-Method],MATCH(0,IF(DC$1=PTable[2-Test],COUNTIF(DC$1:DC36,PTable[3-Method]), \"\"),0)),\"\")","v":""},{"$f":"IFERROR(INDEX(PTable[3-Method],MATCH(0,IF(DD$1=PTable[2-Test],COUNTIF(DD$1:DD36,PTable[3-Method]), \"\"),0)),\"\")","v":""},{"$f":"IFERROR(INDEX(PTable[3-Method],MATCH(0,IF(DE$1=PTable[2-Test],COUNTIF(DE$1:DE36,PTable[3-Method]), \"\"),0)),\"\")","v":""},{"$f":"IFERROR(INDEX(PTable[3-Method],MATCH(0,IF(DF$1=PTable[2-Test],COUNTIF(DF$1:DF36,PTable[3-Method]), \"\"),0)),\"\")","v":""},{"$f":"IFERROR(INDEX(PTable[3-Method],MATCH(0,IF(DG$1=PTable[2-Test],COUNTIF(DG$1:DG36,PTable[3-Method]), \"\"),0)),\"\")","v":""},{"$f":"IFERROR(INDEX(PTable[3-Method],MATCH(0,IF(DH$1=PTable[2-Test],COUNTIF(DH$1:DH36,PTable[3-Method]), \"\"),0)),\"\")","v":""},{"$f":"IFERROR(INDEX(PTable[3-Method],MATCH(0,IF(DI$1=PTable[2-Test],COUNTIF(DI$1:DI36,PTable[3-Method]), \"\"),0)),\"\")","v":""},{"$f":"IFERROR(INDEX(PTable[3-Method],MATCH(0,IF(DJ$1=PTable[2-Test],COUNTIF(DJ$1:DJ36,PTable[3-Method]), \"\"),0)),\"\")","v":""}]
[null,{"$f":"IFERROR(INDEX(PTable[2-Test],MATCH(0,IF(B$1=PTable[1-Type],COUNTIF(B$1:B37,PTable[2-Test]), \"\"),0)),\"\")","v":"Sp.TT"},{"$f":"IFERROR(INDEX(PTable[2-Test],MATCH(0,IF(C$1=PTable[1-Type],COUNTIF(C$1:C37,PTable[2-Test]), \"\"),0)),\"\")","v":""},{"$f":"IFERROR(INDEX(PTable[2-Test],MATCH(0,IF(D$1=PTable[1-Type],COUNTIF(D$1:D37,PTable[2-Test]), \"\"),0)),\"\")","v":""},{"$f":"IFERROR(INDEX(PTable[2-Test],MATCH(0,IF(E$1=PTable[1-Type],COUNTIF(E$1:E37,PTable[2-Test]), \"\"),0)),\"\")","v":""},{"$f":"IFERROR(INDEX(PTable[2-Test],MATCH(0,IF(F$1=PTable[1-Type],COUNTIF(F$1:F37,PTable[2-Test]), \"\"),0)),\"\")","v":""},{"$f":"IFERROR(INDEX(PTable[3-Method],MATCH(0,IF(G$1=PTable[2-Test],COUNTIF(G$1:G37,PTable[3-Method]), \"\"),0)),\"\")","v":""},{"$f":"IFERROR(INDEX(PTable[3-Method],MATCH(0,IF(H$1=PTable[2-Test],COUNTIF(H$1:H37,PTable[3-Method]), \"\"),0)),\"\")","v":""},{"$f":"IFERROR(INDEX(PTable[3-Method],MATCH(0,IF(I$1=PTable[2-Test],COUNTIF(I$1:I37,PTable[3-Method]), \"\"),0)),\"\")","v":""},{"$f":"IFERROR(INDEX(PTable[3-Method],MATCH(0,IF(J$1=PTable[2-Test],COUNTIF(J$1:J37,PTable[3-Method]), \"\"),0)),\"\")","v":""},{"$f":"IFERROR(INDEX(PTable[3-Method],MATCH(0,IF(K$1=PTable[2-Test],COUNTIF(K$1:K37,PTable[3-Method]), \"\"),0)),\"\")","v":""},{"$f":"IFERROR(INDEX(PTable[3-Method],MATCH(0,IF(L$1=PTable[2-Test],COUNTIF(L$1:L37,PTable[3-Method]), \"\"),0)),\"\")","v":""},{"$f":"IFERROR(INDEX(PTable[3-Method],MATCH(0,IF(M$1=PTable[2-Test],COUNTIF(M$1:M37,PTable[3-Method]), \"\"),0)),\"\")","v":""},{"$f":"IFERROR(INDEX(PTable[3-Method],MATCH(0,IF(N$1=PTable[2-Test],COUNTIF(N$1:N37,PTable[3-Method]), \"\"),0)),\"\")","v":""},{"$f":"IFERROR(INDEX(PTable[3-Method],MATCH(0,IF(O$1=PTable[2-Test],COUNTIF(O$1:O37,PTable[3-Method]), \"\"),0)),\"\")","v":""},{"$f":"IFERROR(INDEX(PTable[3-Method],MATCH(0,IF(P$1=PTable[2-Test],COUNTIF(P$1:P37,PTable[3-Method]), \"\"),0)),\"\")","v":""},{"$f":"IFERROR(INDEX(PTable[3-Method],MATCH(0,IF(Q$1=PTable[2-Test],COUNTIF(Q$1:Q37,PTable[3-Method]), \"\"),0)),\"\")","v":""},{"$f":"IFERROR(INDEX(PTable[3-Method],MATCH(0,IF(R$1=PTable[2-Test],COUNTIF(R$1:R37,PTable[3-Method]), \"\"),0)),\"\")","v":""},{"$f":"IFERROR(INDEX(PTable[3-Method],MATCH(0,IF(S$1=PTable[2-Test],COUNTIF(S$1:S37,PTable[3-Method]), \"\"),0)),\"\")","v":""},{"$f":"IFERROR(INDEX(PTable[3-Method],MATCH(0,IF(T$1=PTable[2-Test],COUNTIF(T$1:T37,PTable[3-Method]), \"\"),0)),\"\")","v":""},{"$f":"IFERROR(INDEX(PTable[3-Method],MATCH(0,IF(U$1=PTable[2-Test],COUNTIF(U$1:U37,PTable[3-Method]), \"\"),0)),\"\")","v":""},{"$f":"IFERROR(INDEX(PTable[3-Method],MATCH(0,IF(V$1=PTable[2-Test],COUNTIF(V$1:V37,PTable[3-Method]), \"\"),0)),\"\")","v":""},{"$f":"IFERROR(INDEX(PTable[3-Method],MATCH(0,IF(W$1=PTable[2-Test],COUNTIF(W$1:W37,PTable[3-Method]), \"\"),0)),\"\")","v":""},{"$f":"IFERROR(INDEX(PTable[3-Method],MATCH(0,IF(X$1=PTable[2-Test],COUNTIF(X$1:X37,PTable[3-Method]), \"\"),0)),\"\")","v":""},{"$f":"IFERROR(INDEX(PTable[3-Method],MATCH(0,IF(Y$1=PTable[2-Test],COUNTIF(Y$1:Y37,PTable[3-Method]), \"\"),0)),\"\")","v":""},{"$f":"IFERROR(INDEX(PTable[3-Method],MATCH(0,IF(Z$1=PTable[2-Test],COUNTIF(Z$1:Z37,PTable[3-Method]), \"\"),0)),\"\")","v":""},{"$f":"IFERROR(INDEX(PTable[3-Method],MATCH(0,IF(AA$1=PTable[2-Test],COUNTIF(AA$1:AA37,PTable[3-Method]), \"\"),0)),\"\")","v":""},{"$f":"IFERROR(INDEX(PTable[3-Method],MATCH(0,IF(AB$1=PTable[2-Test],COUNTIF(AB$1:AB37,PTable[3-Method]), \"\"),0)),\"\")","v":""},{"$f":"IFERROR(INDEX(PTable[3-Method],MATCH(0,IF(AC$1=PTable[2-Test],COUNTIF(AC$1:AC37,PTable[3-Method]), \"\"),0)),\"\")","v":""},{"$f":"IFERROR(INDEX(PTable[3-Method],MATCH(0,IF(AD$1=PTable[2-Test],COUNTIF(AD$1:AD37,PTable[3-Method]), \"\"),0)),\"\")","v":""},{"$f":"IFERROR(INDEX(PTable[3-Method],MATCH(0,IF(AE$1=PTable[2-Test],COUNTIF(AE$1:AE37,PTable[3-Method]), \"\"),0)),\"\")","v":""},{"$f":"IFERROR(INDEX(PTable[3-Method],MATCH(0,IF(AF$1=PTable[2-Test],COUNTIF(AF$1:AF37,PTable[3-Method]), \"\"),0)),\"\")","v":""},{"$f":"IFERROR(INDEX(PTable[3-Method],MATCH(0,IF(AG$1=PTable[2-Test],COUNTIF(AG$1:AG37,PTable[3-Method]), \"\"),0)),\"\")","v":""},{"$f":"IFERROR(INDEX(PTable[3-Method],MATCH(0,IF(AH$1=PTable[2-Test],COUNTIF(AH$1:AH37,PTable[3-Method]), \"\"),0)),\"\")","v":""},{"$f":"IFERROR(INDEX(PTable[3-Method],MATCH(0,IF(AI$1=PTable[2-Test],COUNTIF(AI$1:AI37,PTable[3-Method]), \"\"),0)),\"\")","v":""},{"$f":"IFERROR(INDEX(PTable[3-Method],MATCH(0,IF(AJ$1=PTable[2-Test],COUNTIF(AJ$1:AJ37,PTable[3-Method]), \"\"),0)),\"\")","v":""},{"$f":"IFERROR(INDEX(PTable[3-Method],MATCH(0,IF(AK$1=PTable[2-Test],COUNTIF(AK$1:AK37,PTable[3-Method]), \"\"),0)),\"\")","v":""},{"$f":"IFERROR(INDEX(PTable[3-Method],MATCH(0,IF(AL$1=PTable[2-Test],COUNTIF(AL$1:AL37,PTable[3-Method]), \"\"),0)),\"\")","v":""},{"$f":"IFERROR(INDEX(PTable[3-Method],MATCH(0,IF(AM$1=PTable[2-Test],COUNTIF(AM$1:AM37,PTable[3-Method]), \"\"),0)),\"\")","v":""},{"$f":"IFERROR(INDEX(PTable[3-Method],MATCH(0,IF(AN$1=PTable[2-Test],COUNTIF(AN$1:AN37,PTable[3-Method]), \"\"),0)),\"\")","v":""},{"$f":"IFERROR(INDEX(PTable[3-Method],MATCH(0,IF(AO$1=PTable[2-Test],COUNTIF(AO$1:AO37,PTable[3-Method]), \"\"),0)),\"\")","v":""},{"$f":"IFERROR(INDEX(PTable[3-Method],MATCH(0,IF(AP$1=PTable[2-Test],COUNTIF(AP$1:AP37,PTable[3-Method]), \"\"),0)),\"\")","v":""},{"$f":"IFERROR(INDEX(PTable[3-Method],MATCH(0,IF(AQ$1=PTable[2-Test],COUNTIF(AQ$1:AQ37,PTable[3-Method]), \"\"),0)),\"\")","v":""},{"$f":"IFERROR(INDEX(PTable[3-Method],MATCH(0,IF(AR$1=PTable[2-Test],COUNTIF(AR$1:AR37,PTable[3-Method]), \"\"),0)),\"\")","v":""},{"$f":"IFERROR(INDEX(PTable[3-Method],MATCH(0,IF(AS$1=PTable[2-Test],COUNTIF(AS$1:AS37,PTable[3-Method]), \"\"),0)),\"\")","v":""},{"$f":"IFERROR(INDEX(PTable[3-Method],MATCH(0,IF(AT$1=PTable[2-Test],COUNTIF(AT$1:AT37,PTable[3-Method]), \"\"),0)),\"\")","v":""},{"$f":"IFERROR(INDEX(PTable[3-Method],MATCH(0,IF(AU$1=PTable[2-Test],COUNTIF(AU$1:AU37,PTable[3-Method]), \"\"),0)),\"\")","v":""},{"$f":"IFERROR(INDEX(PTable[3-Method],MATCH(0,IF(AV$1=PTable[2-Test],COUNTIF(AV$1:AV37,PTable[3-Method]), \"\"),0)),\"\")","v":""},{"$f":"IFERROR(INDEX(PTable[3-Method],MATCH(0,IF(AW$1=PTable[2-Test],COUNTIF(AW$1:AW37,PTable[3-Method]), \"\"),0)),\"\")","v":""},{"$f":"IFERROR(INDEX(PTable[3-Method],MATCH(0,IF(AX$1=PTable[2-Test],COUNTIF(AX$1:AX37,PTable[3-Method]), \"\"),0)),\"\")","v":""},{"$f":"IFERROR(INDEX(PTable[3-Method],MATCH(0,IF(AY$1=PTable[2-Test],COUNTIF(AY$1:AY37,PTable[3-Method]), \"\"),0)),\"\")","v":""},{"$f":"IFERROR(INDEX(PTable[3-Method],MATCH(0,IF(AZ$1=PTable[2-Test],COUNTIF(AZ$1:AZ37,PTable[3-Method]), \"\"),0)),\"\")","v":""},{"$f":"IFERROR(INDEX(PTable[3-Method],MATCH(0,IF(BA$1=PTable[2-Test],COUNTIF(BA$1:BA37,PTable[3-Method]), \"\"),0)),\"\")","v":""},{"$f":"IFERROR(INDEX(PTable[3-Method],MATCH(0,IF(BB$1=PTable[2-Test],COUNTIF(BB$1:BB37,PTable[3-Method]), \"\"),0)),\"\")","v":""},{"$f":"IFERROR(INDEX(PTable[3-Method],MATCH(0,IF(BC$1=PTable[2-Test],COUNTIF(BC$1:BC37,PTable[3-Method]), \"\"),0)),\"\")","v":""},{"$f":"IFERROR(INDEX(PTable[3-Method],MATCH(0,IF(BD$1=PTable[2-Test],COUNTIF(BD$1:BD37,PTable[3-Method]), \"\"),0)),\"\")","v":""},{"$f":"IFERROR(INDEX(PTable[3-Method],MATCH(0,IF(BE$1=PTable[2-Test],COUNTIF(BE$1:BE37,PTable[3-Method]), \"\"),0)),\"\")","v":""},{"$f":"IFERROR(INDEX(PTable[3-Method],MATCH(0,IF(BF$1=PTable[2-Test],COUNTIF(BF$1:BF37,PTable[3-Method]), \"\"),0)),\"\")","v":""},{"$f":"IFERROR(INDEX(PTable[3-Method],MATCH(0,IF(BG$1=PTable[2-Test],COUNTIF(BG$1:BG37,PTable[3-Method]), \"\"),0)),\"\")","v":""},{"$f":"IFERROR(INDEX(PTable[3-Method],MATCH(0,IF(BH$1=PTable[2-Test],COUNTIF(BH$1:BH37,PTable[3-Method]), \"\"),0)),\"\")","v":""},{"$f":"IFERROR(INDEX(PTable[3-Method],MATCH(0,IF(BI$1=PTable[2-Test],COUNTIF(BI$1:BI37,PTable[3-Method]), \"\"),0)),\"\")","v":""},{"$f":"IFERROR(INDEX(PTable[3-Method],MATCH(0,IF(BJ$1=PTable[2-Test],COUNTIF(BJ$1:BJ37,PTable[3-Method]), \"\"),0)),\"\")","v":""},{"$f":"IFERROR(INDEX(PTable[3-Method],MATCH(0,IF(BK$1=PTable[2-Test],COUNTIF(BK$1:BK37,PTable[3-Method]), \"\"),0)),\"\")","v":""},{"$f":"IFERROR(INDEX(PTable[3-Method],MATCH(0,IF(BL$1=PTable[2-Test],COUNTIF(BL$1:BL37,PTable[3-Method]), \"\"),0)),\"\")","v":""},{"$f":"IFERROR(INDEX(PTable[3-Method],MATCH(0,IF(BM$1=PTable[2-Test],COUNTIF(BM$1:BM37,PTable[3-Method]), \"\"),0)),\"\")","v":""},{"$f":"IFERROR(INDEX(PTable[3-Method],MATCH(0,IF(BN$1=PTable[2-Test],COUNTIF(BN$1:BN37,PTable[3-Method]), \"\"),0)),\"\")","v":""},{"$f":"IFERROR(INDEX(PTable[3-Method],MATCH(0,IF(BO$1=PTable[2-Test],COUNTIF(BO$1:BO37,PTable[3-Method]), \"\"),0)),\"\")","v":""},{"$f":"IFERROR(INDEX(PTable[3-Method],MATCH(0,IF(BP$1=PTable[2-Test],COUNTIF(BP$1:BP37,PTable[3-Method]), \"\"),0)),\"\")","v":"PCRsam"},{"$f":"IFERROR(INDEX(PTable[3-Method],MATCH(0,IF(BQ$1=PTable[2-Test],COUNTIF(BQ$1:BQ37,PTable[3-Method]), \"\"),0)),\"\")","v":""},{"$f":"IFERROR(INDEX(PTable[3-Method],MATCH(0,IF(BR$1=PTable[2-Test],COUNTIF(BR$1:BR37,PTable[3-Method]), \"\"),0)),\"\")","v":""},{"$f":"IFERROR(INDEX(PTable[3-Method],MATCH(0,IF(BS$1=PTable[2-Test],COUNTIF(BS$1:BS37,PTable[3-Method]), \"\"),0)),\"\")","v":""},{"$f":"IFERROR(INDEX(PTable[3-Method],MATCH(0,IF(BT$1=PTable[2-Test],COUNTIF(BT$1:BT37,PTable[3-Method]), \"\"),0)),\"\")","v":""},{"$f":"IFERROR(INDEX(PTable[3-Method],MATCH(0,IF(BU$1=PTable[2-Test],COUNTIF(BU$1:BU37,PTable[3-Method]), \"\"),0)),\"\")","v":""},{"$f":"IFERROR(INDEX(PTable[3-Method],MATCH(0,IF(BV$1=PTable[2-Test],COUNTIF(BV$1:BV37,PTable[3-Method]), \"\"),0)),\"\")","v":""},{"$f":"IFERROR(INDEX(PTable[3-Method],MATCH(0,IF(BW$1=PTable[2-Test],COUNTIF(BW$1:BW37,PTable[3-Method]), \"\"),0)),\"\")","v":""},{"$f":"IFERROR(INDEX(PTable[3-Method],MATCH(0,IF(BX$1=PTable[2-Test],COUNTIF(BX$1:BX37,PTable[3-Method]), \"\"),0)),\"\")","v":""},{"$f":"IFERROR(INDEX(PTable[3-Method],MATCH(0,IF(BY$1=PTable[2-Test],COUNTIF(BY$1:BY37,PTable[3-Method]), \"\"),0)),\"\")","v":""},{"$f":"IFERROR(INDEX(PTable[3-Method],MATCH(0,IF(BZ$1=PTable[2-Test],COUNTIF(BZ$1:BZ37,PTable[3-Method]), \"\"),0)),\"\")","v":""},{"$f":"IFERROR(INDEX(PTable[3-Method],MATCH(0,IF(CA$1=PTable[2-Test],COUNTIF(CA$1:CA37,PTable[3-Method]), \"\"),0)),\"\")","v":""},{"$f":"IFERROR(INDEX(PTable[3-Method],MATCH(0,IF(CB$1=PTable[2-Test],COUNTIF(CB$1:CB37,PTable[3-Method]), \"\"),0)),\"\")","v":""},{"$f":"IFERROR(INDEX(PTable[3-Method],MATCH(0,IF(CC$1=PTable[2-Test],COUNTIF(CC$1:CC37,PTable[3-Method]), \"\"),0)),\"\")","v":""},{"$f":"IFERROR(INDEX(PTable[3-Method],MATCH(0,IF(CD$1=PTable[2-Test],COUNTIF(CD$1:CD37,PTable[3-Method]), \"\"),0)),\"\")","v":""},{"$f":"IFERROR(INDEX(PTable[3-Method],MATCH(0,IF(CE$1=PTable[2-Test],COUNTIF(CE$1:CE37,PTable[3-Method]), \"\"),0)),\"\")","v":""},{"$f":"IFERROR(INDEX(PTable[3-Method],MATCH(0,IF(CF$1=PTable[2-Test],COUNTIF(CF$1:CF37,PTable[3-Method]), \"\"),0)),\"\")","v":""},{"$f":"IFERROR(INDEX(PTable[3-Method],MATCH(0,IF(CG$1=PTable[2-Test],COUNTIF(CG$1:CG37,PTable[3-Method]), \"\"),0)),\"\")","v":""},{"$f":"IFERROR(INDEX(PTable[3-Method],MATCH(0,IF(CH$1=PTable[2-Test],COUNTIF(CH$1:CH37,PTable[3-Method]), \"\"),0)),\"\")","v":""},{"$f":"IFERROR(INDEX(PTable[3-Method],MATCH(0,IF(CI$1=PTable[2-Test],COUNTIF(CI$1:CI37,PTable[3-Method]), \"\"),0)),\"\")","v":""},{"$f":"IFERROR(INDEX(PTable[3-Method],MATCH(0,IF(CJ$1=PTable[2-Test],COUNTIF(CJ$1:CJ37,PTable[3-Method]), \"\"),0)),\"\")","v":""},{"$f":"IFERROR(INDEX(PTable[3-Method],MATCH(0,IF(CK$1=PTable[2-Test],COUNTIF(CK$1:CK37,PTable[3-Method]), \"\"),0)),\"\")","v":""},{"$f":"IFERROR(INDEX(PTable[3-Method],MATCH(0,IF(CL$1=PTable[2-Test],COUNTIF(CL$1:CL37,PTable[3-Method]), \"\"),0)),\"\")","v":""},{"$f":"IFERROR(INDEX(PTable[3-Method],MATCH(0,IF(CM$1=PTable[2-Test],COUNTIF(CM$1:CM37,PTable[3-Method]), \"\"),0)),\"\")","v":""},{"$f":"IFERROR(INDEX(PTable[3-Method],MATCH(0,IF(CN$1=PTable[2-Test],COUNTIF(CN$1:CN37,PTable[3-Method]), \"\"),0)),\"\")","v":""},{"$f":"IFERROR(INDEX(PTable[3-Method],MATCH(0,IF(CO$1=PTable[2-Test],COUNTIF(CO$1:CO37,PTable[3-Method]), \"\"),0)),\"\")","v":""},{"$f":"IFERROR(INDEX(PTable[3-Method],MATCH(0,IF(CP$1=PTable[2-Test],COUNTIF(CP$1:CP37,PTable[3-Method]), \"\"),0)),\"\")","v":""},{"$f":"IFERROR(INDEX(PTable[3-Method],MATCH(0,IF(CQ$1=PTable[2-Test],COUNTIF(CQ$1:CQ37,PTable[3-Method]), \"\"),0)),\"\")","v":""},{"$f":"IFERROR(INDEX(PTable[3-Method],MATCH(0,IF(CR$1=PTable[2-Test],COUNTIF(CR$1:CR37,PTable[3-Method]), \"\"),0)),\"\")","v":""},{"$f":"IFERROR(INDEX(PTable[3-Method],MATCH(0,IF(CS$1=PTable[2-Test],COUNTIF(CS$1:CS37,PTable[3-Method]), \"\"),0)),\"\")","v":""},{"$f":"IFERROR(INDEX(PTable[3-Method],MATCH(0,IF(CT$1=PTable[2-Test],COUNTIF(CT$1:CT37,PTable[3-Method]), \"\"),0)),\"\")","v":""},{"$f":"IFERROR(INDEX(PTable[3-Method],MATCH(0,IF(CU$1=PTable[2-Test],COUNTIF(CU$1:CU37,PTable[3-Method]), \"\"),0)),\"\")","v":""},{"$f":"IFERROR(INDEX(PTable[3-Method],MATCH(0,IF(CV$1=PTable[2-Test],COUNTIF(CV$1:CV37,PTable[3-Method]), \"\"),0)),\"\")","v":""},{"$f":"IFERROR(INDEX(PTable[3-Method],MATCH(0,IF(CW$1=PTable[2-Test],COUNTIF(CW$1:CW37,PTable[3-Method]), \"\"),0)),\"\")","v":""},{"$f":"IFERROR(INDEX(PTable[3-Method],MATCH(0,IF(CX$1=PTable[2-Test],COUNTIF(CX$1:CX37,PTable[3-Method]), \"\"),0)),\"\")","v":""},{"$f":"IFERROR(INDEX(PTable[3-Method],MATCH(0,IF(CY$1=PTable[2-Test],COUNTIF(CY$1:CY37,PTable[3-Method]), \"\"),0)),\"\")","v":""},{"$f":"IFERROR(INDEX(PTable[3-Method],MATCH(0,IF(CZ$1=PTable[2-Test],COUNTIF(CZ$1:CZ37,PTable[3-Method]), \"\"),0)),\"\")","v":""},{"$f":"IFERROR(INDEX(PTable[3-Method],MATCH(0,IF(DA$1=PTable[2-Test],COUNTIF(DA$1:DA37,PTable[3-Method]), \"\"),0)),\"\")","v":""},{"$f":"IFERROR(INDEX(PTable[3-Method],MATCH(0,IF(DB$1=PTable[2-Test],COUNTIF(DB$1:DB37,PTable[3-Method]), \"\"),0)),\"\")","v":""},{"$f":"IFERROR(INDEX(PTable[3-Method],MATCH(0,IF(DC$1=PTable[2-Test],COUNTIF(DC$1:DC37,PTable[3-Method]), \"\"),0)),\"\")","v":""},{"$f":"IFERROR(INDEX(PTable[3-Method],MATCH(0,IF(DD$1=PTable[2-Test],COUNTIF(DD$1:DD37,PTable[3-Method]), \"\"),0)),\"\")","v":""},{"$f":"IFERROR(INDEX(PTable[3-Method],MATCH(0,IF(DE$1=PTable[2-Test],COUNTIF(DE$1:DE37,PTable[3-Method]), \"\"),0)),\"\")","v":""},{"$f":"IFERROR(INDEX(PTable[3-Method],MATCH(0,IF(DF$1=PTable[2-Test],COUNTIF(DF$1:DF37,PTable[3-Method]), \"\"),0)),\"\")","v":""},{"$f":"IFERROR(INDEX(PTable[3-Method],MATCH(0,IF(DG$1=PTable[2-Test],COUNTIF(DG$1:DG37,PTable[3-Method]), \"\"),0)),\"\")","v":""},{"$f":"IFERROR(INDEX(PTable[3-Method],MATCH(0,IF(DH$1=PTable[2-Test],COUNTIF(DH$1:DH37,PTable[3-Method]), \"\"),0)),\"\")","v":""},{"$f":"IFERROR(INDEX(PTable[3-Method],MATCH(0,IF(DI$1=PTable[2-Test],COUNTIF(DI$1:DI37,PTable[3-Method]), \"\"),0)),\"\")","v":""},{"$f":"IFERROR(INDEX(PTable[3-Method],MATCH(0,IF(DJ$1=PTable[2-Test],COUNTIF(DJ$1:DJ37,PTable[3-Method]), \"\"),0)),\"\")","v":""}]
[null,{"$f":"IFERROR(INDEX(PTable[2-Test],MATCH(0,IF(B$1=PTable[1-Type],COUNTIF(B$1:B38,PTable[2-Test]), \"\"),0)),\"\")","v":"StaphA"},{"$f":"IFERROR(INDEX(PTable[2-Test],MATCH(0,IF(C$1=PTable[1-Type],COUNTIF(C$1:C38,PTable[2-Test]), \"\"),0)),\"\")","v":""},{"$f":"IFERROR(INDEX(PTable[2-Test],MATCH(0,IF(D$1=PTable[1-Type],COUNTIF(D$1:D38,PTable[2-Test]), \"\"),0)),\"\")","v":""},{"$f":"IFERROR(INDEX(PTable[2-Test],MATCH(0,IF(E$1=PTable[1-Type],COUNTIF(E$1:E38,PTable[2-Test]), \"\"),0)),\"\")","v":""},{"$f":"IFERROR(INDEX(PTable[2-Test],MATCH(0,IF(F$1=PTable[1-Type],COUNTIF(F$1:F38,PTable[2-Test]), \"\"),0)),\"\")","v":""},{"$f":"IFERROR(INDEX(PTable[3-Method],MATCH(0,IF(G$1=PTable[2-Test],COUNTIF(G$1:G38,PTable[3-Method]), \"\"),0)),\"\")","v":""},{"$f":"IFERROR(INDEX(PTable[3-Method],MATCH(0,IF(H$1=PTable[2-Test],COUNTIF(H$1:H38,PTable[3-Method]), \"\"),0)),\"\")","v":""},{"$f":"IFERROR(INDEX(PTable[3-Method],MATCH(0,IF(I$1=PTable[2-Test],COUNTIF(I$1:I38,PTable[3-Method]), \"\"),0)),\"\")","v":""},{"$f":"IFERROR(INDEX(PTable[3-Method],MATCH(0,IF(J$1=PTable[2-Test],COUNTIF(J$1:J38,PTable[3-Method]), \"\"),0)),\"\")","v":""},{"$f":"IFERROR(INDEX(PTable[3-Method],MATCH(0,IF(K$1=PTable[2-Test],COUNTIF(K$1:K38,PTable[3-Method]), \"\"),0)),\"\")","v":""},{"$f":"IFERROR(INDEX(PTable[3-Method],MATCH(0,IF(L$1=PTable[2-Test],COUNTIF(L$1:L38,PTable[3-Method]), \"\"),0)),\"\")","v":""},{"$f":"IFERROR(INDEX(PTable[3-Method],MATCH(0,IF(M$1=PTable[2-Test],COUNTIF(M$1:M38,PTable[3-Method]), \"\"),0)),\"\")","v":""},{"$f":"IFERROR(INDEX(PTable[3-Method],MATCH(0,IF(N$1=PTable[2-Test],COUNTIF(N$1:N38,PTable[3-Method]), \"\"),0)),\"\")","v":""},{"$f":"IFERROR(INDEX(PTable[3-Method],MATCH(0,IF(O$1=PTable[2-Test],COUNTIF(O$1:O38,PTable[3-Method]), \"\"),0)),\"\")","v":""},{"$f":"IFERROR(INDEX(PTable[3-Method],MATCH(0,IF(P$1=PTable[2-Test],COUNTIF(P$1:P38,PTable[3-Method]), \"\"),0)),\"\")","v":""},{"$f":"IFERROR(INDEX(PTable[3-Method],MATCH(0,IF(Q$1=PTable[2-Test],COUNTIF(Q$1:Q38,PTable[3-Method]), \"\"),0)),\"\")","v":""},{"$f":"IFERROR(INDEX(PTable[3-Method],MATCH(0,IF(R$1=PTable[2-Test],COUNTIF(R$1:R38,PTable[3-Method]), \"\"),0)),\"\")","v":""},{"$f":"IFERROR(INDEX(PTable[3-Method],MATCH(0,IF(S$1=PTable[2-Test],COUNTIF(S$1:S38,PTable[3-Method]), \"\"),0)),\"\")","v":""},{"$f":"IFERROR(INDEX(PTable[3-Method],MATCH(0,IF(T$1=PTable[2-Test],COUNTIF(T$1:T38,PTable[3-Method]), \"\"),0)),\"\")","v":""},{"$f":"IFERROR(INDEX(PTable[3-Method],MATCH(0,IF(U$1=PTable[2-Test],COUNTIF(U$1:U38,PTable[3-Method]), \"\"),0)),\"\")","v":""},{"$f":"IFERROR(INDEX(PTable[3-Method],MATCH(0,IF(V$1=PTable[2-Test],COUNTIF(V$1:V38,PTable[3-Method]), \"\"),0)),\"\")","v":""},{"$f":"IFERROR(INDEX(PTable[3-Method],MATCH(0,IF(W$1=PTable[2-Test],COUNTIF(W$1:W38,PTable[3-Method]), \"\"),0)),\"\")","v":""},{"$f":"IFERROR(INDEX(PTable[3-Method],MATCH(0,IF(X$1=PTable[2-Test],COUNTIF(X$1:X38,PTable[3-Method]), \"\"),0)),\"\")","v":""},{"$f":"IFERROR(INDEX(PTable[3-Method],MATCH(0,IF(Y$1=PTable[2-Test],COUNTIF(Y$1:Y38,PTable[3-Method]), \"\"),0)),\"\")","v":""},{"$f":"IFERROR(INDEX(PTable[3-Method],MATCH(0,IF(Z$1=PTable[2-Test],COUNTIF(Z$1:Z38,PTable[3-Method]), \"\"),0)),\"\")","v":""},{"$f":"IFERROR(INDEX(PTable[3-Method],MATCH(0,IF(AA$1=PTable[2-Test],COUNTIF(AA$1:AA38,PTable[3-Method]), \"\"),0)),\"\")","v":""},{"$f":"IFERROR(INDEX(PTable[3-Method],MATCH(0,IF(AB$1=PTable[2-Test],COUNTIF(AB$1:AB38,PTable[3-Method]), \"\"),0)),\"\")","v":""},{"$f":"IFERROR(INDEX(PTable[3-Method],MATCH(0,IF(AC$1=PTable[2-Test],COUNTIF(AC$1:AC38,PTable[3-Method]), \"\"),0)),\"\")","v":""},{"$f":"IFERROR(INDEX(PTable[3-Method],MATCH(0,IF(AD$1=PTable[2-Test],COUNTIF(AD$1:AD38,PTable[3-Method]), \"\"),0)),\"\")","v":""},{"$f":"IFERROR(INDEX(PTable[3-Method],MATCH(0,IF(AE$1=PTable[2-Test],COUNTIF(AE$1:AE38,PTable[3-Method]), \"\"),0)),\"\")","v":""},{"$f":"IFERROR(INDEX(PTable[3-Method],MATCH(0,IF(AF$1=PTable[2-Test],COUNTIF(AF$1:AF38,PTable[3-Method]), \"\"),0)),\"\")","v":""},{"$f":"IFERROR(INDEX(PTable[3-Method],MATCH(0,IF(AG$1=PTable[2-Test],COUNTIF(AG$1:AG38,PTable[3-Method]), \"\"),0)),\"\")","v":""},{"$f":"IFERROR(INDEX(PTable[3-Method],MATCH(0,IF(AH$1=PTable[2-Test],COUNTIF(AH$1:AH38,PTable[3-Method]), \"\"),0)),\"\")","v":""},{"$f":"IFERROR(INDEX(PTable[3-Method],MATCH(0,IF(AI$1=PTable[2-Test],COUNTIF(AI$1:AI38,PTable[3-Method]), \"\"),0)),\"\")","v":""},{"$f":"IFERROR(INDEX(PTable[3-Method],MATCH(0,IF(AJ$1=PTable[2-Test],COUNTIF(AJ$1:AJ38,PTable[3-Method]), \"\"),0)),\"\")","v":""},{"$f":"IFERROR(INDEX(PTable[3-Method],MATCH(0,IF(AK$1=PTable[2-Test],COUNTIF(AK$1:AK38,PTable[3-Method]), \"\"),0)),\"\")","v":""},{"$f":"IFERROR(INDEX(PTable[3-Method],MATCH(0,IF(AL$1=PTable[2-Test],COUNTIF(AL$1:AL38,PTable[3-Method]), \"\"),0)),\"\")","v":""},{"$f":"IFERROR(INDEX(PTable[3-Method],MATCH(0,IF(AM$1=PTable[2-Test],COUNTIF(AM$1:AM38,PTable[3-Method]), \"\"),0)),\"\")","v":""},{"$f":"IFERROR(INDEX(PTable[3-Method],MATCH(0,IF(AN$1=PTable[2-Test],COUNTIF(AN$1:AN38,PTable[3-Method]), \"\"),0)),\"\")","v":""},{"$f":"IFERROR(INDEX(PTable[3-Method],MATCH(0,IF(AO$1=PTable[2-Test],COUNTIF(AO$1:AO38,PTable[3-Method]), \"\"),0)),\"\")","v":""},{"$f":"IFERROR(INDEX(PTable[3-Method],MATCH(0,IF(AP$1=PTable[2-Test],COUNTIF(AP$1:AP38,PTable[3-Method]), \"\"),0)),\"\")","v":""},{"$f":"IFERROR(INDEX(PTable[3-Method],MATCH(0,IF(AQ$1=PTable[2-Test],COUNTIF(AQ$1:AQ38,PTable[3-Method]), \"\"),0)),\"\")","v":""},{"$f":"IFERROR(INDEX(PTable[3-Method],MATCH(0,IF(AR$1=PTable[2-Test],COUNTIF(AR$1:AR38,PTable[3-Method]), \"\"),0)),\"\")","v":""},{"$f":"IFERROR(INDEX(PTable[3-Method],MATCH(0,IF(AS$1=PTable[2-Test],COUNTIF(AS$1:AS38,PTable[3-Method]), \"\"),0)),\"\")","v":""},{"$f":"IFERROR(INDEX(PTable[3-Method],MATCH(0,IF(AT$1=PTable[2-Test],COUNTIF(AT$1:AT38,PTable[3-Method]), \"\"),0)),\"\")","v":""},{"$f":"IFERROR(INDEX(PTable[3-Method],MATCH(0,IF(AU$1=PTable[2-Test],COUNTIF(AU$1:AU38,PTable[3-Method]), \"\"),0)),\"\")","v":""},{"$f":"IFERROR(INDEX(PTable[3-Method],MATCH(0,IF(AV$1=PTable[2-Test],COUNTIF(AV$1:AV38,PTable[3-Method]), \"\"),0)),\"\")","v":""},{"$f":"IFERROR(INDEX(PTable[3-Method],MATCH(0,IF(AW$1=PTable[2-Test],COUNTIF(AW$1:AW38,PTable[3-Method]), \"\"),0)),\"\")","v":""},{"$f":"IFERROR(INDEX(PTable[3-Method],MATCH(0,IF(AX$1=PTable[2-Test],COUNTIF(AX$1:AX38,PTable[3-Method]), \"\"),0)),\"\")","v":""},{"$f":"IFERROR(INDEX(PTable[3-Method],MATCH(0,IF(AY$1=PTable[2-Test],COUNTIF(AY$1:AY38,PTable[3-Method]), \"\"),0)),\"\")","v":""},{"$f":"IFERROR(INDEX(PTable[3-Method],MATCH(0,IF(AZ$1=PTable[2-Test],COUNTIF(AZ$1:AZ38,PTable[3-Method]), \"\"),0)),\"\")","v":""},{"$f":"IFERROR(INDEX(PTable[3-Method],MATCH(0,IF(BA$1=PTable[2-Test],COUNTIF(BA$1:BA38,PTable[3-Method]), \"\"),0)),\"\")","v":""},{"$f":"IFERROR(INDEX(PTable[3-Method],MATCH(0,IF(BB$1=PTable[2-Test],COUNTIF(BB$1:BB38,PTable[3-Method]), \"\"),0)),\"\")","v":""},{"$f":"IFERROR(INDEX(PTable[3-Method],MATCH(0,IF(BC$1=PTable[2-Test],COUNTIF(BC$1:BC38,PTable[3-Method]), \"\"),0)),\"\")","v":""},{"$f":"IFERROR(INDEX(PTable[3-Method],MATCH(0,IF(BD$1=PTable[2-Test],COUNTIF(BD$1:BD38,PTable[3-Method]), \"\"),0)),\"\")","v":""},{"$f":"IFERROR(INDEX(PTable[3-Method],MATCH(0,IF(BE$1=PTable[2-Test],COUNTIF(BE$1:BE38,PTable[3-Method]), \"\"),0)),\"\")","v":""},{"$f":"IFERROR(INDEX(PTable[3-Method],MATCH(0,IF(BF$1=PTable[2-Test],COUNTIF(BF$1:BF38,PTable[3-Method]), \"\"),0)),\"\")","v":""},{"$f":"IFERROR(INDEX(PTable[3-Method],MATCH(0,IF(BG$1=PTable[2-Test],COUNTIF(BG$1:BG38,PTable[3-Method]), \"\"),0)),\"\")","v":""},{"$f":"IFERROR(INDEX(PTable[3-Method],MATCH(0,IF(BH$1=PTable[2-Test],COUNTIF(BH$1:BH38,PTable[3-Method]), \"\"),0)),\"\")","v":""},{"$f":"IFERROR(INDEX(PTable[3-Method],MATCH(0,IF(BI$1=PTable[2-Test],COUNTIF(BI$1:BI38,PTable[3-Method]), \"\"),0)),\"\")","v":""},{"$f":"IFERROR(INDEX(PTable[3-Method],MATCH(0,IF(BJ$1=PTable[2-Test],COUNTIF(BJ$1:BJ38,PTable[3-Method]), \"\"),0)),\"\")","v":""},{"$f":"IFERROR(INDEX(PTable[3-Method],MATCH(0,IF(BK$1=PTable[2-Test],COUNTIF(BK$1:BK38,PTable[3-Method]), \"\"),0)),\"\")","v":""},{"$f":"IFERROR(INDEX(PTable[3-Method],MATCH(0,IF(BL$1=PTable[2-Test],COUNTIF(BL$1:BL38,PTable[3-Method]), \"\"),0)),\"\")","v":""},{"$f":"IFERROR(INDEX(PTable[3-Method],MATCH(0,IF(BM$1=PTable[2-Test],COUNTIF(BM$1:BM38,PTable[3-Method]), \"\"),0)),\"\")","v":""},{"$f":"IFERROR(INDEX(PTable[3-Method],MATCH(0,IF(BN$1=PTable[2-Test],COUNTIF(BN$1:BN38,PTable[3-Method]), \"\"),0)),\"\")","v":""},{"$f":"IFERROR(INDEX(PTable[3-Method],MATCH(0,IF(BO$1=PTable[2-Test],COUNTIF(BO$1:BO38,PTable[3-Method]), \"\"),0)),\"\")","v":""},{"$f":"IFERROR(INDEX(PTable[3-Method],MATCH(0,IF(BP$1=PTable[2-Test],COUNTIF(BP$1:BP38,PTable[3-Method]), \"\"),0)),\"\")","v":"USD25g"},{"$f":"IFERROR(INDEX(PTable[3-Method],MATCH(0,IF(BQ$1=PTable[2-Test],COUNTIF(BQ$1:BQ38,PTable[3-Method]), \"\"),0)),\"\")","v":""},{"$f":"IFERROR(INDEX(PTable[3-Method],MATCH(0,IF(BR$1=PTable[2-Test],COUNTIF(BR$1:BR38,PTable[3-Method]), \"\"),0)),\"\")","v":""},{"$f":"IFERROR(INDEX(PTable[3-Method],MATCH(0,IF(BS$1=PTable[2-Test],COUNTIF(BS$1:BS38,PTable[3-Method]), \"\"),0)),\"\")","v":""},{"$f":"IFERROR(INDEX(PTable[3-Method],MATCH(0,IF(BT$1=PTable[2-Test],COUNTIF(BT$1:BT38,PTable[3-Method]), \"\"),0)),\"\")","v":""},{"$f":"IFERROR(INDEX(PTable[3-Method],MATCH(0,IF(BU$1=PTable[2-Test],COUNTIF(BU$1:BU38,PTable[3-Method]), \"\"),0)),\"\")","v":""},{"$f":"IFERROR(INDEX(PTable[3-Method],MATCH(0,IF(BV$1=PTable[2-Test],COUNTIF(BV$1:BV38,PTable[3-Method]), \"\"),0)),\"\")","v":""},{"$f":"IFERROR(INDEX(PTable[3-Method],MATCH(0,IF(BW$1=PTable[2-Test],COUNTIF(BW$1:BW38,PTable[3-Method]), \"\"),0)),\"\")","v":""},{"$f":"IFERROR(INDEX(PTable[3-Method],MATCH(0,IF(BX$1=PTable[2-Test],COUNTIF(BX$1:BX38,PTable[3-Method]), \"\"),0)),\"\")","v":""},{"$f":"IFERROR(INDEX(PTable[3-Method],MATCH(0,IF(BY$1=PTable[2-Test],COUNTIF(BY$1:BY38,PTable[3-Method]), \"\"),0)),\"\")","v":""},{"$f":"IFERROR(INDEX(PTable[3-Method],MATCH(0,IF(BZ$1=PTable[2-Test],COUNTIF(BZ$1:BZ38,PTable[3-Method]), \"\"),0)),\"\")","v":""},{"$f":"IFERROR(INDEX(PTable[3-Method],MATCH(0,IF(CA$1=PTable[2-Test],COUNTIF(CA$1:CA38,PTable[3-Method]), \"\"),0)),\"\")","v":""},{"$f":"IFERROR(INDEX(PTable[3-Method],MATCH(0,IF(CB$1=PTable[2-Test],COUNTIF(CB$1:CB38,PTable[3-Method]), \"\"),0)),\"\")","v":""},{"$f":"IFERROR(INDEX(PTable[3-Method],MATCH(0,IF(CC$1=PTable[2-Test],COUNTIF(CC$1:CC38,PTable[3-Method]), \"\"),0)),\"\")","v":""},{"$f":"IFERROR(INDEX(PTable[3-Method],MATCH(0,IF(CD$1=PTable[2-Test],COUNTIF(CD$1:CD38,PTable[3-Method]), \"\"),0)),\"\")","v":""},{"$f":"IFERROR(INDEX(PTable[3-Method],MATCH(0,IF(CE$1=PTable[2-Test],COUNTIF(CE$1:CE38,PTable[3-Method]), \"\"),0)),\"\")","v":""},{"$f":"IFERROR(INDEX(PTable[3-Method],MATCH(0,IF(CF$1=PTable[2-Test],COUNTIF(CF$1:CF38,PTable[3-Method]), \"\"),0)),\"\")","v":""},{"$f":"IFERROR(INDEX(PTable[3-Method],MATCH(0,IF(CG$1=PTable[2-Test],COUNTIF(CG$1:CG38,PTable[3-Method]), \"\"),0)),\"\")","v":""},{"$f":"IFERROR(INDEX(PTable[3-Method],MATCH(0,IF(CH$1=PTable[2-Test],COUNTIF(CH$1:CH38,PTable[3-Method]), \"\"),0)),\"\")","v":""},{"$f":"IFERROR(INDEX(PTable[3-Method],MATCH(0,IF(CI$1=PTable[2-Test],COUNTIF(CI$1:CI38,PTable[3-Method]), \"\"),0)),\"\")","v":""},{"$f":"IFERROR(INDEX(PTable[3-Method],MATCH(0,IF(CJ$1=PTable[2-Test],COUNTIF(CJ$1:CJ38,PTable[3-Method]), \"\"),0)),\"\")","v":""},{"$f":"IFERROR(INDEX(PTable[3-Method],MATCH(0,IF(CK$1=PTable[2-Test],COUNTIF(CK$1:CK38,PTable[3-Method]), \"\"),0)),\"\")","v":""},{"$f":"IFERROR(INDEX(PTable[3-Method],MATCH(0,IF(CL$1=PTable[2-Test],COUNTIF(CL$1:CL38,PTable[3-Method]), \"\"),0)),\"\")","v":""},{"$f":"IFERROR(INDEX(PTable[3-Method],MATCH(0,IF(CM$1=PTable[2-Test],COUNTIF(CM$1:CM38,PTable[3-Method]), \"\"),0)),\"\")","v":""},{"$f":"IFERROR(INDEX(PTable[3-Method],MATCH(0,IF(CN$1=PTable[2-Test],COUNTIF(CN$1:CN38,PTable[3-Method]), \"\"),0)),\"\")","v":""},{"$f":"IFERROR(INDEX(PTable[3-Method],MATCH(0,IF(CO$1=PTable[2-Test],COUNTIF(CO$1:CO38,PTable[3-Method]), \"\"),0)),\"\")","v":""},{"$f":"IFERROR(INDEX(PTable[3-Method],MATCH(0,IF(CP$1=PTable[2-Test],COUNTIF(CP$1:CP38,PTable[3-Method]), \"\"),0)),\"\")","v":""},{"$f":"IFERROR(INDEX(PTable[3-Method],MATCH(0,IF(CQ$1=PTable[2-Test],COUNTIF(CQ$1:CQ38,PTable[3-Method]), \"\"),0)),\"\")","v":""},{"$f":"IFERROR(INDEX(PTable[3-Method],MATCH(0,IF(CR$1=PTable[2-Test],COUNTIF(CR$1:CR38,PTable[3-Method]), \"\"),0)),\"\")","v":""},{"$f":"IFERROR(INDEX(PTable[3-Method],MATCH(0,IF(CS$1=PTable[2-Test],COUNTIF(CS$1:CS38,PTable[3-Method]), \"\"),0)),\"\")","v":""},{"$f":"IFERROR(INDEX(PTable[3-Method],MATCH(0,IF(CT$1=PTable[2-Test],COUNTIF(CT$1:CT38,PTable[3-Method]), \"\"),0)),\"\")","v":""},{"$f":"IFERROR(INDEX(PTable[3-Method],MATCH(0,IF(CU$1=PTable[2-Test],COUNTIF(CU$1:CU38,PTable[3-Method]), \"\"),0)),\"\")","v":""},{"$f":"IFERROR(INDEX(PTable[3-Method],MATCH(0,IF(CV$1=PTable[2-Test],COUNTIF(CV$1:CV38,PTable[3-Method]), \"\"),0)),\"\")","v":""},{"$f":"IFERROR(INDEX(PTable[3-Method],MATCH(0,IF(CW$1=PTable[2-Test],COUNTIF(CW$1:CW38,PTable[3-Method]), \"\"),0)),\"\")","v":""},{"$f":"IFERROR(INDEX(PTable[3-Method],MATCH(0,IF(CX$1=PTable[2-Test],COUNTIF(CX$1:CX38,PTable[3-Method]), \"\"),0)),\"\")","v":""},{"$f":"IFERROR(INDEX(PTable[3-Method],MATCH(0,IF(CY$1=PTable[2-Test],COUNTIF(CY$1:CY38,PTable[3-Method]), \"\"),0)),\"\")","v":""},{"$f":"IFERROR(INDEX(PTable[3-Method],MATCH(0,IF(CZ$1=PTable[2-Test],COUNTIF(CZ$1:CZ38,PTable[3-Method]), \"\"),0)),\"\")","v":""},{"$f":"IFERROR(INDEX(PTable[3-Method],MATCH(0,IF(DA$1=PTable[2-Test],COUNTIF(DA$1:DA38,PTable[3-Method]), \"\"),0)),\"\")","v":""},{"$f":"IFERROR(INDEX(PTable[3-Method],MATCH(0,IF(DB$1=PTable[2-Test],COUNTIF(DB$1:DB38,PTable[3-Method]), \"\"),0)),\"\")","v":""},{"$f":"IFERROR(INDEX(PTable[3-Method],MATCH(0,IF(DC$1=PTable[2-Test],COUNTIF(DC$1:DC38,PTable[3-Method]), \"\"),0)),\"\")","v":""},{"$f":"IFERROR(INDEX(PTable[3-Method],MATCH(0,IF(DD$1=PTable[2-Test],COUNTIF(DD$1:DD38,PTable[3-Method]), \"\"),0)),\"\")","v":""},{"$f":"IFERROR(INDEX(PTable[3-Method],MATCH(0,IF(DE$1=PTable[2-Test],COUNTIF(DE$1:DE38,PTable[3-Method]), \"\"),0)),\"\")","v":""},{"$f":"IFERROR(INDEX(PTable[3-Method],MATCH(0,IF(DF$1=PTable[2-Test],COUNTIF(DF$1:DF38,PTable[3-Method]), \"\"),0)),\"\")","v":""},{"$f":"IFERROR(INDEX(PTable[3-Method],MATCH(0,IF(DG$1=PTable[2-Test],COUNTIF(DG$1:DG38,PTable[3-Method]), \"\"),0)),\"\")","v":""},{"$f":"IFERROR(INDEX(PTable[3-Method],MATCH(0,IF(DH$1=PTable[2-Test],COUNTIF(DH$1:DH38,PTable[3-Method]), \"\"),0)),\"\")","v":""},{"$f":"IFERROR(INDEX(PTable[3-Method],MATCH(0,IF(DI$1=PTable[2-Test],COUNTIF(DI$1:DI38,PTable[3-Method]), \"\"),0)),\"\")","v":""},{"$f":"IFERROR(INDEX(PTable[3-Method],MATCH(0,IF(DJ$1=PTable[2-Test],COUNTIF(DJ$1:DJ38,PTable[3-Method]), \"\"),0)),\"\")","v":""}]
[null,{"$f":"IFERROR(INDEX(PTable[2-Test],MATCH(0,IF(B$1=PTable[1-Type],COUNTIF(B$1:B39,PTable[2-Test]), \"\"),0)),\"\")","v":"TYMC"},{"$f":"IFERROR(INDEX(PTable[2-Test],MATCH(0,IF(C$1=PTable[1-Type],COUNTIF(C$1:C39,PTable[2-Test]), \"\"),0)),\"\")","v":""},{"$f":"IFERROR(INDEX(PTable[2-Test],MATCH(0,IF(D$1=PTable[1-Type],COUNTIF(D$1:D39,PTable[2-Test]), \"\"),0)),\"\")","v":""},{"$f":"IFERROR(INDEX(PTable[2-Test],MATCH(0,IF(E$1=PTable[1-Type],COUNTIF(E$1:E39,PTable[2-Test]), \"\"),0)),\"\")","v":""},{"$f":"IFERROR(INDEX(PTable[2-Test],MATCH(0,IF(F$1=PTable[1-Type],COUNTIF(F$1:F39,PTable[2-Test]), \"\"),0)),\"\")","v":""},{"$f":"IFERROR(INDEX(PTable[3-Method],MATCH(0,IF(G$1=PTable[2-Test],COUNTIF(G$1:G39,PTable[3-Method]), \"\"),0)),\"\")","v":""},{"$f":"IFERROR(INDEX(PTable[3-Method],MATCH(0,IF(H$1=PTable[2-Test],COUNTIF(H$1:H39,PTable[3-Method]), \"\"),0)),\"\")","v":""},{"$f":"IFERROR(INDEX(PTable[3-Method],MATCH(0,IF(I$1=PTable[2-Test],COUNTIF(I$1:I39,PTable[3-Method]), \"\"),0)),\"\")","v":""},{"$f":"IFERROR(INDEX(PTable[3-Method],MATCH(0,IF(J$1=PTable[2-Test],COUNTIF(J$1:J39,PTable[3-Method]), \"\"),0)),\"\")","v":""},{"$f":"IFERROR(INDEX(PTable[3-Method],MATCH(0,IF(K$1=PTable[2-Test],COUNTIF(K$1:K39,PTable[3-Method]), \"\"),0)),\"\")","v":""},{"$f":"IFERROR(INDEX(PTable[3-Method],MATCH(0,IF(L$1=PTable[2-Test],COUNTIF(L$1:L39,PTable[3-Method]), \"\"),0)),\"\")","v":""},{"$f":"IFERROR(INDEX(PTable[3-Method],MATCH(0,IF(M$1=PTable[2-Test],COUNTIF(M$1:M39,PTable[3-Method]), \"\"),0)),\"\")","v":""},{"$f":"IFERROR(INDEX(PTable[3-Method],MATCH(0,IF(N$1=PTable[2-Test],COUNTIF(N$1:N39,PTable[3-Method]), \"\"),0)),\"\")","v":""},{"$f":"IFERROR(INDEX(PTable[3-Method],MATCH(0,IF(O$1=PTable[2-Test],COUNTIF(O$1:O39,PTable[3-Method]), \"\"),0)),\"\")","v":""},{"$f":"IFERROR(INDEX(PTable[3-Method],MATCH(0,IF(P$1=PTable[2-Test],COUNTIF(P$1:P39,PTable[3-Method]), \"\"),0)),\"\")","v":""},{"$f":"IFERROR(INDEX(PTable[3-Method],MATCH(0,IF(Q$1=PTable[2-Test],COUNTIF(Q$1:Q39,PTable[3-Method]), \"\"),0)),\"\")","v":""},{"$f":"IFERROR(INDEX(PTable[3-Method],MATCH(0,IF(R$1=PTable[2-Test],COUNTIF(R$1:R39,PTable[3-Method]), \"\"),0)),\"\")","v":""},{"$f":"IFERROR(INDEX(PTable[3-Method],MATCH(0,IF(S$1=PTable[2-Test],COUNTIF(S$1:S39,PTable[3-Method]), \"\"),0)),\"\")","v":""},{"$f":"IFERROR(INDEX(PTable[3-Method],MATCH(0,IF(T$1=PTable[2-Test],COUNTIF(T$1:T39,PTable[3-Method]), \"\"),0)),\"\")","v":""},{"$f":"IFERROR(INDEX(PTable[3-Method],MATCH(0,IF(U$1=PTable[2-Test],COUNTIF(U$1:U39,PTable[3-Method]), \"\"),0)),\"\")","v":""},{"$f":"IFERROR(INDEX(PTable[3-Method],MATCH(0,IF(V$1=PTable[2-Test],COUNTIF(V$1:V39,PTable[3-Method]), \"\"),0)),\"\")","v":""},{"$f":"IFERROR(INDEX(PTable[3-Method],MATCH(0,IF(W$1=PTable[2-Test],COUNTIF(W$1:W39,PTable[3-Method]), \"\"),0)),\"\")","v":""},{"$f":"IFERROR(INDEX(PTable[3-Method],MATCH(0,IF(X$1=PTable[2-Test],COUNTIF(X$1:X39,PTable[3-Method]), \"\"),0)),\"\")","v":""},{"$f":"IFERROR(INDEX(PTable[3-Method],MATCH(0,IF(Y$1=PTable[2-Test],COUNTIF(Y$1:Y39,PTable[3-Method]), \"\"),0)),\"\")","v":""},{"$f":"IFERROR(INDEX(PTable[3-Method],MATCH(0,IF(Z$1=PTable[2-Test],COUNTIF(Z$1:Z39,PTable[3-Method]), \"\"),0)),\"\")","v":""},{"$f":"IFERROR(INDEX(PTable[3-Method],MATCH(0,IF(AA$1=PTable[2-Test],COUNTIF(AA$1:AA39,PTable[3-Method]), \"\"),0)),\"\")","v":""},{"$f":"IFERROR(INDEX(PTable[3-Method],MATCH(0,IF(AB$1=PTable[2-Test],COUNTIF(AB$1:AB39,PTable[3-Method]), \"\"),0)),\"\")","v":""},{"$f":"IFERROR(INDEX(PTable[3-Method],MATCH(0,IF(AC$1=PTable[2-Test],COUNTIF(AC$1:AC39,PTable[3-Method]), \"\"),0)),\"\")","v":""},{"$f":"IFERROR(INDEX(PTable[3-Method],MATCH(0,IF(AD$1=PTable[2-Test],COUNTIF(AD$1:AD39,PTable[3-Method]), \"\"),0)),\"\")","v":""},{"$f":"IFERROR(INDEX(PTable[3-Method],MATCH(0,IF(AE$1=PTable[2-Test],COUNTIF(AE$1:AE39,PTable[3-Method]), \"\"),0)),\"\")","v":""},{"$f":"IFERROR(INDEX(PTable[3-Method],MATCH(0,IF(AF$1=PTable[2-Test],COUNTIF(AF$1:AF39,PTable[3-Method]), \"\"),0)),\"\")","v":""},{"$f":"IFERROR(INDEX(PTable[3-Method],MATCH(0,IF(AG$1=PTable[2-Test],COUNTIF(AG$1:AG39,PTable[3-Method]), \"\"),0)),\"\")","v":""},{"$f":"IFERROR(INDEX(PTable[3-Method],MATCH(0,IF(AH$1=PTable[2-Test],COUNTIF(AH$1:AH39,PTable[3-Method]), \"\"),0)),\"\")","v":""},{"$f":"IFERROR(INDEX(PTable[3-Method],MATCH(0,IF(AI$1=PTable[2-Test],COUNTIF(AI$1:AI39,PTable[3-Method]), \"\"),0)),\"\")","v":""},{"$f":"IFERROR(INDEX(PTable[3-Method],MATCH(0,IF(AJ$1=PTable[2-Test],COUNTIF(AJ$1:AJ39,PTable[3-Method]), \"\"),0)),\"\")","v":""},{"$f":"IFERROR(INDEX(PTable[3-Method],MATCH(0,IF(AK$1=PTable[2-Test],COUNTIF(AK$1:AK39,PTable[3-Method]), \"\"),0)),\"\")","v":""},{"$f":"IFERROR(INDEX(PTable[3-Method],MATCH(0,IF(AL$1=PTable[2-Test],COUNTIF(AL$1:AL39,PTable[3-Method]), \"\"),0)),\"\")","v":""},{"$f":"IFERROR(INDEX(PTable[3-Method],MATCH(0,IF(AM$1=PTable[2-Test],COUNTIF(AM$1:AM39,PTable[3-Method]), \"\"),0)),\"\")","v":""},{"$f":"IFERROR(INDEX(PTable[3-Method],MATCH(0,IF(AN$1=PTable[2-Test],COUNTIF(AN$1:AN39,PTable[3-Method]), \"\"),0)),\"\")","v":""},{"$f":"IFERROR(INDEX(PTable[3-Method],MATCH(0,IF(AO$1=PTable[2-Test],COUNTIF(AO$1:AO39,PTable[3-Method]), \"\"),0)),\"\")","v":""},{"$f":"IFERROR(INDEX(PTable[3-Method],MATCH(0,IF(AP$1=PTable[2-Test],COUNTIF(AP$1:AP39,PTable[3-Method]), \"\"),0)),\"\")","v":""},{"$f":"IFERROR(INDEX(PTable[3-Method],MATCH(0,IF(AQ$1=PTable[2-Test],COUNTIF(AQ$1:AQ39,PTable[3-Method]), \"\"),0)),\"\")","v":""},{"$f":"IFERROR(INDEX(PTable[3-Method],MATCH(0,IF(AR$1=PTable[2-Test],COUNTIF(AR$1:AR39,PTable[3-Method]), \"\"),0)),\"\")","v":""},{"$f":"IFERROR(INDEX(PTable[3-Method],MATCH(0,IF(AS$1=PTable[2-Test],COUNTIF(AS$1:AS39,PTable[3-Method]), \"\"),0)),\"\")","v":""},{"$f":"IFERROR(INDEX(PTable[3-Method],MATCH(0,IF(AT$1=PTable[2-Test],COUNTIF(AT$1:AT39,PTable[3-Method]), \"\"),0)),\"\")","v":""},{"$f":"IFERROR(INDEX(PTable[3-Method],MATCH(0,IF(AU$1=PTable[2-Test],COUNTIF(AU$1:AU39,PTable[3-Method]), \"\"),0)),\"\")","v":""},{"$f":"IFERROR(INDEX(PTable[3-Method],MATCH(0,IF(AV$1=PTable[2-Test],COUNTIF(AV$1:AV39,PTable[3-Method]), \"\"),0)),\"\")","v":""},{"$f":"IFERROR(INDEX(PTable[3-Method],MATCH(0,IF(AW$1=PTable[2-Test],COUNTIF(AW$1:AW39,PTable[3-Method]), \"\"),0)),\"\")","v":""},{"$f":"IFERROR(INDEX(PTable[3-Method],MATCH(0,IF(AX$1=PTable[2-Test],COUNTIF(AX$1:AX39,PTable[3-Method]), \"\"),0)),\"\")","v":""},{"$f":"IFERROR(INDEX(PTable[3-Method],MATCH(0,IF(AY$1=PTable[2-Test],COUNTIF(AY$1:AY39,PTable[3-Method]), \"\"),0)),\"\")","v":""},{"$f":"IFERROR(INDEX(PTable[3-Method],MATCH(0,IF(AZ$1=PTable[2-Test],COUNTIF(AZ$1:AZ39,PTable[3-Method]), \"\"),0)),\"\")","v":""},{"$f":"IFERROR(INDEX(PTable[3-Method],MATCH(0,IF(BA$1=PTable[2-Test],COUNTIF(BA$1:BA39,PTable[3-Method]), \"\"),0)),\"\")","v":""},{"$f":"IFERROR(INDEX(PTable[3-Method],MATCH(0,IF(BB$1=PTable[2-Test],COUNTIF(BB$1:BB39,PTable[3-Method]), \"\"),0)),\"\")","v":""},{"$f":"IFERROR(INDEX(PTable[3-Method],MATCH(0,IF(BC$1=PTable[2-Test],COUNTIF(BC$1:BC39,PTable[3-Method]), \"\"),0)),\"\")","v":""},{"$f":"IFERROR(INDEX(PTable[3-Method],MATCH(0,IF(BD$1=PTable[2-Test],COUNTIF(BD$1:BD39,PTable[3-Method]), \"\"),0)),\"\")","v":""},{"$f":"IFERROR(INDEX(PTable[3-Method],MATCH(0,IF(BE$1=PTable[2-Test],COUNTIF(BE$1:BE39,PTable[3-Method]), \"\"),0)),\"\")","v":""},{"$f":"IFERROR(INDEX(PTable[3-Method],MATCH(0,IF(BF$1=PTable[2-Test],COUNTIF(BF$1:BF39,PTable[3-Method]), \"\"),0)),\"\")","v":""},{"$f":"IFERROR(INDEX(PTable[3-Method],MATCH(0,IF(BG$1=PTable[2-Test],COUNTIF(BG$1:BG39,PTable[3-Method]), \"\"),0)),\"\")","v":""},{"$f":"IFERROR(INDEX(PTable[3-Method],MATCH(0,IF(BH$1=PTable[2-Test],COUNTIF(BH$1:BH39,PTable[3-Method]), \"\"),0)),\"\")","v":""},{"$f":"IFERROR(INDEX(PTable[3-Method],MATCH(0,IF(BI$1=PTable[2-Test],COUNTIF(BI$1:BI39,PTable[3-Method]), \"\"),0)),\"\")","v":""},{"$f":"IFERROR(INDEX(PTable[3-Method],MATCH(0,IF(BJ$1=PTable[2-Test],COUNTIF(BJ$1:BJ39,PTable[3-Method]), \"\"),0)),\"\")","v":""},{"$f":"IFERROR(INDEX(PTable[3-Method],MATCH(0,IF(BK$1=PTable[2-Test],COUNTIF(BK$1:BK39,PTable[3-Method]), \"\"),0)),\"\")","v":""},{"$f":"IFERROR(INDEX(PTable[3-Method],MATCH(0,IF(BL$1=PTable[2-Test],COUNTIF(BL$1:BL39,PTable[3-Method]), \"\"),0)),\"\")","v":""},{"$f":"IFERROR(INDEX(PTable[3-Method],MATCH(0,IF(BM$1=PTable[2-Test],COUNTIF(BM$1:BM39,PTable[3-Method]), \"\"),0)),\"\")","v":""},{"$f":"IFERROR(INDEX(PTable[3-Method],MATCH(0,IF(BN$1=PTable[2-Test],COUNTIF(BN$1:BN39,PTable[3-Method]), \"\"),0)),\"\")","v":""},{"$f":"IFERROR(INDEX(PTable[3-Method],MATCH(0,IF(BO$1=PTable[2-Test],COUNTIF(BO$1:BO39,PTable[3-Method]), \"\"),0)),\"\")","v":""},{"$f":"IFERROR(INDEX(PTable[3-Method],MATCH(0,IF(BP$1=PTable[2-Test],COUNTIF(BP$1:BP39,PTable[3-Method]), \"\"),0)),\"\")","v":"USD325g"},{"$f":"IFERROR(INDEX(PTable[3-Method],MATCH(0,IF(BQ$1=PTable[2-Test],COUNTIF(BQ$1:BQ39,PTable[3-Method]), \"\"),0)),\"\")","v":""},{"$f":"IFERROR(INDEX(PTable[3-Method],MATCH(0,IF(BR$1=PTable[2-Test],COUNTIF(BR$1:BR39,PTable[3-Method]), \"\"),0)),\"\")","v":""},{"$f":"IFERROR(INDEX(PTable[3-Method],MATCH(0,IF(BS$1=PTable[2-Test],COUNTIF(BS$1:BS39,PTable[3-Method]), \"\"),0)),\"\")","v":""},{"$f":"IFERROR(INDEX(PTable[3-Method],MATCH(0,IF(BT$1=PTable[2-Test],COUNTIF(BT$1:BT39,PTable[3-Method]), \"\"),0)),\"\")","v":""},{"$f":"IFERROR(INDEX(PTable[3-Method],MATCH(0,IF(BU$1=PTable[2-Test],COUNTIF(BU$1:BU39,PTable[3-Method]), \"\"),0)),\"\")","v":""},{"$f":"IFERROR(INDEX(PTable[3-Method],MATCH(0,IF(BV$1=PTable[2-Test],COUNTIF(BV$1:BV39,PTable[3-Method]), \"\"),0)),\"\")","v":""},{"$f":"IFERROR(INDEX(PTable[3-Method],MATCH(0,IF(BW$1=PTable[2-Test],COUNTIF(BW$1:BW39,PTable[3-Method]), \"\"),0)),\"\")","v":""},{"$f":"IFERROR(INDEX(PTable[3-Method],MATCH(0,IF(BX$1=PTable[2-Test],COUNTIF(BX$1:BX39,PTable[3-Method]), \"\"),0)),\"\")","v":""},{"$f":"IFERROR(INDEX(PTable[3-Method],MATCH(0,IF(BY$1=PTable[2-Test],COUNTIF(BY$1:BY39,PTable[3-Method]), \"\"),0)),\"\")","v":""},{"$f":"IFERROR(INDEX(PTable[3-Method],MATCH(0,IF(BZ$1=PTable[2-Test],COUNTIF(BZ$1:BZ39,PTable[3-Method]), \"\"),0)),\"\")","v":""},{"$f":"IFERROR(INDEX(PTable[3-Method],MATCH(0,IF(CA$1=PTable[2-Test],COUNTIF(CA$1:CA39,PTable[3-Method]), \"\"),0)),\"\")","v":""},{"$f":"IFERROR(INDEX(PTable[3-Method],MATCH(0,IF(CB$1=PTable[2-Test],COUNTIF(CB$1:CB39,PTable[3-Method]), \"\"),0)),\"\")","v":""},{"$f":"IFERROR(INDEX(PTable[3-Method],MATCH(0,IF(CC$1=PTable[2-Test],COUNTIF(CC$1:CC39,PTable[3-Method]), \"\"),0)),\"\")","v":""},{"$f":"IFERROR(INDEX(PTable[3-Method],MATCH(0,IF(CD$1=PTable[2-Test],COUNTIF(CD$1:CD39,PTable[3-Method]), \"\"),0)),\"\")","v":""},{"$f":"IFERROR(INDEX(PTable[3-Method],MATCH(0,IF(CE$1=PTable[2-Test],COUNTIF(CE$1:CE39,PTable[3-Method]), \"\"),0)),\"\")","v":""},{"$f":"IFERROR(INDEX(PTable[3-Method],MATCH(0,IF(CF$1=PTable[2-Test],COUNTIF(CF$1:CF39,PTable[3-Method]), \"\"),0)),\"\")","v":""},{"$f":"IFERROR(INDEX(PTable[3-Method],MATCH(0,IF(CG$1=PTable[2-Test],COUNTIF(CG$1:CG39,PTable[3-Method]), \"\"),0)),\"\")","v":""},{"$f":"IFERROR(INDEX(PTable[3-Method],MATCH(0,IF(CH$1=PTable[2-Test],COUNTIF(CH$1:CH39,PTable[3-Method]), \"\"),0)),\"\")","v":""},{"$f":"IFERROR(INDEX(PTable[3-Method],MATCH(0,IF(CI$1=PTable[2-Test],COUNTIF(CI$1:CI39,PTable[3-Method]), \"\"),0)),\"\")","v":""},{"$f":"IFERROR(INDEX(PTable[3-Method],MATCH(0,IF(CJ$1=PTable[2-Test],COUNTIF(CJ$1:CJ39,PTable[3-Method]), \"\"),0)),\"\")","v":""},{"$f":"IFERROR(INDEX(PTable[3-Method],MATCH(0,IF(CK$1=PTable[2-Test],COUNTIF(CK$1:CK39,PTable[3-Method]), \"\"),0)),\"\")","v":""},{"$f":"IFERROR(INDEX(PTable[3-Method],MATCH(0,IF(CL$1=PTable[2-Test],COUNTIF(CL$1:CL39,PTable[3-Method]), \"\"),0)),\"\")","v":""},{"$f":"IFERROR(INDEX(PTable[3-Method],MATCH(0,IF(CM$1=PTable[2-Test],COUNTIF(CM$1:CM39,PTable[3-Method]), \"\"),0)),\"\")","v":""},{"$f":"IFERROR(INDEX(PTable[3-Method],MATCH(0,IF(CN$1=PTable[2-Test],COUNTIF(CN$1:CN39,PTable[3-Method]), \"\"),0)),\"\")","v":""},{"$f":"IFERROR(INDEX(PTable[3-Method],MATCH(0,IF(CO$1=PTable[2-Test],COUNTIF(CO$1:CO39,PTable[3-Method]), \"\"),0)),\"\")","v":""},{"$f":"IFERROR(INDEX(PTable[3-Method],MATCH(0,IF(CP$1=PTable[2-Test],COUNTIF(CP$1:CP39,PTable[3-Method]), \"\"),0)),\"\")","v":""},{"$f":"IFERROR(INDEX(PTable[3-Method],MATCH(0,IF(CQ$1=PTable[2-Test],COUNTIF(CQ$1:CQ39,PTable[3-Method]), \"\"),0)),\"\")","v":""},{"$f":"IFERROR(INDEX(PTable[3-Method],MATCH(0,IF(CR$1=PTable[2-Test],COUNTIF(CR$1:CR39,PTable[3-Method]), \"\"),0)),\"\")","v":""},{"$f":"IFERROR(INDEX(PTable[3-Method],MATCH(0,IF(CS$1=PTable[2-Test],COUNTIF(CS$1:CS39,PTable[3-Method]), \"\"),0)),\"\")","v":""},{"$f":"IFERROR(INDEX(PTable[3-Method],MATCH(0,IF(CT$1=PTable[2-Test],COUNTIF(CT$1:CT39,PTable[3-Method]), \"\"),0)),\"\")","v":""},{"$f":"IFERROR(INDEX(PTable[3-Method],MATCH(0,IF(CU$1=PTable[2-Test],COUNTIF(CU$1:CU39,PTable[3-Method]), \"\"),0)),\"\")","v":""},{"$f":"IFERROR(INDEX(PTable[3-Method],MATCH(0,IF(CV$1=PTable[2-Test],COUNTIF(CV$1:CV39,PTable[3-Method]), \"\"),0)),\"\")","v":""},{"$f":"IFERROR(INDEX(PTable[3-Method],MATCH(0,IF(CW$1=PTable[2-Test],COUNTIF(CW$1:CW39,PTable[3-Method]), \"\"),0)),\"\")","v":""},{"$f":"IFERROR(INDEX(PTable[3-Method],MATCH(0,IF(CX$1=PTable[2-Test],COUNTIF(CX$1:CX39,PTable[3-Method]), \"\"),0)),\"\")","v":""},{"$f":"IFERROR(INDEX(PTable[3-Method],MATCH(0,IF(CY$1=PTable[2-Test],COUNTIF(CY$1:CY39,PTable[3-Method]), \"\"),0)),\"\")","v":""},{"$f":"IFERROR(INDEX(PTable[3-Method],MATCH(0,IF(CZ$1=PTable[2-Test],COUNTIF(CZ$1:CZ39,PTable[3-Method]), \"\"),0)),\"\")","v":""},{"$f":"IFERROR(INDEX(PTable[3-Method],MATCH(0,IF(DA$1=PTable[2-Test],COUNTIF(DA$1:DA39,PTable[3-Method]), \"\"),0)),\"\")","v":""},{"$f":"IFERROR(INDEX(PTable[3-Method],MATCH(0,IF(DB$1=PTable[2-Test],COUNTIF(DB$1:DB39,PTable[3-Method]), \"\"),0)),\"\")","v":""},{"$f":"IFERROR(INDEX(PTable[3-Method],MATCH(0,IF(DC$1=PTable[2-Test],COUNTIF(DC$1:DC39,PTable[3-Method]), \"\"),0)),\"\")","v":""},{"$f":"IFERROR(INDEX(PTable[3-Method],MATCH(0,IF(DD$1=PTable[2-Test],COUNTIF(DD$1:DD39,PTable[3-Method]), \"\"),0)),\"\")","v":""},{"$f":"IFERROR(INDEX(PTable[3-Method],MATCH(0,IF(DE$1=PTable[2-Test],COUNTIF(DE$1:DE39,PTable[3-Method]), \"\"),0)),\"\")","v":""},{"$f":"IFERROR(INDEX(PTable[3-Method],MATCH(0,IF(DF$1=PTable[2-Test],COUNTIF(DF$1:DF39,PTable[3-Method]), \"\"),0)),\"\")","v":""},{"$f":"IFERROR(INDEX(PTable[3-Method],MATCH(0,IF(DG$1=PTable[2-Test],COUNTIF(DG$1:DG39,PTable[3-Method]), \"\"),0)),\"\")","v":""},{"$f":"IFERROR(INDEX(PTable[3-Method],MATCH(0,IF(DH$1=PTable[2-Test],COUNTIF(DH$1:DH39,PTable[3-Method]), \"\"),0)),\"\")","v":""},{"$f":"IFERROR(INDEX(PTable[3-Method],MATCH(0,IF(DI$1=PTable[2-Test],COUNTIF(DI$1:DI39,PTable[3-Method]), \"\"),0)),\"\")","v":""},{"$f":"IFERROR(INDEX(PTable[3-Method],MATCH(0,IF(DJ$1=PTable[2-Test],COUNTIF(DJ$1:DJ39,PTable[3-Method]), \"\"),0)),\"\")","v":""}]
[null,{"$f":"IFERROR(INDEX(PTable[2-Test],MATCH(0,IF(B$1=PTable[1-Type],COUNTIF(B$1:B40,PTable[2-Test]), \"\"),0)),\"\")","v":"Y"},{"$f":"IFERROR(INDEX(PTable[2-Test],MATCH(0,IF(C$1=PTable[1-Type],COUNTIF(C$1:C40,PTable[2-Test]), \"\"),0)),\"\")","v":""},{"$f":"IFERROR(INDEX(PTable[2-Test],MATCH(0,IF(D$1=PTable[1-Type],COUNTIF(D$1:D40,PTable[2-Test]), \"\"),0)),\"\")","v":""},{"$f":"IFERROR(INDEX(PTable[2-Test],MATCH(0,IF(E$1=PTable[1-Type],COUNTIF(E$1:E40,PTable[2-Test]), \"\"),0)),\"\")","v":""},{"$f":"IFERROR(INDEX(PTable[2-Test],MATCH(0,IF(F$1=PTable[1-Type],COUNTIF(F$1:F40,PTable[2-Test]), \"\"),0)),\"\")","v":""},{"$f":"IFERROR(INDEX(PTable[3-Method],MATCH(0,IF(G$1=PTable[2-Test],COUNTIF(G$1:G40,PTable[3-Method]), \"\"),0)),\"\")","v":""},{"$f":"IFERROR(INDEX(PTable[3-Method],MATCH(0,IF(H$1=PTable[2-Test],COUNTIF(H$1:H40,PTable[3-Method]), \"\"),0)),\"\")","v":""},{"$f":"IFERROR(INDEX(PTable[3-Method],MATCH(0,IF(I$1=PTable[2-Test],COUNTIF(I$1:I40,PTable[3-Method]), \"\"),0)),\"\")","v":""},{"$f":"IFERROR(INDEX(PTable[3-Method],MATCH(0,IF(J$1=PTable[2-Test],COUNTIF(J$1:J40,PTable[3-Method]), \"\"),0)),\"\")","v":""},{"$f":"IFERROR(INDEX(PTable[3-Method],MATCH(0,IF(K$1=PTable[2-Test],COUNTIF(K$1:K40,PTable[3-Method]), \"\"),0)),\"\")","v":""},{"$f":"IFERROR(INDEX(PTable[3-Method],MATCH(0,IF(L$1=PTable[2-Test],COUNTIF(L$1:L40,PTable[3-Method]), \"\"),0)),\"\")","v":""},{"$f":"IFERROR(INDEX(PTable[3-Method],MATCH(0,IF(M$1=PTable[2-Test],COUNTIF(M$1:M40,PTable[3-Method]), \"\"),0)),\"\")","v":""},{"$f":"IFERROR(INDEX(PTable[3-Method],MATCH(0,IF(N$1=PTable[2-Test],COUNTIF(N$1:N40,PTable[3-Method]), \"\"),0)),\"\")","v":""},{"$f":"IFERROR(INDEX(PTable[3-Method],MATCH(0,IF(O$1=PTable[2-Test],COUNTIF(O$1:O40,PTable[3-Method]), \"\"),0)),\"\")","v":""},{"$f":"IFERROR(INDEX(PTable[3-Method],MATCH(0,IF(P$1=PTable[2-Test],COUNTIF(P$1:P40,PTable[3-Method]), \"\"),0)),\"\")","v":""},{"$f":"IFERROR(INDEX(PTable[3-Method],MATCH(0,IF(Q$1=PTable[2-Test],COUNTIF(Q$1:Q40,PTable[3-Method]), \"\"),0)),\"\")","v":""},{"$f":"IFERROR(INDEX(PTable[3-Method],MATCH(0,IF(R$1=PTable[2-Test],COUNTIF(R$1:R40,PTable[3-Method]), \"\"),0)),\"\")","v":""},{"$f":"IFERROR(INDEX(PTable[3-Method],MATCH(0,IF(S$1=PTable[2-Test],COUNTIF(S$1:S40,PTable[3-Method]), \"\"),0)),\"\")","v":""},{"$f":"IFERROR(INDEX(PTable[3-Method],MATCH(0,IF(T$1=PTable[2-Test],COUNTIF(T$1:T40,PTable[3-Method]), \"\"),0)),\"\")","v":""},{"$f":"IFERROR(INDEX(PTable[3-Method],MATCH(0,IF(U$1=PTable[2-Test],COUNTIF(U$1:U40,PTable[3-Method]), \"\"),0)),\"\")","v":""},{"$f":"IFERROR(INDEX(PTable[3-Method],MATCH(0,IF(V$1=PTable[2-Test],COUNTIF(V$1:V40,PTable[3-Method]), \"\"),0)),\"\")","v":""},{"$f":"IFERROR(INDEX(PTable[3-Method],MATCH(0,IF(W$1=PTable[2-Test],COUNTIF(W$1:W40,PTable[3-Method]), \"\"),0)),\"\")","v":""},{"$f":"IFERROR(INDEX(PTable[3-Method],MATCH(0,IF(X$1=PTable[2-Test],COUNTIF(X$1:X40,PTable[3-Method]), \"\"),0)),\"\")","v":""},{"$f":"IFERROR(INDEX(PTable[3-Method],MATCH(0,IF(Y$1=PTable[2-Test],COUNTIF(Y$1:Y40,PTable[3-Method]), \"\"),0)),\"\")","v":""},{"$f":"IFERROR(INDEX(PTable[3-Method],MATCH(0,IF(Z$1=PTable[2-Test],COUNTIF(Z$1:Z40,PTable[3-Method]), \"\"),0)),\"\")","v":""},{"$f":"IFERROR(INDEX(PTable[3-Method],MATCH(0,IF(AA$1=PTable[2-Test],COUNTIF(AA$1:AA40,PTable[3-Method]), \"\"),0)),\"\")","v":""},{"$f":"IFERROR(INDEX(PTable[3-Method],MATCH(0,IF(AB$1=PTable[2-Test],COUNTIF(AB$1:AB40,PTable[3-Method]), \"\"),0)),\"\")","v":""},{"$f":"IFERROR(INDEX(PTable[3-Method],MATCH(0,IF(AC$1=PTable[2-Test],COUNTIF(AC$1:AC40,PTable[3-Method]), \"\"),0)),\"\")","v":""},{"$f":"IFERROR(INDEX(PTable[3-Method],MATCH(0,IF(AD$1=PTable[2-Test],COUNTIF(AD$1:AD40,PTable[3-Method]), \"\"),0)),\"\")","v":""},{"$f":"IFERROR(INDEX(PTable[3-Method],MATCH(0,IF(AE$1=PTable[2-Test],COUNTIF(AE$1:AE40,PTable[3-Method]), \"\"),0)),\"\")","v":""},{"$f":"IFERROR(INDEX(PTable[3-Method],MATCH(0,IF(AF$1=PTable[2-Test],COUNTIF(AF$1:AF40,PTable[3-Method]), \"\"),0)),\"\")","v":""},{"$f":"IFERROR(INDEX(PTable[3-Method],MATCH(0,IF(AG$1=PTable[2-Test],COUNTIF(AG$1:AG40,PTable[3-Method]), \"\"),0)),\"\")","v":""},{"$f":"IFERROR(INDEX(PTable[3-Method],MATCH(0,IF(AH$1=PTable[2-Test],COUNTIF(AH$1:AH40,PTable[3-Method]), \"\"),0)),\"\")","v":""},{"$f":"IFERROR(INDEX(PTable[3-Method],MATCH(0,IF(AI$1=PTable[2-Test],COUNTIF(AI$1:AI40,PTable[3-Method]), \"\"),0)),\"\")","v":""},{"$f":"IFERROR(INDEX(PTable[3-Method],MATCH(0,IF(AJ$1=PTable[2-Test],COUNTIF(AJ$1:AJ40,PTable[3-Method]), \"\"),0)),\"\")","v":""},{"$f":"IFERROR(INDEX(PTable[3-Method],MATCH(0,IF(AK$1=PTable[2-Test],COUNTIF(AK$1:AK40,PTable[3-Method]), \"\"),0)),\"\")","v":""},{"$f":"IFERROR(INDEX(PTable[3-Method],MATCH(0,IF(AL$1=PTable[2-Test],COUNTIF(AL$1:AL40,PTable[3-Method]), \"\"),0)),\"\")","v":""},{"$f":"IFERROR(INDEX(PTable[3-Method],MATCH(0,IF(AM$1=PTable[2-Test],COUNTIF(AM$1:AM40,PTable[3-Method]), \"\"),0)),\"\")","v":""},{"$f":"IFERROR(INDEX(PTable[3-Method],MATCH(0,IF(AN$1=PTable[2-Test],COUNTIF(AN$1:AN40,PTable[3-Method]), \"\"),0)),\"\")","v":""},{"$f":"IFERROR(INDEX(PTable[3-Method],MATCH(0,IF(AO$1=PTable[2-Test],COUNTIF(AO$1:AO40,PTable[3-Method]), \"\"),0)),\"\")","v":""},{"$f":"IFERROR(INDEX(PTable[3-Method],MATCH(0,IF(AP$1=PTable[2-Test],COUNTIF(AP$1:AP40,PTable[3-Method]), \"\"),0)),\"\")","v":""},{"$f":"IFERROR(INDEX(PTable[3-Method],MATCH(0,IF(AQ$1=PTable[2-Test],COUNTIF(AQ$1:AQ40,PTable[3-Method]), \"\"),0)),\"\")","v":""},{"$f":"IFERROR(INDEX(PTable[3-Method],MATCH(0,IF(AR$1=PTable[2-Test],COUNTIF(AR$1:AR40,PTable[3-Method]), \"\"),0)),\"\")","v":""},{"$f":"IFERROR(INDEX(PTable[3-Method],MATCH(0,IF(AS$1=PTable[2-Test],COUNTIF(AS$1:AS40,PTable[3-Method]), \"\"),0)),\"\")","v":""},{"$f":"IFERROR(INDEX(PTable[3-Method],MATCH(0,IF(AT$1=PTable[2-Test],COUNTIF(AT$1:AT40,PTable[3-Method]), \"\"),0)),\"\")","v":""},{"$f":"IFERROR(INDEX(PTable[3-Method],MATCH(0,IF(AU$1=PTable[2-Test],COUNTIF(AU$1:AU40,PTable[3-Method]), \"\"),0)),\"\")","v":""},{"$f":"IFERROR(INDEX(PTable[3-Method],MATCH(0,IF(AV$1=PTable[2-Test],COUNTIF(AV$1:AV40,PTable[3-Method]), \"\"),0)),\"\")","v":""},{"$f":"IFERROR(INDEX(PTable[3-Method],MATCH(0,IF(AW$1=PTable[2-Test],COUNTIF(AW$1:AW40,PTable[3-Method]), \"\"),0)),\"\")","v":""},{"$f":"IFERROR(INDEX(PTable[3-Method],MATCH(0,IF(AX$1=PTable[2-Test],COUNTIF(AX$1:AX40,PTable[3-Method]), \"\"),0)),\"\")","v":""},{"$f":"IFERROR(INDEX(PTable[3-Method],MATCH(0,IF(AY$1=PTable[2-Test],COUNTIF(AY$1:AY40,PTable[3-Method]), \"\"),0)),\"\")","v":""},{"$f":"IFERROR(INDEX(PTable[3-Method],MATCH(0,IF(AZ$1=PTable[2-Test],COUNTIF(AZ$1:AZ40,PTable[3-Method]), \"\"),0)),\"\")","v":""},{"$f":"IFERROR(INDEX(PTable[3-Method],MATCH(0,IF(BA$1=PTable[2-Test],COUNTIF(BA$1:BA40,PTable[3-Method]), \"\"),0)),\"\")","v":""},{"$f":"IFERROR(INDEX(PTable[3-Method],MATCH(0,IF(BB$1=PTable[2-Test],COUNTIF(BB$1:BB40,PTable[3-Method]), \"\"),0)),\"\")","v":""},{"$f":"IFERROR(INDEX(PTable[3-Method],MATCH(0,IF(BC$1=PTable[2-Test],COUNTIF(BC$1:BC40,PTable[3-Method]), \"\"),0)),\"\")","v":""},{"$f":"IFERROR(INDEX(PTable[3-Method],MATCH(0,IF(BD$1=PTable[2-Test],COUNTIF(BD$1:BD40,PTable[3-Method]), \"\"),0)),\"\")","v":""},{"$f":"IFERROR(INDEX(PTable[3-Method],MATCH(0,IF(BE$1=PTable[2-Test],COUNTIF(BE$1:BE40,PTable[3-Method]), \"\"),0)),\"\")","v":""},{"$f":"IFERROR(INDEX(PTable[3-Method],MATCH(0,IF(BF$1=PTable[2-Test],COUNTIF(BF$1:BF40,PTable[3-Method]), \"\"),0)),\"\")","v":""},{"$f":"IFERROR(INDEX(PTable[3-Method],MATCH(0,IF(BG$1=PTable[2-Test],COUNTIF(BG$1:BG40,PTable[3-Method]), \"\"),0)),\"\")","v":""},{"$f":"IFERROR(INDEX(PTable[3-Method],MATCH(0,IF(BH$1=PTable[2-Test],COUNTIF(BH$1:BH40,PTable[3-Method]), \"\"),0)),\"\")","v":""},{"$f":"IFERROR(INDEX(PTable[3-Method],MATCH(0,IF(BI$1=PTable[2-Test],COUNTIF(BI$1:BI40,PTable[3-Method]), \"\"),0)),\"\")","v":""},{"$f":"IFERROR(INDEX(PTable[3-Method],MATCH(0,IF(BJ$1=PTable[2-Test],COUNTIF(BJ$1:BJ40,PTable[3-Method]), \"\"),0)),\"\")","v":""},{"$f":"IFERROR(INDEX(PTable[3-Method],MATCH(0,IF(BK$1=PTable[2-Test],COUNTIF(BK$1:BK40,PTable[3-Method]), \"\"),0)),\"\")","v":""},{"$f":"IFERROR(INDEX(PTable[3-Method],MATCH(0,IF(BL$1=PTable[2-Test],COUNTIF(BL$1:BL40,PTable[3-Method]), \"\"),0)),\"\")","v":""},{"$f":"IFERROR(INDEX(PTable[3-Method],MATCH(0,IF(BM$1=PTable[2-Test],COUNTIF(BM$1:BM40,PTable[3-Method]), \"\"),0)),\"\")","v":""},{"$f":"IFERROR(INDEX(PTable[3-Method],MATCH(0,IF(BN$1=PTable[2-Test],COUNTIF(BN$1:BN40,PTable[3-Method]), \"\"),0)),\"\")","v":""},{"$f":"IFERROR(INDEX(PTable[3-Method],MATCH(0,IF(BO$1=PTable[2-Test],COUNTIF(BO$1:BO40,PTable[3-Method]), \"\"),0)),\"\")","v":""},{"$f":"IFERROR(INDEX(PTable[3-Method],MATCH(0,IF(BP$1=PTable[2-Test],COUNTIF(BP$1:BP40,PTable[3-Method]), \"\"),0)),\"\")","v":"USP10g"},{"$f":"IFERROR(INDEX(PTable[3-Method],MATCH(0,IF(BQ$1=PTable[2-Test],COUNTIF(BQ$1:BQ40,PTable[3-Method]), \"\"),0)),\"\")","v":""},{"$f":"IFERROR(INDEX(PTable[3-Method],MATCH(0,IF(BR$1=PTable[2-Test],COUNTIF(BR$1:BR40,PTable[3-Method]), \"\"),0)),\"\")","v":""},{"$f":"IFERROR(INDEX(PTable[3-Method],MATCH(0,IF(BS$1=PTable[2-Test],COUNTIF(BS$1:BS40,PTable[3-Method]), \"\"),0)),\"\")","v":""},{"$f":"IFERROR(INDEX(PTable[3-Method],MATCH(0,IF(BT$1=PTable[2-Test],COUNTIF(BT$1:BT40,PTable[3-Method]), \"\"),0)),\"\")","v":""},{"$f":"IFERROR(INDEX(PTable[3-Method],MATCH(0,IF(BU$1=PTable[2-Test],COUNTIF(BU$1:BU40,PTable[3-Method]), \"\"),0)),\"\")","v":""},{"$f":"IFERROR(INDEX(PTable[3-Method],MATCH(0,IF(BV$1=PTable[2-Test],COUNTIF(BV$1:BV40,PTable[3-Method]), \"\"),0)),\"\")","v":""},{"$f":"IFERROR(INDEX(PTable[3-Method],MATCH(0,IF(BW$1=PTable[2-Test],COUNTIF(BW$1:BW40,PTable[3-Method]), \"\"),0)),\"\")","v":""},{"$f":"IFERROR(INDEX(PTable[3-Method],MATCH(0,IF(BX$1=PTable[2-Test],COUNTIF(BX$1:BX40,PTable[3-Method]), \"\"),0)),\"\")","v":""},{"$f":"IFERROR(INDEX(PTable[3-Method],MATCH(0,IF(BY$1=PTable[2-Test],COUNTIF(BY$1:BY40,PTable[3-Method]), \"\"),0)),\"\")","v":""},{"$f":"IFERROR(INDEX(PTable[3-Method],MATCH(0,IF(BZ$1=PTable[2-Test],COUNTIF(BZ$1:BZ40,PTable[3-Method]), \"\"),0)),\"\")","v":""},{"$f":"IFERROR(INDEX(PTable[3-Method],MATCH(0,IF(CA$1=PTable[2-Test],COUNTIF(CA$1:CA40,PTable[3-Method]), \"\"),0)),\"\")","v":""},{"$f":"IFERROR(INDEX(PTable[3-Method],MATCH(0,IF(CB$1=PTable[2-Test],COUNTIF(CB$1:CB40,PTable[3-Method]), \"\"),0)),\"\")","v":""},{"$f":"IFERROR(INDEX(PTable[3-Method],MATCH(0,IF(CC$1=PTable[2-Test],COUNTIF(CC$1:CC40,PTable[3-Method]), \"\"),0)),\"\")","v":""},{"$f":"IFERROR(INDEX(PTable[3-Method],MATCH(0,IF(CD$1=PTable[2-Test],COUNTIF(CD$1:CD40,PTable[3-Method]), \"\"),0)),\"\")","v":""},{"$f":"IFERROR(INDEX(PTable[3-Method],MATCH(0,IF(CE$1=PTable[2-Test],COUNTIF(CE$1:CE40,PTable[3-Method]), \"\"),0)),\"\")","v":""},{"$f":"IFERROR(INDEX(PTable[3-Method],MATCH(0,IF(CF$1=PTable[2-Test],COUNTIF(CF$1:CF40,PTable[3-Method]), \"\"),0)),\"\")","v":""},{"$f":"IFERROR(INDEX(PTable[3-Method],MATCH(0,IF(CG$1=PTable[2-Test],COUNTIF(CG$1:CG40,PTable[3-Method]), \"\"),0)),\"\")","v":""},{"$f":"IFERROR(INDEX(PTable[3-Method],MATCH(0,IF(CH$1=PTable[2-Test],COUNTIF(CH$1:CH40,PTable[3-Method]), \"\"),0)),\"\")","v":""},{"$f":"IFERROR(INDEX(PTable[3-Method],MATCH(0,IF(CI$1=PTable[2-Test],COUNTIF(CI$1:CI40,PTable[3-Method]), \"\"),0)),\"\")","v":""},{"$f":"IFERROR(INDEX(PTable[3-Method],MATCH(0,IF(CJ$1=PTable[2-Test],COUNTIF(CJ$1:CJ40,PTable[3-Method]), \"\"),0)),\"\")","v":""},{"$f":"IFERROR(INDEX(PTable[3-Method],MATCH(0,IF(CK$1=PTable[2-Test],COUNTIF(CK$1:CK40,PTable[3-Method]), \"\"),0)),\"\")","v":""},{"$f":"IFERROR(INDEX(PTable[3-Method],MATCH(0,IF(CL$1=PTable[2-Test],COUNTIF(CL$1:CL40,PTable[3-Method]), \"\"),0)),\"\")","v":""},{"$f":"IFERROR(INDEX(PTable[3-Method],MATCH(0,IF(CM$1=PTable[2-Test],COUNTIF(CM$1:CM40,PTable[3-Method]), \"\"),0)),\"\")","v":""},{"$f":"IFERROR(INDEX(PTable[3-Method],MATCH(0,IF(CN$1=PTable[2-Test],COUNTIF(CN$1:CN40,PTable[3-Method]), \"\"),0)),\"\")","v":""},{"$f":"IFERROR(INDEX(PTable[3-Method],MATCH(0,IF(CO$1=PTable[2-Test],COUNTIF(CO$1:CO40,PTable[3-Method]), \"\"),0)),\"\")","v":""},{"$f":"IFERROR(INDEX(PTable[3-Method],MATCH(0,IF(CP$1=PTable[2-Test],COUNTIF(CP$1:CP40,PTable[3-Method]), \"\"),0)),\"\")","v":""},{"$f":"IFERROR(INDEX(PTable[3-Method],MATCH(0,IF(CQ$1=PTable[2-Test],COUNTIF(CQ$1:CQ40,PTable[3-Method]), \"\"),0)),\"\")","v":""},{"$f":"IFERROR(INDEX(PTable[3-Method],MATCH(0,IF(CR$1=PTable[2-Test],COUNTIF(CR$1:CR40,PTable[3-Method]), \"\"),0)),\"\")","v":""},{"$f":"IFERROR(INDEX(PTable[3-Method],MATCH(0,IF(CS$1=PTable[2-Test],COUNTIF(CS$1:CS40,PTable[3-Method]), \"\"),0)),\"\")","v":""},{"$f":"IFERROR(INDEX(PTable[3-Method],MATCH(0,IF(CT$1=PTable[2-Test],COUNTIF(CT$1:CT40,PTable[3-Method]), \"\"),0)),\"\")","v":""},{"$f":"IFERROR(INDEX(PTable[3-Method],MATCH(0,IF(CU$1=PTable[2-Test],COUNTIF(CU$1:CU40,PTable[3-Method]), \"\"),0)),\"\")","v":""},{"$f":"IFERROR(INDEX(PTable[3-Method],MATCH(0,IF(CV$1=PTable[2-Test],COUNTIF(CV$1:CV40,PTable[3-Method]), \"\"),0)),\"\")","v":""},{"$f":"IFERROR(INDEX(PTable[3-Method],MATCH(0,IF(CW$1=PTable[2-Test],COUNTIF(CW$1:CW40,PTable[3-Method]), \"\"),0)),\"\")","v":""},{"$f":"IFERROR(INDEX(PTable[3-Method],MATCH(0,IF(CX$1=PTable[2-Test],COUNTIF(CX$1:CX40,PTable[3-Method]), \"\"),0)),\"\")","v":""},{"$f":"IFERROR(INDEX(PTable[3-Method],MATCH(0,IF(CY$1=PTable[2-Test],COUNTIF(CY$1:CY40,PTable[3-Method]), \"\"),0)),\"\")","v":""},{"$f":"IFERROR(INDEX(PTable[3-Method],MATCH(0,IF(CZ$1=PTable[2-Test],COUNTIF(CZ$1:CZ40,PTable[3-Method]), \"\"),0)),\"\")","v":""},{"$f":"IFERROR(INDEX(PTable[3-Method],MATCH(0,IF(DA$1=PTable[2-Test],COUNTIF(DA$1:DA40,PTable[3-Method]), \"\"),0)),\"\")","v":""},{"$f":"IFERROR(INDEX(PTable[3-Method],MATCH(0,IF(DB$1=PTable[2-Test],COUNTIF(DB$1:DB40,PTable[3-Method]), \"\"),0)),\"\")","v":""},{"$f":"IFERROR(INDEX(PTable[3-Method],MATCH(0,IF(DC$1=PTable[2-Test],COUNTIF(DC$1:DC40,PTable[3-Method]), \"\"),0)),\"\")","v":""},{"$f":"IFERROR(INDEX(PTable[3-Method],MATCH(0,IF(DD$1=PTable[2-Test],COUNTIF(DD$1:DD40,PTable[3-Method]), \"\"),0)),\"\")","v":""},{"$f":"IFERROR(INDEX(PTable[3-Method],MATCH(0,IF(DE$1=PTable[2-Test],COUNTIF(DE$1:DE40,PTable[3-Method]), \"\"),0)),\"\")","v":""},{"$f":"IFERROR(INDEX(PTable[3-Method],MATCH(0,IF(DF$1=PTable[2-Test],COUNTIF(DF$1:DF40,PTable[3-Method]), \"\"),0)),\"\")","v":""},{"$f":"IFERROR(INDEX(PTable[3-Method],MATCH(0,IF(DG$1=PTable[2-Test],COUNTIF(DG$1:DG40,PTable[3-Method]), \"\"),0)),\"\")","v":""},{"$f":"IFERROR(INDEX(PTable[3-Method],MATCH(0,IF(DH$1=PTable[2-Test],COUNTIF(DH$1:DH40,PTable[3-Method]), \"\"),0)),\"\")","v":""},{"$f":"IFERROR(INDEX(PTable[3-Method],MATCH(0,IF(DI$1=PTable[2-Test],COUNTIF(DI$1:DI40,PTable[3-Method]), \"\"),0)),\"\")","v":""},{"$f":"IFERROR(INDEX(PTable[3-Method],MATCH(0,IF(DJ$1=PTable[2-Test],COUNTIF(DJ$1:DJ40,PTable[3-Method]), \"\"),0)),\"\")","v":""}]
[null,{"$f":"IFERROR(INDEX(PTable[2-Test],MATCH(0,IF(B$1=PTable[1-Type],COUNTIF(B$1:B41,PTable[2-Test]), \"\"),0)),\"\")","v":""},{"$f":"IFERROR(INDEX(PTable[2-Test],MATCH(0,IF(C$1=PTable[1-Type],COUNTIF(C$1:C41,PTable[2-Test]), \"\"),0)),\"\")","v":""},{"$f":"IFERROR(INDEX(PTable[2-Test],MATCH(0,IF(D$1=PTable[1-Type],COUNTIF(D$1:D41,PTable[2-Test]), \"\"),0)),\"\")","v":""},{"$f":"IFERROR(INDEX(PTable[2-Test],MATCH(0,IF(E$1=PTable[1-Type],COUNTIF(E$1:E41,PTable[2-Test]), \"\"),0)),\"\")","v":""},{"$f":"IFERROR(INDEX(PTable[2-Test],MATCH(0,IF(F$1=PTable[1-Type],COUNTIF(F$1:F41,PTable[2-Test]), \"\"),0)),\"\")","v":""},{"$f":"IFERROR(INDEX(PTable[3-Method],MATCH(0,IF(G$1=PTable[2-Test],COUNTIF(G$1:G41,PTable[3-Method]), \"\"),0)),\"\")","v":""},{"$f":"IFERROR(INDEX(PTable[3-Method],MATCH(0,IF(H$1=PTable[2-Test],COUNTIF(H$1:H41,PTable[3-Method]), \"\"),0)),\"\")","v":""},{"$f":"IFERROR(INDEX(PTable[3-Method],MATCH(0,IF(I$1=PTable[2-Test],COUNTIF(I$1:I41,PTable[3-Method]), \"\"),0)),\"\")","v":""},{"$f":"IFERROR(INDEX(PTable[3-Method],MATCH(0,IF(J$1=PTable[2-Test],COUNTIF(J$1:J41,PTable[3-Method]), \"\"),0)),\"\")","v":""},{"$f":"IFERROR(INDEX(PTable[3-Method],MATCH(0,IF(K$1=PTable[2-Test],COUNTIF(K$1:K41,PTable[3-Method]), \"\"),0)),\"\")","v":""},{"$f":"IFERROR(INDEX(PTable[3-Method],MATCH(0,IF(L$1=PTable[2-Test],COUNTIF(L$1:L41,PTable[3-Method]), \"\"),0)),\"\")","v":""},{"$f":"IFERROR(INDEX(PTable[3-Method],MATCH(0,IF(M$1=PTable[2-Test],COUNTIF(M$1:M41,PTable[3-Method]), \"\"),0)),\"\")","v":""},{"$f":"IFERROR(INDEX(PTable[3-Method],MATCH(0,IF(N$1=PTable[2-Test],COUNTIF(N$1:N41,PTable[3-Method]), \"\"),0)),\"\")","v":""},{"$f":"IFERROR(INDEX(PTable[3-Method],MATCH(0,IF(O$1=PTable[2-Test],COUNTIF(O$1:O41,PTable[3-Method]), \"\"),0)),\"\")","v":""},{"$f":"IFERROR(INDEX(PTable[3-Method],MATCH(0,IF(P$1=PTable[2-Test],COUNTIF(P$1:P41,PTable[3-Method]), \"\"),0)),\"\")","v":""},{"$f":"IFERROR(INDEX(PTable[3-Method],MATCH(0,IF(Q$1=PTable[2-Test],COUNTIF(Q$1:Q41,PTable[3-Method]), \"\"),0)),\"\")","v":""},{"$f":"IFERROR(INDEX(PTable[3-Method],MATCH(0,IF(R$1=PTable[2-Test],COUNTIF(R$1:R41,PTable[3-Method]), \"\"),0)),\"\")","v":""},{"$f":"IFERROR(INDEX(PTable[3-Method],MATCH(0,IF(S$1=PTable[2-Test],COUNTIF(S$1:S41,PTable[3-Method]), \"\"),0)),\"\")","v":""},{"$f":"IFERROR(INDEX(PTable[3-Method],MATCH(0,IF(T$1=PTable[2-Test],COUNTIF(T$1:T41,PTable[3-Method]), \"\"),0)),\"\")","v":""},{"$f":"IFERROR(INDEX(PTable[3-Method],MATCH(0,IF(U$1=PTable[2-Test],COUNTIF(U$1:U41,PTable[3-Method]), \"\"),0)),\"\")","v":""},{"$f":"IFERROR(INDEX(PTable[3-Method],MATCH(0,IF(V$1=PTable[2-Test],COUNTIF(V$1:V41,PTable[3-Method]), \"\"),0)),\"\")","v":""},{"$f":"IFERROR(INDEX(PTable[3-Method],MATCH(0,IF(W$1=PTable[2-Test],COUNTIF(W$1:W41,PTable[3-Method]), \"\"),0)),\"\")","v":""},{"$f":"IFERROR(INDEX(PTable[3-Method],MATCH(0,IF(X$1=PTable[2-Test],COUNTIF(X$1:X41,PTable[3-Method]), \"\"),0)),\"\")","v":""},{"$f":"IFERROR(INDEX(PTable[3-Method],MATCH(0,IF(Y$1=PTable[2-Test],COUNTIF(Y$1:Y41,PTable[3-Method]), \"\"),0)),\"\")","v":""},{"$f":"IFERROR(INDEX(PTable[3-Method],MATCH(0,IF(Z$1=PTable[2-Test],COUNTIF(Z$1:Z41,PTable[3-Method]), \"\"),0)),\"\")","v":""},{"$f":"IFERROR(INDEX(PTable[3-Method],MATCH(0,IF(AA$1=PTable[2-Test],COUNTIF(AA$1:AA41,PTable[3-Method]), \"\"),0)),\"\")","v":""},{"$f":"IFERROR(INDEX(PTable[3-Method],MATCH(0,IF(AB$1=PTable[2-Test],COUNTIF(AB$1:AB41,PTable[3-Method]), \"\"),0)),\"\")","v":""},{"$f":"IFERROR(INDEX(PTable[3-Method],MATCH(0,IF(AC$1=PTable[2-Test],COUNTIF(AC$1:AC41,PTable[3-Method]), \"\"),0)),\"\")","v":""},{"$f":"IFERROR(INDEX(PTable[3-Method],MATCH(0,IF(AD$1=PTable[2-Test],COUNTIF(AD$1:AD41,PTable[3-Method]), \"\"),0)),\"\")","v":""},{"$f":"IFERROR(INDEX(PTable[3-Method],MATCH(0,IF(AE$1=PTable[2-Test],COUNTIF(AE$1:AE41,PTable[3-Method]), \"\"),0)),\"\")","v":""},{"$f":"IFERROR(INDEX(PTable[3-Method],MATCH(0,IF(AF$1=PTable[2-Test],COUNTIF(AF$1:AF41,PTable[3-Method]), \"\"),0)),\"\")","v":""},{"$f":"IFERROR(INDEX(PTable[3-Method],MATCH(0,IF(AG$1=PTable[2-Test],COUNTIF(AG$1:AG41,PTable[3-Method]), \"\"),0)),\"\")","v":""},{"$f":"IFERROR(INDEX(PTable[3-Method],MATCH(0,IF(AH$1=PTable[2-Test],COUNTIF(AH$1:AH41,PTable[3-Method]), \"\"),0)),\"\")","v":""},{"$f":"IFERROR(INDEX(PTable[3-Method],MATCH(0,IF(AI$1=PTable[2-Test],COUNTIF(AI$1:AI41,PTable[3-Method]), \"\"),0)),\"\")","v":""},{"$f":"IFERROR(INDEX(PTable[3-Method],MATCH(0,IF(AJ$1=PTable[2-Test],COUNTIF(AJ$1:AJ41,PTable[3-Method]), \"\"),0)),\"\")","v":""},{"$f":"IFERROR(INDEX(PTable[3-Method],MATCH(0,IF(AK$1=PTable[2-Test],COUNTIF(AK$1:AK41,PTable[3-Method]), \"\"),0)),\"\")","v":""},{"$f":"IFERROR(INDEX(PTable[3-Method],MATCH(0,IF(AL$1=PTable[2-Test],COUNTIF(AL$1:AL41,PTable[3-Method]), \"\"),0)),\"\")","v":""},{"$f":"IFERROR(INDEX(PTable[3-Method],MATCH(0,IF(AM$1=PTable[2-Test],COUNTIF(AM$1:AM41,PTable[3-Method]), \"\"),0)),\"\")","v":""},{"$f":"IFERROR(INDEX(PTable[3-Method],MATCH(0,IF(AN$1=PTable[2-Test],COUNTIF(AN$1:AN41,PTable[3-Method]), \"\"),0)),\"\")","v":""},{"$f":"IFERROR(INDEX(PTable[3-Method],MATCH(0,IF(AO$1=PTable[2-Test],COUNTIF(AO$1:AO41,PTable[3-Method]), \"\"),0)),\"\")","v":""},{"$f":"IFERROR(INDEX(PTable[3-Method],MATCH(0,IF(AP$1=PTable[2-Test],COUNTIF(AP$1:AP41,PTable[3-Method]), \"\"),0)),\"\")","v":""},{"$f":"IFERROR(INDEX(PTable[3-Method],MATCH(0,IF(AQ$1=PTable[2-Test],COUNTIF(AQ$1:AQ41,PTable[3-Method]), \"\"),0)),\"\")","v":""},{"$f":"IFERROR(INDEX(PTable[3-Method],MATCH(0,IF(AR$1=PTable[2-Test],COUNTIF(AR$1:AR41,PTable[3-Method]), \"\"),0)),\"\")","v":""},{"$f":"IFERROR(INDEX(PTable[3-Method],MATCH(0,IF(AS$1=PTable[2-Test],COUNTIF(AS$1:AS41,PTable[3-Method]), \"\"),0)),\"\")","v":""},{"$f":"IFERROR(INDEX(PTable[3-Method],MATCH(0,IF(AT$1=PTable[2-Test],COUNTIF(AT$1:AT41,PTable[3-Method]), \"\"),0)),\"\")","v":""},{"$f":"IFERROR(INDEX(PTable[3-Method],MATCH(0,IF(AU$1=PTable[2-Test],COUNTIF(AU$1:AU41,PTable[3-Method]), \"\"),0)),\"\")","v":""},{"$f":"IFERROR(INDEX(PTable[3-Method],MATCH(0,IF(AV$1=PTable[2-Test],COUNTIF(AV$1:AV41,PTable[3-Method]), \"\"),0)),\"\")","v":""},{"$f":"IFERROR(INDEX(PTable[3-Method],MATCH(0,IF(AW$1=PTable[2-Test],COUNTIF(AW$1:AW41,PTable[3-Method]), \"\"),0)),\"\")","v":""},{"$f":"IFERROR(INDEX(PTable[3-Method],MATCH(0,IF(AX$1=PTable[2-Test],COUNTIF(AX$1:AX41,PTable[3-Method]), \"\"),0)),\"\")","v":""},{"$f":"IFERROR(INDEX(PTable[3-Method],MATCH(0,IF(AY$1=PTable[2-Test],COUNTIF(AY$1:AY41,PTable[3-Method]), \"\"),0)),\"\")","v":""},{"$f":"IFERROR(INDEX(PTable[3-Method],MATCH(0,IF(AZ$1=PTable[2-Test],COUNTIF(AZ$1:AZ41,PTable[3-Method]), \"\"),0)),\"\")","v":""},{"$f":"IFERROR(INDEX(PTable[3-Method],MATCH(0,IF(BA$1=PTable[2-Test],COUNTIF(BA$1:BA41,PTable[3-Method]), \"\"),0)),\"\")","v":""},{"$f":"IFERROR(INDEX(PTable[3-Method],MATCH(0,IF(BB$1=PTable[2-Test],COUNTIF(BB$1:BB41,PTable[3-Method]), \"\"),0)),\"\")","v":""},{"$f":"IFERROR(INDEX(PTable[3-Method],MATCH(0,IF(BC$1=PTable[2-Test],COUNTIF(BC$1:BC41,PTable[3-Method]), \"\"),0)),\"\")","v":""},{"$f":"IFERROR(INDEX(PTable[3-Method],MATCH(0,IF(BD$1=PTable[2-Test],COUNTIF(BD$1:BD41,PTable[3-Method]), \"\"),0)),\"\")","v":""},{"$f":"IFERROR(INDEX(PTable[3-Method],MATCH(0,IF(BE$1=PTable[2-Test],COUNTIF(BE$1:BE41,PTable[3-Method]), \"\"),0)),\"\")","v":""},{"$f":"IFERROR(INDEX(PTable[3-Method],MATCH(0,IF(BF$1=PTable[2-Test],COUNTIF(BF$1:BF41,PTable[3-Method]), \"\"),0)),\"\")","v":""},{"$f":"IFERROR(INDEX(PTable[3-Method],MATCH(0,IF(BG$1=PTable[2-Test],COUNTIF(BG$1:BG41,PTable[3-Method]), \"\"),0)),\"\")","v":""},{"$f":"IFERROR(INDEX(PTable[3-Method],MATCH(0,IF(BH$1=PTable[2-Test],COUNTIF(BH$1:BH41,PTable[3-Method]), \"\"),0)),\"\")","v":""},{"$f":"IFERROR(INDEX(PTable[3-Method],MATCH(0,IF(BI$1=PTable[2-Test],COUNTIF(BI$1:BI41,PTable[3-Method]), \"\"),0)),\"\")","v":""},{"$f":"IFERROR(INDEX(PTable[3-Method],MATCH(0,IF(BJ$1=PTable[2-Test],COUNTIF(BJ$1:BJ41,PTable[3-Method]), \"\"),0)),\"\")","v":""},{"$f":"IFERROR(INDEX(PTable[3-Method],MATCH(0,IF(BK$1=PTable[2-Test],COUNTIF(BK$1:BK41,PTable[3-Method]), \"\"),0)),\"\")","v":""},{"$f":"IFERROR(INDEX(PTable[3-Method],MATCH(0,IF(BL$1=PTable[2-Test],COUNTIF(BL$1:BL41,PTable[3-Method]), \"\"),0)),\"\")","v":""},{"$f":"IFERROR(INDEX(PTable[3-Method],MATCH(0,IF(BM$1=PTable[2-Test],COUNTIF(BM$1:BM41,PTable[3-Method]), \"\"),0)),\"\")","v":""},{"$f":"IFERROR(INDEX(PTable[3-Method],MATCH(0,IF(BN$1=PTable[2-Test],COUNTIF(BN$1:BN41,PTable[3-Method]), \"\"),0)),\"\")","v":""},{"$f":"IFERROR(INDEX(PTable[3-Method],MATCH(0,IF(BO$1=PTable[2-Test],COUNTIF(BO$1:BO41,PTable[3-Method]), \"\"),0)),\"\")","v":""},{"$f":"IFERROR(INDEX(PTable[3-Method],MATCH(0,IF(BP$1=PTable[2-Test],COUNTIF(BP$1:BP41,PTable[3-Method]), \"\"),0)),\"\")","v":"USP11g"},{"$f":"IFERROR(INDEX(PTable[3-Method],MATCH(0,IF(BQ$1=PTable[2-Test],COUNTIF(BQ$1:BQ41,PTable[3-Method]), \"\"),0)),\"\")","v":""},{"$f":"IFERROR(INDEX(PTable[3-Method],MATCH(0,IF(BR$1=PTable[2-Test],COUNTIF(BR$1:BR41,PTable[3-Method]), \"\"),0)),\"\")","v":""},{"$f":"IFERROR(INDEX(PTable[3-Method],MATCH(0,IF(BS$1=PTable[2-Test],COUNTIF(BS$1:BS41,PTable[3-Method]), \"\"),0)),\"\")","v":""},{"$f":"IFERROR(INDEX(PTable[3-Method],MATCH(0,IF(BT$1=PTable[2-Test],COUNTIF(BT$1:BT41,PTable[3-Method]), \"\"),0)),\"\")","v":""},{"$f":"IFERROR(INDEX(PTable[3-Method],MATCH(0,IF(BU$1=PTable[2-Test],COUNTIF(BU$1:BU41,PTable[3-Method]), \"\"),0)),\"\")","v":""},{"$f":"IFERROR(INDEX(PTable[3-Method],MATCH(0,IF(BV$1=PTable[2-Test],COUNTIF(BV$1:BV41,PTable[3-Method]), \"\"),0)),\"\")","v":""},{"$f":"IFERROR(INDEX(PTable[3-Method],MATCH(0,IF(BW$1=PTable[2-Test],COUNTIF(BW$1:BW41,PTable[3-Method]), \"\"),0)),\"\")","v":""},{"$f":"IFERROR(INDEX(PTable[3-Method],MATCH(0,IF(BX$1=PTable[2-Test],COUNTIF(BX$1:BX41,PTable[3-Method]), \"\"),0)),\"\")","v":""},{"$f":"IFERROR(INDEX(PTable[3-Method],MATCH(0,IF(BY$1=PTable[2-Test],COUNTIF(BY$1:BY41,PTable[3-Method]), \"\"),0)),\"\")","v":""},{"$f":"IFERROR(INDEX(PTable[3-Method],MATCH(0,IF(BZ$1=PTable[2-Test],COUNTIF(BZ$1:BZ41,PTable[3-Method]), \"\"),0)),\"\")","v":""},{"$f":"IFERROR(INDEX(PTable[3-Method],MATCH(0,IF(CA$1=PTable[2-Test],COUNTIF(CA$1:CA41,PTable[3-Method]), \"\"),0)),\"\")","v":""},{"$f":"IFERROR(INDEX(PTable[3-Method],MATCH(0,IF(CB$1=PTable[2-Test],COUNTIF(CB$1:CB41,PTable[3-Method]), \"\"),0)),\"\")","v":""},{"$f":"IFERROR(INDEX(PTable[3-Method],MATCH(0,IF(CC$1=PTable[2-Test],COUNTIF(CC$1:CC41,PTable[3-Method]), \"\"),0)),\"\")","v":""},{"$f":"IFERROR(INDEX(PTable[3-Method],MATCH(0,IF(CD$1=PTable[2-Test],COUNTIF(CD$1:CD41,PTable[3-Method]), \"\"),0)),\"\")","v":""},{"$f":"IFERROR(INDEX(PTable[3-Method],MATCH(0,IF(CE$1=PTable[2-Test],COUNTIF(CE$1:CE41,PTable[3-Method]), \"\"),0)),\"\")","v":""},{"$f":"IFERROR(INDEX(PTable[3-Method],MATCH(0,IF(CF$1=PTable[2-Test],COUNTIF(CF$1:CF41,PTable[3-Method]), \"\"),0)),\"\")","v":""},{"$f":"IFERROR(INDEX(PTable[3-Method],MATCH(0,IF(CG$1=PTable[2-Test],COUNTIF(CG$1:CG41,PTable[3-Method]), \"\"),0)),\"\")","v":""},{"$f":"IFERROR(INDEX(PTable[3-Method],MATCH(0,IF(CH$1=PTable[2-Test],COUNTIF(CH$1:CH41,PTable[3-Method]), \"\"),0)),\"\")","v":""},{"$f":"IFERROR(INDEX(PTable[3-Method],MATCH(0,IF(CI$1=PTable[2-Test],COUNTIF(CI$1:CI41,PTable[3-Method]), \"\"),0)),\"\")","v":""},{"$f":"IFERROR(INDEX(PTable[3-Method],MATCH(0,IF(CJ$1=PTable[2-Test],COUNTIF(CJ$1:CJ41,PTable[3-Method]), \"\"),0)),\"\")","v":""},{"$f":"IFERROR(INDEX(PTable[3-Method],MATCH(0,IF(CK$1=PTable[2-Test],COUNTIF(CK$1:CK41,PTable[3-Method]), \"\"),0)),\"\")","v":""},{"$f":"IFERROR(INDEX(PTable[3-Method],MATCH(0,IF(CL$1=PTable[2-Test],COUNTIF(CL$1:CL41,PTable[3-Method]), \"\"),0)),\"\")","v":""},{"$f":"IFERROR(INDEX(PTable[3-Method],MATCH(0,IF(CM$1=PTable[2-Test],COUNTIF(CM$1:CM41,PTable[3-Method]), \"\"),0)),\"\")","v":""},{"$f":"IFERROR(INDEX(PTable[3-Method],MATCH(0,IF(CN$1=PTable[2-Test],COUNTIF(CN$1:CN41,PTable[3-Method]), \"\"),0)),\"\")","v":""},{"$f":"IFERROR(INDEX(PTable[3-Method],MATCH(0,IF(CO$1=PTable[2-Test],COUNTIF(CO$1:CO41,PTable[3-Method]), \"\"),0)),\"\")","v":""},{"$f":"IFERROR(INDEX(PTable[3-Method],MATCH(0,IF(CP$1=PTable[2-Test],COUNTIF(CP$1:CP41,PTable[3-Method]), \"\"),0)),\"\")","v":""},{"$f":"IFERROR(INDEX(PTable[3-Method],MATCH(0,IF(CQ$1=PTable[2-Test],COUNTIF(CQ$1:CQ41,PTable[3-Method]), \"\"),0)),\"\")","v":""},{"$f":"IFERROR(INDEX(PTable[3-Method],MATCH(0,IF(CR$1=PTable[2-Test],COUNTIF(CR$1:CR41,PTable[3-Method]), \"\"),0)),\"\")","v":""},{"$f":"IFERROR(INDEX(PTable[3-Method],MATCH(0,IF(CS$1=PTable[2-Test],COUNTIF(CS$1:CS41,PTable[3-Method]), \"\"),0)),\"\")","v":""},{"$f":"IFERROR(INDEX(PTable[3-Method],MATCH(0,IF(CT$1=PTable[2-Test],COUNTIF(CT$1:CT41,PTable[3-Method]), \"\"),0)),\"\")","v":""},{"$f":"IFERROR(INDEX(PTable[3-Method],MATCH(0,IF(CU$1=PTable[2-Test],COUNTIF(CU$1:CU41,PTable[3-Method]), \"\"),0)),\"\")","v":""},{"$f":"IFERROR(INDEX(PTable[3-Method],MATCH(0,IF(CV$1=PTable[2-Test],COUNTIF(CV$1:CV41,PTable[3-Method]), \"\"),0)),\"\")","v":""},{"$f":"IFERROR(INDEX(PTable[3-Method],MATCH(0,IF(CW$1=PTable[2-Test],COUNTIF(CW$1:CW41,PTable[3-Method]), \"\"),0)),\"\")","v":""},{"$f":"IFERROR(INDEX(PTable[3-Method],MATCH(0,IF(CX$1=PTable[2-Test],COUNTIF(CX$1:CX41,PTable[3-Method]), \"\"),0)),\"\")","v":""},{"$f":"IFERROR(INDEX(PTable[3-Method],MATCH(0,IF(CY$1=PTable[2-Test],COUNTIF(CY$1:CY41,PTable[3-Method]), \"\"),0)),\"\")","v":""},{"$f":"IFERROR(INDEX(PTable[3-Method],MATCH(0,IF(CZ$1=PTable[2-Test],COUNTIF(CZ$1:CZ41,PTable[3-Method]), \"\"),0)),\"\")","v":""},{"$f":"IFERROR(INDEX(PTable[3-Method],MATCH(0,IF(DA$1=PTable[2-Test],COUNTIF(DA$1:DA41,PTable[3-Method]), \"\"),0)),\"\")","v":""},{"$f":"IFERROR(INDEX(PTable[3-Method],MATCH(0,IF(DB$1=PTable[2-Test],COUNTIF(DB$1:DB41,PTable[3-Method]), \"\"),0)),\"\")","v":""},{"$f":"IFERROR(INDEX(PTable[3-Method],MATCH(0,IF(DC$1=PTable[2-Test],COUNTIF(DC$1:DC41,PTable[3-Method]), \"\"),0)),\"\")","v":""},{"$f":"IFERROR(INDEX(PTable[3-Method],MATCH(0,IF(DD$1=PTable[2-Test],COUNTIF(DD$1:DD41,PTable[3-Method]), \"\"),0)),\"\")","v":""},{"$f":"IFERROR(INDEX(PTable[3-Method],MATCH(0,IF(DE$1=PTable[2-Test],COUNTIF(DE$1:DE41,PTable[3-Method]), \"\"),0)),\"\")","v":""},{"$f":"IFERROR(INDEX(PTable[3-Method],MATCH(0,IF(DF$1=PTable[2-Test],COUNTIF(DF$1:DF41,PTable[3-Method]), \"\"),0)),\"\")","v":""},{"$f":"IFERROR(INDEX(PTable[3-Method],MATCH(0,IF(DG$1=PTable[2-Test],COUNTIF(DG$1:DG41,PTable[3-Method]), \"\"),0)),\"\")","v":""},{"$f":"IFERROR(INDEX(PTable[3-Method],MATCH(0,IF(DH$1=PTable[2-Test],COUNTIF(DH$1:DH41,PTable[3-Method]), \"\"),0)),\"\")","v":""},{"$f":"IFERROR(INDEX(PTable[3-Method],MATCH(0,IF(DI$1=PTable[2-Test],COUNTIF(DI$1:DI41,PTable[3-Method]), \"\"),0)),\"\")","v":""},{"$f":"IFERROR(INDEX(PTable[3-Method],MATCH(0,IF(DJ$1=PTable[2-Test],COUNTIF(DJ$1:DJ41,PTable[3-Method]), \"\"),0)),\"\")","v":""}]
[null,null,null,null,null,null,{"$f":"IFERROR(INDEX(PTable[3-Method],MATCH(0,IF(G$1=PTable[2-Test],COUNTIF(G$1:G42,PTable[3-Method]), \"\"),0)),\"\")","v":""},{"$f":"IFERROR(INDEX(PTable[3-Method],MATCH(0,IF(H$1=PTable[2-Test],COUNTIF(H$1:H42,PTable[3-Method]), \"\"),0)),\"\")","v":""},{"$f":"IFERROR(INDEX(PTable[3-Method],MATCH(0,IF(I$1=PTable[2-Test],COUNTIF(I$1:I42,PTable[3-Method]), \"\"),0)),\"\")","v":""},{"$f":"IFERROR(INDEX(PTable[3-Method],MATCH(0,IF(J$1=PTable[2-Test],COUNTIF(J$1:J42,PTable[3-Method]), \"\"),0)),\"\")","v":""},{"$f":"IFERROR(INDEX(PTable[3-Method],MATCH(0,IF(K$1=PTable[2-Test],COUNTIF(K$1:K42,PTable[3-Method]), \"\"),0)),\"\")","v":""},{"$f":"IFERROR(INDEX(PTable[3-Method],MATCH(0,IF(L$1=PTable[2-Test],COUNTIF(L$1:L42,PTable[3-Method]), \"\"),0)),\"\")","v":""},{"$f":"IFERROR(INDEX(PTable[3-Method],MATCH(0,IF(M$1=PTable[2-Test],COUNTIF(M$1:M42,PTable[3-Method]), \"\"),0)),\"\")","v":""},{"$f":"IFERROR(INDEX(PTable[3-Method],MATCH(0,IF(N$1=PTable[2-Test],COUNTIF(N$1:N42,PTable[3-Method]), \"\"),0)),\"\")","v":""},{"$f":"IFERROR(INDEX(PTable[3-Method],MATCH(0,IF(O$1=PTable[2-Test],COUNTIF(O$1:O42,PTable[3-Method]), \"\"),0)),\"\")","v":""},{"$f":"IFERROR(INDEX(PTable[3-Method],MATCH(0,IF(P$1=PTable[2-Test],COUNTIF(P$1:P42,PTable[3-Method]), \"\"),0)),\"\")","v":""},{"$f":"IFERROR(INDEX(PTable[3-Method],MATCH(0,IF(Q$1=PTable[2-Test],COUNTIF(Q$1:Q42,PTable[3-Method]), \"\"),0)),\"\")","v":""},{"$f":"IFERROR(INDEX(PTable[3-Method],MATCH(0,IF(R$1=PTable[2-Test],COUNTIF(R$1:R42,PTable[3-Method]), \"\"),0)),\"\")","v":""},{"$f":"IFERROR(INDEX(PTable[3-Method],MATCH(0,IF(S$1=PTable[2-Test],COUNTIF(S$1:S42,PTable[3-Method]), \"\"),0)),\"\")","v":""},{"$f":"IFERROR(INDEX(PTable[3-Method],MATCH(0,IF(T$1=PTable[2-Test],COUNTIF(T$1:T42,PTable[3-Method]), \"\"),0)),\"\")","v":""},{"$f":"IFERROR(INDEX(PTable[3-Method],MATCH(0,IF(U$1=PTable[2-Test],COUNTIF(U$1:U42,PTable[3-Method]), \"\"),0)),\"\")","v":""},{"$f":"IFERROR(INDEX(PTable[3-Method],MATCH(0,IF(V$1=PTable[2-Test],COUNTIF(V$1:V42,PTable[3-Method]), \"\"),0)),\"\")","v":""},{"$f":"IFERROR(INDEX(PTable[3-Method],MATCH(0,IF(W$1=PTable[2-Test],COUNTIF(W$1:W42,PTable[3-Method]), \"\"),0)),\"\")","v":""},{"$f":"IFERROR(INDEX(PTable[3-Method],MATCH(0,IF(X$1=PTable[2-Test],COUNTIF(X$1:X42,PTable[3-Method]), \"\"),0)),\"\")","v":""},{"$f":"IFERROR(INDEX(PTable[3-Method],MATCH(0,IF(Y$1=PTable[2-Test],COUNTIF(Y$1:Y42,PTable[3-Method]), \"\"),0)),\"\")","v":""},{"$f":"IFERROR(INDEX(PTable[3-Method],MATCH(0,IF(Z$1=PTable[2-Test],COUNTIF(Z$1:Z42,PTable[3-Method]), \"\"),0)),\"\")","v":""},{"$f":"IFERROR(INDEX(PTable[3-Method],MATCH(0,IF(AA$1=PTable[2-Test],COUNTIF(AA$1:AA42,PTable[3-Method]), \"\"),0)),\"\")","v":""},{"$f":"IFERROR(INDEX(PTable[3-Method],MATCH(0,IF(AB$1=PTable[2-Test],COUNTIF(AB$1:AB42,PTable[3-Method]), \"\"),0)),\"\")","v":""},{"$f":"IFERROR(INDEX(PTable[3-Method],MATCH(0,IF(AC$1=PTable[2-Test],COUNTIF(AC$1:AC42,PTable[3-Method]), \"\"),0)),\"\")","v":""},{"$f":"IFERROR(INDEX(PTable[3-Method],MATCH(0,IF(AD$1=PTable[2-Test],COUNTIF(AD$1:AD42,PTable[3-Method]), \"\"),0)),\"\")","v":""},{"$f":"IFERROR(INDEX(PTable[3-Method],MATCH(0,IF(AE$1=PTable[2-Test],COUNTIF(AE$1:AE42,PTable[3-Method]), \"\"),0)),\"\")","v":""},{"$f":"IFERROR(INDEX(PTable[3-Method],MATCH(0,IF(AF$1=PTable[2-Test],COUNTIF(AF$1:AF42,PTable[3-Method]), \"\"),0)),\"\")","v":""},{"$f":"IFERROR(INDEX(PTable[3-Method],MATCH(0,IF(AG$1=PTable[2-Test],COUNTIF(AG$1:AG42,PTable[3-Method]), \"\"),0)),\"\")","v":""},{"$f":"IFERROR(INDEX(PTable[3-Method],MATCH(0,IF(AH$1=PTable[2-Test],COUNTIF(AH$1:AH42,PTable[3-Method]), \"\"),0)),\"\")","v":""},{"$f":"IFERROR(INDEX(PTable[3-Method],MATCH(0,IF(AI$1=PTable[2-Test],COUNTIF(AI$1:AI42,PTable[3-Method]), \"\"),0)),\"\")","v":""},{"$f":"IFERROR(INDEX(PTable[3-Method],MATCH(0,IF(AJ$1=PTable[2-Test],COUNTIF(AJ$1:AJ42,PTable[3-Method]), \"\"),0)),\"\")","v":""},{"$f":"IFERROR(INDEX(PTable[3-Method],MATCH(0,IF(AK$1=PTable[2-Test],COUNTIF(AK$1:AK42,PTable[3-Method]), \"\"),0)),\"\")","v":""},{"$f":"IFERROR(INDEX(PTable[3-Method],MATCH(0,IF(AL$1=PTable[2-Test],COUNTIF(AL$1:AL42,PTable[3-Method]), \"\"),0)),\"\")","v":""},{"$f":"IFERROR(INDEX(PTable[3-Method],MATCH(0,IF(AM$1=PTable[2-Test],COUNTIF(AM$1:AM42,PTable[3-Method]), \"\"),0)),\"\")","v":""},{"$f":"IFERROR(INDEX(PTable[3-Method],MATCH(0,IF(AN$1=PTable[2-Test],COUNTIF(AN$1:AN42,PTable[3-Method]), \"\"),0)),\"\")","v":""},{"$f":"IFERROR(INDEX(PTable[3-Method],MATCH(0,IF(AO$1=PTable[2-Test],COUNTIF(AO$1:AO42,PTable[3-Method]), \"\"),0)),\"\")","v":""},{"$f":"IFERROR(INDEX(PTable[3-Method],MATCH(0,IF(AP$1=PTable[2-Test],COUNTIF(AP$1:AP42,PTable[3-Method]), \"\"),0)),\"\")","v":""},{"$f":"IFERROR(INDEX(PTable[3-Method],MATCH(0,IF(AQ$1=PTable[2-Test],COUNTIF(AQ$1:AQ42,PTable[3-Method]), \"\"),0)),\"\")","v":""},{"$f":"IFERROR(INDEX(PTable[3-Method],MATCH(0,IF(AR$1=PTable[2-Test],COUNTIF(AR$1:AR42,PTable[3-Method]), \"\"),0)),\"\")","v":""},{"$f":"IFERROR(INDEX(PTable[3-Method],MATCH(0,IF(AS$1=PTable[2-Test],COUNTIF(AS$1:AS42,PTable[3-Method]), \"\"),0)),\"\")","v":""},{"$f":"IFERROR(INDEX(PTable[3-Method],MATCH(0,IF(AT$1=PTable[2-Test],COUNTIF(AT$1:AT42,PTable[3-Method]), \"\"),0)),\"\")","v":""},{"$f":"IFERROR(INDEX(PTable[3-Method],MATCH(0,IF(AU$1=PTable[2-Test],COUNTIF(AU$1:AU42,PTable[3-Method]), \"\"),0)),\"\")","v":""},{"$f":"IFERROR(INDEX(PTable[3-Method],MATCH(0,IF(AV$1=PTable[2-Test],COUNTIF(AV$1:AV42,PTable[3-Method]), \"\"),0)),\"\")","v":""},{"$f":"IFERROR(INDEX(PTable[3-Method],MATCH(0,IF(AW$1=PTable[2-Test],COUNTIF(AW$1:AW42,PTable[3-Method]), \"\"),0)),\"\")","v":""},{"$f":"IFERROR(INDEX(PTable[3-Method],MATCH(0,IF(AX$1=PTable[2-Test],COUNTIF(AX$1:AX42,PTable[3-Method]), \"\"),0)),\"\")","v":""},{"$f":"IFERROR(INDEX(PTable[3-Method],MATCH(0,IF(AY$1=PTable[2-Test],COUNTIF(AY$1:AY42,PTable[3-Method]), \"\"),0)),\"\")","v":""},{"$f":"IFERROR(INDEX(PTable[3-Method],MATCH(0,IF(AZ$1=PTable[2-Test],COUNTIF(AZ$1:AZ42,PTable[3-Method]), \"\"),0)),\"\")","v":""},{"$f":"IFERROR(INDEX(PTable[3-Method],MATCH(0,IF(BA$1=PTable[2-Test],COUNTIF(BA$1:BA42,PTable[3-Method]), \"\"),0)),\"\")","v":""},{"$f":"IFERROR(INDEX(PTable[3-Method],MATCH(0,IF(BB$1=PTable[2-Test],COUNTIF(BB$1:BB42,PTable[3-Method]), \"\"),0)),\"\")","v":""},{"$f":"IFERROR(INDEX(PTable[3-Method],MATCH(0,IF(BC$1=PTable[2-Test],COUNTIF(BC$1:BC42,PTable[3-Method]), \"\"),0)),\"\")","v":""},{"$f":"IFERROR(INDEX(PTable[3-Method],MATCH(0,IF(BD$1=PTable[2-Test],COUNTIF(BD$1:BD42,PTable[3-Method]), \"\"),0)),\"\")","v":""},{"$f":"IFERROR(INDEX(PTable[3-Method],MATCH(0,IF(BE$1=PTable[2-Test],COUNTIF(BE$1:BE42,PTable[3-Method]), \"\"),0)),\"\")","v":""},{"$f":"IFERROR(INDEX(PTable[3-Method],MATCH(0,IF(BF$1=PTable[2-Test],COUNTIF(BF$1:BF42,PTable[3-Method]), \"\"),0)),\"\")","v":""},{"$f":"IFERROR(INDEX(PTable[3-Method],MATCH(0,IF(BG$1=PTable[2-Test],COUNTIF(BG$1:BG42,PTable[3-Method]), \"\"),0)),\"\")","v":""},{"$f":"IFERROR(INDEX(PTable[3-Method],MATCH(0,IF(BH$1=PTable[2-Test],COUNTIF(BH$1:BH42,PTable[3-Method]), \"\"),0)),\"\")","v":""},{"$f":"IFERROR(INDEX(PTable[3-Method],MATCH(0,IF(BI$1=PTable[2-Test],COUNTIF(BI$1:BI42,PTable[3-Method]), \"\"),0)),\"\")","v":""},{"$f":"IFERROR(INDEX(PTable[3-Method],MATCH(0,IF(BJ$1=PTable[2-Test],COUNTIF(BJ$1:BJ42,PTable[3-Method]), \"\"),0)),\"\")","v":""},{"$f":"IFERROR(INDEX(PTable[3-Method],MATCH(0,IF(BK$1=PTable[2-Test],COUNTIF(BK$1:BK42,PTable[3-Method]), \"\"),0)),\"\")","v":""},{"$f":"IFERROR(INDEX(PTable[3-Method],MATCH(0,IF(BL$1=PTable[2-Test],COUNTIF(BL$1:BL42,PTable[3-Method]), \"\"),0)),\"\")","v":""},{"$f":"IFERROR(INDEX(PTable[3-Method],MATCH(0,IF(BM$1=PTable[2-Test],COUNTIF(BM$1:BM42,PTable[3-Method]), \"\"),0)),\"\")","v":""},{"$f":"IFERROR(INDEX(PTable[3-Method],MATCH(0,IF(BN$1=PTable[2-Test],COUNTIF(BN$1:BN42,PTable[3-Method]), \"\"),0)),\"\")","v":""},{"$f":"IFERROR(INDEX(PTable[3-Method],MATCH(0,IF(BO$1=PTable[2-Test],COUNTIF(BO$1:BO42,PTable[3-Method]), \"\"),0)),\"\")","v":""},{"$f":"IFERROR(INDEX(PTable[3-Method],MATCH(0,IF(BP$1=PTable[2-Test],COUNTIF(BP$1:BP42,PTable[3-Method]), \"\"),0)),\"\")","v":"USP1g"},{"$f":"IFERROR(INDEX(PTable[3-Method],MATCH(0,IF(BQ$1=PTable[2-Test],COUNTIF(BQ$1:BQ42,PTable[3-Method]), \"\"),0)),\"\")","v":""},{"$f":"IFERROR(INDEX(PTable[3-Method],MATCH(0,IF(BR$1=PTable[2-Test],COUNTIF(BR$1:BR42,PTable[3-Method]), \"\"),0)),\"\")","v":""},{"$f":"IFERROR(INDEX(PTable[3-Method],MATCH(0,IF(BS$1=PTable[2-Test],COUNTIF(BS$1:BS42,PTable[3-Method]), \"\"),0)),\"\")","v":""},{"$f":"IFERROR(INDEX(PTable[3-Method],MATCH(0,IF(BT$1=PTable[2-Test],COUNTIF(BT$1:BT42,PTable[3-Method]), \"\"),0)),\"\")","v":""},{"$f":"IFERROR(INDEX(PTable[3-Method],MATCH(0,IF(BU$1=PTable[2-Test],COUNTIF(BU$1:BU42,PTable[3-Method]), \"\"),0)),\"\")","v":""},{"$f":"IFERROR(INDEX(PTable[3-Method],MATCH(0,IF(BV$1=PTable[2-Test],COUNTIF(BV$1:BV42,PTable[3-Method]), \"\"),0)),\"\")","v":""},{"$f":"IFERROR(INDEX(PTable[3-Method],MATCH(0,IF(BW$1=PTable[2-Test],COUNTIF(BW$1:BW42,PTable[3-Method]), \"\"),0)),\"\")","v":""},{"$f":"IFERROR(INDEX(PTable[3-Method],MATCH(0,IF(BX$1=PTable[2-Test],COUNTIF(BX$1:BX42,PTable[3-Method]), \"\"),0)),\"\")","v":""},{"$f":"IFERROR(INDEX(PTable[3-Method],MATCH(0,IF(BY$1=PTable[2-Test],COUNTIF(BY$1:BY42,PTable[3-Method]), \"\"),0)),\"\")","v":""},{"$f":"IFERROR(INDEX(PTable[3-Method],MATCH(0,IF(BZ$1=PTable[2-Test],COUNTIF(BZ$1:BZ42,PTable[3-Method]), \"\"),0)),\"\")","v":""},{"$f":"IFERROR(INDEX(PTable[3-Method],MATCH(0,IF(CA$1=PTable[2-Test],COUNTIF(CA$1:CA42,PTable[3-Method]), \"\"),0)),\"\")","v":""},{"$f":"IFERROR(INDEX(PTable[3-Method],MATCH(0,IF(CB$1=PTable[2-Test],COUNTIF(CB$1:CB42,PTable[3-Method]), \"\"),0)),\"\")","v":""},{"$f":"IFERROR(INDEX(PTable[3-Method],MATCH(0,IF(CC$1=PTable[2-Test],COUNTIF(CC$1:CC42,PTable[3-Method]), \"\"),0)),\"\")","v":""},{"$f":"IFERROR(INDEX(PTable[3-Method],MATCH(0,IF(CD$1=PTable[2-Test],COUNTIF(CD$1:CD42,PTable[3-Method]), \"\"),0)),\"\")","v":""},{"$f":"IFERROR(INDEX(PTable[3-Method],MATCH(0,IF(CE$1=PTable[2-Test],COUNTIF(CE$1:CE42,PTable[3-Method]), \"\"),0)),\"\")","v":""},{"$f":"IFERROR(INDEX(PTable[3-Method],MATCH(0,IF(CF$1=PTable[2-Test],COUNTIF(CF$1:CF42,PTable[3-Method]), \"\"),0)),\"\")","v":""},{"$f":"IFERROR(INDEX(PTable[3-Method],MATCH(0,IF(CG$1=PTable[2-Test],COUNTIF(CG$1:CG42,PTable[3-Method]), \"\"),0)),\"\")","v":""},{"$f":"IFERROR(INDEX(PTable[3-Method],MATCH(0,IF(CH$1=PTable[2-Test],COUNTIF(CH$1:CH42,PTable[3-Method]), \"\"),0)),\"\")","v":""},{"$f":"IFERROR(INDEX(PTable[3-Method],MATCH(0,IF(CI$1=PTable[2-Test],COUNTIF(CI$1:CI42,PTable[3-Method]), \"\"),0)),\"\")","v":""},{"$f":"IFERROR(INDEX(PTable[3-Method],MATCH(0,IF(CJ$1=PTable[2-Test],COUNTIF(CJ$1:CJ42,PTable[3-Method]), \"\"),0)),\"\")","v":""},{"$f":"IFERROR(INDEX(PTable[3-Method],MATCH(0,IF(CK$1=PTable[2-Test],COUNTIF(CK$1:CK42,PTable[3-Method]), \"\"),0)),\"\")","v":""},{"$f":"IFERROR(INDEX(PTable[3-Method],MATCH(0,IF(CL$1=PTable[2-Test],COUNTIF(CL$1:CL42,PTable[3-Method]), \"\"),0)),\"\")","v":""},{"$f":"IFERROR(INDEX(PTable[3-Method],MATCH(0,IF(CM$1=PTable[2-Test],COUNTIF(CM$1:CM42,PTable[3-Method]), \"\"),0)),\"\")","v":""},{"$f":"IFERROR(INDEX(PTable[3-Method],MATCH(0,IF(CN$1=PTable[2-Test],COUNTIF(CN$1:CN42,PTable[3-Method]), \"\"),0)),\"\")","v":""},{"$f":"IFERROR(INDEX(PTable[3-Method],MATCH(0,IF(CO$1=PTable[2-Test],COUNTIF(CO$1:CO42,PTable[3-Method]), \"\"),0)),\"\")","v":""},{"$f":"IFERROR(INDEX(PTable[3-Method],MATCH(0,IF(CP$1=PTable[2-Test],COUNTIF(CP$1:CP42,PTable[3-Method]), \"\"),0)),\"\")","v":""},{"$f":"IFERROR(INDEX(PTable[3-Method],MATCH(0,IF(CQ$1=PTable[2-Test],COUNTIF(CQ$1:CQ42,PTable[3-Method]), \"\"),0)),\"\")","v":""},{"$f":"IFERROR(INDEX(PTable[3-Method],MATCH(0,IF(CR$1=PTable[2-Test],COUNTIF(CR$1:CR42,PTable[3-Method]), \"\"),0)),\"\")","v":""},{"$f":"IFERROR(INDEX(PTable[3-Method],MATCH(0,IF(CS$1=PTable[2-Test],COUNTIF(CS$1:CS42,PTable[3-Method]), \"\"),0)),\"\")","v":""},{"$f":"IFERROR(INDEX(PTable[3-Method],MATCH(0,IF(CT$1=PTable[2-Test],COUNTIF(CT$1:CT42,PTable[3-Method]), \"\"),0)),\"\")","v":""},{"$f":"IFERROR(INDEX(PTable[3-Method],MATCH(0,IF(CU$1=PTable[2-Test],COUNTIF(CU$1:CU42,PTable[3-Method]), \"\"),0)),\"\")","v":""},{"$f":"IFERROR(INDEX(PTable[3-Method],MATCH(0,IF(CV$1=PTable[2-Test],COUNTIF(CV$1:CV42,PTable[3-Method]), \"\"),0)),\"\")","v":""},{"$f":"IFERROR(INDEX(PTable[3-Method],MATCH(0,IF(CW$1=PTable[2-Test],COUNTIF(CW$1:CW42,PTable[3-Method]), \"\"),0)),\"\")","v":""},{"$f":"IFERROR(INDEX(PTable[3-Method],MATCH(0,IF(CX$1=PTable[2-Test],COUNTIF(CX$1:CX42,PTable[3-Method]), \"\"),0)),\"\")","v":""},{"$f":"IFERROR(INDEX(PTable[3-Method],MATCH(0,IF(CY$1=PTable[2-Test],COUNTIF(CY$1:CY42,PTable[3-Method]), \"\"),0)),\"\")","v":""},{"$f":"IFERROR(INDEX(PTable[3-Method],MATCH(0,IF(CZ$1=PTable[2-Test],COUNTIF(CZ$1:CZ42,PTable[3-Method]), \"\"),0)),\"\")","v":""},{"$f":"IFERROR(INDEX(PTable[3-Method],MATCH(0,IF(DA$1=PTable[2-Test],COUNTIF(DA$1:DA42,PTable[3-Method]), \"\"),0)),\"\")","v":""},{"$f":"IFERROR(INDEX(PTable[3-Method],MATCH(0,IF(DB$1=PTable[2-Test],COUNTIF(DB$1:DB42,PTable[3-Method]), \"\"),0)),\"\")","v":""},{"$f":"IFERROR(INDEX(PTable[3-Method],MATCH(0,IF(DC$1=PTable[2-Test],COUNTIF(DC$1:DC42,PTable[3-Method]), \"\"),0)),\"\")","v":""},{"$f":"IFERROR(INDEX(PTable[3-Method],MATCH(0,IF(DD$1=PTable[2-Test],COUNTIF(DD$1:DD42,PTable[3-Method]), \"\"),0)),\"\")","v":""},{"$f":"IFERROR(INDEX(PTable[3-Method],MATCH(0,IF(DE$1=PTable[2-Test],COUNTIF(DE$1:DE42,PTable[3-Method]), \"\"),0)),\"\")","v":""},{"$f":"IFERROR(INDEX(PTable[3-Method],MATCH(0,IF(DF$1=PTable[2-Test],COUNTIF(DF$1:DF42,PTable[3-Method]), \"\"),0)),\"\")","v":""},{"$f":"IFERROR(INDEX(PTable[3-Method],MATCH(0,IF(DG$1=PTable[2-Test],COUNTIF(DG$1:DG42,PTable[3-Method]), \"\"),0)),\"\")","v":""},{"$f":"IFERROR(INDEX(PTable[3-Method],MATCH(0,IF(DH$1=PTable[2-Test],COUNTIF(DH$1:DH42,PTable[3-Method]), \"\"),0)),\"\")","v":""},{"$f":"IFERROR(INDEX(PTable[3-Method],MATCH(0,IF(DI$1=PTable[2-Test],COUNTIF(DI$1:DI42,PTable[3-Method]), \"\"),0)),\"\")","v":""},{"$f":"IFERROR(INDEX(PTable[3-Method],MATCH(0,IF(DJ$1=PTable[2-Test],COUNTIF(DJ$1:DJ42,PTable[3-Method]), \"\"),0)),\"\")","v":""}]
["Do Not Delete",null,null,null,null,null,{"$f":"IFERROR(INDEX(PTable[3-Method],MATCH(0,IF(G$1=PTable[2-Test],COUNTIF(G$1:G43,PTable[3-Method]), \"\"),0)),\"\")","v":""},{"$f":"IFERROR(INDEX(PTable[3-Method],MATCH(0,IF(H$1=PTable[2-Test],COUNTIF(H$1:H43,PTable[3-Method]), \"\"),0)),\"\")","v":""},{"$f":"IFERROR(INDEX(PTable[3-Method],MATCH(0,IF(I$1=PTable[2-Test],COUNTIF(I$1:I43,PTable[3-Method]), \"\"),0)),\"\")","v":""},{"$f":"IFERROR(INDEX(PTable[3-Method],MATCH(0,IF(J$1=PTable[2-Test],COUNTIF(J$1:J43,PTable[3-Method]), \"\"),0)),\"\")","v":""},{"$f":"IFERROR(INDEX(PTable[3-Method],MATCH(0,IF(K$1=PTable[2-Test],COUNTIF(K$1:K43,PTable[3-Method]), \"\"),0)),\"\")","v":""},{"$f":"IFERROR(INDEX(PTable[3-Method],MATCH(0,IF(L$1=PTable[2-Test],COUNTIF(L$1:L43,PTable[3-Method]), \"\"),0)),\"\")","v":""},{"$f":"IFERROR(INDEX(PTable[3-Method],MATCH(0,IF(M$1=PTable[2-Test],COUNTIF(M$1:M43,PTable[3-Method]), \"\"),0)),\"\")","v":""},{"$f":"IFERROR(INDEX(PTable[3-Method],MATCH(0,IF(N$1=PTable[2-Test],COUNTIF(N$1:N43,PTable[3-Method]), \"\"),0)),\"\")","v":""},{"$f":"IFERROR(INDEX(PTable[3-Method],MATCH(0,IF(O$1=PTable[2-Test],COUNTIF(O$1:O43,PTable[3-Method]), \"\"),0)),\"\")","v":""},{"$f":"IFERROR(INDEX(PTable[3-Method],MATCH(0,IF(P$1=PTable[2-Test],COUNTIF(P$1:P43,PTable[3-Method]), \"\"),0)),\"\")","v":""},{"$f":"IFERROR(INDEX(PTable[3-Method],MATCH(0,IF(Q$1=PTable[2-Test],COUNTIF(Q$1:Q43,PTable[3-Method]), \"\"),0)),\"\")","v":""},{"$f":"IFERROR(INDEX(PTable[3-Method],MATCH(0,IF(R$1=PTable[2-Test],COUNTIF(R$1:R43,PTable[3-Method]), \"\"),0)),\"\")","v":""},{"$f":"IFERROR(INDEX(PTable[3-Method],MATCH(0,IF(S$1=PTable[2-Test],COUNTIF(S$1:S43,PTable[3-Method]), \"\"),0)),\"\")","v":""},{"$f":"IFERROR(INDEX(PTable[3-Method],MATCH(0,IF(T$1=PTable[2-Test],COUNTIF(T$1:T43,PTable[3-Method]), \"\"),0)),\"\")","v":""},{"$f":"IFERROR(INDEX(PTable[3-Method],MATCH(0,IF(U$1=PTable[2-Test],COUNTIF(U$1:U43,PTable[3-Method]), \"\"),0)),\"\")","v":""},{"$f":"IFERROR(INDEX(PTable[3-Method],MATCH(0,IF(V$1=PTable[2-Test],COUNTIF(V$1:V43,PTable[3-Method]), \"\"),0)),\"\")","v":""},{"$f":"IFERROR(INDEX(PTable[3-Method],MATCH(0,IF(W$1=PTable[2-Test],COUNTIF(W$1:W43,PTable[3-Method]), \"\"),0)),\"\")","v":""},{"$f":"IFERROR(INDEX(PTable[3-Method],MATCH(0,IF(X$1=PTable[2-Test],COUNTIF(X$1:X43,PTable[3-Method]), \"\"),0)),\"\")","v":""},{"$f":"IFERROR(INDEX(PTable[3-Method],MATCH(0,IF(Y$1=PTable[2-Test],COUNTIF(Y$1:Y43,PTable[3-Method]), \"\"),0)),\"\")","v":""},{"$f":"IFERROR(INDEX(PTable[3-Method],MATCH(0,IF(Z$1=PTable[2-Test],COUNTIF(Z$1:Z43,PTable[3-Method]), \"\"),0)),\"\")","v":""},{"$f":"IFERROR(INDEX(PTable[3-Method],MATCH(0,IF(AA$1=PTable[2-Test],COUNTIF(AA$1:AA43,PTable[3-Method]), \"\"),0)),\"\")","v":""},{"$f":"IFERROR(INDEX(PTable[3-Method],MATCH(0,IF(AB$1=PTable[2-Test],COUNTIF(AB$1:AB43,PTable[3-Method]), \"\"),0)),\"\")","v":""},{"$f":"IFERROR(INDEX(PTable[3-Method],MATCH(0,IF(AC$1=PTable[2-Test],COUNTIF(AC$1:AC43,PTable[3-Method]), \"\"),0)),\"\")","v":""},{"$f":"IFERROR(INDEX(PTable[3-Method],MATCH(0,IF(AD$1=PTable[2-Test],COUNTIF(AD$1:AD43,PTable[3-Method]), \"\"),0)),\"\")","v":""},{"$f":"IFERROR(INDEX(PTable[3-Method],MATCH(0,IF(AE$1=PTable[2-Test],COUNTIF(AE$1:AE43,PTable[3-Method]), \"\"),0)),\"\")","v":""},{"$f":"IFERROR(INDEX(PTable[3-Method],MATCH(0,IF(AF$1=PTable[2-Test],COUNTIF(AF$1:AF43,PTable[3-Method]), \"\"),0)),\"\")","v":""},{"$f":"IFERROR(INDEX(PTable[3-Method],MATCH(0,IF(AG$1=PTable[2-Test],COUNTIF(AG$1:AG43,PTable[3-Method]), \"\"),0)),\"\")","v":""},{"$f":"IFERROR(INDEX(PTable[3-Method],MATCH(0,IF(AH$1=PTable[2-Test],COUNTIF(AH$1:AH43,PTable[3-Method]), \"\"),0)),\"\")","v":""},{"$f":"IFERROR(INDEX(PTable[3-Method],MATCH(0,IF(AI$1=PTable[2-Test],COUNTIF(AI$1:AI43,PTable[3-Method]), \"\"),0)),\"\")","v":""},{"$f":"IFERROR(INDEX(PTable[3-Method],MATCH(0,IF(AJ$1=PTable[2-Test],COUNTIF(AJ$1:AJ43,PTable[3-Method]), \"\"),0)),\"\")","v":""},{"$f":"IFERROR(INDEX(PTable[3-Method],MATCH(0,IF(AK$1=PTable[2-Test],COUNTIF(AK$1:AK43,PTable[3-Method]), \"\"),0)),\"\")","v":""},{"$f":"IFERROR(INDEX(PTable[3-Method],MATCH(0,IF(AL$1=PTable[2-Test],COUNTIF(AL$1:AL43,PTable[3-Method]), \"\"),0)),\"\")","v":""},{"$f":"IFERROR(INDEX(PTable[3-Method],MATCH(0,IF(AM$1=PTable[2-Test],COUNTIF(AM$1:AM43,PTable[3-Method]), \"\"),0)),\"\")","v":""},{"$f":"IFERROR(INDEX(PTable[3-Method],MATCH(0,IF(AN$1=PTable[2-Test],COUNTIF(AN$1:AN43,PTable[3-Method]), \"\"),0)),\"\")","v":""},{"$f":"IFERROR(INDEX(PTable[3-Method],MATCH(0,IF(AO$1=PTable[2-Test],COUNTIF(AO$1:AO43,PTable[3-Method]), \"\"),0)),\"\")","v":""},{"$f":"IFERROR(INDEX(PTable[3-Method],MATCH(0,IF(AP$1=PTable[2-Test],COUNTIF(AP$1:AP43,PTable[3-Method]), \"\"),0)),\"\")","v":""},{"$f":"IFERROR(INDEX(PTable[3-Method],MATCH(0,IF(AQ$1=PTable[2-Test],COUNTIF(AQ$1:AQ43,PTable[3-Method]), \"\"),0)),\"\")","v":""},{"$f":"IFERROR(INDEX(PTable[3-Method],MATCH(0,IF(AR$1=PTable[2-Test],COUNTIF(AR$1:AR43,PTable[3-Method]), \"\"),0)),\"\")","v":""},{"$f":"IFERROR(INDEX(PTable[3-Method],MATCH(0,IF(AS$1=PTable[2-Test],COUNTIF(AS$1:AS43,PTable[3-Method]), \"\"),0)),\"\")","v":""},{"$f":"IFERROR(INDEX(PTable[3-Method],MATCH(0,IF(AT$1=PTable[2-Test],COUNTIF(AT$1:AT43,PTable[3-Method]), \"\"),0)),\"\")","v":""},{"$f":"IFERROR(INDEX(PTable[3-Method],MATCH(0,IF(AU$1=PTable[2-Test],COUNTIF(AU$1:AU43,PTable[3-Method]), \"\"),0)),\"\")","v":""},{"$f":"IFERROR(INDEX(PTable[3-Method],MATCH(0,IF(AV$1=PTable[2-Test],COUNTIF(AV$1:AV43,PTable[3-Method]), \"\"),0)),\"\")","v":""},{"$f":"IFERROR(INDEX(PTable[3-Method],MATCH(0,IF(AW$1=PTable[2-Test],COUNTIF(AW$1:AW43,PTable[3-Method]), \"\"),0)),\"\")","v":""},{"$f":"IFERROR(INDEX(PTable[3-Method],MATCH(0,IF(AX$1=PTable[2-Test],COUNTIF(AX$1:AX43,PTable[3-Method]), \"\"),0)),\"\")","v":""},{"$f":"IFERROR(INDEX(PTable[3-Method],MATCH(0,IF(AY$1=PTable[2-Test],COUNTIF(AY$1:AY43,PTable[3-Method]), \"\"),0)),\"\")","v":""},{"$f":"IFERROR(INDEX(PTable[3-Method],MATCH(0,IF(AZ$1=PTable[2-Test],COUNTIF(AZ$1:AZ43,PTable[3-Method]), \"\"),0)),\"\")","v":""},{"$f":"IFERROR(INDEX(PTable[3-Method],MATCH(0,IF(BA$1=PTable[2-Test],COUNTIF(BA$1:BA43,PTable[3-Method]), \"\"),0)),\"\")","v":""},{"$f":"IFERROR(INDEX(PTable[3-Method],MATCH(0,IF(BB$1=PTable[2-Test],COUNTIF(BB$1:BB43,PTable[3-Method]), \"\"),0)),\"\")","v":""},{"$f":"IFERROR(INDEX(PTable[3-Method],MATCH(0,IF(BC$1=PTable[2-Test],COUNTIF(BC$1:BC43,PTable[3-Method]), \"\"),0)),\"\")","v":""},{"$f":"IFERROR(INDEX(PTable[3-Method],MATCH(0,IF(BD$1=PTable[2-Test],COUNTIF(BD$1:BD43,PTable[3-Method]), \"\"),0)),\"\")","v":""},{"$f":"IFERROR(INDEX(PTable[3-Method],MATCH(0,IF(BE$1=PTable[2-Test],COUNTIF(BE$1:BE43,PTable[3-Method]), \"\"),0)),\"\")","v":""},{"$f":"IFERROR(INDEX(PTable[3-Method],MATCH(0,IF(BF$1=PTable[2-Test],COUNTIF(BF$1:BF43,PTable[3-Method]), \"\"),0)),\"\")","v":""},{"$f":"IFERROR(INDEX(PTable[3-Method],MATCH(0,IF(BG$1=PTable[2-Test],COUNTIF(BG$1:BG43,PTable[3-Method]), \"\"),0)),\"\")","v":""},{"$f":"IFERROR(INDEX(PTable[3-Method],MATCH(0,IF(BH$1=PTable[2-Test],COUNTIF(BH$1:BH43,PTable[3-Method]), \"\"),0)),\"\")","v":""},{"$f":"IFERROR(INDEX(PTable[3-Method],MATCH(0,IF(BI$1=PTable[2-Test],COUNTIF(BI$1:BI43,PTable[3-Method]), \"\"),0)),\"\")","v":""},{"$f":"IFERROR(INDEX(PTable[3-Method],MATCH(0,IF(BJ$1=PTable[2-Test],COUNTIF(BJ$1:BJ43,PTable[3-Method]), \"\"),0)),\"\")","v":""},{"$f":"IFERROR(INDEX(PTable[3-Method],MATCH(0,IF(BK$1=PTable[2-Test],COUNTIF(BK$1:BK43,PTable[3-Method]), \"\"),0)),\"\")","v":""},{"$f":"IFERROR(INDEX(PTable[3-Method],MATCH(0,IF(BL$1=PTable[2-Test],COUNTIF(BL$1:BL43,PTable[3-Method]), \"\"),0)),\"\")","v":""},{"$f":"IFERROR(INDEX(PTable[3-Method],MATCH(0,IF(BM$1=PTable[2-Test],COUNTIF(BM$1:BM43,PTable[3-Method]), \"\"),0)),\"\")","v":""},{"$f":"IFERROR(INDEX(PTable[3-Method],MATCH(0,IF(BN$1=PTable[2-Test],COUNTIF(BN$1:BN43,PTable[3-Method]), \"\"),0)),\"\")","v":""},{"$f":"IFERROR(INDEX(PTable[3-Method],MATCH(0,IF(BO$1=PTable[2-Test],COUNTIF(BO$1:BO43,PTable[3-Method]), \"\"),0)),\"\")","v":""},{"$f":"IFERROR(INDEX(PTable[3-Method],MATCH(0,IF(BP$1=PTable[2-Test],COUNTIF(BP$1:BP43,PTable[3-Method]), \"\"),0)),\"\")","v":"USP25g"},{"$f":"IFERROR(INDEX(PTable[3-Method],MATCH(0,IF(BQ$1=PTable[2-Test],COUNTIF(BQ$1:BQ43,PTable[3-Method]), \"\"),0)),\"\")","v":""},{"$f":"IFERROR(INDEX(PTable[3-Method],MATCH(0,IF(BR$1=PTable[2-Test],COUNTIF(BR$1:BR43,PTable[3-Method]), \"\"),0)),\"\")","v":""},{"$f":"IFERROR(INDEX(PTable[3-Method],MATCH(0,IF(BS$1=PTable[2-Test],COUNTIF(BS$1:BS43,PTable[3-Method]), \"\"),0)),\"\")","v":""},{"$f":"IFERROR(INDEX(PTable[3-Method],MATCH(0,IF(BT$1=PTable[2-Test],COUNTIF(BT$1:BT43,PTable[3-Method]), \"\"),0)),\"\")","v":""},{"$f":"IFERROR(INDEX(PTable[3-Method],MATCH(0,IF(BU$1=PTable[2-Test],COUNTIF(BU$1:BU43,PTable[3-Method]), \"\"),0)),\"\")","v":""},{"$f":"IFERROR(INDEX(PTable[3-Method],MATCH(0,IF(BV$1=PTable[2-Test],COUNTIF(BV$1:BV43,PTable[3-Method]), \"\"),0)),\"\")","v":""},{"$f":"IFERROR(INDEX(PTable[3-Method],MATCH(0,IF(BW$1=PTable[2-Test],COUNTIF(BW$1:BW43,PTable[3-Method]), \"\"),0)),\"\")","v":""},{"$f":"IFERROR(INDEX(PTable[3-Method],MATCH(0,IF(BX$1=PTable[2-Test],COUNTIF(BX$1:BX43,PTable[3-Method]), \"\"),0)),\"\")","v":""},{"$f":"IFERROR(INDEX(PTable[3-Method],MATCH(0,IF(BY$1=PTable[2-Test],COUNTIF(BY$1:BY43,PTable[3-Method]), \"\"),0)),\"\")","v":""},{"$f":"IFERROR(INDEX(PTable[3-Method],MATCH(0,IF(BZ$1=PTable[2-Test],COUNTIF(BZ$1:BZ43,PTable[3-Method]), \"\"),0)),\"\")","v":""},{"$f":"IFERROR(INDEX(PTable[3-Method],MATCH(0,IF(CA$1=PTable[2-Test],COUNTIF(CA$1:CA43,PTable[3-Method]), \"\"),0)),\"\")","v":""},{"$f":"IFERROR(INDEX(PTable[3-Method],MATCH(0,IF(CB$1=PTable[2-Test],COUNTIF(CB$1:CB43,PTable[3-Method]), \"\"),0)),\"\")","v":""},{"$f":"IFERROR(INDEX(PTable[3-Method],MATCH(0,IF(CC$1=PTable[2-Test],COUNTIF(CC$1:CC43,PTable[3-Method]), \"\"),0)),\"\")","v":""},{"$f":"IFERROR(INDEX(PTable[3-Method],MATCH(0,IF(CD$1=PTable[2-Test],COUNTIF(CD$1:CD43,PTable[3-Method]), \"\"),0)),\"\")","v":""},{"$f":"IFERROR(INDEX(PTable[3-Method],MATCH(0,IF(CE$1=PTable[2-Test],COUNTIF(CE$1:CE43,PTable[3-Method]), \"\"),0)),\"\")","v":""},{"$f":"IFERROR(INDEX(PTable[3-Method],MATCH(0,IF(CF$1=PTable[2-Test],COUNTIF(CF$1:CF43,PTable[3-Method]), \"\"),0)),\"\")","v":""},{"$f":"IFERROR(INDEX(PTable[3-Method],MATCH(0,IF(CG$1=PTable[2-Test],COUNTIF(CG$1:CG43,PTable[3-Method]), \"\"),0)),\"\")","v":""},{"$f":"IFERROR(INDEX(PTable[3-Method],MATCH(0,IF(CH$1=PTable[2-Test],COUNTIF(CH$1:CH43,PTable[3-Method]), \"\"),0)),\"\")","v":""},{"$f":"IFERROR(INDEX(PTable[3-Method],MATCH(0,IF(CI$1=PTable[2-Test],COUNTIF(CI$1:CI43,PTable[3-Method]), \"\"),0)),\"\")","v":""},{"$f":"IFERROR(INDEX(PTable[3-Method],MATCH(0,IF(CJ$1=PTable[2-Test],COUNTIF(CJ$1:CJ43,PTable[3-Method]), \"\"),0)),\"\")","v":""},{"$f":"IFERROR(INDEX(PTable[3-Method],MATCH(0,IF(CK$1=PTable[2-Test],COUNTIF(CK$1:CK43,PTable[3-Method]), \"\"),0)),\"\")","v":""},{"$f":"IFERROR(INDEX(PTable[3-Method],MATCH(0,IF(CL$1=PTable[2-Test],COUNTIF(CL$1:CL43,PTable[3-Method]), \"\"),0)),\"\")","v":""},{"$f":"IFERROR(INDEX(PTable[3-Method],MATCH(0,IF(CM$1=PTable[2-Test],COUNTIF(CM$1:CM43,PTable[3-Method]), \"\"),0)),\"\")","v":""},{"$f":"IFERROR(INDEX(PTable[3-Method],MATCH(0,IF(CN$1=PTable[2-Test],COUNTIF(CN$1:CN43,PTable[3-Method]), \"\"),0)),\"\")","v":""},{"$f":"IFERROR(INDEX(PTable[3-Method],MATCH(0,IF(CO$1=PTable[2-Test],COUNTIF(CO$1:CO43,PTable[3-Method]), \"\"),0)),\"\")","v":""},{"$f":"IFERROR(INDEX(PTable[3-Method],MATCH(0,IF(CP$1=PTable[2-Test],COUNTIF(CP$1:CP43,PTable[3-Method]), \"\"),0)),\"\")","v":""},{"$f":"IFERROR(INDEX(PTable[3-Method],MATCH(0,IF(CQ$1=PTable[2-Test],COUNTIF(CQ$1:CQ43,PTable[3-Method]), \"\"),0)),\"\")","v":""},{"$f":"IFERROR(INDEX(PTable[3-Method],MATCH(0,IF(CR$1=PTable[2-Test],COUNTIF(CR$1:CR43,PTable[3-Method]), \"\"),0)),\"\")","v":""},{"$f":"IFERROR(INDEX(PTable[3-Method],MATCH(0,IF(CS$1=PTable[2-Test],COUNTIF(CS$1:CS43,PTable[3-Method]), \"\"),0)),\"\")","v":""},{"$f":"IFERROR(INDEX(PTable[3-Method],MATCH(0,IF(CT$1=PTable[2-Test],COUNTIF(CT$1:CT43,PTable[3-Method]), \"\"),0)),\"\")","v":""},{"$f":"IFERROR(INDEX(PTable[3-Method],MATCH(0,IF(CU$1=PTable[2-Test],COUNTIF(CU$1:CU43,PTable[3-Method]), \"\"),0)),\"\")","v":""},{"$f":"IFERROR(INDEX(PTable[3-Method],MATCH(0,IF(CV$1=PTable[2-Test],COUNTIF(CV$1:CV43,PTable[3-Method]), \"\"),0)),\"\")","v":""},{"$f":"IFERROR(INDEX(PTable[3-Method],MATCH(0,IF(CW$1=PTable[2-Test],COUNTIF(CW$1:CW43,PTable[3-Method]), \"\"),0)),\"\")","v":""},{"$f":"IFERROR(INDEX(PTable[3-Method],MATCH(0,IF(CX$1=PTable[2-Test],COUNTIF(CX$1:CX43,PTable[3-Method]), \"\"),0)),\"\")","v":""},{"$f":"IFERROR(INDEX(PTable[3-Method],MATCH(0,IF(CY$1=PTable[2-Test],COUNTIF(CY$1:CY43,PTable[3-Method]), \"\"),0)),\"\")","v":""},{"$f":"IFERROR(INDEX(PTable[3-Method],MATCH(0,IF(CZ$1=PTable[2-Test],COUNTIF(CZ$1:CZ43,PTable[3-Method]), \"\"),0)),\"\")","v":""},{"$f":"IFERROR(INDEX(PTable[3-Method],MATCH(0,IF(DA$1=PTable[2-Test],COUNTIF(DA$1:DA43,PTable[3-Method]), \"\"),0)),\"\")","v":""},{"$f":"IFERROR(INDEX(PTable[3-Method],MATCH(0,IF(DB$1=PTable[2-Test],COUNTIF(DB$1:DB43,PTable[3-Method]), \"\"),0)),\"\")","v":""},{"$f":"IFERROR(INDEX(PTable[3-Method],MATCH(0,IF(DC$1=PTable[2-Test],COUNTIF(DC$1:DC43,PTable[3-Method]), \"\"),0)),\"\")","v":""},{"$f":"IFERROR(INDEX(PTable[3-Method],MATCH(0,IF(DD$1=PTable[2-Test],COUNTIF(DD$1:DD43,PTable[3-Method]), \"\"),0)),\"\")","v":""},{"$f":"IFERROR(INDEX(PTable[3-Method],MATCH(0,IF(DE$1=PTable[2-Test],COUNTIF(DE$1:DE43,PTable[3-Method]), \"\"),0)),\"\")","v":""},{"$f":"IFERROR(INDEX(PTable[3-Method],MATCH(0,IF(DF$1=PTable[2-Test],COUNTIF(DF$1:DF43,PTable[3-Method]), \"\"),0)),\"\")","v":""},{"$f":"IFERROR(INDEX(PTable[3-Method],MATCH(0,IF(DG$1=PTable[2-Test],COUNTIF(DG$1:DG43,PTable[3-Method]), \"\"),0)),\"\")","v":""},{"$f":"IFERROR(INDEX(PTable[3-Method],MATCH(0,IF(DH$1=PTable[2-Test],COUNTIF(DH$1:DH43,PTable[3-Method]), \"\"),0)),\"\")","v":""},{"$f":"IFERROR(INDEX(PTable[3-Method],MATCH(0,IF(DI$1=PTable[2-Test],COUNTIF(DI$1:DI43,PTable[3-Method]), \"\"),0)),\"\")","v":""},{"$f":"IFERROR(INDEX(PTable[3-Method],MATCH(0,IF(DJ$1=PTable[2-Test],COUNTIF(DJ$1:DJ43,PTable[3-Method]), \"\"),0)),\"\")","v":""}]
["See Instruction",null,null,null,null,null,{"$f":"IFERROR(INDEX(PTable[3-Method],MATCH(0,IF(G$1=PTable[2-Test],COUNTIF(G$1:G44,PTable[3-Method]), \"\"),0)),\"\")","v":""},{"$f":"IFERROR(INDEX(PTable[3-Method],MATCH(0,IF(H$1=PTable[2-Test],COUNTIF(H$1:H44,PTable[3-Method]), \"\"),0)),\"\")","v":""},{"$f":"IFERROR(INDEX(PTable[3-Method],MATCH(0,IF(I$1=PTable[2-Test],COUNTIF(I$1:I44,PTable[3-Method]), \"\"),0)),\"\")","v":""},{"$f":"IFERROR(INDEX(PTable[3-Method],MATCH(0,IF(J$1=PTable[2-Test],COUNTIF(J$1:J44,PTable[3-Method]), \"\"),0)),\"\")","v":""},{"$f":"IFERROR(INDEX(PTable[3-Method],MATCH(0,IF(K$1=PTable[2-Test],COUNTIF(K$1:K44,PTable[3-Method]), \"\"),0)),\"\")","v":""},{"$f":"IFERROR(INDEX(PTable[3-Method],MATCH(0,IF(L$1=PTable[2-Test],COUNTIF(L$1:L44,PTable[3-Method]), \"\"),0)),\"\")","v":""},{"$f":"IFERROR(INDEX(PTable[3-Method],MATCH(0,IF(M$1=PTable[2-Test],COUNTIF(M$1:M44,PTable[3-Method]), \"\"),0)),\"\")","v":""},{"$f":"IFERROR(INDEX(PTable[3-Method],MATCH(0,IF(N$1=PTable[2-Test],COUNTIF(N$1:N44,PTable[3-Method]), \"\"),0)),\"\")","v":""},{"$f":"IFERROR(INDEX(PTable[3-Method],MATCH(0,IF(O$1=PTable[2-Test],COUNTIF(O$1:O44,PTable[3-Method]), \"\"),0)),\"\")","v":""},{"$f":"IFERROR(INDEX(PTable[3-Method],MATCH(0,IF(P$1=PTable[2-Test],COUNTIF(P$1:P44,PTable[3-Method]), \"\"),0)),\"\")","v":""},{"$f":"IFERROR(INDEX(PTable[3-Method],MATCH(0,IF(Q$1=PTable[2-Test],COUNTIF(Q$1:Q44,PTable[3-Method]), \"\"),0)),\"\")","v":""},{"$f":"IFERROR(INDEX(PTable[3-Method],MATCH(0,IF(R$1=PTable[2-Test],COUNTIF(R$1:R44,PTable[3-Method]), \"\"),0)),\"\")","v":""},{"$f":"IFERROR(INDEX(PTable[3-Method],MATCH(0,IF(S$1=PTable[2-Test],COUNTIF(S$1:S44,PTable[3-Method]), \"\"),0)),\"\")","v":""},{"$f":"IFERROR(INDEX(PTable[3-Method],MATCH(0,IF(T$1=PTable[2-Test],COUNTIF(T$1:T44,PTable[3-Method]), \"\"),0)),\"\")","v":""},{"$f":"IFERROR(INDEX(PTable[3-Method],MATCH(0,IF(U$1=PTable[2-Test],COUNTIF(U$1:U44,PTable[3-Method]), \"\"),0)),\"\")","v":""},{"$f":"IFERROR(INDEX(PTable[3-Method],MATCH(0,IF(V$1=PTable[2-Test],COUNTIF(V$1:V44,PTable[3-Method]), \"\"),0)),\"\")","v":""},{"$f":"IFERROR(INDEX(PTable[3-Method],MATCH(0,IF(W$1=PTable[2-Test],COUNTIF(W$1:W44,PTable[3-Method]), \"\"),0)),\"\")","v":""},{"$f":"IFERROR(INDEX(PTable[3-Method],MATCH(0,IF(X$1=PTable[2-Test],COUNTIF(X$1:X44,PTable[3-Method]), \"\"),0)),\"\")","v":""},{"$f":"IFERROR(INDEX(PTable[3-Method],MATCH(0,IF(Y$1=PTable[2-Test],COUNTIF(Y$1:Y44,PTable[3-Method]), \"\"),0)),\"\")","v":""},{"$f":"IFERROR(INDEX(PTable[3-Method],MATCH(0,IF(Z$1=PTable[2-Test],COUNTIF(Z$1:Z44,PTable[3-Method]), \"\"),0)),\"\")","v":""},{"$f":"IFERROR(INDEX(PTable[3-Method],MATCH(0,IF(AA$1=PTable[2-Test],COUNTIF(AA$1:AA44,PTable[3-Method]), \"\"),0)),\"\")","v":""},{"$f":"IFERROR(INDEX(PTable[3-Method],MATCH(0,IF(AB$1=PTable[2-Test],COUNTIF(AB$1:AB44,PTable[3-Method]), \"\"),0)),\"\")","v":""},{"$f":"IFERROR(INDEX(PTable[3-Method],MATCH(0,IF(AC$1=PTable[2-Test],COUNTIF(AC$1:AC44,PTable[3-Method]), \"\"),0)),\"\")","v":""},{"$f":"IFERROR(INDEX(PTable[3-Method],MATCH(0,IF(AD$1=PTable[2-Test],COUNTIF(AD$1:AD44,PTable[3-Method]), \"\"),0)),\"\")","v":""},{"$f":"IFERROR(INDEX(PTable[3-Method],MATCH(0,IF(AE$1=PTable[2-Test],COUNTIF(AE$1:AE44,PTable[3-Method]), \"\"),0)),\"\")","v":""},{"$f":"IFERROR(INDEX(PTable[3-Method],MATCH(0,IF(AF$1=PTable[2-Test],COUNTIF(AF$1:AF44,PTable[3-Method]), \"\"),0)),\"\")","v":""},{"$f":"IFERROR(INDEX(PTable[3-Method],MATCH(0,IF(AG$1=PTable[2-Test],COUNTIF(AG$1:AG44,PTable[3-Method]), \"\"),0)),\"\")","v":""},{"$f":"IFERROR(INDEX(PTable[3-Method],MATCH(0,IF(AH$1=PTable[2-Test],COUNTIF(AH$1:AH44,PTable[3-Method]), \"\"),0)),\"\")","v":""},{"$f":"IFERROR(INDEX(PTable[3-Method],MATCH(0,IF(AI$1=PTable[2-Test],COUNTIF(AI$1:AI44,PTable[3-Method]), \"\"),0)),\"\")","v":""},{"$f":"IFERROR(INDEX(PTable[3-Method],MATCH(0,IF(AJ$1=PTable[2-Test],COUNTIF(AJ$1:AJ44,PTable[3-Method]), \"\"),0)),\"\")","v":""},{"$f":"IFERROR(INDEX(PTable[3-Method],MATCH(0,IF(AK$1=PTable[2-Test],COUNTIF(AK$1:AK44,PTable[3-Method]), \"\"),0)),\"\")","v":""},{"$f":"IFERROR(INDEX(PTable[3-Method],MATCH(0,IF(AL$1=PTable[2-Test],COUNTIF(AL$1:AL44,PTable[3-Method]), \"\"),0)),\"\")","v":""},{"$f":"IFERROR(INDEX(PTable[3-Method],MATCH(0,IF(AM$1=PTable[2-Test],COUNTIF(AM$1:AM44,PTable[3-Method]), \"\"),0)),\"\")","v":""},{"$f":"IFERROR(INDEX(PTable[3-Method],MATCH(0,IF(AN$1=PTable[2-Test],COUNTIF(AN$1:AN44,PTable[3-Method]), \"\"),0)),\"\")","v":""},{"$f":"IFERROR(INDEX(PTable[3-Method],MATCH(0,IF(AO$1=PTable[2-Test],COUNTIF(AO$1:AO44,PTable[3-Method]), \"\"),0)),\"\")","v":""},{"$f":"IFERROR(INDEX(PTable[3-Method],MATCH(0,IF(AP$1=PTable[2-Test],COUNTIF(AP$1:AP44,PTable[3-Method]), \"\"),0)),\"\")","v":""},{"$f":"IFERROR(INDEX(PTable[3-Method],MATCH(0,IF(AQ$1=PTable[2-Test],COUNTIF(AQ$1:AQ44,PTable[3-Method]), \"\"),0)),\"\")","v":""},{"$f":"IFERROR(INDEX(PTable[3-Method],MATCH(0,IF(AR$1=PTable[2-Test],COUNTIF(AR$1:AR44,PTable[3-Method]), \"\"),0)),\"\")","v":""},{"$f":"IFERROR(INDEX(PTable[3-Method],MATCH(0,IF(AS$1=PTable[2-Test],COUNTIF(AS$1:AS44,PTable[3-Method]), \"\"),0)),\"\")","v":""},{"$f":"IFERROR(INDEX(PTable[3-Method],MATCH(0,IF(AT$1=PTable[2-Test],COUNTIF(AT$1:AT44,PTable[3-Method]), \"\"),0)),\"\")","v":""},{"$f":"IFERROR(INDEX(PTable[3-Method],MATCH(0,IF(AU$1=PTable[2-Test],COUNTIF(AU$1:AU44,PTable[3-Method]), \"\"),0)),\"\")","v":""},{"$f":"IFERROR(INDEX(PTable[3-Method],MATCH(0,IF(AV$1=PTable[2-Test],COUNTIF(AV$1:AV44,PTable[3-Method]), \"\"),0)),\"\")","v":""},{"$f":"IFERROR(INDEX(PTable[3-Method],MATCH(0,IF(AW$1=PTable[2-Test],COUNTIF(AW$1:AW44,PTable[3-Method]), \"\"),0)),\"\")","v":""},{"$f":"IFERROR(INDEX(PTable[3-Method],MATCH(0,IF(AX$1=PTable[2-Test],COUNTIF(AX$1:AX44,PTable[3-Method]), \"\"),0)),\"\")","v":""},{"$f":"IFERROR(INDEX(PTable[3-Method],MATCH(0,IF(AY$1=PTable[2-Test],COUNTIF(AY$1:AY44,PTable[3-Method]), \"\"),0)),\"\")","v":""},{"$f":"IFERROR(INDEX(PTable[3-Method],MATCH(0,IF(AZ$1=PTable[2-Test],COUNTIF(AZ$1:AZ44,PTable[3-Method]), \"\"),0)),\"\")","v":""},{"$f":"IFERROR(INDEX(PTable[3-Method],MATCH(0,IF(BA$1=PTable[2-Test],COUNTIF(BA$1:BA44,PTable[3-Method]), \"\"),0)),\"\")","v":""},{"$f":"IFERROR(INDEX(PTable[3-Method],MATCH(0,IF(BB$1=PTable[2-Test],COUNTIF(BB$1:BB44,PTable[3-Method]), \"\"),0)),\"\")","v":""},{"$f":"IFERROR(INDEX(PTable[3-Method],MATCH(0,IF(BC$1=PTable[2-Test],COUNTIF(BC$1:BC44,PTable[3-Method]), \"\"),0)),\"\")","v":""},{"$f":"IFERROR(INDEX(PTable[3-Method],MATCH(0,IF(BD$1=PTable[2-Test],COUNTIF(BD$1:BD44,PTable[3-Method]), \"\"),0)),\"\")","v":""},{"$f":"IFERROR(INDEX(PTable[3-Method],MATCH(0,IF(BE$1=PTable[2-Test],COUNTIF(BE$1:BE44,PTable[3-Method]), \"\"),0)),\"\")","v":""},{"$f":"IFERROR(INDEX(PTable[3-Method],MATCH(0,IF(BF$1=PTable[2-Test],COUNTIF(BF$1:BF44,PTable[3-Method]), \"\"),0)),\"\")","v":""},{"$f":"IFERROR(INDEX(PTable[3-Method],MATCH(0,IF(BG$1=PTable[2-Test],COUNTIF(BG$1:BG44,PTable[3-Method]), \"\"),0)),\"\")","v":""},{"$f":"IFERROR(INDEX(PTable[3-Method],MATCH(0,IF(BH$1=PTable[2-Test],COUNTIF(BH$1:BH44,PTable[3-Method]), \"\"),0)),\"\")","v":""},{"$f":"IFERROR(INDEX(PTable[3-Method],MATCH(0,IF(BI$1=PTable[2-Test],COUNTIF(BI$1:BI44,PTable[3-Method]), \"\"),0)),\"\")","v":""},{"$f":"IFERROR(INDEX(PTable[3-Method],MATCH(0,IF(BJ$1=PTable[2-Test],COUNTIF(BJ$1:BJ44,PTable[3-Method]), \"\"),0)),\"\")","v":""},{"$f":"IFERROR(INDEX(PTable[3-Method],MATCH(0,IF(BK$1=PTable[2-Test],COUNTIF(BK$1:BK44,PTable[3-Method]), \"\"),0)),\"\")","v":""},{"$f":"IFERROR(INDEX(PTable[3-Method],MATCH(0,IF(BL$1=PTable[2-Test],COUNTIF(BL$1:BL44,PTable[3-Method]), \"\"),0)),\"\")","v":""},{"$f":"IFERROR(INDEX(PTable[3-Method],MATCH(0,IF(BM$1=PTable[2-Test],COUNTIF(BM$1:BM44,PTable[3-Method]), \"\"),0)),\"\")","v":""},{"$f":"IFERROR(INDEX(PTable[3-Method],MATCH(0,IF(BN$1=PTable[2-Test],COUNTIF(BN$1:BN44,PTable[3-Method]), \"\"),0)),\"\")","v":""},{"$f":"IFERROR(INDEX(PTable[3-Method],MATCH(0,IF(BO$1=PTable[2-Test],COUNTIF(BO$1:BO44,PTable[3-Method]), \"\"),0)),\"\")","v":""},{"$f":"IFERROR(INDEX(PTable[3-Method],MATCH(0,IF(BP$1=PTable[2-Test],COUNTIF(BP$1:BP44,PTable[3-Method]), \"\"),0)),\"\")","v":"USP375g"},{"$f":"IFERROR(INDEX(PTable[3-Method],MATCH(0,IF(BQ$1=PTable[2-Test],COUNTIF(BQ$1:BQ44,PTable[3-Method]), \"\"),0)),\"\")","v":""},{"$f":"IFERROR(INDEX(PTable[3-Method],MATCH(0,IF(BR$1=PTable[2-Test],COUNTIF(BR$1:BR44,PTable[3-Method]), \"\"),0)),\"\")","v":""},{"$f":"IFERROR(INDEX(PTable[3-Method],MATCH(0,IF(BS$1=PTable[2-Test],COUNTIF(BS$1:BS44,PTable[3-Method]), \"\"),0)),\"\")","v":""},{"$f":"IFERROR(INDEX(PTable[3-Method],MATCH(0,IF(BT$1=PTable[2-Test],COUNTIF(BT$1:BT44,PTable[3-Method]), \"\"),0)),\"\")","v":""},{"$f":"IFERROR(INDEX(PTable[3-Method],MATCH(0,IF(BU$1=PTable[2-Test],COUNTIF(BU$1:BU44,PTable[3-Method]), \"\"),0)),\"\")","v":""},{"$f":"IFERROR(INDEX(PTable[3-Method],MATCH(0,IF(BV$1=PTable[2-Test],COUNTIF(BV$1:BV44,PTable[3-Method]), \"\"),0)),\"\")","v":""},{"$f":"IFERROR(INDEX(PTable[3-Method],MATCH(0,IF(BW$1=PTable[2-Test],COUNTIF(BW$1:BW44,PTable[3-Method]), \"\"),0)),\"\")","v":""},{"$f":"IFERROR(INDEX(PTable[3-Method],MATCH(0,IF(BX$1=PTable[2-Test],COUNTIF(BX$1:BX44,PTable[3-Method]), \"\"),0)),\"\")","v":""},{"$f":"IFERROR(INDEX(PTable[3-Method],MATCH(0,IF(BY$1=PTable[2-Test],COUNTIF(BY$1:BY44,PTable[3-Method]), \"\"),0)),\"\")","v":""},{"$f":"IFERROR(INDEX(PTable[3-Method],MATCH(0,IF(BZ$1=PTable[2-Test],COUNTIF(BZ$1:BZ44,PTable[3-Method]), \"\"),0)),\"\")","v":""},{"$f":"IFERROR(INDEX(PTable[3-Method],MATCH(0,IF(CA$1=PTable[2-Test],COUNTIF(CA$1:CA44,PTable[3-Method]), \"\"),0)),\"\")","v":""},{"$f":"IFERROR(INDEX(PTable[3-Method],MATCH(0,IF(CB$1=PTable[2-Test],COUNTIF(CB$1:CB44,PTable[3-Method]), \"\"),0)),\"\")","v":""},{"$f":"IFERROR(INDEX(PTable[3-Method],MATCH(0,IF(CC$1=PTable[2-Test],COUNTIF(CC$1:CC44,PTable[3-Method]), \"\"),0)),\"\")","v":""},{"$f":"IFERROR(INDEX(PTable[3-Method],MATCH(0,IF(CD$1=PTable[2-Test],COUNTIF(CD$1:CD44,PTable[3-Method]), \"\"),0)),\"\")","v":""},{"$f":"IFERROR(INDEX(PTable[3-Method],MATCH(0,IF(CE$1=PTable[2-Test],COUNTIF(CE$1:CE44,PTable[3-Method]), \"\"),0)),\"\")","v":""},{"$f":"IFERROR(INDEX(PTable[3-Method],MATCH(0,IF(CF$1=PTable[2-Test],COUNTIF(CF$1:CF44,PTable[3-Method]), \"\"),0)),\"\")","v":""},{"$f":"IFERROR(INDEX(PTable[3-Method],MATCH(0,IF(CG$1=PTable[2-Test],COUNTIF(CG$1:CG44,PTable[3-Method]), \"\"),0)),\"\")","v":""},{"$f":"IFERROR(INDEX(PTable[3-Method],MATCH(0,IF(CH$1=PTable[2-Test],COUNTIF(CH$1:CH44,PTable[3-Method]), \"\"),0)),\"\")","v":""},{"$f":"IFERROR(INDEX(PTable[3-Method],MATCH(0,IF(CI$1=PTable[2-Test],COUNTIF(CI$1:CI44,PTable[3-Method]), \"\"),0)),\"\")","v":""},{"$f":"IFERROR(INDEX(PTable[3-Method],MATCH(0,IF(CJ$1=PTable[2-Test],COUNTIF(CJ$1:CJ44,PTable[3-Method]), \"\"),0)),\"\")","v":""},{"$f":"IFERROR(INDEX(PTable[3-Method],MATCH(0,IF(CK$1=PTable[2-Test],COUNTIF(CK$1:CK44,PTable[3-Method]), \"\"),0)),\"\")","v":""},{"$f":"IFERROR(INDEX(PTable[3-Method],MATCH(0,IF(CL$1=PTable[2-Test],COUNTIF(CL$1:CL44,PTable[3-Method]), \"\"),0)),\"\")","v":""},{"$f":"IFERROR(INDEX(PTable[3-Method],MATCH(0,IF(CM$1=PTable[2-Test],COUNTIF(CM$1:CM44,PTable[3-Method]), \"\"),0)),\"\")","v":""},{"$f":"IFERROR(INDEX(PTable[3-Method],MATCH(0,IF(CN$1=PTable[2-Test],COUNTIF(CN$1:CN44,PTable[3-Method]), \"\"),0)),\"\")","v":""},{"$f":"IFERROR(INDEX(PTable[3-Method],MATCH(0,IF(CO$1=PTable[2-Test],COUNTIF(CO$1:CO44,PTable[3-Method]), \"\"),0)),\"\")","v":""},{"$f":"IFERROR(INDEX(PTable[3-Method],MATCH(0,IF(CP$1=PTable[2-Test],COUNTIF(CP$1:CP44,PTable[3-Method]), \"\"),0)),\"\")","v":""},{"$f":"IFERROR(INDEX(PTable[3-Method],MATCH(0,IF(CQ$1=PTable[2-Test],COUNTIF(CQ$1:CQ44,PTable[3-Method]), \"\"),0)),\"\")","v":""},{"$f":"IFERROR(INDEX(PTable[3-Method],MATCH(0,IF(CR$1=PTable[2-Test],COUNTIF(CR$1:CR44,PTable[3-Method]), \"\"),0)),\"\")","v":""},{"$f":"IFERROR(INDEX(PTable[3-Method],MATCH(0,IF(CS$1=PTable[2-Test],COUNTIF(CS$1:CS44,PTable[3-Method]), \"\"),0)),\"\")","v":""},{"$f":"IFERROR(INDEX(PTable[3-Method],MATCH(0,IF(CT$1=PTable[2-Test],COUNTIF(CT$1:CT44,PTable[3-Method]), \"\"),0)),\"\")","v":""},{"$f":"IFERROR(INDEX(PTable[3-Method],MATCH(0,IF(CU$1=PTable[2-Test],COUNTIF(CU$1:CU44,PTable[3-Method]), \"\"),0)),\"\")","v":""},{"$f":"IFERROR(INDEX(PTable[3-Method],MATCH(0,IF(CV$1=PTable[2-Test],COUNTIF(CV$1:CV44,PTable[3-Method]), \"\"),0)),\"\")","v":""},{"$f":"IFERROR(INDEX(PTable[3-Method],MATCH(0,IF(CW$1=PTable[2-Test],COUNTIF(CW$1:CW44,PTable[3-Method]), \"\"),0)),\"\")","v":""},{"$f":"IFERROR(INDEX(PTable[3-Method],MATCH(0,IF(CX$1=PTable[2-Test],COUNTIF(CX$1:CX44,PTable[3-Method]), \"\"),0)),\"\")","v":""},{"$f":"IFERROR(INDEX(PTable[3-Method],MATCH(0,IF(CY$1=PTable[2-Test],COUNTIF(CY$1:CY44,PTable[3-Method]), \"\"),0)),\"\")","v":""},{"$f":"IFERROR(INDEX(PTable[3-Method],MATCH(0,IF(CZ$1=PTable[2-Test],COUNTIF(CZ$1:CZ44,PTable[3-Method]), \"\"),0)),\"\")","v":""},{"$f":"IFERROR(INDEX(PTable[3-Method],MATCH(0,IF(DA$1=PTable[2-Test],COUNTIF(DA$1:DA44,PTable[3-Method]), \"\"),0)),\"\")","v":""},{"$f":"IFERROR(INDEX(PTable[3-Method],MATCH(0,IF(DB$1=PTable[2-Test],COUNTIF(DB$1:DB44,PTable[3-Method]), \"\"),0)),\"\")","v":""},{"$f":"IFERROR(INDEX(PTable[3-Method],MATCH(0,IF(DC$1=PTable[2-Test],COUNTIF(DC$1:DC44,PTable[3-Method]), \"\"),0)),\"\")","v":""},{"$f":"IFERROR(INDEX(PTable[3-Method],MATCH(0,IF(DD$1=PTable[2-Test],COUNTIF(DD$1:DD44,PTable[3-Method]), \"\"),0)),\"\")","v":""},{"$f":"IFERROR(INDEX(PTable[3-Method],MATCH(0,IF(DE$1=PTable[2-Test],COUNTIF(DE$1:DE44,PTable[3-Method]), \"\"),0)),\"\")","v":""},{"$f":"IFERROR(INDEX(PTable[3-Method],MATCH(0,IF(DF$1=PTable[2-Test],COUNTIF(DF$1:DF44,PTable[3-Method]), \"\"),0)),\"\")","v":""},{"$f":"IFERROR(INDEX(PTable[3-Method],MATCH(0,IF(DG$1=PTable[2-Test],COUNTIF(DG$1:DG44,PTable[3-Method]), \"\"),0)),\"\")","v":""},{"$f":"IFERROR(INDEX(PTable[3-Method],MATCH(0,IF(DH$1=PTable[2-Test],COUNTIF(DH$1:DH44,PTable[3-Method]), \"\"),0)),\"\")","v":""},{"$f":"IFERROR(INDEX(PTable[3-Method],MATCH(0,IF(DI$1=PTable[2-Test],COUNTIF(DI$1:DI44,PTable[3-Method]), \"\"),0)),\"\")","v":""},{"$f":"IFERROR(INDEX(PTable[3-Method],MATCH(0,IF(DJ$1=PTable[2-Test],COUNTIF(DJ$1:DJ44,PTable[3-Method]), \"\"),0)),\"\")","v":""}]
[null,null,null,null,null,null,{"$f":"IFERROR(INDEX(PTable[3-Method],MATCH(0,IF(G$1=PTable[2-Test],COUNTIF(G$1:G45,PTable[3-Method]), \"\"),0)),\"\")","v":""},{"$f":"IFERROR(INDEX(PTable[3-Method],MATCH(0,IF(H$1=PTable[2-Test],COUNTIF(H$1:H45,PTable[3-Method]), \"\"),0)),\"\")","v":""},{"$f":"IFERROR(INDEX(PTable[3-Method],MATCH(0,IF(I$1=PTable[2-Test],COUNTIF(I$1:I45,PTable[3-Method]), \"\"),0)),\"\")","v":""},{"$f":"IFERROR(INDEX(PTable[3-Method],MATCH(0,IF(J$1=PTable[2-Test],COUNTIF(J$1:J45,PTable[3-Method]), \"\"),0)),\"\")","v":""},{"$f":"IFERROR(INDEX(PTable[3-Method],MATCH(0,IF(K$1=PTable[2-Test],COUNTIF(K$1:K45,PTable[3-Method]), \"\"),0)),\"\")","v":""},{"$f":"IFERROR(INDEX(PTable[3-Method],MATCH(0,IF(L$1=PTable[2-Test],COUNTIF(L$1:L45,PTable[3-Method]), \"\"),0)),\"\")","v":""},{"$f":"IFERROR(INDEX(PTable[3-Method],MATCH(0,IF(M$1=PTable[2-Test],COUNTIF(M$1:M45,PTable[3-Method]), \"\"),0)),\"\")","v":""},{"$f":"IFERROR(INDEX(PTable[3-Method],MATCH(0,IF(N$1=PTable[2-Test],COUNTIF(N$1:N45,PTable[3-Method]), \"\"),0)),\"\")","v":""},{"$f":"IFERROR(INDEX(PTable[3-Method],MATCH(0,IF(O$1=PTable[2-Test],COUNTIF(O$1:O45,PTable[3-Method]), \"\"),0)),\"\")","v":""},{"$f":"IFERROR(INDEX(PTable[3-Method],MATCH(0,IF(P$1=PTable[2-Test],COUNTIF(P$1:P45,PTable[3-Method]), \"\"),0)),\"\")","v":""},{"$f":"IFERROR(INDEX(PTable[3-Method],MATCH(0,IF(Q$1=PTable[2-Test],COUNTIF(Q$1:Q45,PTable[3-Method]), \"\"),0)),\"\")","v":""},{"$f":"IFERROR(INDEX(PTable[3-Method],MATCH(0,IF(R$1=PTable[2-Test],COUNTIF(R$1:R45,PTable[3-Method]), \"\"),0)),\"\")","v":""},{"$f":"IFERROR(INDEX(PTable[3-Method],MATCH(0,IF(S$1=PTable[2-Test],COUNTIF(S$1:S45,PTable[3-Method]), \"\"),0)),\"\")","v":""},{"$f":"IFERROR(INDEX(PTable[3-Method],MATCH(0,IF(T$1=PTable[2-Test],COUNTIF(T$1:T45,PTable[3-Method]), \"\"),0)),\"\")","v":""},{"$f":"IFERROR(INDEX(PTable[3-Method],MATCH(0,IF(U$1=PTable[2-Test],COUNTIF(U$1:U45,PTable[3-Method]), \"\"),0)),\"\")","v":""},{"$f":"IFERROR(INDEX(PTable[3-Method],MATCH(0,IF(V$1=PTable[2-Test],COUNTIF(V$1:V45,PTable[3-Method]), \"\"),0)),\"\")","v":""},{"$f":"IFERROR(INDEX(PTable[3-Method],MATCH(0,IF(W$1=PTable[2-Test],COUNTIF(W$1:W45,PTable[3-Method]), \"\"),0)),\"\")","v":""},{"$f":"IFERROR(INDEX(PTable[3-Method],MATCH(0,IF(X$1=PTable[2-Test],COUNTIF(X$1:X45,PTable[3-Method]), \"\"),0)),\"\")","v":""},{"$f":"IFERROR(INDEX(PTable[3-Method],MATCH(0,IF(Y$1=PTable[2-Test],COUNTIF(Y$1:Y45,PTable[3-Method]), \"\"),0)),\"\")","v":""},{"$f":"IFERROR(INDEX(PTable[3-Method],MATCH(0,IF(Z$1=PTable[2-Test],COUNTIF(Z$1:Z45,PTable[3-Method]), \"\"),0)),\"\")","v":""},{"$f":"IFERROR(INDEX(PTable[3-Method],MATCH(0,IF(AA$1=PTable[2-Test],COUNTIF(AA$1:AA45,PTable[3-Method]), \"\"),0)),\"\")","v":""},{"$f":"IFERROR(INDEX(PTable[3-Method],MATCH(0,IF(AB$1=PTable[2-Test],COUNTIF(AB$1:AB45,PTable[3-Method]), \"\"),0)),\"\")","v":""},{"$f":"IFERROR(INDEX(PTable[3-Method],MATCH(0,IF(AC$1=PTable[2-Test],COUNTIF(AC$1:AC45,PTable[3-Method]), \"\"),0)),\"\")","v":""},{"$f":"IFERROR(INDEX(PTable[3-Method],MATCH(0,IF(AD$1=PTable[2-Test],COUNTIF(AD$1:AD45,PTable[3-Method]), \"\"),0)),\"\")","v":""},{"$f":"IFERROR(INDEX(PTable[3-Method],MATCH(0,IF(AE$1=PTable[2-Test],COUNTIF(AE$1:AE45,PTable[3-Method]), \"\"),0)),\"\")","v":""},{"$f":"IFERROR(INDEX(PTable[3-Method],MATCH(0,IF(AF$1=PTable[2-Test],COUNTIF(AF$1:AF45,PTable[3-Method]), \"\"),0)),\"\")","v":""},{"$f":"IFERROR(INDEX(PTable[3-Method],MATCH(0,IF(AG$1=PTable[2-Test],COUNTIF(AG$1:AG45,PTable[3-Method]), \"\"),0)),\"\")","v":""},{"$f":"IFERROR(INDEX(PTable[3-Method],MATCH(0,IF(AH$1=PTable[2-Test],COUNTIF(AH$1:AH45,PTable[3-Method]), \"\"),0)),\"\")","v":""},{"$f":"IFERROR(INDEX(PTable[3-Method],MATCH(0,IF(AI$1=PTable[2-Test],COUNTIF(AI$1:AI45,PTable[3-Method]), \"\"),0)),\"\")","v":""},{"$f":"IFERROR(INDEX(PTable[3-Method],MATCH(0,IF(AJ$1=PTable[2-Test],COUNTIF(AJ$1:AJ45,PTable[3-Method]), \"\"),0)),\"\")","v":""},{"$f":"IFERROR(INDEX(PTable[3-Method],MATCH(0,IF(AK$1=PTable[2-Test],COUNTIF(AK$1:AK45,PTable[3-Method]), \"\"),0)),\"\")","v":""},{"$f":"IFERROR(INDEX(PTable[3-Method],MATCH(0,IF(AL$1=PTable[2-Test],COUNTIF(AL$1:AL45,PTable[3-Method]), \"\"),0)),\"\")","v":""},{"$f":"IFERROR(INDEX(PTable[3-Method],MATCH(0,IF(AM$1=PTable[2-Test],COUNTIF(AM$1:AM45,PTable[3-Method]), \"\"),0)),\"\")","v":""},{"$f":"IFERROR(INDEX(PTable[3-Method],MATCH(0,IF(AN$1=PTable[2-Test],COUNTIF(AN$1:AN45,PTable[3-Method]), \"\"),0)),\"\")","v":""},{"$f":"IFERROR(INDEX(PTable[3-Method],MATCH(0,IF(AO$1=PTable[2-Test],COUNTIF(AO$1:AO45,PTable[3-Method]), \"\"),0)),\"\")","v":""},{"$f":"IFERROR(INDEX(PTable[3-Method],MATCH(0,IF(AP$1=PTable[2-Test],COUNTIF(AP$1:AP45,PTable[3-Method]), \"\"),0)),\"\")","v":""},{"$f":"IFERROR(INDEX(PTable[3-Method],MATCH(0,IF(AQ$1=PTable[2-Test],COUNTIF(AQ$1:AQ45,PTable[3-Method]), \"\"),0)),\"\")","v":""},{"$f":"IFERROR(INDEX(PTable[3-Method],MATCH(0,IF(AR$1=PTable[2-Test],COUNTIF(AR$1:AR45,PTable[3-Method]), \"\"),0)),\"\")","v":""},{"$f":"IFERROR(INDEX(PTable[3-Method],MATCH(0,IF(AS$1=PTable[2-Test],COUNTIF(AS$1:AS45,PTable[3-Method]), \"\"),0)),\"\")","v":""},{"$f":"IFERROR(INDEX(PTable[3-Method],MATCH(0,IF(AT$1=PTable[2-Test],COUNTIF(AT$1:AT45,PTable[3-Method]), \"\"),0)),\"\")","v":""},{"$f":"IFERROR(INDEX(PTable[3-Method],MATCH(0,IF(AU$1=PTable[2-Test],COUNTIF(AU$1:AU45,PTable[3-Method]), \"\"),0)),\"\")","v":""},{"$f":"IFERROR(INDEX(PTable[3-Method],MATCH(0,IF(AV$1=PTable[2-Test],COUNTIF(AV$1:AV45,PTable[3-Method]), \"\"),0)),\"\")","v":""},{"$f":"IFERROR(INDEX(PTable[3-Method],MATCH(0,IF(AW$1=PTable[2-Test],COUNTIF(AW$1:AW45,PTable[3-Method]), \"\"),0)),\"\")","v":""},{"$f":"IFERROR(INDEX(PTable[3-Method],MATCH(0,IF(AX$1=PTable[2-Test],COUNTIF(AX$1:AX45,PTable[3-Method]), \"\"),0)),\"\")","v":""},{"$f":"IFERROR(INDEX(PTable[3-Method],MATCH(0,IF(AY$1=PTable[2-Test],COUNTIF(AY$1:AY45,PTable[3-Method]), \"\"),0)),\"\")","v":""},{"$f":"IFERROR(INDEX(PTable[3-Method],MATCH(0,IF(AZ$1=PTable[2-Test],COUNTIF(AZ$1:AZ45,PTable[3-Method]), \"\"),0)),\"\")","v":""},{"$f":"IFERROR(INDEX(PTable[3-Method],MATCH(0,IF(BA$1=PTable[2-Test],COUNTIF(BA$1:BA45,PTable[3-Method]), \"\"),0)),\"\")","v":""},{"$f":"IFERROR(INDEX(PTable[3-Method],MATCH(0,IF(BB$1=PTable[2-Test],COUNTIF(BB$1:BB45,PTable[3-Method]), \"\"),0)),\"\")","v":""},{"$f":"IFERROR(INDEX(PTable[3-Method],MATCH(0,IF(BC$1=PTable[2-Test],COUNTIF(BC$1:BC45,PTable[3-Method]), \"\"),0)),\"\")","v":""},{"$f":"IFERROR(INDEX(PTable[3-Method],MATCH(0,IF(BD$1=PTable[2-Test],COUNTIF(BD$1:BD45,PTable[3-Method]), \"\"),0)),\"\")","v":""},{"$f":"IFERROR(INDEX(PTable[3-Method],MATCH(0,IF(BE$1=PTable[2-Test],COUNTIF(BE$1:BE45,PTable[3-Method]), \"\"),0)),\"\")","v":""},{"$f":"IFERROR(INDEX(PTable[3-Method],MATCH(0,IF(BF$1=PTable[2-Test],COUNTIF(BF$1:BF45,PTable[3-Method]), \"\"),0)),\"\")","v":""},{"$f":"IFERROR(INDEX(PTable[3-Method],MATCH(0,IF(BG$1=PTable[2-Test],COUNTIF(BG$1:BG45,PTable[3-Method]), \"\"),0)),\"\")","v":""},{"$f":"IFERROR(INDEX(PTable[3-Method],MATCH(0,IF(BH$1=PTable[2-Test],COUNTIF(BH$1:BH45,PTable[3-Method]), \"\"),0)),\"\")","v":""},{"$f":"IFERROR(INDEX(PTable[3-Method],MATCH(0,IF(BI$1=PTable[2-Test],COUNTIF(BI$1:BI45,PTable[3-Method]), \"\"),0)),\"\")","v":""},{"$f":"IFERROR(INDEX(PTable[3-Method],MATCH(0,IF(BJ$1=PTable[2-Test],COUNTIF(BJ$1:BJ45,PTable[3-Method]), \"\"),0)),\"\")","v":""},{"$f":"IFERROR(INDEX(PTable[3-Method],MATCH(0,IF(BK$1=PTable[2-Test],COUNTIF(BK$1:BK45,PTable[3-Method]), \"\"),0)),\"\")","v":""},{"$f":"IFERROR(INDEX(PTable[3-Method],MATCH(0,IF(BL$1=PTable[2-Test],COUNTIF(BL$1:BL45,PTable[3-Method]), \"\"),0)),\"\")","v":""},{"$f":"IFERROR(INDEX(PTable[3-Method],MATCH(0,IF(BM$1=PTable[2-Test],COUNTIF(BM$1:BM45,PTable[3-Method]), \"\"),0)),\"\")","v":""},{"$f":"IFERROR(INDEX(PTable[3-Method],MATCH(0,IF(BN$1=PTable[2-Test],COUNTIF(BN$1:BN45,PTable[3-Method]), \"\"),0)),\"\")","v":""},{"$f":"IFERROR(INDEX(PTable[3-Method],MATCH(0,IF(BO$1=PTable[2-Test],COUNTIF(BO$1:BO45,PTable[3-Method]), \"\"),0)),\"\")","v":""},{"$f":"IFERROR(INDEX(PTable[3-Method],MATCH(0,IF(BP$1=PTable[2-Test],COUNTIF(BP$1:BP45,PTable[3-Method]), \"\"),0)),\"\")","v":"USP5g"},{"$f":"IFERROR(INDEX(PTable[3-Method],MATCH(0,IF(BQ$1=PTable[2-Test],COUNTIF(BQ$1:BQ45,PTable[3-Method]), \"\"),0)),\"\")","v":""},{"$f":"IFERROR(INDEX(PTable[3-Method],MATCH(0,IF(BR$1=PTable[2-Test],COUNTIF(BR$1:BR45,PTable[3-Method]), \"\"),0)),\"\")","v":""},{"$f":"IFERROR(INDEX(PTable[3-Method],MATCH(0,IF(BS$1=PTable[2-Test],COUNTIF(BS$1:BS45,PTable[3-Method]), \"\"),0)),\"\")","v":""},{"$f":"IFERROR(INDEX(PTable[3-Method],MATCH(0,IF(BT$1=PTable[2-Test],COUNTIF(BT$1:BT45,PTable[3-Method]), \"\"),0)),\"\")","v":""},{"$f":"IFERROR(INDEX(PTable[3-Method],MATCH(0,IF(BU$1=PTable[2-Test],COUNTIF(BU$1:BU45,PTable[3-Method]), \"\"),0)),\"\")","v":""},{"$f":"IFERROR(INDEX(PTable[3-Method],MATCH(0,IF(BV$1=PTable[2-Test],COUNTIF(BV$1:BV45,PTable[3-Method]), \"\"),0)),\"\")","v":""},{"$f":"IFERROR(INDEX(PTable[3-Method],MATCH(0,IF(BW$1=PTable[2-Test],COUNTIF(BW$1:BW45,PTable[3-Method]), \"\"),0)),\"\")","v":""},{"$f":"IFERROR(INDEX(PTable[3-Method],MATCH(0,IF(BX$1=PTable[2-Test],COUNTIF(BX$1:BX45,PTable[3-Method]), \"\"),0)),\"\")","v":""},{"$f":"IFERROR(INDEX(PTable[3-Method],MATCH(0,IF(BY$1=PTable[2-Test],COUNTIF(BY$1:BY45,PTable[3-Method]), \"\"),0)),\"\")","v":""},{"$f":"IFERROR(INDEX(PTable[3-Method],MATCH(0,IF(BZ$1=PTable[2-Test],COUNTIF(BZ$1:BZ45,PTable[3-Method]), \"\"),0)),\"\")","v":""},{"$f":"IFERROR(INDEX(PTable[3-Method],MATCH(0,IF(CA$1=PTable[2-Test],COUNTIF(CA$1:CA45,PTable[3-Method]), \"\"),0)),\"\")","v":""},{"$f":"IFERROR(INDEX(PTable[3-Method],MATCH(0,IF(CB$1=PTable[2-Test],COUNTIF(CB$1:CB45,PTable[3-Method]), \"\"),0)),\"\")","v":""},{"$f":"IFERROR(INDEX(PTable[3-Method],MATCH(0,IF(CC$1=PTable[2-Test],COUNTIF(CC$1:CC45,PTable[3-Method]), \"\"),0)),\"\")","v":""},{"$f":"IFERROR(INDEX(PTable[3-Method],MATCH(0,IF(CD$1=PTable[2-Test],COUNTIF(CD$1:CD45,PTable[3-Method]), \"\"),0)),\"\")","v":""},{"$f":"IFERROR(INDEX(PTable[3-Method],MATCH(0,IF(CE$1=PTable[2-Test],COUNTIF(CE$1:CE45,PTable[3-Method]), \"\"),0)),\"\")","v":""},{"$f":"IFERROR(INDEX(PTable[3-Method],MATCH(0,IF(CF$1=PTable[2-Test],COUNTIF(CF$1:CF45,PTable[3-Method]), \"\"),0)),\"\")","v":""},{"$f":"IFERROR(INDEX(PTable[3-Method],MATCH(0,IF(CG$1=PTable[2-Test],COUNTIF(CG$1:CG45,PTable[3-Method]), \"\"),0)),\"\")","v":""},{"$f":"IFERROR(INDEX(PTable[3-Method],MATCH(0,IF(CH$1=PTable[2-Test],COUNTIF(CH$1:CH45,PTable[3-Method]), \"\"),0)),\"\")","v":""},{"$f":"IFERROR(INDEX(PTable[3-Method],MATCH(0,IF(CI$1=PTable[2-Test],COUNTIF(CI$1:CI45,PTable[3-Method]), \"\"),0)),\"\")","v":""},{"$f":"IFERROR(INDEX(PTable[3-Method],MATCH(0,IF(CJ$1=PTable[2-Test],COUNTIF(CJ$1:CJ45,PTable[3-Method]), \"\"),0)),\"\")","v":""},{"$f":"IFERROR(INDEX(PTable[3-Method],MATCH(0,IF(CK$1=PTable[2-Test],COUNTIF(CK$1:CK45,PTable[3-Method]), \"\"),0)),\"\")","v":""},{"$f":"IFERROR(INDEX(PTable[3-Method],MATCH(0,IF(CL$1=PTable[2-Test],COUNTIF(CL$1:CL45,PTable[3-Method]), \"\"),0)),\"\")","v":""},{"$f":"IFERROR(INDEX(PTable[3-Method],MATCH(0,IF(CM$1=PTable[2-Test],COUNTIF(CM$1:CM45,PTable[3-Method]), \"\"),0)),\"\")","v":""},{"$f":"IFERROR(INDEX(PTable[3-Method],MATCH(0,IF(CN$1=PTable[2-Test],COUNTIF(CN$1:CN45,PTable[3-Method]), \"\"),0)),\"\")","v":""},{"$f":"IFERROR(INDEX(PTable[3-Method],MATCH(0,IF(CO$1=PTable[2-Test],COUNTIF(CO$1:CO45,PTable[3-Method]), \"\"),0)),\"\")","v":""},{"$f":"IFERROR(INDEX(PTable[3-Method],MATCH(0,IF(CP$1=PTable[2-Test],COUNTIF(CP$1:CP45,PTable[3-Method]), \"\"),0)),\"\")","v":""},{"$f":"IFERROR(INDEX(PTable[3-Method],MATCH(0,IF(CQ$1=PTable[2-Test],COUNTIF(CQ$1:CQ45,PTable[3-Method]), \"\"),0)),\"\")","v":""},{"$f":"IFERROR(INDEX(PTable[3-Method],MATCH(0,IF(CR$1=PTable[2-Test],COUNTIF(CR$1:CR45,PTable[3-Method]), \"\"),0)),\"\")","v":""},{"$f":"IFERROR(INDEX(PTable[3-Method],MATCH(0,IF(CS$1=PTable[2-Test],COUNTIF(CS$1:CS45,PTable[3-Method]), \"\"),0)),\"\")","v":""},{"$f":"IFERROR(INDEX(PTable[3-Method],MATCH(0,IF(CT$1=PTable[2-Test],COUNTIF(CT$1:CT45,PTable[3-Method]), \"\"),0)),\"\")","v":""},{"$f":"IFERROR(INDEX(PTable[3-Method],MATCH(0,IF(CU$1=PTable[2-Test],COUNTIF(CU$1:CU45,PTable[3-Method]), \"\"),0)),\"\")","v":""},{"$f":"IFERROR(INDEX(PTable[3-Method],MATCH(0,IF(CV$1=PTable[2-Test],COUNTIF(CV$1:CV45,PTable[3-Method]), \"\"),0)),\"\")","v":""},{"$f":"IFERROR(INDEX(PTable[3-Method],MATCH(0,IF(CW$1=PTable[2-Test],COUNTIF(CW$1:CW45,PTable[3-Method]), \"\"),0)),\"\")","v":""},{"$f":"IFERROR(INDEX(PTable[3-Method],MATCH(0,IF(CX$1=PTable[2-Test],COUNTIF(CX$1:CX45,PTable[3-Method]), \"\"),0)),\"\")","v":""},{"$f":"IFERROR(INDEX(PTable[3-Method],MATCH(0,IF(CY$1=PTable[2-Test],COUNTIF(CY$1:CY45,PTable[3-Method]), \"\"),0)),\"\")","v":""},{"$f":"IFERROR(INDEX(PTable[3-Method],MATCH(0,IF(CZ$1=PTable[2-Test],COUNTIF(CZ$1:CZ45,PTable[3-Method]), \"\"),0)),\"\")","v":""},{"$f":"IFERROR(INDEX(PTable[3-Method],MATCH(0,IF(DA$1=PTable[2-Test],COUNTIF(DA$1:DA45,PTable[3-Method]), \"\"),0)),\"\")","v":""},{"$f":"IFERROR(INDEX(PTable[3-Method],MATCH(0,IF(DB$1=PTable[2-Test],COUNTIF(DB$1:DB45,PTable[3-Method]), \"\"),0)),\"\")","v":""},{"$f":"IFERROR(INDEX(PTable[3-Method],MATCH(0,IF(DC$1=PTable[2-Test],COUNTIF(DC$1:DC45,PTable[3-Method]), \"\"),0)),\"\")","v":""},{"$f":"IFERROR(INDEX(PTable[3-Method],MATCH(0,IF(DD$1=PTable[2-Test],COUNTIF(DD$1:DD45,PTable[3-Method]), \"\"),0)),\"\")","v":""},{"$f":"IFERROR(INDEX(PTable[3-Method],MATCH(0,IF(DE$1=PTable[2-Test],COUNTIF(DE$1:DE45,PTable[3-Method]), \"\"),0)),\"\")","v":""},{"$f":"IFERROR(INDEX(PTable[3-Method],MATCH(0,IF(DF$1=PTable[2-Test],COUNTIF(DF$1:DF45,PTable[3-Method]), \"\"),0)),\"\")","v":""},{"$f":"IFERROR(INDEX(PTable[3-Method],MATCH(0,IF(DG$1=PTable[2-Test],COUNTIF(DG$1:DG45,PTable[3-Method]), \"\"),0)),\"\")","v":""},{"$f":"IFERROR(INDEX(PTable[3-Method],MATCH(0,IF(DH$1=PTable[2-Test],COUNTIF(DH$1:DH45,PTable[3-Method]), \"\"),0)),\"\")","v":""},{"$f":"IFERROR(INDEX(PTable[3-Method],MATCH(0,IF(DI$1=PTable[2-Test],COUNTIF(DI$1:DI45,PTable[3-Method]), \"\"),0)),\"\")","v":""},{"$f":"IFERROR(INDEX(PTable[3-Method],MATCH(0,IF(DJ$1=PTable[2-Test],COUNTIF(DJ$1:DJ45,PTable[3-Method]), \"\"),0)),\"\")","v":""}]