{"text_format":"1","workbook":"xlsx","n_sheets":5,"sheets":["Environmental SARF","Test Method List","Instruction","Import","Background DropDowns"],"not_rendered":{"charts":0,"images":3,"macros":1,"external_links":0,"defined_names":13,"comments":0,"pivot_tables":0},"unopened":[],"bounds":{"document_bytes":16777216,"sheet_cells":100000,"rows_first":2000,"rows_last":500,"rows_between":2000,"halvings":0,"cell_chars":16384,"cell_head_chars":4096},"cells_cut":0,"cells_raw":0,"read":"whole","date_system":"1900"}

{"sheet":"Environmental SARF","index":0,"n_rows":219,"n_cols":22,"rows_kept":219,"cut":false,"hidden":false,"merged":[[11,5,11,14],[12,5,12,14],[13,5,13,14],[14,5,14,14],[0,3,0,11],[1,3,1,11],[2,3,2,11],[4,3,4,11],[5,3,5,11],[7,2,8,4],[9,2,10,4],[7,5,7,14],[8,5,8,14],[9,5,9,14],[10,5,10,14],[4,0,6,2],[2,12,2,14],[0,13,0,14],[1,13,1,14],[3,12,4,12],[3,13,4,14],[9,0,10,1],[7,0,8,1],[11,0,11,4],[12,0,12,4],[13,0,13,4],[15,6,18,6],[15,3,18,3],[15,5,18,5],[14,0,14,4],[17,0,18,0],[15,1,18,1],[15,2,18,2],[15,4,18,4]]}
[null,null,null,"                                Environmental Sample Analysis Request Form (SARF)",null,null,null,null,null,null,null,null,"Date Sent:","2018-09-12"]
[null,null,null,"                                                         Phone: (219) 226-0001",null,null,null,null,null,null,null,null,"P.O. #"]
[null,null,null,"                                          Email To:  sampleadmin@donlevylab.com",null,null,null,null,null,null,null,null,"FOR LAB USE ONLY"]
[null,null,null,null,null,null,null,null,null,null,null,null," Date Rec:",{"$f":"NOW()","v":"2018-11-28T19:38:48.630"}]
["11165 Delaware Parkway\nCrown Point, IN  46307\nwww.donlevylab.com\n",null,null,"                       DonLevy Laboratories offers sample pick up service to the Chicagoland area daily."]
[null,null,null,"                   To schedule a same day sample pick up, please contact the laboratory before 8:00 a.m.",null,null,null,null,null,null,null,null," Temp:",null," °C"]
[]
["Client Name:                                                                                                     ",null,"Generic",null,null,{"$f":"IF(H17=\"\",\"1) ...\",IFERROR(CONCATENATE(\"1) \",VLOOKUP(H18&H19,PTable[Concatenate]:PTable[Full Test Method],2,FALSE)),IF(H17=\"Other\",\"1) See Comments\",\"1) NA\")))","v":"1) Aerobic Plate Count (35°C) MB073.06 (AOAC-RI 051702)(Microfilm)(swab)"}]
[null,null,null,null,null,{"$f":"IF(I17=\"\",\"2) ...\",IFERROR(CONCATENATE(\"2) \",VLOOKUP(I18&I19,PTable[Concatenate]:PTable[Full Test Method],2,FALSE)),IF(I17=\"Other\",\"2) See Comments\",\"2) NA\")))","v":"2) E. coli MB072.04 (AOAC-RI 051702)(Microfilm)(swab)"}]
["Client Code: ",null,"Generic",null,null,{"$f":"IF(J17=\"\",\"3) ...\",IFERROR(CONCATENATE(\"3) \",VLOOKUP(J18&J19,PTable[Concatenate]:PTable[Full Test Method],2,FALSE)),IF(J17=\"Other\",\"3) See Comments\",\"3) NA\")))","v":"3) Coliform MB072.04 (AOAC-RI 051702)(Microfilm)(swab)"}]
[null,null,null,null,null,{"$f":"IF(K17=\"\",\"4) ...\",IFERROR(CONCATENATE(\"4) \",VLOOKUP(K18&K19,PTable[Concatenate]:PTable[Full Test Method],2,FALSE)),IF(K17=\"Other\",\"4) See Comments\",\"4) NA\")))","v":"4) Yeast MB074.03 (AOAC-RI 051702)(Microfilm)(swab)"}]
["COMMENTS/INSTRUCTIONS:",null,null,null,null,{"$f":"IF(L17=\"\",\"5) ...\",IFERROR(CONCATENATE(\"5) \",VLOOKUP(L18&L19,PTable[Concatenate]:PTable[Full Test Method],2,FALSE)),IF(L17=\"Other\",\"5) See Comments\",\"5) NA\")))","v":"5) Mold MB074.03 (AOAC-RI 051702)(Microfilm)(swab)"}]
[null,null,null,null,null,{"$f":"IF(M17=\"\",\"6) ...\",IFERROR(CONCATENATE(\"6) \",VLOOKUP(M18&M19,PTable[Concatenate]:PTable[Full Test Method],2,FALSE)),IF(M17=\"Other\",\"6) See Comments\",\"6) NA\")))","v":"6) Staphylococcus aureus Modified FDA-BAM Ch.12 (swab)"}]
[null,null,null,null,null,{"$f":"IF(N17=\"\",\"7) ...\",IFERROR(CONCATENATE(\"7) \",VLOOKUP(N18&N19,PTable[Concatenate]:PTable[Full Test Method],2,FALSE)),IF(N17=\"Other\",\"7) See Comments\",\"7) NA\")))","v":"7) Listeria species MB316.01 (AOAC-RI 021201)(PCR)(swab)"}]
[null,null,null,null,null,{"$f":"IF(O17=\"\",\"8) ...\",IFERROR(CONCATENATE(\"8) \",VLOOKUP(O18&O19,PTable[Concatenate]:PTable[Full Test Method],2,FALSE)),IF(O17=\"Other\",\"8) See Comments\",\"8) NA\")))","v":"8) Salmonella species MB217.01 (AOAC-RI 100701)(PCR)(swab)"}]
[null,"Date/Time\nCollected\n(m/d/y h:m am/pm)","Sample Type\n(Required)","Plant Process","Area","Zone","Description",1,2,3,4,5,6,7,8]
[null,null,null,null,null,null,null,"Quan","Quan","Quan","Quan","Quan","Quan","Qual","Qual"]
["#",null,null,null,null,null,null,"APC35","EC","COLI","Y","M","StaphA","LG","SAL"]
[null,null,null,null,null,null,null,"MFs","MFs","MFs","MFs","MFs","mFDAs","PCRs","PCRs",null,"#","SampleTypeList","PlantProcessList","AreaList",null,"ZoneList"]
[1,"2018-07-23","Swab","RTE","Line 1",1,"Description","x","x","x","x","x","x","x","x",null,1,"Swab","RTE","Line 1",null,1]
[{"$f":"1+A20","v":2},null,null,null,null,null,null,null,null,null,null,null,null,null,null,null,{"$f":"1+Q20","v":2},"Water","Raw","Line 2",null,2]
[{"$f":"1+A21","v":3},null,null,null,null,null,null,null,null,null,null,null,null,null,null,null,{"$f":"1+Q21","v":3},"Air Plate",null,"Packaging",null,3]
[4,null,null,null,null,null,null,null,null,null,null,null,null,null,null,null,4,"Operational",null,null,null,4]
[5,null,null,null,null,null,null,null,null,null,null,null,null,null,null,null,5,"Pre-Operational"]
[6,null,null,null,null,null,null,null,null,null,null,null,null,null,null,null,6,"Post-Operational"]
[7,null,null,null,null,null,null,null,null,null,null,null,null,null,null,null,7,"Potability"]
[8,null,null,null,null,null,null,null,null,null,null,null,null,null,null,null,8,"Environmental"]
[9,null,null,null,null,null,null,null,null,null,null,null,null,null,null,null,9]
[10,null,null,null,null,null,null,null,null,null,null,null,null,null,null,null,10]
[11,null,null,null,null,null,null,null,null,null,null,null,null,null,null,null,11]
[12,null,null,null,null,null,null,null,null,null,null,null,null,null,null,null,{"$f":"1+Q30","v":12}]
[13,null,null,null,null,null,null,null,null,null,null,null,null,null,null,null,13]
[14,null,null,null,null,null,null,null,null,null,null,null,null,null,null,null,14]
[15,null,null,null,null,null,null,null,null,null,null,null,null,null,null,null,15]
[16,null,null,null,null,null,null,null,null,null,null,null,null,null,null,null,16]
[17,null,null,null,null,null,null,null,null,null,null,null,null,null,null,null,17]
[18,null,null,null,null,null,null,null,null,null,null,null,null,null,null,null,{"$f":"1+Q36","v":18}]
[19,null,null,null,null,null,null,null,null,null,null,null,null,null,null,null,19]
[20,null,null,null,null,null,null,null,null,null,null,null,null,null,null,null,20]
[21,null,null,null,null,null,null,null,null,null,null,null,null,null,null,null,{"$f":"1+Q39","v":21}]
[22,null,null,null,null,null,null,null,null,null,null,null,null,null,null,null,22]
[23,null,null,null,null,null,null,null,null,null,null,null,null,null,null,null,23]
[24,null,null,null,null,null,null,null,null,null,null,null,null,null,null,null,24]
[25,null,null,null,null,null,null,null,null,null,null,null,null,null,null,null,25]
[26,null,null,null,null,null,null,null,null,null,null,null,null,null,null,null,{"$f":"1+Q44","v":26}]
[27,null,null,null,null,null,null,null,null,null,null,null,null,null,null,null,27]
[28,null,null,null,null,null,null,null,null,null,null,null,null,null,null,null,28]
[29,null,null,null,null,null,null,null,null,null,null,null,null,null,null,null,29]
[30,null,null,null,null,null,null,null,null,null,null,null,null,null,null,null,30]
[31,null,null,null,null,null,null,null,null,null,null,null,null,null,null,null,31]
[32,null,null,null,null,null,null,null,null,null,null,null,null,null,null,null,32]
[33,null,null,null,null,null,null,null,null,null,null,null,null,null,null,null,33]
[34,null,null,null,null,null,null,null,null,null,null,null,null,null,null,null,34]
[35,null,null,null,null,null,null,null,null,null,null,null,null,null,null,null,35]
[36,null,null,null,null,null,null,null,null,null,null,null,null,null,null,null,36]
[37,null,null,null,null,null,null,null,null,null,null,null,null,null,null,null,37]
[38,null,null,null,null,null,null,null,null,null,null,null,null,null,null,null,38]
[39,null,null,null,null,null,null,null,null,null,null,null,null,null,null,null,39]
[40,null,null,null,null,null,null,null,null,null,null,null,null,null,null,null,40]
[41,null,null,null,null,null,null,null,null,null,null,null,null,null,null,null,41]
[42,null,null,null,null,null,null,null,null,null,null,null,null,null,null,null,42]
[43,null,null,null,null,null,null,null,null,null,null,null,null,null,null,null,43]
[44,null,null,null,null,null,null,null,null,null,null,null,null,null,null,null,44]
[45,null,null,null,null,null,null,null,null,null,null,null,null,null,null,null,45]
[46,null,null,null,null,null,null,null,null,null,null,null,null,null,null,null,46]
[47,null,null,null,null,null,null,null,null,null,null,null,null,null,null,null,47]
[48,null,null,null,null,null,null,null,null,null,null,null,null,null,null,null,48]
[49,null,null,null,null,null,null,null,null,null,null,null,null,null,null,null,49]
[50,null,null,null,null,null,null,null,null,null,null,null,null,null,null,null,50]
[51,null,null,null,null,null,null,null,null,null,null,null,null,null,null,null,51]
[52,null,null,null,null,null,null,null,null,null,null,null,null,null,null,null,52]
[53,null,null,null,null,null,null,null,null,null,null,null,null,null,null,null,53]
[54,null,null,null,null,null,null,null,null,null,null,null,null,null,null,null,54]
[55,null,null,null,null,null,null,null,null,null,null,null,null,null,null,null,{"$f":"1+Q73","v":55}]
[56,null,null,null,null,null,null,null,null,null,null,null,null,null,null,null,56]
[57,null,null,null,null,null,null,null,null,null,null,null,null,null,null,null,57]
[58,null,null,null,null,null,null,null,null,null,null,null,null,null,null,null,58]
[59,null,null,null,null,null,null,null,null,null,null,null,null,null,null,null,59]
[60,null,null,null,null,null,null,null,null,null,null,null,null,null,null,null,60]
[61,null,null,null,null,null,null,null,null,null,null,null,null,null,null,null,61]
[62,null,null,null,null,null,null,null,null,null,null,null,null,null,null,null,62]
[63,null,null,null,null,null,null,null,null,null,null,null,null,null,null,null,63]
[64,null,null,null,null,null,null,null,null,null,null,null,null,null,null,null,64]
[65,null,null,null,null,null,null,null,null,null,null,null,null,null,null,null,65]
[66,null,null,null,null,null,null,null,null,null,null,null,null,null,null,null,66]
[{"$f":"1+A85","v":67},null,null,null,null,null,null,null,null,null,null,null,null,null,null,null,67]
[68,null,null,null,null,null,null,null,null,null,null,null,null,null,null,null,68]
[69,null,null,null,null,null,null,null,null,null,null,null,null,null,null,null,69]
[70,null,null,null,null,null,null,null,null,null,null,null,null,null,null,null,70]
[71,null,null,null,null,null,null,null,null,null,null,null,null,null,null,null,71]
[72,null,null,null,null,null,null,null,null,null,null,null,null,null,null,null,72]
[73,null,null,null,null,null,null,null,null,null,null,null,null,null,null,null,73]
[74,null,null,null,null,null,null,null,null,null,null,null,null,null,null,null,74]
[75,null,null,null,null,null,null,null,null,null,null,null,null,null,null,null,75]
[76,null,null,null,null,null,null,null,null,null,null,null,null,null,null,null,76]
[77,null,null,null,null,null,null,null,null,null,null,null,null,null,null,null,77]
[78,null,null,null,null,null,null,null,null,null,null,null,null,null,null,null,78]
[79,null,null,null,null,null,null,null,null,null,null,null,null,null,null,null,79]
[80,null,null,null,null,null,null,null,null,null,null,null,null,null,null,null,80]
[81,null,null,null,null,null,null,null,null,null,null,null,null,null,null,null,81]
[82,null,null,null,null,null,null,null,null,null,null,null,null,null,null,null,82]
[83,null,null,null,null,null,null,null,null,null,null,null,null,null,null,null,83]
[84,null,null,null,null,null,null,null,null,null,null,null,null,null,null,null,84]
[85,null,null,null,null,null,null,null,null,null,null,null,null,null,null,null,85]
[86,null,null,null,null,null,null,null,null,null,null,null,null,null,null,null,86]
[87,null,null,null,null,null,null,null,null,null,null,null,null,null,null,null,87]
[88,null,null,null,null,null,null,null,null,null,null,null,null,null,null,null,88]
[89,null,null,null,null,null,null,null,null,null,null,null,null,null,null,null,89]
[90,null,null,null,null,null,null,null,null,null,null,null,null,null,null,null,90]
[91,null,null,null,null,null,null,null,null,null,null,null,null,null,null,null,91]
[92,null,null,null,null,null,null,null,null,null,null,null,null,null,null,null,92]
[93,null,null,null,null,null,null,null,null,null,null,null,null,null,null,null,93]
[94,null,null,null,null,null,null,null,null,null,null,null,null,null,null,null,94]
[95,null,null,null,null,null,null,null,null,null,null,null,null,null,null,null,95]
[96,null,null,null,null,null,null,null,null,null,null,null,null,null,null,null,96]
[97,null,null,null,null,null,null,null,null,null,null,null,null,null,null,null,97]
[98,null,null,null,null,null,null,null,null,null,null,null,null,null,null,null,98]
[99,null,null,null,null,null,null,null,null,null,null,null,null,null,null,null,99]
[100,null,null,null,null,null,null,null,null,null,null,null,null,null,null,null,100]
[101]
[102]
[103]
[104]
[105]
[106]
[107]
[108]
[109]
[110]
[111]
[112]
[113]
[114]
[115]
[116]
[117]
[118]
[119]
[120]
[121]
[122]
[123]
[124]
[125]
[126]
[127]
[128]
[129]
[130]
[{"$f":"1+A149","v":131}]
[132]
[133]
[134]
[135]
[136]
[137]
[138]
[139]
[140]
[141]
[142]
[143]
[144]
[145]
[146]
[147]
[148]
[149]
[150]
[151]
[152]
[153]
[154]
[155]
[156]
[157]
[158]
[159]
[160]
[161]
[162]
[163]
[164]
[165]
[166]
[167]
[168]
[169]
[170]
[171]
[172]
[173]
[174]
[175]
[176]
[177]
[178]
[179]
[180]
[181]
[182]
[183]
[184]
[185]
[186]
[187]
[188]
[189]
[190]
[191]
[192]
[193]
[194]
[{"$f":"1+A213","v":195}]
[196]
[197]
[198]
[199]
[200]

{"sheet":"Test Method List","index":1,"n_rows":200,"n_cols":8,"rows_kept":200,"cut":false,"hidden":false,"merged":[]}
["1-Type","2-Test","3-Method","Concatenate","Full Test Method","Notes"]
["Allergen","Almond","MicrobioS",{"$f":"CONCATENATE(PTable[[#This Row],[2-Test]],PTable[[#This Row],[3-Method]])","v":"AlmondMicrobioS"},"Almond Microbiologique AllergenControl / Elisa Systems Microwell (<0.1)(swab)","5.8.18 (MM) - Capitalized \"s\" in Method to easily differentiate from product",null,"General Info"]
["Allergen","Brazil","MicrobioS",{"$f":"CONCATENATE(PTable[[#This Row],[2-Test]],PTable[[#This Row],[3-Method]])","v":"BrazilMicrobioS"},"Brazil Nut Microbiologique AllergenControl / Elisa Systems Microwell (<0.1)(swab)","5.8.18 (MM) - Capitalized \"s\" in Method to easily differentiate from product",null,"no units in the Full Test Method typically report in \"g\" for Quantitative Microbiology"]
["Allergen","Casein","MicrobioS",{"$f":"CONCATENATE(PTable[[#This Row],[2-Test]],PTable[[#This Row],[3-Method]])","v":"CaseinMicrobioS"},"Casein Microbiologique AllergenControl / Elisa Systems Microwell (<0.01)(swab)","5.8.18 (MM) - Capitalized \"s\" in Method to easily differentiate from product",null,"for Method, lowercase \"m\" refers to \"modified\" for both Quantitative and Qualitative Microbiolgy"]
["Allergen","Cashew","MicrobioS",{"$f":"CONCATENATE(PTable[[#This Row],[2-Test]],PTable[[#This Row],[3-Method]])","v":"CashewMicrobioS"},"Cashew Microbiologique AllergenControl / Elisa Systems Microwell (<0.1)(swab)","5.8.18 (MM) - Capitalized \"s\" in Method to easily differentiate from product",null,"for Method, the lack of the lowercase \"m\" refers to a reference Method for both Quantitative and Qualitative Microbiolgy"]
["Allergen","Coconut","MicrobioS",{"$f":"CONCATENATE(PTable[[#This Row],[2-Test]],PTable[[#This Row],[3-Method]])","v":"CoconutMicrobioS"},"Coconut Microbiologique AllergenControl / Elisa Systems Microwell (<0.1)(swab)","5.8.18 (MM) - Capitalized \"s\" in Method to easily differentiate from product"]
["Allergen","Crust","MicrobioS",{"$f":"CONCATENATE(PTable[[#This Row],[2-Test]],PTable[[#This Row],[3-Method]])","v":"CrustMicrobioS"},"Crustacean Microbiologique AllergenControl / Elisa Systems Microwell (<0.05)(swab)","5.8.18 (MM) - Added"]
["Allergen","Egg","MicrobioS",{"$f":"CONCATENATE(PTable[[#This Row],[2-Test]],PTable[[#This Row],[3-Method]])","v":"EggMicrobioS"},"Egg Microbiologique AllergenControl / Elisa Systems Microwell (<0.1)(swab)","5.8.18 (MM) - Capitalized \"s\" in Method to easily differentiate from product"]
["Allergen","Gliadin","Veratox",{"$f":"CONCATENATE(PTable[[#This Row],[2-Test]],PTable[[#This Row],[3-Method]])","v":"GliadinVeratox"},"Gliadin Neogen Veratox (Quantitative)"]
["Allergen","Gluten","MicrobioS",{"$f":"CONCATENATE(PTable[[#This Row],[2-Test]],PTable[[#This Row],[3-Method]])","v":"GlutenMicrobioS"},"Gluten Microbiologique AllergenControl / Elisa Systems Microwell (<0.2)(swab)","5.8.18 (MM) - Capitalized \"s\" in Method to easily differentiate from product"]
["Allergen","Hazel","MicrobioS",{"$f":"CONCATENATE(PTable[[#This Row],[2-Test]],PTable[[#This Row],[3-Method]])","v":"HazelMicrobioS"},"Hazelnut Microbiologique AllergenControl / Elisa Systems Microwell (<0.1)(swab)","5.8.18 (MM) - Capitalized \"s\" in Method to easily differentiate from product"]
["Allergen","Macadmi","MicrobioS",{"$f":"CONCATENATE(PTable[[#This Row],[2-Test]],PTable[[#This Row],[3-Method]])","v":"MacadmiMicrobioS"},"Macadamia Nut Microbiologique AllergenControl / Elisa Systems Microwell (<0.1)(swab)","5.8.18 (MM) - Capitalized \"s\" in Method to easily differentiate from product"]
["Allergen","Milk","MicrobioS",{"$f":"CONCATENATE(PTable[[#This Row],[2-Test]],PTable[[#This Row],[3-Method]])","v":"MilkMicrobioS"},"Total Milk Microbiologique AllergenControl / Elisa Systems Microwell (<0.01)(swab)","5.8.18 (MM) - Capitalized \"s\" in Method to easily differentiate from product"]
["Allergen","Peanut","MicrobioS",{"$f":"CONCATENATE(PTable[[#This Row],[2-Test]],PTable[[#This Row],[3-Method]])","v":"PeanutMicrobioS"},"Peanut Microbiologique AllergenControl / Elisa Systems Microwell (<0.1)(swab)","5.8.18 (MM) - Capitalized \"s\" in Method to easily differentiate from product"]
["Allergen","Pecan","MicrobioS",{"$f":"CONCATENATE(PTable[[#This Row],[2-Test]],PTable[[#This Row],[3-Method]])","v":"PecanMicrobioS"},"Pecan Microbiologique AllergenControl / Elisa Systems Microwell (<0.1)(swab)","5.8.18 (MM) - Capitalized \"s\" in Method to easily differentiate from product"]
["Allergen","Pine","MicrobioS",{"$f":"CONCATENATE(PTable[[#This Row],[2-Test]],PTable[[#This Row],[3-Method]])","v":"PineMicrobioS"},"Pine Nut Microbiologique AllergenControl / Elisa Systems Microwell (<0.1)(swab)","5.8.18 (MM) - Capitalized \"s\" in Method to easily differentiate from product"]
["Allergen","Pist","MicrobioS",{"$f":"CONCATENATE(PTable[[#This Row],[2-Test]],PTable[[#This Row],[3-Method]])","v":"PistMicrobioS"},"Pistachio Microbiologique AllergenControl / Elisa Systems Microwell (<0.1)(swab)","5.8.18 (MM) - Capitalized \"s\" in Method to easily differentiate from product"]
["Allergen","Sesame","MicrobioS",{"$f":"CONCATENATE(PTable[[#This Row],[2-Test]],PTable[[#This Row],[3-Method]])","v":"SesameMicrobioS"},"Sesame Microbiologique AllergenControl / Elisa Systems Microwell (<0.1)(swab)","5.8.18 (MM) - Capitalized \"s\" in Method to easily differentiate from product"]
["Allergen","Soy","MicrobioS",{"$f":"CONCATENATE(PTable[[#This Row],[2-Test]],PTable[[#This Row],[3-Method]])","v":"SoyMicrobioS"},"Soy Microbiologique AllergenControl / Elisa Systems Microwell (<0.1)(swab)","5.8.18 (MM) - Capitalized \"s\" in Method to easily differentiate from product"]
["Allergen","Walnut","MicrobioS",{"$f":"CONCATENATE(PTable[[#This Row],[2-Test]],PTable[[#This Row],[3-Method]])","v":"WalnutMicrobioS"},"Walnut Microbiologique AllergenControl / Elisa Systems Microwell (<0.1)(swab)","5.8.18 (MM) - Capitalized \"s\" in Method to easily differentiate from product"]
["Chem","Cl","comb",{"$f":"CONCATENATE(PTable[[#This Row],[2-Test]],PTable[[#This Row],[3-Method]])","v":"Clcomb"},"Chlorine (combined)","8.28.18 (MM) - Changed \"CL\" to \"Cl\" for consistency with other element analytes"]
["Chem","Cl","free",{"$f":"CONCATENATE(PTable[[#This Row],[2-Test]],PTable[[#This Row],[3-Method]])","v":"Clfree"},"Chlorine (free available)","8.28.18 (MM) - Changed \"CL\" to \"Cl\" for consistency with other element analytes"]
["Chem","Cl","total",{"$f":"CONCATENATE(PTable[[#This Row],[2-Test]],PTable[[#This Row],[3-Method]])","v":"Cltotal"},"Chlorine (total residual)","8.28.18 (MM) - Changed \"CL\" to \"Cl\" for consistency with other element analytes"]
["Chem","Hardness","Ca",{"$f":"CONCATENATE(PTable[[#This Row],[2-Test]],PTable[[#This Row],[3-Method]])","v":"HardnessCa"},"Water Hardness Assay kit (calcium hardness)"]
["Chem","Hardness","Mg",{"$f":"CONCATENATE(PTable[[#This Row],[2-Test]],PTable[[#This Row],[3-Method]])","v":"HardnessMg"},"Water Hardness Assay kit (magnesium hardness)"]
["Chem","Hardness","total",{"$f":"CONCATENATE(PTable[[#This Row],[2-Test]],PTable[[#This Row],[3-Method]])","v":"Hardnesstotal"},"Water Hardness Assay kit (total hardness)"]
["Chem","Na","AOAC",{"$f":"CONCATENATE(PTable[[#This Row],[2-Test]],PTable[[#This Row],[3-Method]])","v":"NaAOAC"},"Sodium AOAC 976.25"]
["Chem","pH","AOAC",{"$f":"CONCATENATE(PTable[[#This Row],[2-Test]],PTable[[#This Row],[3-Method]])","v":"pHAOAC"},"pH AOAC 981.12"]
["Chem","Salt","AOAC",{"$f":"CONCATENATE(PTable[[#This Row],[2-Test]],PTable[[#This Row],[3-Method]])","v":"SaltAOAC"},"Salt AOAC 983.14"]
["Chem","TSS","SMEWW",{"$f":"CONCATENATE(PTable[[#This Row],[2-Test]],PTable[[#This Row],[3-Method]])","v":"TSSSMEWW"},"Total Suspended Solids SMEWW 2540D"]
["Orgnlptc","Organo","Color",{"$f":"CONCATENATE(PTable[[#This Row],[2-Test]],PTable[[#This Row],[3-Method]])","v":"OrganoColor"},"Color ISO 5492:2008"]
["Orgnlptc","Organo","Odor",{"$f":"CONCATENATE(PTable[[#This Row],[2-Test]],PTable[[#This Row],[3-Method]])","v":"OrganoOdor"},"Odor ISO 5492:2008"]
["Orgnlptc","Organo","Taste",{"$f":"CONCATENATE(PTable[[#This Row],[2-Test]],PTable[[#This Row],[3-Method]])","v":"OrganoTaste"},"Taste ISO 5492:2008"]
["Qual","Campy","PCR1mL",{"$f":"CONCATENATE(PTable[[#This Row],[2-Test]],PTable[[#This Row],[3-Method]])","v":"CampyPCR1mL"},"Campylobacter species MB216.01 (PCR)(1mL)","8.28.18 (MM) - Changed \"30mL\" to \"1mL\" per change in analysis"]
["Qual","Campy","PCRs",{"$f":"CONCATENATE(PTable[[#This Row],[2-Test]],PTable[[#This Row],[3-Method]])","v":"CampyPCRs"},"Campylobacter species MB216.01 (PCR)(swab)"]
["Qual","COLIql","mSMEW",{"$f":"CONCATENATE(PTable[[#This Row],[2-Test]],PTable[[#This Row],[3-Method]])","v":"COLIqlmSMEW"},"Coliform Modified SMEWW Section 9223 B 21st Ed. (Colilert)","5.30.18 (MM) - Updated Test Method from \"Modified SMEWW Section 9221 D,E (Colilert)\" to \"Modified SMEWW Section 9223 B 21st Ed. (Colilert)\" per ISDH"]
["Qual","ECO157","PCRs",{"$f":"CONCATENATE(PTable[[#This Row],[2-Test]],PTable[[#This Row],[3-Method]])","v":"ECO157PCRs"},"E. coli O157 MB217.01 (AOAC-RI 100701)(PCR)(swab)"]
["Qual","ECO157","PCRsam",{"$f":"CONCATENATE(PTable[[#This Row],[2-Test]],PTable[[#This Row],[3-Method]])","v":"ECO157PCRsam"},"E. coli O157 MB217.01 (AOAC-RI 100701)(PCR)(sample)","4.13.18 (MM) - Added"]
["Qual","ECql","mSMEW",{"$f":"CONCATENATE(PTable[[#This Row],[2-Test]],PTable[[#This Row],[3-Method]])","v":"ECqlmSMEW"},"E. coli Modified SMEWW Section 9223 B 21st Ed. (Colilert)","5.30.18 (MM) - Updated Test Method from \"Modified SMEWW Section 9221 D,E (Colilert)\" to \"Modified SMEWW Section 9223 B 21st Ed. (Colilert)\" per ISDH"]
["Qual","EHEC","PCRs",{"$f":"CONCATENATE(PTable[[#This Row],[2-Test]],PTable[[#This Row],[3-Method]])","v":"EHECPCRs"},"EHEC MB217.01 (AOAC-RI 100701)(PCR)(swab)","10.2.18 (MM) - Added"]
["Qual","FecCOLI","mSMEW",{"$f":"CONCATENATE(PTable[[#This Row],[2-Test]],PTable[[#This Row],[3-Method]])","v":"FecCOLImSMEW"},"Fecal Coliform Modified SMEWW Section 9223 B/9221 E 21st Ed. (Colilert)","5.30.18 (MM) - Updated Test Method from \"Modified SMEWW Section 9221 D,E (Colilert)\" to \"Modified SMEWW Section 9223 B/9221 E 21st Ed. (Colilert)\" per ISDH"]
["Qual","LG","mB24Esa",{"$f":"CONCATENATE(PTable[[#This Row],[2-Test]],PTable[[#This Row],[3-Method]])","v":"LGmB24Esa"},"Listeria species Modified AOAC-RI 050903 (BAX PCR 24E)(sample)"]
["Qual","LG","mBAXs",{"$f":"CONCATENATE(PTable[[#This Row],[2-Test]],PTable[[#This Row],[3-Method]])","v":"LGmBAXs"},"Listeria species Modified AOAC-RI 030502 (BAX PCR)(swab)","8.28.18 (MM) - Changed to Modified. Method: \"BAXs\" to \"mBAXs\""]
["Qual","LG","mBX24Es",{"$f":"CONCATENATE(PTable[[#This Row],[2-Test]],PTable[[#This Row],[3-Method]])","v":"LGmBX24Es"},"Listeria species Modified AOAC-RI 050903 (BAX PCR 24E)(swab)","8.28.18 (MM) - Changed to Modified. Method: \"BAX24Es\" to \"mBX24Es\""]
["Qual","LG","mFDAs",{"$f":"CONCATENATE(PTable[[#This Row],[2-Test]],PTable[[#This Row],[3-Method]])","v":"LGmFDAs"},"Listeria species Modified FDA-BAM Ch.10 (swab)"]
["Qual","LG","mUSDAs",{"$f":"CONCATENATE(PTable[[#This Row],[2-Test]],PTable[[#This Row],[3-Method]])","v":"LGmUSDAs"},"Listeria species Modified USDA-FSIS MLG Ch.8.10 (swab)"]
["Qual","LG","mUSsam",{"$f":"CONCATENATE(PTable[[#This Row],[2-Test]],PTable[[#This Row],[3-Method]])","v":"LGmUSsam"},"Listeria species Modified USDA-FSIS MLG Ch.8.10 (sample)"]
["Qual","LG","PCRm3",{"$f":"CONCATENATE(PTable[[#This Row],[2-Test]],PTable[[#This Row],[3-Method]])","v":"LGPCRm3"},"Listeria species MB316.01 (AOAC-RI 021201)(PCR)(m3)"]
["Qual","LG","PCRs",{"$f":"CONCATENATE(PTable[[#This Row],[2-Test]],PTable[[#This Row],[3-Method]])","v":"LGPCRs"},"Listeria species MB316.01 (AOAC-RI 021201)(PCR)(swab)"]
["Qual","LG","PCRsam",{"$f":"CONCATENATE(PTable[[#This Row],[2-Test]],PTable[[#This Row],[3-Method]])","v":"LGPCRsam"},"Listeria species MB316.01 (AOAC-RI 021201)(PCR)(sample)","4.13.18 (MM) - Added"]
["Qual","LM","FDAs",{"$f":"CONCATENATE(PTable[[#This Row],[2-Test]],PTable[[#This Row],[3-Method]])","v":"LMFDAs"},"Listeria monocytogenes FDA-BAM Ch.10 (swab)","4.13.18 (MM) - Added"]
["Qual","LM","mBesam",{"$f":"CONCATENATE(PTable[[#This Row],[2-Test]],PTable[[#This Row],[3-Method]])","v":"LMmBesam"},"Listeria monocytogenes Modified AOAC-RI 080901 (BAX PCR 24E)(sample)"]
["Qual","LM","mBX24Es",{"$f":"CONCATENATE(PTable[[#This Row],[2-Test]],PTable[[#This Row],[3-Method]])","v":"LMmBX24Es"},"Listeria monocytogenes Modified AOAC-RI 080901 (BAX PCR 24E)(swab)","8.28.18 (MM) - Changed to Modified. Method: \"BAX24Es\" to \"mBX24Es\""]
["Qual","LM","mBXs",{"$f":"CONCATENATE(PTable[[#This Row],[2-Test]],PTable[[#This Row],[3-Method]])","v":"LMmBXs"},"Listeria monocytogenes Modified AOAC 2003.12 (BAX PCR)(swab)"]
["Qual","LM","mBXsam",{"$f":"CONCATENATE(PTable[[#This Row],[2-Test]],PTable[[#This Row],[3-Method]])","v":"LMmBXsam"},"Listeria monocytogenes Modified AOAC 2003.12 (BAX PCR)(sample)","4.16.18 (MM) - Added"]
["Qual","LM","mFDAs",{"$f":"CONCATENATE(PTable[[#This Row],[2-Test]],PTable[[#This Row],[3-Method]])","v":"LMmFDAs"},"Listeria monocytogenes Modified FDA-BAM Ch.10 (swab)"]
["Qual","LM","mUSs",{"$f":"CONCATENATE(PTable[[#This Row],[2-Test]],PTable[[#This Row],[3-Method]])","v":"LMmUSs"},"Listeria monocytogenes Modified USDA-FSIS MLG Ch.8.10 (swab)"]
["Qual","LM","mUSsam",{"$f":"CONCATENATE(PTable[[#This Row],[2-Test]],PTable[[#This Row],[3-Method]])","v":"LMmUSsam"},"Listeria monocytogenes Modified USDA-FSIS MLG Ch.8.10 (sample)"]
["Qual","LM","PCRs",{"$f":"CONCATENATE(PTable[[#This Row],[2-Test]],PTable[[#This Row],[3-Method]])","v":"LMPCRs"},"Listeria monocytogenes MB316.01 (AOAC-RI 021201)(PCR)(swab)"]
["Qual","LM","PCRsam",{"$f":"CONCATENATE(PTable[[#This Row],[2-Test]],PTable[[#This Row],[3-Method]])","v":"LMPCRsam"},"Listeria monocytogenes MB316.01 (AOAC-RI 021201)(PCR)(sample)","4.13.18 (MM) - Added"]
["Qual","PCT","GNGPm3",{"$f":"CONCATENATE(PTable[[#This Row],[2-Test]],PTable[[#This Row],[3-Method]])","v":"PCTGNGPm3"},"Process Control Testing IEHASFI/MB491.01 (Air Sampling with PCR)(GNGP)(m3)","10.2.18 (MM) - Updated Method Name with \"IEHASFI/\" and \"Air sampling with\" and removed \"-4\" per SOP revision"]
["Qual","PCT","GNGPs",{"$f":"CONCATENATE(PTable[[#This Row],[2-Test]],PTable[[#This Row],[3-Method]])","v":"PCTGNGPs"},"Process Control Testing MB491.01 (PCR)(GNGP)(swab)","10.2.18 (MM) - Removed \"-4\" from Method Name per SOP revision"]
["Qual","PCT","GNOm3",{"$f":"CONCATENATE(PTable[[#This Row],[2-Test]],PTable[[#This Row],[3-Method]])","v":"PCTGNOm3"},"Process Control Testing IEHASFI/MB491.01 (Air Sampling with PCR)(GNO)(m3)","10.2.18 (MM) - Updated Method Name with \"IEHASFI/\" and \"Air sampling with\" and removed \"-4\" per SOP revision"]
["Qual","PCT","GNOs",{"$f":"CONCATENATE(PTable[[#This Row],[2-Test]],PTable[[#This Row],[3-Method]])","v":"PCTGNOs"},"Process Control Testing MB491.01 (PCR)(GNO)(swab)","10.2.18 (MM) - Removed \"-4\" from Method Name per SOP revision"]
["Qual","PCT","GPOm3",{"$f":"CONCATENATE(PTable[[#This Row],[2-Test]],PTable[[#This Row],[3-Method]])","v":"PCTGPOm3"},"Process Control Testing IEHASFI/MB491.01 (Air Sampling with PCR)(GPO)(m3)","10.2.18 (MM) - Updated Method Name with \"IEHASFI/\" and \"Air sampling with\" and removed \"-4\" per SOP revision"]
["Qual","PCT","GPOs",{"$f":"CONCATENATE(PTable[[#This Row],[2-Test]],PTable[[#This Row],[3-Method]])","v":"PCTGPOs"},"Process Control Testing MB491.01 (PCR)(GPO)(swab)","10.2.18 (MM) - Removed \"-4\" from Method Name per SOP revision"]
["Qual","PCT","LGmi",{"$f":"CONCATENATE(PTable[[#This Row],[2-Test]],PTable[[#This Row],[3-Method]])","v":"PCTLGmi"},"Listeria species Molecular Indicators MB491.01-MI (PCR)","10.2.18 (MM) - Added"]
["Qual","PCT","LMmi",{"$f":"CONCATENATE(PTable[[#This Row],[2-Test]],PTable[[#This Row],[3-Method]])","v":"PCTLMmi"},"Listeria monocytogenes Molecular Indicators MB491.01-MI (PCR)","10.2.18 (MM) - Added"]
["Qual","PCT","SALmi",{"$f":"CONCATENATE(PTable[[#This Row],[2-Test]],PTable[[#This Row],[3-Method]])","v":"PCTSALmi"},"Salmonella species Molecular Indicators MB491.01-MI (PCR)","10.2.18 (MM) - Added"]
["Qual","PCT","STECmi",{"$f":"CONCATENATE(PTable[[#This Row],[2-Test]],PTable[[#This Row],[3-Method]])","v":"PCTSTECmi"},"EHEC/pSTEC Molecular Indicators MB491.01-MI (PCR)","10.2.18 (MM) - Added"]
["Qual","SAL","BAX30mL",{"$f":"CONCATENATE(PTable[[#This Row],[2-Test]],PTable[[#This Row],[3-Method]])","v":"SALBAX30mL"},"Salmonella species USDA-FSIS MLG Ch.4C.07 (BAX PCR)(30mL)","4.13.18 (MM) - Added \"species\" to Salmonella Test Name to be consistent with other Tests"]
["Qual","SAL","mBXs",{"$f":"CONCATENATE(PTable[[#This Row],[2-Test]],PTable[[#This Row],[3-Method]])","v":"SALmBXs"},"Salmonella species Modified AOAC 2003.09 (BAX PCR)(swab)","4.13.18 (MM) - Added \"species\" to Salmonella Test Name to be consistent with other Tests"]
["Qual","SAL","mBXsam",{"$f":"CONCATENATE(PTable[[#This Row],[2-Test]],PTable[[#This Row],[3-Method]])","v":"SALmBXsam"},"Salmonella species Modified AOAC 2003.09 (BAX PCR)(sample)","4.13.18 (MM) - Added \"species\" to Salmonella Test Name to be consistent with other Tests"]
["Qual","SAL","mFD375m",{"$f":"CONCATENATE(PTable[[#This Row],[2-Test]],PTable[[#This Row],[3-Method]])","v":"SALmFD375m"},"Salmonella species Modified FDA-BAM Ch.5 (375mL)","4.13.18 (MM) - Added \"species\" to Salmonella Test Name to be consistent with other Tests"]
["Qual","SAL","mFDAs",{"$f":"CONCATENATE(PTable[[#This Row],[2-Test]],PTable[[#This Row],[3-Method]])","v":"SALmFDAs"},"Salmonella species Modified FDA-BAM Ch.5 (swab)","4.13.18 (MM) - Added \"species\" to Salmonella Test Name to be consistent with other Tests"]
["Qual","SAL","mFDsam",{"$f":"CONCATENATE(PTable[[#This Row],[2-Test]],PTable[[#This Row],[3-Method]])","v":"SALmFDsam"},"Salmonella species Modified FDA-BAM Ch.5 (sample)","4.13.18 (MM) - Added \"species\" to Salmonella Test Name to be consistent with other Tests"]
["Qual","SAL","PCR30mL",{"$f":"CONCATENATE(PTable[[#This Row],[2-Test]],PTable[[#This Row],[3-Method]])","v":"SALPCR30mL"},"Salmonella species MB217.01 (AOAC-RI 100701)(PCR)(30mL)","4.13.18 (MM) - Added \"species\" to Salmonella Test Name to be consistent with other Tests"]
["Qual","SAL","PCRs",{"$f":"CONCATENATE(PTable[[#This Row],[2-Test]],PTable[[#This Row],[3-Method]])","v":"SALPCRs"},"Salmonella species MB217.01 (AOAC-RI 100701)(PCR)(swab)","4.13.18 (MM) - Added \"species\" to Salmonella Test Name to be consistent with other Tests"]
["Qual","SAL","PCRsam",{"$f":"CONCATENATE(PTable[[#This Row],[2-Test]],PTable[[#This Row],[3-Method]])","v":"SALPCRsam"},"Salmonella species MB217.01 (AOAC-RI 100701)(PCR)(sample)","4.13.18 (MM) - Added"]
["Qual","SAL","USDswab",{"$f":"CONCATENATE(PTable[[#This Row],[2-Test]],PTable[[#This Row],[3-Method]])","v":"SALUSDswab"},"Salmonella species USDA-FSIS MLG Ch.4.09 (swab)","4.13.18 (MM) - Added \"species\" to Salmonella Test Name to be consistent with other Tests"]
["Qual","Shigella","mFDAs",{"$f":"CONCATENATE(PTable[[#This Row],[2-Test]],PTable[[#This Row],[3-Method]])","v":"ShigellamFDAs"},"Shigella species Modified FDA-BAM Ch.6 (swab)","4.13.18 (MM) - Added"]
["Qual","STEC","PCRs",{"$f":"CONCATENATE(PTable[[#This Row],[2-Test]],PTable[[#This Row],[3-Method]])","v":"STECPCRs"},"STEC MB217.01 (AOAC-RI 100701)(PCR)(swab)"]
["Quan","AB","LMFMmL",{"$f":"CONCATENATE(PTable[[#This Row],[2-Test]],PTable[[#This Row],[3-Method]])","v":"ABLMFMmL"},"Acetobacter/Gluconobacter LMiFM Ch.38 (mL)"]
["Quan","AB","LMFMs",{"$f":"CONCATENATE(PTable[[#This Row],[2-Test]],PTable[[#This Row],[3-Method]])","v":"ABLMFMs"},"Acetobacter/Gluconobacter LMiFM Ch.38 (swab)"]
["Quan","AnAPC25","mCMEFm",{"$f":"CONCATENATE(PTable[[#This Row],[2-Test]],PTable[[#This Row],[3-Method]])","v":"AnAPC25mCMEFm"},"Anaerobic Plate Count (25°C) Modified CMMEF Ch.8 5th Ed. (mL)"]
["Quan","AnAPC25","mCMEFs",{"$f":"CONCATENATE(PTable[[#This Row],[2-Test]],PTable[[#This Row],[3-Method]])","v":"AnAPC25mCMEFs"},"Anaerobic Plate Count (25°C) Modified CMMEF Ch.8 5th Ed. (swab)"]
["Quan","AnAPC35","mCMEFm",{"$f":"CONCATENATE(PTable[[#This Row],[2-Test]],PTable[[#This Row],[3-Method]])","v":"AnAPC35mCMEFm"},"Anaerobic Plate Count (35°C) Modified CMMEF Ch.8 5th Ed. (mL)"]
["Quan","AnAPC35","mCMEFs",{"$f":"CONCATENATE(PTable[[#This Row],[2-Test]],PTable[[#This Row],[3-Method]])","v":"AnAPC35mCMEFs"},"Anaerobic Plate Count (35°C) Modified CMMEF Ch.8 5th Ed. (swab)"]
["Quan","AnAPC7","mCMEFm",{"$f":"CONCATENATE(PTable[[#This Row],[2-Test]],PTable[[#This Row],[3-Method]])","v":"AnAPC7mCMEFm"},"Anaerobic Plate Count (7°C) Modified CMMEF Ch.13 5th Ed. (mL)"]
["Quan","AnAPC7","mCMEFs",{"$f":"CONCATENATE(PTable[[#This Row],[2-Test]],PTable[[#This Row],[3-Method]])","v":"AnAPC7mCMEFs"},"Anaerobic Plate Count (7°C) Modified CMMEF Ch.13 5th Ed. (swab)"]
["Quan","APC25","AECMEF",{"$f":"CONCATENATE(PTable[[#This Row],[2-Test]],PTable[[#This Row],[3-Method]])","v":"APC25AECMEF"},"Air Exposure Modified CMMEF Ch.3/8 5th Ed. (APC - 25°C)"]
["Quan","APC25","mCMEFm",{"$f":"CONCATENATE(PTable[[#This Row],[2-Test]],PTable[[#This Row],[3-Method]])","v":"APC25mCMEFm"},"Aerobic Plate Count (25°C) Modified CMMEF Ch.8 5th Ed. (mL)"]
["Quan","APC25","mCMEFs",{"$f":"CONCATENATE(PTable[[#This Row],[2-Test]],PTable[[#This Row],[3-Method]])","v":"APC25mCMEFs"},"Aerobic Plate Count (25°C) Modified CMMEF Ch.8 5th Ed. (swab)"]
["Quan","APC25","MFm3",{"$f":"CONCATENATE(PTable[[#This Row],[2-Test]],PTable[[#This Row],[3-Method]])","v":"APC25MFm3"},"Aerobic Plate Count (25°C) MB073.06 (AOAC-RI 051702)(Microfilm)(m3)"]
["Quan","APC25","MFmL",{"$f":"CONCATENATE(PTable[[#This Row],[2-Test]],PTable[[#This Row],[3-Method]])","v":"APC25MFmL"},"Aerobic Plate Count (25°C) MB073.06 (AOAC-RI 051702)(Microfilm)(mL)"]
["Quan","APC25","MFs",{"$f":"CONCATENATE(PTable[[#This Row],[2-Test]],PTable[[#This Row],[3-Method]])","v":"APC25MFs"},"Aerobic Plate Count (25°C) MB073.06 (AOAC-RI 051702)(Microfilm)(swab)"]
["Quan","APC32","MFmL",{"$f":"CONCATENATE(PTable[[#This Row],[2-Test]],PTable[[#This Row],[3-Method]])","v":"APC32MFmL"},"Aerobic Plate Count (32°C) MB073.06 (AOAC-RI 051702)(Microfilm)(mL)","4.25.18 (MM) - Added"]
["Quan","APC32","MFs",{"$f":"CONCATENATE(PTable[[#This Row],[2-Test]],PTable[[#This Row],[3-Method]])","v":"APC32MFs"},"Aerobic Plate Count (32°C) MB073.06 (AOAC-RI 051702)(Microfilm)(swab)","4.25.18 (MM) - Added"]
["Quan","APC32","mSMDPm",{"$f":"CONCATENATE(PTable[[#This Row],[2-Test]],PTable[[#This Row],[3-Method]])","v":"APC32mSMDPm"},"Standard Plate Count (32°C) Modified SMEDP Ch.9 17th Ed. (mL)"]
["Quan","APC32","mSMDPs",{"$f":"CONCATENATE(PTable[[#This Row],[2-Test]],PTable[[#This Row],[3-Method]])","v":"APC32mSMDPs"},"Standard Plate Count (32°C) Modified SMEDP Ch.9 17th Ed. (swab)"]
["Quan","APC35","AECMEF",{"$f":"CONCATENATE(PTable[[#This Row],[2-Test]],PTable[[#This Row],[3-Method]])","v":"APC35AECMEF"},"Air Exposure Modified CMMEF Ch.3/8 5th Ed. (APC - 35°C)"]
["Quan","APC35","mFDAmL",{"$f":"CONCATENATE(PTable[[#This Row],[2-Test]],PTable[[#This Row],[3-Method]])","v":"APC35mFDAmL"},"Aerobic Plate Count (35°C) Modified FDA-BAM Ch.3 (mL)"]
["Quan","APC35","mFDAs",{"$f":"CONCATENATE(PTable[[#This Row],[2-Test]],PTable[[#This Row],[3-Method]])","v":"APC35mFDAs"},"Aerobic Plate Count (35°C) Modified FDA-BAM Ch.3 (swab)"]
["Quan","APC35","MFmL",{"$f":"CONCATENATE(PTable[[#This Row],[2-Test]],PTable[[#This Row],[3-Method]])","v":"APC35MFmL"},"Aerobic Plate Count (35°C) MB073.06 (AOAC-RI 051702)(Microfilm)(mL)"]
["Quan","APC35","MFs",{"$f":"CONCATENATE(PTable[[#This Row],[2-Test]],PTable[[#This Row],[3-Method]])","v":"APC35MFs"},"Aerobic Plate Count (35°C) MB073.06 (AOAC-RI 051702)(Microfilm)(swab)"]
["Quan","APC35","mSMWm",{"$f":"CONCATENATE(PTable[[#This Row],[2-Test]],PTable[[#This Row],[3-Method]])","v":"APC35mSMWm"},"Heterotrophic Plate Count Modified SMEWW Section 9215 A,B"]
["Quan","APC35","mUSPmL",{"$f":"CONCATENATE(PTable[[#This Row],[2-Test]],PTable[[#This Row],[3-Method]])","v":"APC35mUSPmL"},"Total Aerobic Microbial Count Modified USP-NF Ch.61 (mL)"]
["Quan","APC35","mUSPs",{"$f":"CONCATENATE(PTable[[#This Row],[2-Test]],PTable[[#This Row],[3-Method]])","v":"APC35mUSPs"},"Total Aerobic Microbial Count Modified USP-NF Ch.61 (swab)"]
["Quan","APC7","mCMFm",{"$f":"CONCATENATE(PTable[[#This Row],[2-Test]],PTable[[#This Row],[3-Method]])","v":"APC7mCMFm"},"Aerobic Plate Count (7°C) Modified CMMEF Ch.13 5th Ed. (mL)"]
["Quan","APC7","mCMFs",{"$f":"CONCATENATE(PTable[[#This Row],[2-Test]],PTable[[#This Row],[3-Method]])","v":"APC7mCMFs"},"Aerobic Plate Count (7°C) Modified CMMEF Ch.13 5th Ed. (swab)"]
["Quan","APC7","MFmL",{"$f":"CONCATENATE(PTable[[#This Row],[2-Test]],PTable[[#This Row],[3-Method]])","v":"APC7MFmL"},"Aerobic Plate Count (7°C) MB073.06 (AOAC-RI 051702)(Microfilm)(mL)","4.25.18 (MM) - Added"]
["Quan","APC7","MFs",{"$f":"CONCATENATE(PTable[[#This Row],[2-Test]],PTable[[#This Row],[3-Method]])","v":"APC7MFs"},"Aerobic Plate Count (7°C) MB073.06 (AOAC-RI 051702)(Microfilm)(swab)","4.25.18 (MM) - Added"]
["Quan","APRM","mCMFmL",{"$f":"CONCATENATE(PTable[[#This Row],[2-Test]],PTable[[#This Row],[3-Method]])","v":"APRMmCMFmL"},"Acid Preservative Resistant Mold Modified CMMEF Ch.21 5th Ed. (mL)"]
["Quan","APRM","mCMFs",{"$f":"CONCATENATE(PTable[[#This Row],[2-Test]],PTable[[#This Row],[3-Method]])","v":"APRMmCMFs"},"Acid Preservative Resistant Mold Modified CMMEF Ch.21 5th Ed. (swab)"]
["Quan","APRY","mCMFmL",{"$f":"CONCATENATE(PTable[[#This Row],[2-Test]],PTable[[#This Row],[3-Method]])","v":"APRYmCMFmL"},"Acid Preservative Resistant Yeast Modified CMMEF Ch.21 5th Ed. (mL)"]
["Quan","APRY","mCMFs",{"$f":"CONCATENATE(PTable[[#This Row],[2-Test]],PTable[[#This Row],[3-Method]])","v":"APRYmCMFs"},"Acid Preservative Resistant Yeast Modified CMMEF Ch.21 5th Ed. (swab)"]
["Quan","B.cereus","mFDAmL",{"$f":"CONCATENATE(PTable[[#This Row],[2-Test]],PTable[[#This Row],[3-Method]])","v":"B.cereusmFDAmL"},"Bacillus cereus Modified FDA-BAM Ch.14 (mL)"]
["Quan","B.cereus","mFDAs",{"$f":"CONCATENATE(PTable[[#This Row],[2-Test]],PTable[[#This Row],[3-Method]])","v":"B.cereusmFDAs"},"Bacillus cereus Modified FDA-BAM Ch.14 (swab)"]
["Quan","C.perf","mFDAmL",{"$f":"CONCATENATE(PTable[[#This Row],[2-Test]],PTable[[#This Row],[3-Method]])","v":"C.perfmFDAmL"},"Clostridium perfringens Modified FDA-BAM Ch.16 (mL)"]
["Quan","C.perf","mFDAs",{"$f":"CONCATENATE(PTable[[#This Row],[2-Test]],PTable[[#This Row],[3-Method]])","v":"C.perfmFDAs"},"Clostridium perfringens Modified FDA-BAM Ch.16 (swab)"]
["Quan","COLI","FDAmpM",{"$f":"CONCATENATE(PTable[[#This Row],[2-Test]],PTable[[#This Row],[3-Method]])","v":"COLIFDAmpM"},"Coliform FDA-BAM Ch.4 (MPN)(mL)","8.2.18 (MM) - Added. Accidentally left out of initial version."]
["Quan","COLI","mFDAmL",{"$f":"CONCATENATE(PTable[[#This Row],[2-Test]],PTable[[#This Row],[3-Method]])","v":"COLImFDAmL"},"Coliform Modified FDA-BAM Ch.4 (mL)","8.2.18 (MM) - Added. Accidentally left out of initial version."]
["Quan","COLI","mFDAs",{"$f":"CONCATENATE(PTable[[#This Row],[2-Test]],PTable[[#This Row],[3-Method]])","v":"COLImFDAs"},"Coliform Modified FDA-BAM Ch.4 (swab)"]
["Quan","COLI","mFDmpM",{"$f":"CONCATENATE(PTable[[#This Row],[2-Test]],PTable[[#This Row],[3-Method]])","v":"COLImFDmpM"},"Coliform Modified FDA-BAM Ch.4 (MPN)(mL)","8.2.18 (MM) - Added. Accidentally left out of initial version."]
["Quan","COLI","MFmL",{"$f":"CONCATENATE(PTable[[#This Row],[2-Test]],PTable[[#This Row],[3-Method]])","v":"COLIMFmL"},"Coliform MB072.04 (AOAC-RI 051702)(Microfilm)(mL)"]
["Quan","COLI","MFs",{"$f":"CONCATENATE(PTable[[#This Row],[2-Test]],PTable[[#This Row],[3-Method]])","v":"COLIMFs"},"Coliform MB072.04 (AOAC-RI 051702)(Microfilm)(swab)"]
["Quan","COLI","mSMW10",{"$f":"CONCATENATE(PTable[[#This Row],[2-Test]],PTable[[#This Row],[3-Method]])","v":"COLImSMW10"},"Coliform Modified SMEWW Section 9221 A,B,C,E,F (Ten-tube)"]
["Quan","COLI32","mSMDPm",{"$f":"CONCATENATE(PTable[[#This Row],[2-Test]],PTable[[#This Row],[3-Method]])","v":"COLI32mSMDPm"},"Coliform (32°C) Modified SMEDP Ch.7 17th Ed. (mL)"]
["Quan","COLI32","mSMDPs",{"$f":"CONCATENATE(PTable[[#This Row],[2-Test]],PTable[[#This Row],[3-Method]])","v":"COLI32mSMDPs"},"Coliform (32°C) Modified SMEDP Ch.7 17th Ed. (swab)"]
["Quan","COLI32","PFmL",{"$f":"CONCATENATE(PTable[[#This Row],[2-Test]],PTable[[#This Row],[3-Method]])","v":"COLI32PFmL"},"Coliform (32°C) AOAC 989.10 (Petrifilm)(mL)"]
["Quan","COLI32","PFs",{"$f":"CONCATENATE(PTable[[#This Row],[2-Test]],PTable[[#This Row],[3-Method]])","v":"COLI32PFs"},"Coliform (32°C) AOAC 989.10 (Petrifilm)(swab)"]
["Quan","EB","mCMFmL",{"$f":"CONCATENATE(PTable[[#This Row],[2-Test]],PTable[[#This Row],[3-Method]])","v":"EBmCMFmL"},"Enterobacteriaceae Modified CMMEF Ch.9 5th Ed. (mL)"]
["Quan","EB","mCMFs",{"$f":"CONCATENATE(PTable[[#This Row],[2-Test]],PTable[[#This Row],[3-Method]])","v":"EBmCMFs"},"Enterobacteriaceae Modified CMMEF Ch.9 5th Ed. (swab)"]
["Quan","EB","PFmL",{"$f":"CONCATENATE(PTable[[#This Row],[2-Test]],PTable[[#This Row],[3-Method]])","v":"EBPFmL"},"Enterobacteriaceae AOAC 2003.01 (Petrifilm)(mL)"]
["Quan","EB","PFs",{"$f":"CONCATENATE(PTable[[#This Row],[2-Test]],PTable[[#This Row],[3-Method]])","v":"EBPFs"},"Enterobacteriaceae AOAC 2003.01 (Petrifilm)(swab)"]
["Quan","EC","FDAmpM",{"$f":"CONCATENATE(PTable[[#This Row],[2-Test]],PTable[[#This Row],[3-Method]])","v":"ECFDAmpM"},"E. coli FDA-BAM Ch.4 (MPN)(mL)"]
["Quan","EC","mFDAcm2",{"$f":"CONCATENATE(PTable[[#This Row],[2-Test]],PTable[[#This Row],[3-Method]])","v":"ECmFDAcm2"},"E. coli Modified FDA-BAM Ch.4 (cm2)"]
["Quan","EC","mFDAmL",{"$f":"CONCATENATE(PTable[[#This Row],[2-Test]],PTable[[#This Row],[3-Method]])","v":"ECmFDAmL"},"E. coli Modified FDA-BAM Ch.4 (mL)"]
["Quan","EC","mFDAmpM",{"$f":"CONCATENATE(PTable[[#This Row],[2-Test]],PTable[[#This Row],[3-Method]])","v":"ECmFDAmpM"},"E. coli Modified FDA-BAM Ch.4 (MPN)(mL)"]
["Quan","EC","mFDAs",{"$f":"CONCATENATE(PTable[[#This Row],[2-Test]],PTable[[#This Row],[3-Method]])","v":"ECmFDAs"},"E. coli Modified FDA-BAM Ch.4 (swab)"]
["Quan","EC","MFmL",{"$f":"CONCATENATE(PTable[[#This Row],[2-Test]],PTable[[#This Row],[3-Method]])","v":"ECMFmL"},"E. coli MB072.04 (AOAC-RI 051702)(Microfilm)(mL)"]
["Quan","EC","MFs",{"$f":"CONCATENATE(PTable[[#This Row],[2-Test]],PTable[[#This Row],[3-Method]])","v":"ECMFs"},"E. coli MB072.04 (AOAC-RI 051702)(Microfilm)(swab)"]
["Quan","EC","mSMDPm",{"$f":"CONCATENATE(PTable[[#This Row],[2-Test]],PTable[[#This Row],[3-Method]])","v":"ECmSMDPm"},"E. coli (32°C) Modified SMEDP Ch.7 17th Ed. (mL)"]
["Quan","EC","mSMDPs",{"$f":"CONCATENATE(PTable[[#This Row],[2-Test]],PTable[[#This Row],[3-Method]])","v":"ECmSMDPs"},"E. coli (32°C) Modified SMEDP Ch.7 17th Ed. (swab)"]
["Quan","EC","mSMWtn",{"$f":"CONCATENATE(PTable[[#This Row],[2-Test]],PTable[[#This Row],[3-Method]])","v":"ECmSMWtn"},"E. coli Modified SMEWW Section 9221 A,B,C,E,F (Ten-tube)"]
["Quan","Fec.COLI","FDAmpm",{"$f":"CONCATENATE(PTable[[#This Row],[2-Test]],PTable[[#This Row],[3-Method]])","v":"Fec.COLIFDAmpm"},"Fecal Coliform FDA-BAM Ch.4 (MPN)(mL)"]
["Quan","Fec.COLI","mFDmpm",{"$f":"CONCATENATE(PTable[[#This Row],[2-Test]],PTable[[#This Row],[3-Method]])","v":"Fec.COLImFDmpm"},"Fecal Coliform Modified FDA-BAM Ch.4 (MPN)(mL)"]
["Quan","Fec.COLI","mSMWtn",{"$f":"CONCATENATE(PTable[[#This Row],[2-Test]],PTable[[#This Row],[3-Method]])","v":"Fec.COLImSMWtn"},"Fecal Coliform Modified SMEWW Section 9221 A,B,C,E,F (Ten-tube)"]
["Quan","LAB","mCMFmL",{"$f":"CONCATENATE(PTable[[#This Row],[2-Test]],PTable[[#This Row],[3-Method]])","v":"LABmCMFmL"},"Lactic Acid Bacteria Modified CMMEF Ch.19 5th Ed. (mL)"]
["Quan","LAB","mCMFs",{"$f":"CONCATENATE(PTable[[#This Row],[2-Test]],PTable[[#This Row],[3-Method]])","v":"LABmCMFs"},"Lactic Acid Bacteria Modified CMMEF Ch.19 5th Ed. (swab)"]
["Quan","Leuco","mCMFmL",{"$f":"CONCATENATE(PTable[[#This Row],[2-Test]],PTable[[#This Row],[3-Method]])","v":"LeucomCMFmL"},"Leuconostoc species Modified CMMEF Ch.19 5th Ed. (mL)"]
["Quan","Leuco","mCMFs",{"$f":"CONCATENATE(PTable[[#This Row],[2-Test]],PTable[[#This Row],[3-Method]])","v":"LeucomCMFs"},"Leuconostoc species Modified CMMEF Ch.19 5th Ed. (swab)"]
["Quan","M","AECMEF",{"$f":"CONCATENATE(PTable[[#This Row],[2-Test]],PTable[[#This Row],[3-Method]])","v":"MAECMEF"},"Air Exposure Modified CMMEF Ch.3/21 5th Ed. (Mold)"]
["Quan","M","AECMEF6",{"$f":"CONCATENATE(PTable[[#This Row],[2-Test]],PTable[[#This Row],[3-Method]])","v":"MAECMEF6"},"Air Exposure Modified CMMEF Ch.3/21 5th Ed. (Mold - 6 Day)"]
["Quan","M","AECMEF7",{"$f":"CONCATENATE(PTable[[#This Row],[2-Test]],PTable[[#This Row],[3-Method]])","v":"MAECMEF7"},"Air Exposure Modified CMMEF Ch.3/21 5th Ed. (Mold - 7 Day)"]
["Quan","M","FDAmL",{"$f":"CONCATENATE(PTable[[#This Row],[2-Test]],PTable[[#This Row],[3-Method]])","v":"MFDAmL"},"Mold FDA-BAM Ch.18 (mL)","4.13.18 (MM) - Added"]
["Quan","M","mCMFrod",{"$f":"CONCATENATE(PTable[[#This Row],[2-Test]],PTable[[#This Row],[3-Method]])","v":"MmCMFrod"},"Mold Modified CMMEF Ch.3 5th Ed. (RODAC)"]
["Quan","M","mFDAmL",{"$f":"CONCATENATE(PTable[[#This Row],[2-Test]],PTable[[#This Row],[3-Method]])","v":"MmFDAmL"},"Mold Modified FDA-BAM Ch.18 (mL)"]
["Quan","M","mFDAs",{"$f":"CONCATENATE(PTable[[#This Row],[2-Test]],PTable[[#This Row],[3-Method]])","v":"MmFDAs"},"Mold Modified FDA-BAM Ch.18 (swab)"]
["Quan","M","MFm3",{"$f":"CONCATENATE(PTable[[#This Row],[2-Test]],PTable[[#This Row],[3-Method]])","v":"MMFm3"},"Mold MB074.03 (AOAC-RI 051702)(Microfilm)(m3)"]
["Quan","M","MFmL",{"$f":"CONCATENATE(PTable[[#This Row],[2-Test]],PTable[[#This Row],[3-Method]])","v":"MMFmL"},"Mold MB074.03 (AOAC-RI 051702)(Microfilm)(mL)"]
["Quan","M","MFs",{"$f":"CONCATENATE(PTable[[#This Row],[2-Test]],PTable[[#This Row],[3-Method]])","v":"MMFs"},"Mold MB074.03 (AOAC-RI 051702)(Microfilm)(swab)"]
["Quan","M","mUSPmL",{"$f":"CONCATENATE(PTable[[#This Row],[2-Test]],PTable[[#This Row],[3-Method]])","v":"MmUSPmL"},"Mold Modified USP-NF Ch.61 (mL)","5.30.18 (MM) - Added \"m\" to Method"]
["Quan","M","mUSPs",{"$f":"CONCATENATE(PTable[[#This Row],[2-Test]],PTable[[#This Row],[3-Method]])","v":"MmUSPs"},"Mold Modified USP-NF Ch.61 (swab)","5.30.18 (MM) - Added \"m\" to Method"]
["Quan","Os.APC25","mCMFmL",{"$f":"CONCATENATE(PTable[[#This Row],[2-Test]],PTable[[#This Row],[3-Method]])","v":"Os.APC25mCMFmL"},"Osmophilic Aerobic Plate Count (25°C) Modified CMMEF Ch.8 5th Ed. (mL)"]
["Quan","Os.APC25","mCMFs",{"$f":"CONCATENATE(PTable[[#This Row],[2-Test]],PTable[[#This Row],[3-Method]])","v":"Os.APC25mCMFs"},"Osmophilic Aerobic Plate Count (25°C) Modified CMMEF Ch.8 5th Ed. (swab)"]
["Quan","Os.APC35","mFDAmL",{"$f":"CONCATENATE(PTable[[#This Row],[2-Test]],PTable[[#This Row],[3-Method]])","v":"Os.APC35mFDAmL"},"Osmophilic Aerobic Plate Count (35°C) Modified FDA-BAM Ch.3 (mL)"]
["Quan","Os.APC35","mFDAs",{"$f":"CONCATENATE(PTable[[#This Row],[2-Test]],PTable[[#This Row],[3-Method]])","v":"Os.APC35mFDAs"},"Osmophilic Aerobic Plate Count (35°C) Modified FDA-BAM Ch.3 (swab)"]
["Quan","Os.M","mFDAmL",{"$f":"CONCATENATE(PTable[[#This Row],[2-Test]],PTable[[#This Row],[3-Method]])","v":"Os.MmFDAmL"},"Osmophilic Mold Modified FDA-BAM Ch.18 (mL)","5.8.18 (MM) - Added"]
["Quan","Os.M","mFDAs",{"$f":"CONCATENATE(PTable[[#This Row],[2-Test]],PTable[[#This Row],[3-Method]])","v":"Os.MmFDAs"},"Osmophilic Mold Modified FDA-BAM Ch.18 (swab)","5.8.18 (MM) - Added"]
["Quan","Os.Y","mFDAmL",{"$f":"CONCATENATE(PTable[[#This Row],[2-Test]],PTable[[#This Row],[3-Method]])","v":"Os.YmFDAmL"},"Osmophilic Yeast Modified FDA-BAM Ch.18 (mL)","5.8.18 (MM) - Added"]
["Quan","Os.Y","mFDAs",{"$f":"CONCATENATE(PTable[[#This Row],[2-Test]],PTable[[#This Row],[3-Method]])","v":"Os.YmFDAs"},"Osmophilic Yeast Modified FDA-BAM Ch.18 (swab)","5.8.18 (MM) - Added"]
["Quan","Pseud.sp","mCMFmL",{"$f":"CONCATENATE(PTable[[#This Row],[2-Test]],PTable[[#This Row],[3-Method]])","v":"Pseud.spmCMFmL"},"Pseudomonas species Modified CMMEF Ch.8 5th Ed. (mL)"]
["Quan","Pseud.sp","mCMFs",{"$f":"CONCATENATE(PTable[[#This Row],[2-Test]],PTable[[#This Row],[3-Method]])","v":"Pseud.spmCMFs"},"Pseudomonas species Modified CMMEF Ch.8 5th Ed. (swab)"]
["Quan","Sp.MAe","mCMFmL",{"$f":"CONCATENATE(PTable[[#This Row],[2-Test]],PTable[[#This Row],[3-Method]])","v":"Sp.MAemCMFmL"},"Mesophilic Aerobic Sporeformers Modified CMMEF Ch.23 5th Ed. (mL)"]
["Quan","Sp.MAn","mCMEF",{"$f":"CONCATENATE(PTable[[#This Row],[2-Test]],PTable[[#This Row],[3-Method]])","v":"Sp.MAnmCMEF"},"Mesophilic Anaerobic Sporeformers Modified CMMEF Ch.24 5th Ed."]
["Quan","StaphA","mFDAmL",{"$f":"CONCATENATE(PTable[[#This Row],[2-Test]],PTable[[#This Row],[3-Method]])","v":"StaphAmFDAmL"},"Staphylococcus aureus Modified FDA-BAM Ch.12 (mL)","4.9.18 (MM) - Added for \"CPS\" to \"S. aureus\" reportable switch. Deleted both CPS FDA analytes."]
["Quan","StaphA","mFDAs",{"$f":"CONCATENATE(PTable[[#This Row],[2-Test]],PTable[[#This Row],[3-Method]])","v":"StaphAmFDAs"},"Staphylococcus aureus Modified FDA-BAM Ch.12 (swab)","4.9.18 (MM) - Added for \"CPS\" to \"S. aureus\" reportable switch. Deleted both CPS FDA analytes."]
["Quan","StaphA","PFmL",{"$f":"CONCATENATE(PTable[[#This Row],[2-Test]],PTable[[#This Row],[3-Method]])","v":"StaphAPFmL"},"Staphylococcus aureus AOAC 2003.07/2003.08/2003.11 (Petrifilm)(mL)"]
["Quan","StaphA","PFswab",{"$f":"CONCATENATE(PTable[[#This Row],[2-Test]],PTable[[#This Row],[3-Method]])","v":"StaphAPFswab"},"Staphylococcus aureus AOAC 2003.07/2003.08/2003.11 (Petrifilm)(swab)"]
["Quan","Strept","CMFmL",{"$f":"CONCATENATE(PTable[[#This Row],[2-Test]],PTable[[#This Row],[3-Method]])","v":"StreptCMFmL"},"Streptococcus species Modified CMMEF Ch.10 5th Ed. (mL)"]
["Quan","Strept","CMFs",{"$f":"CONCATENATE(PTable[[#This Row],[2-Test]],PTable[[#This Row],[3-Method]])","v":"StreptCMFs"},"Streptococcus species Modified CMMEF Ch.10 5th Ed. (swab)"]
["Quan","TYMC","mUSPmL",{"$f":"CONCATENATE(PTable[[#This Row],[2-Test]],PTable[[#This Row],[3-Method]])","v":"TYMCmUSPmL"},"Total Yeast and Mold Count Modified USP-NF Ch.61 (mL)"]
["Quan","TYMC","mUSPs",{"$f":"CONCATENATE(PTable[[#This Row],[2-Test]],PTable[[#This Row],[3-Method]])","v":"TYMCmUSPs"},"Total Yeast and Mold Count Modified USP-NF Ch.61 (swab)"]
["Quan","Y","AECMEF",{"$f":"CONCATENATE(PTable[[#This Row],[2-Test]],PTable[[#This Row],[3-Method]])","v":"YAECMEF"},"Air Exposure Modified CMMEF Ch.3/21 5th Ed. (Yeast)"]
["Quan","Y","AECMEF6",{"$f":"CONCATENATE(PTable[[#This Row],[2-Test]],PTable[[#This Row],[3-Method]])","v":"YAECMEF6"},"Air Exposure Modified CMMEF Ch.3/21 5th Ed. (Yeast - 6 Day)"]
["Quan","Y","AECMEF7",{"$f":"CONCATENATE(PTable[[#This Row],[2-Test]],PTable[[#This Row],[3-Method]])","v":"YAECMEF7"},"Air Exposure Modified CMMEF Ch.3/21 5th Ed. (Yeast - 7 Day)"]
["Quan","Y","FDAmL",{"$f":"CONCATENATE(PTable[[#This Row],[2-Test]],PTable[[#This Row],[3-Method]])","v":"YFDAmL"},"Yeast FDA-BAM Ch.18 (mL)","4.13.18 (MM) - Added"]
["Quan","Y","mCMFrod",{"$f":"CONCATENATE(PTable[[#This Row],[2-Test]],PTable[[#This Row],[3-Method]])","v":"YmCMFrod"},"Yeast Modified CMMEF Ch.3 5th Ed. (RODAC)"]
["Quan","Y","mFDAmL",{"$f":"CONCATENATE(PTable[[#This Row],[2-Test]],PTable[[#This Row],[3-Method]])","v":"YmFDAmL"},"Yeast Modified FDA-BAM Ch.18 (mL)"]
["Quan","Y","mFDAs",{"$f":"CONCATENATE(PTable[[#This Row],[2-Test]],PTable[[#This Row],[3-Method]])","v":"YmFDAs"},"Yeast Modified FDA-BAM Ch.18 (swab)"]
["Quan","Y","MFm3",{"$f":"CONCATENATE(PTable[[#This Row],[2-Test]],PTable[[#This Row],[3-Method]])","v":"YMFm3"},"Yeast MB074.03 (AOAC-RI 051702)(Microfilm)(m3)"]
["Quan","Y","MFmL",{"$f":"CONCATENATE(PTable[[#This Row],[2-Test]],PTable[[#This Row],[3-Method]])","v":"YMFmL"},"Yeast MB074.03 (AOAC-RI 051702)(Microfilm)(mL)"]
["Quan","Y","MFs",{"$f":"CONCATENATE(PTable[[#This Row],[2-Test]],PTable[[#This Row],[3-Method]])","v":"YMFs"},"Yeast MB074.03 (AOAC-RI 051702)(Microfilm)(swab)"]
["Quan","Y","mUSPmL",{"$f":"CONCATENATE(PTable[[#This Row],[2-Test]],PTable[[#This Row],[3-Method]])","v":"YmUSPmL"},"Yeast Modified USP-NF Ch.61 (mL)"]
["Quan","Y","mUSPs",{"$f":"CONCATENATE(PTable[[#This Row],[2-Test]],PTable[[#This Row],[3-Method]])","v":"YmUSPs"},"Yeast Modified USP-NF Ch.61 (swab)"]
[]
[]
[]
[null,null,null,null,null,"8.28.18 (MM) - Deleted analytes for reference USDA and BAX Listeria, Campylobacter BAX"]

{"sheet":"Instruction","index":2,"n_rows":104,"n_cols":23,"rows_kept":104,"cut":false,"hidden":false,"merged":[[25,5,25,10],[30,5,30,10],[44,4,44,10],[41,4,41,10],[33,5,33,10],[37,4,37,10],[20,5,20,10],[2,2,2,10],[4,2,4,10],[6,2,6,10],[13,3,13,10],[15,3,15,10],[70,12,70,13],[69,12,69,13],[56,22,56,23],[57,22,57,23],[68,12,68,13],[79,17,79,18],[57,14,57,15],[58,14,58,15],[57,18,57,19],[58,18,58,19],[27,11,27,12],[28,11,28,12],[29,11,29,12],[69,3,69,5],[68,3,68,5],[45,3,45,10],[47,4,47,10],[48,3,48,10],[50,4,50,10],[49,3,49,10]]}
[null,"The purpose of this Environmental SARF is twofold:"]
[]
[null,null,"The first is to benefit you.  We at DonLevy Laboratories want to ensure that you have access to your data in the format that works best for you.  By grouping your sample information into categories, it allows us to best display it on a Certificate of Analysis (CoA).  You also have access to our Customer Online Receiving and Reporting (CORR) website.  This website allows you to query your data to find CoAs, and it allows you to export data into a csv or excel format.  You reap the most benefits if you have your sample information grouped into categories.  This being our more complicated version of an evironmental SARF, the categories are: Sample Type, Plant Process, Area, and Zone.  You also need a field that is formatted to a date/time such  as \"collection date/time\".    Any other generic information would then be best suited to go into a generic \"description\" field."]
[]
[null,null,"The second reason for this SARF is to ensure that we at DonLevy Laboratories can reliably get you results as quickly as we can.  This SARF has background code that takes the sample information and testing methodology, and converts it into an easy to transfer format.  This allows us to import the information off this SARF directly into our Laboraty Information System (LIMS).  Not only does this allow us to get samples into the laboratory sooner so that you ultimately get results faster, but it prevents us from making transcription errors.  We also have a multitude of tests that we offer that can be reported out many ways (e.g., CFU/g versus CFU/mL).  By placing our methodology into the SARF, it allows us to consistently test your samples in the format you request."]
[]
[null,null,"The sample information columns that appear on this SARF will be the same columns that show up on your CoAs.  The methods that are requested on this SARF will be the same methods that show up on CoAs and invoices alike.  If you have any questions about this SARF please contact us at sampleadmin@donlevylab.com or call the laboratory and speak to one of our customer service representatives.  We do offer a more simplistic environmentlal SARF if you do not have a need for this much sample information detail.  Our ultimate goal is to ensure that we provide you with consistent, reliable results."]
[]
[]
[null,"Instructions for Use:"]
[]
[null,null,"Both Editing and Macros must be enabled to get full functionality of this document"]
[]
[null,null,"1)","The \"SARF\" tab of this excel file is where you record your sample and testing information"]
[null,null,"2)","Client Name and Client Code should be prefilled when you receive the SARF"]
[null,null,"3)","The date the samples were sent can be recorded in the top right along with an optional PO number",null,null,null,null,null,null,null,null,null,"Color Code"]
[null,null,"4)","Sample information is recorded for every sample",null,null,null,null,null,null,null,null,null,"Quan","Microbiological Quantitative (final Test Method result is a number)"]
[null,null,"                                                               i.      Date Sent","a)","Date/Time Collected field",null,null,null,null,null,null,null,null,"Qual","Microbiological Qualitative (final Test Method result is something like positive/negative, present/absent, etc.)"]
[null,null,null,"b)","Sample Type field",null,null,null,null,null,null,null,null,"Chem","Chemistry"]
[null,null,null,null,"i)","This is a drop down list that you can control",null,null,null,null,null,null,null,"Allergen","Allergen"]
[null,null,null,null,"ii)","The contents are populated from the SampleTypeList on the right",null,null,null,null,null,null,null,"Orgnlptc","Organoleptics"]
[null,null,null,null,"iii)","You can add as many Sample Types as needed to the SampleTypeList",null,null,null,null,null,null,null,"Other","(please use the comments section on SARF to request testing)"]
[null,null,null,null,"iv)","These Sample Types should classify your data in groups"]
[null,null,"                                                             v.      Description","c)","Plant Process"]
[null,null,null,null,"i)","This is a drop down list that you can control",null,null,null,null,null,null,null,{"$f":"IFERROR(CONCATENATE(\"1) \",VLOOKUP(N29&N30,PTable[Concatenate]:PTable[Full Test Method],2,FALSE)),IF(N28=\"Other\",\"1) See Comments\",\"1) NA\"))","v":"1) Aerobic Plate Count (25°C) MB073.06 (AOAC-RI 051702)(Microfilm)(mL)"}]
[null,null,null,null,"ii)","The contents are populated from the PlantProcessList on the right"]
[null,null,null,null,"iii)","You can add as many Plant Processes as needed to the PlantProcessList",null,null,null,null,null,null,null,1]
[null,null,null,null,"iv)","These Plant Processes should split your plant up into sections",null,null,null,null,null,"!!! Click 1st---->   ",null,"Quan","1st drop down - Method Type"]
[null,null,null,"d)","Area",null,null,null,null,null,null,"!!! Click 2nd---->  ",null,"APC25","2nd drop down - Test"]
[null,null,null,null,"i)","This is a drop down list that you can control",null,null,null,null,null,"!!! Click 3rd---->   ",null,"MFmL","3rd drop down - Method/Unit"]
[null,null,null,null,"ii)","The contents are populated from the AreaList on the right"]
[null,null,null,null,"iii)","You can add as many Areas as needed to the AreaList"]
[null,null,null,null,"iv)","These Areas should further split your Plant Processes up into sections"]
[null,null,null,null,"v)","The Areas should be dependent on the Plant Process (if no Plant Process is entered we will use your client code as the Plant Process)"]
[null,null,null,"e)","Zone"]
[null,null,null,null,"i)","This is a drop down list that has zone numbers 1-4"]
[null,null,null,"f)","Description (for any other generic information)"]
[null,null,null,"g)","Each line item will be tested individually.  If you need compositing done, put all sample information into a single line."]
[null,null,"5)","Test Method Selection"]
[null,null,null,"a)","To select a full Test Method, it requires a selection from each of the three drop down lists"]
[null,null,null,"b)","The first drop down selects the Method Type"]
[null,null,null,"c)","The second drop down has available Tests specific to the chosen Method Type"]
[null,null,null,"d)","The third drop down contains available Methods and units specific to the chosen Test"]
[null,null,null,"e)","Once all three drop downs are selected, the full Test Method will show above"]
[null,null,null,"f)","If you require a test that is not included in the list, select the Method Type \"Other\", and use the comments section to let us know what Test Method you would like performed"]
[null,null,"6)","If you cannot find a test you are looking for by utilizing the three drop down lists, use the \"Test Method List\" tab of this excel file for reference"]
[null,null,null,"a)","Navigate to the the \"Test Method List\" tab"]
[null,null,null,"b)","This list contains the abbreviations for all three drop down lists, along with the corresponding full Test Method name. It is in alphabetical order, grouped by Method Type."]
[null,null,"7)","Under each test column on the \"SARF\" tab, input \"x\" in the cell/box for each sample requiring that test"]
[null,null,"8)","Save the Excel File and Email to: sampleadmin@donlevylab.com"]
[null,null,null,"a)","All samples received on a SARF will be reported on the same Certificate of Analysis.  If you would like certain samples reported separately, please submit accordingly on individual SARF's."]
[]
[null,null,"Microsoft Excel Tips"]
[]
[null,null,"-","the rectanglular boxes in Microsoft Excel are called \"cells\""]
[null,null,null,null,null,null,null,null,null,null,"step 1",null,"step 2",null,"step 3",null,null,null,"step4",null,null,null,"step 5"]
[null,null,"-","hold CTRL and press \"C\" to copy",null,null,null,null,null,null,"\"CTRL C\" this cell  ---->","TEST","\"CTRL V\" here",null,"you can also paste to multiple cells",null,null,null,"you can also copy from multiple cells",null,null,null,"click this cell ------->"]
[null,null,"-","hold CTRL and press \"V\" to paste",null,null,null,null,null,null,null,null,null,null,"highlight all the cells -------->",null,null,null,"highlight all the cells -------->",null,"TEST",null,"and press \"CTRL V\""]
[null,null,null,null,null,null,null,null,null,null,null,null,null,null,"and then \"CTRL V\"",null,null,null,"and press \"CTRL C\"",null,"TEST"]
[null,null,null,null,null,null,null,null,null,null,null,null,null,null,null,null,null,null,null,null,"TEST"]
[null,null,null,null,null,null,null,null,null,null,null,null,null,null,null,null,null,null,null,null,"TEST"]
[null,null,null,null,null,null,null,null,null,null,null,null,null,null,null,null,null,null,null,null,"TEST"]
[]
[]
[]
[null,null,"-","at the bottom right of any \"cell\" is a little square"]
[null,null,"-","this can be used to copy/paste with some added functionality"]
[]
[null,null,null,"step 1",null,null,null,"step 2",null,null,null,null,"step 3"]
[null,null,null,"click this cell ---->",null,null,"WORDS","click and hold the little square and drag it down, then release",null,null,null,null,"try it with numbers",null,null,"step 4"]
[null,null,null,null,null,null,null,null,null,null,null,null,"click this cell ------->",null,"1","click and hold the little square and drag it down, then release"]
[]
[]
[]
[]
[]
[null,null,null,null,null,null,null,null,null,null,"This concept can also be applied to a bigger selection, along with date/times and text fields that end with a number"]
[]
[null,null,null,null,null,null,null,null,null,null,"Date/Time\nCollected","Sample Type","Lot","Descr.","Test 1","Test 2","Test 3"]
[null,null,null,null,null,null,null,null,null,1,"2018-05-01T03:09:00","RTE","LOT3981","Pizza","x","x","x","<------ highlight all 7 cells (the blue)"]
[null,null,null,null,null,null,null,null,null,2]
[null,null,null,null,null,null,null,null,null,3,null,null,null,null,null,null,null,null,"step 6"]
[null,null,null,null,null,null,null,null,null,4,null,null,null,null,null,null,null,null,"click and hold the little square and drag it down, then release"]
[null,null,null,null,null,null,null,null,null,5,null,null,null,null,null,null,"stop here"]
[]
[]
[]
[null,null,null,null,null,null,null,null,null,null,"You then can combine copy/paste with the little square……."]
[]
[]
[null,null,null,null,null,null,null,null,null,null,"step 7"]
[null,null,null,null,null,null,null,null,null,null,"highlight all the blue cells above and \"CTRL C\" for copy"]
[]
[null,null,null,null,null,null,null,null,null,null,"Date/Time\nCollected","Sample Type","Lot","Descr.","Test 1","Test 2","Test 3"]
[null,null,null,null,null,null,null,null,"step 8",1,"click here","and press \"CTRL V\" to paste"]
[null,null,null,null,null,null,null,null,null,2]
[null,null,null,null,null,null,null,null,null,3]
[null,null,null,null,null,null,null,null,null,4]
[null,null,null,null,null,null,null,null,null,5]
[]
[]
[]
[]
[null,null,null,null,null,null,null,null,null,null,":)"]

{"sheet":"Import","index":3,"n_rows":201,"n_cols":12,"rows_kept":201,"cut":false,"hidden":true,"merged":[]}
["Collection Date","Sample Form","Sample Type","Plant Process","Area","Zone","Description","Temp1","PO","Receiving Date","Due Date","Test"]
[{"$f":"IF(C2=\"\",\"\",IF('Environmental SARF'!B20=\"\",\"\",'Environmental SARF'!B20))","v":"2018-07-23"},{"$f":"IF(C2=\"\",\"\",\"Environmental\")","v":"Environmental"},{"$f":"IF('Environmental SARF'!C20=\"\",\"\",'Environmental SARF'!C20)","v":"Swab"},{"$f":"IF(C2=\"\",\"\",IF('Environmental SARF'!D20=\"\",'Environmental SARF'!$C$10,'Environmental SARF'!D20))","v":"RTE"},{"$f":"IF(B2=\"\",\"\",IF('Environmental SARF'!E20=\"\",\"\",'Environmental SARF'!E20))","v":"Line 1"},{"$f":"IF(B2=\"\",\"\",IF('Environmental SARF'!F20=\"\",\"\",'Environmental SARF'!F20))","v":1},{"$f":"IF(B2=\"\",\"\",IF('Environmental SARF'!G20=\"\",\"\",'Environmental SARF'!G20))","v":"Description"},{"$f":"IF(C2=\"\",\"\",IF('Environmental SARF'!$N$6=\"\",\"\",CONCATENATE('Environmental SARF'!$N$6,'Environmental SARF'!$O$6)))","v":""},{"$f":"IF(C2=\"\",\"\",IF('Environmental SARF'!$N$2=\"\",\"\",'Environmental SARF'!$N$2))","v":""},{"$f":"IF(C2=\"\",\"\",IF('Environmental SARF'!$N$4=\"\",NOW(),'Environmental SARF'!$N$4))","v":"2018-11-28T19:38:48.630"},{"$f":"IF(C2=\"\",\"\",NOW())","v":"2018-11-28T19:38:48.630"},{"$f":"IF(C2=\"\",\"\", IF(AND(NOT(ISBLANK('Environmental SARF'!H20)),'Environmental SARF'!$F$8<>\"1) NA\",'Environmental SARF'!$F$8<>\"1) ...\"), \"   \"&CONCATENATE('Environmental SARF'!$H$18,'Environmental SARF'!$H$19),\"\") & IF(AND(NOT(ISBLANK('Environmental SARF'!I20)),'Environmental SARF'!$F$9<>\"2) NA\",'Environmental SARF'!$F$9<>\"2) ...\"), \"   \"&CONCATENATE('Environmental SARF'!$I$18,'Environmental SARF'!$I$19),\"\")& IF(AND(NOT(ISBLANK('Environmental SARF'!J20)),'Environmental SARF'!$F$10<>\"3) NA\",'Environmental SARF'!$F$10<>\"3) ...\"), \"   \"&CONCATENATE('Environmental SARF'!$J$18,'Environmental SARF'!$J$19),\"\") & IF(AND(NOT(ISBLANK('Environmental SARF'!K20)),'Environmental SARF'!$F$11<>\"4) NA\",'Environmental SARF'!$F$11<>\"4) ...\"), \"   \"&CONCATENATE('Environmental SARF'!$K$18,'Environmental SARF'!$K$19),\"\")& IF(AND(NOT(ISBLANK('Environmental SARF'!L20)),'Environmental SARF'!$F$12<>\"5) NA\",'Environmental SARF'!$F$12<>\"5) ...\"), \"   \"&CONCATENATE('Environmental SARF'!$L$18,'Environmental SARF'!$L$19),\"\")&IF(AND(NOT(ISBLANK('Environmental SARF'!M20)),'Environmental SARF'!$F$13<>\"6) NA\",'Environmental SARF'!$F$13<>\"6) ...\"), \"   \"&CONCATENATE('Environmental SARF'!$M$18,'Environmental SARF'!$M$19),\"\")&IF(AND(NOT(ISBLANK('Environmental SARF'!N20)),'Environmental SARF'!$F$14<>\"7) NA\",'Environmental SARF'!$F$14<>\"7) ...\"), \"   \"&CONCATENATE('Environmental SARF'!$N$18,'Environmental SARF'!$N$19),\"\") &IF(AND(NOT(ISBLANK('Environmental SARF'!O20)),'Environmental SARF'!$F$15<>\"8) NA\",'Environmental SARF'!$F$15<>\"8) ...\"), \"   \"&CONCATENATE('Environmental SARF'!$O$18,'Environmental SARF'!$O$19),\"\"))","v":"   APC35MFs   ECMFs   COLIMFs   YMFs   MMFs   StaphAmFDAs   LGPCRs   SALPCRs"}]
[{"$f":"IF(C3=\"\",\"\",IF('Environmental SARF'!B21=\"\",\"\",'Environmental SARF'!B21))","v":""},{"$f":"IF(C3=\"\",\"\",\"Environmental\")","v":""},{"$f":"IF('Environmental SARF'!C21=\"\",\"\",'Environmental SARF'!C21)","v":""},{"$f":"IF(C3=\"\",\"\",IF('Environmental SARF'!D21=\"\",'Environmental SARF'!$C$10,'Environmental SARF'!D21))","v":""},{"$f":"IF(B3=\"\",\"\",IF('Environmental SARF'!E21=\"\",\"\",'Environmental SARF'!E21))","v":""},{"$f":"IF(B3=\"\",\"\",IF('Environmental SARF'!F21=\"\",\"\",'Environmental SARF'!F21))","v":""},{"$f":"IF(B3=\"\",\"\",IF('Environmental SARF'!G21=\"\",\"\",'Environmental SARF'!G21))","v":""},{"$f":"IF(C3=\"\",\"\",IF('Environmental SARF'!$N$6=\"\",\"\",CONCATENATE('Environmental SARF'!$N$6,'Environmental SARF'!$O$6)))","v":""},{"$f":"IF(C3=\"\",\"\",IF('Environmental SARF'!$N$2=\"\",\"\",'Environmental SARF'!$N$2))","v":""},{"$f":"IF(C3=\"\",\"\",IF('Environmental SARF'!$N$4=\"\",NOW(),'Environmental SARF'!$N$4))","v":""},{"$f":"IF(C3=\"\",\"\",NOW())","v":""},{"$f":"IF(C3=\"\",\"\", IF(AND(NOT(ISBLANK('Environmental SARF'!H21)),'Environmental SARF'!$F$8<>\"1) NA\",'Environmental SARF'!$F$8<>\"1) ...\"), \"   \"&CONCATENATE('Environmental SARF'!$H$18,'Environmental SARF'!$H$19),\"\") & IF(AND(NOT(ISBLANK('Environmental SARF'!I21)),'Environmental SARF'!$F$9<>\"2) NA\",'Environmental SARF'!$F$9<>\"2) ...\"), \"   \"&CONCATENATE('Environmental SARF'!$I$18,'Environmental SARF'!$I$19),\"\")& IF(AND(NOT(ISBLANK('Environmental SARF'!J21)),'Environmental SARF'!$F$10<>\"3) NA\",'Environmental SARF'!$F$10<>\"3) ...\"), \"   \"&CONCATENATE('Environmental SARF'!$J$18,'Environmental SARF'!$J$19),\"\") & IF(AND(NOT(ISBLANK('Environmental SARF'!K21)),'Environmental SARF'!$F$11<>\"4) NA\",'Environmental SARF'!$F$11<>\"4) ...\"), \"   \"&CONCATENATE('Environmental SARF'!$K$18,'Environmental SARF'!$K$19),\"\")& IF(AND(NOT(ISBLANK('Environmental SARF'!L21)),'Environmental SARF'!$F$12<>\"5) NA\",'Environmental SARF'!$F$12<>\"5) ...\"), \"   \"&CONCATENATE('Environmental SARF'!$L$18,'Environmental SARF'!$L$19),\"\")&IF(AND(NOT(ISBLANK('Environmental SARF'!M21)),'Environmental SARF'!$F$13<>\"6) NA\",'Environmental SARF'!$F$13<>\"6) ...\"), \"   \"&CONCATENATE('Environmental SARF'!$M$18,'Environmental SARF'!$M$19),\"\")&IF(AND(NOT(ISBLANK('Environmental SARF'!N21)),'Environmental SARF'!$F$14<>\"7) NA\",'Environmental SARF'!$F$14<>\"7) ...\"), \"   \"&CONCATENATE('Environmental SARF'!$N$18,'Environmental SARF'!$N$19),\"\") &IF(AND(NOT(ISBLANK('Environmental SARF'!O21)),'Environmental SARF'!$F$15<>\"8) NA\",'Environmental SARF'!$F$15<>\"8) ...\"), \"   \"&CONCATENATE('Environmental SARF'!$O$18,'Environmental SARF'!$O$19),\"\"))","v":""}]
[{"$f":"IF(C4=\"\",\"\",IF('Environmental SARF'!B22=\"\",\"\",'Environmental SARF'!B22))","v":""},"",{"$f":"IF('Environmental SARF'!C22=\"\",\"\",'Environmental SARF'!C22)","v":""},{"$f":"IF(C4=\"\",\"\",IF('Environmental SARF'!D22=\"\",'Environmental SARF'!$C$10,'Environmental SARF'!D22))","v":""},{"$f":"IF(B4=\"\",\"\",IF('Environmental SARF'!E22=\"\",\"\",'Environmental SARF'!E22))","v":""},{"$f":"IF(B4=\"\",\"\",IF('Environmental SARF'!F22=\"\",\"\",'Environmental SARF'!F22))","v":""},{"$f":"IF(B4=\"\",\"\",IF('Environmental SARF'!G22=\"\",\"\",'Environmental SARF'!G22))","v":""},{"$f":"IF(C4=\"\",\"\",IF('Environmental SARF'!$N$6=\"\",\"\",CONCATENATE('Environmental SARF'!$N$6,'Environmental SARF'!$O$6)))","v":""},{"$f":"IF(C4=\"\",\"\",IF('Environmental SARF'!$N$2=\"\",\"\",'Environmental SARF'!$N$2))","v":""},{"$f":"IF(C4=\"\",\"\",IF('Environmental SARF'!$N$4=\"\",NOW(),'Environmental SARF'!$N$4))","v":""},"",{"$f":"IF(C4=\"\",\"\", IF(AND(NOT(ISBLANK('Environmental SARF'!H22)),'Environmental SARF'!$F$8<>\"1) NA\",'Environmental SARF'!$F$8<>\"1) ...\"), \"   \"&CONCATENATE('Environmental SARF'!$H$18,'Environmental SARF'!$H$19),\"\") & IF(AND(NOT(ISBLANK('Environmental SARF'!I22)),'Environmental SARF'!$F$9<>\"2) NA\",'Environmental SARF'!$F$9<>\"2) ...\"), \"   \"&CONCATENATE('Environmental SARF'!$I$18,'Environmental SARF'!$I$19),\"\")& IF(AND(NOT(ISBLANK('Environmental SARF'!J22)),'Environmental SARF'!$F$10<>\"3) NA\",'Environmental SARF'!$F$10<>\"3) ...\"), \"   \"&CONCATENATE('Environmental SARF'!$J$18,'Environmental SARF'!$J$19),\"\") & IF(AND(NOT(ISBLANK('Environmental SARF'!K22)),'Environmental SARF'!$F$11<>\"4) NA\",'Environmental SARF'!$F$11<>\"4) ...\"), \"   \"&CONCATENATE('Environmental SARF'!$K$18,'Environmental SARF'!$K$19),\"\")& IF(AND(NOT(ISBLANK('Environmental SARF'!L22)),'Environmental SARF'!$F$12<>\"5) NA\",'Environmental SARF'!$F$12<>\"5) ...\"), \"   \"&CONCATENATE('Environmental SARF'!$L$18,'Environmental SARF'!$L$19),\"\")&IF(AND(NOT(ISBLANK('Environmental SARF'!M22)),'Environmental SARF'!$F$13<>\"6) NA\",'Environmental SARF'!$F$13<>\"6) ...\"), \"   \"&CONCATENATE('Environmental SARF'!$M$18,'Environmental SARF'!$M$19),\"\")&IF(AND(NOT(ISBLANK('Environmental SARF'!N22)),'Environmental SARF'!$F$14<>\"7) NA\",'Environmental SARF'!$F$14<>\"7) ...\"), \"   \"&CONCATENATE('Environmental SARF'!$N$18,'Environmental SARF'!$N$19),\"\") &IF(AND(NOT(ISBLANK('Environmental SARF'!O22)),'Environmental SARF'!$F$15<>\"8) NA\",'Environmental SARF'!$F$15<>\"8) ...\"), \"   \"&CONCATENATE('Environmental SARF'!$O$18,'Environmental SARF'!$O$19),\"\"))","v":""}]
[{"$f":"IF(C5=\"\",\"\",IF('Environmental SARF'!B23=\"\",\"\",'Environmental SARF'!B23))","v":""},"",{"$f":"IF('Environmental SARF'!C23=\"\",\"\",'Environmental SARF'!C23)","v":""},{"$f":"IF(C5=\"\",\"\",IF('Environmental SARF'!D23=\"\",'Environmental SARF'!$C$10,'Environmental SARF'!D23))","v":""},{"$f":"IF(B5=\"\",\"\",IF('Environmental SARF'!E23=\"\",\"\",'Environmental SARF'!E23))","v":""},{"$f":"IF(B5=\"\",\"\",IF('Environmental SARF'!F23=\"\",\"\",'Environmental SARF'!F23))","v":""},{"$f":"IF(B5=\"\",\"\",IF('Environmental SARF'!G23=\"\",\"\",'Environmental SARF'!G23))","v":""},{"$f":"IF(C5=\"\",\"\",IF('Environmental SARF'!$N$6=\"\",\"\",CONCATENATE('Environmental SARF'!$N$6,'Environmental SARF'!$O$6)))","v":""},{"$f":"IF(C5=\"\",\"\",IF('Environmental SARF'!$N$2=\"\",\"\",'Environmental SARF'!$N$2))","v":""},{"$f":"IF(C5=\"\",\"\",IF('Environmental SARF'!$N$4=\"\",NOW(),'Environmental SARF'!$N$4))","v":""},"",{"$f":"IF(C5=\"\",\"\", IF(AND(NOT(ISBLANK('Environmental SARF'!H23)),'Environmental SARF'!$F$8<>\"1) NA\",'Environmental SARF'!$F$8<>\"1) ...\"), \"   \"&CONCATENATE('Environmental SARF'!$H$18,'Environmental SARF'!$H$19),\"\") & IF(AND(NOT(ISBLANK('Environmental SARF'!I23)),'Environmental SARF'!$F$9<>\"2) NA\",'Environmental SARF'!$F$9<>\"2) ...\"), \"   \"&CONCATENATE('Environmental SARF'!$I$18,'Environmental SARF'!$I$19),\"\")& IF(AND(NOT(ISBLANK('Environmental SARF'!J23)),'Environmental SARF'!$F$10<>\"3) NA\",'Environmental SARF'!$F$10<>\"3) ...\"), \"   \"&CONCATENATE('Environmental SARF'!$J$18,'Environmental SARF'!$J$19),\"\") & IF(AND(NOT(ISBLANK('Environmental SARF'!K23)),'Environmental SARF'!$F$11<>\"4) NA\",'Environmental SARF'!$F$11<>\"4) ...\"), \"   \"&CONCATENATE('Environmental SARF'!$K$18,'Environmental SARF'!$K$19),\"\")& IF(AND(NOT(ISBLANK('Environmental SARF'!L23)),'Environmental SARF'!$F$12<>\"5) NA\",'Environmental SARF'!$F$12<>\"5) ...\"), \"   \"&CONCATENATE('Environmental SARF'!$L$18,'Environmental SARF'!$L$19),\"\")&IF(AND(NOT(ISBLANK('Environmental SARF'!M23)),'Environmental SARF'!$F$13<>\"6) NA\",'Environmental SARF'!$F$13<>\"6) ...\"), \"   \"&CONCATENATE('Environmental SARF'!$M$18,'Environmental SARF'!$M$19),\"\")&IF(AND(NOT(ISBLANK('Environmental SARF'!N23)),'Environmental SARF'!$F$14<>\"7) NA\",'Environmental SARF'!$F$14<>\"7) ...\"), \"   \"&CONCATENATE('Environmental SARF'!$N$18,'Environmental SARF'!$N$19),\"\") &IF(AND(NOT(ISBLANK('Environmental SARF'!O23)),'Environmental SARF'!$F$15<>\"8) NA\",'Environmental SARF'!$F$15<>\"8) ...\"), \"   \"&CONCATENATE('Environmental SARF'!$O$18,'Environmental SARF'!$O$19),\"\"))","v":""}]
[{"$f":"IF(C6=\"\",\"\",IF('Environmental SARF'!B24=\"\",\"\",'Environmental SARF'!B24))","v":""},"",{"$f":"IF('Environmental SARF'!C24=\"\",\"\",'Environmental SARF'!C24)","v":""},{"$f":"IF(C6=\"\",\"\",IF('Environmental SARF'!D24=\"\",'Environmental SARF'!$C$10,'Environmental SARF'!D24))","v":""},{"$f":"IF(B6=\"\",\"\",IF('Environmental SARF'!E24=\"\",\"\",'Environmental SARF'!E24))","v":""},{"$f":"IF(B6=\"\",\"\",IF('Environmental SARF'!F24=\"\",\"\",'Environmental SARF'!F24))","v":""},{"$f":"IF(B6=\"\",\"\",IF('Environmental SARF'!G24=\"\",\"\",'Environmental SARF'!G24))","v":""},{"$f":"IF(C6=\"\",\"\",IF('Environmental SARF'!$N$6=\"\",\"\",CONCATENATE('Environmental SARF'!$N$6,'Environmental SARF'!$O$6)))","v":""},{"$f":"IF(C6=\"\",\"\",IF('Environmental SARF'!$N$2=\"\",\"\",'Environmental SARF'!$N$2))","v":""},{"$f":"IF(C6=\"\",\"\",IF('Environmental SARF'!$N$4=\"\",NOW(),'Environmental SARF'!$N$4))","v":""},"",{"$f":"IF(C6=\"\",\"\", IF(AND(NOT(ISBLANK('Environmental SARF'!H24)),'Environmental SARF'!$F$8<>\"1) NA\",'Environmental SARF'!$F$8<>\"1) ...\"), \"   \"&CONCATENATE('Environmental SARF'!$H$18,'Environmental SARF'!$H$19),\"\") & IF(AND(NOT(ISBLANK('Environmental SARF'!I24)),'Environmental SARF'!$F$9<>\"2) NA\",'Environmental SARF'!$F$9<>\"2) ...\"), \"   \"&CONCATENATE('Environmental SARF'!$I$18,'Environmental SARF'!$I$19),\"\")& IF(AND(NOT(ISBLANK('Environmental SARF'!J24)),'Environmental SARF'!$F$10<>\"3) NA\",'Environmental SARF'!$F$10<>\"3) ...\"), \"   \"&CONCATENATE('Environmental SARF'!$J$18,'Environmental SARF'!$J$19),\"\") & IF(AND(NOT(ISBLANK('Environmental SARF'!K24)),'Environmental SARF'!$F$11<>\"4) NA\",'Environmental SARF'!$F$11<>\"4) ...\"), \"   \"&CONCATENATE('Environmental SARF'!$K$18,'Environmental SARF'!$K$19),\"\")& IF(AND(NOT(ISBLANK('Environmental SARF'!L24)),'Environmental SARF'!$F$12<>\"5) NA\",'Environmental SARF'!$F$12<>\"5) ...\"), \"   \"&CONCATENATE('Environmental SARF'!$L$18,'Environmental SARF'!$L$19),\"\")&IF(AND(NOT(ISBLANK('Environmental SARF'!M24)),'Environmental SARF'!$F$13<>\"6) NA\",'Environmental SARF'!$F$13<>\"6) ...\"), \"   \"&CONCATENATE('Environmental SARF'!$M$18,'Environmental SARF'!$M$19),\"\")&IF(AND(NOT(ISBLANK('Environmental SARF'!N24)),'Environmental SARF'!$F$14<>\"7) NA\",'Environmental SARF'!$F$14<>\"7) ...\"), \"   \"&CONCATENATE('Environmental SARF'!$N$18,'Environmental SARF'!$N$19),\"\") &IF(AND(NOT(ISBLANK('Environmental SARF'!O24)),'Environmental SARF'!$F$15<>\"8) NA\",'Environmental SARF'!$F$15<>\"8) ...\"), \"   \"&CONCATENATE('Environmental SARF'!$O$18,'Environmental SARF'!$O$19),\"\"))","v":""}]
[{"$f":"IF(C7=\"\",\"\",IF('Environmental SARF'!B25=\"\",\"\",'Environmental SARF'!B25))","v":""},"",{"$f":"IF('Environmental SARF'!C25=\"\",\"\",'Environmental SARF'!C25)","v":""},{"$f":"IF(C7=\"\",\"\",IF('Environmental SARF'!D25=\"\",'Environmental SARF'!$C$10,'Environmental SARF'!D25))","v":""},{"$f":"IF(B7=\"\",\"\",IF('Environmental SARF'!E25=\"\",\"\",'Environmental SARF'!E25))","v":""},{"$f":"IF(B7=\"\",\"\",IF('Environmental SARF'!F25=\"\",\"\",'Environmental SARF'!F25))","v":""},{"$f":"IF(B7=\"\",\"\",IF('Environmental SARF'!G25=\"\",\"\",'Environmental SARF'!G25))","v":""},{"$f":"IF(C7=\"\",\"\",IF('Environmental SARF'!$N$6=\"\",\"\",CONCATENATE('Environmental SARF'!$N$6,'Environmental SARF'!$O$6)))","v":""},{"$f":"IF(C7=\"\",\"\",IF('Environmental SARF'!$N$2=\"\",\"\",'Environmental SARF'!$N$2))","v":""},{"$f":"IF(C7=\"\",\"\",IF('Environmental SARF'!$N$4=\"\",NOW(),'Environmental SARF'!$N$4))","v":""},"",{"$f":"IF(C7=\"\",\"\", IF(AND(NOT(ISBLANK('Environmental SARF'!H25)),'Environmental SARF'!$F$8<>\"1) NA\",'Environmental SARF'!$F$8<>\"1) ...\"), \"   \"&CONCATENATE('Environmental SARF'!$H$18,'Environmental SARF'!$H$19),\"\") & IF(AND(NOT(ISBLANK('Environmental SARF'!I25)),'Environmental SARF'!$F$9<>\"2) NA\",'Environmental SARF'!$F$9<>\"2) ...\"), \"   \"&CONCATENATE('Environmental SARF'!$I$18,'Environmental SARF'!$I$19),\"\")& IF(AND(NOT(ISBLANK('Environmental SARF'!J25)),'Environmental SARF'!$F$10<>\"3) NA\",'Environmental SARF'!$F$10<>\"3) ...\"), \"   \"&CONCATENATE('Environmental SARF'!$J$18,'Environmental SARF'!$J$19),\"\") & IF(AND(NOT(ISBLANK('Environmental SARF'!K25)),'Environmental SARF'!$F$11<>\"4) NA\",'Environmental SARF'!$F$11<>\"4) ...\"), \"   \"&CONCATENATE('Environmental SARF'!$K$18,'Environmental SARF'!$K$19),\"\")& IF(AND(NOT(ISBLANK('Environmental SARF'!L25)),'Environmental SARF'!$F$12<>\"5) NA\",'Environmental SARF'!$F$12<>\"5) ...\"), \"   \"&CONCATENATE('Environmental SARF'!$L$18,'Environmental SARF'!$L$19),\"\")&IF(AND(NOT(ISBLANK('Environmental SARF'!M25)),'Environmental SARF'!$F$13<>\"6) NA\",'Environmental SARF'!$F$13<>\"6) ...\"), \"   \"&CONCATENATE('Environmental SARF'!$M$18,'Environmental SARF'!$M$19),\"\")&IF(AND(NOT(ISBLANK('Environmental SARF'!N25)),'Environmental SARF'!$F$14<>\"7) NA\",'Environmental SARF'!$F$14<>\"7) ...\"), \"   \"&CONCATENATE('Environmental SARF'!$N$18,'Environmental SARF'!$N$19),\"\") &IF(AND(NOT(ISBLANK('Environmental SARF'!O25)),'Environmental SARF'!$F$15<>\"8) NA\",'Environmental SARF'!$F$15<>\"8) ...\"), \"   \"&CONCATENATE('Environmental SARF'!$O$18,'Environmental SARF'!$O$19),\"\"))","v":""}]
[{"$f":"IF(C8=\"\",\"\",IF('Environmental SARF'!B26=\"\",\"\",'Environmental SARF'!B26))","v":""},"",{"$f":"IF('Environmental SARF'!C26=\"\",\"\",'Environmental SARF'!C26)","v":""},{"$f":"IF(C8=\"\",\"\",IF('Environmental SARF'!D26=\"\",'Environmental SARF'!$C$10,'Environmental SARF'!D26))","v":""},{"$f":"IF(B8=\"\",\"\",IF('Environmental SARF'!E26=\"\",\"\",'Environmental SARF'!E26))","v":""},{"$f":"IF(B8=\"\",\"\",IF('Environmental SARF'!F26=\"\",\"\",'Environmental SARF'!F26))","v":""},{"$f":"IF(B8=\"\",\"\",IF('Environmental SARF'!G26=\"\",\"\",'Environmental SARF'!G26))","v":""},{"$f":"IF(C8=\"\",\"\",IF('Environmental SARF'!$N$6=\"\",\"\",CONCATENATE('Environmental SARF'!$N$6,'Environmental SARF'!$O$6)))","v":""},{"$f":"IF(C8=\"\",\"\",IF('Environmental SARF'!$N$2=\"\",\"\",'Environmental SARF'!$N$2))","v":""},{"$f":"IF(C8=\"\",\"\",IF('Environmental SARF'!$N$4=\"\",NOW(),'Environmental SARF'!$N$4))","v":""},"",{"$f":"IF(C8=\"\",\"\", IF(AND(NOT(ISBLANK('Environmental SARF'!H26)),'Environmental SARF'!$F$8<>\"1) NA\",'Environmental SARF'!$F$8<>\"1) ...\"), \"   \"&CONCATENATE('Environmental SARF'!$H$18,'Environmental SARF'!$H$19),\"\") & IF(AND(NOT(ISBLANK('Environmental SARF'!I26)),'Environmental SARF'!$F$9<>\"2) NA\",'Environmental SARF'!$F$9<>\"2) ...\"), \"   \"&CONCATENATE('Environmental SARF'!$I$18,'Environmental SARF'!$I$19),\"\")& IF(AND(NOT(ISBLANK('Environmental SARF'!J26)),'Environmental SARF'!$F$10<>\"3) NA\",'Environmental SARF'!$F$10<>\"3) ...\"), \"   \"&CONCATENATE('Environmental SARF'!$J$18,'Environmental SARF'!$J$19),\"\") & IF(AND(NOT(ISBLANK('Environmental SARF'!K26)),'Environmental SARF'!$F$11<>\"4) NA\",'Environmental SARF'!$F$11<>\"4) ...\"), \"   \"&CONCATENATE('Environmental SARF'!$K$18,'Environmental SARF'!$K$19),\"\")& IF(AND(NOT(ISBLANK('Environmental SARF'!L26)),'Environmental SARF'!$F$12<>\"5) NA\",'Environmental SARF'!$F$12<>\"5) ...\"), \"   \"&CONCATENATE('Environmental SARF'!$L$18,'Environmental SARF'!$L$19),\"\")&IF(AND(NOT(ISBLANK('Environmental SARF'!M26)),'Environmental SARF'!$F$13<>\"6) NA\",'Environmental SARF'!$F$13<>\"6) ...\"), \"   \"&CONCATENATE('Environmental SARF'!$M$18,'Environmental SARF'!$M$19),\"\")&IF(AND(NOT(ISBLANK('Environmental SARF'!N26)),'Environmental SARF'!$F$14<>\"7) NA\",'Environmental SARF'!$F$14<>\"7) ...\"), \"   \"&CONCATENATE('Environmental SARF'!$N$18,'Environmental SARF'!$N$19),\"\") &IF(AND(NOT(ISBLANK('Environmental SARF'!O26)),'Environmental SARF'!$F$15<>\"8) NA\",'Environmental SARF'!$F$15<>\"8) ...\"), \"   \"&CONCATENATE('Environmental SARF'!$O$18,'Environmental SARF'!$O$19),\"\"))","v":""}]
[{"$f":"IF(C9=\"\",\"\",IF('Environmental SARF'!B27=\"\",\"\",'Environmental SARF'!B27))","v":""},"",{"$f":"IF('Environmental SARF'!C27=\"\",\"\",'Environmental SARF'!C27)","v":""},{"$f":"IF(C9=\"\",\"\",IF('Environmental SARF'!D27=\"\",'Environmental SARF'!$C$10,'Environmental SARF'!D27))","v":""},{"$f":"IF(B9=\"\",\"\",IF('Environmental SARF'!E27=\"\",\"\",'Environmental SARF'!E27))","v":""},{"$f":"IF(B9=\"\",\"\",IF('Environmental SARF'!F27=\"\",\"\",'Environmental SARF'!F27))","v":""},{"$f":"IF(B9=\"\",\"\",IF('Environmental SARF'!G27=\"\",\"\",'Environmental SARF'!G27))","v":""},{"$f":"IF(C9=\"\",\"\",IF('Environmental SARF'!$N$6=\"\",\"\",CONCATENATE('Environmental SARF'!$N$6,'Environmental SARF'!$O$6)))","v":""},{"$f":"IF(C9=\"\",\"\",IF('Environmental SARF'!$N$2=\"\",\"\",'Environmental SARF'!$N$2))","v":""},{"$f":"IF(C9=\"\",\"\",IF('Environmental SARF'!$N$4=\"\",NOW(),'Environmental SARF'!$N$4))","v":""},"",{"$f":"IF(C9=\"\",\"\", IF(AND(NOT(ISBLANK('Environmental SARF'!H27)),'Environmental SARF'!$F$8<>\"1) NA\",'Environmental SARF'!$F$8<>\"1) ...\"), \"   \"&CONCATENATE('Environmental SARF'!$H$18,'Environmental SARF'!$H$19),\"\") & IF(AND(NOT(ISBLANK('Environmental SARF'!I27)),'Environmental SARF'!$F$9<>\"2) NA\",'Environmental SARF'!$F$9<>\"2) ...\"), \"   \"&CONCATENATE('Environmental SARF'!$I$18,'Environmental SARF'!$I$19),\"\")& IF(AND(NOT(ISBLANK('Environmental SARF'!J27)),'Environmental SARF'!$F$10<>\"3) NA\",'Environmental SARF'!$F$10<>\"3) ...\"), \"   \"&CONCATENATE('Environmental SARF'!$J$18,'Environmental SARF'!$J$19),\"\") & IF(AND(NOT(ISBLANK('Environmental SARF'!K27)),'Environmental SARF'!$F$11<>\"4) NA\",'Environmental SARF'!$F$11<>\"4) ...\"), \"   \"&CONCATENATE('Environmental SARF'!$K$18,'Environmental SARF'!$K$19),\"\")& IF(AND(NOT(ISBLANK('Environmental SARF'!L27)),'Environmental SARF'!$F$12<>\"5) NA\",'Environmental SARF'!$F$12<>\"5) ...\"), \"   \"&CONCATENATE('Environmental SARF'!$L$18,'Environmental SARF'!$L$19),\"\")&IF(AND(NOT(ISBLANK('Environmental SARF'!M27)),'Environmental SARF'!$F$13<>\"6) NA\",'Environmental SARF'!$F$13<>\"6) ...\"), \"   \"&CONCATENATE('Environmental SARF'!$M$18,'Environmental SARF'!$M$19),\"\")&IF(AND(NOT(ISBLANK('Environmental SARF'!N27)),'Environmental SARF'!$F$14<>\"7) NA\",'Environmental SARF'!$F$14<>\"7) ...\"), \"   \"&CONCATENATE('Environmental SARF'!$N$18,'Environmental SARF'!$N$19),\"\") &IF(AND(NOT(ISBLANK('Environmental SARF'!O27)),'Environmental SARF'!$F$15<>\"8) NA\",'Environmental SARF'!$F$15<>\"8) ...\"), \"   \"&CONCATENATE('Environmental SARF'!$O$18,'Environmental SARF'!$O$19),\"\"))","v":""}]
[{"$f":"IF(C10=\"\",\"\",IF('Environmental SARF'!B28=\"\",\"\",'Environmental SARF'!B28))","v":""},"",{"$f":"IF('Environmental SARF'!C28=\"\",\"\",'Environmental SARF'!C28)","v":""},{"$f":"IF(C10=\"\",\"\",IF('Environmental SARF'!D28=\"\",'Environmental SARF'!$C$10,'Environmental SARF'!D28))","v":""},{"$f":"IF(B10=\"\",\"\",IF('Environmental SARF'!E28=\"\",\"\",'Environmental SARF'!E28))","v":""},{"$f":"IF(B10=\"\",\"\",IF('Environmental SARF'!F28=\"\",\"\",'Environmental SARF'!F28))","v":""},{"$f":"IF(B10=\"\",\"\",IF('Environmental SARF'!G28=\"\",\"\",'Environmental SARF'!G28))","v":""},{"$f":"IF(C10=\"\",\"\",IF('Environmental SARF'!$N$6=\"\",\"\",CONCATENATE('Environmental SARF'!$N$6,'Environmental SARF'!$O$6)))","v":""},{"$f":"IF(C10=\"\",\"\",IF('Environmental SARF'!$N$2=\"\",\"\",'Environmental SARF'!$N$2))","v":""},{"$f":"IF(C10=\"\",\"\",IF('Environmental SARF'!$N$4=\"\",NOW(),'Environmental SARF'!$N$4))","v":""},"",{"$f":"IF(C10=\"\",\"\", IF(AND(NOT(ISBLANK('Environmental SARF'!H28)),'Environmental SARF'!$F$8<>\"1) NA\",'Environmental SARF'!$F$8<>\"1) ...\"), \"   \"&CONCATENATE('Environmental SARF'!$H$18,'Environmental SARF'!$H$19),\"\") & IF(AND(NOT(ISBLANK('Environmental SARF'!I28)),'Environmental SARF'!$F$9<>\"2) NA\",'Environmental SARF'!$F$9<>\"2) ...\"), \"   \"&CONCATENATE('Environmental SARF'!$I$18,'Environmental SARF'!$I$19),\"\")& IF(AND(NOT(ISBLANK('Environmental SARF'!J28)),'Environmental SARF'!$F$10<>\"3) NA\",'Environmental SARF'!$F$10<>\"3) ...\"), \"   \"&CONCATENATE('Environmental SARF'!$J$18,'Environmental SARF'!$J$19),\"\") & IF(AND(NOT(ISBLANK('Environmental SARF'!K28)),'Environmental SARF'!$F$11<>\"4) NA\",'Environmental SARF'!$F$11<>\"4) ...\"), \"   \"&CONCATENATE('Environmental SARF'!$K$18,'Environmental SARF'!$K$19),\"\")& IF(AND(NOT(ISBLANK('Environmental SARF'!L28)),'Environmental SARF'!$F$12<>\"5) NA\",'Environmental SARF'!$F$12<>\"5) ...\"), \"   \"&CONCATENATE('Environmental SARF'!$L$18,'Environmental SARF'!$L$19),\"\")&IF(AND(NOT(ISBLANK('Environmental SARF'!M28)),'Environmental SARF'!$F$13<>\"6) NA\",'Environmental SARF'!$F$13<>\"6) ...\"), \"   \"&CONCATENATE('Environmental SARF'!$M$18,'Environmental SARF'!$M$19),\"\")&IF(AND(NOT(ISBLANK('Environmental SARF'!N28)),'Environmental SARF'!$F$14<>\"7) NA\",'Environmental SARF'!$F$14<>\"7) ...\"), \"   \"&CONCATENATE('Environmental SARF'!$N$18,'Environmental SARF'!$N$19),\"\") &IF(AND(NOT(ISBLANK('Environmental SARF'!O28)),'Environmental SARF'!$F$15<>\"8) NA\",'Environmental SARF'!$F$15<>\"8) ...\"), \"   \"&CONCATENATE('Environmental SARF'!$O$18,'Environmental SARF'!$O$19),\"\"))","v":""}]
[{"$f":"IF(C11=\"\",\"\",IF('Environmental SARF'!B29=\"\",\"\",'Environmental SARF'!B29))","v":""},"",{"$f":"IF('Environmental SARF'!C29=\"\",\"\",'Environmental SARF'!C29)","v":""},{"$f":"IF(C11=\"\",\"\",IF('Environmental SARF'!D29=\"\",'Environmental SARF'!$C$10,'Environmental SARF'!D29))","v":""},{"$f":"IF(B11=\"\",\"\",IF('Environmental SARF'!E29=\"\",\"\",'Environmental SARF'!E29))","v":""},{"$f":"IF(B11=\"\",\"\",IF('Environmental SARF'!F29=\"\",\"\",'Environmental SARF'!F29))","v":""},{"$f":"IF(B11=\"\",\"\",IF('Environmental SARF'!G29=\"\",\"\",'Environmental SARF'!G29))","v":""},{"$f":"IF(C11=\"\",\"\",IF('Environmental SARF'!$N$6=\"\",\"\",CONCATENATE('Environmental SARF'!$N$6,'Environmental SARF'!$O$6)))","v":""},{"$f":"IF(C11=\"\",\"\",IF('Environmental SARF'!$N$2=\"\",\"\",'Environmental SARF'!$N$2))","v":""},{"$f":"IF(C11=\"\",\"\",IF('Environmental SARF'!$N$4=\"\",NOW(),'Environmental SARF'!$N$4))","v":""},"",{"$f":"IF(C11=\"\",\"\", IF(AND(NOT(ISBLANK('Environmental SARF'!H29)),'Environmental SARF'!$F$8<>\"1) NA\",'Environmental SARF'!$F$8<>\"1) ...\"), \"   \"&CONCATENATE('Environmental SARF'!$H$18,'Environmental SARF'!$H$19),\"\") & IF(AND(NOT(ISBLANK('Environmental SARF'!I29)),'Environmental SARF'!$F$9<>\"2) NA\",'Environmental SARF'!$F$9<>\"2) ...\"), \"   \"&CONCATENATE('Environmental SARF'!$I$18,'Environmental SARF'!$I$19),\"\")& IF(AND(NOT(ISBLANK('Environmental SARF'!J29)),'Environmental SARF'!$F$10<>\"3) NA\",'Environmental SARF'!$F$10<>\"3) ...\"), \"   \"&CONCATENATE('Environmental SARF'!$J$18,'Environmental SARF'!$J$19),\"\") & IF(AND(NOT(ISBLANK('Environmental SARF'!K29)),'Environmental SARF'!$F$11<>\"4) NA\",'Environmental SARF'!$F$11<>\"4) ...\"), \"   \"&CONCATENATE('Environmental SARF'!$K$18,'Environmental SARF'!$K$19),\"\")& IF(AND(NOT(ISBLANK('Environmental SARF'!L29)),'Environmental SARF'!$F$12<>\"5) NA\",'Environmental SARF'!$F$12<>\"5) ...\"), \"   \"&CONCATENATE('Environmental SARF'!$L$18,'Environmental SARF'!$L$19),\"\")&IF(AND(NOT(ISBLANK('Environmental SARF'!M29)),'Environmental SARF'!$F$13<>\"6) NA\",'Environmental SARF'!$F$13<>\"6) ...\"), \"   \"&CONCATENATE('Environmental SARF'!$M$18,'Environmental SARF'!$M$19),\"\")&IF(AND(NOT(ISBLANK('Environmental SARF'!N29)),'Environmental SARF'!$F$14<>\"7) NA\",'Environmental SARF'!$F$14<>\"7) ...\"), \"   \"&CONCATENATE('Environmental SARF'!$N$18,'Environmental SARF'!$N$19),\"\") &IF(AND(NOT(ISBLANK('Environmental SARF'!O29)),'Environmental SARF'!$F$15<>\"8) NA\",'Environmental SARF'!$F$15<>\"8) ...\"), \"   \"&CONCATENATE('Environmental SARF'!$O$18,'Environmental SARF'!$O$19),\"\"))","v":""}]
[{"$f":"IF(C12=\"\",\"\",IF('Environmental SARF'!B30=\"\",\"\",'Environmental SARF'!B30))","v":""},"",{"$f":"IF('Environmental SARF'!C30=\"\",\"\",'Environmental SARF'!C30)","v":""},{"$f":"IF(C12=\"\",\"\",IF('Environmental SARF'!D30=\"\",'Environmental SARF'!$C$10,'Environmental SARF'!D30))","v":""},{"$f":"IF(B12=\"\",\"\",IF('Environmental SARF'!E30=\"\",\"\",'Environmental SARF'!E30))","v":""},{"$f":"IF(B12=\"\",\"\",IF('Environmental SARF'!F30=\"\",\"\",'Environmental SARF'!F30))","v":""},{"$f":"IF(B12=\"\",\"\",IF('Environmental SARF'!G30=\"\",\"\",'Environmental SARF'!G30))","v":""},{"$f":"IF(C12=\"\",\"\",IF('Environmental SARF'!$N$6=\"\",\"\",CONCATENATE('Environmental SARF'!$N$6,'Environmental SARF'!$O$6)))","v":""},{"$f":"IF(C12=\"\",\"\",IF('Environmental SARF'!$N$2=\"\",\"\",'Environmental SARF'!$N$2))","v":""},{"$f":"IF(C12=\"\",\"\",IF('Environmental SARF'!$N$4=\"\",NOW(),'Environmental SARF'!$N$4))","v":""},"",{"$f":"IF(C12=\"\",\"\", IF(AND(NOT(ISBLANK('Environmental SARF'!H30)),'Environmental SARF'!$F$8<>\"1) NA\",'Environmental SARF'!$F$8<>\"1) ...\"), \"   \"&CONCATENATE('Environmental SARF'!$H$18,'Environmental SARF'!$H$19),\"\") & IF(AND(NOT(ISBLANK('Environmental SARF'!I30)),'Environmental SARF'!$F$9<>\"2) NA\",'Environmental SARF'!$F$9<>\"2) ...\"), \"   \"&CONCATENATE('Environmental SARF'!$I$18,'Environmental SARF'!$I$19),\"\")& IF(AND(NOT(ISBLANK('Environmental SARF'!J30)),'Environmental SARF'!$F$10<>\"3) NA\",'Environmental SARF'!$F$10<>\"3) ...\"), \"   \"&CONCATENATE('Environmental SARF'!$J$18,'Environmental SARF'!$J$19),\"\") & IF(AND(NOT(ISBLANK('Environmental SARF'!K30)),'Environmental SARF'!$F$11<>\"4) NA\",'Environmental SARF'!$F$11<>\"4) ...\"), \"   \"&CONCATENATE('Environmental SARF'!$K$18,'Environmental SARF'!$K$19),\"\")& IF(AND(NOT(ISBLANK('Environmental SARF'!L30)),'Environmental SARF'!$F$12<>\"5) NA\",'Environmental SARF'!$F$12<>\"5) ...\"), \"   \"&CONCATENATE('Environmental SARF'!$L$18,'Environmental SARF'!$L$19),\"\")&IF(AND(NOT(ISBLANK('Environmental SARF'!M30)),'Environmental SARF'!$F$13<>\"6) NA\",'Environmental SARF'!$F$13<>\"6) ...\"), \"   \"&CONCATENATE('Environmental SARF'!$M$18,'Environmental SARF'!$M$19),\"\")&IF(AND(NOT(ISBLANK('Environmental SARF'!N30)),'Environmental SARF'!$F$14<>\"7) NA\",'Environmental SARF'!$F$14<>\"7) ...\"), \"   \"&CONCATENATE('Environmental SARF'!$N$18,'Environmental SARF'!$N$19),\"\") &IF(AND(NOT(ISBLANK('Environmental SARF'!O30)),'Environmental SARF'!$F$15<>\"8) NA\",'Environmental SARF'!$F$15<>\"8) ...\"), \"   \"&CONCATENATE('Environmental SARF'!$O$18,'Environmental SARF'!$O$19),\"\"))","v":""}]
[{"$f":"IF(C13=\"\",\"\",IF('Environmental SARF'!B31=\"\",\"\",'Environmental SARF'!B31))","v":""},"",{"$f":"IF('Environmental SARF'!C31=\"\",\"\",'Environmental SARF'!C31)","v":""},{"$f":"IF(C13=\"\",\"\",IF('Environmental SARF'!D31=\"\",'Environmental SARF'!$C$10,'Environmental SARF'!D31))","v":""},{"$f":"IF(B13=\"\",\"\",IF('Environmental SARF'!E31=\"\",\"\",'Environmental SARF'!E31))","v":""},{"$f":"IF(B13=\"\",\"\",IF('Environmental SARF'!F31=\"\",\"\",'Environmental SARF'!F31))","v":""},{"$f":"IF(B13=\"\",\"\",IF('Environmental SARF'!G31=\"\",\"\",'Environmental SARF'!G31))","v":""},{"$f":"IF(C13=\"\",\"\",IF('Environmental SARF'!$N$6=\"\",\"\",CONCATENATE('Environmental SARF'!$N$6,'Environmental SARF'!$O$6)))","v":""},{"$f":"IF(C13=\"\",\"\",IF('Environmental SARF'!$N$2=\"\",\"\",'Environmental SARF'!$N$2))","v":""},{"$f":"IF(C13=\"\",\"\",IF('Environmental SARF'!$N$4=\"\",NOW(),'Environmental SARF'!$N$4))","v":""},"",{"$f":"IF(C13=\"\",\"\", IF(AND(NOT(ISBLANK('Environmental SARF'!H31)),'Environmental SARF'!$F$8<>\"1) NA\",'Environmental SARF'!$F$8<>\"1) ...\"), \"   \"&CONCATENATE('Environmental SARF'!$H$18,'Environmental SARF'!$H$19),\"\") & IF(AND(NOT(ISBLANK('Environmental SARF'!I31)),'Environmental SARF'!$F$9<>\"2) NA\",'Environmental SARF'!$F$9<>\"2) ...\"), \"   \"&CONCATENATE('Environmental SARF'!$I$18,'Environmental SARF'!$I$19),\"\")& IF(AND(NOT(ISBLANK('Environmental SARF'!J31)),'Environmental SARF'!$F$10<>\"3) NA\",'Environmental SARF'!$F$10<>\"3) ...\"), \"   \"&CONCATENATE('Environmental SARF'!$J$18,'Environmental SARF'!$J$19),\"\") & IF(AND(NOT(ISBLANK('Environmental SARF'!K31)),'Environmental SARF'!$F$11<>\"4) NA\",'Environmental SARF'!$F$11<>\"4) ...\"), \"   \"&CONCATENATE('Environmental SARF'!$K$18,'Environmental SARF'!$K$19),\"\")& IF(AND(NOT(ISBLANK('Environmental SARF'!L31)),'Environmental SARF'!$F$12<>\"5) NA\",'Environmental SARF'!$F$12<>\"5) ...\"), \"   \"&CONCATENATE('Environmental SARF'!$L$18,'Environmental SARF'!$L$19),\"\")&IF(AND(NOT(ISBLANK('Environmental SARF'!M31)),'Environmental SARF'!$F$13<>\"6) NA\",'Environmental SARF'!$F$13<>\"6) ...\"), \"   \"&CONCATENATE('Environmental SARF'!$M$18,'Environmental SARF'!$M$19),\"\")&IF(AND(NOT(ISBLANK('Environmental SARF'!N31)),'Environmental SARF'!$F$14<>\"7) NA\",'Environmental SARF'!$F$14<>\"7) ...\"), \"   \"&CONCATENATE('Environmental SARF'!$N$18,'Environmental SARF'!$N$19),\"\") &IF(AND(NOT(ISBLANK('Environmental SARF'!O31)),'Environmental SARF'!$F$15<>\"8) NA\",'Environmental SARF'!$F$15<>\"8) ...\"), \"   \"&CONCATENATE('Environmental SARF'!$O$18,'Environmental SARF'!$O$19),\"\"))","v":""}]
[{"$f":"IF(C14=\"\",\"\",IF('Environmental SARF'!B32=\"\",\"\",'Environmental SARF'!B32))","v":""},"",{"$f":"IF('Environmental SARF'!C32=\"\",\"\",'Environmental SARF'!C32)","v":""},{"$f":"IF(C14=\"\",\"\",IF('Environmental SARF'!D32=\"\",'Environmental SARF'!$C$10,'Environmental SARF'!D32))","v":""},{"$f":"IF(B14=\"\",\"\",IF('Environmental SARF'!E32=\"\",\"\",'Environmental SARF'!E32))","v":""},{"$f":"IF(B14=\"\",\"\",IF('Environmental SARF'!F32=\"\",\"\",'Environmental SARF'!F32))","v":""},{"$f":"IF(B14=\"\",\"\",IF('Environmental SARF'!G32=\"\",\"\",'Environmental SARF'!G32))","v":""},{"$f":"IF(C14=\"\",\"\",IF('Environmental SARF'!$N$6=\"\",\"\",CONCATENATE('Environmental SARF'!$N$6,'Environmental SARF'!$O$6)))","v":""},{"$f":"IF(C14=\"\",\"\",IF('Environmental SARF'!$N$2=\"\",\"\",'Environmental SARF'!$N$2))","v":""},{"$f":"IF(C14=\"\",\"\",IF('Environmental SARF'!$N$4=\"\",NOW(),'Environmental SARF'!$N$4))","v":""},"",{"$f":"IF(C14=\"\",\"\", IF(AND(NOT(ISBLANK('Environmental SARF'!H32)),'Environmental SARF'!$F$8<>\"1) NA\",'Environmental SARF'!$F$8<>\"1) ...\"), \"   \"&CONCATENATE('Environmental SARF'!$H$18,'Environmental SARF'!$H$19),\"\") & IF(AND(NOT(ISBLANK('Environmental SARF'!I32)),'Environmental SARF'!$F$9<>\"2) NA\",'Environmental SARF'!$F$9<>\"2) ...\"), \"   \"&CONCATENATE('Environmental SARF'!$I$18,'Environmental SARF'!$I$19),\"\")& IF(AND(NOT(ISBLANK('Environmental SARF'!J32)),'Environmental SARF'!$F$10<>\"3) NA\",'Environmental SARF'!$F$10<>\"3) ...\"), \"   \"&CONCATENATE('Environmental SARF'!$J$18,'Environmental SARF'!$J$19),\"\") & IF(AND(NOT(ISBLANK('Environmental SARF'!K32)),'Environmental SARF'!$F$11<>\"4) NA\",'Environmental SARF'!$F$11<>\"4) ...\"), \"   \"&CONCATENATE('Environmental SARF'!$K$18,'Environmental SARF'!$K$19),\"\")& IF(AND(NOT(ISBLANK('Environmental SARF'!L32)),'Environmental SARF'!$F$12<>\"5) NA\",'Environmental SARF'!$F$12<>\"5) ...\"), \"   \"&CONCATENATE('Environmental SARF'!$L$18,'Environmental SARF'!$L$19),\"\")&IF(AND(NOT(ISBLANK('Environmental SARF'!M32)),'Environmental SARF'!$F$13<>\"6) NA\",'Environmental SARF'!$F$13<>\"6) ...\"), \"   \"&CONCATENATE('Environmental SARF'!$M$18,'Environmental SARF'!$M$19),\"\")&IF(AND(NOT(ISBLANK('Environmental SARF'!N32)),'Environmental SARF'!$F$14<>\"7) NA\",'Environmental SARF'!$F$14<>\"7) ...\"), \"   \"&CONCATENATE('Environmental SARF'!$N$18,'Environmental SARF'!$N$19),\"\") &IF(AND(NOT(ISBLANK('Environmental SARF'!O32)),'Environmental SARF'!$F$15<>\"8) NA\",'Environmental SARF'!$F$15<>\"8) ...\"), \"   \"&CONCATENATE('Environmental SARF'!$O$18,'Environmental SARF'!$O$19),\"\"))","v":""}]
[{"$f":"IF(C15=\"\",\"\",IF('Environmental SARF'!B33=\"\",\"\",'Environmental SARF'!B33))","v":""},"",{"$f":"IF('Environmental SARF'!C33=\"\",\"\",'Environmental SARF'!C33)","v":""},{"$f":"IF(C15=\"\",\"\",IF('Environmental SARF'!D33=\"\",'Environmental SARF'!$C$10,'Environmental SARF'!D33))","v":""},{"$f":"IF(B15=\"\",\"\",IF('Environmental SARF'!E33=\"\",\"\",'Environmental SARF'!E33))","v":""},{"$f":"IF(B15=\"\",\"\",IF('Environmental SARF'!F33=\"\",\"\",'Environmental SARF'!F33))","v":""},{"$f":"IF(B15=\"\",\"\",IF('Environmental SARF'!G33=\"\",\"\",'Environmental SARF'!G33))","v":""},{"$f":"IF(C15=\"\",\"\",IF('Environmental SARF'!$N$6=\"\",\"\",CONCATENATE('Environmental SARF'!$N$6,'Environmental SARF'!$O$6)))","v":""},{"$f":"IF(C15=\"\",\"\",IF('Environmental SARF'!$N$2=\"\",\"\",'Environmental SARF'!$N$2))","v":""},{"$f":"IF(C15=\"\",\"\",IF('Environmental SARF'!$N$4=\"\",NOW(),'Environmental SARF'!$N$4))","v":""},"",{"$f":"IF(C15=\"\",\"\", IF(AND(NOT(ISBLANK('Environmental SARF'!H33)),'Environmental SARF'!$F$8<>\"1) NA\",'Environmental SARF'!$F$8<>\"1) ...\"), \"   \"&CONCATENATE('Environmental SARF'!$H$18,'Environmental SARF'!$H$19),\"\") & IF(AND(NOT(ISBLANK('Environmental SARF'!I33)),'Environmental SARF'!$F$9<>\"2) NA\",'Environmental SARF'!$F$9<>\"2) ...\"), \"   \"&CONCATENATE('Environmental SARF'!$I$18,'Environmental SARF'!$I$19),\"\")& IF(AND(NOT(ISBLANK('Environmental SARF'!J33)),'Environmental SARF'!$F$10<>\"3) NA\",'Environmental SARF'!$F$10<>\"3) ...\"), \"   \"&CONCATENATE('Environmental SARF'!$J$18,'Environmental SARF'!$J$19),\"\") & IF(AND(NOT(ISBLANK('Environmental SARF'!K33)),'Environmental SARF'!$F$11<>\"4) NA\",'Environmental SARF'!$F$11<>\"4) ...\"), \"   \"&CONCATENATE('Environmental SARF'!$K$18,'Environmental SARF'!$K$19),\"\")& IF(AND(NOT(ISBLANK('Environmental SARF'!L33)),'Environmental SARF'!$F$12<>\"5) NA\",'Environmental SARF'!$F$12<>\"5) ...\"), \"   \"&CONCATENATE('Environmental SARF'!$L$18,'Environmental SARF'!$L$19),\"\")&IF(AND(NOT(ISBLANK('Environmental SARF'!M33)),'Environmental SARF'!$F$13<>\"6) NA\",'Environmental SARF'!$F$13<>\"6) ...\"), \"   \"&CONCATENATE('Environmental SARF'!$M$18,'Environmental SARF'!$M$19),\"\")&IF(AND(NOT(ISBLANK('Environmental SARF'!N33)),'Environmental SARF'!$F$14<>\"7) NA\",'Environmental SARF'!$F$14<>\"7) ...\"), \"   \"&CONCATENATE('Environmental SARF'!$N$18,'Environmental SARF'!$N$19),\"\") &IF(AND(NOT(ISBLANK('Environmental SARF'!O33)),'Environmental SARF'!$F$15<>\"8) NA\",'Environmental SARF'!$F$15<>\"8) ...\"), \"   \"&CONCATENATE('Environmental SARF'!$O$18,'Environmental SARF'!$O$19),\"\"))","v":""}]
[{"$f":"IF(C16=\"\",\"\",IF('Environmental SARF'!B34=\"\",\"\",'Environmental SARF'!B34))","v":""},"",{"$f":"IF('Environmental SARF'!C34=\"\",\"\",'Environmental SARF'!C34)","v":""},{"$f":"IF(C16=\"\",\"\",IF('Environmental SARF'!D34=\"\",'Environmental SARF'!$C$10,'Environmental SARF'!D34))","v":""},{"$f":"IF(B16=\"\",\"\",IF('Environmental SARF'!E34=\"\",\"\",'Environmental SARF'!E34))","v":""},{"$f":"IF(B16=\"\",\"\",IF('Environmental SARF'!F34=\"\",\"\",'Environmental SARF'!F34))","v":""},{"$f":"IF(B16=\"\",\"\",IF('Environmental SARF'!G34=\"\",\"\",'Environmental SARF'!G34))","v":""},{"$f":"IF(C16=\"\",\"\",IF('Environmental SARF'!$N$6=\"\",\"\",CONCATENATE('Environmental SARF'!$N$6,'Environmental SARF'!$O$6)))","v":""},{"$f":"IF(C16=\"\",\"\",IF('Environmental SARF'!$N$2=\"\",\"\",'Environmental SARF'!$N$2))","v":""},{"$f":"IF(C16=\"\",\"\",IF('Environmental SARF'!$N$4=\"\",NOW(),'Environmental SARF'!$N$4))","v":""},"",{"$f":"IF(C16=\"\",\"\", IF(AND(NOT(ISBLANK('Environmental SARF'!H34)),'Environmental SARF'!$F$8<>\"1) NA\",'Environmental SARF'!$F$8<>\"1) ...\"), \"   \"&CONCATENATE('Environmental SARF'!$H$18,'Environmental SARF'!$H$19),\"\") & IF(AND(NOT(ISBLANK('Environmental SARF'!I34)),'Environmental SARF'!$F$9<>\"2) NA\",'Environmental SARF'!$F$9<>\"2) ...\"), \"   \"&CONCATENATE('Environmental SARF'!$I$18,'Environmental SARF'!$I$19),\"\")& IF(AND(NOT(ISBLANK('Environmental SARF'!J34)),'Environmental SARF'!$F$10<>\"3) NA\",'Environmental SARF'!$F$10<>\"3) ...\"), \"   \"&CONCATENATE('Environmental SARF'!$J$18,'Environmental SARF'!$J$19),\"\") & IF(AND(NOT(ISBLANK('Environmental SARF'!K34)),'Environmental SARF'!$F$11<>\"4) NA\",'Environmental SARF'!$F$11<>\"4) ...\"), \"   \"&CONCATENATE('Environmental SARF'!$K$18,'Environmental SARF'!$K$19),\"\")& IF(AND(NOT(ISBLANK('Environmental SARF'!L34)),'Environmental SARF'!$F$12<>\"5) NA\",'Environmental SARF'!$F$12<>\"5) ...\"), \"   \"&CONCATENATE('Environmental SARF'!$L$18,'Environmental SARF'!$L$19),\"\")&IF(AND(NOT(ISBLANK('Environmental SARF'!M34)),'Environmental SARF'!$F$13<>\"6) NA\",'Environmental SARF'!$F$13<>\"6) ...\"), \"   \"&CONCATENATE('Environmental SARF'!$M$18,'Environmental SARF'!$M$19),\"\")&IF(AND(NOT(ISBLANK('Environmental SARF'!N34)),'Environmental SARF'!$F$14<>\"7) NA\",'Environmental SARF'!$F$14<>\"7) ...\"), \"   \"&CONCATENATE('Environmental SARF'!$N$18,'Environmental SARF'!$N$19),\"\") &IF(AND(NOT(ISBLANK('Environmental SARF'!O34)),'Environmental SARF'!$F$15<>\"8) NA\",'Environmental SARF'!$F$15<>\"8) ...\"), \"   \"&CONCATENATE('Environmental SARF'!$O$18,'Environmental SARF'!$O$19),\"\"))","v":""}]
[{"$f":"IF(C17=\"\",\"\",IF('Environmental SARF'!B35=\"\",\"\",'Environmental SARF'!B35))","v":""},"",{"$f":"IF('Environmental SARF'!C35=\"\",\"\",'Environmental SARF'!C35)","v":""},{"$f":"IF(C17=\"\",\"\",IF('Environmental SARF'!D35=\"\",'Environmental SARF'!$C$10,'Environmental SARF'!D35))","v":""},{"$f":"IF(B17=\"\",\"\",IF('Environmental SARF'!E35=\"\",\"\",'Environmental SARF'!E35))","v":""},{"$f":"IF(B17=\"\",\"\",IF('Environmental SARF'!F35=\"\",\"\",'Environmental SARF'!F35))","v":""},{"$f":"IF(B17=\"\",\"\",IF('Environmental SARF'!G35=\"\",\"\",'Environmental SARF'!G35))","v":""},{"$f":"IF(C17=\"\",\"\",IF('Environmental SARF'!$N$6=\"\",\"\",CONCATENATE('Environmental SARF'!$N$6,'Environmental SARF'!$O$6)))","v":""},{"$f":"IF(C17=\"\",\"\",IF('Environmental SARF'!$N$2=\"\",\"\",'Environmental SARF'!$N$2))","v":""},{"$f":"IF(C17=\"\",\"\",IF('Environmental SARF'!$N$4=\"\",NOW(),'Environmental SARF'!$N$4))","v":""},"",{"$f":"IF(C17=\"\",\"\", IF(AND(NOT(ISBLANK('Environmental SARF'!H35)),'Environmental SARF'!$F$8<>\"1) NA\",'Environmental SARF'!$F$8<>\"1) ...\"), \"   \"&CONCATENATE('Environmental SARF'!$H$18,'Environmental SARF'!$H$19),\"\") & IF(AND(NOT(ISBLANK('Environmental SARF'!I35)),'Environmental SARF'!$F$9<>\"2) NA\",'Environmental SARF'!$F$9<>\"2) ...\"), \"   \"&CONCATENATE('Environmental SARF'!$I$18,'Environmental SARF'!$I$19),\"\")& IF(AND(NOT(ISBLANK('Environmental SARF'!J35)),'Environmental SARF'!$F$10<>\"3) NA\",'Environmental SARF'!$F$10<>\"3) ...\"), \"   \"&CONCATENATE('Environmental SARF'!$J$18,'Environmental SARF'!$J$19),\"\") & IF(AND(NOT(ISBLANK('Environmental SARF'!K35)),'Environmental SARF'!$F$11<>\"4) NA\",'Environmental SARF'!$F$11<>\"4) ...\"), \"   \"&CONCATENATE('Environmental SARF'!$K$18,'Environmental SARF'!$K$19),\"\")& IF(AND(NOT(ISBLANK('Environmental SARF'!L35)),'Environmental SARF'!$F$12<>\"5) NA\",'Environmental SARF'!$F$12<>\"5) ...\"), \"   \"&CONCATENATE('Environmental SARF'!$L$18,'Environmental SARF'!$L$19),\"\")&IF(AND(NOT(ISBLANK('Environmental SARF'!M35)),'Environmental SARF'!$F$13<>\"6) NA\",'Environmental SARF'!$F$13<>\"6) ...\"), \"   \"&CONCATENATE('Environmental SARF'!$M$18,'Environmental SARF'!$M$19),\"\")&IF(AND(NOT(ISBLANK('Environmental SARF'!N35)),'Environmental SARF'!$F$14<>\"7) NA\",'Environmental SARF'!$F$14<>\"7) ...\"), \"   \"&CONCATENATE('Environmental SARF'!$N$18,'Environmental SARF'!$N$19),\"\") &IF(AND(NOT(ISBLANK('Environmental SARF'!O35)),'Environmental SARF'!$F$15<>\"8) NA\",'Environmental SARF'!$F$15<>\"8) ...\"), \"   \"&CONCATENATE('Environmental SARF'!$O$18,'Environmental SARF'!$O$19),\"\"))","v":""}]
[{"$f":"IF(C18=\"\",\"\",IF('Environmental SARF'!B36=\"\",\"\",'Environmental SARF'!B36))","v":""},"",{"$f":"IF('Environmental SARF'!C36=\"\",\"\",'Environmental SARF'!C36)","v":""},{"$f":"IF(C18=\"\",\"\",IF('Environmental SARF'!D36=\"\",'Environmental SARF'!$C$10,'Environmental SARF'!D36))","v":""},{"$f":"IF(B18=\"\",\"\",IF('Environmental SARF'!E36=\"\",\"\",'Environmental SARF'!E36))","v":""},{"$f":"IF(B18=\"\",\"\",IF('Environmental SARF'!F36=\"\",\"\",'Environmental SARF'!F36))","v":""},{"$f":"IF(B18=\"\",\"\",IF('Environmental SARF'!G36=\"\",\"\",'Environmental SARF'!G36))","v":""},{"$f":"IF(C18=\"\",\"\",IF('Environmental SARF'!$N$6=\"\",\"\",CONCATENATE('Environmental SARF'!$N$6,'Environmental SARF'!$O$6)))","v":""},{"$f":"IF(C18=\"\",\"\",IF('Environmental SARF'!$N$2=\"\",\"\",'Environmental SARF'!$N$2))","v":""},{"$f":"IF(C18=\"\",\"\",IF('Environmental SARF'!$N$4=\"\",NOW(),'Environmental SARF'!$N$4))","v":""},"",{"$f":"IF(C18=\"\",\"\", IF(AND(NOT(ISBLANK('Environmental SARF'!H36)),'Environmental SARF'!$F$8<>\"1) NA\",'Environmental SARF'!$F$8<>\"1) ...\"), \"   \"&CONCATENATE('Environmental SARF'!$H$18,'Environmental SARF'!$H$19),\"\") & IF(AND(NOT(ISBLANK('Environmental SARF'!I36)),'Environmental SARF'!$F$9<>\"2) NA\",'Environmental SARF'!$F$9<>\"2) ...\"), \"   \"&CONCATENATE('Environmental SARF'!$I$18,'Environmental SARF'!$I$19),\"\")& IF(AND(NOT(ISBLANK('Environmental SARF'!J36)),'Environmental SARF'!$F$10<>\"3) NA\",'Environmental SARF'!$F$10<>\"3) ...\"), \"   \"&CONCATENATE('Environmental SARF'!$J$18,'Environmental SARF'!$J$19),\"\") & IF(AND(NOT(ISBLANK('Environmental SARF'!K36)),'Environmental SARF'!$F$11<>\"4) NA\",'Environmental SARF'!$F$11<>\"4) ...\"), \"   \"&CONCATENATE('Environmental SARF'!$K$18,'Environmental SARF'!$K$19),\"\")& IF(AND(NOT(ISBLANK('Environmental SARF'!L36)),'Environmental SARF'!$F$12<>\"5) NA\",'Environmental SARF'!$F$12<>\"5) ...\"), \"   \"&CONCATENATE('Environmental SARF'!$L$18,'Environmental SARF'!$L$19),\"\")&IF(AND(NOT(ISBLANK('Environmental SARF'!M36)),'Environmental SARF'!$F$13<>\"6) NA\",'Environmental SARF'!$F$13<>\"6) ...\"), \"   \"&CONCATENATE('Environmental SARF'!$M$18,'Environmental SARF'!$M$19),\"\")&IF(AND(NOT(ISBLANK('Environmental SARF'!N36)),'Environmental SARF'!$F$14<>\"7) NA\",'Environmental SARF'!$F$14<>\"7) ...\"), \"   \"&CONCATENATE('Environmental SARF'!$N$18,'Environmental SARF'!$N$19),\"\") &IF(AND(NOT(ISBLANK('Environmental SARF'!O36)),'Environmental SARF'!$F$15<>\"8) NA\",'Environmental SARF'!$F$15<>\"8) ...\"), \"   \"&CONCATENATE('Environmental SARF'!$O$18,'Environmental SARF'!$O$19),\"\"))","v":""}]
[{"$f":"IF(C19=\"\",\"\",IF('Environmental SARF'!B37=\"\",\"\",'Environmental SARF'!B37))","v":""},"",{"$f":"IF('Environmental SARF'!C37=\"\",\"\",'Environmental SARF'!C37)","v":""},{"$f":"IF(C19=\"\",\"\",IF('Environmental SARF'!D37=\"\",'Environmental SARF'!$C$10,'Environmental SARF'!D37))","v":""},{"$f":"IF(B19=\"\",\"\",IF('Environmental SARF'!E37=\"\",\"\",'Environmental SARF'!E37))","v":""},{"$f":"IF(B19=\"\",\"\",IF('Environmental SARF'!F37=\"\",\"\",'Environmental SARF'!F37))","v":""},{"$f":"IF(B19=\"\",\"\",IF('Environmental SARF'!G37=\"\",\"\",'Environmental SARF'!G37))","v":""},{"$f":"IF(C19=\"\",\"\",IF('Environmental SARF'!$N$6=\"\",\"\",CONCATENATE('Environmental SARF'!$N$6,'Environmental SARF'!$O$6)))","v":""},{"$f":"IF(C19=\"\",\"\",IF('Environmental SARF'!$N$2=\"\",\"\",'Environmental SARF'!$N$2))","v":""},{"$f":"IF(C19=\"\",\"\",IF('Environmental SARF'!$N$4=\"\",NOW(),'Environmental SARF'!$N$4))","v":""},"",{"$f":"IF(C19=\"\",\"\", IF(AND(NOT(ISBLANK('Environmental SARF'!H37)),'Environmental SARF'!$F$8<>\"1) NA\",'Environmental SARF'!$F$8<>\"1) ...\"), \"   \"&CONCATENATE('Environmental SARF'!$H$18,'Environmental SARF'!$H$19),\"\") & IF(AND(NOT(ISBLANK('Environmental SARF'!I37)),'Environmental SARF'!$F$9<>\"2) NA\",'Environmental SARF'!$F$9<>\"2) ...\"), \"   \"&CONCATENATE('Environmental SARF'!$I$18,'Environmental SARF'!$I$19),\"\")& IF(AND(NOT(ISBLANK('Environmental SARF'!J37)),'Environmental SARF'!$F$10<>\"3) NA\",'Environmental SARF'!$F$10<>\"3) ...\"), \"   \"&CONCATENATE('Environmental SARF'!$J$18,'Environmental SARF'!$J$19),\"\") & IF(AND(NOT(ISBLANK('Environmental SARF'!K37)),'Environmental SARF'!$F$11<>\"4) NA\",'Environmental SARF'!$F$11<>\"4) ...\"), \"   \"&CONCATENATE('Environmental SARF'!$K$18,'Environmental SARF'!$K$19),\"\")& IF(AND(NOT(ISBLANK('Environmental SARF'!L37)),'Environmental SARF'!$F$12<>\"5) NA\",'Environmental SARF'!$F$12<>\"5) ...\"), \"   \"&CONCATENATE('Environmental SARF'!$L$18,'Environmental SARF'!$L$19),\"\")&IF(AND(NOT(ISBLANK('Environmental SARF'!M37)),'Environmental SARF'!$F$13<>\"6) NA\",'Environmental SARF'!$F$13<>\"6) ...\"), \"   \"&CONCATENATE('Environmental SARF'!$M$18,'Environmental SARF'!$M$19),\"\")&IF(AND(NOT(ISBLANK('Environmental SARF'!N37)),'Environmental SARF'!$F$14<>\"7) NA\",'Environmental SARF'!$F$14<>\"7) ...\"), \"   \"&CONCATENATE('Environmental SARF'!$N$18,'Environmental SARF'!$N$19),\"\") &IF(AND(NOT(ISBLANK('Environmental SARF'!O37)),'Environmental SARF'!$F$15<>\"8) NA\",'Environmental SARF'!$F$15<>\"8) ...\"), \"   \"&CONCATENATE('Environmental SARF'!$O$18,'Environmental SARF'!$O$19),\"\"))","v":""}]
[{"$f":"IF(C20=\"\",\"\",IF('Environmental SARF'!B38=\"\",\"\",'Environmental SARF'!B38))","v":""},"",{"$f":"IF('Environmental SARF'!C38=\"\",\"\",'Environmental SARF'!C38)","v":""},{"$f":"IF(C20=\"\",\"\",IF('Environmental SARF'!D38=\"\",'Environmental SARF'!$C$10,'Environmental SARF'!D38))","v":""},{"$f":"IF(B20=\"\",\"\",IF('Environmental SARF'!E38=\"\",\"\",'Environmental SARF'!E38))","v":""},{"$f":"IF(B20=\"\",\"\",IF('Environmental SARF'!F38=\"\",\"\",'Environmental SARF'!F38))","v":""},{"$f":"IF(B20=\"\",\"\",IF('Environmental SARF'!G38=\"\",\"\",'Environmental SARF'!G38))","v":""},{"$f":"IF(C20=\"\",\"\",IF('Environmental SARF'!$N$6=\"\",\"\",CONCATENATE('Environmental SARF'!$N$6,'Environmental SARF'!$O$6)))","v":""},{"$f":"IF(C20=\"\",\"\",IF('Environmental SARF'!$N$2=\"\",\"\",'Environmental SARF'!$N$2))","v":""},{"$f":"IF(C20=\"\",\"\",IF('Environmental SARF'!$N$4=\"\",NOW(),'Environmental SARF'!$N$4))","v":""},"",{"$f":"IF(C20=\"\",\"\", IF(AND(NOT(ISBLANK('Environmental SARF'!H38)),'Environmental SARF'!$F$8<>\"1) NA\",'Environmental SARF'!$F$8<>\"1) ...\"), \"   \"&CONCATENATE('Environmental SARF'!$H$18,'Environmental SARF'!$H$19),\"\") & IF(AND(NOT(ISBLANK('Environmental SARF'!I38)),'Environmental SARF'!$F$9<>\"2) NA\",'Environmental SARF'!$F$9<>\"2) ...\"), \"   \"&CONCATENATE('Environmental SARF'!$I$18,'Environmental SARF'!$I$19),\"\")& IF(AND(NOT(ISBLANK('Environmental SARF'!J38)),'Environmental SARF'!$F$10<>\"3) NA\",'Environmental SARF'!$F$10<>\"3) ...\"), \"   \"&CONCATENATE('Environmental SARF'!$J$18,'Environmental SARF'!$J$19),\"\") & IF(AND(NOT(ISBLANK('Environmental SARF'!K38)),'Environmental SARF'!$F$11<>\"4) NA\",'Environmental SARF'!$F$11<>\"4) ...\"), \"   \"&CONCATENATE('Environmental SARF'!$K$18,'Environmental SARF'!$K$19),\"\")& IF(AND(NOT(ISBLANK('Environmental SARF'!L38)),'Environmental SARF'!$F$12<>\"5) NA\",'Environmental SARF'!$F$12<>\"5) ...\"), \"   \"&CONCATENATE('Environmental SARF'!$L$18,'Environmental SARF'!$L$19),\"\")&IF(AND(NOT(ISBLANK('Environmental SARF'!M38)),'Environmental SARF'!$F$13<>\"6) NA\",'Environmental SARF'!$F$13<>\"6) ...\"), \"   \"&CONCATENATE('Environmental SARF'!$M$18,'Environmental SARF'!$M$19),\"\")&IF(AND(NOT(ISBLANK('Environmental SARF'!N38)),'Environmental SARF'!$F$14<>\"7) NA\",'Environmental SARF'!$F$14<>\"7) ...\"), \"   \"&CONCATENATE('Environmental SARF'!$N$18,'Environmental SARF'!$N$19),\"\") &IF(AND(NOT(ISBLANK('Environmental SARF'!O38)),'Environmental SARF'!$F$15<>\"8) NA\",'Environmental SARF'!$F$15<>\"8) ...\"), \"   \"&CONCATENATE('Environmental SARF'!$O$18,'Environmental SARF'!$O$19),\"\"))","v":""}]
[{"$f":"IF(C21=\"\",\"\",IF('Environmental SARF'!B39=\"\",\"\",'Environmental SARF'!B39))","v":""},"",{"$f":"IF('Environmental SARF'!C39=\"\",\"\",'Environmental SARF'!C39)","v":""},{"$f":"IF(C21=\"\",\"\",IF('Environmental SARF'!D39=\"\",'Environmental SARF'!$C$10,'Environmental SARF'!D39))","v":""},{"$f":"IF(B21=\"\",\"\",IF('Environmental SARF'!E39=\"\",\"\",'Environmental SARF'!E39))","v":""},{"$f":"IF(B21=\"\",\"\",IF('Environmental SARF'!F39=\"\",\"\",'Environmental SARF'!F39))","v":""},{"$f":"IF(B21=\"\",\"\",IF('Environmental SARF'!G39=\"\",\"\",'Environmental SARF'!G39))","v":""},{"$f":"IF(C21=\"\",\"\",IF('Environmental SARF'!$N$6=\"\",\"\",CONCATENATE('Environmental SARF'!$N$6,'Environmental SARF'!$O$6)))","v":""},{"$f":"IF(C21=\"\",\"\",IF('Environmental SARF'!$N$2=\"\",\"\",'Environmental SARF'!$N$2))","v":""},{"$f":"IF(C21=\"\",\"\",IF('Environmental SARF'!$N$4=\"\",NOW(),'Environmental SARF'!$N$4))","v":""},"",{"$f":"IF(C21=\"\",\"\", IF(AND(NOT(ISBLANK('Environmental SARF'!H39)),'Environmental SARF'!$F$8<>\"1) NA\",'Environmental SARF'!$F$8<>\"1) ...\"), \"   \"&CONCATENATE('Environmental SARF'!$H$18,'Environmental SARF'!$H$19),\"\") & IF(AND(NOT(ISBLANK('Environmental SARF'!I39)),'Environmental SARF'!$F$9<>\"2) NA\",'Environmental SARF'!$F$9<>\"2) ...\"), \"   \"&CONCATENATE('Environmental SARF'!$I$18,'Environmental SARF'!$I$19),\"\")& IF(AND(NOT(ISBLANK('Environmental SARF'!J39)),'Environmental SARF'!$F$10<>\"3) NA\",'Environmental SARF'!$F$10<>\"3) ...\"), \"   \"&CONCATENATE('Environmental SARF'!$J$18,'Environmental SARF'!$J$19),\"\") & IF(AND(NOT(ISBLANK('Environmental SARF'!K39)),'Environmental SARF'!$F$11<>\"4) NA\",'Environmental SARF'!$F$11<>\"4) ...\"), \"   \"&CONCATENATE('Environmental SARF'!$K$18,'Environmental SARF'!$K$19),\"\")& IF(AND(NOT(ISBLANK('Environmental SARF'!L39)),'Environmental SARF'!$F$12<>\"5) NA\",'Environmental SARF'!$F$12<>\"5) ...\"), \"   \"&CONCATENATE('Environmental SARF'!$L$18,'Environmental SARF'!$L$19),\"\")&IF(AND(NOT(ISBLANK('Environmental SARF'!M39)),'Environmental SARF'!$F$13<>\"6) NA\",'Environmental SARF'!$F$13<>\"6) ...\"), \"   \"&CONCATENATE('Environmental SARF'!$M$18,'Environmental SARF'!$M$19),\"\")&IF(AND(NOT(ISBLANK('Environmental SARF'!N39)),'Environmental SARF'!$F$14<>\"7) NA\",'Environmental SARF'!$F$14<>\"7) ...\"), \"   \"&CONCATENATE('Environmental SARF'!$N$18,'Environmental SARF'!$N$19),\"\") &IF(AND(NOT(ISBLANK('Environmental SARF'!O39)),'Environmental SARF'!$F$15<>\"8) NA\",'Environmental SARF'!$F$15<>\"8) ...\"), \"   \"&CONCATENATE('Environmental SARF'!$O$18,'Environmental SARF'!$O$19),\"\"))","v":""}]
[{"$f":"IF(C22=\"\",\"\",IF('Environmental SARF'!B40=\"\",\"\",'Environmental SARF'!B40))","v":""},"",{"$f":"IF('Environmental SARF'!C40=\"\",\"\",'Environmental SARF'!C40)","v":""},{"$f":"IF(C22=\"\",\"\",IF('Environmental SARF'!D40=\"\",'Environmental SARF'!$C$10,'Environmental SARF'!D40))","v":""},{"$f":"IF(B22=\"\",\"\",IF('Environmental SARF'!E40=\"\",\"\",'Environmental SARF'!E40))","v":""},{"$f":"IF(B22=\"\",\"\",IF('Environmental SARF'!F40=\"\",\"\",'Environmental SARF'!F40))","v":""},{"$f":"IF(B22=\"\",\"\",IF('Environmental SARF'!G40=\"\",\"\",'Environmental SARF'!G40))","v":""},{"$f":"IF(C22=\"\",\"\",IF('Environmental SARF'!$N$6=\"\",\"\",CONCATENATE('Environmental SARF'!$N$6,'Environmental SARF'!$O$6)))","v":""},{"$f":"IF(C22=\"\",\"\",IF('Environmental SARF'!$N$2=\"\",\"\",'Environmental SARF'!$N$2))","v":""},{"$f":"IF(C22=\"\",\"\",IF('Environmental SARF'!$N$4=\"\",NOW(),'Environmental SARF'!$N$4))","v":""},"",{"$f":"IF(C22=\"\",\"\", IF(AND(NOT(ISBLANK('Environmental SARF'!H40)),'Environmental SARF'!$F$8<>\"1) NA\",'Environmental SARF'!$F$8<>\"1) ...\"), \"   \"&CONCATENATE('Environmental SARF'!$H$18,'Environmental SARF'!$H$19),\"\") & IF(AND(NOT(ISBLANK('Environmental SARF'!I40)),'Environmental SARF'!$F$9<>\"2) NA\",'Environmental SARF'!$F$9<>\"2) ...\"), \"   \"&CONCATENATE('Environmental SARF'!$I$18,'Environmental SARF'!$I$19),\"\")& IF(AND(NOT(ISBLANK('Environmental SARF'!J40)),'Environmental SARF'!$F$10<>\"3) NA\",'Environmental SARF'!$F$10<>\"3) ...\"), \"   \"&CONCATENATE('Environmental SARF'!$J$18,'Environmental SARF'!$J$19),\"\") & IF(AND(NOT(ISBLANK('Environmental SARF'!K40)),'Environmental SARF'!$F$11<>\"4) NA\",'Environmental SARF'!$F$11<>\"4) ...\"), \"   \"&CONCATENATE('Environmental SARF'!$K$18,'Environmental SARF'!$K$19),\"\")& IF(AND(NOT(ISBLANK('Environmental SARF'!L40)),'Environmental SARF'!$F$12<>\"5) NA\",'Environmental SARF'!$F$12<>\"5) ...\"), \"   \"&CONCATENATE('Environmental SARF'!$L$18,'Environmental SARF'!$L$19),\"\")&IF(AND(NOT(ISBLANK('Environmental SARF'!M40)),'Environmental SARF'!$F$13<>\"6) NA\",'Environmental SARF'!$F$13<>\"6) ...\"), \"   \"&CONCATENATE('Environmental SARF'!$M$18,'Environmental SARF'!$M$19),\"\")&IF(AND(NOT(ISBLANK('Environmental SARF'!N40)),'Environmental SARF'!$F$14<>\"7) NA\",'Environmental SARF'!$F$14<>\"7) ...\"), \"   \"&CONCATENATE('Environmental SARF'!$N$18,'Environmental SARF'!$N$19),\"\") &IF(AND(NOT(ISBLANK('Environmental SARF'!O40)),'Environmental SARF'!$F$15<>\"8) NA\",'Environmental SARF'!$F$15<>\"8) ...\"), \"   \"&CONCATENATE('Environmental SARF'!$O$18,'Environmental SARF'!$O$19),\"\"))","v":""}]
[{"$f":"IF(C23=\"\",\"\",IF('Environmental SARF'!B41=\"\",\"\",'Environmental SARF'!B41))","v":""},"",{"$f":"IF('Environmental SARF'!C41=\"\",\"\",'Environmental SARF'!C41)","v":""},{"$f":"IF(C23=\"\",\"\",IF('Environmental SARF'!D41=\"\",'Environmental SARF'!$C$10,'Environmental SARF'!D41))","v":""},{"$f":"IF(B23=\"\",\"\",IF('Environmental SARF'!E41=\"\",\"\",'Environmental SARF'!E41))","v":""},{"$f":"IF(B23=\"\",\"\",IF('Environmental SARF'!F41=\"\",\"\",'Environmental SARF'!F41))","v":""},{"$f":"IF(B23=\"\",\"\",IF('Environmental SARF'!G41=\"\",\"\",'Environmental SARF'!G41))","v":""},{"$f":"IF(C23=\"\",\"\",IF('Environmental SARF'!$N$6=\"\",\"\",CONCATENATE('Environmental SARF'!$N$6,'Environmental SARF'!$O$6)))","v":""},{"$f":"IF(C23=\"\",\"\",IF('Environmental SARF'!$N$2=\"\",\"\",'Environmental SARF'!$N$2))","v":""},{"$f":"IF(C23=\"\",\"\",IF('Environmental SARF'!$N$4=\"\",NOW(),'Environmental SARF'!$N$4))","v":""},"",{"$f":"IF(C23=\"\",\"\", IF(AND(NOT(ISBLANK('Environmental SARF'!H41)),'Environmental SARF'!$F$8<>\"1) NA\",'Environmental SARF'!$F$8<>\"1) ...\"), \"   \"&CONCATENATE('Environmental SARF'!$H$18,'Environmental SARF'!$H$19),\"\") & IF(AND(NOT(ISBLANK('Environmental SARF'!I41)),'Environmental SARF'!$F$9<>\"2) NA\",'Environmental SARF'!$F$9<>\"2) ...\"), \"   \"&CONCATENATE('Environmental SARF'!$I$18,'Environmental SARF'!$I$19),\"\")& IF(AND(NOT(ISBLANK('Environmental SARF'!J41)),'Environmental SARF'!$F$10<>\"3) NA\",'Environmental SARF'!$F$10<>\"3) ...\"), \"   \"&CONCATENATE('Environmental SARF'!$J$18,'Environmental SARF'!$J$19),\"\") & IF(AND(NOT(ISBLANK('Environmental SARF'!K41)),'Environmental SARF'!$F$11<>\"4) NA\",'Environmental SARF'!$F$11<>\"4) ...\"), \"   \"&CONCATENATE('Environmental SARF'!$K$18,'Environmental SARF'!$K$19),\"\")& IF(AND(NOT(ISBLANK('Environmental SARF'!L41)),'Environmental SARF'!$F$12<>\"5) NA\",'Environmental SARF'!$F$12<>\"5) ...\"), \"   \"&CONCATENATE('Environmental SARF'!$L$18,'Environmental SARF'!$L$19),\"\")&IF(AND(NOT(ISBLANK('Environmental SARF'!M41)),'Environmental SARF'!$F$13<>\"6) NA\",'Environmental SARF'!$F$13<>\"6) ...\"), \"   \"&CONCATENATE('Environmental SARF'!$M$18,'Environmental SARF'!$M$19),\"\")&IF(AND(NOT(ISBLANK('Environmental SARF'!N41)),'Environmental SARF'!$F$14<>\"7) NA\",'Environmental SARF'!$F$14<>\"7) ...\"), \"   \"&CONCATENATE('Environmental SARF'!$N$18,'Environmental SARF'!$N$19),\"\") &IF(AND(NOT(ISBLANK('Environmental SARF'!O41)),'Environmental SARF'!$F$15<>\"8) NA\",'Environmental SARF'!$F$15<>\"8) ...\"), \"   \"&CONCATENATE('Environmental SARF'!$O$18,'Environmental SARF'!$O$19),\"\"))","v":""}]
[{"$f":"IF(C24=\"\",\"\",IF('Environmental SARF'!B42=\"\",\"\",'Environmental SARF'!B42))","v":""},"",{"$f":"IF('Environmental SARF'!C42=\"\",\"\",'Environmental SARF'!C42)","v":""},{"$f":"IF(C24=\"\",\"\",IF('Environmental SARF'!D42=\"\",'Environmental SARF'!$C$10,'Environmental SARF'!D42))","v":""},{"$f":"IF(B24=\"\",\"\",IF('Environmental SARF'!E42=\"\",\"\",'Environmental SARF'!E42))","v":""},{"$f":"IF(B24=\"\",\"\",IF('Environmental SARF'!F42=\"\",\"\",'Environmental SARF'!F42))","v":""},{"$f":"IF(B24=\"\",\"\",IF('Environmental SARF'!G42=\"\",\"\",'Environmental SARF'!G42))","v":""},{"$f":"IF(C24=\"\",\"\",IF('Environmental SARF'!$N$6=\"\",\"\",CONCATENATE('Environmental SARF'!$N$6,'Environmental SARF'!$O$6)))","v":""},{"$f":"IF(C24=\"\",\"\",IF('Environmental SARF'!$N$2=\"\",\"\",'Environmental SARF'!$N$2))","v":""},{"$f":"IF(C24=\"\",\"\",IF('Environmental SARF'!$N$4=\"\",NOW(),'Environmental SARF'!$N$4))","v":""},"",{"$f":"IF(C24=\"\",\"\", IF(AND(NOT(ISBLANK('Environmental SARF'!H42)),'Environmental SARF'!$F$8<>\"1) NA\",'Environmental SARF'!$F$8<>\"1) ...\"), \"   \"&CONCATENATE('Environmental SARF'!$H$18,'Environmental SARF'!$H$19),\"\") & IF(AND(NOT(ISBLANK('Environmental SARF'!I42)),'Environmental SARF'!$F$9<>\"2) NA\",'Environmental SARF'!$F$9<>\"2) ...\"), \"   \"&CONCATENATE('Environmental SARF'!$I$18,'Environmental SARF'!$I$19),\"\")& IF(AND(NOT(ISBLANK('Environmental SARF'!J42)),'Environmental SARF'!$F$10<>\"3) NA\",'Environmental SARF'!$F$10<>\"3) ...\"), \"   \"&CONCATENATE('Environmental SARF'!$J$18,'Environmental SARF'!$J$19),\"\") & IF(AND(NOT(ISBLANK('Environmental SARF'!K42)),'Environmental SARF'!$F$11<>\"4) NA\",'Environmental SARF'!$F$11<>\"4) ...\"), \"   \"&CONCATENATE('Environmental SARF'!$K$18,'Environmental SARF'!$K$19),\"\")& IF(AND(NOT(ISBLANK('Environmental SARF'!L42)),'Environmental SARF'!$F$12<>\"5) NA\",'Environmental SARF'!$F$12<>\"5) ...\"), \"   \"&CONCATENATE('Environmental SARF'!$L$18,'Environmental SARF'!$L$19),\"\")&IF(AND(NOT(ISBLANK('Environmental SARF'!M42)),'Environmental SARF'!$F$13<>\"6) NA\",'Environmental SARF'!$F$13<>\"6) ...\"), \"   \"&CONCATENATE('Environmental SARF'!$M$18,'Environmental SARF'!$M$19),\"\")&IF(AND(NOT(ISBLANK('Environmental SARF'!N42)),'Environmental SARF'!$F$14<>\"7) NA\",'Environmental SARF'!$F$14<>\"7) ...\"), \"   \"&CONCATENATE('Environmental SARF'!$N$18,'Environmental SARF'!$N$19),\"\") &IF(AND(NOT(ISBLANK('Environmental SARF'!O42)),'Environmental SARF'!$F$15<>\"8) NA\",'Environmental SARF'!$F$15<>\"8) ...\"), \"   \"&CONCATENATE('Environmental SARF'!$O$18,'Environmental SARF'!$O$19),\"\"))","v":""}]
[{"$f":"IF(C25=\"\",\"\",IF('Environmental SARF'!B43=\"\",\"\",'Environmental SARF'!B43))","v":""},"",{"$f":"IF('Environmental SARF'!C43=\"\",\"\",'Environmental SARF'!C43)","v":""},{"$f":"IF(C25=\"\",\"\",IF('Environmental SARF'!D43=\"\",'Environmental SARF'!$C$10,'Environmental SARF'!D43))","v":""},{"$f":"IF(B25=\"\",\"\",IF('Environmental SARF'!E43=\"\",\"\",'Environmental SARF'!E43))","v":""},{"$f":"IF(B25=\"\",\"\",IF('Environmental SARF'!F43=\"\",\"\",'Environmental SARF'!F43))","v":""},{"$f":"IF(B25=\"\",\"\",IF('Environmental SARF'!G43=\"\",\"\",'Environmental SARF'!G43))","v":""},{"$f":"IF(C25=\"\",\"\",IF('Environmental SARF'!$N$6=\"\",\"\",CONCATENATE('Environmental SARF'!$N$6,'Environmental SARF'!$O$6)))","v":""},{"$f":"IF(C25=\"\",\"\",IF('Environmental SARF'!$N$2=\"\",\"\",'Environmental SARF'!$N$2))","v":""},{"$f":"IF(C25=\"\",\"\",IF('Environmental SARF'!$N$4=\"\",NOW(),'Environmental SARF'!$N$4))","v":""},"",{"$f":"IF(C25=\"\",\"\", IF(AND(NOT(ISBLANK('Environmental SARF'!H43)),'Environmental SARF'!$F$8<>\"1) NA\",'Environmental SARF'!$F$8<>\"1) ...\"), \"   \"&CONCATENATE('Environmental SARF'!$H$18,'Environmental SARF'!$H$19),\"\") & IF(AND(NOT(ISBLANK('Environmental SARF'!I43)),'Environmental SARF'!$F$9<>\"2) NA\",'Environmental SARF'!$F$9<>\"2) ...\"), \"   \"&CONCATENATE('Environmental SARF'!$I$18,'Environmental SARF'!$I$19),\"\")& IF(AND(NOT(ISBLANK('Environmental SARF'!J43)),'Environmental SARF'!$F$10<>\"3) NA\",'Environmental SARF'!$F$10<>\"3) ...\"), \"   \"&CONCATENATE('Environmental SARF'!$J$18,'Environmental SARF'!$J$19),\"\") & IF(AND(NOT(ISBLANK('Environmental SARF'!K43)),'Environmental SARF'!$F$11<>\"4) NA\",'Environmental SARF'!$F$11<>\"4) ...\"), \"   \"&CONCATENATE('Environmental SARF'!$K$18,'Environmental SARF'!$K$19),\"\")& IF(AND(NOT(ISBLANK('Environmental SARF'!L43)),'Environmental SARF'!$F$12<>\"5) NA\",'Environmental SARF'!$F$12<>\"5) ...\"), \"   \"&CONCATENATE('Environmental SARF'!$L$18,'Environmental SARF'!$L$19),\"\")&IF(AND(NOT(ISBLANK('Environmental SARF'!M43)),'Environmental SARF'!$F$13<>\"6) NA\",'Environmental SARF'!$F$13<>\"6) ...\"), \"   \"&CONCATENATE('Environmental SARF'!$M$18,'Environmental SARF'!$M$19),\"\")&IF(AND(NOT(ISBLANK('Environmental SARF'!N43)),'Environmental SARF'!$F$14<>\"7) NA\",'Environmental SARF'!$F$14<>\"7) ...\"), \"   \"&CONCATENATE('Environmental SARF'!$N$18,'Environmental SARF'!$N$19),\"\") &IF(AND(NOT(ISBLANK('Environmental SARF'!O43)),'Environmental SARF'!$F$15<>\"8) NA\",'Environmental SARF'!$F$15<>\"8) ...\"), \"   \"&CONCATENATE('Environmental SARF'!$O$18,'Environmental SARF'!$O$19),\"\"))","v":""}]
[{"$f":"IF(C26=\"\",\"\",IF('Environmental SARF'!B44=\"\",\"\",'Environmental SARF'!B44))","v":""},"",{"$f":"IF('Environmental SARF'!C44=\"\",\"\",'Environmental SARF'!C44)","v":""},{"$f":"IF(C26=\"\",\"\",IF('Environmental SARF'!D44=\"\",'Environmental SARF'!$C$10,'Environmental SARF'!D44))","v":""},{"$f":"IF(B26=\"\",\"\",IF('Environmental SARF'!E44=\"\",\"\",'Environmental SARF'!E44))","v":""},{"$f":"IF(B26=\"\",\"\",IF('Environmental SARF'!F44=\"\",\"\",'Environmental SARF'!F44))","v":""},{"$f":"IF(B26=\"\",\"\",IF('Environmental SARF'!G44=\"\",\"\",'Environmental SARF'!G44))","v":""},{"$f":"IF(C26=\"\",\"\",IF('Environmental SARF'!$N$6=\"\",\"\",CONCATENATE('Environmental SARF'!$N$6,'Environmental SARF'!$O$6)))","v":""},{"$f":"IF(C26=\"\",\"\",IF('Environmental SARF'!$N$2=\"\",\"\",'Environmental SARF'!$N$2))","v":""},{"$f":"IF(C26=\"\",\"\",IF('Environmental SARF'!$N$4=\"\",NOW(),'Environmental SARF'!$N$4))","v":""},"",{"$f":"IF(C26=\"\",\"\", IF(AND(NOT(ISBLANK('Environmental SARF'!H44)),'Environmental SARF'!$F$8<>\"1) NA\",'Environmental SARF'!$F$8<>\"1) ...\"), \"   \"&CONCATENATE('Environmental SARF'!$H$18,'Environmental SARF'!$H$19),\"\") & IF(AND(NOT(ISBLANK('Environmental SARF'!I44)),'Environmental SARF'!$F$9<>\"2) NA\",'Environmental SARF'!$F$9<>\"2) ...\"), \"   \"&CONCATENATE('Environmental SARF'!$I$18,'Environmental SARF'!$I$19),\"\")& IF(AND(NOT(ISBLANK('Environmental SARF'!J44)),'Environmental SARF'!$F$10<>\"3) NA\",'Environmental SARF'!$F$10<>\"3) ...\"), \"   \"&CONCATENATE('Environmental SARF'!$J$18,'Environmental SARF'!$J$19),\"\") & IF(AND(NOT(ISBLANK('Environmental SARF'!K44)),'Environmental SARF'!$F$11<>\"4) NA\",'Environmental SARF'!$F$11<>\"4) ...\"), \"   \"&CONCATENATE('Environmental SARF'!$K$18,'Environmental SARF'!$K$19),\"\")& IF(AND(NOT(ISBLANK('Environmental SARF'!L44)),'Environmental SARF'!$F$12<>\"5) NA\",'Environmental SARF'!$F$12<>\"5) ...\"), \"   \"&CONCATENATE('Environmental SARF'!$L$18,'Environmental SARF'!$L$19),\"\")&IF(AND(NOT(ISBLANK('Environmental SARF'!M44)),'Environmental SARF'!$F$13<>\"6) NA\",'Environmental SARF'!$F$13<>\"6) ...\"), \"   \"&CONCATENATE('Environmental SARF'!$M$18,'Environmental SARF'!$M$19),\"\")&IF(AND(NOT(ISBLANK('Environmental SARF'!N44)),'Environmental SARF'!$F$14<>\"7) NA\",'Environmental SARF'!$F$14<>\"7) ...\"), \"   \"&CONCATENATE('Environmental SARF'!$N$18,'Environmental SARF'!$N$19),\"\") &IF(AND(NOT(ISBLANK('Environmental SARF'!O44)),'Environmental SARF'!$F$15<>\"8) NA\",'Environmental SARF'!$F$15<>\"8) ...\"), \"   \"&CONCATENATE('Environmental SARF'!$O$18,'Environmental SARF'!$O$19),\"\"))","v":""}]
[{"$f":"IF(C27=\"\",\"\",IF('Environmental SARF'!B45=\"\",\"\",'Environmental SARF'!B45))","v":""},"",{"$f":"IF('Environmental SARF'!C45=\"\",\"\",'Environmental SARF'!C45)","v":""},{"$f":"IF(C27=\"\",\"\",IF('Environmental SARF'!D45=\"\",'Environmental SARF'!$C$10,'Environmental SARF'!D45))","v":""},{"$f":"IF(B27=\"\",\"\",IF('Environmental SARF'!E45=\"\",\"\",'Environmental SARF'!E45))","v":""},{"$f":"IF(B27=\"\",\"\",IF('Environmental SARF'!F45=\"\",\"\",'Environmental SARF'!F45))","v":""},{"$f":"IF(B27=\"\",\"\",IF('Environmental SARF'!G45=\"\",\"\",'Environmental SARF'!G45))","v":""},{"$f":"IF(C27=\"\",\"\",IF('Environmental SARF'!$N$6=\"\",\"\",CONCATENATE('Environmental SARF'!$N$6,'Environmental SARF'!$O$6)))","v":""},{"$f":"IF(C27=\"\",\"\",IF('Environmental SARF'!$N$2=\"\",\"\",'Environmental SARF'!$N$2))","v":""},{"$f":"IF(C27=\"\",\"\",IF('Environmental SARF'!$N$4=\"\",NOW(),'Environmental SARF'!$N$4))","v":""},"",{"$f":"IF(C27=\"\",\"\", IF(AND(NOT(ISBLANK('Environmental SARF'!H45)),'Environmental SARF'!$F$8<>\"1) NA\",'Environmental SARF'!$F$8<>\"1) ...\"), \"   \"&CONCATENATE('Environmental SARF'!$H$18,'Environmental SARF'!$H$19),\"\") & IF(AND(NOT(ISBLANK('Environmental SARF'!I45)),'Environmental SARF'!$F$9<>\"2) NA\",'Environmental SARF'!$F$9<>\"2) ...\"), \"   \"&CONCATENATE('Environmental SARF'!$I$18,'Environmental SARF'!$I$19),\"\")& IF(AND(NOT(ISBLANK('Environmental SARF'!J45)),'Environmental SARF'!$F$10<>\"3) NA\",'Environmental SARF'!$F$10<>\"3) ...\"), \"   \"&CONCATENATE('Environmental SARF'!$J$18,'Environmental SARF'!$J$19),\"\") & IF(AND(NOT(ISBLANK('Environmental SARF'!K45)),'Environmental SARF'!$F$11<>\"4) NA\",'Environmental SARF'!$F$11<>\"4) ...\"), \"   \"&CONCATENATE('Environmental SARF'!$K$18,'Environmental SARF'!$K$19),\"\")& IF(AND(NOT(ISBLANK('Environmental SARF'!L45)),'Environmental SARF'!$F$12<>\"5) NA\",'Environmental SARF'!$F$12<>\"5) ...\"), \"   \"&CONCATENATE('Environmental SARF'!$L$18,'Environmental SARF'!$L$19),\"\")&IF(AND(NOT(ISBLANK('Environmental SARF'!M45)),'Environmental SARF'!$F$13<>\"6) NA\",'Environmental SARF'!$F$13<>\"6) ...\"), \"   \"&CONCATENATE('Environmental SARF'!$M$18,'Environmental SARF'!$M$19),\"\")&IF(AND(NOT(ISBLANK('Environmental SARF'!N45)),'Environmental SARF'!$F$14<>\"7) NA\",'Environmental SARF'!$F$14<>\"7) ...\"), \"   \"&CONCATENATE('Environmental SARF'!$N$18,'Environmental SARF'!$N$19),\"\") &IF(AND(NOT(ISBLANK('Environmental SARF'!O45)),'Environmental SARF'!$F$15<>\"8) NA\",'Environmental SARF'!$F$15<>\"8) ...\"), \"   \"&CONCATENATE('Environmental SARF'!$O$18,'Environmental SARF'!$O$19),\"\"))","v":""}]
[{"$f":"IF(C28=\"\",\"\",IF('Environmental SARF'!B46=\"\",\"\",'Environmental SARF'!B46))","v":""},"",{"$f":"IF('Environmental SARF'!C46=\"\",\"\",'Environmental SARF'!C46)","v":""},{"$f":"IF(C28=\"\",\"\",IF('Environmental SARF'!D46=\"\",'Environmental SARF'!$C$10,'Environmental SARF'!D46))","v":""},{"$f":"IF(B28=\"\",\"\",IF('Environmental SARF'!E46=\"\",\"\",'Environmental SARF'!E46))","v":""},{"$f":"IF(B28=\"\",\"\",IF('Environmental SARF'!F46=\"\",\"\",'Environmental SARF'!F46))","v":""},{"$f":"IF(B28=\"\",\"\",IF('Environmental SARF'!G46=\"\",\"\",'Environmental SARF'!G46))","v":""},{"$f":"IF(C28=\"\",\"\",IF('Environmental SARF'!$N$6=\"\",\"\",CONCATENATE('Environmental SARF'!$N$6,'Environmental SARF'!$O$6)))","v":""},{"$f":"IF(C28=\"\",\"\",IF('Environmental SARF'!$N$2=\"\",\"\",'Environmental SARF'!$N$2))","v":""},{"$f":"IF(C28=\"\",\"\",IF('Environmental SARF'!$N$4=\"\",NOW(),'Environmental SARF'!$N$4))","v":""},"",{"$f":"IF(C28=\"\",\"\", IF(AND(NOT(ISBLANK('Environmental SARF'!H46)),'Environmental SARF'!$F$8<>\"1) NA\",'Environmental SARF'!$F$8<>\"1) ...\"), \"   \"&CONCATENATE('Environmental SARF'!$H$18,'Environmental SARF'!$H$19),\"\") & IF(AND(NOT(ISBLANK('Environmental SARF'!I46)),'Environmental SARF'!$F$9<>\"2) NA\",'Environmental SARF'!$F$9<>\"2) ...\"), \"   \"&CONCATENATE('Environmental SARF'!$I$18,'Environmental SARF'!$I$19),\"\")& IF(AND(NOT(ISBLANK('Environmental SARF'!J46)),'Environmental SARF'!$F$10<>\"3) NA\",'Environmental SARF'!$F$10<>\"3) ...\"), \"   \"&CONCATENATE('Environmental SARF'!$J$18,'Environmental SARF'!$J$19),\"\") & IF(AND(NOT(ISBLANK('Environmental SARF'!K46)),'Environmental SARF'!$F$11<>\"4) NA\",'Environmental SARF'!$F$11<>\"4) ...\"), \"   \"&CONCATENATE('Environmental SARF'!$K$18,'Environmental SARF'!$K$19),\"\")& IF(AND(NOT(ISBLANK('Environmental SARF'!L46)),'Environmental SARF'!$F$12<>\"5) NA\",'Environmental SARF'!$F$12<>\"5) ...\"), \"   \"&CONCATENATE('Environmental SARF'!$L$18,'Environmental SARF'!$L$19),\"\")&IF(AND(NOT(ISBLANK('Environmental SARF'!M46)),'Environmental SARF'!$F$13<>\"6) NA\",'Environmental SARF'!$F$13<>\"6) ...\"), \"   \"&CONCATENATE('Environmental SARF'!$M$18,'Environmental SARF'!$M$19),\"\")&IF(AND(NOT(ISBLANK('Environmental SARF'!N46)),'Environmental SARF'!$F$14<>\"7) NA\",'Environmental SARF'!$F$14<>\"7) ...\"), \"   \"&CONCATENATE('Environmental SARF'!$N$18,'Environmental SARF'!$N$19),\"\") &IF(AND(NOT(ISBLANK('Environmental SARF'!O46)),'Environmental SARF'!$F$15<>\"8) NA\",'Environmental SARF'!$F$15<>\"8) ...\"), \"   \"&CONCATENATE('Environmental SARF'!$O$18,'Environmental SARF'!$O$19),\"\"))","v":""}]
[{"$f":"IF(C29=\"\",\"\",IF('Environmental SARF'!B47=\"\",\"\",'Environmental SARF'!B47))","v":""},"",{"$f":"IF('Environmental SARF'!C47=\"\",\"\",'Environmental SARF'!C47)","v":""},{"$f":"IF(C29=\"\",\"\",IF('Environmental SARF'!D47=\"\",'Environmental SARF'!$C$10,'Environmental SARF'!D47))","v":""},{"$f":"IF(B29=\"\",\"\",IF('Environmental SARF'!E47=\"\",\"\",'Environmental SARF'!E47))","v":""},{"$f":"IF(B29=\"\",\"\",IF('Environmental SARF'!F47=\"\",\"\",'Environmental SARF'!F47))","v":""},{"$f":"IF(B29=\"\",\"\",IF('Environmental SARF'!G47=\"\",\"\",'Environmental SARF'!G47))","v":""},{"$f":"IF(C29=\"\",\"\",IF('Environmental SARF'!$N$6=\"\",\"\",CONCATENATE('Environmental SARF'!$N$6,'Environmental SARF'!$O$6)))","v":""},{"$f":"IF(C29=\"\",\"\",IF('Environmental SARF'!$N$2=\"\",\"\",'Environmental SARF'!$N$2))","v":""},{"$f":"IF(C29=\"\",\"\",IF('Environmental SARF'!$N$4=\"\",NOW(),'Environmental SARF'!$N$4))","v":""},"",{"$f":"IF(C29=\"\",\"\", IF(AND(NOT(ISBLANK('Environmental SARF'!H47)),'Environmental SARF'!$F$8<>\"1) NA\",'Environmental SARF'!$F$8<>\"1) ...\"), \"   \"&CONCATENATE('Environmental SARF'!$H$18,'Environmental SARF'!$H$19),\"\") & IF(AND(NOT(ISBLANK('Environmental SARF'!I47)),'Environmental SARF'!$F$9<>\"2) NA\",'Environmental SARF'!$F$9<>\"2) ...\"), \"   \"&CONCATENATE('Environmental SARF'!$I$18,'Environmental SARF'!$I$19),\"\")& IF(AND(NOT(ISBLANK('Environmental SARF'!J47)),'Environmental SARF'!$F$10<>\"3) NA\",'Environmental SARF'!$F$10<>\"3) ...\"), \"   \"&CONCATENATE('Environmental SARF'!$J$18,'Environmental SARF'!$J$19),\"\") & IF(AND(NOT(ISBLANK('Environmental SARF'!K47)),'Environmental SARF'!$F$11<>\"4) NA\",'Environmental SARF'!$F$11<>\"4) ...\"), \"   \"&CONCATENATE('Environmental SARF'!$K$18,'Environmental SARF'!$K$19),\"\")& IF(AND(NOT(ISBLANK('Environmental SARF'!L47)),'Environmental SARF'!$F$12<>\"5) NA\",'Environmental SARF'!$F$12<>\"5) ...\"), \"   \"&CONCATENATE('Environmental SARF'!$L$18,'Environmental SARF'!$L$19),\"\")&IF(AND(NOT(ISBLANK('Environmental SARF'!M47)),'Environmental SARF'!$F$13<>\"6) NA\",'Environmental SARF'!$F$13<>\"6) ...\"), \"   \"&CONCATENATE('Environmental SARF'!$M$18,'Environmental SARF'!$M$19),\"\")&IF(AND(NOT(ISBLANK('Environmental SARF'!N47)),'Environmental SARF'!$F$14<>\"7) NA\",'Environmental SARF'!$F$14<>\"7) ...\"), \"   \"&CONCATENATE('Environmental SARF'!$N$18,'Environmental SARF'!$N$19),\"\") &IF(AND(NOT(ISBLANK('Environmental SARF'!O47)),'Environmental SARF'!$F$15<>\"8) NA\",'Environmental SARF'!$F$15<>\"8) ...\"), \"   \"&CONCATENATE('Environmental SARF'!$O$18,'Environmental SARF'!$O$19),\"\"))","v":""}]
[{"$f":"IF(C30=\"\",\"\",IF('Environmental SARF'!B48=\"\",\"\",'Environmental SARF'!B48))","v":""},"",{"$f":"IF('Environmental SARF'!C48=\"\",\"\",'Environmental SARF'!C48)","v":""},{"$f":"IF(C30=\"\",\"\",IF('Environmental SARF'!D48=\"\",'Environmental SARF'!$C$10,'Environmental SARF'!D48))","v":""},{"$f":"IF(B30=\"\",\"\",IF('Environmental SARF'!E48=\"\",\"\",'Environmental SARF'!E48))","v":""},{"$f":"IF(B30=\"\",\"\",IF('Environmental SARF'!F48=\"\",\"\",'Environmental SARF'!F48))","v":""},{"$f":"IF(B30=\"\",\"\",IF('Environmental SARF'!G48=\"\",\"\",'Environmental SARF'!G48))","v":""},{"$f":"IF(C30=\"\",\"\",IF('Environmental SARF'!$N$6=\"\",\"\",CONCATENATE('Environmental SARF'!$N$6,'Environmental SARF'!$O$6)))","v":""},{"$f":"IF(C30=\"\",\"\",IF('Environmental SARF'!$N$2=\"\",\"\",'Environmental SARF'!$N$2))","v":""},{"$f":"IF(C30=\"\",\"\",IF('Environmental SARF'!$N$4=\"\",NOW(),'Environmental SARF'!$N$4))","v":""},"",{"$f":"IF(C30=\"\",\"\", IF(AND(NOT(ISBLANK('Environmental SARF'!H48)),'Environmental SARF'!$F$8<>\"1) NA\",'Environmental SARF'!$F$8<>\"1) ...\"), \"   \"&CONCATENATE('Environmental SARF'!$H$18,'Environmental SARF'!$H$19),\"\") & IF(AND(NOT(ISBLANK('Environmental SARF'!I48)),'Environmental SARF'!$F$9<>\"2) NA\",'Environmental SARF'!$F$9<>\"2) ...\"), \"   \"&CONCATENATE('Environmental SARF'!$I$18,'Environmental SARF'!$I$19),\"\")& IF(AND(NOT(ISBLANK('Environmental SARF'!J48)),'Environmental SARF'!$F$10<>\"3) NA\",'Environmental SARF'!$F$10<>\"3) ...\"), \"   \"&CONCATENATE('Environmental SARF'!$J$18,'Environmental SARF'!$J$19),\"\") & IF(AND(NOT(ISBLANK('Environmental SARF'!K48)),'Environmental SARF'!$F$11<>\"4) NA\",'Environmental SARF'!$F$11<>\"4) ...\"), \"   \"&CONCATENATE('Environmental SARF'!$K$18,'Environmental SARF'!$K$19),\"\")& IF(AND(NOT(ISBLANK('Environmental SARF'!L48)),'Environmental SARF'!$F$12<>\"5) NA\",'Environmental SARF'!$F$12<>\"5) ...\"), \"   \"&CONCATENATE('Environmental SARF'!$L$18,'Environmental SARF'!$L$19),\"\")&IF(AND(NOT(ISBLANK('Environmental SARF'!M48)),'Environmental SARF'!$F$13<>\"6) NA\",'Environmental SARF'!$F$13<>\"6) ...\"), \"   \"&CONCATENATE('Environmental SARF'!$M$18,'Environmental SARF'!$M$19),\"\")&IF(AND(NOT(ISBLANK('Environmental SARF'!N48)),'Environmental SARF'!$F$14<>\"7) NA\",'Environmental SARF'!$F$14<>\"7) ...\"), \"   \"&CONCATENATE('Environmental SARF'!$N$18,'Environmental SARF'!$N$19),\"\") &IF(AND(NOT(ISBLANK('Environmental SARF'!O48)),'Environmental SARF'!$F$15<>\"8) NA\",'Environmental SARF'!$F$15<>\"8) ...\"), \"   \"&CONCATENATE('Environmental SARF'!$O$18,'Environmental SARF'!$O$19),\"\"))","v":""}]
[{"$f":"IF(C31=\"\",\"\",IF('Environmental SARF'!B49=\"\",\"\",'Environmental SARF'!B49))","v":""},"",{"$f":"IF('Environmental SARF'!C49=\"\",\"\",'Environmental SARF'!C49)","v":""},{"$f":"IF(C31=\"\",\"\",IF('Environmental SARF'!D49=\"\",'Environmental SARF'!$C$10,'Environmental SARF'!D49))","v":""},{"$f":"IF(B31=\"\",\"\",IF('Environmental SARF'!E49=\"\",\"\",'Environmental SARF'!E49))","v":""},{"$f":"IF(B31=\"\",\"\",IF('Environmental SARF'!F49=\"\",\"\",'Environmental SARF'!F49))","v":""},{"$f":"IF(B31=\"\",\"\",IF('Environmental SARF'!G49=\"\",\"\",'Environmental SARF'!G49))","v":""},{"$f":"IF(C31=\"\",\"\",IF('Environmental SARF'!$N$6=\"\",\"\",CONCATENATE('Environmental SARF'!$N$6,'Environmental SARF'!$O$6)))","v":""},{"$f":"IF(C31=\"\",\"\",IF('Environmental SARF'!$N$2=\"\",\"\",'Environmental SARF'!$N$2))","v":""},{"$f":"IF(C31=\"\",\"\",IF('Environmental SARF'!$N$4=\"\",NOW(),'Environmental SARF'!$N$4))","v":""},"",{"$f":"IF(C31=\"\",\"\", IF(AND(NOT(ISBLANK('Environmental SARF'!H49)),'Environmental SARF'!$F$8<>\"1) NA\",'Environmental SARF'!$F$8<>\"1) ...\"), \"   \"&CONCATENATE('Environmental SARF'!$H$18,'Environmental SARF'!$H$19),\"\") & IF(AND(NOT(ISBLANK('Environmental SARF'!I49)),'Environmental SARF'!$F$9<>\"2) NA\",'Environmental SARF'!$F$9<>\"2) ...\"), \"   \"&CONCATENATE('Environmental SARF'!$I$18,'Environmental SARF'!$I$19),\"\")& IF(AND(NOT(ISBLANK('Environmental SARF'!J49)),'Environmental SARF'!$F$10<>\"3) NA\",'Environmental SARF'!$F$10<>\"3) ...\"), \"   \"&CONCATENATE('Environmental SARF'!$J$18,'Environmental SARF'!$J$19),\"\") & IF(AND(NOT(ISBLANK('Environmental SARF'!K49)),'Environmental SARF'!$F$11<>\"4) NA\",'Environmental SARF'!$F$11<>\"4) ...\"), \"   \"&CONCATENATE('Environmental SARF'!$K$18,'Environmental SARF'!$K$19),\"\")& IF(AND(NOT(ISBLANK('Environmental SARF'!L49)),'Environmental SARF'!$F$12<>\"5) NA\",'Environmental SARF'!$F$12<>\"5) ...\"), \"   \"&CONCATENATE('Environmental SARF'!$L$18,'Environmental SARF'!$L$19),\"\")&IF(AND(NOT(ISBLANK('Environmental SARF'!M49)),'Environmental SARF'!$F$13<>\"6) NA\",'Environmental SARF'!$F$13<>\"6) ...\"), \"   \"&CONCATENATE('Environmental SARF'!$M$18,'Environmental SARF'!$M$19),\"\")&IF(AND(NOT(ISBLANK('Environmental SARF'!N49)),'Environmental SARF'!$F$14<>\"7) NA\",'Environmental SARF'!$F$14<>\"7) ...\"), \"   \"&CONCATENATE('Environmental SARF'!$N$18,'Environmental SARF'!$N$19),\"\") &IF(AND(NOT(ISBLANK('Environmental SARF'!O49)),'Environmental SARF'!$F$15<>\"8) NA\",'Environmental SARF'!$F$15<>\"8) ...\"), \"   \"&CONCATENATE('Environmental SARF'!$O$18,'Environmental SARF'!$O$19),\"\"))","v":""}]
[{"$f":"IF(C32=\"\",\"\",IF('Environmental SARF'!B50=\"\",\"\",'Environmental SARF'!B50))","v":""},"",{"$f":"IF('Environmental SARF'!C50=\"\",\"\",'Environmental SARF'!C50)","v":""},{"$f":"IF(C32=\"\",\"\",IF('Environmental SARF'!D50=\"\",'Environmental SARF'!$C$10,'Environmental SARF'!D50))","v":""},{"$f":"IF(B32=\"\",\"\",IF('Environmental SARF'!E50=\"\",\"\",'Environmental SARF'!E50))","v":""},{"$f":"IF(B32=\"\",\"\",IF('Environmental SARF'!F50=\"\",\"\",'Environmental SARF'!F50))","v":""},{"$f":"IF(B32=\"\",\"\",IF('Environmental SARF'!G50=\"\",\"\",'Environmental SARF'!G50))","v":""},{"$f":"IF(C32=\"\",\"\",IF('Environmental SARF'!$N$6=\"\",\"\",CONCATENATE('Environmental SARF'!$N$6,'Environmental SARF'!$O$6)))","v":""},{"$f":"IF(C32=\"\",\"\",IF('Environmental SARF'!$N$2=\"\",\"\",'Environmental SARF'!$N$2))","v":""},{"$f":"IF(C32=\"\",\"\",IF('Environmental SARF'!$N$4=\"\",NOW(),'Environmental SARF'!$N$4))","v":""},"",{"$f":"IF(C32=\"\",\"\", IF(AND(NOT(ISBLANK('Environmental SARF'!H50)),'Environmental SARF'!$F$8<>\"1) NA\",'Environmental SARF'!$F$8<>\"1) ...\"), \"   \"&CONCATENATE('Environmental SARF'!$H$18,'Environmental SARF'!$H$19),\"\") & IF(AND(NOT(ISBLANK('Environmental SARF'!I50)),'Environmental SARF'!$F$9<>\"2) NA\",'Environmental SARF'!$F$9<>\"2) ...\"), \"   \"&CONCATENATE('Environmental SARF'!$I$18,'Environmental SARF'!$I$19),\"\")& IF(AND(NOT(ISBLANK('Environmental SARF'!J50)),'Environmental SARF'!$F$10<>\"3) NA\",'Environmental SARF'!$F$10<>\"3) ...\"), \"   \"&CONCATENATE('Environmental SARF'!$J$18,'Environmental SARF'!$J$19),\"\") & IF(AND(NOT(ISBLANK('Environmental SARF'!K50)),'Environmental SARF'!$F$11<>\"4) NA\",'Environmental SARF'!$F$11<>\"4) ...\"), \"   \"&CONCATENATE('Environmental SARF'!$K$18,'Environmental SARF'!$K$19),\"\")& IF(AND(NOT(ISBLANK('Environmental SARF'!L50)),'Environmental SARF'!$F$12<>\"5) NA\",'Environmental SARF'!$F$12<>\"5) ...\"), \"   \"&CONCATENATE('Environmental SARF'!$L$18,'Environmental SARF'!$L$19),\"\")&IF(AND(NOT(ISBLANK('Environmental SARF'!M50)),'Environmental SARF'!$F$13<>\"6) NA\",'Environmental SARF'!$F$13<>\"6) ...\"), \"   \"&CONCATENATE('Environmental SARF'!$M$18,'Environmental SARF'!$M$19),\"\")&IF(AND(NOT(ISBLANK('Environmental SARF'!N50)),'Environmental SARF'!$F$14<>\"7) NA\",'Environmental SARF'!$F$14<>\"7) ...\"), \"   \"&CONCATENATE('Environmental SARF'!$N$18,'Environmental SARF'!$N$19),\"\") &IF(AND(NOT(ISBLANK('Environmental SARF'!O50)),'Environmental SARF'!$F$15<>\"8) NA\",'Environmental SARF'!$F$15<>\"8) ...\"), \"   \"&CONCATENATE('Environmental SARF'!$O$18,'Environmental SARF'!$O$19),\"\"))","v":""}]
[{"$f":"IF(C33=\"\",\"\",IF('Environmental SARF'!B51=\"\",\"\",'Environmental SARF'!B51))","v":""},"",{"$f":"IF('Environmental SARF'!C51=\"\",\"\",'Environmental SARF'!C51)","v":""},{"$f":"IF(C33=\"\",\"\",IF('Environmental SARF'!D51=\"\",'Environmental SARF'!$C$10,'Environmental SARF'!D51))","v":""},{"$f":"IF(B33=\"\",\"\",IF('Environmental SARF'!E51=\"\",\"\",'Environmental SARF'!E51))","v":""},{"$f":"IF(B33=\"\",\"\",IF('Environmental SARF'!F51=\"\",\"\",'Environmental SARF'!F51))","v":""},{"$f":"IF(B33=\"\",\"\",IF('Environmental SARF'!G51=\"\",\"\",'Environmental SARF'!G51))","v":""},{"$f":"IF(C33=\"\",\"\",IF('Environmental SARF'!$N$6=\"\",\"\",CONCATENATE('Environmental SARF'!$N$6,'Environmental SARF'!$O$6)))","v":""},{"$f":"IF(C33=\"\",\"\",IF('Environmental SARF'!$N$2=\"\",\"\",'Environmental SARF'!$N$2))","v":""},{"$f":"IF(C33=\"\",\"\",IF('Environmental SARF'!$N$4=\"\",NOW(),'Environmental SARF'!$N$4))","v":""},"",{"$f":"IF(C33=\"\",\"\", IF(AND(NOT(ISBLANK('Environmental SARF'!H51)),'Environmental SARF'!$F$8<>\"1) NA\",'Environmental SARF'!$F$8<>\"1) ...\"), \"   \"&CONCATENATE('Environmental SARF'!$H$18,'Environmental SARF'!$H$19),\"\") & IF(AND(NOT(ISBLANK('Environmental SARF'!I51)),'Environmental SARF'!$F$9<>\"2) NA\",'Environmental SARF'!$F$9<>\"2) ...\"), \"   \"&CONCATENATE('Environmental SARF'!$I$18,'Environmental SARF'!$I$19),\"\")& IF(AND(NOT(ISBLANK('Environmental SARF'!J51)),'Environmental SARF'!$F$10<>\"3) NA\",'Environmental SARF'!$F$10<>\"3) ...\"), \"   \"&CONCATENATE('Environmental SARF'!$J$18,'Environmental SARF'!$J$19),\"\") & IF(AND(NOT(ISBLANK('Environmental SARF'!K51)),'Environmental SARF'!$F$11<>\"4) NA\",'Environmental SARF'!$F$11<>\"4) ...\"), \"   \"&CONCATENATE('Environmental SARF'!$K$18,'Environmental SARF'!$K$19),\"\")& IF(AND(NOT(ISBLANK('Environmental SARF'!L51)),'Environmental SARF'!$F$12<>\"5) NA\",'Environmental SARF'!$F$12<>\"5) ...\"), \"   \"&CONCATENATE('Environmental SARF'!$L$18,'Environmental SARF'!$L$19),\"\")&IF(AND(NOT(ISBLANK('Environmental SARF'!M51)),'Environmental SARF'!$F$13<>\"6) NA\",'Environmental SARF'!$F$13<>\"6) ...\"), \"   \"&CONCATENATE('Environmental SARF'!$M$18,'Environmental SARF'!$M$19),\"\")&IF(AND(NOT(ISBLANK('Environmental SARF'!N51)),'Environmental SARF'!$F$14<>\"7) NA\",'Environmental SARF'!$F$14<>\"7) ...\"), \"   \"&CONCATENATE('Environmental SARF'!$N$18,'Environmental SARF'!$N$19),\"\") &IF(AND(NOT(ISBLANK('Environmental SARF'!O51)),'Environmental SARF'!$F$15<>\"8) NA\",'Environmental SARF'!$F$15<>\"8) ...\"), \"   \"&CONCATENATE('Environmental SARF'!$O$18,'Environmental SARF'!$O$19),\"\"))","v":""}]
[{"$f":"IF(C34=\"\",\"\",IF('Environmental SARF'!B52=\"\",\"\",'Environmental SARF'!B52))","v":""},"",{"$f":"IF('Environmental SARF'!C52=\"\",\"\",'Environmental SARF'!C52)","v":""},{"$f":"IF(C34=\"\",\"\",IF('Environmental SARF'!D52=\"\",'Environmental SARF'!$C$10,'Environmental SARF'!D52))","v":""},{"$f":"IF(B34=\"\",\"\",IF('Environmental SARF'!E52=\"\",\"\",'Environmental SARF'!E52))","v":""},{"$f":"IF(B34=\"\",\"\",IF('Environmental SARF'!F52=\"\",\"\",'Environmental SARF'!F52))","v":""},{"$f":"IF(B34=\"\",\"\",IF('Environmental SARF'!G52=\"\",\"\",'Environmental SARF'!G52))","v":""},{"$f":"IF(C34=\"\",\"\",IF('Environmental SARF'!$N$6=\"\",\"\",CONCATENATE('Environmental SARF'!$N$6,'Environmental SARF'!$O$6)))","v":""},{"$f":"IF(C34=\"\",\"\",IF('Environmental SARF'!$N$2=\"\",\"\",'Environmental SARF'!$N$2))","v":""},{"$f":"IF(C34=\"\",\"\",IF('Environmental SARF'!$N$4=\"\",NOW(),'Environmental SARF'!$N$4))","v":""},"",{"$f":"IF(C34=\"\",\"\", IF(AND(NOT(ISBLANK('Environmental SARF'!H52)),'Environmental SARF'!$F$8<>\"1) NA\",'Environmental SARF'!$F$8<>\"1) ...\"), \"   \"&CONCATENATE('Environmental SARF'!$H$18,'Environmental SARF'!$H$19),\"\") & IF(AND(NOT(ISBLANK('Environmental SARF'!I52)),'Environmental SARF'!$F$9<>\"2) NA\",'Environmental SARF'!$F$9<>\"2) ...\"), \"   \"&CONCATENATE('Environmental SARF'!$I$18,'Environmental SARF'!$I$19),\"\")& IF(AND(NOT(ISBLANK('Environmental SARF'!J52)),'Environmental SARF'!$F$10<>\"3) NA\",'Environmental SARF'!$F$10<>\"3) ...\"), \"   \"&CONCATENATE('Environmental SARF'!$J$18,'Environmental SARF'!$J$19),\"\") & IF(AND(NOT(ISBLANK('Environmental SARF'!K52)),'Environmental SARF'!$F$11<>\"4) NA\",'Environmental SARF'!$F$11<>\"4) ...\"), \"   \"&CONCATENATE('Environmental SARF'!$K$18,'Environmental SARF'!$K$19),\"\")& IF(AND(NOT(ISBLANK('Environmental SARF'!L52)),'Environmental SARF'!$F$12<>\"5) NA\",'Environmental SARF'!$F$12<>\"5) ...\"), \"   \"&CONCATENATE('Environmental SARF'!$L$18,'Environmental SARF'!$L$19),\"\")&IF(AND(NOT(ISBLANK('Environmental SARF'!M52)),'Environmental SARF'!$F$13<>\"6) NA\",'Environmental SARF'!$F$13<>\"6) ...\"), \"   \"&CONCATENATE('Environmental SARF'!$M$18,'Environmental SARF'!$M$19),\"\")&IF(AND(NOT(ISBLANK('Environmental SARF'!N52)),'Environmental SARF'!$F$14<>\"7) NA\",'Environmental SARF'!$F$14<>\"7) ...\"), \"   \"&CONCATENATE('Environmental SARF'!$N$18,'Environmental SARF'!$N$19),\"\") &IF(AND(NOT(ISBLANK('Environmental SARF'!O52)),'Environmental SARF'!$F$15<>\"8) NA\",'Environmental SARF'!$F$15<>\"8) ...\"), \"   \"&CONCATENATE('Environmental SARF'!$O$18,'Environmental SARF'!$O$19),\"\"))","v":""}]
[{"$f":"IF(C35=\"\",\"\",IF('Environmental SARF'!B53=\"\",\"\",'Environmental SARF'!B53))","v":""},"",{"$f":"IF('Environmental SARF'!C53=\"\",\"\",'Environmental SARF'!C53)","v":""},{"$f":"IF(C35=\"\",\"\",IF('Environmental SARF'!D53=\"\",'Environmental SARF'!$C$10,'Environmental SARF'!D53))","v":""},{"$f":"IF(B35=\"\",\"\",IF('Environmental SARF'!E53=\"\",\"\",'Environmental SARF'!E53))","v":""},{"$f":"IF(B35=\"\",\"\",IF('Environmental SARF'!F53=\"\",\"\",'Environmental SARF'!F53))","v":""},{"$f":"IF(B35=\"\",\"\",IF('Environmental SARF'!G53=\"\",\"\",'Environmental SARF'!G53))","v":""},{"$f":"IF(C35=\"\",\"\",IF('Environmental SARF'!$N$6=\"\",\"\",CONCATENATE('Environmental SARF'!$N$6,'Environmental SARF'!$O$6)))","v":""},{"$f":"IF(C35=\"\",\"\",IF('Environmental SARF'!$N$2=\"\",\"\",'Environmental SARF'!$N$2))","v":""},{"$f":"IF(C35=\"\",\"\",IF('Environmental SARF'!$N$4=\"\",NOW(),'Environmental SARF'!$N$4))","v":""},"",{"$f":"IF(C35=\"\",\"\", IF(AND(NOT(ISBLANK('Environmental SARF'!H53)),'Environmental SARF'!$F$8<>\"1) NA\",'Environmental SARF'!$F$8<>\"1) ...\"), \"   \"&CONCATENATE('Environmental SARF'!$H$18,'Environmental SARF'!$H$19),\"\") & IF(AND(NOT(ISBLANK('Environmental SARF'!I53)),'Environmental SARF'!$F$9<>\"2) NA\",'Environmental SARF'!$F$9<>\"2) ...\"), \"   \"&CONCATENATE('Environmental SARF'!$I$18,'Environmental SARF'!$I$19),\"\")& IF(AND(NOT(ISBLANK('Environmental SARF'!J53)),'Environmental SARF'!$F$10<>\"3) NA\",'Environmental SARF'!$F$10<>\"3) ...\"), \"   \"&CONCATENATE('Environmental SARF'!$J$18,'Environmental SARF'!$J$19),\"\") & IF(AND(NOT(ISBLANK('Environmental SARF'!K53)),'Environmental SARF'!$F$11<>\"4) NA\",'Environmental SARF'!$F$11<>\"4) ...\"), \"   \"&CONCATENATE('Environmental SARF'!$K$18,'Environmental SARF'!$K$19),\"\")& IF(AND(NOT(ISBLANK('Environmental SARF'!L53)),'Environmental SARF'!$F$12<>\"5) NA\",'Environmental SARF'!$F$12<>\"5) ...\"), \"   \"&CONCATENATE('Environmental SARF'!$L$18,'Environmental SARF'!$L$19),\"\")&IF(AND(NOT(ISBLANK('Environmental SARF'!M53)),'Environmental SARF'!$F$13<>\"6) NA\",'Environmental SARF'!$F$13<>\"6) ...\"), \"   \"&CONCATENATE('Environmental SARF'!$M$18,'Environmental SARF'!$M$19),\"\")&IF(AND(NOT(ISBLANK('Environmental SARF'!N53)),'Environmental SARF'!$F$14<>\"7) NA\",'Environmental SARF'!$F$14<>\"7) ...\"), \"   \"&CONCATENATE('Environmental SARF'!$N$18,'Environmental SARF'!$N$19),\"\") &IF(AND(NOT(ISBLANK('Environmental SARF'!O53)),'Environmental SARF'!$F$15<>\"8) NA\",'Environmental SARF'!$F$15<>\"8) ...\"), \"   \"&CONCATENATE('Environmental SARF'!$O$18,'Environmental SARF'!$O$19),\"\"))","v":""}]
[{"$f":"IF(C36=\"\",\"\",IF('Environmental SARF'!B54=\"\",\"\",'Environmental SARF'!B54))","v":""},"",{"$f":"IF('Environmental SARF'!C54=\"\",\"\",'Environmental SARF'!C54)","v":""},{"$f":"IF(C36=\"\",\"\",IF('Environmental SARF'!D54=\"\",'Environmental SARF'!$C$10,'Environmental SARF'!D54))","v":""},{"$f":"IF(B36=\"\",\"\",IF('Environmental SARF'!E54=\"\",\"\",'Environmental SARF'!E54))","v":""},{"$f":"IF(B36=\"\",\"\",IF('Environmental SARF'!F54=\"\",\"\",'Environmental SARF'!F54))","v":""},{"$f":"IF(B36=\"\",\"\",IF('Environmental SARF'!G54=\"\",\"\",'Environmental SARF'!G54))","v":""},{"$f":"IF(C36=\"\",\"\",IF('Environmental SARF'!$N$6=\"\",\"\",CONCATENATE('Environmental SARF'!$N$6,'Environmental SARF'!$O$6)))","v":""},{"$f":"IF(C36=\"\",\"\",IF('Environmental SARF'!$N$2=\"\",\"\",'Environmental SARF'!$N$2))","v":""},{"$f":"IF(C36=\"\",\"\",IF('Environmental SARF'!$N$4=\"\",NOW(),'Environmental SARF'!$N$4))","v":""},"",{"$f":"IF(C36=\"\",\"\", IF(AND(NOT(ISBLANK('Environmental SARF'!H54)),'Environmental SARF'!$F$8<>\"1) NA\",'Environmental SARF'!$F$8<>\"1) ...\"), \"   \"&CONCATENATE('Environmental SARF'!$H$18,'Environmental SARF'!$H$19),\"\") & IF(AND(NOT(ISBLANK('Environmental SARF'!I54)),'Environmental SARF'!$F$9<>\"2) NA\",'Environmental SARF'!$F$9<>\"2) ...\"), \"   \"&CONCATENATE('Environmental SARF'!$I$18,'Environmental SARF'!$I$19),\"\")& IF(AND(NOT(ISBLANK('Environmental SARF'!J54)),'Environmental SARF'!$F$10<>\"3) NA\",'Environmental SARF'!$F$10<>\"3) ...\"), \"   \"&CONCATENATE('Environmental SARF'!$J$18,'Environmental SARF'!$J$19),\"\") & IF(AND(NOT(ISBLANK('Environmental SARF'!K54)),'Environmental SARF'!$F$11<>\"4) NA\",'Environmental SARF'!$F$11<>\"4) ...\"), \"   \"&CONCATENATE('Environmental SARF'!$K$18,'Environmental SARF'!$K$19),\"\")& IF(AND(NOT(ISBLANK('Environmental SARF'!L54)),'Environmental SARF'!$F$12<>\"5) NA\",'Environmental SARF'!$F$12<>\"5) ...\"), \"   \"&CONCATENATE('Environmental SARF'!$L$18,'Environmental SARF'!$L$19),\"\")&IF(AND(NOT(ISBLANK('Environmental SARF'!M54)),'Environmental SARF'!$F$13<>\"6) NA\",'Environmental SARF'!$F$13<>\"6) ...\"), \"   \"&CONCATENATE('Environmental SARF'!$M$18,'Environmental SARF'!$M$19),\"\")&IF(AND(NOT(ISBLANK('Environmental SARF'!N54)),'Environmental SARF'!$F$14<>\"7) NA\",'Environmental SARF'!$F$14<>\"7) ...\"), \"   \"&CONCATENATE('Environmental SARF'!$N$18,'Environmental SARF'!$N$19),\"\") &IF(AND(NOT(ISBLANK('Environmental SARF'!O54)),'Environmental SARF'!$F$15<>\"8) NA\",'Environmental SARF'!$F$15<>\"8) ...\"), \"   \"&CONCATENATE('Environmental SARF'!$O$18,'Environmental SARF'!$O$19),\"\"))","v":""}]
[{"$f":"IF(C37=\"\",\"\",IF('Environmental SARF'!B55=\"\",\"\",'Environmental SARF'!B55))","v":""},"",{"$f":"IF('Environmental SARF'!C55=\"\",\"\",'Environmental SARF'!C55)","v":""},{"$f":"IF(C37=\"\",\"\",IF('Environmental SARF'!D55=\"\",'Environmental SARF'!$C$10,'Environmental SARF'!D55))","v":""},{"$f":"IF(B37=\"\",\"\",IF('Environmental SARF'!E55=\"\",\"\",'Environmental SARF'!E55))","v":""},{"$f":"IF(B37=\"\",\"\",IF('Environmental SARF'!F55=\"\",\"\",'Environmental SARF'!F55))","v":""},{"$f":"IF(B37=\"\",\"\",IF('Environmental SARF'!G55=\"\",\"\",'Environmental SARF'!G55))","v":""},{"$f":"IF(C37=\"\",\"\",IF('Environmental SARF'!$N$6=\"\",\"\",CONCATENATE('Environmental SARF'!$N$6,'Environmental SARF'!$O$6)))","v":""},{"$f":"IF(C37=\"\",\"\",IF('Environmental SARF'!$N$2=\"\",\"\",'Environmental SARF'!$N$2))","v":""},{"$f":"IF(C37=\"\",\"\",IF('Environmental SARF'!$N$4=\"\",NOW(),'Environmental SARF'!$N$4))","v":""},"",{"$f":"IF(C37=\"\",\"\", IF(AND(NOT(ISBLANK('Environmental SARF'!H55)),'Environmental SARF'!$F$8<>\"1) NA\",'Environmental SARF'!$F$8<>\"1) ...\"), \"   \"&CONCATENATE('Environmental SARF'!$H$18,'Environmental SARF'!$H$19),\"\") & IF(AND(NOT(ISBLANK('Environmental SARF'!I55)),'Environmental SARF'!$F$9<>\"2) NA\",'Environmental SARF'!$F$9<>\"2) ...\"), \"   \"&CONCATENATE('Environmental SARF'!$I$18,'Environmental SARF'!$I$19),\"\")& IF(AND(NOT(ISBLANK('Environmental SARF'!J55)),'Environmental SARF'!$F$10<>\"3) NA\",'Environmental SARF'!$F$10<>\"3) ...\"), \"   \"&CONCATENATE('Environmental SARF'!$J$18,'Environmental SARF'!$J$19),\"\") & IF(AND(NOT(ISBLANK('Environmental SARF'!K55)),'Environmental SARF'!$F$11<>\"4) NA\",'Environmental SARF'!$F$11<>\"4) ...\"), \"   \"&CONCATENATE('Environmental SARF'!$K$18,'Environmental SARF'!$K$19),\"\")& IF(AND(NOT(ISBLANK('Environmental SARF'!L55)),'Environmental SARF'!$F$12<>\"5) NA\",'Environmental SARF'!$F$12<>\"5) ...\"), \"   \"&CONCATENATE('Environmental SARF'!$L$18,'Environmental SARF'!$L$19),\"\")&IF(AND(NOT(ISBLANK('Environmental SARF'!M55)),'Environmental SARF'!$F$13<>\"6) NA\",'Environmental SARF'!$F$13<>\"6) ...\"), \"   \"&CONCATENATE('Environmental SARF'!$M$18,'Environmental SARF'!$M$19),\"\")&IF(AND(NOT(ISBLANK('Environmental SARF'!N55)),'Environmental SARF'!$F$14<>\"7) NA\",'Environmental SARF'!$F$14<>\"7) ...\"), \"   \"&CONCATENATE('Environmental SARF'!$N$18,'Environmental SARF'!$N$19),\"\") &IF(AND(NOT(ISBLANK('Environmental SARF'!O55)),'Environmental SARF'!$F$15<>\"8) NA\",'Environmental SARF'!$F$15<>\"8) ...\"), \"   \"&CONCATENATE('Environmental SARF'!$O$18,'Environmental SARF'!$O$19),\"\"))","v":""}]
[{"$f":"IF(C38=\"\",\"\",IF('Environmental SARF'!B56=\"\",\"\",'Environmental SARF'!B56))","v":""},"",{"$f":"IF('Environmental SARF'!C56=\"\",\"\",'Environmental SARF'!C56)","v":""},{"$f":"IF(C38=\"\",\"\",IF('Environmental SARF'!D56=\"\",'Environmental SARF'!$C$10,'Environmental SARF'!D56))","v":""},{"$f":"IF(B38=\"\",\"\",IF('Environmental SARF'!E56=\"\",\"\",'Environmental SARF'!E56))","v":""},{"$f":"IF(B38=\"\",\"\",IF('Environmental SARF'!F56=\"\",\"\",'Environmental SARF'!F56))","v":""},{"$f":"IF(B38=\"\",\"\",IF('Environmental SARF'!G56=\"\",\"\",'Environmental SARF'!G56))","v":""},{"$f":"IF(C38=\"\",\"\",IF('Environmental SARF'!$N$6=\"\",\"\",CONCATENATE('Environmental SARF'!$N$6,'Environmental SARF'!$O$6)))","v":""},{"$f":"IF(C38=\"\",\"\",IF('Environmental SARF'!$N$2=\"\",\"\",'Environmental SARF'!$N$2))","v":""},{"$f":"IF(C38=\"\",\"\",IF('Environmental SARF'!$N$4=\"\",NOW(),'Environmental SARF'!$N$4))","v":""},"",{"$f":"IF(C38=\"\",\"\", IF(AND(NOT(ISBLANK('Environmental SARF'!H56)),'Environmental SARF'!$F$8<>\"1) NA\",'Environmental SARF'!$F$8<>\"1) ...\"), \"   \"&CONCATENATE('Environmental SARF'!$H$18,'Environmental SARF'!$H$19),\"\") & IF(AND(NOT(ISBLANK('Environmental SARF'!I56)),'Environmental SARF'!$F$9<>\"2) NA\",'Environmental SARF'!$F$9<>\"2) ...\"), \"   \"&CONCATENATE('Environmental SARF'!$I$18,'Environmental SARF'!$I$19),\"\")& IF(AND(NOT(ISBLANK('Environmental SARF'!J56)),'Environmental SARF'!$F$10<>\"3) NA\",'Environmental SARF'!$F$10<>\"3) ...\"), \"   \"&CONCATENATE('Environmental SARF'!$J$18,'Environmental SARF'!$J$19),\"\") & IF(AND(NOT(ISBLANK('Environmental SARF'!K56)),'Environmental SARF'!$F$11<>\"4) NA\",'Environmental SARF'!$F$11<>\"4) ...\"), \"   \"&CONCATENATE('Environmental SARF'!$K$18,'Environmental SARF'!$K$19),\"\")& IF(AND(NOT(ISBLANK('Environmental SARF'!L56)),'Environmental SARF'!$F$12<>\"5) NA\",'Environmental SARF'!$F$12<>\"5) ...\"), \"   \"&CONCATENATE('Environmental SARF'!$L$18,'Environmental SARF'!$L$19),\"\")&IF(AND(NOT(ISBLANK('Environmental SARF'!M56)),'Environmental SARF'!$F$13<>\"6) NA\",'Environmental SARF'!$F$13<>\"6) ...\"), \"   \"&CONCATENATE('Environmental SARF'!$M$18,'Environmental SARF'!$M$19),\"\")&IF(AND(NOT(ISBLANK('Environmental SARF'!N56)),'Environmental SARF'!$F$14<>\"7) NA\",'Environmental SARF'!$F$14<>\"7) ...\"), \"   \"&CONCATENATE('Environmental SARF'!$N$18,'Environmental SARF'!$N$19),\"\") &IF(AND(NOT(ISBLANK('Environmental SARF'!O56)),'Environmental SARF'!$F$15<>\"8) NA\",'Environmental SARF'!$F$15<>\"8) ...\"), \"   \"&CONCATENATE('Environmental SARF'!$O$18,'Environmental SARF'!$O$19),\"\"))","v":""}]
[{"$f":"IF(C39=\"\",\"\",IF('Environmental SARF'!B57=\"\",\"\",'Environmental SARF'!B57))","v":""},"",{"$f":"IF('Environmental SARF'!C57=\"\",\"\",'Environmental SARF'!C57)","v":""},{"$f":"IF(C39=\"\",\"\",IF('Environmental SARF'!D57=\"\",'Environmental SARF'!$C$10,'Environmental SARF'!D57))","v":""},{"$f":"IF(B39=\"\",\"\",IF('Environmental SARF'!E57=\"\",\"\",'Environmental SARF'!E57))","v":""},{"$f":"IF(B39=\"\",\"\",IF('Environmental SARF'!F57=\"\",\"\",'Environmental SARF'!F57))","v":""},{"$f":"IF(B39=\"\",\"\",IF('Environmental SARF'!G57=\"\",\"\",'Environmental SARF'!G57))","v":""},{"$f":"IF(C39=\"\",\"\",IF('Environmental SARF'!$N$6=\"\",\"\",CONCATENATE('Environmental SARF'!$N$6,'Environmental SARF'!$O$6)))","v":""},{"$f":"IF(C39=\"\",\"\",IF('Environmental SARF'!$N$2=\"\",\"\",'Environmental SARF'!$N$2))","v":""},{"$f":"IF(C39=\"\",\"\",IF('Environmental SARF'!$N$4=\"\",NOW(),'Environmental SARF'!$N$4))","v":""},"",{"$f":"IF(C39=\"\",\"\", IF(AND(NOT(ISBLANK('Environmental SARF'!H57)),'Environmental SARF'!$F$8<>\"1) NA\",'Environmental SARF'!$F$8<>\"1) ...\"), \"   \"&CONCATENATE('Environmental SARF'!$H$18,'Environmental SARF'!$H$19),\"\") & IF(AND(NOT(ISBLANK('Environmental SARF'!I57)),'Environmental SARF'!$F$9<>\"2) NA\",'Environmental SARF'!$F$9<>\"2) ...\"), \"   \"&CONCATENATE('Environmental SARF'!$I$18,'Environmental SARF'!$I$19),\"\")& IF(AND(NOT(ISBLANK('Environmental SARF'!J57)),'Environmental SARF'!$F$10<>\"3) NA\",'Environmental SARF'!$F$10<>\"3) ...\"), \"   \"&CONCATENATE('Environmental SARF'!$J$18,'Environmental SARF'!$J$19),\"\") & IF(AND(NOT(ISBLANK('Environmental SARF'!K57)),'Environmental SARF'!$F$11<>\"4) NA\",'Environmental SARF'!$F$11<>\"4) ...\"), \"   \"&CONCATENATE('Environmental SARF'!$K$18,'Environmental SARF'!$K$19),\"\")& IF(AND(NOT(ISBLANK('Environmental SARF'!L57)),'Environmental SARF'!$F$12<>\"5) NA\",'Environmental SARF'!$F$12<>\"5) ...\"), \"   \"&CONCATENATE('Environmental SARF'!$L$18,'Environmental SARF'!$L$19),\"\")&IF(AND(NOT(ISBLANK('Environmental SARF'!M57)),'Environmental SARF'!$F$13<>\"6) NA\",'Environmental SARF'!$F$13<>\"6) ...\"), \"   \"&CONCATENATE('Environmental SARF'!$M$18,'Environmental SARF'!$M$19),\"\")&IF(AND(NOT(ISBLANK('Environmental SARF'!N57)),'Environmental SARF'!$F$14<>\"7) NA\",'Environmental SARF'!$F$14<>\"7) ...\"), \"   \"&CONCATENATE('Environmental SARF'!$N$18,'Environmental SARF'!$N$19),\"\") &IF(AND(NOT(ISBLANK('Environmental SARF'!O57)),'Environmental SARF'!$F$15<>\"8) NA\",'Environmental SARF'!$F$15<>\"8) ...\"), \"   \"&CONCATENATE('Environmental SARF'!$O$18,'Environmental SARF'!$O$19),\"\"))","v":""}]
[{"$f":"IF(C40=\"\",\"\",IF('Environmental SARF'!B58=\"\",\"\",'Environmental SARF'!B58))","v":""},"",{"$f":"IF('Environmental SARF'!C58=\"\",\"\",'Environmental SARF'!C58)","v":""},{"$f":"IF(C40=\"\",\"\",IF('Environmental SARF'!D58=\"\",'Environmental SARF'!$C$10,'Environmental SARF'!D58))","v":""},{"$f":"IF(B40=\"\",\"\",IF('Environmental SARF'!E58=\"\",\"\",'Environmental SARF'!E58))","v":""},{"$f":"IF(B40=\"\",\"\",IF('Environmental SARF'!F58=\"\",\"\",'Environmental SARF'!F58))","v":""},{"$f":"IF(B40=\"\",\"\",IF('Environmental SARF'!G58=\"\",\"\",'Environmental SARF'!G58))","v":""},{"$f":"IF(C40=\"\",\"\",IF('Environmental SARF'!$N$6=\"\",\"\",CONCATENATE('Environmental SARF'!$N$6,'Environmental SARF'!$O$6)))","v":""},{"$f":"IF(C40=\"\",\"\",IF('Environmental SARF'!$N$2=\"\",\"\",'Environmental SARF'!$N$2))","v":""},{"$f":"IF(C40=\"\",\"\",IF('Environmental SARF'!$N$4=\"\",NOW(),'Environmental SARF'!$N$4))","v":""},"",{"$f":"IF(C40=\"\",\"\", IF(AND(NOT(ISBLANK('Environmental SARF'!H58)),'Environmental SARF'!$F$8<>\"1) NA\",'Environmental SARF'!$F$8<>\"1) ...\"), \"   \"&CONCATENATE('Environmental SARF'!$H$18,'Environmental SARF'!$H$19),\"\") & IF(AND(NOT(ISBLANK('Environmental SARF'!I58)),'Environmental SARF'!$F$9<>\"2) NA\",'Environmental SARF'!$F$9<>\"2) ...\"), \"   \"&CONCATENATE('Environmental SARF'!$I$18,'Environmental SARF'!$I$19),\"\")& IF(AND(NOT(ISBLANK('Environmental SARF'!J58)),'Environmental SARF'!$F$10<>\"3) NA\",'Environmental SARF'!$F$10<>\"3) ...\"), \"   \"&CONCATENATE('Environmental SARF'!$J$18,'Environmental SARF'!$J$19),\"\") & IF(AND(NOT(ISBLANK('Environmental SARF'!K58)),'Environmental SARF'!$F$11<>\"4) NA\",'Environmental SARF'!$F$11<>\"4) ...\"), \"   \"&CONCATENATE('Environmental SARF'!$K$18,'Environmental SARF'!$K$19),\"\")& IF(AND(NOT(ISBLANK('Environmental SARF'!L58)),'Environmental SARF'!$F$12<>\"5) NA\",'Environmental SARF'!$F$12<>\"5) ...\"), \"   \"&CONCATENATE('Environmental SARF'!$L$18,'Environmental SARF'!$L$19),\"\")&IF(AND(NOT(ISBLANK('Environmental SARF'!M58)),'Environmental SARF'!$F$13<>\"6) NA\",'Environmental SARF'!$F$13<>\"6) ...\"), \"   \"&CONCATENATE('Environmental SARF'!$M$18,'Environmental SARF'!$M$19),\"\")&IF(AND(NOT(ISBLANK('Environmental SARF'!N58)),'Environmental SARF'!$F$14<>\"7) NA\",'Environmental SARF'!$F$14<>\"7) ...\"), \"   \"&CONCATENATE('Environmental SARF'!$N$18,'Environmental SARF'!$N$19),\"\") &IF(AND(NOT(ISBLANK('Environmental SARF'!O58)),'Environmental SARF'!$F$15<>\"8) NA\",'Environmental SARF'!$F$15<>\"8) ...\"), \"   \"&CONCATENATE('Environmental SARF'!$O$18,'Environmental SARF'!$O$19),\"\"))","v":""}]
[{"$f":"IF(C41=\"\",\"\",IF('Environmental SARF'!B59=\"\",\"\",'Environmental SARF'!B59))","v":""},"",{"$f":"IF('Environmental SARF'!C59=\"\",\"\",'Environmental SARF'!C59)","v":""},{"$f":"IF(C41=\"\",\"\",IF('Environmental SARF'!D59=\"\",'Environmental SARF'!$C$10,'Environmental SARF'!D59))","v":""},{"$f":"IF(B41=\"\",\"\",IF('Environmental SARF'!E59=\"\",\"\",'Environmental SARF'!E59))","v":""},{"$f":"IF(B41=\"\",\"\",IF('Environmental SARF'!F59=\"\",\"\",'Environmental SARF'!F59))","v":""},{"$f":"IF(B41=\"\",\"\",IF('Environmental SARF'!G59=\"\",\"\",'Environmental SARF'!G59))","v":""},{"$f":"IF(C41=\"\",\"\",IF('Environmental SARF'!$N$6=\"\",\"\",CONCATENATE('Environmental SARF'!$N$6,'Environmental SARF'!$O$6)))","v":""},{"$f":"IF(C41=\"\",\"\",IF('Environmental SARF'!$N$2=\"\",\"\",'Environmental SARF'!$N$2))","v":""},{"$f":"IF(C41=\"\",\"\",IF('Environmental SARF'!$N$4=\"\",NOW(),'Environmental SARF'!$N$4))","v":""},"",{"$f":"IF(C41=\"\",\"\", IF(AND(NOT(ISBLANK('Environmental SARF'!H59)),'Environmental SARF'!$F$8<>\"1) NA\",'Environmental SARF'!$F$8<>\"1) ...\"), \"   \"&CONCATENATE('Environmental SARF'!$H$18,'Environmental SARF'!$H$19),\"\") & IF(AND(NOT(ISBLANK('Environmental SARF'!I59)),'Environmental SARF'!$F$9<>\"2) NA\",'Environmental SARF'!$F$9<>\"2) ...\"), \"   \"&CONCATENATE('Environmental SARF'!$I$18,'Environmental SARF'!$I$19),\"\")& IF(AND(NOT(ISBLANK('Environmental SARF'!J59)),'Environmental SARF'!$F$10<>\"3) NA\",'Environmental SARF'!$F$10<>\"3) ...\"), \"   \"&CONCATENATE('Environmental SARF'!$J$18,'Environmental SARF'!$J$19),\"\") & IF(AND(NOT(ISBLANK('Environmental SARF'!K59)),'Environmental SARF'!$F$11<>\"4) NA\",'Environmental SARF'!$F$11<>\"4) ...\"), \"   \"&CONCATENATE('Environmental SARF'!$K$18,'Environmental SARF'!$K$19),\"\")& IF(AND(NOT(ISBLANK('Environmental SARF'!L59)),'Environmental SARF'!$F$12<>\"5) NA\",'Environmental SARF'!$F$12<>\"5) ...\"), \"   \"&CONCATENATE('Environmental SARF'!$L$18,'Environmental SARF'!$L$19),\"\")&IF(AND(NOT(ISBLANK('Environmental SARF'!M59)),'Environmental SARF'!$F$13<>\"6) NA\",'Environmental SARF'!$F$13<>\"6) ...\"), \"   \"&CONCATENATE('Environmental SARF'!$M$18,'Environmental SARF'!$M$19),\"\")&IF(AND(NOT(ISBLANK('Environmental SARF'!N59)),'Environmental SARF'!$F$14<>\"7) NA\",'Environmental SARF'!$F$14<>\"7) ...\"), \"   \"&CONCATENATE('Environmental SARF'!$N$18,'Environmental SARF'!$N$19),\"\") &IF(AND(NOT(ISBLANK('Environmental SARF'!O59)),'Environmental SARF'!$F$15<>\"8) NA\",'Environmental SARF'!$F$15<>\"8) ...\"), \"   \"&CONCATENATE('Environmental SARF'!$O$18,'Environmental SARF'!$O$19),\"\"))","v":""}]
[{"$f":"IF(C42=\"\",\"\",IF('Environmental SARF'!B60=\"\",\"\",'Environmental SARF'!B60))","v":""},"",{"$f":"IF('Environmental SARF'!C60=\"\",\"\",'Environmental SARF'!C60)","v":""},{"$f":"IF(C42=\"\",\"\",IF('Environmental SARF'!D60=\"\",'Environmental SARF'!$C$10,'Environmental SARF'!D60))","v":""},{"$f":"IF(B42=\"\",\"\",IF('Environmental SARF'!E60=\"\",\"\",'Environmental SARF'!E60))","v":""},{"$f":"IF(B42=\"\",\"\",IF('Environmental SARF'!F60=\"\",\"\",'Environmental SARF'!F60))","v":""},{"$f":"IF(B42=\"\",\"\",IF('Environmental SARF'!G60=\"\",\"\",'Environmental SARF'!G60))","v":""},{"$f":"IF(C42=\"\",\"\",IF('Environmental SARF'!$N$6=\"\",\"\",CONCATENATE('Environmental SARF'!$N$6,'Environmental SARF'!$O$6)))","v":""},{"$f":"IF(C42=\"\",\"\",IF('Environmental SARF'!$N$2=\"\",\"\",'Environmental SARF'!$N$2))","v":""},{"$f":"IF(C42=\"\",\"\",IF('Environmental SARF'!$N$4=\"\",NOW(),'Environmental SARF'!$N$4))","v":""},"",{"$f":"IF(C42=\"\",\"\", IF(AND(NOT(ISBLANK('Environmental SARF'!H60)),'Environmental SARF'!$F$8<>\"1) NA\",'Environmental SARF'!$F$8<>\"1) ...\"), \"   \"&CONCATENATE('Environmental SARF'!$H$18,'Environmental SARF'!$H$19),\"\") & IF(AND(NOT(ISBLANK('Environmental SARF'!I60)),'Environmental SARF'!$F$9<>\"2) NA\",'Environmental SARF'!$F$9<>\"2) ...\"), \"   \"&CONCATENATE('Environmental SARF'!$I$18,'Environmental SARF'!$I$19),\"\")& IF(AND(NOT(ISBLANK('Environmental SARF'!J60)),'Environmental SARF'!$F$10<>\"3) NA\",'Environmental SARF'!$F$10<>\"3) ...\"), \"   \"&CONCATENATE('Environmental SARF'!$J$18,'Environmental SARF'!$J$19),\"\") & IF(AND(NOT(ISBLANK('Environmental SARF'!K60)),'Environmental SARF'!$F$11<>\"4) NA\",'Environmental SARF'!$F$11<>\"4) ...\"), \"   \"&CONCATENATE('Environmental SARF'!$K$18,'Environmental SARF'!$K$19),\"\")& IF(AND(NOT(ISBLANK('Environmental SARF'!L60)),'Environmental SARF'!$F$12<>\"5) NA\",'Environmental SARF'!$F$12<>\"5) ...\"), \"   \"&CONCATENATE('Environmental SARF'!$L$18,'Environmental SARF'!$L$19),\"\")&IF(AND(NOT(ISBLANK('Environmental SARF'!M60)),'Environmental SARF'!$F$13<>\"6) NA\",'Environmental SARF'!$F$13<>\"6) ...\"), \"   \"&CONCATENATE('Environmental SARF'!$M$18,'Environmental SARF'!$M$19),\"\")&IF(AND(NOT(ISBLANK('Environmental SARF'!N60)),'Environmental SARF'!$F$14<>\"7) NA\",'Environmental SARF'!$F$14<>\"7) ...\"), \"   \"&CONCATENATE('Environmental SARF'!$N$18,'Environmental SARF'!$N$19),\"\") &IF(AND(NOT(ISBLANK('Environmental SARF'!O60)),'Environmental SARF'!$F$15<>\"8) NA\",'Environmental SARF'!$F$15<>\"8) ...\"), \"   \"&CONCATENATE('Environmental SARF'!$O$18,'Environmental SARF'!$O$19),\"\"))","v":""}]
[{"$f":"IF(C43=\"\",\"\",IF('Environmental SARF'!B61=\"\",\"\",'Environmental SARF'!B61))","v":""},"",{"$f":"IF('Environmental SARF'!C61=\"\",\"\",'Environmental SARF'!C61)","v":""},{"$f":"IF(C43=\"\",\"\",IF('Environmental SARF'!D61=\"\",'Environmental SARF'!$C$10,'Environmental SARF'!D61))","v":""},{"$f":"IF(B43=\"\",\"\",IF('Environmental SARF'!E61=\"\",\"\",'Environmental SARF'!E61))","v":""},{"$f":"IF(B43=\"\",\"\",IF('Environmental SARF'!F61=\"\",\"\",'Environmental SARF'!F61))","v":""},{"$f":"IF(B43=\"\",\"\",IF('Environmental SARF'!G61=\"\",\"\",'Environmental SARF'!G61))","v":""},{"$f":"IF(C43=\"\",\"\",IF('Environmental SARF'!$N$6=\"\",\"\",CONCATENATE('Environmental SARF'!$N$6,'Environmental SARF'!$O$6)))","v":""},{"$f":"IF(C43=\"\",\"\",IF('Environmental SARF'!$N$2=\"\",\"\",'Environmental SARF'!$N$2))","v":""},{"$f":"IF(C43=\"\",\"\",IF('Environmental SARF'!$N$4=\"\",NOW(),'Environmental SARF'!$N$4))","v":""},"",{"$f":"IF(C43=\"\",\"\", IF(AND(NOT(ISBLANK('Environmental SARF'!H61)),'Environmental SARF'!$F$8<>\"1) NA\",'Environmental SARF'!$F$8<>\"1) ...\"), \"   \"&CONCATENATE('Environmental SARF'!$H$18,'Environmental SARF'!$H$19),\"\") & IF(AND(NOT(ISBLANK('Environmental SARF'!I61)),'Environmental SARF'!$F$9<>\"2) NA\",'Environmental SARF'!$F$9<>\"2) ...\"), \"   \"&CONCATENATE('Environmental SARF'!$I$18,'Environmental SARF'!$I$19),\"\")& IF(AND(NOT(ISBLANK('Environmental SARF'!J61)),'Environmental SARF'!$F$10<>\"3) NA\",'Environmental SARF'!$F$10<>\"3) ...\"), \"   \"&CONCATENATE('Environmental SARF'!$J$18,'Environmental SARF'!$J$19),\"\") & IF(AND(NOT(ISBLANK('Environmental SARF'!K61)),'Environmental SARF'!$F$11<>\"4) NA\",'Environmental SARF'!$F$11<>\"4) ...\"), \"   \"&CONCATENATE('Environmental SARF'!$K$18,'Environmental SARF'!$K$19),\"\")& IF(AND(NOT(ISBLANK('Environmental SARF'!L61)),'Environmental SARF'!$F$12<>\"5) NA\",'Environmental SARF'!$F$12<>\"5) ...\"), \"   \"&CONCATENATE('Environmental SARF'!$L$18,'Environmental SARF'!$L$19),\"\")&IF(AND(NOT(ISBLANK('Environmental SARF'!M61)),'Environmental SARF'!$F$13<>\"6) NA\",'Environmental SARF'!$F$13<>\"6) ...\"), \"   \"&CONCATENATE('Environmental SARF'!$M$18,'Environmental SARF'!$M$19),\"\")&IF(AND(NOT(ISBLANK('Environmental SARF'!N61)),'Environmental SARF'!$F$14<>\"7) NA\",'Environmental SARF'!$F$14<>\"7) ...\"), \"   \"&CONCATENATE('Environmental SARF'!$N$18,'Environmental SARF'!$N$19),\"\") &IF(AND(NOT(ISBLANK('Environmental SARF'!O61)),'Environmental SARF'!$F$15<>\"8) NA\",'Environmental SARF'!$F$15<>\"8) ...\"), \"   \"&CONCATENATE('Environmental SARF'!$O$18,'Environmental SARF'!$O$19),\"\"))","v":""}]
[{"$f":"IF(C44=\"\",\"\",IF('Environmental SARF'!B62=\"\",\"\",'Environmental SARF'!B62))","v":""},"",{"$f":"IF('Environmental SARF'!C62=\"\",\"\",'Environmental SARF'!C62)","v":""},{"$f":"IF(C44=\"\",\"\",IF('Environmental SARF'!D62=\"\",'Environmental SARF'!$C$10,'Environmental SARF'!D62))","v":""},{"$f":"IF(B44=\"\",\"\",IF('Environmental SARF'!E62=\"\",\"\",'Environmental SARF'!E62))","v":""},{"$f":"IF(B44=\"\",\"\",IF('Environmental SARF'!F62=\"\",\"\",'Environmental SARF'!F62))","v":""},{"$f":"IF(B44=\"\",\"\",IF('Environmental SARF'!G62=\"\",\"\",'Environmental SARF'!G62))","v":""},{"$f":"IF(C44=\"\",\"\",IF('Environmental SARF'!$N$6=\"\",\"\",CONCATENATE('Environmental SARF'!$N$6,'Environmental SARF'!$O$6)))","v":""},{"$f":"IF(C44=\"\",\"\",IF('Environmental SARF'!$N$2=\"\",\"\",'Environmental SARF'!$N$2))","v":""},{"$f":"IF(C44=\"\",\"\",IF('Environmental SARF'!$N$4=\"\",NOW(),'Environmental SARF'!$N$4))","v":""},"",{"$f":"IF(C44=\"\",\"\", IF(AND(NOT(ISBLANK('Environmental SARF'!H62)),'Environmental SARF'!$F$8<>\"1) NA\",'Environmental SARF'!$F$8<>\"1) ...\"), \"   \"&CONCATENATE('Environmental SARF'!$H$18,'Environmental SARF'!$H$19),\"\") & IF(AND(NOT(ISBLANK('Environmental SARF'!I62)),'Environmental SARF'!$F$9<>\"2) NA\",'Environmental SARF'!$F$9<>\"2) ...\"), \"   \"&CONCATENATE('Environmental SARF'!$I$18,'Environmental SARF'!$I$19),\"\")& IF(AND(NOT(ISBLANK('Environmental SARF'!J62)),'Environmental SARF'!$F$10<>\"3) NA\",'Environmental SARF'!$F$10<>\"3) ...\"), \"   \"&CONCATENATE('Environmental SARF'!$J$18,'Environmental SARF'!$J$19),\"\") & IF(AND(NOT(ISBLANK('Environmental SARF'!K62)),'Environmental SARF'!$F$11<>\"4) NA\",'Environmental SARF'!$F$11<>\"4) ...\"), \"   \"&CONCATENATE('Environmental SARF'!$K$18,'Environmental SARF'!$K$19),\"\")& IF(AND(NOT(ISBLANK('Environmental SARF'!L62)),'Environmental SARF'!$F$12<>\"5) NA\",'Environmental SARF'!$F$12<>\"5) ...\"), \"   \"&CONCATENATE('Environmental SARF'!$L$18,'Environmental SARF'!$L$19),\"\")&IF(AND(NOT(ISBLANK('Environmental SARF'!M62)),'Environmental SARF'!$F$13<>\"6) NA\",'Environmental SARF'!$F$13<>\"6) ...\"), \"   \"&CONCATENATE('Environmental SARF'!$M$18,'Environmental SARF'!$M$19),\"\")&IF(AND(NOT(ISBLANK('Environmental SARF'!N62)),'Environmental SARF'!$F$14<>\"7) NA\",'Environmental SARF'!$F$14<>\"7) ...\"), \"   \"&CONCATENATE('Environmental SARF'!$N$18,'Environmental SARF'!$N$19),\"\") &IF(AND(NOT(ISBLANK('Environmental SARF'!O62)),'Environmental SARF'!$F$15<>\"8) NA\",'Environmental SARF'!$F$15<>\"8) ...\"), \"   \"&CONCATENATE('Environmental SARF'!$O$18,'Environmental SARF'!$O$19),\"\"))","v":""}]
[{"$f":"IF(C45=\"\",\"\",IF('Environmental SARF'!B63=\"\",\"\",'Environmental SARF'!B63))","v":""},"",{"$f":"IF('Environmental SARF'!C63=\"\",\"\",'Environmental SARF'!C63)","v":""},{"$f":"IF(C45=\"\",\"\",IF('Environmental SARF'!D63=\"\",'Environmental SARF'!$C$10,'Environmental SARF'!D63))","v":""},{"$f":"IF(B45=\"\",\"\",IF('Environmental SARF'!E63=\"\",\"\",'Environmental SARF'!E63))","v":""},{"$f":"IF(B45=\"\",\"\",IF('Environmental SARF'!F63=\"\",\"\",'Environmental SARF'!F63))","v":""},{"$f":"IF(B45=\"\",\"\",IF('Environmental SARF'!G63=\"\",\"\",'Environmental SARF'!G63))","v":""},{"$f":"IF(C45=\"\",\"\",IF('Environmental SARF'!$N$6=\"\",\"\",CONCATENATE('Environmental SARF'!$N$6,'Environmental SARF'!$O$6)))","v":""},{"$f":"IF(C45=\"\",\"\",IF('Environmental SARF'!$N$2=\"\",\"\",'Environmental SARF'!$N$2))","v":""},{"$f":"IF(C45=\"\",\"\",IF('Environmental SARF'!$N$4=\"\",NOW(),'Environmental SARF'!$N$4))","v":""},"",{"$f":"IF(C45=\"\",\"\", IF(AND(NOT(ISBLANK('Environmental SARF'!H63)),'Environmental SARF'!$F$8<>\"1) NA\",'Environmental SARF'!$F$8<>\"1) ...\"), \"   \"&CONCATENATE('Environmental SARF'!$H$18,'Environmental SARF'!$H$19),\"\") & IF(AND(NOT(ISBLANK('Environmental SARF'!I63)),'Environmental SARF'!$F$9<>\"2) NA\",'Environmental SARF'!$F$9<>\"2) ...\"), \"   \"&CONCATENATE('Environmental SARF'!$I$18,'Environmental SARF'!$I$19),\"\")& IF(AND(NOT(ISBLANK('Environmental SARF'!J63)),'Environmental SARF'!$F$10<>\"3) NA\",'Environmental SARF'!$F$10<>\"3) ...\"), \"   \"&CONCATENATE('Environmental SARF'!$J$18,'Environmental SARF'!$J$19),\"\") & IF(AND(NOT(ISBLANK('Environmental SARF'!K63)),'Environmental SARF'!$F$11<>\"4) NA\",'Environmental SARF'!$F$11<>\"4) ...\"), \"   \"&CONCATENATE('Environmental SARF'!$K$18,'Environmental SARF'!$K$19),\"\")& IF(AND(NOT(ISBLANK('Environmental SARF'!L63)),'Environmental SARF'!$F$12<>\"5) NA\",'Environmental SARF'!$F$12<>\"5) ...\"), \"   \"&CONCATENATE('Environmental SARF'!$L$18,'Environmental SARF'!$L$19),\"\")&IF(AND(NOT(ISBLANK('Environmental SARF'!M63)),'Environmental SARF'!$F$13<>\"6) NA\",'Environmental SARF'!$F$13<>\"6) ...\"), \"   \"&CONCATENATE('Environmental SARF'!$M$18,'Environmental SARF'!$M$19),\"\")&IF(AND(NOT(ISBLANK('Environmental SARF'!N63)),'Environmental SARF'!$F$14<>\"7) NA\",'Environmental SARF'!$F$14<>\"7) ...\"), \"   \"&CONCATENATE('Environmental SARF'!$N$18,'Environmental SARF'!$N$19),\"\") &IF(AND(NOT(ISBLANK('Environmental SARF'!O63)),'Environmental SARF'!$F$15<>\"8) NA\",'Environmental SARF'!$F$15<>\"8) ...\"), \"   \"&CONCATENATE('Environmental SARF'!$O$18,'Environmental SARF'!$O$19),\"\"))","v":""}]
[{"$f":"IF(C46=\"\",\"\",IF('Environmental SARF'!B64=\"\",\"\",'Environmental SARF'!B64))","v":""},"",{"$f":"IF('Environmental SARF'!C64=\"\",\"\",'Environmental SARF'!C64)","v":""},{"$f":"IF(C46=\"\",\"\",IF('Environmental SARF'!D64=\"\",'Environmental SARF'!$C$10,'Environmental SARF'!D64))","v":""},{"$f":"IF(B46=\"\",\"\",IF('Environmental SARF'!E64=\"\",\"\",'Environmental SARF'!E64))","v":""},{"$f":"IF(B46=\"\",\"\",IF('Environmental SARF'!F64=\"\",\"\",'Environmental SARF'!F64))","v":""},{"$f":"IF(B46=\"\",\"\",IF('Environmental SARF'!G64=\"\",\"\",'Environmental SARF'!G64))","v":""},{"$f":"IF(C46=\"\",\"\",IF('Environmental SARF'!$N$6=\"\",\"\",CONCATENATE('Environmental SARF'!$N$6,'Environmental SARF'!$O$6)))","v":""},{"$f":"IF(C46=\"\",\"\",IF('Environmental SARF'!$N$2=\"\",\"\",'Environmental SARF'!$N$2))","v":""},{"$f":"IF(C46=\"\",\"\",IF('Environmental SARF'!$N$4=\"\",NOW(),'Environmental SARF'!$N$4))","v":""},"",{"$f":"IF(C46=\"\",\"\", IF(AND(NOT(ISBLANK('Environmental SARF'!H64)),'Environmental SARF'!$F$8<>\"1) NA\",'Environmental SARF'!$F$8<>\"1) ...\"), \"   \"&CONCATENATE('Environmental SARF'!$H$18,'Environmental SARF'!$H$19),\"\") & IF(AND(NOT(ISBLANK('Environmental SARF'!I64)),'Environmental SARF'!$F$9<>\"2) NA\",'Environmental SARF'!$F$9<>\"2) ...\"), \"   \"&CONCATENATE('Environmental SARF'!$I$18,'Environmental SARF'!$I$19),\"\")& IF(AND(NOT(ISBLANK('Environmental SARF'!J64)),'Environmental SARF'!$F$10<>\"3) NA\",'Environmental SARF'!$F$10<>\"3) ...\"), \"   \"&CONCATENATE('Environmental SARF'!$J$18,'Environmental SARF'!$J$19),\"\") & IF(AND(NOT(ISBLANK('Environmental SARF'!K64)),'Environmental SARF'!$F$11<>\"4) NA\",'Environmental SARF'!$F$11<>\"4) ...\"), \"   \"&CONCATENATE('Environmental SARF'!$K$18,'Environmental SARF'!$K$19),\"\")& IF(AND(NOT(ISBLANK('Environmental SARF'!L64)),'Environmental SARF'!$F$12<>\"5) NA\",'Environmental SARF'!$F$12<>\"5) ...\"), \"   \"&CONCATENATE('Environmental SARF'!$L$18,'Environmental SARF'!$L$19),\"\")&IF(AND(NOT(ISBLANK('Environmental SARF'!M64)),'Environmental SARF'!$F$13<>\"6) NA\",'Environmental SARF'!$F$13<>\"6) ...\"), \"   \"&CONCATENATE('Environmental SARF'!$M$18,'Environmental SARF'!$M$19),\"\")&IF(AND(NOT(ISBLANK('Environmental SARF'!N64)),'Environmental SARF'!$F$14<>\"7) NA\",'Environmental SARF'!$F$14<>\"7) ...\"), \"   \"&CONCATENATE('Environmental SARF'!$N$18,'Environmental SARF'!$N$19),\"\") &IF(AND(NOT(ISBLANK('Environmental SARF'!O64)),'Environmental SARF'!$F$15<>\"8) NA\",'Environmental SARF'!$F$15<>\"8) ...\"), \"   \"&CONCATENATE('Environmental SARF'!$O$18,'Environmental SARF'!$O$19),\"\"))","v":""}]
[{"$f":"IF(C47=\"\",\"\",IF('Environmental SARF'!B65=\"\",\"\",'Environmental SARF'!B65))","v":""},"",{"$f":"IF('Environmental SARF'!C65=\"\",\"\",'Environmental SARF'!C65)","v":""},{"$f":"IF(C47=\"\",\"\",IF('Environmental SARF'!D65=\"\",'Environmental SARF'!$C$10,'Environmental SARF'!D65))","v":""},{"$f":"IF(B47=\"\",\"\",IF('Environmental SARF'!E65=\"\",\"\",'Environmental SARF'!E65))","v":""},{"$f":"IF(B47=\"\",\"\",IF('Environmental SARF'!F65=\"\",\"\",'Environmental SARF'!F65))","v":""},{"$f":"IF(B47=\"\",\"\",IF('Environmental SARF'!G65=\"\",\"\",'Environmental SARF'!G65))","v":""},{"$f":"IF(C47=\"\",\"\",IF('Environmental SARF'!$N$6=\"\",\"\",CONCATENATE('Environmental SARF'!$N$6,'Environmental SARF'!$O$6)))","v":""},{"$f":"IF(C47=\"\",\"\",IF('Environmental SARF'!$N$2=\"\",\"\",'Environmental SARF'!$N$2))","v":""},{"$f":"IF(C47=\"\",\"\",IF('Environmental SARF'!$N$4=\"\",NOW(),'Environmental SARF'!$N$4))","v":""},"",{"$f":"IF(C47=\"\",\"\", IF(AND(NOT(ISBLANK('Environmental SARF'!H65)),'Environmental SARF'!$F$8<>\"1) NA\",'Environmental SARF'!$F$8<>\"1) ...\"), \"   \"&CONCATENATE('Environmental SARF'!$H$18,'Environmental SARF'!$H$19),\"\") & IF(AND(NOT(ISBLANK('Environmental SARF'!I65)),'Environmental SARF'!$F$9<>\"2) NA\",'Environmental SARF'!$F$9<>\"2) ...\"), \"   \"&CONCATENATE('Environmental SARF'!$I$18,'Environmental SARF'!$I$19),\"\")& IF(AND(NOT(ISBLANK('Environmental SARF'!J65)),'Environmental SARF'!$F$10<>\"3) NA\",'Environmental SARF'!$F$10<>\"3) ...\"), \"   \"&CONCATENATE('Environmental SARF'!$J$18,'Environmental SARF'!$J$19),\"\") & IF(AND(NOT(ISBLANK('Environmental SARF'!K65)),'Environmental SARF'!$F$11<>\"4) NA\",'Environmental SARF'!$F$11<>\"4) ...\"), \"   \"&CONCATENATE('Environmental SARF'!$K$18,'Environmental SARF'!$K$19),\"\")& IF(AND(NOT(ISBLANK('Environmental SARF'!L65)),'Environmental SARF'!$F$12<>\"5) NA\",'Environmental SARF'!$F$12<>\"5) ...\"), \"   \"&CONCATENATE('Environmental SARF'!$L$18,'Environmental SARF'!$L$19),\"\")&IF(AND(NOT(ISBLANK('Environmental SARF'!M65)),'Environmental SARF'!$F$13<>\"6) NA\",'Environmental SARF'!$F$13<>\"6) ...\"), \"   \"&CONCATENATE('Environmental SARF'!$M$18,'Environmental SARF'!$M$19),\"\")&IF(AND(NOT(ISBLANK('Environmental SARF'!N65)),'Environmental SARF'!$F$14<>\"7) NA\",'Environmental SARF'!$F$14<>\"7) ...\"), \"   \"&CONCATENATE('Environmental SARF'!$N$18,'Environmental SARF'!$N$19),\"\") &IF(AND(NOT(ISBLANK('Environmental SARF'!O65)),'Environmental SARF'!$F$15<>\"8) NA\",'Environmental SARF'!$F$15<>\"8) ...\"), \"   \"&CONCATENATE('Environmental SARF'!$O$18,'Environmental SARF'!$O$19),\"\"))","v":""}]
[{"$f":"IF(C48=\"\",\"\",IF('Environmental SARF'!B66=\"\",\"\",'Environmental SARF'!B66))","v":""},"",{"$f":"IF('Environmental SARF'!C66=\"\",\"\",'Environmental SARF'!C66)","v":""},{"$f":"IF(C48=\"\",\"\",IF('Environmental SARF'!D66=\"\",'Environmental SARF'!$C$10,'Environmental SARF'!D66))","v":""},{"$f":"IF(B48=\"\",\"\",IF('Environmental SARF'!E66=\"\",\"\",'Environmental SARF'!E66))","v":""},{"$f":"IF(B48=\"\",\"\",IF('Environmental SARF'!F66=\"\",\"\",'Environmental SARF'!F66))","v":""},{"$f":"IF(B48=\"\",\"\",IF('Environmental SARF'!G66=\"\",\"\",'Environmental SARF'!G66))","v":""},{"$f":"IF(C48=\"\",\"\",IF('Environmental SARF'!$N$6=\"\",\"\",CONCATENATE('Environmental SARF'!$N$6,'Environmental SARF'!$O$6)))","v":""},{"$f":"IF(C48=\"\",\"\",IF('Environmental SARF'!$N$2=\"\",\"\",'Environmental SARF'!$N$2))","v":""},{"$f":"IF(C48=\"\",\"\",IF('Environmental SARF'!$N$4=\"\",NOW(),'Environmental SARF'!$N$4))","v":""},"",{"$f":"IF(C48=\"\",\"\", IF(AND(NOT(ISBLANK('Environmental SARF'!H66)),'Environmental SARF'!$F$8<>\"1) NA\",'Environmental SARF'!$F$8<>\"1) ...\"), \"   \"&CONCATENATE('Environmental SARF'!$H$18,'Environmental SARF'!$H$19),\"\") & IF(AND(NOT(ISBLANK('Environmental SARF'!I66)),'Environmental SARF'!$F$9<>\"2) NA\",'Environmental SARF'!$F$9<>\"2) ...\"), \"   \"&CONCATENATE('Environmental SARF'!$I$18,'Environmental SARF'!$I$19),\"\")& IF(AND(NOT(ISBLANK('Environmental SARF'!J66)),'Environmental SARF'!$F$10<>\"3) NA\",'Environmental SARF'!$F$10<>\"3) ...\"), \"   \"&CONCATENATE('Environmental SARF'!$J$18,'Environmental SARF'!$J$19),\"\") & IF(AND(NOT(ISBLANK('Environmental SARF'!K66)),'Environmental SARF'!$F$11<>\"4) NA\",'Environmental SARF'!$F$11<>\"4) ...\"), \"   \"&CONCATENATE('Environmental SARF'!$K$18,'Environmental SARF'!$K$19),\"\")& IF(AND(NOT(ISBLANK('Environmental SARF'!L66)),'Environmental SARF'!$F$12<>\"5) NA\",'Environmental SARF'!$F$12<>\"5) ...\"), \"   \"&CONCATENATE('Environmental SARF'!$L$18,'Environmental SARF'!$L$19),\"\")&IF(AND(NOT(ISBLANK('Environmental SARF'!M66)),'Environmental SARF'!$F$13<>\"6) NA\",'Environmental SARF'!$F$13<>\"6) ...\"), \"   \"&CONCATENATE('Environmental SARF'!$M$18,'Environmental SARF'!$M$19),\"\")&IF(AND(NOT(ISBLANK('Environmental SARF'!N66)),'Environmental SARF'!$F$14<>\"7) NA\",'Environmental SARF'!$F$14<>\"7) ...\"), \"   \"&CONCATENATE('Environmental SARF'!$N$18,'Environmental SARF'!$N$19),\"\") &IF(AND(NOT(ISBLANK('Environmental SARF'!O66)),'Environmental SARF'!$F$15<>\"8) NA\",'Environmental SARF'!$F$15<>\"8) ...\"), \"   \"&CONCATENATE('Environmental SARF'!$O$18,'Environmental SARF'!$O$19),\"\"))","v":""}]
[{"$f":"IF(C49=\"\",\"\",IF('Environmental SARF'!B67=\"\",\"\",'Environmental SARF'!B67))","v":""},"",{"$f":"IF('Environmental SARF'!C67=\"\",\"\",'Environmental SARF'!C67)","v":""},{"$f":"IF(C49=\"\",\"\",IF('Environmental SARF'!D67=\"\",'Environmental SARF'!$C$10,'Environmental SARF'!D67))","v":""},{"$f":"IF(B49=\"\",\"\",IF('Environmental SARF'!E67=\"\",\"\",'Environmental SARF'!E67))","v":""},{"$f":"IF(B49=\"\",\"\",IF('Environmental SARF'!F67=\"\",\"\",'Environmental SARF'!F67))","v":""},{"$f":"IF(B49=\"\",\"\",IF('Environmental SARF'!G67=\"\",\"\",'Environmental SARF'!G67))","v":""},{"$f":"IF(C49=\"\",\"\",IF('Environmental SARF'!$N$6=\"\",\"\",CONCATENATE('Environmental SARF'!$N$6,'Environmental SARF'!$O$6)))","v":""},{"$f":"IF(C49=\"\",\"\",IF('Environmental SARF'!$N$2=\"\",\"\",'Environmental SARF'!$N$2))","v":""},{"$f":"IF(C49=\"\",\"\",IF('Environmental SARF'!$N$4=\"\",NOW(),'Environmental SARF'!$N$4))","v":""},"",{"$f":"IF(C49=\"\",\"\", IF(AND(NOT(ISBLANK('Environmental SARF'!H67)),'Environmental SARF'!$F$8<>\"1) NA\",'Environmental SARF'!$F$8<>\"1) ...\"), \"   \"&CONCATENATE('Environmental SARF'!$H$18,'Environmental SARF'!$H$19),\"\") & IF(AND(NOT(ISBLANK('Environmental SARF'!I67)),'Environmental SARF'!$F$9<>\"2) NA\",'Environmental SARF'!$F$9<>\"2) ...\"), \"   \"&CONCATENATE('Environmental SARF'!$I$18,'Environmental SARF'!$I$19),\"\")& IF(AND(NOT(ISBLANK('Environmental SARF'!J67)),'Environmental SARF'!$F$10<>\"3) NA\",'Environmental SARF'!$F$10<>\"3) ...\"), \"   \"&CONCATENATE('Environmental SARF'!$J$18,'Environmental SARF'!$J$19),\"\") & IF(AND(NOT(ISBLANK('Environmental SARF'!K67)),'Environmental SARF'!$F$11<>\"4) NA\",'Environmental SARF'!$F$11<>\"4) ...\"), \"   \"&CONCATENATE('Environmental SARF'!$K$18,'Environmental SARF'!$K$19),\"\")& IF(AND(NOT(ISBLANK('Environmental SARF'!L67)),'Environmental SARF'!$F$12<>\"5) NA\",'Environmental SARF'!$F$12<>\"5) ...\"), \"   \"&CONCATENATE('Environmental SARF'!$L$18,'Environmental SARF'!$L$19),\"\")&IF(AND(NOT(ISBLANK('Environmental SARF'!M67)),'Environmental SARF'!$F$13<>\"6) NA\",'Environmental SARF'!$F$13<>\"6) ...\"), \"   \"&CONCATENATE('Environmental SARF'!$M$18,'Environmental SARF'!$M$19),\"\")&IF(AND(NOT(ISBLANK('Environmental SARF'!N67)),'Environmental SARF'!$F$14<>\"7) NA\",'Environmental SARF'!$F$14<>\"7) ...\"), \"   \"&CONCATENATE('Environmental SARF'!$N$18,'Environmental SARF'!$N$19),\"\") &IF(AND(NOT(ISBLANK('Environmental SARF'!O67)),'Environmental SARF'!$F$15<>\"8) NA\",'Environmental SARF'!$F$15<>\"8) ...\"), \"   \"&CONCATENATE('Environmental SARF'!$O$18,'Environmental SARF'!$O$19),\"\"))","v":""}]
[{"$f":"IF(C50=\"\",\"\",IF('Environmental SARF'!B68=\"\",\"\",'Environmental SARF'!B68))","v":""},"",{"$f":"IF('Environmental SARF'!C68=\"\",\"\",'Environmental SARF'!C68)","v":""},{"$f":"IF(C50=\"\",\"\",IF('Environmental SARF'!D68=\"\",'Environmental SARF'!$C$10,'Environmental SARF'!D68))","v":""},{"$f":"IF(B50=\"\",\"\",IF('Environmental SARF'!E68=\"\",\"\",'Environmental SARF'!E68))","v":""},{"$f":"IF(B50=\"\",\"\",IF('Environmental SARF'!F68=\"\",\"\",'Environmental SARF'!F68))","v":""},{"$f":"IF(B50=\"\",\"\",IF('Environmental SARF'!G68=\"\",\"\",'Environmental SARF'!G68))","v":""},{"$f":"IF(C50=\"\",\"\",IF('Environmental SARF'!$N$6=\"\",\"\",CONCATENATE('Environmental SARF'!$N$6,'Environmental SARF'!$O$6)))","v":""},{"$f":"IF(C50=\"\",\"\",IF('Environmental SARF'!$N$2=\"\",\"\",'Environmental SARF'!$N$2))","v":""},{"$f":"IF(C50=\"\",\"\",IF('Environmental SARF'!$N$4=\"\",NOW(),'Environmental SARF'!$N$4))","v":""},"",{"$f":"IF(C50=\"\",\"\", IF(AND(NOT(ISBLANK('Environmental SARF'!H68)),'Environmental SARF'!$F$8<>\"1) NA\",'Environmental SARF'!$F$8<>\"1) ...\"), \"   \"&CONCATENATE('Environmental SARF'!$H$18,'Environmental SARF'!$H$19),\"\") & IF(AND(NOT(ISBLANK('Environmental SARF'!I68)),'Environmental SARF'!$F$9<>\"2) NA\",'Environmental SARF'!$F$9<>\"2) ...\"), \"   \"&CONCATENATE('Environmental SARF'!$I$18,'Environmental SARF'!$I$19),\"\")& IF(AND(NOT(ISBLANK('Environmental SARF'!J68)),'Environmental SARF'!$F$10<>\"3) NA\",'Environmental SARF'!$F$10<>\"3) ...\"), \"   \"&CONCATENATE('Environmental SARF'!$J$18,'Environmental SARF'!$J$19),\"\") & IF(AND(NOT(ISBLANK('Environmental SARF'!K68)),'Environmental SARF'!$F$11<>\"4) NA\",'Environmental SARF'!$F$11<>\"4) ...\"), \"   \"&CONCATENATE('Environmental SARF'!$K$18,'Environmental SARF'!$K$19),\"\")& IF(AND(NOT(ISBLANK('Environmental SARF'!L68)),'Environmental SARF'!$F$12<>\"5) NA\",'Environmental SARF'!$F$12<>\"5) ...\"), \"   \"&CONCATENATE('Environmental SARF'!$L$18,'Environmental SARF'!$L$19),\"\")&IF(AND(NOT(ISBLANK('Environmental SARF'!M68)),'Environmental SARF'!$F$13<>\"6) NA\",'Environmental SARF'!$F$13<>\"6) ...\"), \"   \"&CONCATENATE('Environmental SARF'!$M$18,'Environmental SARF'!$M$19),\"\")&IF(AND(NOT(ISBLANK('Environmental SARF'!N68)),'Environmental SARF'!$F$14<>\"7) NA\",'Environmental SARF'!$F$14<>\"7) ...\"), \"   \"&CONCATENATE('Environmental SARF'!$N$18,'Environmental SARF'!$N$19),\"\") &IF(AND(NOT(ISBLANK('Environmental SARF'!O68)),'Environmental SARF'!$F$15<>\"8) NA\",'Environmental SARF'!$F$15<>\"8) ...\"), \"   \"&CONCATENATE('Environmental SARF'!$O$18,'Environmental SARF'!$O$19),\"\"))","v":""}]
[{"$f":"IF(C51=\"\",\"\",IF('Environmental SARF'!B69=\"\",\"\",'Environmental SARF'!B69))","v":""},"",{"$f":"IF('Environmental SARF'!C69=\"\",\"\",'Environmental SARF'!C69)","v":""},{"$f":"IF(C51=\"\",\"\",IF('Environmental SARF'!D69=\"\",'Environmental SARF'!$C$10,'Environmental SARF'!D69))","v":""},{"$f":"IF(B51=\"\",\"\",IF('Environmental SARF'!E69=\"\",\"\",'Environmental SARF'!E69))","v":""},{"$f":"IF(B51=\"\",\"\",IF('Environmental SARF'!F69=\"\",\"\",'Environmental SARF'!F69))","v":""},{"$f":"IF(B51=\"\",\"\",IF('Environmental SARF'!G69=\"\",\"\",'Environmental SARF'!G69))","v":""},{"$f":"IF(C51=\"\",\"\",IF('Environmental SARF'!$N$6=\"\",\"\",CONCATENATE('Environmental SARF'!$N$6,'Environmental SARF'!$O$6)))","v":""},{"$f":"IF(C51=\"\",\"\",IF('Environmental SARF'!$N$2=\"\",\"\",'Environmental SARF'!$N$2))","v":""},{"$f":"IF(C51=\"\",\"\",IF('Environmental SARF'!$N$4=\"\",NOW(),'Environmental SARF'!$N$4))","v":""},"",{"$f":"IF(C51=\"\",\"\", IF(AND(NOT(ISBLANK('Environmental SARF'!H69)),'Environmental SARF'!$F$8<>\"1) NA\",'Environmental SARF'!$F$8<>\"1) ...\"), \"   \"&CONCATENATE('Environmental SARF'!$H$18,'Environmental SARF'!$H$19),\"\") & IF(AND(NOT(ISBLANK('Environmental SARF'!I69)),'Environmental SARF'!$F$9<>\"2) NA\",'Environmental SARF'!$F$9<>\"2) ...\"), \"   \"&CONCATENATE('Environmental SARF'!$I$18,'Environmental SARF'!$I$19),\"\")& IF(AND(NOT(ISBLANK('Environmental SARF'!J69)),'Environmental SARF'!$F$10<>\"3) NA\",'Environmental SARF'!$F$10<>\"3) ...\"), \"   \"&CONCATENATE('Environmental SARF'!$J$18,'Environmental SARF'!$J$19),\"\") & IF(AND(NOT(ISBLANK('Environmental SARF'!K69)),'Environmental SARF'!$F$11<>\"4) NA\",'Environmental SARF'!$F$11<>\"4) ...\"), \"   \"&CONCATENATE('Environmental SARF'!$K$18,'Environmental SARF'!$K$19),\"\")& IF(AND(NOT(ISBLANK('Environmental SARF'!L69)),'Environmental SARF'!$F$12<>\"5) NA\",'Environmental SARF'!$F$12<>\"5) ...\"), \"   \"&CONCATENATE('Environmental SARF'!$L$18,'Environmental SARF'!$L$19),\"\")&IF(AND(NOT(ISBLANK('Environmental SARF'!M69)),'Environmental SARF'!$F$13<>\"6) NA\",'Environmental SARF'!$F$13<>\"6) ...\"), \"   \"&CONCATENATE('Environmental SARF'!$M$18,'Environmental SARF'!$M$19),\"\")&IF(AND(NOT(ISBLANK('Environmental SARF'!N69)),'Environmental SARF'!$F$14<>\"7) NA\",'Environmental SARF'!$F$14<>\"7) ...\"), \"   \"&CONCATENATE('Environmental SARF'!$N$18,'Environmental SARF'!$N$19),\"\") &IF(AND(NOT(ISBLANK('Environmental SARF'!O69)),'Environmental SARF'!$F$15<>\"8) NA\",'Environmental SARF'!$F$15<>\"8) ...\"), \"   \"&CONCATENATE('Environmental SARF'!$O$18,'Environmental SARF'!$O$19),\"\"))","v":""}]
[{"$f":"IF(C52=\"\",\"\",IF('Environmental SARF'!B70=\"\",\"\",'Environmental SARF'!B70))","v":""},"",{"$f":"IF('Environmental SARF'!C70=\"\",\"\",'Environmental SARF'!C70)","v":""},{"$f":"IF(C52=\"\",\"\",IF('Environmental SARF'!D70=\"\",'Environmental SARF'!$C$10,'Environmental SARF'!D70))","v":""},{"$f":"IF(B52=\"\",\"\",IF('Environmental SARF'!E70=\"\",\"\",'Environmental SARF'!E70))","v":""},{"$f":"IF(B52=\"\",\"\",IF('Environmental SARF'!F70=\"\",\"\",'Environmental SARF'!F70))","v":""},{"$f":"IF(B52=\"\",\"\",IF('Environmental SARF'!G70=\"\",\"\",'Environmental SARF'!G70))","v":""},{"$f":"IF(C52=\"\",\"\",IF('Environmental SARF'!$N$6=\"\",\"\",CONCATENATE('Environmental SARF'!$N$6,'Environmental SARF'!$O$6)))","v":""},{"$f":"IF(C52=\"\",\"\",IF('Environmental SARF'!$N$2=\"\",\"\",'Environmental SARF'!$N$2))","v":""},{"$f":"IF(C52=\"\",\"\",IF('Environmental SARF'!$N$4=\"\",NOW(),'Environmental SARF'!$N$4))","v":""},"",{"$f":"IF(C52=\"\",\"\", IF(AND(NOT(ISBLANK('Environmental SARF'!H70)),'Environmental SARF'!$F$8<>\"1) NA\",'Environmental SARF'!$F$8<>\"1) ...\"), \"   \"&CONCATENATE('Environmental SARF'!$H$18,'Environmental SARF'!$H$19),\"\") & IF(AND(NOT(ISBLANK('Environmental SARF'!I70)),'Environmental SARF'!$F$9<>\"2) NA\",'Environmental SARF'!$F$9<>\"2) ...\"), \"   \"&CONCATENATE('Environmental SARF'!$I$18,'Environmental SARF'!$I$19),\"\")& IF(AND(NOT(ISBLANK('Environmental SARF'!J70)),'Environmental SARF'!$F$10<>\"3) NA\",'Environmental SARF'!$F$10<>\"3) ...\"), \"   \"&CONCATENATE('Environmental SARF'!$J$18,'Environmental SARF'!$J$19),\"\") & IF(AND(NOT(ISBLANK('Environmental SARF'!K70)),'Environmental SARF'!$F$11<>\"4) NA\",'Environmental SARF'!$F$11<>\"4) ...\"), \"   \"&CONCATENATE('Environmental SARF'!$K$18,'Environmental SARF'!$K$19),\"\")& IF(AND(NOT(ISBLANK('Environmental SARF'!L70)),'Environmental SARF'!$F$12<>\"5) NA\",'Environmental SARF'!$F$12<>\"5) ...\"), \"   \"&CONCATENATE('Environmental SARF'!$L$18,'Environmental SARF'!$L$19),\"\")&IF(AND(NOT(ISBLANK('Environmental SARF'!M70)),'Environmental SARF'!$F$13<>\"6) NA\",'Environmental SARF'!$F$13<>\"6) ...\"), \"   \"&CONCATENATE('Environmental SARF'!$M$18,'Environmental SARF'!$M$19),\"\")&IF(AND(NOT(ISBLANK('Environmental SARF'!N70)),'Environmental SARF'!$F$14<>\"7) NA\",'Environmental SARF'!$F$14<>\"7) ...\"), \"   \"&CONCATENATE('Environmental SARF'!$N$18,'Environmental SARF'!$N$19),\"\") &IF(AND(NOT(ISBLANK('Environmental SARF'!O70)),'Environmental SARF'!$F$15<>\"8) NA\",'Environmental SARF'!$F$15<>\"8) ...\"), \"   \"&CONCATENATE('Environmental SARF'!$O$18,'Environmental SARF'!$O$19),\"\"))","v":""}]
[{"$f":"IF(C53=\"\",\"\",IF('Environmental SARF'!B71=\"\",\"\",'Environmental SARF'!B71))","v":""},"",{"$f":"IF('Environmental SARF'!C71=\"\",\"\",'Environmental SARF'!C71)","v":""},{"$f":"IF(C53=\"\",\"\",IF('Environmental SARF'!D71=\"\",'Environmental SARF'!$C$10,'Environmental SARF'!D71))","v":""},{"$f":"IF(B53=\"\",\"\",IF('Environmental SARF'!E71=\"\",\"\",'Environmental SARF'!E71))","v":""},{"$f":"IF(B53=\"\",\"\",IF('Environmental SARF'!F71=\"\",\"\",'Environmental SARF'!F71))","v":""},{"$f":"IF(B53=\"\",\"\",IF('Environmental SARF'!G71=\"\",\"\",'Environmental SARF'!G71))","v":""},{"$f":"IF(C53=\"\",\"\",IF('Environmental SARF'!$N$6=\"\",\"\",CONCATENATE('Environmental SARF'!$N$6,'Environmental SARF'!$O$6)))","v":""},{"$f":"IF(C53=\"\",\"\",IF('Environmental SARF'!$N$2=\"\",\"\",'Environmental SARF'!$N$2))","v":""},{"$f":"IF(C53=\"\",\"\",IF('Environmental SARF'!$N$4=\"\",NOW(),'Environmental SARF'!$N$4))","v":""},"",{"$f":"IF(C53=\"\",\"\", IF(AND(NOT(ISBLANK('Environmental SARF'!H71)),'Environmental SARF'!$F$8<>\"1) NA\",'Environmental SARF'!$F$8<>\"1) ...\"), \"   \"&CONCATENATE('Environmental SARF'!$H$18,'Environmental SARF'!$H$19),\"\") & IF(AND(NOT(ISBLANK('Environmental SARF'!I71)),'Environmental SARF'!$F$9<>\"2) NA\",'Environmental SARF'!$F$9<>\"2) ...\"), \"   \"&CONCATENATE('Environmental SARF'!$I$18,'Environmental SARF'!$I$19),\"\")& IF(AND(NOT(ISBLANK('Environmental SARF'!J71)),'Environmental SARF'!$F$10<>\"3) NA\",'Environmental SARF'!$F$10<>\"3) ...\"), \"   \"&CONCATENATE('Environmental SARF'!$J$18,'Environmental SARF'!$J$19),\"\") & IF(AND(NOT(ISBLANK('Environmental SARF'!K71)),'Environmental SARF'!$F$11<>\"4) NA\",'Environmental SARF'!$F$11<>\"4) ...\"), \"   \"&CONCATENATE('Environmental SARF'!$K$18,'Environmental SARF'!$K$19),\"\")& IF(AND(NOT(ISBLANK('Environmental SARF'!L71)),'Environmental SARF'!$F$12<>\"5) NA\",'Environmental SARF'!$F$12<>\"5) ...\"), \"   \"&CONCATENATE('Environmental SARF'!$L$18,'Environmental SARF'!$L$19),\"\")&IF(AND(NOT(ISBLANK('Environmental SARF'!M71)),'Environmental SARF'!$F$13<>\"6) NA\",'Environmental SARF'!$F$13<>\"6) ...\"), \"   \"&CONCATENATE('Environmental SARF'!$M$18,'Environmental SARF'!$M$19),\"\")&IF(AND(NOT(ISBLANK('Environmental SARF'!N71)),'Environmental SARF'!$F$14<>\"7) NA\",'Environmental SARF'!$F$14<>\"7) ...\"), \"   \"&CONCATENATE('Environmental SARF'!$N$18,'Environmental SARF'!$N$19),\"\") &IF(AND(NOT(ISBLANK('Environmental SARF'!O71)),'Environmental SARF'!$F$15<>\"8) NA\",'Environmental SARF'!$F$15<>\"8) ...\"), \"   \"&CONCATENATE('Environmental SARF'!$O$18,'Environmental SARF'!$O$19),\"\"))","v":""}]
[{"$f":"IF(C54=\"\",\"\",IF('Environmental SARF'!B72=\"\",\"\",'Environmental SARF'!B72))","v":""},"",{"$f":"IF('Environmental SARF'!C72=\"\",\"\",'Environmental SARF'!C72)","v":""},{"$f":"IF(C54=\"\",\"\",IF('Environmental SARF'!D72=\"\",'Environmental SARF'!$C$10,'Environmental SARF'!D72))","v":""},{"$f":"IF(B54=\"\",\"\",IF('Environmental SARF'!E72=\"\",\"\",'Environmental SARF'!E72))","v":""},{"$f":"IF(B54=\"\",\"\",IF('Environmental SARF'!F72=\"\",\"\",'Environmental SARF'!F72))","v":""},{"$f":"IF(B54=\"\",\"\",IF('Environmental SARF'!G72=\"\",\"\",'Environmental SARF'!G72))","v":""},{"$f":"IF(C54=\"\",\"\",IF('Environmental SARF'!$N$6=\"\",\"\",CONCATENATE('Environmental SARF'!$N$6,'Environmental SARF'!$O$6)))","v":""},{"$f":"IF(C54=\"\",\"\",IF('Environmental SARF'!$N$2=\"\",\"\",'Environmental SARF'!$N$2))","v":""},{"$f":"IF(C54=\"\",\"\",IF('Environmental SARF'!$N$4=\"\",NOW(),'Environmental SARF'!$N$4))","v":""},"",{"$f":"IF(C54=\"\",\"\", IF(AND(NOT(ISBLANK('Environmental SARF'!H72)),'Environmental SARF'!$F$8<>\"1) NA\",'Environmental SARF'!$F$8<>\"1) ...\"), \"   \"&CONCATENATE('Environmental SARF'!$H$18,'Environmental SARF'!$H$19),\"\") & IF(AND(NOT(ISBLANK('Environmental SARF'!I72)),'Environmental SARF'!$F$9<>\"2) NA\",'Environmental SARF'!$F$9<>\"2) ...\"), \"   \"&CONCATENATE('Environmental SARF'!$I$18,'Environmental SARF'!$I$19),\"\")& IF(AND(NOT(ISBLANK('Environmental SARF'!J72)),'Environmental SARF'!$F$10<>\"3) NA\",'Environmental SARF'!$F$10<>\"3) ...\"), \"   \"&CONCATENATE('Environmental SARF'!$J$18,'Environmental SARF'!$J$19),\"\") & IF(AND(NOT(ISBLANK('Environmental SARF'!K72)),'Environmental SARF'!$F$11<>\"4) NA\",'Environmental SARF'!$F$11<>\"4) ...\"), \"   \"&CONCATENATE('Environmental SARF'!$K$18,'Environmental SARF'!$K$19),\"\")& IF(AND(NOT(ISBLANK('Environmental SARF'!L72)),'Environmental SARF'!$F$12<>\"5) NA\",'Environmental SARF'!$F$12<>\"5) ...\"), \"   \"&CONCATENATE('Environmental SARF'!$L$18,'Environmental SARF'!$L$19),\"\")&IF(AND(NOT(ISBLANK('Environmental SARF'!M72)),'Environmental SARF'!$F$13<>\"6) NA\",'Environmental SARF'!$F$13<>\"6) ...\"), \"   \"&CONCATENATE('Environmental SARF'!$M$18,'Environmental SARF'!$M$19),\"\")&IF(AND(NOT(ISBLANK('Environmental SARF'!N72)),'Environmental SARF'!$F$14<>\"7) NA\",'Environmental SARF'!$F$14<>\"7) ...\"), \"   \"&CONCATENATE('Environmental SARF'!$N$18,'Environmental SARF'!$N$19),\"\") &IF(AND(NOT(ISBLANK('Environmental SARF'!O72)),'Environmental SARF'!$F$15<>\"8) NA\",'Environmental SARF'!$F$15<>\"8) ...\"), \"   \"&CONCATENATE('Environmental SARF'!$O$18,'Environmental SARF'!$O$19),\"\"))","v":""}]
[{"$f":"IF(C55=\"\",\"\",IF('Environmental SARF'!B73=\"\",\"\",'Environmental SARF'!B73))","v":""},"",{"$f":"IF('Environmental SARF'!C73=\"\",\"\",'Environmental SARF'!C73)","v":""},{"$f":"IF(C55=\"\",\"\",IF('Environmental SARF'!D73=\"\",'Environmental SARF'!$C$10,'Environmental SARF'!D73))","v":""},{"$f":"IF(B55=\"\",\"\",IF('Environmental SARF'!E73=\"\",\"\",'Environmental SARF'!E73))","v":""},{"$f":"IF(B55=\"\",\"\",IF('Environmental SARF'!F73=\"\",\"\",'Environmental SARF'!F73))","v":""},{"$f":"IF(B55=\"\",\"\",IF('Environmental SARF'!G73=\"\",\"\",'Environmental SARF'!G73))","v":""},{"$f":"IF(C55=\"\",\"\",IF('Environmental SARF'!$N$6=\"\",\"\",CONCATENATE('Environmental SARF'!$N$6,'Environmental SARF'!$O$6)))","v":""},{"$f":"IF(C55=\"\",\"\",IF('Environmental SARF'!$N$2=\"\",\"\",'Environmental SARF'!$N$2))","v":""},{"$f":"IF(C55=\"\",\"\",IF('Environmental SARF'!$N$4=\"\",NOW(),'Environmental SARF'!$N$4))","v":""},"",{"$f":"IF(C55=\"\",\"\", IF(AND(NOT(ISBLANK('Environmental SARF'!H73)),'Environmental SARF'!$F$8<>\"1) NA\",'Environmental SARF'!$F$8<>\"1) ...\"), \"   \"&CONCATENATE('Environmental SARF'!$H$18,'Environmental SARF'!$H$19),\"\") & IF(AND(NOT(ISBLANK('Environmental SARF'!I73)),'Environmental SARF'!$F$9<>\"2) NA\",'Environmental SARF'!$F$9<>\"2) ...\"), \"   \"&CONCATENATE('Environmental SARF'!$I$18,'Environmental SARF'!$I$19),\"\")& IF(AND(NOT(ISBLANK('Environmental SARF'!J73)),'Environmental SARF'!$F$10<>\"3) NA\",'Environmental SARF'!$F$10<>\"3) ...\"), \"   \"&CONCATENATE('Environmental SARF'!$J$18,'Environmental SARF'!$J$19),\"\") & IF(AND(NOT(ISBLANK('Environmental SARF'!K73)),'Environmental SARF'!$F$11<>\"4) NA\",'Environmental SARF'!$F$11<>\"4) ...\"), \"   \"&CONCATENATE('Environmental SARF'!$K$18,'Environmental SARF'!$K$19),\"\")& IF(AND(NOT(ISBLANK('Environmental SARF'!L73)),'Environmental SARF'!$F$12<>\"5) NA\",'Environmental SARF'!$F$12<>\"5) ...\"), \"   \"&CONCATENATE('Environmental SARF'!$L$18,'Environmental SARF'!$L$19),\"\")&IF(AND(NOT(ISBLANK('Environmental SARF'!M73)),'Environmental SARF'!$F$13<>\"6) NA\",'Environmental SARF'!$F$13<>\"6) ...\"), \"   \"&CONCATENATE('Environmental SARF'!$M$18,'Environmental SARF'!$M$19),\"\")&IF(AND(NOT(ISBLANK('Environmental SARF'!N73)),'Environmental SARF'!$F$14<>\"7) NA\",'Environmental SARF'!$F$14<>\"7) ...\"), \"   \"&CONCATENATE('Environmental SARF'!$N$18,'Environmental SARF'!$N$19),\"\") &IF(AND(NOT(ISBLANK('Environmental SARF'!O73)),'Environmental SARF'!$F$15<>\"8) NA\",'Environmental SARF'!$F$15<>\"8) ...\"), \"   \"&CONCATENATE('Environmental SARF'!$O$18,'Environmental SARF'!$O$19),\"\"))","v":""}]
[{"$f":"IF(C56=\"\",\"\",IF('Environmental SARF'!B74=\"\",\"\",'Environmental SARF'!B74))","v":""},"",{"$f":"IF('Environmental SARF'!C74=\"\",\"\",'Environmental SARF'!C74)","v":""},{"$f":"IF(C56=\"\",\"\",IF('Environmental SARF'!D74=\"\",'Environmental SARF'!$C$10,'Environmental SARF'!D74))","v":""},{"$f":"IF(B56=\"\",\"\",IF('Environmental SARF'!E74=\"\",\"\",'Environmental SARF'!E74))","v":""},{"$f":"IF(B56=\"\",\"\",IF('Environmental SARF'!F74=\"\",\"\",'Environmental SARF'!F74))","v":""},{"$f":"IF(B56=\"\",\"\",IF('Environmental SARF'!G74=\"\",\"\",'Environmental SARF'!G74))","v":""},{"$f":"IF(C56=\"\",\"\",IF('Environmental SARF'!$N$6=\"\",\"\",CONCATENATE('Environmental SARF'!$N$6,'Environmental SARF'!$O$6)))","v":""},{"$f":"IF(C56=\"\",\"\",IF('Environmental SARF'!$N$2=\"\",\"\",'Environmental SARF'!$N$2))","v":""},{"$f":"IF(C56=\"\",\"\",IF('Environmental SARF'!$N$4=\"\",NOW(),'Environmental SARF'!$N$4))","v":""},"",{"$f":"IF(C56=\"\",\"\", IF(AND(NOT(ISBLANK('Environmental SARF'!H74)),'Environmental SARF'!$F$8<>\"1) NA\",'Environmental SARF'!$F$8<>\"1) ...\"), \"   \"&CONCATENATE('Environmental SARF'!$H$18,'Environmental SARF'!$H$19),\"\") & IF(AND(NOT(ISBLANK('Environmental SARF'!I74)),'Environmental SARF'!$F$9<>\"2) NA\",'Environmental SARF'!$F$9<>\"2) ...\"), \"   \"&CONCATENATE('Environmental SARF'!$I$18,'Environmental SARF'!$I$19),\"\")& IF(AND(NOT(ISBLANK('Environmental SARF'!J74)),'Environmental SARF'!$F$10<>\"3) NA\",'Environmental SARF'!$F$10<>\"3) ...\"), \"   \"&CONCATENATE('Environmental SARF'!$J$18,'Environmental SARF'!$J$19),\"\") & IF(AND(NOT(ISBLANK('Environmental SARF'!K74)),'Environmental SARF'!$F$11<>\"4) NA\",'Environmental SARF'!$F$11<>\"4) ...\"), \"   \"&CONCATENATE('Environmental SARF'!$K$18,'Environmental SARF'!$K$19),\"\")& IF(AND(NOT(ISBLANK('Environmental SARF'!L74)),'Environmental SARF'!$F$12<>\"5) NA\",'Environmental SARF'!$F$12<>\"5) ...\"), \"   \"&CONCATENATE('Environmental SARF'!$L$18,'Environmental SARF'!$L$19),\"\")&IF(AND(NOT(ISBLANK('Environmental SARF'!M74)),'Environmental SARF'!$F$13<>\"6) NA\",'Environmental SARF'!$F$13<>\"6) ...\"), \"   \"&CONCATENATE('Environmental SARF'!$M$18,'Environmental SARF'!$M$19),\"\")&IF(AND(NOT(ISBLANK('Environmental SARF'!N74)),'Environmental SARF'!$F$14<>\"7) NA\",'Environmental SARF'!$F$14<>\"7) ...\"), \"   \"&CONCATENATE('Environmental SARF'!$N$18,'Environmental SARF'!$N$19),\"\") &IF(AND(NOT(ISBLANK('Environmental SARF'!O74)),'Environmental SARF'!$F$15<>\"8) NA\",'Environmental SARF'!$F$15<>\"8) ...\"), \"   \"&CONCATENATE('Environmental SARF'!$O$18,'Environmental SARF'!$O$19),\"\"))","v":""}]
[{"$f":"IF(C57=\"\",\"\",IF('Environmental SARF'!B75=\"\",\"\",'Environmental SARF'!B75))","v":""},"",{"$f":"IF('Environmental SARF'!C75=\"\",\"\",'Environmental SARF'!C75)","v":""},{"$f":"IF(C57=\"\",\"\",IF('Environmental SARF'!D75=\"\",'Environmental SARF'!$C$10,'Environmental SARF'!D75))","v":""},{"$f":"IF(B57=\"\",\"\",IF('Environmental SARF'!E75=\"\",\"\",'Environmental SARF'!E75))","v":""},{"$f":"IF(B57=\"\",\"\",IF('Environmental SARF'!F75=\"\",\"\",'Environmental SARF'!F75))","v":""},{"$f":"IF(B57=\"\",\"\",IF('Environmental SARF'!G75=\"\",\"\",'Environmental SARF'!G75))","v":""},{"$f":"IF(C57=\"\",\"\",IF('Environmental SARF'!$N$6=\"\",\"\",CONCATENATE('Environmental SARF'!$N$6,'Environmental SARF'!$O$6)))","v":""},{"$f":"IF(C57=\"\",\"\",IF('Environmental SARF'!$N$2=\"\",\"\",'Environmental SARF'!$N$2))","v":""},{"$f":"IF(C57=\"\",\"\",IF('Environmental SARF'!$N$4=\"\",NOW(),'Environmental SARF'!$N$4))","v":""},"",{"$f":"IF(C57=\"\",\"\", IF(AND(NOT(ISBLANK('Environmental SARF'!H75)),'Environmental SARF'!$F$8<>\"1) NA\",'Environmental SARF'!$F$8<>\"1) ...\"), \"   \"&CONCATENATE('Environmental SARF'!$H$18,'Environmental SARF'!$H$19),\"\") & IF(AND(NOT(ISBLANK('Environmental SARF'!I75)),'Environmental SARF'!$F$9<>\"2) NA\",'Environmental SARF'!$F$9<>\"2) ...\"), \"   \"&CONCATENATE('Environmental SARF'!$I$18,'Environmental SARF'!$I$19),\"\")& IF(AND(NOT(ISBLANK('Environmental SARF'!J75)),'Environmental SARF'!$F$10<>\"3) NA\",'Environmental SARF'!$F$10<>\"3) ...\"), \"   \"&CONCATENATE('Environmental SARF'!$J$18,'Environmental SARF'!$J$19),\"\") & IF(AND(NOT(ISBLANK('Environmental SARF'!K75)),'Environmental SARF'!$F$11<>\"4) NA\",'Environmental SARF'!$F$11<>\"4) ...\"), \"   \"&CONCATENATE('Environmental SARF'!$K$18,'Environmental SARF'!$K$19),\"\")& IF(AND(NOT(ISBLANK('Environmental SARF'!L75)),'Environmental SARF'!$F$12<>\"5) NA\",'Environmental SARF'!$F$12<>\"5) ...\"), \"   \"&CONCATENATE('Environmental SARF'!$L$18,'Environmental SARF'!$L$19),\"\")&IF(AND(NOT(ISBLANK('Environmental SARF'!M75)),'Environmental SARF'!$F$13<>\"6) NA\",'Environmental SARF'!$F$13<>\"6) ...\"), \"   \"&CONCATENATE('Environmental SARF'!$M$18,'Environmental SARF'!$M$19),\"\")&IF(AND(NOT(ISBLANK('Environmental SARF'!N75)),'Environmental SARF'!$F$14<>\"7) NA\",'Environmental SARF'!$F$14<>\"7) ...\"), \"   \"&CONCATENATE('Environmental SARF'!$N$18,'Environmental SARF'!$N$19),\"\") &IF(AND(NOT(ISBLANK('Environmental SARF'!O75)),'Environmental SARF'!$F$15<>\"8) NA\",'Environmental SARF'!$F$15<>\"8) ...\"), \"   \"&CONCATENATE('Environmental SARF'!$O$18,'Environmental SARF'!$O$19),\"\"))","v":""}]
[{"$f":"IF(C58=\"\",\"\",IF('Environmental SARF'!B76=\"\",\"\",'Environmental SARF'!B76))","v":""},"",{"$f":"IF('Environmental SARF'!C76=\"\",\"\",'Environmental SARF'!C76)","v":""},{"$f":"IF(C58=\"\",\"\",IF('Environmental SARF'!D76=\"\",'Environmental SARF'!$C$10,'Environmental SARF'!D76))","v":""},{"$f":"IF(B58=\"\",\"\",IF('Environmental SARF'!E76=\"\",\"\",'Environmental SARF'!E76))","v":""},{"$f":"IF(B58=\"\",\"\",IF('Environmental SARF'!F76=\"\",\"\",'Environmental SARF'!F76))","v":""},{"$f":"IF(B58=\"\",\"\",IF('Environmental SARF'!G76=\"\",\"\",'Environmental SARF'!G76))","v":""},{"$f":"IF(C58=\"\",\"\",IF('Environmental SARF'!$N$6=\"\",\"\",CONCATENATE('Environmental SARF'!$N$6,'Environmental SARF'!$O$6)))","v":""},{"$f":"IF(C58=\"\",\"\",IF('Environmental SARF'!$N$2=\"\",\"\",'Environmental SARF'!$N$2))","v":""},{"$f":"IF(C58=\"\",\"\",IF('Environmental SARF'!$N$4=\"\",NOW(),'Environmental SARF'!$N$4))","v":""},"",{"$f":"IF(C58=\"\",\"\", IF(AND(NOT(ISBLANK('Environmental SARF'!H76)),'Environmental SARF'!$F$8<>\"1) NA\",'Environmental SARF'!$F$8<>\"1) ...\"), \"   \"&CONCATENATE('Environmental SARF'!$H$18,'Environmental SARF'!$H$19),\"\") & IF(AND(NOT(ISBLANK('Environmental SARF'!I76)),'Environmental SARF'!$F$9<>\"2) NA\",'Environmental SARF'!$F$9<>\"2) ...\"), \"   \"&CONCATENATE('Environmental SARF'!$I$18,'Environmental SARF'!$I$19),\"\")& IF(AND(NOT(ISBLANK('Environmental SARF'!J76)),'Environmental SARF'!$F$10<>\"3) NA\",'Environmental SARF'!$F$10<>\"3) ...\"), \"   \"&CONCATENATE('Environmental SARF'!$J$18,'Environmental SARF'!$J$19),\"\") & IF(AND(NOT(ISBLANK('Environmental SARF'!K76)),'Environmental SARF'!$F$11<>\"4) NA\",'Environmental SARF'!$F$11<>\"4) ...\"), \"   \"&CONCATENATE('Environmental SARF'!$K$18,'Environmental SARF'!$K$19),\"\")& IF(AND(NOT(ISBLANK('Environmental SARF'!L76)),'Environmental SARF'!$F$12<>\"5) NA\",'Environmental SARF'!$F$12<>\"5) ...\"), \"   \"&CONCATENATE('Environmental SARF'!$L$18,'Environmental SARF'!$L$19),\"\")&IF(AND(NOT(ISBLANK('Environmental SARF'!M76)),'Environmental SARF'!$F$13<>\"6) NA\",'Environmental SARF'!$F$13<>\"6) ...\"), \"   \"&CONCATENATE('Environmental SARF'!$M$18,'Environmental SARF'!$M$19),\"\")&IF(AND(NOT(ISBLANK('Environmental SARF'!N76)),'Environmental SARF'!$F$14<>\"7) NA\",'Environmental SARF'!$F$14<>\"7) ...\"), \"   \"&CONCATENATE('Environmental SARF'!$N$18,'Environmental SARF'!$N$19),\"\") &IF(AND(NOT(ISBLANK('Environmental SARF'!O76)),'Environmental SARF'!$F$15<>\"8) NA\",'Environmental SARF'!$F$15<>\"8) ...\"), \"   \"&CONCATENATE('Environmental SARF'!$O$18,'Environmental SARF'!$O$19),\"\"))","v":""}]
[{"$f":"IF(C59=\"\",\"\",IF('Environmental SARF'!B77=\"\",\"\",'Environmental SARF'!B77))","v":""},"",{"$f":"IF('Environmental SARF'!C77=\"\",\"\",'Environmental SARF'!C77)","v":""},{"$f":"IF(C59=\"\",\"\",IF('Environmental SARF'!D77=\"\",'Environmental SARF'!$C$10,'Environmental SARF'!D77))","v":""},{"$f":"IF(B59=\"\",\"\",IF('Environmental SARF'!E77=\"\",\"\",'Environmental SARF'!E77))","v":""},{"$f":"IF(B59=\"\",\"\",IF('Environmental SARF'!F77=\"\",\"\",'Environmental SARF'!F77))","v":""},{"$f":"IF(B59=\"\",\"\",IF('Environmental SARF'!G77=\"\",\"\",'Environmental SARF'!G77))","v":""},{"$f":"IF(C59=\"\",\"\",IF('Environmental SARF'!$N$6=\"\",\"\",CONCATENATE('Environmental SARF'!$N$6,'Environmental SARF'!$O$6)))","v":""},{"$f":"IF(C59=\"\",\"\",IF('Environmental SARF'!$N$2=\"\",\"\",'Environmental SARF'!$N$2))","v":""},{"$f":"IF(C59=\"\",\"\",IF('Environmental SARF'!$N$4=\"\",NOW(),'Environmental SARF'!$N$4))","v":""},"",{"$f":"IF(C59=\"\",\"\", IF(AND(NOT(ISBLANK('Environmental SARF'!H77)),'Environmental SARF'!$F$8<>\"1) NA\",'Environmental SARF'!$F$8<>\"1) ...\"), \"   \"&CONCATENATE('Environmental SARF'!$H$18,'Environmental SARF'!$H$19),\"\") & IF(AND(NOT(ISBLANK('Environmental SARF'!I77)),'Environmental SARF'!$F$9<>\"2) NA\",'Environmental SARF'!$F$9<>\"2) ...\"), \"   \"&CONCATENATE('Environmental SARF'!$I$18,'Environmental SARF'!$I$19),\"\")& IF(AND(NOT(ISBLANK('Environmental SARF'!J77)),'Environmental SARF'!$F$10<>\"3) NA\",'Environmental SARF'!$F$10<>\"3) ...\"), \"   \"&CONCATENATE('Environmental SARF'!$J$18,'Environmental SARF'!$J$19),\"\") & IF(AND(NOT(ISBLANK('Environmental SARF'!K77)),'Environmental SARF'!$F$11<>\"4) NA\",'Environmental SARF'!$F$11<>\"4) ...\"), \"   \"&CONCATENATE('Environmental SARF'!$K$18,'Environmental SARF'!$K$19),\"\")& IF(AND(NOT(ISBLANK('Environmental SARF'!L77)),'Environmental SARF'!$F$12<>\"5) NA\",'Environmental SARF'!$F$12<>\"5) ...\"), \"   \"&CONCATENATE('Environmental SARF'!$L$18,'Environmental SARF'!$L$19),\"\")&IF(AND(NOT(ISBLANK('Environmental SARF'!M77)),'Environmental SARF'!$F$13<>\"6) NA\",'Environmental SARF'!$F$13<>\"6) ...\"), \"   \"&CONCATENATE('Environmental SARF'!$M$18,'Environmental SARF'!$M$19),\"\")&IF(AND(NOT(ISBLANK('Environmental SARF'!N77)),'Environmental SARF'!$F$14<>\"7) NA\",'Environmental SARF'!$F$14<>\"7) ...\"), \"   \"&CONCATENATE('Environmental SARF'!$N$18,'Environmental SARF'!$N$19),\"\") &IF(AND(NOT(ISBLANK('Environmental SARF'!O77)),'Environmental SARF'!$F$15<>\"8) NA\",'Environmental SARF'!$F$15<>\"8) ...\"), \"   \"&CONCATENATE('Environmental SARF'!$O$18,'Environmental SARF'!$O$19),\"\"))","v":""}]
[{"$f":"IF(C60=\"\",\"\",IF('Environmental SARF'!B78=\"\",\"\",'Environmental SARF'!B78))","v":""},"",{"$f":"IF('Environmental SARF'!C78=\"\",\"\",'Environmental SARF'!C78)","v":""},{"$f":"IF(C60=\"\",\"\",IF('Environmental SARF'!D78=\"\",'Environmental SARF'!$C$10,'Environmental SARF'!D78))","v":""},{"$f":"IF(B60=\"\",\"\",IF('Environmental SARF'!E78=\"\",\"\",'Environmental SARF'!E78))","v":""},{"$f":"IF(B60=\"\",\"\",IF('Environmental SARF'!F78=\"\",\"\",'Environmental SARF'!F78))","v":""},{"$f":"IF(B60=\"\",\"\",IF('Environmental SARF'!G78=\"\",\"\",'Environmental SARF'!G78))","v":""},{"$f":"IF(C60=\"\",\"\",IF('Environmental SARF'!$N$6=\"\",\"\",CONCATENATE('Environmental SARF'!$N$6,'Environmental SARF'!$O$6)))","v":""},{"$f":"IF(C60=\"\",\"\",IF('Environmental SARF'!$N$2=\"\",\"\",'Environmental SARF'!$N$2))","v":""},{"$f":"IF(C60=\"\",\"\",IF('Environmental SARF'!$N$4=\"\",NOW(),'Environmental SARF'!$N$4))","v":""},"",{"$f":"IF(C60=\"\",\"\", IF(AND(NOT(ISBLANK('Environmental SARF'!H78)),'Environmental SARF'!$F$8<>\"1) NA\",'Environmental SARF'!$F$8<>\"1) ...\"), \"   \"&CONCATENATE('Environmental SARF'!$H$18,'Environmental SARF'!$H$19),\"\") & IF(AND(NOT(ISBLANK('Environmental SARF'!I78)),'Environmental SARF'!$F$9<>\"2) NA\",'Environmental SARF'!$F$9<>\"2) ...\"), \"   \"&CONCATENATE('Environmental SARF'!$I$18,'Environmental SARF'!$I$19),\"\")& IF(AND(NOT(ISBLANK('Environmental SARF'!J78)),'Environmental SARF'!$F$10<>\"3) NA\",'Environmental SARF'!$F$10<>\"3) ...\"), \"   \"&CONCATENATE('Environmental SARF'!$J$18,'Environmental SARF'!$J$19),\"\") & IF(AND(NOT(ISBLANK('Environmental SARF'!K78)),'Environmental SARF'!$F$11<>\"4) NA\",'Environmental SARF'!$F$11<>\"4) ...\"), \"   \"&CONCATENATE('Environmental SARF'!$K$18,'Environmental SARF'!$K$19),\"\")& IF(AND(NOT(ISBLANK('Environmental SARF'!L78)),'Environmental SARF'!$F$12<>\"5) NA\",'Environmental SARF'!$F$12<>\"5) ...\"), \"   \"&CONCATENATE('Environmental SARF'!$L$18,'Environmental SARF'!$L$19),\"\")&IF(AND(NOT(ISBLANK('Environmental SARF'!M78)),'Environmental SARF'!$F$13<>\"6) NA\",'Environmental SARF'!$F$13<>\"6) ...\"), \"   \"&CONCATENATE('Environmental SARF'!$M$18,'Environmental SARF'!$M$19),\"\")&IF(AND(NOT(ISBLANK('Environmental SARF'!N78)),'Environmental SARF'!$F$14<>\"7) NA\",'Environmental SARF'!$F$14<>\"7) ...\"), \"   \"&CONCATENATE('Environmental SARF'!$N$18,'Environmental SARF'!$N$19),\"\") &IF(AND(NOT(ISBLANK('Environmental SARF'!O78)),'Environmental SARF'!$F$15<>\"8) NA\",'Environmental SARF'!$F$15<>\"8) ...\"), \"   \"&CONCATENATE('Environmental SARF'!$O$18,'Environmental SARF'!$O$19),\"\"))","v":""}]
[{"$f":"IF(C61=\"\",\"\",IF('Environmental SARF'!B79=\"\",\"\",'Environmental SARF'!B79))","v":""},"",{"$f":"IF('Environmental SARF'!C79=\"\",\"\",'Environmental SARF'!C79)","v":""},{"$f":"IF(C61=\"\",\"\",IF('Environmental SARF'!D79=\"\",'Environmental SARF'!$C$10,'Environmental SARF'!D79))","v":""},{"$f":"IF(B61=\"\",\"\",IF('Environmental SARF'!E79=\"\",\"\",'Environmental SARF'!E79))","v":""},{"$f":"IF(B61=\"\",\"\",IF('Environmental SARF'!F79=\"\",\"\",'Environmental SARF'!F79))","v":""},{"$f":"IF(B61=\"\",\"\",IF('Environmental SARF'!G79=\"\",\"\",'Environmental SARF'!G79))","v":""},{"$f":"IF(C61=\"\",\"\",IF('Environmental SARF'!$N$6=\"\",\"\",CONCATENATE('Environmental SARF'!$N$6,'Environmental SARF'!$O$6)))","v":""},{"$f":"IF(C61=\"\",\"\",IF('Environmental SARF'!$N$2=\"\",\"\",'Environmental SARF'!$N$2))","v":""},{"$f":"IF(C61=\"\",\"\",IF('Environmental SARF'!$N$4=\"\",NOW(),'Environmental SARF'!$N$4))","v":""},"",{"$f":"IF(C61=\"\",\"\", IF(AND(NOT(ISBLANK('Environmental SARF'!H79)),'Environmental SARF'!$F$8<>\"1) NA\",'Environmental SARF'!$F$8<>\"1) ...\"), \"   \"&CONCATENATE('Environmental SARF'!$H$18,'Environmental SARF'!$H$19),\"\") & IF(AND(NOT(ISBLANK('Environmental SARF'!I79)),'Environmental SARF'!$F$9<>\"2) NA\",'Environmental SARF'!$F$9<>\"2) ...\"), \"   \"&CONCATENATE('Environmental SARF'!$I$18,'Environmental SARF'!$I$19),\"\")& IF(AND(NOT(ISBLANK('Environmental SARF'!J79)),'Environmental SARF'!$F$10<>\"3) NA\",'Environmental SARF'!$F$10<>\"3) ...\"), \"   \"&CONCATENATE('Environmental SARF'!$J$18,'Environmental SARF'!$J$19),\"\") & IF(AND(NOT(ISBLANK('Environmental SARF'!K79)),'Environmental SARF'!$F$11<>\"4) NA\",'Environmental SARF'!$F$11<>\"4) ...\"), \"   \"&CONCATENATE('Environmental SARF'!$K$18,'Environmental SARF'!$K$19),\"\")& IF(AND(NOT(ISBLANK('Environmental SARF'!L79)),'Environmental SARF'!$F$12<>\"5) NA\",'Environmental SARF'!$F$12<>\"5) ...\"), \"   \"&CONCATENATE('Environmental SARF'!$L$18,'Environmental SARF'!$L$19),\"\")&IF(AND(NOT(ISBLANK('Environmental SARF'!M79)),'Environmental SARF'!$F$13<>\"6) NA\",'Environmental SARF'!$F$13<>\"6) ...\"), \"   \"&CONCATENATE('Environmental SARF'!$M$18,'Environmental SARF'!$M$19),\"\")&IF(AND(NOT(ISBLANK('Environmental SARF'!N79)),'Environmental SARF'!$F$14<>\"7) NA\",'Environmental SARF'!$F$14<>\"7) ...\"), \"   \"&CONCATENATE('Environmental SARF'!$N$18,'Environmental SARF'!$N$19),\"\") &IF(AND(NOT(ISBLANK('Environmental SARF'!O79)),'Environmental SARF'!$F$15<>\"8) NA\",'Environmental SARF'!$F$15<>\"8) ...\"), \"   \"&CONCATENATE('Environmental SARF'!$O$18,'Environmental SARF'!$O$19),\"\"))","v":""}]
[{"$f":"IF(C62=\"\",\"\",IF('Environmental SARF'!B80=\"\",\"\",'Environmental SARF'!B80))","v":""},"",{"$f":"IF('Environmental SARF'!C80=\"\",\"\",'Environmental SARF'!C80)","v":""},{"$f":"IF(C62=\"\",\"\",IF('Environmental SARF'!D80=\"\",'Environmental SARF'!$C$10,'Environmental SARF'!D80))","v":""},{"$f":"IF(B62=\"\",\"\",IF('Environmental SARF'!E80=\"\",\"\",'Environmental SARF'!E80))","v":""},{"$f":"IF(B62=\"\",\"\",IF('Environmental SARF'!F80=\"\",\"\",'Environmental SARF'!F80))","v":""},{"$f":"IF(B62=\"\",\"\",IF('Environmental SARF'!G80=\"\",\"\",'Environmental SARF'!G80))","v":""},{"$f":"IF(C62=\"\",\"\",IF('Environmental SARF'!$N$6=\"\",\"\",CONCATENATE('Environmental SARF'!$N$6,'Environmental SARF'!$O$6)))","v":""},{"$f":"IF(C62=\"\",\"\",IF('Environmental SARF'!$N$2=\"\",\"\",'Environmental SARF'!$N$2))","v":""},{"$f":"IF(C62=\"\",\"\",IF('Environmental SARF'!$N$4=\"\",NOW(),'Environmental SARF'!$N$4))","v":""},"",{"$f":"IF(C62=\"\",\"\", IF(AND(NOT(ISBLANK('Environmental SARF'!H80)),'Environmental SARF'!$F$8<>\"1) NA\",'Environmental SARF'!$F$8<>\"1) ...\"), \"   \"&CONCATENATE('Environmental SARF'!$H$18,'Environmental SARF'!$H$19),\"\") & IF(AND(NOT(ISBLANK('Environmental SARF'!I80)),'Environmental SARF'!$F$9<>\"2) NA\",'Environmental SARF'!$F$9<>\"2) ...\"), \"   \"&CONCATENATE('Environmental SARF'!$I$18,'Environmental SARF'!$I$19),\"\")& IF(AND(NOT(ISBLANK('Environmental SARF'!J80)),'Environmental SARF'!$F$10<>\"3) NA\",'Environmental SARF'!$F$10<>\"3) ...\"), \"   \"&CONCATENATE('Environmental SARF'!$J$18,'Environmental SARF'!$J$19),\"\") & IF(AND(NOT(ISBLANK('Environmental SARF'!K80)),'Environmental SARF'!$F$11<>\"4) NA\",'Environmental SARF'!$F$11<>\"4) ...\"), \"   \"&CONCATENATE('Environmental SARF'!$K$18,'Environmental SARF'!$K$19),\"\")& IF(AND(NOT(ISBLANK('Environmental SARF'!L80)),'Environmental SARF'!$F$12<>\"5) NA\",'Environmental SARF'!$F$12<>\"5) ...\"), \"   \"&CONCATENATE('Environmental SARF'!$L$18,'Environmental SARF'!$L$19),\"\")&IF(AND(NOT(ISBLANK('Environmental SARF'!M80)),'Environmental SARF'!$F$13<>\"6) NA\",'Environmental SARF'!$F$13<>\"6) ...\"), \"   \"&CONCATENATE('Environmental SARF'!$M$18,'Environmental SARF'!$M$19),\"\")&IF(AND(NOT(ISBLANK('Environmental SARF'!N80)),'Environmental SARF'!$F$14<>\"7) NA\",'Environmental SARF'!$F$14<>\"7) ...\"), \"   \"&CONCATENATE('Environmental SARF'!$N$18,'Environmental SARF'!$N$19),\"\") &IF(AND(NOT(ISBLANK('Environmental SARF'!O80)),'Environmental SARF'!$F$15<>\"8) NA\",'Environmental SARF'!$F$15<>\"8) ...\"), \"   \"&CONCATENATE('Environmental SARF'!$O$18,'Environmental SARF'!$O$19),\"\"))","v":""}]
[{"$f":"IF(C63=\"\",\"\",IF('Environmental SARF'!B81=\"\",\"\",'Environmental SARF'!B81))","v":""},"",{"$f":"IF('Environmental SARF'!C81=\"\",\"\",'Environmental SARF'!C81)","v":""},{"$f":"IF(C63=\"\",\"\",IF('Environmental SARF'!D81=\"\",'Environmental SARF'!$C$10,'Environmental SARF'!D81))","v":""},{"$f":"IF(B63=\"\",\"\",IF('Environmental SARF'!E81=\"\",\"\",'Environmental SARF'!E81))","v":""},{"$f":"IF(B63=\"\",\"\",IF('Environmental SARF'!F81=\"\",\"\",'Environmental SARF'!F81))","v":""},{"$f":"IF(B63=\"\",\"\",IF('Environmental SARF'!G81=\"\",\"\",'Environmental SARF'!G81))","v":""},{"$f":"IF(C63=\"\",\"\",IF('Environmental SARF'!$N$6=\"\",\"\",CONCATENATE('Environmental SARF'!$N$6,'Environmental SARF'!$O$6)))","v":""},{"$f":"IF(C63=\"\",\"\",IF('Environmental SARF'!$N$2=\"\",\"\",'Environmental SARF'!$N$2))","v":""},{"$f":"IF(C63=\"\",\"\",IF('Environmental SARF'!$N$4=\"\",NOW(),'Environmental SARF'!$N$4))","v":""},"",{"$f":"IF(C63=\"\",\"\", IF(AND(NOT(ISBLANK('Environmental SARF'!H81)),'Environmental SARF'!$F$8<>\"1) NA\",'Environmental SARF'!$F$8<>\"1) ...\"), \"   \"&CONCATENATE('Environmental SARF'!$H$18,'Environmental SARF'!$H$19),\"\") & IF(AND(NOT(ISBLANK('Environmental SARF'!I81)),'Environmental SARF'!$F$9<>\"2) NA\",'Environmental SARF'!$F$9<>\"2) ...\"), \"   \"&CONCATENATE('Environmental SARF'!$I$18,'Environmental SARF'!$I$19),\"\")& IF(AND(NOT(ISBLANK('Environmental SARF'!J81)),'Environmental SARF'!$F$10<>\"3) NA\",'Environmental SARF'!$F$10<>\"3) ...\"), \"   \"&CONCATENATE('Environmental SARF'!$J$18,'Environmental SARF'!$J$19),\"\") & IF(AND(NOT(ISBLANK('Environmental SARF'!K81)),'Environmental SARF'!$F$11<>\"4) NA\",'Environmental SARF'!$F$11<>\"4) ...\"), \"   \"&CONCATENATE('Environmental SARF'!$K$18,'Environmental SARF'!$K$19),\"\")& IF(AND(NOT(ISBLANK('Environmental SARF'!L81)),'Environmental SARF'!$F$12<>\"5) NA\",'Environmental SARF'!$F$12<>\"5) ...\"), \"   \"&CONCATENATE('Environmental SARF'!$L$18,'Environmental SARF'!$L$19),\"\")&IF(AND(NOT(ISBLANK('Environmental SARF'!M81)),'Environmental SARF'!$F$13<>\"6) NA\",'Environmental SARF'!$F$13<>\"6) ...\"), \"   \"&CONCATENATE('Environmental SARF'!$M$18,'Environmental SARF'!$M$19),\"\")&IF(AND(NOT(ISBLANK('Environmental SARF'!N81)),'Environmental SARF'!$F$14<>\"7) NA\",'Environmental SARF'!$F$14<>\"7) ...\"), \"   \"&CONCATENATE('Environmental SARF'!$N$18,'Environmental SARF'!$N$19),\"\") &IF(AND(NOT(ISBLANK('Environmental SARF'!O81)),'Environmental SARF'!$F$15<>\"8) NA\",'Environmental SARF'!$F$15<>\"8) ...\"), \"   \"&CONCATENATE('Environmental SARF'!$O$18,'Environmental SARF'!$O$19),\"\"))","v":""}]
[{"$f":"IF(C64=\"\",\"\",IF('Environmental SARF'!B82=\"\",\"\",'Environmental SARF'!B82))","v":""},"",{"$f":"IF('Environmental SARF'!C82=\"\",\"\",'Environmental SARF'!C82)","v":""},{"$f":"IF(C64=\"\",\"\",IF('Environmental SARF'!D82=\"\",'Environmental SARF'!$C$10,'Environmental SARF'!D82))","v":""},{"$f":"IF(B64=\"\",\"\",IF('Environmental SARF'!E82=\"\",\"\",'Environmental SARF'!E82))","v":""},{"$f":"IF(B64=\"\",\"\",IF('Environmental SARF'!F82=\"\",\"\",'Environmental SARF'!F82))","v":""},{"$f":"IF(B64=\"\",\"\",IF('Environmental SARF'!G82=\"\",\"\",'Environmental SARF'!G82))","v":""},{"$f":"IF(C64=\"\",\"\",IF('Environmental SARF'!$N$6=\"\",\"\",CONCATENATE('Environmental SARF'!$N$6,'Environmental SARF'!$O$6)))","v":""},{"$f":"IF(C64=\"\",\"\",IF('Environmental SARF'!$N$2=\"\",\"\",'Environmental SARF'!$N$2))","v":""},{"$f":"IF(C64=\"\",\"\",IF('Environmental SARF'!$N$4=\"\",NOW(),'Environmental SARF'!$N$4))","v":""},"",{"$f":"IF(C64=\"\",\"\", IF(AND(NOT(ISBLANK('Environmental SARF'!H82)),'Environmental SARF'!$F$8<>\"1) NA\",'Environmental SARF'!$F$8<>\"1) ...\"), \"   \"&CONCATENATE('Environmental SARF'!$H$18,'Environmental SARF'!$H$19),\"\") & IF(AND(NOT(ISBLANK('Environmental SARF'!I82)),'Environmental SARF'!$F$9<>\"2) NA\",'Environmental SARF'!$F$9<>\"2) ...\"), \"   \"&CONCATENATE('Environmental SARF'!$I$18,'Environmental SARF'!$I$19),\"\")& IF(AND(NOT(ISBLANK('Environmental SARF'!J82)),'Environmental SARF'!$F$10<>\"3) NA\",'Environmental SARF'!$F$10<>\"3) ...\"), \"   \"&CONCATENATE('Environmental SARF'!$J$18,'Environmental SARF'!$J$19),\"\") & IF(AND(NOT(ISBLANK('Environmental SARF'!K82)),'Environmental SARF'!$F$11<>\"4) NA\",'Environmental SARF'!$F$11<>\"4) ...\"), \"   \"&CONCATENATE('Environmental SARF'!$K$18,'Environmental SARF'!$K$19),\"\")& IF(AND(NOT(ISBLANK('Environmental SARF'!L82)),'Environmental SARF'!$F$12<>\"5) NA\",'Environmental SARF'!$F$12<>\"5) ...\"), \"   \"&CONCATENATE('Environmental SARF'!$L$18,'Environmental SARF'!$L$19),\"\")&IF(AND(NOT(ISBLANK('Environmental SARF'!M82)),'Environmental SARF'!$F$13<>\"6) NA\",'Environmental SARF'!$F$13<>\"6) ...\"), \"   \"&CONCATENATE('Environmental SARF'!$M$18,'Environmental SARF'!$M$19),\"\")&IF(AND(NOT(ISBLANK('Environmental SARF'!N82)),'Environmental SARF'!$F$14<>\"7) NA\",'Environmental SARF'!$F$14<>\"7) ...\"), \"   \"&CONCATENATE('Environmental SARF'!$N$18,'Environmental SARF'!$N$19),\"\") &IF(AND(NOT(ISBLANK('Environmental SARF'!O82)),'Environmental SARF'!$F$15<>\"8) NA\",'Environmental SARF'!$F$15<>\"8) ...\"), \"   \"&CONCATENATE('Environmental SARF'!$O$18,'Environmental SARF'!$O$19),\"\"))","v":""}]
[{"$f":"IF(C65=\"\",\"\",IF('Environmental SARF'!B83=\"\",\"\",'Environmental SARF'!B83))","v":""},"",{"$f":"IF('Environmental SARF'!C83=\"\",\"\",'Environmental SARF'!C83)","v":""},{"$f":"IF(C65=\"\",\"\",IF('Environmental SARF'!D83=\"\",'Environmental SARF'!$C$10,'Environmental SARF'!D83))","v":""},{"$f":"IF(B65=\"\",\"\",IF('Environmental SARF'!E83=\"\",\"\",'Environmental SARF'!E83))","v":""},{"$f":"IF(B65=\"\",\"\",IF('Environmental SARF'!F83=\"\",\"\",'Environmental SARF'!F83))","v":""},{"$f":"IF(B65=\"\",\"\",IF('Environmental SARF'!G83=\"\",\"\",'Environmental SARF'!G83))","v":""},{"$f":"IF(C65=\"\",\"\",IF('Environmental SARF'!$N$6=\"\",\"\",CONCATENATE('Environmental SARF'!$N$6,'Environmental SARF'!$O$6)))","v":""},{"$f":"IF(C65=\"\",\"\",IF('Environmental SARF'!$N$2=\"\",\"\",'Environmental SARF'!$N$2))","v":""},{"$f":"IF(C65=\"\",\"\",IF('Environmental SARF'!$N$4=\"\",NOW(),'Environmental SARF'!$N$4))","v":""},"",{"$f":"IF(C65=\"\",\"\", IF(AND(NOT(ISBLANK('Environmental SARF'!H83)),'Environmental SARF'!$F$8<>\"1) NA\",'Environmental SARF'!$F$8<>\"1) ...\"), \"   \"&CONCATENATE('Environmental SARF'!$H$18,'Environmental SARF'!$H$19),\"\") & IF(AND(NOT(ISBLANK('Environmental SARF'!I83)),'Environmental SARF'!$F$9<>\"2) NA\",'Environmental SARF'!$F$9<>\"2) ...\"), \"   \"&CONCATENATE('Environmental SARF'!$I$18,'Environmental SARF'!$I$19),\"\")& IF(AND(NOT(ISBLANK('Environmental SARF'!J83)),'Environmental SARF'!$F$10<>\"3) NA\",'Environmental SARF'!$F$10<>\"3) ...\"), \"   \"&CONCATENATE('Environmental SARF'!$J$18,'Environmental SARF'!$J$19),\"\") & IF(AND(NOT(ISBLANK('Environmental SARF'!K83)),'Environmental SARF'!$F$11<>\"4) NA\",'Environmental SARF'!$F$11<>\"4) ...\"), \"   \"&CONCATENATE('Environmental SARF'!$K$18,'Environmental SARF'!$K$19),\"\")& IF(AND(NOT(ISBLANK('Environmental SARF'!L83)),'Environmental SARF'!$F$12<>\"5) NA\",'Environmental SARF'!$F$12<>\"5) ...\"), \"   \"&CONCATENATE('Environmental SARF'!$L$18,'Environmental SARF'!$L$19),\"\")&IF(AND(NOT(ISBLANK('Environmental SARF'!M83)),'Environmental SARF'!$F$13<>\"6) NA\",'Environmental SARF'!$F$13<>\"6) ...\"), \"   \"&CONCATENATE('Environmental SARF'!$M$18,'Environmental SARF'!$M$19),\"\")&IF(AND(NOT(ISBLANK('Environmental SARF'!N83)),'Environmental SARF'!$F$14<>\"7) NA\",'Environmental SARF'!$F$14<>\"7) ...\"), \"   \"&CONCATENATE('Environmental SARF'!$N$18,'Environmental SARF'!$N$19),\"\") &IF(AND(NOT(ISBLANK('Environmental SARF'!O83)),'Environmental SARF'!$F$15<>\"8) NA\",'Environmental SARF'!$F$15<>\"8) ...\"), \"   \"&CONCATENATE('Environmental SARF'!$O$18,'Environmental SARF'!$O$19),\"\"))","v":""}]
[{"$f":"IF(C66=\"\",\"\",IF('Environmental SARF'!B84=\"\",\"\",'Environmental SARF'!B84))","v":""},"",{"$f":"IF('Environmental SARF'!C84=\"\",\"\",'Environmental SARF'!C84)","v":""},{"$f":"IF(C66=\"\",\"\",IF('Environmental SARF'!D84=\"\",'Environmental SARF'!$C$10,'Environmental SARF'!D84))","v":""},{"$f":"IF(B66=\"\",\"\",IF('Environmental SARF'!E84=\"\",\"\",'Environmental SARF'!E84))","v":""},{"$f":"IF(B66=\"\",\"\",IF('Environmental SARF'!F84=\"\",\"\",'Environmental SARF'!F84))","v":""},{"$f":"IF(B66=\"\",\"\",IF('Environmental SARF'!G84=\"\",\"\",'Environmental SARF'!G84))","v":""},{"$f":"IF(C66=\"\",\"\",IF('Environmental SARF'!$N$6=\"\",\"\",CONCATENATE('Environmental SARF'!$N$6,'Environmental SARF'!$O$6)))","v":""},{"$f":"IF(C66=\"\",\"\",IF('Environmental SARF'!$N$2=\"\",\"\",'Environmental SARF'!$N$2))","v":""},{"$f":"IF(C66=\"\",\"\",IF('Environmental SARF'!$N$4=\"\",NOW(),'Environmental SARF'!$N$4))","v":""},"",{"$f":"IF(C66=\"\",\"\", IF(AND(NOT(ISBLANK('Environmental SARF'!H84)),'Environmental SARF'!$F$8<>\"1) NA\",'Environmental SARF'!$F$8<>\"1) ...\"), \"   \"&CONCATENATE('Environmental SARF'!$H$18,'Environmental SARF'!$H$19),\"\") & IF(AND(NOT(ISBLANK('Environmental SARF'!I84)),'Environmental SARF'!$F$9<>\"2) NA\",'Environmental SARF'!$F$9<>\"2) ...\"), \"   \"&CONCATENATE('Environmental SARF'!$I$18,'Environmental SARF'!$I$19),\"\")& IF(AND(NOT(ISBLANK('Environmental SARF'!J84)),'Environmental SARF'!$F$10<>\"3) NA\",'Environmental SARF'!$F$10<>\"3) ...\"), \"   \"&CONCATENATE('Environmental SARF'!$J$18,'Environmental SARF'!$J$19),\"\") & IF(AND(NOT(ISBLANK('Environmental SARF'!K84)),'Environmental SARF'!$F$11<>\"4) NA\",'Environmental SARF'!$F$11<>\"4) ...\"), \"   \"&CONCATENATE('Environmental SARF'!$K$18,'Environmental SARF'!$K$19),\"\")& IF(AND(NOT(ISBLANK('Environmental SARF'!L84)),'Environmental SARF'!$F$12<>\"5) NA\",'Environmental SARF'!$F$12<>\"5) ...\"), \"   \"&CONCATENATE('Environmental SARF'!$L$18,'Environmental SARF'!$L$19),\"\")&IF(AND(NOT(ISBLANK('Environmental SARF'!M84)),'Environmental SARF'!$F$13<>\"6) NA\",'Environmental SARF'!$F$13<>\"6) ...\"), \"   \"&CONCATENATE('Environmental SARF'!$M$18,'Environmental SARF'!$M$19),\"\")&IF(AND(NOT(ISBLANK('Environmental SARF'!N84)),'Environmental SARF'!$F$14<>\"7) NA\",'Environmental SARF'!$F$14<>\"7) ...\"), \"   \"&CONCATENATE('Environmental SARF'!$N$18,'Environmental SARF'!$N$19),\"\") &IF(AND(NOT(ISBLANK('Environmental SARF'!O84)),'Environmental SARF'!$F$15<>\"8) NA\",'Environmental SARF'!$F$15<>\"8) ...\"), \"   \"&CONCATENATE('Environmental SARF'!$O$18,'Environmental SARF'!$O$19),\"\"))","v":""}]
[{"$f":"IF(C67=\"\",\"\",IF('Environmental SARF'!B85=\"\",\"\",'Environmental SARF'!B85))","v":""},{"$f":"IF(C67=\"\",\"\",\"Environmental\")","v":""},{"$f":"IF('Environmental SARF'!C85=\"\",\"\",'Environmental SARF'!C85)","v":""},{"$f":"IF(C67=\"\",\"\",IF('Environmental SARF'!D85=\"\",'Environmental SARF'!$C$10,'Environmental SARF'!D85))","v":""},{"$f":"IF(B67=\"\",\"\",IF('Environmental SARF'!E85=\"\",\"\",'Environmental SARF'!E85))","v":""},{"$f":"IF(B67=\"\",\"\",IF('Environmental SARF'!F85=\"\",\"\",'Environmental SARF'!F85))","v":""},{"$f":"IF(B67=\"\",\"\",IF('Environmental SARF'!G85=\"\",\"\",'Environmental SARF'!G85))","v":""},{"$f":"IF(C67=\"\",\"\",IF('Environmental SARF'!$N$6=\"\",\"\",CONCATENATE('Environmental SARF'!$N$6,'Environmental SARF'!$O$6)))","v":""},{"$f":"IF(C67=\"\",\"\",IF('Environmental SARF'!$N$2=\"\",\"\",'Environmental SARF'!$N$2))","v":""},{"$f":"IF(C67=\"\",\"\",IF('Environmental SARF'!$N$4=\"\",NOW(),'Environmental SARF'!$N$4))","v":""},{"$f":"IF(C67=\"\",\"\",NOW())","v":""},{"$f":"IF(C67=\"\",\"\", IF(AND(NOT(ISBLANK('Environmental SARF'!H85)),'Environmental SARF'!$F$8<>\"1) NA\",'Environmental SARF'!$F$8<>\"1) ...\"), \"   \"&CONCATENATE('Environmental SARF'!$H$18,'Environmental SARF'!$H$19),\"\") & IF(AND(NOT(ISBLANK('Environmental SARF'!I85)),'Environmental SARF'!$F$9<>\"2) NA\",'Environmental SARF'!$F$9<>\"2) ...\"), \"   \"&CONCATENATE('Environmental SARF'!$I$18,'Environmental SARF'!$I$19),\"\")& IF(AND(NOT(ISBLANK('Environmental SARF'!J85)),'Environmental SARF'!$F$10<>\"3) NA\",'Environmental SARF'!$F$10<>\"3) ...\"), \"   \"&CONCATENATE('Environmental SARF'!$J$18,'Environmental SARF'!$J$19),\"\") & IF(AND(NOT(ISBLANK('Environmental SARF'!K85)),'Environmental SARF'!$F$11<>\"4) NA\",'Environmental SARF'!$F$11<>\"4) ...\"), \"   \"&CONCATENATE('Environmental SARF'!$K$18,'Environmental SARF'!$K$19),\"\")& IF(AND(NOT(ISBLANK('Environmental SARF'!L85)),'Environmental SARF'!$F$12<>\"5) NA\",'Environmental SARF'!$F$12<>\"5) ...\"), \"   \"&CONCATENATE('Environmental SARF'!$L$18,'Environmental SARF'!$L$19),\"\")&IF(AND(NOT(ISBLANK('Environmental SARF'!M85)),'Environmental SARF'!$F$13<>\"6) NA\",'Environmental SARF'!$F$13<>\"6) ...\"), \"   \"&CONCATENATE('Environmental SARF'!$M$18,'Environmental SARF'!$M$19),\"\")&IF(AND(NOT(ISBLANK('Environmental SARF'!N85)),'Environmental SARF'!$F$14<>\"7) NA\",'Environmental SARF'!$F$14<>\"7) ...\"), \"   \"&CONCATENATE('Environmental SARF'!$N$18,'Environmental SARF'!$N$19),\"\") &IF(AND(NOT(ISBLANK('Environmental SARF'!O85)),'Environmental SARF'!$F$15<>\"8) NA\",'Environmental SARF'!$F$15<>\"8) ...\"), \"   \"&CONCATENATE('Environmental SARF'!$O$18,'Environmental SARF'!$O$19),\"\"))","v":""}]
[{"$f":"IF(C68=\"\",\"\",IF('Environmental SARF'!B86=\"\",\"\",'Environmental SARF'!B86))","v":""},"",{"$f":"IF('Environmental SARF'!C86=\"\",\"\",'Environmental SARF'!C86)","v":""},{"$f":"IF(C68=\"\",\"\",IF('Environmental SARF'!D86=\"\",'Environmental SARF'!$C$10,'Environmental SARF'!D86))","v":""},{"$f":"IF(B68=\"\",\"\",IF('Environmental SARF'!E86=\"\",\"\",'Environmental SARF'!E86))","v":""},{"$f":"IF(B68=\"\",\"\",IF('Environmental SARF'!F86=\"\",\"\",'Environmental SARF'!F86))","v":""},{"$f":"IF(B68=\"\",\"\",IF('Environmental SARF'!G86=\"\",\"\",'Environmental SARF'!G86))","v":""},{"$f":"IF(C68=\"\",\"\",IF('Environmental SARF'!$N$6=\"\",\"\",CONCATENATE('Environmental SARF'!$N$6,'Environmental SARF'!$O$6)))","v":""},{"$f":"IF(C68=\"\",\"\",IF('Environmental SARF'!$N$2=\"\",\"\",'Environmental SARF'!$N$2))","v":""},{"$f":"IF(C68=\"\",\"\",IF('Environmental SARF'!$N$4=\"\",NOW(),'Environmental SARF'!$N$4))","v":""},"",{"$f":"IF(C68=\"\",\"\", IF(AND(NOT(ISBLANK('Environmental SARF'!H86)),'Environmental SARF'!$F$8<>\"1) NA\",'Environmental SARF'!$F$8<>\"1) ...\"), \"   \"&CONCATENATE('Environmental SARF'!$H$18,'Environmental SARF'!$H$19),\"\") & IF(AND(NOT(ISBLANK('Environmental SARF'!I86)),'Environmental SARF'!$F$9<>\"2) NA\",'Environmental SARF'!$F$9<>\"2) ...\"), \"   \"&CONCATENATE('Environmental SARF'!$I$18,'Environmental SARF'!$I$19),\"\")& IF(AND(NOT(ISBLANK('Environmental SARF'!J86)),'Environmental SARF'!$F$10<>\"3) NA\",'Environmental SARF'!$F$10<>\"3) ...\"), \"   \"&CONCATENATE('Environmental SARF'!$J$18,'Environmental SARF'!$J$19),\"\") & IF(AND(NOT(ISBLANK('Environmental SARF'!K86)),'Environmental SARF'!$F$11<>\"4) NA\",'Environmental SARF'!$F$11<>\"4) ...\"), \"   \"&CONCATENATE('Environmental SARF'!$K$18,'Environmental SARF'!$K$19),\"\")& IF(AND(NOT(ISBLANK('Environmental SARF'!L86)),'Environmental SARF'!$F$12<>\"5) NA\",'Environmental SARF'!$F$12<>\"5) ...\"), \"   \"&CONCATENATE('Environmental SARF'!$L$18,'Environmental SARF'!$L$19),\"\")&IF(AND(NOT(ISBLANK('Environmental SARF'!M86)),'Environmental SARF'!$F$13<>\"6) NA\",'Environmental SARF'!$F$13<>\"6) ...\"), \"   \"&CONCATENATE('Environmental SARF'!$M$18,'Environmental SARF'!$M$19),\"\")&IF(AND(NOT(ISBLANK('Environmental SARF'!N86)),'Environmental SARF'!$F$14<>\"7) NA\",'Environmental SARF'!$F$14<>\"7) ...\"), \"   \"&CONCATENATE('Environmental SARF'!$N$18,'Environmental SARF'!$N$19),\"\") &IF(AND(NOT(ISBLANK('Environmental SARF'!O86)),'Environmental SARF'!$F$15<>\"8) NA\",'Environmental SARF'!$F$15<>\"8) ...\"), \"   \"&CONCATENATE('Environmental SARF'!$O$18,'Environmental SARF'!$O$19),\"\"))","v":""}]
[{"$f":"IF(C69=\"\",\"\",IF('Environmental SARF'!B87=\"\",\"\",'Environmental SARF'!B87))","v":""},"",{"$f":"IF('Environmental SARF'!C87=\"\",\"\",'Environmental SARF'!C87)","v":""},{"$f":"IF(C69=\"\",\"\",IF('Environmental SARF'!D87=\"\",'Environmental SARF'!$C$10,'Environmental SARF'!D87))","v":""},{"$f":"IF(B69=\"\",\"\",IF('Environmental SARF'!E87=\"\",\"\",'Environmental SARF'!E87))","v":""},{"$f":"IF(B69=\"\",\"\",IF('Environmental SARF'!F87=\"\",\"\",'Environmental SARF'!F87))","v":""},{"$f":"IF(B69=\"\",\"\",IF('Environmental SARF'!G87=\"\",\"\",'Environmental SARF'!G87))","v":""},{"$f":"IF(C69=\"\",\"\",IF('Environmental SARF'!$N$6=\"\",\"\",CONCATENATE('Environmental SARF'!$N$6,'Environmental SARF'!$O$6)))","v":""},{"$f":"IF(C69=\"\",\"\",IF('Environmental SARF'!$N$2=\"\",\"\",'Environmental SARF'!$N$2))","v":""},{"$f":"IF(C69=\"\",\"\",IF('Environmental SARF'!$N$4=\"\",NOW(),'Environmental SARF'!$N$4))","v":""},"",{"$f":"IF(C69=\"\",\"\", IF(AND(NOT(ISBLANK('Environmental SARF'!H87)),'Environmental SARF'!$F$8<>\"1) NA\",'Environmental SARF'!$F$8<>\"1) ...\"), \"   \"&CONCATENATE('Environmental SARF'!$H$18,'Environmental SARF'!$H$19),\"\") & IF(AND(NOT(ISBLANK('Environmental SARF'!I87)),'Environmental SARF'!$F$9<>\"2) NA\",'Environmental SARF'!$F$9<>\"2) ...\"), \"   \"&CONCATENATE('Environmental SARF'!$I$18,'Environmental SARF'!$I$19),\"\")& IF(AND(NOT(ISBLANK('Environmental SARF'!J87)),'Environmental SARF'!$F$10<>\"3) NA\",'Environmental SARF'!$F$10<>\"3) ...\"), \"   \"&CONCATENATE('Environmental SARF'!$J$18,'Environmental SARF'!$J$19),\"\") & IF(AND(NOT(ISBLANK('Environmental SARF'!K87)),'Environmental SARF'!$F$11<>\"4) NA\",'Environmental SARF'!$F$11<>\"4) ...\"), \"   \"&CONCATENATE('Environmental SARF'!$K$18,'Environmental SARF'!$K$19),\"\")& IF(AND(NOT(ISBLANK('Environmental SARF'!L87)),'Environmental SARF'!$F$12<>\"5) NA\",'Environmental SARF'!$F$12<>\"5) ...\"), \"   \"&CONCATENATE('Environmental SARF'!$L$18,'Environmental SARF'!$L$19),\"\")&IF(AND(NOT(ISBLANK('Environmental SARF'!M87)),'Environmental SARF'!$F$13<>\"6) NA\",'Environmental SARF'!$F$13<>\"6) ...\"), \"   \"&CONCATENATE('Environmental SARF'!$M$18,'Environmental SARF'!$M$19),\"\")&IF(AND(NOT(ISBLANK('Environmental SARF'!N87)),'Environmental SARF'!$F$14<>\"7) NA\",'Environmental SARF'!$F$14<>\"7) ...\"), \"   \"&CONCATENATE('Environmental SARF'!$N$18,'Environmental SARF'!$N$19),\"\") &IF(AND(NOT(ISBLANK('Environmental SARF'!O87)),'Environmental SARF'!$F$15<>\"8) NA\",'Environmental SARF'!$F$15<>\"8) ...\"), \"   \"&CONCATENATE('Environmental SARF'!$O$18,'Environmental SARF'!$O$19),\"\"))","v":""}]
[{"$f":"IF(C70=\"\",\"\",IF('Environmental SARF'!B88=\"\",\"\",'Environmental SARF'!B88))","v":""},"",{"$f":"IF('Environmental SARF'!C88=\"\",\"\",'Environmental SARF'!C88)","v":""},{"$f":"IF(C70=\"\",\"\",IF('Environmental SARF'!D88=\"\",'Environmental SARF'!$C$10,'Environmental SARF'!D88))","v":""},{"$f":"IF(B70=\"\",\"\",IF('Environmental SARF'!E88=\"\",\"\",'Environmental SARF'!E88))","v":""},{"$f":"IF(B70=\"\",\"\",IF('Environmental SARF'!F88=\"\",\"\",'Environmental SARF'!F88))","v":""},{"$f":"IF(B70=\"\",\"\",IF('Environmental SARF'!G88=\"\",\"\",'Environmental SARF'!G88))","v":""},{"$f":"IF(C70=\"\",\"\",IF('Environmental SARF'!$N$6=\"\",\"\",CONCATENATE('Environmental SARF'!$N$6,'Environmental SARF'!$O$6)))","v":""},{"$f":"IF(C70=\"\",\"\",IF('Environmental SARF'!$N$2=\"\",\"\",'Environmental SARF'!$N$2))","v":""},{"$f":"IF(C70=\"\",\"\",IF('Environmental SARF'!$N$4=\"\",NOW(),'Environmental SARF'!$N$4))","v":""},"",{"$f":"IF(C70=\"\",\"\", IF(AND(NOT(ISBLANK('Environmental SARF'!H88)),'Environmental SARF'!$F$8<>\"1) NA\",'Environmental SARF'!$F$8<>\"1) ...\"), \"   \"&CONCATENATE('Environmental SARF'!$H$18,'Environmental SARF'!$H$19),\"\") & IF(AND(NOT(ISBLANK('Environmental SARF'!I88)),'Environmental SARF'!$F$9<>\"2) NA\",'Environmental SARF'!$F$9<>\"2) ...\"), \"   \"&CONCATENATE('Environmental SARF'!$I$18,'Environmental SARF'!$I$19),\"\")& IF(AND(NOT(ISBLANK('Environmental SARF'!J88)),'Environmental SARF'!$F$10<>\"3) NA\",'Environmental SARF'!$F$10<>\"3) ...\"), \"   \"&CONCATENATE('Environmental SARF'!$J$18,'Environmental SARF'!$J$19),\"\") & IF(AND(NOT(ISBLANK('Environmental SARF'!K88)),'Environmental SARF'!$F$11<>\"4) NA\",'Environmental SARF'!$F$11<>\"4) ...\"), \"   \"&CONCATENATE('Environmental SARF'!$K$18,'Environmental SARF'!$K$19),\"\")& IF(AND(NOT(ISBLANK('Environmental SARF'!L88)),'Environmental SARF'!$F$12<>\"5) NA\",'Environmental SARF'!$F$12<>\"5) ...\"), \"   \"&CONCATENATE('Environmental SARF'!$L$18,'Environmental SARF'!$L$19),\"\")&IF(AND(NOT(ISBLANK('Environmental SARF'!M88)),'Environmental SARF'!$F$13<>\"6) NA\",'Environmental SARF'!$F$13<>\"6) ...\"), \"   \"&CONCATENATE('Environmental SARF'!$M$18,'Environmental SARF'!$M$19),\"\")&IF(AND(NOT(ISBLANK('Environmental SARF'!N88)),'Environmental SARF'!$F$14<>\"7) NA\",'Environmental SARF'!$F$14<>\"7) ...\"), \"   \"&CONCATENATE('Environmental SARF'!$N$18,'Environmental SARF'!$N$19),\"\") &IF(AND(NOT(ISBLANK('Environmental SARF'!O88)),'Environmental SARF'!$F$15<>\"8) NA\",'Environmental SARF'!$F$15<>\"8) ...\"), \"   \"&CONCATENATE('Environmental SARF'!$O$18,'Environmental SARF'!$O$19),\"\"))","v":""}]
[{"$f":"IF(C71=\"\",\"\",IF('Environmental SARF'!B89=\"\",\"\",'Environmental SARF'!B89))","v":""},"",{"$f":"IF('Environmental SARF'!C89=\"\",\"\",'Environmental SARF'!C89)","v":""},{"$f":"IF(C71=\"\",\"\",IF('Environmental SARF'!D89=\"\",'Environmental SARF'!$C$10,'Environmental SARF'!D89))","v":""},{"$f":"IF(B71=\"\",\"\",IF('Environmental SARF'!E89=\"\",\"\",'Environmental SARF'!E89))","v":""},{"$f":"IF(B71=\"\",\"\",IF('Environmental SARF'!F89=\"\",\"\",'Environmental SARF'!F89))","v":""},{"$f":"IF(B71=\"\",\"\",IF('Environmental SARF'!G89=\"\",\"\",'Environmental SARF'!G89))","v":""},{"$f":"IF(C71=\"\",\"\",IF('Environmental SARF'!$N$6=\"\",\"\",CONCATENATE('Environmental SARF'!$N$6,'Environmental SARF'!$O$6)))","v":""},{"$f":"IF(C71=\"\",\"\",IF('Environmental SARF'!$N$2=\"\",\"\",'Environmental SARF'!$N$2))","v":""},{"$f":"IF(C71=\"\",\"\",IF('Environmental SARF'!$N$4=\"\",NOW(),'Environmental SARF'!$N$4))","v":""},"",{"$f":"IF(C71=\"\",\"\", IF(AND(NOT(ISBLANK('Environmental SARF'!H89)),'Environmental SARF'!$F$8<>\"1) NA\",'Environmental SARF'!$F$8<>\"1) ...\"), \"   \"&CONCATENATE('Environmental SARF'!$H$18,'Environmental SARF'!$H$19),\"\") & IF(AND(NOT(ISBLANK('Environmental SARF'!I89)),'Environmental SARF'!$F$9<>\"2) NA\",'Environmental SARF'!$F$9<>\"2) ...\"), \"   \"&CONCATENATE('Environmental SARF'!$I$18,'Environmental SARF'!$I$19),\"\")& IF(AND(NOT(ISBLANK('Environmental SARF'!J89)),'Environmental SARF'!$F$10<>\"3) NA\",'Environmental SARF'!$F$10<>\"3) ...\"), \"   \"&CONCATENATE('Environmental SARF'!$J$18,'Environmental SARF'!$J$19),\"\") & IF(AND(NOT(ISBLANK('Environmental SARF'!K89)),'Environmental SARF'!$F$11<>\"4) NA\",'Environmental SARF'!$F$11<>\"4) ...\"), \"   \"&CONCATENATE('Environmental SARF'!$K$18,'Environmental SARF'!$K$19),\"\")& IF(AND(NOT(ISBLANK('Environmental SARF'!L89)),'Environmental SARF'!$F$12<>\"5) NA\",'Environmental SARF'!$F$12<>\"5) ...\"), \"   \"&CONCATENATE('Environmental SARF'!$L$18,'Environmental SARF'!$L$19),\"\")&IF(AND(NOT(ISBLANK('Environmental SARF'!M89)),'Environmental SARF'!$F$13<>\"6) NA\",'Environmental SARF'!$F$13<>\"6) ...\"), \"   \"&CONCATENATE('Environmental SARF'!$M$18,'Environmental SARF'!$M$19),\"\")&IF(AND(NOT(ISBLANK('Environmental SARF'!N89)),'Environmental SARF'!$F$14<>\"7) NA\",'Environmental SARF'!$F$14<>\"7) ...\"), \"   \"&CONCATENATE('Environmental SARF'!$N$18,'Environmental SARF'!$N$19),\"\") &IF(AND(NOT(ISBLANK('Environmental SARF'!O89)),'Environmental SARF'!$F$15<>\"8) NA\",'Environmental SARF'!$F$15<>\"8) ...\"), \"   \"&CONCATENATE('Environmental SARF'!$O$18,'Environmental SARF'!$O$19),\"\"))","v":""}]
[{"$f":"IF(C72=\"\",\"\",IF('Environmental SARF'!B90=\"\",\"\",'Environmental SARF'!B90))","v":""},"",{"$f":"IF('Environmental SARF'!C90=\"\",\"\",'Environmental SARF'!C90)","v":""},{"$f":"IF(C72=\"\",\"\",IF('Environmental SARF'!D90=\"\",'Environmental SARF'!$C$10,'Environmental SARF'!D90))","v":""},{"$f":"IF(B72=\"\",\"\",IF('Environmental SARF'!E90=\"\",\"\",'Environmental SARF'!E90))","v":""},{"$f":"IF(B72=\"\",\"\",IF('Environmental SARF'!F90=\"\",\"\",'Environmental SARF'!F90))","v":""},{"$f":"IF(B72=\"\",\"\",IF('Environmental SARF'!G90=\"\",\"\",'Environmental SARF'!G90))","v":""},{"$f":"IF(C72=\"\",\"\",IF('Environmental SARF'!$N$6=\"\",\"\",CONCATENATE('Environmental SARF'!$N$6,'Environmental SARF'!$O$6)))","v":""},{"$f":"IF(C72=\"\",\"\",IF('Environmental SARF'!$N$2=\"\",\"\",'Environmental SARF'!$N$2))","v":""},{"$f":"IF(C72=\"\",\"\",IF('Environmental SARF'!$N$4=\"\",NOW(),'Environmental SARF'!$N$4))","v":""},"",{"$f":"IF(C72=\"\",\"\", IF(AND(NOT(ISBLANK('Environmental SARF'!H90)),'Environmental SARF'!$F$8<>\"1) NA\",'Environmental SARF'!$F$8<>\"1) ...\"), \"   \"&CONCATENATE('Environmental SARF'!$H$18,'Environmental SARF'!$H$19),\"\") & IF(AND(NOT(ISBLANK('Environmental SARF'!I90)),'Environmental SARF'!$F$9<>\"2) NA\",'Environmental SARF'!$F$9<>\"2) ...\"), \"   \"&CONCATENATE('Environmental SARF'!$I$18,'Environmental SARF'!$I$19),\"\")& IF(AND(NOT(ISBLANK('Environmental SARF'!J90)),'Environmental SARF'!$F$10<>\"3) NA\",'Environmental SARF'!$F$10<>\"3) ...\"), \"   \"&CONCATENATE('Environmental SARF'!$J$18,'Environmental SARF'!$J$19),\"\") & IF(AND(NOT(ISBLANK('Environmental SARF'!K90)),'Environmental SARF'!$F$11<>\"4) NA\",'Environmental SARF'!$F$11<>\"4) ...\"), \"   \"&CONCATENATE('Environmental SARF'!$K$18,'Environmental SARF'!$K$19),\"\")& IF(AND(NOT(ISBLANK('Environmental SARF'!L90)),'Environmental SARF'!$F$12<>\"5) NA\",'Environmental SARF'!$F$12<>\"5) ...\"), \"   \"&CONCATENATE('Environmental SARF'!$L$18,'Environmental SARF'!$L$19),\"\")&IF(AND(NOT(ISBLANK('Environmental SARF'!M90)),'Environmental SARF'!$F$13<>\"6) NA\",'Environmental SARF'!$F$13<>\"6) ...\"), \"   \"&CONCATENATE('Environmental SARF'!$M$18,'Environmental SARF'!$M$19),\"\")&IF(AND(NOT(ISBLANK('Environmental SARF'!N90)),'Environmental SARF'!$F$14<>\"7) NA\",'Environmental SARF'!$F$14<>\"7) ...\"), \"   \"&CONCATENATE('Environmental SARF'!$N$18,'Environmental SARF'!$N$19),\"\") &IF(AND(NOT(ISBLANK('Environmental SARF'!O90)),'Environmental SARF'!$F$15<>\"8) NA\",'Environmental SARF'!$F$15<>\"8) ...\"), \"   \"&CONCATENATE('Environmental SARF'!$O$18,'Environmental SARF'!$O$19),\"\"))","v":""}]
[{"$f":"IF(C73=\"\",\"\",IF('Environmental SARF'!B91=\"\",\"\",'Environmental SARF'!B91))","v":""},"",{"$f":"IF('Environmental SARF'!C91=\"\",\"\",'Environmental SARF'!C91)","v":""},{"$f":"IF(C73=\"\",\"\",IF('Environmental SARF'!D91=\"\",'Environmental SARF'!$C$10,'Environmental SARF'!D91))","v":""},{"$f":"IF(B73=\"\",\"\",IF('Environmental SARF'!E91=\"\",\"\",'Environmental SARF'!E91))","v":""},{"$f":"IF(B73=\"\",\"\",IF('Environmental SARF'!F91=\"\",\"\",'Environmental SARF'!F91))","v":""},{"$f":"IF(B73=\"\",\"\",IF('Environmental SARF'!G91=\"\",\"\",'Environmental SARF'!G91))","v":""},{"$f":"IF(C73=\"\",\"\",IF('Environmental SARF'!$N$6=\"\",\"\",CONCATENATE('Environmental SARF'!$N$6,'Environmental SARF'!$O$6)))","v":""},{"$f":"IF(C73=\"\",\"\",IF('Environmental SARF'!$N$2=\"\",\"\",'Environmental SARF'!$N$2))","v":""},{"$f":"IF(C73=\"\",\"\",IF('Environmental SARF'!$N$4=\"\",NOW(),'Environmental SARF'!$N$4))","v":""},"",{"$f":"IF(C73=\"\",\"\", IF(AND(NOT(ISBLANK('Environmental SARF'!H91)),'Environmental SARF'!$F$8<>\"1) NA\",'Environmental SARF'!$F$8<>\"1) ...\"), \"   \"&CONCATENATE('Environmental SARF'!$H$18,'Environmental SARF'!$H$19),\"\") & IF(AND(NOT(ISBLANK('Environmental SARF'!I91)),'Environmental SARF'!$F$9<>\"2) NA\",'Environmental SARF'!$F$9<>\"2) ...\"), \"   \"&CONCATENATE('Environmental SARF'!$I$18,'Environmental SARF'!$I$19),\"\")& IF(AND(NOT(ISBLANK('Environmental SARF'!J91)),'Environmental SARF'!$F$10<>\"3) NA\",'Environmental SARF'!$F$10<>\"3) ...\"), \"   \"&CONCATENATE('Environmental SARF'!$J$18,'Environmental SARF'!$J$19),\"\") & IF(AND(NOT(ISBLANK('Environmental SARF'!K91)),'Environmental SARF'!$F$11<>\"4) NA\",'Environmental SARF'!$F$11<>\"4) ...\"), \"   \"&CONCATENATE('Environmental SARF'!$K$18,'Environmental SARF'!$K$19),\"\")& IF(AND(NOT(ISBLANK('Environmental SARF'!L91)),'Environmental SARF'!$F$12<>\"5) NA\",'Environmental SARF'!$F$12<>\"5) ...\"), \"   \"&CONCATENATE('Environmental SARF'!$L$18,'Environmental SARF'!$L$19),\"\")&IF(AND(NOT(ISBLANK('Environmental SARF'!M91)),'Environmental SARF'!$F$13<>\"6) NA\",'Environmental SARF'!$F$13<>\"6) ...\"), \"   \"&CONCATENATE('Environmental SARF'!$M$18,'Environmental SARF'!$M$19),\"\")&IF(AND(NOT(ISBLANK('Environmental SARF'!N91)),'Environmental SARF'!$F$14<>\"7) NA\",'Environmental SARF'!$F$14<>\"7) ...\"), \"   \"&CONCATENATE('Environmental SARF'!$N$18,'Environmental SARF'!$N$19),\"\") &IF(AND(NOT(ISBLANK('Environmental SARF'!O91)),'Environmental SARF'!$F$15<>\"8) NA\",'Environmental SARF'!$F$15<>\"8) ...\"), \"   \"&CONCATENATE('Environmental SARF'!$O$18,'Environmental SARF'!$O$19),\"\"))","v":""}]
[{"$f":"IF(C74=\"\",\"\",IF('Environmental SARF'!B92=\"\",\"\",'Environmental SARF'!B92))","v":""},"",{"$f":"IF('Environmental SARF'!C92=\"\",\"\",'Environmental SARF'!C92)","v":""},{"$f":"IF(C74=\"\",\"\",IF('Environmental SARF'!D92=\"\",'Environmental SARF'!$C$10,'Environmental SARF'!D92))","v":""},{"$f":"IF(B74=\"\",\"\",IF('Environmental SARF'!E92=\"\",\"\",'Environmental SARF'!E92))","v":""},{"$f":"IF(B74=\"\",\"\",IF('Environmental SARF'!F92=\"\",\"\",'Environmental SARF'!F92))","v":""},{"$f":"IF(B74=\"\",\"\",IF('Environmental SARF'!G92=\"\",\"\",'Environmental SARF'!G92))","v":""},{"$f":"IF(C74=\"\",\"\",IF('Environmental SARF'!$N$6=\"\",\"\",CONCATENATE('Environmental SARF'!$N$6,'Environmental SARF'!$O$6)))","v":""},{"$f":"IF(C74=\"\",\"\",IF('Environmental SARF'!$N$2=\"\",\"\",'Environmental SARF'!$N$2))","v":""},{"$f":"IF(C74=\"\",\"\",IF('Environmental SARF'!$N$4=\"\",NOW(),'Environmental SARF'!$N$4))","v":""},"",{"$f":"IF(C74=\"\",\"\", IF(AND(NOT(ISBLANK('Environmental SARF'!H92)),'Environmental SARF'!$F$8<>\"1) NA\",'Environmental SARF'!$F$8<>\"1) ...\"), \"   \"&CONCATENATE('Environmental SARF'!$H$18,'Environmental SARF'!$H$19),\"\") & IF(AND(NOT(ISBLANK('Environmental SARF'!I92)),'Environmental SARF'!$F$9<>\"2) NA\",'Environmental SARF'!$F$9<>\"2) ...\"), \"   \"&CONCATENATE('Environmental SARF'!$I$18,'Environmental SARF'!$I$19),\"\")& IF(AND(NOT(ISBLANK('Environmental SARF'!J92)),'Environmental SARF'!$F$10<>\"3) NA\",'Environmental SARF'!$F$10<>\"3) ...\"), \"   \"&CONCATENATE('Environmental SARF'!$J$18,'Environmental SARF'!$J$19),\"\") & IF(AND(NOT(ISBLANK('Environmental SARF'!K92)),'Environmental SARF'!$F$11<>\"4) NA\",'Environmental SARF'!$F$11<>\"4) ...\"), \"   \"&CONCATENATE('Environmental SARF'!$K$18,'Environmental SARF'!$K$19),\"\")& IF(AND(NOT(ISBLANK('Environmental SARF'!L92)),'Environmental SARF'!$F$12<>\"5) NA\",'Environmental SARF'!$F$12<>\"5) ...\"), \"   \"&CONCATENATE('Environmental SARF'!$L$18,'Environmental SARF'!$L$19),\"\")&IF(AND(NOT(ISBLANK('Environmental SARF'!M92)),'Environmental SARF'!$F$13<>\"6) NA\",'Environmental SARF'!$F$13<>\"6) ...\"), \"   \"&CONCATENATE('Environmental SARF'!$M$18,'Environmental SARF'!$M$19),\"\")&IF(AND(NOT(ISBLANK('Environmental SARF'!N92)),'Environmental SARF'!$F$14<>\"7) NA\",'Environmental SARF'!$F$14<>\"7) ...\"), \"   \"&CONCATENATE('Environmental SARF'!$N$18,'Environmental SARF'!$N$19),\"\") &IF(AND(NOT(ISBLANK('Environmental SARF'!O92)),'Environmental SARF'!$F$15<>\"8) NA\",'Environmental SARF'!$F$15<>\"8) ...\"), \"   \"&CONCATENATE('Environmental SARF'!$O$18,'Environmental SARF'!$O$19),\"\"))","v":""}]
[{"$f":"IF(C75=\"\",\"\",IF('Environmental SARF'!B93=\"\",\"\",'Environmental SARF'!B93))","v":""},"",{"$f":"IF('Environmental SARF'!C93=\"\",\"\",'Environmental SARF'!C93)","v":""},{"$f":"IF(C75=\"\",\"\",IF('Environmental SARF'!D93=\"\",'Environmental SARF'!$C$10,'Environmental SARF'!D93))","v":""},{"$f":"IF(B75=\"\",\"\",IF('Environmental SARF'!E93=\"\",\"\",'Environmental SARF'!E93))","v":""},{"$f":"IF(B75=\"\",\"\",IF('Environmental SARF'!F93=\"\",\"\",'Environmental SARF'!F93))","v":""},{"$f":"IF(B75=\"\",\"\",IF('Environmental SARF'!G93=\"\",\"\",'Environmental SARF'!G93))","v":""},{"$f":"IF(C75=\"\",\"\",IF('Environmental SARF'!$N$6=\"\",\"\",CONCATENATE('Environmental SARF'!$N$6,'Environmental SARF'!$O$6)))","v":""},{"$f":"IF(C75=\"\",\"\",IF('Environmental SARF'!$N$2=\"\",\"\",'Environmental SARF'!$N$2))","v":""},{"$f":"IF(C75=\"\",\"\",IF('Environmental SARF'!$N$4=\"\",NOW(),'Environmental SARF'!$N$4))","v":""},"",{"$f":"IF(C75=\"\",\"\", IF(AND(NOT(ISBLANK('Environmental SARF'!H93)),'Environmental SARF'!$F$8<>\"1) NA\",'Environmental SARF'!$F$8<>\"1) ...\"), \"   \"&CONCATENATE('Environmental SARF'!$H$18,'Environmental SARF'!$H$19),\"\") & IF(AND(NOT(ISBLANK('Environmental SARF'!I93)),'Environmental SARF'!$F$9<>\"2) NA\",'Environmental SARF'!$F$9<>\"2) ...\"), \"   \"&CONCATENATE('Environmental SARF'!$I$18,'Environmental SARF'!$I$19),\"\")& IF(AND(NOT(ISBLANK('Environmental SARF'!J93)),'Environmental SARF'!$F$10<>\"3) NA\",'Environmental SARF'!$F$10<>\"3) ...\"), \"   \"&CONCATENATE('Environmental SARF'!$J$18,'Environmental SARF'!$J$19),\"\") & IF(AND(NOT(ISBLANK('Environmental SARF'!K93)),'Environmental SARF'!$F$11<>\"4) NA\",'Environmental SARF'!$F$11<>\"4) ...\"), \"   \"&CONCATENATE('Environmental SARF'!$K$18,'Environmental SARF'!$K$19),\"\")& IF(AND(NOT(ISBLANK('Environmental SARF'!L93)),'Environmental SARF'!$F$12<>\"5) NA\",'Environmental SARF'!$F$12<>\"5) ...\"), \"   \"&CONCATENATE('Environmental SARF'!$L$18,'Environmental SARF'!$L$19),\"\")&IF(AND(NOT(ISBLANK('Environmental SARF'!M93)),'Environmental SARF'!$F$13<>\"6) NA\",'Environmental SARF'!$F$13<>\"6) ...\"), \"   \"&CONCATENATE('Environmental SARF'!$M$18,'Environmental SARF'!$M$19),\"\")&IF(AND(NOT(ISBLANK('Environmental SARF'!N93)),'Environmental SARF'!$F$14<>\"7) NA\",'Environmental SARF'!$F$14<>\"7) ...\"), \"   \"&CONCATENATE('Environmental SARF'!$N$18,'Environmental SARF'!$N$19),\"\") &IF(AND(NOT(ISBLANK('Environmental SARF'!O93)),'Environmental SARF'!$F$15<>\"8) NA\",'Environmental SARF'!$F$15<>\"8) ...\"), \"   \"&CONCATENATE('Environmental SARF'!$O$18,'Environmental SARF'!$O$19),\"\"))","v":""}]
[{"$f":"IF(C76=\"\",\"\",IF('Environmental SARF'!B94=\"\",\"\",'Environmental SARF'!B94))","v":""},"",{"$f":"IF('Environmental SARF'!C94=\"\",\"\",'Environmental SARF'!C94)","v":""},{"$f":"IF(C76=\"\",\"\",IF('Environmental SARF'!D94=\"\",'Environmental SARF'!$C$10,'Environmental SARF'!D94))","v":""},{"$f":"IF(B76=\"\",\"\",IF('Environmental SARF'!E94=\"\",\"\",'Environmental SARF'!E94))","v":""},{"$f":"IF(B76=\"\",\"\",IF('Environmental SARF'!F94=\"\",\"\",'Environmental SARF'!F94))","v":""},{"$f":"IF(B76=\"\",\"\",IF('Environmental SARF'!G94=\"\",\"\",'Environmental SARF'!G94))","v":""},{"$f":"IF(C76=\"\",\"\",IF('Environmental SARF'!$N$6=\"\",\"\",CONCATENATE('Environmental SARF'!$N$6,'Environmental SARF'!$O$6)))","v":""},{"$f":"IF(C76=\"\",\"\",IF('Environmental SARF'!$N$2=\"\",\"\",'Environmental SARF'!$N$2))","v":""},{"$f":"IF(C76=\"\",\"\",IF('Environmental SARF'!$N$4=\"\",NOW(),'Environmental SARF'!$N$4))","v":""},"",{"$f":"IF(C76=\"\",\"\", IF(AND(NOT(ISBLANK('Environmental SARF'!H94)),'Environmental SARF'!$F$8<>\"1) NA\",'Environmental SARF'!$F$8<>\"1) ...\"), \"   \"&CONCATENATE('Environmental SARF'!$H$18,'Environmental SARF'!$H$19),\"\") & IF(AND(NOT(ISBLANK('Environmental SARF'!I94)),'Environmental SARF'!$F$9<>\"2) NA\",'Environmental SARF'!$F$9<>\"2) ...\"), \"   \"&CONCATENATE('Environmental SARF'!$I$18,'Environmental SARF'!$I$19),\"\")& IF(AND(NOT(ISBLANK('Environmental SARF'!J94)),'Environmental SARF'!$F$10<>\"3) NA\",'Environmental SARF'!$F$10<>\"3) ...\"), \"   \"&CONCATENATE('Environmental SARF'!$J$18,'Environmental SARF'!$J$19),\"\") & IF(AND(NOT(ISBLANK('Environmental SARF'!K94)),'Environmental SARF'!$F$11<>\"4) NA\",'Environmental SARF'!$F$11<>\"4) ...\"), \"   \"&CONCATENATE('Environmental SARF'!$K$18,'Environmental SARF'!$K$19),\"\")& IF(AND(NOT(ISBLANK('Environmental SARF'!L94)),'Environmental SARF'!$F$12<>\"5) NA\",'Environmental SARF'!$F$12<>\"5) ...\"), \"   \"&CONCATENATE('Environmental SARF'!$L$18,'Environmental SARF'!$L$19),\"\")&IF(AND(NOT(ISBLANK('Environmental SARF'!M94)),'Environmental SARF'!$F$13<>\"6) NA\",'Environmental SARF'!$F$13<>\"6) ...\"), \"   \"&CONCATENATE('Environmental SARF'!$M$18,'Environmental SARF'!$M$19),\"\")&IF(AND(NOT(ISBLANK('Environmental SARF'!N94)),'Environmental SARF'!$F$14<>\"7) NA\",'Environmental SARF'!$F$14<>\"7) ...\"), \"   \"&CONCATENATE('Environmental SARF'!$N$18,'Environmental SARF'!$N$19),\"\") &IF(AND(NOT(ISBLANK('Environmental SARF'!O94)),'Environmental SARF'!$F$15<>\"8) NA\",'Environmental SARF'!$F$15<>\"8) ...\"), \"   \"&CONCATENATE('Environmental SARF'!$O$18,'Environmental SARF'!$O$19),\"\"))","v":""}]
[{"$f":"IF(C77=\"\",\"\",IF('Environmental SARF'!B95=\"\",\"\",'Environmental SARF'!B95))","v":""},"",{"$f":"IF('Environmental SARF'!C95=\"\",\"\",'Environmental SARF'!C95)","v":""},{"$f":"IF(C77=\"\",\"\",IF('Environmental SARF'!D95=\"\",'Environmental SARF'!$C$10,'Environmental SARF'!D95))","v":""},{"$f":"IF(B77=\"\",\"\",IF('Environmental SARF'!E95=\"\",\"\",'Environmental SARF'!E95))","v":""},{"$f":"IF(B77=\"\",\"\",IF('Environmental SARF'!F95=\"\",\"\",'Environmental SARF'!F95))","v":""},{"$f":"IF(B77=\"\",\"\",IF('Environmental SARF'!G95=\"\",\"\",'Environmental SARF'!G95))","v":""},{"$f":"IF(C77=\"\",\"\",IF('Environmental SARF'!$N$6=\"\",\"\",CONCATENATE('Environmental SARF'!$N$6,'Environmental SARF'!$O$6)))","v":""},{"$f":"IF(C77=\"\",\"\",IF('Environmental SARF'!$N$2=\"\",\"\",'Environmental SARF'!$N$2))","v":""},{"$f":"IF(C77=\"\",\"\",IF('Environmental SARF'!$N$4=\"\",NOW(),'Environmental SARF'!$N$4))","v":""},"",{"$f":"IF(C77=\"\",\"\", IF(AND(NOT(ISBLANK('Environmental SARF'!H95)),'Environmental SARF'!$F$8<>\"1) NA\",'Environmental SARF'!$F$8<>\"1) ...\"), \"   \"&CONCATENATE('Environmental SARF'!$H$18,'Environmental SARF'!$H$19),\"\") & IF(AND(NOT(ISBLANK('Environmental SARF'!I95)),'Environmental SARF'!$F$9<>\"2) NA\",'Environmental SARF'!$F$9<>\"2) ...\"), \"   \"&CONCATENATE('Environmental SARF'!$I$18,'Environmental SARF'!$I$19),\"\")& IF(AND(NOT(ISBLANK('Environmental SARF'!J95)),'Environmental SARF'!$F$10<>\"3) NA\",'Environmental SARF'!$F$10<>\"3) ...\"), \"   \"&CONCATENATE('Environmental SARF'!$J$18,'Environmental SARF'!$J$19),\"\") & IF(AND(NOT(ISBLANK('Environmental SARF'!K95)),'Environmental SARF'!$F$11<>\"4) NA\",'Environmental SARF'!$F$11<>\"4) ...\"), \"   \"&CONCATENATE('Environmental SARF'!$K$18,'Environmental SARF'!$K$19),\"\")& IF(AND(NOT(ISBLANK('Environmental SARF'!L95)),'Environmental SARF'!$F$12<>\"5) NA\",'Environmental SARF'!$F$12<>\"5) ...\"), \"   \"&CONCATENATE('Environmental SARF'!$L$18,'Environmental SARF'!$L$19),\"\")&IF(AND(NOT(ISBLANK('Environmental SARF'!M95)),'Environmental SARF'!$F$13<>\"6) NA\",'Environmental SARF'!$F$13<>\"6) ...\"), \"   \"&CONCATENATE('Environmental SARF'!$M$18,'Environmental SARF'!$M$19),\"\")&IF(AND(NOT(ISBLANK('Environmental SARF'!N95)),'Environmental SARF'!$F$14<>\"7) NA\",'Environmental SARF'!$F$14<>\"7) ...\"), \"   \"&CONCATENATE('Environmental SARF'!$N$18,'Environmental SARF'!$N$19),\"\") &IF(AND(NOT(ISBLANK('Environmental SARF'!O95)),'Environmental SARF'!$F$15<>\"8) NA\",'Environmental SARF'!$F$15<>\"8) ...\"), \"   \"&CONCATENATE('Environmental SARF'!$O$18,'Environmental SARF'!$O$19),\"\"))","v":""}]
[{"$f":"IF(C78=\"\",\"\",IF('Environmental SARF'!B96=\"\",\"\",'Environmental SARF'!B96))","v":""},"",{"$f":"IF('Environmental SARF'!C96=\"\",\"\",'Environmental SARF'!C96)","v":""},{"$f":"IF(C78=\"\",\"\",IF('Environmental SARF'!D96=\"\",'Environmental SARF'!$C$10,'Environmental SARF'!D96))","v":""},{"$f":"IF(B78=\"\",\"\",IF('Environmental SARF'!E96=\"\",\"\",'Environmental SARF'!E96))","v":""},{"$f":"IF(B78=\"\",\"\",IF('Environmental SARF'!F96=\"\",\"\",'Environmental SARF'!F96))","v":""},{"$f":"IF(B78=\"\",\"\",IF('Environmental SARF'!G96=\"\",\"\",'Environmental SARF'!G96))","v":""},{"$f":"IF(C78=\"\",\"\",IF('Environmental SARF'!$N$6=\"\",\"\",CONCATENATE('Environmental SARF'!$N$6,'Environmental SARF'!$O$6)))","v":""},{"$f":"IF(C78=\"\",\"\",IF('Environmental SARF'!$N$2=\"\",\"\",'Environmental SARF'!$N$2))","v":""},{"$f":"IF(C78=\"\",\"\",IF('Environmental SARF'!$N$4=\"\",NOW(),'Environmental SARF'!$N$4))","v":""},"",{"$f":"IF(C78=\"\",\"\", IF(AND(NOT(ISBLANK('Environmental SARF'!H96)),'Environmental SARF'!$F$8<>\"1) NA\",'Environmental SARF'!$F$8<>\"1) ...\"), \"   \"&CONCATENATE('Environmental SARF'!$H$18,'Environmental SARF'!$H$19),\"\") & IF(AND(NOT(ISBLANK('Environmental SARF'!I96)),'Environmental SARF'!$F$9<>\"2) NA\",'Environmental SARF'!$F$9<>\"2) ...\"), \"   \"&CONCATENATE('Environmental SARF'!$I$18,'Environmental SARF'!$I$19),\"\")& IF(AND(NOT(ISBLANK('Environmental SARF'!J96)),'Environmental SARF'!$F$10<>\"3) NA\",'Environmental SARF'!$F$10<>\"3) ...\"), \"   \"&CONCATENATE('Environmental SARF'!$J$18,'Environmental SARF'!$J$19),\"\") & IF(AND(NOT(ISBLANK('Environmental SARF'!K96)),'Environmental SARF'!$F$11<>\"4) NA\",'Environmental SARF'!$F$11<>\"4) ...\"), \"   \"&CONCATENATE('Environmental SARF'!$K$18,'Environmental SARF'!$K$19),\"\")& IF(AND(NOT(ISBLANK('Environmental SARF'!L96)),'Environmental SARF'!$F$12<>\"5) NA\",'Environmental SARF'!$F$12<>\"5) ...\"), \"   \"&CONCATENATE('Environmental SARF'!$L$18,'Environmental SARF'!$L$19),\"\")&IF(AND(NOT(ISBLANK('Environmental SARF'!M96)),'Environmental SARF'!$F$13<>\"6) NA\",'Environmental SARF'!$F$13<>\"6) ...\"), \"   \"&CONCATENATE('Environmental SARF'!$M$18,'Environmental SARF'!$M$19),\"\")&IF(AND(NOT(ISBLANK('Environmental SARF'!N96)),'Environmental SARF'!$F$14<>\"7) NA\",'Environmental SARF'!$F$14<>\"7) ...\"), \"   \"&CONCATENATE('Environmental SARF'!$N$18,'Environmental SARF'!$N$19),\"\") &IF(AND(NOT(ISBLANK('Environmental SARF'!O96)),'Environmental SARF'!$F$15<>\"8) NA\",'Environmental SARF'!$F$15<>\"8) ...\"), \"   \"&CONCATENATE('Environmental SARF'!$O$18,'Environmental SARF'!$O$19),\"\"))","v":""}]
[{"$f":"IF(C79=\"\",\"\",IF('Environmental SARF'!B97=\"\",\"\",'Environmental SARF'!B97))","v":""},"",{"$f":"IF('Environmental SARF'!C97=\"\",\"\",'Environmental SARF'!C97)","v":""},{"$f":"IF(C79=\"\",\"\",IF('Environmental SARF'!D97=\"\",'Environmental SARF'!$C$10,'Environmental SARF'!D97))","v":""},{"$f":"IF(B79=\"\",\"\",IF('Environmental SARF'!E97=\"\",\"\",'Environmental SARF'!E97))","v":""},{"$f":"IF(B79=\"\",\"\",IF('Environmental SARF'!F97=\"\",\"\",'Environmental SARF'!F97))","v":""},{"$f":"IF(B79=\"\",\"\",IF('Environmental SARF'!G97=\"\",\"\",'Environmental SARF'!G97))","v":""},{"$f":"IF(C79=\"\",\"\",IF('Environmental SARF'!$N$6=\"\",\"\",CONCATENATE('Environmental SARF'!$N$6,'Environmental SARF'!$O$6)))","v":""},{"$f":"IF(C79=\"\",\"\",IF('Environmental SARF'!$N$2=\"\",\"\",'Environmental SARF'!$N$2))","v":""},{"$f":"IF(C79=\"\",\"\",IF('Environmental SARF'!$N$4=\"\",NOW(),'Environmental SARF'!$N$4))","v":""},"",{"$f":"IF(C79=\"\",\"\", IF(AND(NOT(ISBLANK('Environmental SARF'!H97)),'Environmental SARF'!$F$8<>\"1) NA\",'Environmental SARF'!$F$8<>\"1) ...\"), \"   \"&CONCATENATE('Environmental SARF'!$H$18,'Environmental SARF'!$H$19),\"\") & IF(AND(NOT(ISBLANK('Environmental SARF'!I97)),'Environmental SARF'!$F$9<>\"2) NA\",'Environmental SARF'!$F$9<>\"2) ...\"), \"   \"&CONCATENATE('Environmental SARF'!$I$18,'Environmental SARF'!$I$19),\"\")& IF(AND(NOT(ISBLANK('Environmental SARF'!J97)),'Environmental SARF'!$F$10<>\"3) NA\",'Environmental SARF'!$F$10<>\"3) ...\"), \"   \"&CONCATENATE('Environmental SARF'!$J$18,'Environmental SARF'!$J$19),\"\") & IF(AND(NOT(ISBLANK('Environmental SARF'!K97)),'Environmental SARF'!$F$11<>\"4) NA\",'Environmental SARF'!$F$11<>\"4) ...\"), \"   \"&CONCATENATE('Environmental SARF'!$K$18,'Environmental SARF'!$K$19),\"\")& IF(AND(NOT(ISBLANK('Environmental SARF'!L97)),'Environmental SARF'!$F$12<>\"5) NA\",'Environmental SARF'!$F$12<>\"5) ...\"), \"   \"&CONCATENATE('Environmental SARF'!$L$18,'Environmental SARF'!$L$19),\"\")&IF(AND(NOT(ISBLANK('Environmental SARF'!M97)),'Environmental SARF'!$F$13<>\"6) NA\",'Environmental SARF'!$F$13<>\"6) ...\"), \"   \"&CONCATENATE('Environmental SARF'!$M$18,'Environmental SARF'!$M$19),\"\")&IF(AND(NOT(ISBLANK('Environmental SARF'!N97)),'Environmental SARF'!$F$14<>\"7) NA\",'Environmental SARF'!$F$14<>\"7) ...\"), \"   \"&CONCATENATE('Environmental SARF'!$N$18,'Environmental SARF'!$N$19),\"\") &IF(AND(NOT(ISBLANK('Environmental SARF'!O97)),'Environmental SARF'!$F$15<>\"8) NA\",'Environmental SARF'!$F$15<>\"8) ...\"), \"   \"&CONCATENATE('Environmental SARF'!$O$18,'Environmental SARF'!$O$19),\"\"))","v":""}]
[{"$f":"IF(C80=\"\",\"\",IF('Environmental SARF'!B98=\"\",\"\",'Environmental SARF'!B98))","v":""},"",{"$f":"IF('Environmental SARF'!C98=\"\",\"\",'Environmental SARF'!C98)","v":""},{"$f":"IF(C80=\"\",\"\",IF('Environmental SARF'!D98=\"\",'Environmental SARF'!$C$10,'Environmental SARF'!D98))","v":""},{"$f":"IF(B80=\"\",\"\",IF('Environmental SARF'!E98=\"\",\"\",'Environmental SARF'!E98))","v":""},{"$f":"IF(B80=\"\",\"\",IF('Environmental SARF'!F98=\"\",\"\",'Environmental SARF'!F98))","v":""},{"$f":"IF(B80=\"\",\"\",IF('Environmental SARF'!G98=\"\",\"\",'Environmental SARF'!G98))","v":""},{"$f":"IF(C80=\"\",\"\",IF('Environmental SARF'!$N$6=\"\",\"\",CONCATENATE('Environmental SARF'!$N$6,'Environmental SARF'!$O$6)))","v":""},{"$f":"IF(C80=\"\",\"\",IF('Environmental SARF'!$N$2=\"\",\"\",'Environmental SARF'!$N$2))","v":""},{"$f":"IF(C80=\"\",\"\",IF('Environmental SARF'!$N$4=\"\",NOW(),'Environmental SARF'!$N$4))","v":""},"",{"$f":"IF(C80=\"\",\"\", IF(AND(NOT(ISBLANK('Environmental SARF'!H98)),'Environmental SARF'!$F$8<>\"1) NA\",'Environmental SARF'!$F$8<>\"1) ...\"), \"   \"&CONCATENATE('Environmental SARF'!$H$18,'Environmental SARF'!$H$19),\"\") & IF(AND(NOT(ISBLANK('Environmental SARF'!I98)),'Environmental SARF'!$F$9<>\"2) NA\",'Environmental SARF'!$F$9<>\"2) ...\"), \"   \"&CONCATENATE('Environmental SARF'!$I$18,'Environmental SARF'!$I$19),\"\")& IF(AND(NOT(ISBLANK('Environmental SARF'!J98)),'Environmental SARF'!$F$10<>\"3) NA\",'Environmental SARF'!$F$10<>\"3) ...\"), \"   \"&CONCATENATE('Environmental SARF'!$J$18,'Environmental SARF'!$J$19),\"\") & IF(AND(NOT(ISBLANK('Environmental SARF'!K98)),'Environmental SARF'!$F$11<>\"4) NA\",'Environmental SARF'!$F$11<>\"4) ...\"), \"   \"&CONCATENATE('Environmental SARF'!$K$18,'Environmental SARF'!$K$19),\"\")& IF(AND(NOT(ISBLANK('Environmental SARF'!L98)),'Environmental SARF'!$F$12<>\"5) NA\",'Environmental SARF'!$F$12<>\"5) ...\"), \"   \"&CONCATENATE('Environmental SARF'!$L$18,'Environmental SARF'!$L$19),\"\")&IF(AND(NOT(ISBLANK('Environmental SARF'!M98)),'Environmental SARF'!$F$13<>\"6) NA\",'Environmental SARF'!$F$13<>\"6) ...\"), \"   \"&CONCATENATE('Environmental SARF'!$M$18,'Environmental SARF'!$M$19),\"\")&IF(AND(NOT(ISBLANK('Environmental SARF'!N98)),'Environmental SARF'!$F$14<>\"7) NA\",'Environmental SARF'!$F$14<>\"7) ...\"), \"   \"&CONCATENATE('Environmental SARF'!$N$18,'Environmental SARF'!$N$19),\"\") &IF(AND(NOT(ISBLANK('Environmental SARF'!O98)),'Environmental SARF'!$F$15<>\"8) NA\",'Environmental SARF'!$F$15<>\"8) ...\"), \"   \"&CONCATENATE('Environmental SARF'!$O$18,'Environmental SARF'!$O$19),\"\"))","v":""}]
[{"$f":"IF(C81=\"\",\"\",IF('Environmental SARF'!B99=\"\",\"\",'Environmental SARF'!B99))","v":""},"",{"$f":"IF('Environmental SARF'!C99=\"\",\"\",'Environmental SARF'!C99)","v":""},{"$f":"IF(C81=\"\",\"\",IF('Environmental SARF'!D99=\"\",'Environmental SARF'!$C$10,'Environmental SARF'!D99))","v":""},{"$f":"IF(B81=\"\",\"\",IF('Environmental SARF'!E99=\"\",\"\",'Environmental SARF'!E99))","v":""},{"$f":"IF(B81=\"\",\"\",IF('Environmental SARF'!F99=\"\",\"\",'Environmental SARF'!F99))","v":""},{"$f":"IF(B81=\"\",\"\",IF('Environmental SARF'!G99=\"\",\"\",'Environmental SARF'!G99))","v":""},{"$f":"IF(C81=\"\",\"\",IF('Environmental SARF'!$N$6=\"\",\"\",CONCATENATE('Environmental SARF'!$N$6,'Environmental SARF'!$O$6)))","v":""},{"$f":"IF(C81=\"\",\"\",IF('Environmental SARF'!$N$2=\"\",\"\",'Environmental SARF'!$N$2))","v":""},{"$f":"IF(C81=\"\",\"\",IF('Environmental SARF'!$N$4=\"\",NOW(),'Environmental SARF'!$N$4))","v":""},"",{"$f":"IF(C81=\"\",\"\", IF(AND(NOT(ISBLANK('Environmental SARF'!H99)),'Environmental SARF'!$F$8<>\"1) NA\",'Environmental SARF'!$F$8<>\"1) ...\"), \"   \"&CONCATENATE('Environmental SARF'!$H$18,'Environmental SARF'!$H$19),\"\") & IF(AND(NOT(ISBLANK('Environmental SARF'!I99)),'Environmental SARF'!$F$9<>\"2) NA\",'Environmental SARF'!$F$9<>\"2) ...\"), \"   \"&CONCATENATE('Environmental SARF'!$I$18,'Environmental SARF'!$I$19),\"\")& IF(AND(NOT(ISBLANK('Environmental SARF'!J99)),'Environmental SARF'!$F$10<>\"3) NA\",'Environmental SARF'!$F$10<>\"3) ...\"), \"   \"&CONCATENATE('Environmental SARF'!$J$18,'Environmental SARF'!$J$19),\"\") & IF(AND(NOT(ISBLANK('Environmental SARF'!K99)),'Environmental SARF'!$F$11<>\"4) NA\",'Environmental SARF'!$F$11<>\"4) ...\"), \"   \"&CONCATENATE('Environmental SARF'!$K$18,'Environmental SARF'!$K$19),\"\")& IF(AND(NOT(ISBLANK('Environmental SARF'!L99)),'Environmental SARF'!$F$12<>\"5) NA\",'Environmental SARF'!$F$12<>\"5) ...\"), \"   \"&CONCATENATE('Environmental SARF'!$L$18,'Environmental SARF'!$L$19),\"\")&IF(AND(NOT(ISBLANK('Environmental SARF'!M99)),'Environmental SARF'!$F$13<>\"6) NA\",'Environmental SARF'!$F$13<>\"6) ...\"), \"   \"&CONCATENATE('Environmental SARF'!$M$18,'Environmental SARF'!$M$19),\"\")&IF(AND(NOT(ISBLANK('Environmental SARF'!N99)),'Environmental SARF'!$F$14<>\"7) NA\",'Environmental SARF'!$F$14<>\"7) ...\"), \"   \"&CONCATENATE('Environmental SARF'!$N$18,'Environmental SARF'!$N$19),\"\") &IF(AND(NOT(ISBLANK('Environmental SARF'!O99)),'Environmental SARF'!$F$15<>\"8) NA\",'Environmental SARF'!$F$15<>\"8) ...\"), \"   \"&CONCATENATE('Environmental SARF'!$O$18,'Environmental SARF'!$O$19),\"\"))","v":""}]
[{"$f":"IF(C82=\"\",\"\",IF('Environmental SARF'!B100=\"\",\"\",'Environmental SARF'!B100))","v":""},"",{"$f":"IF('Environmental SARF'!C100=\"\",\"\",'Environmental SARF'!C100)","v":""},{"$f":"IF(C82=\"\",\"\",IF('Environmental SARF'!D100=\"\",'Environmental SARF'!$C$10,'Environmental SARF'!D100))","v":""},{"$f":"IF(B82=\"\",\"\",IF('Environmental SARF'!E100=\"\",\"\",'Environmental SARF'!E100))","v":""},{"$f":"IF(B82=\"\",\"\",IF('Environmental SARF'!F100=\"\",\"\",'Environmental SARF'!F100))","v":""},{"$f":"IF(B82=\"\",\"\",IF('Environmental SARF'!G100=\"\",\"\",'Environmental SARF'!G100))","v":""},{"$f":"IF(C82=\"\",\"\",IF('Environmental SARF'!$N$6=\"\",\"\",CONCATENATE('Environmental SARF'!$N$6,'Environmental SARF'!$O$6)))","v":""},{"$f":"IF(C82=\"\",\"\",IF('Environmental SARF'!$N$2=\"\",\"\",'Environmental SARF'!$N$2))","v":""},{"$f":"IF(C82=\"\",\"\",IF('Environmental SARF'!$N$4=\"\",NOW(),'Environmental SARF'!$N$4))","v":""},"",{"$f":"IF(C82=\"\",\"\", IF(AND(NOT(ISBLANK('Environmental SARF'!H100)),'Environmental SARF'!$F$8<>\"1) NA\",'Environmental SARF'!$F$8<>\"1) ...\"), \"   \"&CONCATENATE('Environmental SARF'!$H$18,'Environmental SARF'!$H$19),\"\") & IF(AND(NOT(ISBLANK('Environmental SARF'!I100)),'Environmental SARF'!$F$9<>\"2) NA\",'Environmental SARF'!$F$9<>\"2) ...\"), \"   \"&CONCATENATE('Environmental SARF'!$I$18,'Environmental SARF'!$I$19),\"\")& IF(AND(NOT(ISBLANK('Environmental SARF'!J100)),'Environmental SARF'!$F$10<>\"3) NA\",'Environmental SARF'!$F$10<>\"3) ...\"), \"   \"&CONCATENATE('Environmental SARF'!$J$18,'Environmental SARF'!$J$19),\"\") & IF(AND(NOT(ISBLANK('Environmental SARF'!K100)),'Environmental SARF'!$F$11<>\"4) NA\",'Environmental SARF'!$F$11<>\"4) ...\"), \"   \"&CONCATENATE('Environmental SARF'!$K$18,'Environmental SARF'!$K$19),\"\")& IF(AND(NOT(ISBLANK('Environmental SARF'!L100)),'Environmental SARF'!$F$12<>\"5) NA\",'Environmental SARF'!$F$12<>\"5) ...\"), \"   \"&CONCATENATE('Environmental SARF'!$L$18,'Environmental SARF'!$L$19),\"\")&IF(AND(NOT(ISBLANK('Environmental SARF'!M100)),'Environmental SARF'!$F$13<>\"6) NA\",'Environmental SARF'!$F$13<>\"6) ...\"), \"   \"&CONCATENATE('Environmental SARF'!$M$18,'Environmental SARF'!$M$19),\"\")&IF(AND(NOT(ISBLANK('Environmental SARF'!N100)),'Environmental SARF'!$F$14<>\"7) NA\",'Environmental SARF'!$F$14<>\"7) ...\"), \"   \"&CONCATENATE('Environmental SARF'!$N$18,'Environmental SARF'!$N$19),\"\") &IF(AND(NOT(ISBLANK('Environmental SARF'!O100)),'Environmental SARF'!$F$15<>\"8) NA\",'Environmental SARF'!$F$15<>\"8) ...\"), \"   \"&CONCATENATE('Environmental SARF'!$O$18,'Environmental SARF'!$O$19),\"\"))","v":""}]
[{"$f":"IF(C83=\"\",\"\",IF('Environmental SARF'!B101=\"\",\"\",'Environmental SARF'!B101))","v":""},"",{"$f":"IF('Environmental SARF'!C101=\"\",\"\",'Environmental SARF'!C101)","v":""},{"$f":"IF(C83=\"\",\"\",IF('Environmental SARF'!D101=\"\",'Environmental SARF'!$C$10,'Environmental SARF'!D101))","v":""},{"$f":"IF(B83=\"\",\"\",IF('Environmental SARF'!E101=\"\",\"\",'Environmental SARF'!E101))","v":""},{"$f":"IF(B83=\"\",\"\",IF('Environmental SARF'!F101=\"\",\"\",'Environmental SARF'!F101))","v":""},{"$f":"IF(B83=\"\",\"\",IF('Environmental SARF'!G101=\"\",\"\",'Environmental SARF'!G101))","v":""},{"$f":"IF(C83=\"\",\"\",IF('Environmental SARF'!$N$6=\"\",\"\",CONCATENATE('Environmental SARF'!$N$6,'Environmental SARF'!$O$6)))","v":""},{"$f":"IF(C83=\"\",\"\",IF('Environmental SARF'!$N$2=\"\",\"\",'Environmental SARF'!$N$2))","v":""},{"$f":"IF(C83=\"\",\"\",IF('Environmental SARF'!$N$4=\"\",NOW(),'Environmental SARF'!$N$4))","v":""},"",{"$f":"IF(C83=\"\",\"\", IF(AND(NOT(ISBLANK('Environmental SARF'!H101)),'Environmental SARF'!$F$8<>\"1) NA\",'Environmental SARF'!$F$8<>\"1) ...\"), \"   \"&CONCATENATE('Environmental SARF'!$H$18,'Environmental SARF'!$H$19),\"\") & IF(AND(NOT(ISBLANK('Environmental SARF'!I101)),'Environmental SARF'!$F$9<>\"2) NA\",'Environmental SARF'!$F$9<>\"2) ...\"), \"   \"&CONCATENATE('Environmental SARF'!$I$18,'Environmental SARF'!$I$19),\"\")& IF(AND(NOT(ISBLANK('Environmental SARF'!J101)),'Environmental SARF'!$F$10<>\"3) NA\",'Environmental SARF'!$F$10<>\"3) ...\"), \"   \"&CONCATENATE('Environmental SARF'!$J$18,'Environmental SARF'!$J$19),\"\") & IF(AND(NOT(ISBLANK('Environmental SARF'!K101)),'Environmental SARF'!$F$11<>\"4) NA\",'Environmental SARF'!$F$11<>\"4) ...\"), \"   \"&CONCATENATE('Environmental SARF'!$K$18,'Environmental SARF'!$K$19),\"\")& IF(AND(NOT(ISBLANK('Environmental SARF'!L101)),'Environmental SARF'!$F$12<>\"5) NA\",'Environmental SARF'!$F$12<>\"5) ...\"), \"   \"&CONCATENATE('Environmental SARF'!$L$18,'Environmental SARF'!$L$19),\"\")&IF(AND(NOT(ISBLANK('Environmental SARF'!M101)),'Environmental SARF'!$F$13<>\"6) NA\",'Environmental SARF'!$F$13<>\"6) ...\"), \"   \"&CONCATENATE('Environmental SARF'!$M$18,'Environmental SARF'!$M$19),\"\")&IF(AND(NOT(ISBLANK('Environmental SARF'!N101)),'Environmental SARF'!$F$14<>\"7) NA\",'Environmental SARF'!$F$14<>\"7) ...\"), \"   \"&CONCATENATE('Environmental SARF'!$N$18,'Environmental SARF'!$N$19),\"\") &IF(AND(NOT(ISBLANK('Environmental SARF'!O101)),'Environmental SARF'!$F$15<>\"8) NA\",'Environmental SARF'!$F$15<>\"8) ...\"), \"   \"&CONCATENATE('Environmental SARF'!$O$18,'Environmental SARF'!$O$19),\"\"))","v":""}]
[{"$f":"IF(C84=\"\",\"\",IF('Environmental SARF'!B102=\"\",\"\",'Environmental SARF'!B102))","v":""},"",{"$f":"IF('Environmental SARF'!C102=\"\",\"\",'Environmental SARF'!C102)","v":""},{"$f":"IF(C84=\"\",\"\",IF('Environmental SARF'!D102=\"\",'Environmental SARF'!$C$10,'Environmental SARF'!D102))","v":""},{"$f":"IF(B84=\"\",\"\",IF('Environmental SARF'!E102=\"\",\"\",'Environmental SARF'!E102))","v":""},{"$f":"IF(B84=\"\",\"\",IF('Environmental SARF'!F102=\"\",\"\",'Environmental SARF'!F102))","v":""},{"$f":"IF(B84=\"\",\"\",IF('Environmental SARF'!G102=\"\",\"\",'Environmental SARF'!G102))","v":""},{"$f":"IF(C84=\"\",\"\",IF('Environmental SARF'!$N$6=\"\",\"\",CONCATENATE('Environmental SARF'!$N$6,'Environmental SARF'!$O$6)))","v":""},{"$f":"IF(C84=\"\",\"\",IF('Environmental SARF'!$N$2=\"\",\"\",'Environmental SARF'!$N$2))","v":""},{"$f":"IF(C84=\"\",\"\",IF('Environmental SARF'!$N$4=\"\",NOW(),'Environmental SARF'!$N$4))","v":""},"",{"$f":"IF(C84=\"\",\"\", IF(AND(NOT(ISBLANK('Environmental SARF'!H102)),'Environmental SARF'!$F$8<>\"1) NA\",'Environmental SARF'!$F$8<>\"1) ...\"), \"   \"&CONCATENATE('Environmental SARF'!$H$18,'Environmental SARF'!$H$19),\"\") & IF(AND(NOT(ISBLANK('Environmental SARF'!I102)),'Environmental SARF'!$F$9<>\"2) NA\",'Environmental SARF'!$F$9<>\"2) ...\"), \"   \"&CONCATENATE('Environmental SARF'!$I$18,'Environmental SARF'!$I$19),\"\")& IF(AND(NOT(ISBLANK('Environmental SARF'!J102)),'Environmental SARF'!$F$10<>\"3) NA\",'Environmental SARF'!$F$10<>\"3) ...\"), \"   \"&CONCATENATE('Environmental SARF'!$J$18,'Environmental SARF'!$J$19),\"\") & IF(AND(NOT(ISBLANK('Environmental SARF'!K102)),'Environmental SARF'!$F$11<>\"4) NA\",'Environmental SARF'!$F$11<>\"4) ...\"), \"   \"&CONCATENATE('Environmental SARF'!$K$18,'Environmental SARF'!$K$19),\"\")& IF(AND(NOT(ISBLANK('Environmental SARF'!L102)),'Environmental SARF'!$F$12<>\"5) NA\",'Environmental SARF'!$F$12<>\"5) ...\"), \"   \"&CONCATENATE('Environmental SARF'!$L$18,'Environmental SARF'!$L$19),\"\")&IF(AND(NOT(ISBLANK('Environmental SARF'!M102)),'Environmental SARF'!$F$13<>\"6) NA\",'Environmental SARF'!$F$13<>\"6) ...\"), \"   \"&CONCATENATE('Environmental SARF'!$M$18,'Environmental SARF'!$M$19),\"\")&IF(AND(NOT(ISBLANK('Environmental SARF'!N102)),'Environmental SARF'!$F$14<>\"7) NA\",'Environmental SARF'!$F$14<>\"7) ...\"), \"   \"&CONCATENATE('Environmental SARF'!$N$18,'Environmental SARF'!$N$19),\"\") &IF(AND(NOT(ISBLANK('Environmental SARF'!O102)),'Environmental SARF'!$F$15<>\"8) NA\",'Environmental SARF'!$F$15<>\"8) ...\"), \"   \"&CONCATENATE('Environmental SARF'!$O$18,'Environmental SARF'!$O$19),\"\"))","v":""}]
[{"$f":"IF(C85=\"\",\"\",IF('Environmental SARF'!B103=\"\",\"\",'Environmental SARF'!B103))","v":""},"",{"$f":"IF('Environmental SARF'!C103=\"\",\"\",'Environmental SARF'!C103)","v":""},{"$f":"IF(C85=\"\",\"\",IF('Environmental SARF'!D103=\"\",'Environmental SARF'!$C$10,'Environmental SARF'!D103))","v":""},{"$f":"IF(B85=\"\",\"\",IF('Environmental SARF'!E103=\"\",\"\",'Environmental SARF'!E103))","v":""},{"$f":"IF(B85=\"\",\"\",IF('Environmental SARF'!F103=\"\",\"\",'Environmental SARF'!F103))","v":""},{"$f":"IF(B85=\"\",\"\",IF('Environmental SARF'!G103=\"\",\"\",'Environmental SARF'!G103))","v":""},{"$f":"IF(C85=\"\",\"\",IF('Environmental SARF'!$N$6=\"\",\"\",CONCATENATE('Environmental SARF'!$N$6,'Environmental SARF'!$O$6)))","v":""},{"$f":"IF(C85=\"\",\"\",IF('Environmental SARF'!$N$2=\"\",\"\",'Environmental SARF'!$N$2))","v":""},{"$f":"IF(C85=\"\",\"\",IF('Environmental SARF'!$N$4=\"\",NOW(),'Environmental SARF'!$N$4))","v":""},"",{"$f":"IF(C85=\"\",\"\", IF(AND(NOT(ISBLANK('Environmental SARF'!H103)),'Environmental SARF'!$F$8<>\"1) NA\",'Environmental SARF'!$F$8<>\"1) ...\"), \"   \"&CONCATENATE('Environmental SARF'!$H$18,'Environmental SARF'!$H$19),\"\") & IF(AND(NOT(ISBLANK('Environmental SARF'!I103)),'Environmental SARF'!$F$9<>\"2) NA\",'Environmental SARF'!$F$9<>\"2) ...\"), \"   \"&CONCATENATE('Environmental SARF'!$I$18,'Environmental SARF'!$I$19),\"\")& IF(AND(NOT(ISBLANK('Environmental SARF'!J103)),'Environmental SARF'!$F$10<>\"3) NA\",'Environmental SARF'!$F$10<>\"3) ...\"), \"   \"&CONCATENATE('Environmental SARF'!$J$18,'Environmental SARF'!$J$19),\"\") & IF(AND(NOT(ISBLANK('Environmental SARF'!K103)),'Environmental SARF'!$F$11<>\"4) NA\",'Environmental SARF'!$F$11<>\"4) ...\"), \"   \"&CONCATENATE('Environmental SARF'!$K$18,'Environmental SARF'!$K$19),\"\")& IF(AND(NOT(ISBLANK('Environmental SARF'!L103)),'Environmental SARF'!$F$12<>\"5) NA\",'Environmental SARF'!$F$12<>\"5) ...\"), \"   \"&CONCATENATE('Environmental SARF'!$L$18,'Environmental SARF'!$L$19),\"\")&IF(AND(NOT(ISBLANK('Environmental SARF'!M103)),'Environmental SARF'!$F$13<>\"6) NA\",'Environmental SARF'!$F$13<>\"6) ...\"), \"   \"&CONCATENATE('Environmental SARF'!$M$18,'Environmental SARF'!$M$19),\"\")&IF(AND(NOT(ISBLANK('Environmental SARF'!N103)),'Environmental SARF'!$F$14<>\"7) NA\",'Environmental SARF'!$F$14<>\"7) ...\"), \"   \"&CONCATENATE('Environmental SARF'!$N$18,'Environmental SARF'!$N$19),\"\") &IF(AND(NOT(ISBLANK('Environmental SARF'!O103)),'Environmental SARF'!$F$15<>\"8) NA\",'Environmental SARF'!$F$15<>\"8) ...\"), \"   \"&CONCATENATE('Environmental SARF'!$O$18,'Environmental SARF'!$O$19),\"\"))","v":""}]
[{"$f":"IF(C86=\"\",\"\",IF('Environmental SARF'!B104=\"\",\"\",'Environmental SARF'!B104))","v":""},"",{"$f":"IF('Environmental SARF'!C104=\"\",\"\",'Environmental SARF'!C104)","v":""},{"$f":"IF(C86=\"\",\"\",IF('Environmental SARF'!D104=\"\",'Environmental SARF'!$C$10,'Environmental SARF'!D104))","v":""},{"$f":"IF(B86=\"\",\"\",IF('Environmental SARF'!E104=\"\",\"\",'Environmental SARF'!E104))","v":""},{"$f":"IF(B86=\"\",\"\",IF('Environmental SARF'!F104=\"\",\"\",'Environmental SARF'!F104))","v":""},{"$f":"IF(B86=\"\",\"\",IF('Environmental SARF'!G104=\"\",\"\",'Environmental SARF'!G104))","v":""},{"$f":"IF(C86=\"\",\"\",IF('Environmental SARF'!$N$6=\"\",\"\",CONCATENATE('Environmental SARF'!$N$6,'Environmental SARF'!$O$6)))","v":""},{"$f":"IF(C86=\"\",\"\",IF('Environmental SARF'!$N$2=\"\",\"\",'Environmental SARF'!$N$2))","v":""},{"$f":"IF(C86=\"\",\"\",IF('Environmental SARF'!$N$4=\"\",NOW(),'Environmental SARF'!$N$4))","v":""},"",{"$f":"IF(C86=\"\",\"\", IF(AND(NOT(ISBLANK('Environmental SARF'!H104)),'Environmental SARF'!$F$8<>\"1) NA\",'Environmental SARF'!$F$8<>\"1) ...\"), \"   \"&CONCATENATE('Environmental SARF'!$H$18,'Environmental SARF'!$H$19),\"\") & IF(AND(NOT(ISBLANK('Environmental SARF'!I104)),'Environmental SARF'!$F$9<>\"2) NA\",'Environmental SARF'!$F$9<>\"2) ...\"), \"   \"&CONCATENATE('Environmental SARF'!$I$18,'Environmental SARF'!$I$19),\"\")& IF(AND(NOT(ISBLANK('Environmental SARF'!J104)),'Environmental SARF'!$F$10<>\"3) NA\",'Environmental SARF'!$F$10<>\"3) ...\"), \"   \"&CONCATENATE('Environmental SARF'!$J$18,'Environmental SARF'!$J$19),\"\") & IF(AND(NOT(ISBLANK('Environmental SARF'!K104)),'Environmental SARF'!$F$11<>\"4) NA\",'Environmental SARF'!$F$11<>\"4) ...\"), \"   \"&CONCATENATE('Environmental SARF'!$K$18,'Environmental SARF'!$K$19),\"\")& IF(AND(NOT(ISBLANK('Environmental SARF'!L104)),'Environmental SARF'!$F$12<>\"5) NA\",'Environmental SARF'!$F$12<>\"5) ...\"), \"   \"&CONCATENATE('Environmental SARF'!$L$18,'Environmental SARF'!$L$19),\"\")&IF(AND(NOT(ISBLANK('Environmental SARF'!M104)),'Environmental SARF'!$F$13<>\"6) NA\",'Environmental SARF'!$F$13<>\"6) ...\"), \"   \"&CONCATENATE('Environmental SARF'!$M$18,'Environmental SARF'!$M$19),\"\")&IF(AND(NOT(ISBLANK('Environmental SARF'!N104)),'Environmental SARF'!$F$14<>\"7) NA\",'Environmental SARF'!$F$14<>\"7) ...\"), \"   \"&CONCATENATE('Environmental SARF'!$N$18,'Environmental SARF'!$N$19),\"\") &IF(AND(NOT(ISBLANK('Environmental SARF'!O104)),'Environmental SARF'!$F$15<>\"8) NA\",'Environmental SARF'!$F$15<>\"8) ...\"), \"   \"&CONCATENATE('Environmental SARF'!$O$18,'Environmental SARF'!$O$19),\"\"))","v":""}]
[{"$f":"IF(C87=\"\",\"\",IF('Environmental SARF'!B105=\"\",\"\",'Environmental SARF'!B105))","v":""},"",{"$f":"IF('Environmental SARF'!C105=\"\",\"\",'Environmental SARF'!C105)","v":""},{"$f":"IF(C87=\"\",\"\",IF('Environmental SARF'!D105=\"\",'Environmental SARF'!$C$10,'Environmental SARF'!D105))","v":""},{"$f":"IF(B87=\"\",\"\",IF('Environmental SARF'!E105=\"\",\"\",'Environmental SARF'!E105))","v":""},{"$f":"IF(B87=\"\",\"\",IF('Environmental SARF'!F105=\"\",\"\",'Environmental SARF'!F105))","v":""},{"$f":"IF(B87=\"\",\"\",IF('Environmental SARF'!G105=\"\",\"\",'Environmental SARF'!G105))","v":""},{"$f":"IF(C87=\"\",\"\",IF('Environmental SARF'!$N$6=\"\",\"\",CONCATENATE('Environmental SARF'!$N$6,'Environmental SARF'!$O$6)))","v":""},{"$f":"IF(C87=\"\",\"\",IF('Environmental SARF'!$N$2=\"\",\"\",'Environmental SARF'!$N$2))","v":""},{"$f":"IF(C87=\"\",\"\",IF('Environmental SARF'!$N$4=\"\",NOW(),'Environmental SARF'!$N$4))","v":""},"",{"$f":"IF(C87=\"\",\"\", IF(AND(NOT(ISBLANK('Environmental SARF'!H105)),'Environmental SARF'!$F$8<>\"1) NA\",'Environmental SARF'!$F$8<>\"1) ...\"), \"   \"&CONCATENATE('Environmental SARF'!$H$18,'Environmental SARF'!$H$19),\"\") & IF(AND(NOT(ISBLANK('Environmental SARF'!I105)),'Environmental SARF'!$F$9<>\"2) NA\",'Environmental SARF'!$F$9<>\"2) ...\"), \"   \"&CONCATENATE('Environmental SARF'!$I$18,'Environmental SARF'!$I$19),\"\")& IF(AND(NOT(ISBLANK('Environmental SARF'!J105)),'Environmental SARF'!$F$10<>\"3) NA\",'Environmental SARF'!$F$10<>\"3) ...\"), \"   \"&CONCATENATE('Environmental SARF'!$J$18,'Environmental SARF'!$J$19),\"\") & IF(AND(NOT(ISBLANK('Environmental SARF'!K105)),'Environmental SARF'!$F$11<>\"4) NA\",'Environmental SARF'!$F$11<>\"4) ...\"), \"   \"&CONCATENATE('Environmental SARF'!$K$18,'Environmental SARF'!$K$19),\"\")& IF(AND(NOT(ISBLANK('Environmental SARF'!L105)),'Environmental SARF'!$F$12<>\"5) NA\",'Environmental SARF'!$F$12<>\"5) ...\"), \"   \"&CONCATENATE('Environmental SARF'!$L$18,'Environmental SARF'!$L$19),\"\")&IF(AND(NOT(ISBLANK('Environmental SARF'!M105)),'Environmental SARF'!$F$13<>\"6) NA\",'Environmental SARF'!$F$13<>\"6) ...\"), \"   \"&CONCATENATE('Environmental SARF'!$M$18,'Environmental SARF'!$M$19),\"\")&IF(AND(NOT(ISBLANK('Environmental SARF'!N105)),'Environmental SARF'!$F$14<>\"7) NA\",'Environmental SARF'!$F$14<>\"7) ...\"), \"   \"&CONCATENATE('Environmental SARF'!$N$18,'Environmental SARF'!$N$19),\"\") &IF(AND(NOT(ISBLANK('Environmental SARF'!O105)),'Environmental SARF'!$F$15<>\"8) NA\",'Environmental SARF'!$F$15<>\"8) ...\"), \"   \"&CONCATENATE('Environmental SARF'!$O$18,'Environmental SARF'!$O$19),\"\"))","v":""}]
[{"$f":"IF(C88=\"\",\"\",IF('Environmental SARF'!B106=\"\",\"\",'Environmental SARF'!B106))","v":""},"",{"$f":"IF('Environmental SARF'!C106=\"\",\"\",'Environmental SARF'!C106)","v":""},{"$f":"IF(C88=\"\",\"\",IF('Environmental SARF'!D106=\"\",'Environmental SARF'!$C$10,'Environmental SARF'!D106))","v":""},{"$f":"IF(B88=\"\",\"\",IF('Environmental SARF'!E106=\"\",\"\",'Environmental SARF'!E106))","v":""},{"$f":"IF(B88=\"\",\"\",IF('Environmental SARF'!F106=\"\",\"\",'Environmental SARF'!F106))","v":""},{"$f":"IF(B88=\"\",\"\",IF('Environmental SARF'!G106=\"\",\"\",'Environmental SARF'!G106))","v":""},{"$f":"IF(C88=\"\",\"\",IF('Environmental SARF'!$N$6=\"\",\"\",CONCATENATE('Environmental SARF'!$N$6,'Environmental SARF'!$O$6)))","v":""},{"$f":"IF(C88=\"\",\"\",IF('Environmental SARF'!$N$2=\"\",\"\",'Environmental SARF'!$N$2))","v":""},{"$f":"IF(C88=\"\",\"\",IF('Environmental SARF'!$N$4=\"\",NOW(),'Environmental SARF'!$N$4))","v":""},"",{"$f":"IF(C88=\"\",\"\", IF(AND(NOT(ISBLANK('Environmental SARF'!H106)),'Environmental SARF'!$F$8<>\"1) NA\",'Environmental SARF'!$F$8<>\"1) ...\"), \"   \"&CONCATENATE('Environmental SARF'!$H$18,'Environmental SARF'!$H$19),\"\") & IF(AND(NOT(ISBLANK('Environmental SARF'!I106)),'Environmental SARF'!$F$9<>\"2) NA\",'Environmental SARF'!$F$9<>\"2) ...\"), \"   \"&CONCATENATE('Environmental SARF'!$I$18,'Environmental SARF'!$I$19),\"\")& IF(AND(NOT(ISBLANK('Environmental SARF'!J106)),'Environmental SARF'!$F$10<>\"3) NA\",'Environmental SARF'!$F$10<>\"3) ...\"), \"   \"&CONCATENATE('Environmental SARF'!$J$18,'Environmental SARF'!$J$19),\"\") & IF(AND(NOT(ISBLANK('Environmental SARF'!K106)),'Environmental SARF'!$F$11<>\"4) NA\",'Environmental SARF'!$F$11<>\"4) ...\"), \"   \"&CONCATENATE('Environmental SARF'!$K$18,'Environmental SARF'!$K$19),\"\")& IF(AND(NOT(ISBLANK('Environmental SARF'!L106)),'Environmental SARF'!$F$12<>\"5) NA\",'Environmental SARF'!$F$12<>\"5) ...\"), \"   \"&CONCATENATE('Environmental SARF'!$L$18,'Environmental SARF'!$L$19),\"\")&IF(AND(NOT(ISBLANK('Environmental SARF'!M106)),'Environmental SARF'!$F$13<>\"6) NA\",'Environmental SARF'!$F$13<>\"6) ...\"), \"   \"&CONCATENATE('Environmental SARF'!$M$18,'Environmental SARF'!$M$19),\"\")&IF(AND(NOT(ISBLANK('Environmental SARF'!N106)),'Environmental SARF'!$F$14<>\"7) NA\",'Environmental SARF'!$F$14<>\"7) ...\"), \"   \"&CONCATENATE('Environmental SARF'!$N$18,'Environmental SARF'!$N$19),\"\") &IF(AND(NOT(ISBLANK('Environmental SARF'!O106)),'Environmental SARF'!$F$15<>\"8) NA\",'Environmental SARF'!$F$15<>\"8) ...\"), \"   \"&CONCATENATE('Environmental SARF'!$O$18,'Environmental SARF'!$O$19),\"\"))","v":""}]
[{"$f":"IF(C89=\"\",\"\",IF('Environmental SARF'!B107=\"\",\"\",'Environmental SARF'!B107))","v":""},"",{"$f":"IF('Environmental SARF'!C107=\"\",\"\",'Environmental SARF'!C107)","v":""},{"$f":"IF(C89=\"\",\"\",IF('Environmental SARF'!D107=\"\",'Environmental SARF'!$C$10,'Environmental SARF'!D107))","v":""},{"$f":"IF(B89=\"\",\"\",IF('Environmental SARF'!E107=\"\",\"\",'Environmental SARF'!E107))","v":""},{"$f":"IF(B89=\"\",\"\",IF('Environmental SARF'!F107=\"\",\"\",'Environmental SARF'!F107))","v":""},{"$f":"IF(B89=\"\",\"\",IF('Environmental SARF'!G107=\"\",\"\",'Environmental SARF'!G107))","v":""},{"$f":"IF(C89=\"\",\"\",IF('Environmental SARF'!$N$6=\"\",\"\",CONCATENATE('Environmental SARF'!$N$6,'Environmental SARF'!$O$6)))","v":""},{"$f":"IF(C89=\"\",\"\",IF('Environmental SARF'!$N$2=\"\",\"\",'Environmental SARF'!$N$2))","v":""},{"$f":"IF(C89=\"\",\"\",IF('Environmental SARF'!$N$4=\"\",NOW(),'Environmental SARF'!$N$4))","v":""},"",{"$f":"IF(C89=\"\",\"\", IF(AND(NOT(ISBLANK('Environmental SARF'!H107)),'Environmental SARF'!$F$8<>\"1) NA\",'Environmental SARF'!$F$8<>\"1) ...\"), \"   \"&CONCATENATE('Environmental SARF'!$H$18,'Environmental SARF'!$H$19),\"\") & IF(AND(NOT(ISBLANK('Environmental SARF'!I107)),'Environmental SARF'!$F$9<>\"2) NA\",'Environmental SARF'!$F$9<>\"2) ...\"), \"   \"&CONCATENATE('Environmental SARF'!$I$18,'Environmental SARF'!$I$19),\"\")& IF(AND(NOT(ISBLANK('Environmental SARF'!J107)),'Environmental SARF'!$F$10<>\"3) NA\",'Environmental SARF'!$F$10<>\"3) ...\"), \"   \"&CONCATENATE('Environmental SARF'!$J$18,'Environmental SARF'!$J$19),\"\") & IF(AND(NOT(ISBLANK('Environmental SARF'!K107)),'Environmental SARF'!$F$11<>\"4) NA\",'Environmental SARF'!$F$11<>\"4) ...\"), \"   \"&CONCATENATE('Environmental SARF'!$K$18,'Environmental SARF'!$K$19),\"\")& IF(AND(NOT(ISBLANK('Environmental SARF'!L107)),'Environmental SARF'!$F$12<>\"5) NA\",'Environmental SARF'!$F$12<>\"5) ...\"), \"   \"&CONCATENATE('Environmental SARF'!$L$18,'Environmental SARF'!$L$19),\"\")&IF(AND(NOT(ISBLANK('Environmental SARF'!M107)),'Environmental SARF'!$F$13<>\"6) NA\",'Environmental SARF'!$F$13<>\"6) ...\"), \"   \"&CONCATENATE('Environmental SARF'!$M$18,'Environmental SARF'!$M$19),\"\")&IF(AND(NOT(ISBLANK('Environmental SARF'!N107)),'Environmental SARF'!$F$14<>\"7) NA\",'Environmental SARF'!$F$14<>\"7) ...\"), \"   \"&CONCATENATE('Environmental SARF'!$N$18,'Environmental SARF'!$N$19),\"\") &IF(AND(NOT(ISBLANK('Environmental SARF'!O107)),'Environmental SARF'!$F$15<>\"8) NA\",'Environmental SARF'!$F$15<>\"8) ...\"), \"   \"&CONCATENATE('Environmental SARF'!$O$18,'Environmental SARF'!$O$19),\"\"))","v":""}]
[{"$f":"IF(C90=\"\",\"\",IF('Environmental SARF'!B108=\"\",\"\",'Environmental SARF'!B108))","v":""},"",{"$f":"IF('Environmental SARF'!C108=\"\",\"\",'Environmental SARF'!C108)","v":""},{"$f":"IF(C90=\"\",\"\",IF('Environmental SARF'!D108=\"\",'Environmental SARF'!$C$10,'Environmental SARF'!D108))","v":""},{"$f":"IF(B90=\"\",\"\",IF('Environmental SARF'!E108=\"\",\"\",'Environmental SARF'!E108))","v":""},{"$f":"IF(B90=\"\",\"\",IF('Environmental SARF'!F108=\"\",\"\",'Environmental SARF'!F108))","v":""},{"$f":"IF(B90=\"\",\"\",IF('Environmental SARF'!G108=\"\",\"\",'Environmental SARF'!G108))","v":""},{"$f":"IF(C90=\"\",\"\",IF('Environmental SARF'!$N$6=\"\",\"\",CONCATENATE('Environmental SARF'!$N$6,'Environmental SARF'!$O$6)))","v":""},{"$f":"IF(C90=\"\",\"\",IF('Environmental SARF'!$N$2=\"\",\"\",'Environmental SARF'!$N$2))","v":""},{"$f":"IF(C90=\"\",\"\",IF('Environmental SARF'!$N$4=\"\",NOW(),'Environmental SARF'!$N$4))","v":""},"",{"$f":"IF(C90=\"\",\"\", IF(AND(NOT(ISBLANK('Environmental SARF'!H108)),'Environmental SARF'!$F$8<>\"1) NA\",'Environmental SARF'!$F$8<>\"1) ...\"), \"   \"&CONCATENATE('Environmental SARF'!$H$18,'Environmental SARF'!$H$19),\"\") & IF(AND(NOT(ISBLANK('Environmental SARF'!I108)),'Environmental SARF'!$F$9<>\"2) NA\",'Environmental SARF'!$F$9<>\"2) ...\"), \"   \"&CONCATENATE('Environmental SARF'!$I$18,'Environmental SARF'!$I$19),\"\")& IF(AND(NOT(ISBLANK('Environmental SARF'!J108)),'Environmental SARF'!$F$10<>\"3) NA\",'Environmental SARF'!$F$10<>\"3) ...\"), \"   \"&CONCATENATE('Environmental SARF'!$J$18,'Environmental SARF'!$J$19),\"\") & IF(AND(NOT(ISBLANK('Environmental SARF'!K108)),'Environmental SARF'!$F$11<>\"4) NA\",'Environmental SARF'!$F$11<>\"4) ...\"), \"   \"&CONCATENATE('Environmental SARF'!$K$18,'Environmental SARF'!$K$19),\"\")& IF(AND(NOT(ISBLANK('Environmental SARF'!L108)),'Environmental SARF'!$F$12<>\"5) NA\",'Environmental SARF'!$F$12<>\"5) ...\"), \"   \"&CONCATENATE('Environmental SARF'!$L$18,'Environmental SARF'!$L$19),\"\")&IF(AND(NOT(ISBLANK('Environmental SARF'!M108)),'Environmental SARF'!$F$13<>\"6) NA\",'Environmental SARF'!$F$13<>\"6) ...\"), \"   \"&CONCATENATE('Environmental SARF'!$M$18,'Environmental SARF'!$M$19),\"\")&IF(AND(NOT(ISBLANK('Environmental SARF'!N108)),'Environmental SARF'!$F$14<>\"7) NA\",'Environmental SARF'!$F$14<>\"7) ...\"), \"   \"&CONCATENATE('Environmental SARF'!$N$18,'Environmental SARF'!$N$19),\"\") &IF(AND(NOT(ISBLANK('Environmental SARF'!O108)),'Environmental SARF'!$F$15<>\"8) NA\",'Environmental SARF'!$F$15<>\"8) ...\"), \"   \"&CONCATENATE('Environmental SARF'!$O$18,'Environmental SARF'!$O$19),\"\"))","v":""}]
[{"$f":"IF(C91=\"\",\"\",IF('Environmental SARF'!B109=\"\",\"\",'Environmental SARF'!B109))","v":""},"",{"$f":"IF('Environmental SARF'!C109=\"\",\"\",'Environmental SARF'!C109)","v":""},{"$f":"IF(C91=\"\",\"\",IF('Environmental SARF'!D109=\"\",'Environmental SARF'!$C$10,'Environmental SARF'!D109))","v":""},{"$f":"IF(B91=\"\",\"\",IF('Environmental SARF'!E109=\"\",\"\",'Environmental SARF'!E109))","v":""},{"$f":"IF(B91=\"\",\"\",IF('Environmental SARF'!F109=\"\",\"\",'Environmental SARF'!F109))","v":""},{"$f":"IF(B91=\"\",\"\",IF('Environmental SARF'!G109=\"\",\"\",'Environmental SARF'!G109))","v":""},{"$f":"IF(C91=\"\",\"\",IF('Environmental SARF'!$N$6=\"\",\"\",CONCATENATE('Environmental SARF'!$N$6,'Environmental SARF'!$O$6)))","v":""},{"$f":"IF(C91=\"\",\"\",IF('Environmental SARF'!$N$2=\"\",\"\",'Environmental SARF'!$N$2))","v":""},{"$f":"IF(C91=\"\",\"\",IF('Environmental SARF'!$N$4=\"\",NOW(),'Environmental SARF'!$N$4))","v":""},"",{"$f":"IF(C91=\"\",\"\", IF(AND(NOT(ISBLANK('Environmental SARF'!H109)),'Environmental SARF'!$F$8<>\"1) NA\",'Environmental SARF'!$F$8<>\"1) ...\"), \"   \"&CONCATENATE('Environmental SARF'!$H$18,'Environmental SARF'!$H$19),\"\") & IF(AND(NOT(ISBLANK('Environmental SARF'!I109)),'Environmental SARF'!$F$9<>\"2) NA\",'Environmental SARF'!$F$9<>\"2) ...\"), \"   \"&CONCATENATE('Environmental SARF'!$I$18,'Environmental SARF'!$I$19),\"\")& IF(AND(NOT(ISBLANK('Environmental SARF'!J109)),'Environmental SARF'!$F$10<>\"3) NA\",'Environmental SARF'!$F$10<>\"3) ...\"), \"   \"&CONCATENATE('Environmental SARF'!$J$18,'Environmental SARF'!$J$19),\"\") & IF(AND(NOT(ISBLANK('Environmental SARF'!K109)),'Environmental SARF'!$F$11<>\"4) NA\",'Environmental SARF'!$F$11<>\"4) ...\"), \"   \"&CONCATENATE('Environmental SARF'!$K$18,'Environmental SARF'!$K$19),\"\")& IF(AND(NOT(ISBLANK('Environmental SARF'!L109)),'Environmental SARF'!$F$12<>\"5) NA\",'Environmental SARF'!$F$12<>\"5) ...\"), \"   \"&CONCATENATE('Environmental SARF'!$L$18,'Environmental SARF'!$L$19),\"\")&IF(AND(NOT(ISBLANK('Environmental SARF'!M109)),'Environmental SARF'!$F$13<>\"6) NA\",'Environmental SARF'!$F$13<>\"6) ...\"), \"   \"&CONCATENATE('Environmental SARF'!$M$18,'Environmental SARF'!$M$19),\"\")&IF(AND(NOT(ISBLANK('Environmental SARF'!N109)),'Environmental SARF'!$F$14<>\"7) NA\",'Environmental SARF'!$F$14<>\"7) ...\"), \"   \"&CONCATENATE('Environmental SARF'!$N$18,'Environmental SARF'!$N$19),\"\") &IF(AND(NOT(ISBLANK('Environmental SARF'!O109)),'Environmental SARF'!$F$15<>\"8) NA\",'Environmental SARF'!$F$15<>\"8) ...\"), \"   \"&CONCATENATE('Environmental SARF'!$O$18,'Environmental SARF'!$O$19),\"\"))","v":""}]
[{"$f":"IF(C92=\"\",\"\",IF('Environmental SARF'!B110=\"\",\"\",'Environmental SARF'!B110))","v":""},"",{"$f":"IF('Environmental SARF'!C110=\"\",\"\",'Environmental SARF'!C110)","v":""},{"$f":"IF(C92=\"\",\"\",IF('Environmental SARF'!D110=\"\",'Environmental SARF'!$C$10,'Environmental SARF'!D110))","v":""},{"$f":"IF(B92=\"\",\"\",IF('Environmental SARF'!E110=\"\",\"\",'Environmental SARF'!E110))","v":""},{"$f":"IF(B92=\"\",\"\",IF('Environmental SARF'!F110=\"\",\"\",'Environmental SARF'!F110))","v":""},{"$f":"IF(B92=\"\",\"\",IF('Environmental SARF'!G110=\"\",\"\",'Environmental SARF'!G110))","v":""},{"$f":"IF(C92=\"\",\"\",IF('Environmental SARF'!$N$6=\"\",\"\",CONCATENATE('Environmental SARF'!$N$6,'Environmental SARF'!$O$6)))","v":""},{"$f":"IF(C92=\"\",\"\",IF('Environmental SARF'!$N$2=\"\",\"\",'Environmental SARF'!$N$2))","v":""},{"$f":"IF(C92=\"\",\"\",IF('Environmental SARF'!$N$4=\"\",NOW(),'Environmental SARF'!$N$4))","v":""},"",{"$f":"IF(C92=\"\",\"\", IF(AND(NOT(ISBLANK('Environmental SARF'!H110)),'Environmental SARF'!$F$8<>\"1) NA\",'Environmental SARF'!$F$8<>\"1) ...\"), \"   \"&CONCATENATE('Environmental SARF'!$H$18,'Environmental SARF'!$H$19),\"\") & IF(AND(NOT(ISBLANK('Environmental SARF'!I110)),'Environmental SARF'!$F$9<>\"2) NA\",'Environmental SARF'!$F$9<>\"2) ...\"), \"   \"&CONCATENATE('Environmental SARF'!$I$18,'Environmental SARF'!$I$19),\"\")& IF(AND(NOT(ISBLANK('Environmental SARF'!J110)),'Environmental SARF'!$F$10<>\"3) NA\",'Environmental SARF'!$F$10<>\"3) ...\"), \"   \"&CONCATENATE('Environmental SARF'!$J$18,'Environmental SARF'!$J$19),\"\") & IF(AND(NOT(ISBLANK('Environmental SARF'!K110)),'Environmental SARF'!$F$11<>\"4) NA\",'Environmental SARF'!$F$11<>\"4) ...\"), \"   \"&CONCATENATE('Environmental SARF'!$K$18,'Environmental SARF'!$K$19),\"\")& IF(AND(NOT(ISBLANK('Environmental SARF'!L110)),'Environmental SARF'!$F$12<>\"5) NA\",'Environmental SARF'!$F$12<>\"5) ...\"), \"   \"&CONCATENATE('Environmental SARF'!$L$18,'Environmental SARF'!$L$19),\"\")&IF(AND(NOT(ISBLANK('Environmental SARF'!M110)),'Environmental SARF'!$F$13<>\"6) NA\",'Environmental SARF'!$F$13<>\"6) ...\"), \"   \"&CONCATENATE('Environmental SARF'!$M$18,'Environmental SARF'!$M$19),\"\")&IF(AND(NOT(ISBLANK('Environmental SARF'!N110)),'Environmental SARF'!$F$14<>\"7) NA\",'Environmental SARF'!$F$14<>\"7) ...\"), \"   \"&CONCATENATE('Environmental SARF'!$N$18,'Environmental SARF'!$N$19),\"\") &IF(AND(NOT(ISBLANK('Environmental SARF'!O110)),'Environmental SARF'!$F$15<>\"8) NA\",'Environmental SARF'!$F$15<>\"8) ...\"), \"   \"&CONCATENATE('Environmental SARF'!$O$18,'Environmental SARF'!$O$19),\"\"))","v":""}]
[{"$f":"IF(C93=\"\",\"\",IF('Environmental SARF'!B111=\"\",\"\",'Environmental SARF'!B111))","v":""},"",{"$f":"IF('Environmental SARF'!C111=\"\",\"\",'Environmental SARF'!C111)","v":""},{"$f":"IF(C93=\"\",\"\",IF('Environmental SARF'!D111=\"\",'Environmental SARF'!$C$10,'Environmental SARF'!D111))","v":""},{"$f":"IF(B93=\"\",\"\",IF('Environmental SARF'!E111=\"\",\"\",'Environmental SARF'!E111))","v":""},{"$f":"IF(B93=\"\",\"\",IF('Environmental SARF'!F111=\"\",\"\",'Environmental SARF'!F111))","v":""},{"$f":"IF(B93=\"\",\"\",IF('Environmental SARF'!G111=\"\",\"\",'Environmental SARF'!G111))","v":""},{"$f":"IF(C93=\"\",\"\",IF('Environmental SARF'!$N$6=\"\",\"\",CONCATENATE('Environmental SARF'!$N$6,'Environmental SARF'!$O$6)))","v":""},{"$f":"IF(C93=\"\",\"\",IF('Environmental SARF'!$N$2=\"\",\"\",'Environmental SARF'!$N$2))","v":""},{"$f":"IF(C93=\"\",\"\",IF('Environmental SARF'!$N$4=\"\",NOW(),'Environmental SARF'!$N$4))","v":""},"",{"$f":"IF(C93=\"\",\"\", IF(AND(NOT(ISBLANK('Environmental SARF'!H111)),'Environmental SARF'!$F$8<>\"1) NA\",'Environmental SARF'!$F$8<>\"1) ...\"), \"   \"&CONCATENATE('Environmental SARF'!$H$18,'Environmental SARF'!$H$19),\"\") & IF(AND(NOT(ISBLANK('Environmental SARF'!I111)),'Environmental SARF'!$F$9<>\"2) NA\",'Environmental SARF'!$F$9<>\"2) ...\"), \"   \"&CONCATENATE('Environmental SARF'!$I$18,'Environmental SARF'!$I$19),\"\")& IF(AND(NOT(ISBLANK('Environmental SARF'!J111)),'Environmental SARF'!$F$10<>\"3) NA\",'Environmental SARF'!$F$10<>\"3) ...\"), \"   \"&CONCATENATE('Environmental SARF'!$J$18,'Environmental SARF'!$J$19),\"\") & IF(AND(NOT(ISBLANK('Environmental SARF'!K111)),'Environmental SARF'!$F$11<>\"4) NA\",'Environmental SARF'!$F$11<>\"4) ...\"), \"   \"&CONCATENATE('Environmental SARF'!$K$18,'Environmental SARF'!$K$19),\"\")& IF(AND(NOT(ISBLANK('Environmental SARF'!L111)),'Environmental SARF'!$F$12<>\"5) NA\",'Environmental SARF'!$F$12<>\"5) ...\"), \"   \"&CONCATENATE('Environmental SARF'!$L$18,'Environmental SARF'!$L$19),\"\")&IF(AND(NOT(ISBLANK('Environmental SARF'!M111)),'Environmental SARF'!$F$13<>\"6) NA\",'Environmental SARF'!$F$13<>\"6) ...\"), \"   \"&CONCATENATE('Environmental SARF'!$M$18,'Environmental SARF'!$M$19),\"\")&IF(AND(NOT(ISBLANK('Environmental SARF'!N111)),'Environmental SARF'!$F$14<>\"7) NA\",'Environmental SARF'!$F$14<>\"7) ...\"), \"   \"&CONCATENATE('Environmental SARF'!$N$18,'Environmental SARF'!$N$19),\"\") &IF(AND(NOT(ISBLANK('Environmental SARF'!O111)),'Environmental SARF'!$F$15<>\"8) NA\",'Environmental SARF'!$F$15<>\"8) ...\"), \"   \"&CONCATENATE('Environmental SARF'!$O$18,'Environmental SARF'!$O$19),\"\"))","v":""}]
[{"$f":"IF(C94=\"\",\"\",IF('Environmental SARF'!B112=\"\",\"\",'Environmental SARF'!B112))","v":""},"",{"$f":"IF('Environmental SARF'!C112=\"\",\"\",'Environmental SARF'!C112)","v":""},{"$f":"IF(C94=\"\",\"\",IF('Environmental SARF'!D112=\"\",'Environmental SARF'!$C$10,'Environmental SARF'!D112))","v":""},{"$f":"IF(B94=\"\",\"\",IF('Environmental SARF'!E112=\"\",\"\",'Environmental SARF'!E112))","v":""},{"$f":"IF(B94=\"\",\"\",IF('Environmental SARF'!F112=\"\",\"\",'Environmental SARF'!F112))","v":""},{"$f":"IF(B94=\"\",\"\",IF('Environmental SARF'!G112=\"\",\"\",'Environmental SARF'!G112))","v":""},{"$f":"IF(C94=\"\",\"\",IF('Environmental SARF'!$N$6=\"\",\"\",CONCATENATE('Environmental SARF'!$N$6,'Environmental SARF'!$O$6)))","v":""},{"$f":"IF(C94=\"\",\"\",IF('Environmental SARF'!$N$2=\"\",\"\",'Environmental SARF'!$N$2))","v":""},{"$f":"IF(C94=\"\",\"\",IF('Environmental SARF'!$N$4=\"\",NOW(),'Environmental SARF'!$N$4))","v":""},"",{"$f":"IF(C94=\"\",\"\", IF(AND(NOT(ISBLANK('Environmental SARF'!H112)),'Environmental SARF'!$F$8<>\"1) NA\",'Environmental SARF'!$F$8<>\"1) ...\"), \"   \"&CONCATENATE('Environmental SARF'!$H$18,'Environmental SARF'!$H$19),\"\") & IF(AND(NOT(ISBLANK('Environmental SARF'!I112)),'Environmental SARF'!$F$9<>\"2) NA\",'Environmental SARF'!$F$9<>\"2) ...\"), \"   \"&CONCATENATE('Environmental SARF'!$I$18,'Environmental SARF'!$I$19),\"\")& IF(AND(NOT(ISBLANK('Environmental SARF'!J112)),'Environmental SARF'!$F$10<>\"3) NA\",'Environmental SARF'!$F$10<>\"3) ...\"), \"   \"&CONCATENATE('Environmental SARF'!$J$18,'Environmental SARF'!$J$19),\"\") & IF(AND(NOT(ISBLANK('Environmental SARF'!K112)),'Environmental SARF'!$F$11<>\"4) NA\",'Environmental SARF'!$F$11<>\"4) ...\"), \"   \"&CONCATENATE('Environmental SARF'!$K$18,'Environmental SARF'!$K$19),\"\")& IF(AND(NOT(ISBLANK('Environmental SARF'!L112)),'Environmental SARF'!$F$12<>\"5) NA\",'Environmental SARF'!$F$12<>\"5) ...\"), \"   \"&CONCATENATE('Environmental SARF'!$L$18,'Environmental SARF'!$L$19),\"\")&IF(AND(NOT(ISBLANK('Environmental SARF'!M112)),'Environmental SARF'!$F$13<>\"6) NA\",'Environmental SARF'!$F$13<>\"6) ...\"), \"   \"&CONCATENATE('Environmental SARF'!$M$18,'Environmental SARF'!$M$19),\"\")&IF(AND(NOT(ISBLANK('Environmental SARF'!N112)),'Environmental SARF'!$F$14<>\"7) NA\",'Environmental SARF'!$F$14<>\"7) ...\"), \"   \"&CONCATENATE('Environmental SARF'!$N$18,'Environmental SARF'!$N$19),\"\") &IF(AND(NOT(ISBLANK('Environmental SARF'!O112)),'Environmental SARF'!$F$15<>\"8) NA\",'Environmental SARF'!$F$15<>\"8) ...\"), \"   \"&CONCATENATE('Environmental SARF'!$O$18,'Environmental SARF'!$O$19),\"\"))","v":""}]
[{"$f":"IF(C95=\"\",\"\",IF('Environmental SARF'!B113=\"\",\"\",'Environmental SARF'!B113))","v":""},"",{"$f":"IF('Environmental SARF'!C113=\"\",\"\",'Environmental SARF'!C113)","v":""},{"$f":"IF(C95=\"\",\"\",IF('Environmental SARF'!D113=\"\",'Environmental SARF'!$C$10,'Environmental SARF'!D113))","v":""},{"$f":"IF(B95=\"\",\"\",IF('Environmental SARF'!E113=\"\",\"\",'Environmental SARF'!E113))","v":""},{"$f":"IF(B95=\"\",\"\",IF('Environmental SARF'!F113=\"\",\"\",'Environmental SARF'!F113))","v":""},{"$f":"IF(B95=\"\",\"\",IF('Environmental SARF'!G113=\"\",\"\",'Environmental SARF'!G113))","v":""},{"$f":"IF(C95=\"\",\"\",IF('Environmental SARF'!$N$6=\"\",\"\",CONCATENATE('Environmental SARF'!$N$6,'Environmental SARF'!$O$6)))","v":""},{"$f":"IF(C95=\"\",\"\",IF('Environmental SARF'!$N$2=\"\",\"\",'Environmental SARF'!$N$2))","v":""},{"$f":"IF(C95=\"\",\"\",IF('Environmental SARF'!$N$4=\"\",NOW(),'Environmental SARF'!$N$4))","v":""},"",{"$f":"IF(C95=\"\",\"\", IF(AND(NOT(ISBLANK('Environmental SARF'!H113)),'Environmental SARF'!$F$8<>\"1) NA\",'Environmental SARF'!$F$8<>\"1) ...\"), \"   \"&CONCATENATE('Environmental SARF'!$H$18,'Environmental SARF'!$H$19),\"\") & IF(AND(NOT(ISBLANK('Environmental SARF'!I113)),'Environmental SARF'!$F$9<>\"2) NA\",'Environmental SARF'!$F$9<>\"2) ...\"), \"   \"&CONCATENATE('Environmental SARF'!$I$18,'Environmental SARF'!$I$19),\"\")& IF(AND(NOT(ISBLANK('Environmental SARF'!J113)),'Environmental SARF'!$F$10<>\"3) NA\",'Environmental SARF'!$F$10<>\"3) ...\"), \"   \"&CONCATENATE('Environmental SARF'!$J$18,'Environmental SARF'!$J$19),\"\") & IF(AND(NOT(ISBLANK('Environmental SARF'!K113)),'Environmental SARF'!$F$11<>\"4) NA\",'Environmental SARF'!$F$11<>\"4) ...\"), \"   \"&CONCATENATE('Environmental SARF'!$K$18,'Environmental SARF'!$K$19),\"\")& IF(AND(NOT(ISBLANK('Environmental SARF'!L113)),'Environmental SARF'!$F$12<>\"5) NA\",'Environmental SARF'!$F$12<>\"5) ...\"), \"   \"&CONCATENATE('Environmental SARF'!$L$18,'Environmental SARF'!$L$19),\"\")&IF(AND(NOT(ISBLANK('Environmental SARF'!M113)),'Environmental SARF'!$F$13<>\"6) NA\",'Environmental SARF'!$F$13<>\"6) ...\"), \"   \"&CONCATENATE('Environmental SARF'!$M$18,'Environmental SARF'!$M$19),\"\")&IF(AND(NOT(ISBLANK('Environmental SARF'!N113)),'Environmental SARF'!$F$14<>\"7) NA\",'Environmental SARF'!$F$14<>\"7) ...\"), \"   \"&CONCATENATE('Environmental SARF'!$N$18,'Environmental SARF'!$N$19),\"\") &IF(AND(NOT(ISBLANK('Environmental SARF'!O113)),'Environmental SARF'!$F$15<>\"8) NA\",'Environmental SARF'!$F$15<>\"8) ...\"), \"   \"&CONCATENATE('Environmental SARF'!$O$18,'Environmental SARF'!$O$19),\"\"))","v":""}]
[{"$f":"IF(C96=\"\",\"\",IF('Environmental SARF'!B114=\"\",\"\",'Environmental SARF'!B114))","v":""},"",{"$f":"IF('Environmental SARF'!C114=\"\",\"\",'Environmental SARF'!C114)","v":""},{"$f":"IF(C96=\"\",\"\",IF('Environmental SARF'!D114=\"\",'Environmental SARF'!$C$10,'Environmental SARF'!D114))","v":""},{"$f":"IF(B96=\"\",\"\",IF('Environmental SARF'!E114=\"\",\"\",'Environmental SARF'!E114))","v":""},{"$f":"IF(B96=\"\",\"\",IF('Environmental SARF'!F114=\"\",\"\",'Environmental SARF'!F114))","v":""},{"$f":"IF(B96=\"\",\"\",IF('Environmental SARF'!G114=\"\",\"\",'Environmental SARF'!G114))","v":""},{"$f":"IF(C96=\"\",\"\",IF('Environmental SARF'!$N$6=\"\",\"\",CONCATENATE('Environmental SARF'!$N$6,'Environmental SARF'!$O$6)))","v":""},{"$f":"IF(C96=\"\",\"\",IF('Environmental SARF'!$N$2=\"\",\"\",'Environmental SARF'!$N$2))","v":""},{"$f":"IF(C96=\"\",\"\",IF('Environmental SARF'!$N$4=\"\",NOW(),'Environmental SARF'!$N$4))","v":""},"",{"$f":"IF(C96=\"\",\"\", IF(AND(NOT(ISBLANK('Environmental SARF'!H114)),'Environmental SARF'!$F$8<>\"1) NA\",'Environmental SARF'!$F$8<>\"1) ...\"), \"   \"&CONCATENATE('Environmental SARF'!$H$18,'Environmental SARF'!$H$19),\"\") & IF(AND(NOT(ISBLANK('Environmental SARF'!I114)),'Environmental SARF'!$F$9<>\"2) NA\",'Environmental SARF'!$F$9<>\"2) ...\"), \"   \"&CONCATENATE('Environmental SARF'!$I$18,'Environmental SARF'!$I$19),\"\")& IF(AND(NOT(ISBLANK('Environmental SARF'!J114)),'Environmental SARF'!$F$10<>\"3) NA\",'Environmental SARF'!$F$10<>\"3) ...\"), \"   \"&CONCATENATE('Environmental SARF'!$J$18,'Environmental SARF'!$J$19),\"\") & IF(AND(NOT(ISBLANK('Environmental SARF'!K114)),'Environmental SARF'!$F$11<>\"4) NA\",'Environmental SARF'!$F$11<>\"4) ...\"), \"   \"&CONCATENATE('Environmental SARF'!$K$18,'Environmental SARF'!$K$19),\"\")& IF(AND(NOT(ISBLANK('Environmental SARF'!L114)),'Environmental SARF'!$F$12<>\"5) NA\",'Environmental SARF'!$F$12<>\"5) ...\"), \"   \"&CONCATENATE('Environmental SARF'!$L$18,'Environmental SARF'!$L$19),\"\")&IF(AND(NOT(ISBLANK('Environmental SARF'!M114)),'Environmental SARF'!$F$13<>\"6) NA\",'Environmental SARF'!$F$13<>\"6) ...\"), \"   \"&CONCATENATE('Environmental SARF'!$M$18,'Environmental SARF'!$M$19),\"\")&IF(AND(NOT(ISBLANK('Environmental SARF'!N114)),'Environmental SARF'!$F$14<>\"7) NA\",'Environmental SARF'!$F$14<>\"7) ...\"), \"   \"&CONCATENATE('Environmental SARF'!$N$18,'Environmental SARF'!$N$19),\"\") &IF(AND(NOT(ISBLANK('Environmental SARF'!O114)),'Environmental SARF'!$F$15<>\"8) NA\",'Environmental SARF'!$F$15<>\"8) ...\"), \"   \"&CONCATENATE('Environmental SARF'!$O$18,'Environmental SARF'!$O$19),\"\"))","v":""}]
[{"$f":"IF(C97=\"\",\"\",IF('Environmental SARF'!B115=\"\",\"\",'Environmental SARF'!B115))","v":""},"",{"$f":"IF('Environmental SARF'!C115=\"\",\"\",'Environmental SARF'!C115)","v":""},{"$f":"IF(C97=\"\",\"\",IF('Environmental SARF'!D115=\"\",'Environmental SARF'!$C$10,'Environmental SARF'!D115))","v":""},{"$f":"IF(B97=\"\",\"\",IF('Environmental SARF'!E115=\"\",\"\",'Environmental SARF'!E115))","v":""},{"$f":"IF(B97=\"\",\"\",IF('Environmental SARF'!F115=\"\",\"\",'Environmental SARF'!F115))","v":""},{"$f":"IF(B97=\"\",\"\",IF('Environmental SARF'!G115=\"\",\"\",'Environmental SARF'!G115))","v":""},{"$f":"IF(C97=\"\",\"\",IF('Environmental SARF'!$N$6=\"\",\"\",CONCATENATE('Environmental SARF'!$N$6,'Environmental SARF'!$O$6)))","v":""},{"$f":"IF(C97=\"\",\"\",IF('Environmental SARF'!$N$2=\"\",\"\",'Environmental SARF'!$N$2))","v":""},{"$f":"IF(C97=\"\",\"\",IF('Environmental SARF'!$N$4=\"\",NOW(),'Environmental SARF'!$N$4))","v":""},"",{"$f":"IF(C97=\"\",\"\", IF(AND(NOT(ISBLANK('Environmental SARF'!H115)),'Environmental SARF'!$F$8<>\"1) NA\",'Environmental SARF'!$F$8<>\"1) ...\"), \"   \"&CONCATENATE('Environmental SARF'!$H$18,'Environmental SARF'!$H$19),\"\") & IF(AND(NOT(ISBLANK('Environmental SARF'!I115)),'Environmental SARF'!$F$9<>\"2) NA\",'Environmental SARF'!$F$9<>\"2) ...\"), \"   \"&CONCATENATE('Environmental SARF'!$I$18,'Environmental SARF'!$I$19),\"\")& IF(AND(NOT(ISBLANK('Environmental SARF'!J115)),'Environmental SARF'!$F$10<>\"3) NA\",'Environmental SARF'!$F$10<>\"3) ...\"), \"   \"&CONCATENATE('Environmental SARF'!$J$18,'Environmental SARF'!$J$19),\"\") & IF(AND(NOT(ISBLANK('Environmental SARF'!K115)),'Environmental SARF'!$F$11<>\"4) NA\",'Environmental SARF'!$F$11<>\"4) ...\"), \"   \"&CONCATENATE('Environmental SARF'!$K$18,'Environmental SARF'!$K$19),\"\")& IF(AND(NOT(ISBLANK('Environmental SARF'!L115)),'Environmental SARF'!$F$12<>\"5) NA\",'Environmental SARF'!$F$12<>\"5) ...\"), \"   \"&CONCATENATE('Environmental SARF'!$L$18,'Environmental SARF'!$L$19),\"\")&IF(AND(NOT(ISBLANK('Environmental SARF'!M115)),'Environmental SARF'!$F$13<>\"6) NA\",'Environmental SARF'!$F$13<>\"6) ...\"), \"   \"&CONCATENATE('Environmental SARF'!$M$18,'Environmental SARF'!$M$19),\"\")&IF(AND(NOT(ISBLANK('Environmental SARF'!N115)),'Environmental SARF'!$F$14<>\"7) NA\",'Environmental SARF'!$F$14<>\"7) ...\"), \"   \"&CONCATENATE('Environmental SARF'!$N$18,'Environmental SARF'!$N$19),\"\") &IF(AND(NOT(ISBLANK('Environmental SARF'!O115)),'Environmental SARF'!$F$15<>\"8) NA\",'Environmental SARF'!$F$15<>\"8) ...\"), \"   \"&CONCATENATE('Environmental SARF'!$O$18,'Environmental SARF'!$O$19),\"\"))","v":""}]
[{"$f":"IF(C98=\"\",\"\",IF('Environmental SARF'!B116=\"\",\"\",'Environmental SARF'!B116))","v":""},"",{"$f":"IF('Environmental SARF'!C116=\"\",\"\",'Environmental SARF'!C116)","v":""},{"$f":"IF(C98=\"\",\"\",IF('Environmental SARF'!D116=\"\",'Environmental SARF'!$C$10,'Environmental SARF'!D116))","v":""},{"$f":"IF(B98=\"\",\"\",IF('Environmental SARF'!E116=\"\",\"\",'Environmental SARF'!E116))","v":""},{"$f":"IF(B98=\"\",\"\",IF('Environmental SARF'!F116=\"\",\"\",'Environmental SARF'!F116))","v":""},{"$f":"IF(B98=\"\",\"\",IF('Environmental SARF'!G116=\"\",\"\",'Environmental SARF'!G116))","v":""},{"$f":"IF(C98=\"\",\"\",IF('Environmental SARF'!$N$6=\"\",\"\",CONCATENATE('Environmental SARF'!$N$6,'Environmental SARF'!$O$6)))","v":""},{"$f":"IF(C98=\"\",\"\",IF('Environmental SARF'!$N$2=\"\",\"\",'Environmental SARF'!$N$2))","v":""},{"$f":"IF(C98=\"\",\"\",IF('Environmental SARF'!$N$4=\"\",NOW(),'Environmental SARF'!$N$4))","v":""},"",{"$f":"IF(C98=\"\",\"\", IF(AND(NOT(ISBLANK('Environmental SARF'!H116)),'Environmental SARF'!$F$8<>\"1) NA\",'Environmental SARF'!$F$8<>\"1) ...\"), \"   \"&CONCATENATE('Environmental SARF'!$H$18,'Environmental SARF'!$H$19),\"\") & IF(AND(NOT(ISBLANK('Environmental SARF'!I116)),'Environmental SARF'!$F$9<>\"2) NA\",'Environmental SARF'!$F$9<>\"2) ...\"), \"   \"&CONCATENATE('Environmental SARF'!$I$18,'Environmental SARF'!$I$19),\"\")& IF(AND(NOT(ISBLANK('Environmental SARF'!J116)),'Environmental SARF'!$F$10<>\"3) NA\",'Environmental SARF'!$F$10<>\"3) ...\"), \"   \"&CONCATENATE('Environmental SARF'!$J$18,'Environmental SARF'!$J$19),\"\") & IF(AND(NOT(ISBLANK('Environmental SARF'!K116)),'Environmental SARF'!$F$11<>\"4) NA\",'Environmental SARF'!$F$11<>\"4) ...\"), \"   \"&CONCATENATE('Environmental SARF'!$K$18,'Environmental SARF'!$K$19),\"\")& IF(AND(NOT(ISBLANK('Environmental SARF'!L116)),'Environmental SARF'!$F$12<>\"5) NA\",'Environmental SARF'!$F$12<>\"5) ...\"), \"   \"&CONCATENATE('Environmental SARF'!$L$18,'Environmental SARF'!$L$19),\"\")&IF(AND(NOT(ISBLANK('Environmental SARF'!M116)),'Environmental SARF'!$F$13<>\"6) NA\",'Environmental SARF'!$F$13<>\"6) ...\"), \"   \"&CONCATENATE('Environmental SARF'!$M$18,'Environmental SARF'!$M$19),\"\")&IF(AND(NOT(ISBLANK('Environmental SARF'!N116)),'Environmental SARF'!$F$14<>\"7) NA\",'Environmental SARF'!$F$14<>\"7) ...\"), \"   \"&CONCATENATE('Environmental SARF'!$N$18,'Environmental SARF'!$N$19),\"\") &IF(AND(NOT(ISBLANK('Environmental SARF'!O116)),'Environmental SARF'!$F$15<>\"8) NA\",'Environmental SARF'!$F$15<>\"8) ...\"), \"   \"&CONCATENATE('Environmental SARF'!$O$18,'Environmental SARF'!$O$19),\"\"))","v":""}]
[{"$f":"IF(C99=\"\",\"\",IF('Environmental SARF'!B117=\"\",\"\",'Environmental SARF'!B117))","v":""},"",{"$f":"IF('Environmental SARF'!C117=\"\",\"\",'Environmental SARF'!C117)","v":""},{"$f":"IF(C99=\"\",\"\",IF('Environmental SARF'!D117=\"\",'Environmental SARF'!$C$10,'Environmental SARF'!D117))","v":""},{"$f":"IF(B99=\"\",\"\",IF('Environmental SARF'!E117=\"\",\"\",'Environmental SARF'!E117))","v":""},{"$f":"IF(B99=\"\",\"\",IF('Environmental SARF'!F117=\"\",\"\",'Environmental SARF'!F117))","v":""},{"$f":"IF(B99=\"\",\"\",IF('Environmental SARF'!G117=\"\",\"\",'Environmental SARF'!G117))","v":""},{"$f":"IF(C99=\"\",\"\",IF('Environmental SARF'!$N$6=\"\",\"\",CONCATENATE('Environmental SARF'!$N$6,'Environmental SARF'!$O$6)))","v":""},{"$f":"IF(C99=\"\",\"\",IF('Environmental SARF'!$N$2=\"\",\"\",'Environmental SARF'!$N$2))","v":""},{"$f":"IF(C99=\"\",\"\",IF('Environmental SARF'!$N$4=\"\",NOW(),'Environmental SARF'!$N$4))","v":""},"",{"$f":"IF(C99=\"\",\"\", IF(AND(NOT(ISBLANK('Environmental SARF'!H117)),'Environmental SARF'!$F$8<>\"1) NA\",'Environmental SARF'!$F$8<>\"1) ...\"), \"   \"&CONCATENATE('Environmental SARF'!$H$18,'Environmental SARF'!$H$19),\"\") & IF(AND(NOT(ISBLANK('Environmental SARF'!I117)),'Environmental SARF'!$F$9<>\"2) NA\",'Environmental SARF'!$F$9<>\"2) ...\"), \"   \"&CONCATENATE('Environmental SARF'!$I$18,'Environmental SARF'!$I$19),\"\")& IF(AND(NOT(ISBLANK('Environmental SARF'!J117)),'Environmental SARF'!$F$10<>\"3) NA\",'Environmental SARF'!$F$10<>\"3) ...\"), \"   \"&CONCATENATE('Environmental SARF'!$J$18,'Environmental SARF'!$J$19),\"\") & IF(AND(NOT(ISBLANK('Environmental SARF'!K117)),'Environmental SARF'!$F$11<>\"4) NA\",'Environmental SARF'!$F$11<>\"4) ...\"), \"   \"&CONCATENATE('Environmental SARF'!$K$18,'Environmental SARF'!$K$19),\"\")& IF(AND(NOT(ISBLANK('Environmental SARF'!L117)),'Environmental SARF'!$F$12<>\"5) NA\",'Environmental SARF'!$F$12<>\"5) ...\"), \"   \"&CONCATENATE('Environmental SARF'!$L$18,'Environmental SARF'!$L$19),\"\")&IF(AND(NOT(ISBLANK('Environmental SARF'!M117)),'Environmental SARF'!$F$13<>\"6) NA\",'Environmental SARF'!$F$13<>\"6) ...\"), \"   \"&CONCATENATE('Environmental SARF'!$M$18,'Environmental SARF'!$M$19),\"\")&IF(AND(NOT(ISBLANK('Environmental SARF'!N117)),'Environmental SARF'!$F$14<>\"7) NA\",'Environmental SARF'!$F$14<>\"7) ...\"), \"   \"&CONCATENATE('Environmental SARF'!$N$18,'Environmental SARF'!$N$19),\"\") &IF(AND(NOT(ISBLANK('Environmental SARF'!O117)),'Environmental SARF'!$F$15<>\"8) NA\",'Environmental SARF'!$F$15<>\"8) ...\"), \"   \"&CONCATENATE('Environmental SARF'!$O$18,'Environmental SARF'!$O$19),\"\"))","v":""}]
[{"$f":"IF(C100=\"\",\"\",IF('Environmental SARF'!B118=\"\",\"\",'Environmental SARF'!B118))","v":""},"",{"$f":"IF('Environmental SARF'!C118=\"\",\"\",'Environmental SARF'!C118)","v":""},{"$f":"IF(C100=\"\",\"\",IF('Environmental SARF'!D118=\"\",'Environmental SARF'!$C$10,'Environmental SARF'!D118))","v":""},{"$f":"IF(B100=\"\",\"\",IF('Environmental SARF'!E118=\"\",\"\",'Environmental SARF'!E118))","v":""},{"$f":"IF(B100=\"\",\"\",IF('Environmental SARF'!F118=\"\",\"\",'Environmental SARF'!F118))","v":""},{"$f":"IF(B100=\"\",\"\",IF('Environmental SARF'!G118=\"\",\"\",'Environmental SARF'!G118))","v":""},{"$f":"IF(C100=\"\",\"\",IF('Environmental SARF'!$N$6=\"\",\"\",CONCATENATE('Environmental SARF'!$N$6,'Environmental SARF'!$O$6)))","v":""},{"$f":"IF(C100=\"\",\"\",IF('Environmental SARF'!$N$2=\"\",\"\",'Environmental SARF'!$N$2))","v":""},{"$f":"IF(C100=\"\",\"\",IF('Environmental SARF'!$N$4=\"\",NOW(),'Environmental SARF'!$N$4))","v":""},"",{"$f":"IF(C100=\"\",\"\", IF(AND(NOT(ISBLANK('Environmental SARF'!H118)),'Environmental SARF'!$F$8<>\"1) NA\",'Environmental SARF'!$F$8<>\"1) ...\"), \"   \"&CONCATENATE('Environmental SARF'!$H$18,'Environmental SARF'!$H$19),\"\") & IF(AND(NOT(ISBLANK('Environmental SARF'!I118)),'Environmental SARF'!$F$9<>\"2) NA\",'Environmental SARF'!$F$9<>\"2) ...\"), \"   \"&CONCATENATE('Environmental SARF'!$I$18,'Environmental SARF'!$I$19),\"\")& IF(AND(NOT(ISBLANK('Environmental SARF'!J118)),'Environmental SARF'!$F$10<>\"3) NA\",'Environmental SARF'!$F$10<>\"3) ...\"), \"   \"&CONCATENATE('Environmental SARF'!$J$18,'Environmental SARF'!$J$19),\"\") & IF(AND(NOT(ISBLANK('Environmental SARF'!K118)),'Environmental SARF'!$F$11<>\"4) NA\",'Environmental SARF'!$F$11<>\"4) ...\"), \"   \"&CONCATENATE('Environmental SARF'!$K$18,'Environmental SARF'!$K$19),\"\")& IF(AND(NOT(ISBLANK('Environmental SARF'!L118)),'Environmental SARF'!$F$12<>\"5) NA\",'Environmental SARF'!$F$12<>\"5) ...\"), \"   \"&CONCATENATE('Environmental SARF'!$L$18,'Environmental SARF'!$L$19),\"\")&IF(AND(NOT(ISBLANK('Environmental SARF'!M118)),'Environmental SARF'!$F$13<>\"6) NA\",'Environmental SARF'!$F$13<>\"6) ...\"), \"   \"&CONCATENATE('Environmental SARF'!$M$18,'Environmental SARF'!$M$19),\"\")&IF(AND(NOT(ISBLANK('Environmental SARF'!N118)),'Environmental SARF'!$F$14<>\"7) NA\",'Environmental SARF'!$F$14<>\"7) ...\"), \"   \"&CONCATENATE('Environmental SARF'!$N$18,'Environmental SARF'!$N$19),\"\") &IF(AND(NOT(ISBLANK('Environmental SARF'!O118)),'Environmental SARF'!$F$15<>\"8) NA\",'Environmental SARF'!$F$15<>\"8) ...\"), \"   \"&CONCATENATE('Environmental SARF'!$O$18,'Environmental SARF'!$O$19),\"\"))","v":""}]
[{"$f":"IF(C101=\"\",\"\",IF('Environmental SARF'!B119=\"\",\"\",'Environmental SARF'!B119))","v":""},"",{"$f":"IF('Environmental SARF'!C119=\"\",\"\",'Environmental SARF'!C119)","v":""},{"$f":"IF(C101=\"\",\"\",IF('Environmental SARF'!D119=\"\",'Environmental SARF'!$C$10,'Environmental SARF'!D119))","v":""},{"$f":"IF(B101=\"\",\"\",IF('Environmental SARF'!E119=\"\",\"\",'Environmental SARF'!E119))","v":""},{"$f":"IF(B101=\"\",\"\",IF('Environmental SARF'!F119=\"\",\"\",'Environmental SARF'!F119))","v":""},{"$f":"IF(B101=\"\",\"\",IF('Environmental SARF'!G119=\"\",\"\",'Environmental SARF'!G119))","v":""},{"$f":"IF(C101=\"\",\"\",IF('Environmental SARF'!$N$6=\"\",\"\",CONCATENATE('Environmental SARF'!$N$6,'Environmental SARF'!$O$6)))","v":""},{"$f":"IF(C101=\"\",\"\",IF('Environmental SARF'!$N$2=\"\",\"\",'Environmental SARF'!$N$2))","v":""},{"$f":"IF(C101=\"\",\"\",IF('Environmental SARF'!$N$4=\"\",NOW(),'Environmental SARF'!$N$4))","v":""},"",{"$f":"IF(C101=\"\",\"\", IF(AND(NOT(ISBLANK('Environmental SARF'!H119)),'Environmental SARF'!$F$8<>\"1) NA\",'Environmental SARF'!$F$8<>\"1) ...\"), \"   \"&CONCATENATE('Environmental SARF'!$H$18,'Environmental SARF'!$H$19),\"\") & IF(AND(NOT(ISBLANK('Environmental SARF'!I119)),'Environmental SARF'!$F$9<>\"2) NA\",'Environmental SARF'!$F$9<>\"2) ...\"), \"   \"&CONCATENATE('Environmental SARF'!$I$18,'Environmental SARF'!$I$19),\"\")& IF(AND(NOT(ISBLANK('Environmental SARF'!J119)),'Environmental SARF'!$F$10<>\"3) NA\",'Environmental SARF'!$F$10<>\"3) ...\"), \"   \"&CONCATENATE('Environmental SARF'!$J$18,'Environmental SARF'!$J$19),\"\") & IF(AND(NOT(ISBLANK('Environmental SARF'!K119)),'Environmental SARF'!$F$11<>\"4) NA\",'Environmental SARF'!$F$11<>\"4) ...\"), \"   \"&CONCATENATE('Environmental SARF'!$K$18,'Environmental SARF'!$K$19),\"\")& IF(AND(NOT(ISBLANK('Environmental SARF'!L119)),'Environmental SARF'!$F$12<>\"5) NA\",'Environmental SARF'!$F$12<>\"5) ...\"), \"   \"&CONCATENATE('Environmental SARF'!$L$18,'Environmental SARF'!$L$19),\"\")&IF(AND(NOT(ISBLANK('Environmental SARF'!M119)),'Environmental SARF'!$F$13<>\"6) NA\",'Environmental SARF'!$F$13<>\"6) ...\"), \"   \"&CONCATENATE('Environmental SARF'!$M$18,'Environmental SARF'!$M$19),\"\")&IF(AND(NOT(ISBLANK('Environmental SARF'!N119)),'Environmental SARF'!$F$14<>\"7) NA\",'Environmental SARF'!$F$14<>\"7) ...\"), \"   \"&CONCATENATE('Environmental SARF'!$N$18,'Environmental SARF'!$N$19),\"\") &IF(AND(NOT(ISBLANK('Environmental SARF'!O119)),'Environmental SARF'!$F$15<>\"8) NA\",'Environmental SARF'!$F$15<>\"8) ...\"), \"   \"&CONCATENATE('Environmental SARF'!$O$18,'Environmental SARF'!$O$19),\"\"))","v":""}]
[{"$f":"IF(C102=\"\",\"\",IF('Environmental SARF'!B120=\"\",\"\",'Environmental SARF'!B120))","v":""},"",{"$f":"IF('Environmental SARF'!C120=\"\",\"\",'Environmental SARF'!C120)","v":""},{"$f":"IF(C102=\"\",\"\",IF('Environmental SARF'!D120=\"\",'Environmental SARF'!$C$10,'Environmental SARF'!D120))","v":""},{"$f":"IF(B102=\"\",\"\",IF('Environmental SARF'!E120=\"\",\"\",'Environmental SARF'!E120))","v":""},{"$f":"IF(B102=\"\",\"\",IF('Environmental SARF'!F120=\"\",\"\",'Environmental SARF'!F120))","v":""},{"$f":"IF(B102=\"\",\"\",IF('Environmental SARF'!G120=\"\",\"\",'Environmental SARF'!G120))","v":""},{"$f":"IF(C102=\"\",\"\",IF('Environmental SARF'!$N$6=\"\",\"\",CONCATENATE('Environmental SARF'!$N$6,'Environmental SARF'!$O$6)))","v":""},{"$f":"IF(C102=\"\",\"\",IF('Environmental SARF'!$N$2=\"\",\"\",'Environmental SARF'!$N$2))","v":""},{"$f":"IF(C102=\"\",\"\",IF('Environmental SARF'!$N$4=\"\",NOW(),'Environmental SARF'!$N$4))","v":""},"",{"$f":"IF(C102=\"\",\"\", IF(AND(NOT(ISBLANK('Environmental SARF'!H120)),'Environmental SARF'!$F$8<>\"1) NA\",'Environmental SARF'!$F$8<>\"1) ...\"), \"   \"&CONCATENATE('Environmental SARF'!$H$18,'Environmental SARF'!$H$19),\"\") & IF(AND(NOT(ISBLANK('Environmental SARF'!I120)),'Environmental SARF'!$F$9<>\"2) NA\",'Environmental SARF'!$F$9<>\"2) ...\"), \"   \"&CONCATENATE('Environmental SARF'!$I$18,'Environmental SARF'!$I$19),\"\")& IF(AND(NOT(ISBLANK('Environmental SARF'!J120)),'Environmental SARF'!$F$10<>\"3) NA\",'Environmental SARF'!$F$10<>\"3) ...\"), \"   \"&CONCATENATE('Environmental SARF'!$J$18,'Environmental SARF'!$J$19),\"\") & IF(AND(NOT(ISBLANK('Environmental SARF'!K120)),'Environmental SARF'!$F$11<>\"4) NA\",'Environmental SARF'!$F$11<>\"4) ...\"), \"   \"&CONCATENATE('Environmental SARF'!$K$18,'Environmental SARF'!$K$19),\"\")& IF(AND(NOT(ISBLANK('Environmental SARF'!L120)),'Environmental SARF'!$F$12<>\"5) NA\",'Environmental SARF'!$F$12<>\"5) ...\"), \"   \"&CONCATENATE('Environmental SARF'!$L$18,'Environmental SARF'!$L$19),\"\")&IF(AND(NOT(ISBLANK('Environmental SARF'!M120)),'Environmental SARF'!$F$13<>\"6) NA\",'Environmental SARF'!$F$13<>\"6) ...\"), \"   \"&CONCATENATE('Environmental SARF'!$M$18,'Environmental SARF'!$M$19),\"\")&IF(AND(NOT(ISBLANK('Environmental SARF'!N120)),'Environmental SARF'!$F$14<>\"7) NA\",'Environmental SARF'!$F$14<>\"7) ...\"), \"   \"&CONCATENATE('Environmental SARF'!$N$18,'Environmental SARF'!$N$19),\"\") &IF(AND(NOT(ISBLANK('Environmental SARF'!O120)),'Environmental SARF'!$F$15<>\"8) NA\",'Environmental SARF'!$F$15<>\"8) ...\"), \"   \"&CONCATENATE('Environmental SARF'!$O$18,'Environmental SARF'!$O$19),\"\"))","v":""}]
[{"$f":"IF(C103=\"\",\"\",IF('Environmental SARF'!B121=\"\",\"\",'Environmental SARF'!B121))","v":""},"",{"$f":"IF('Environmental SARF'!C121=\"\",\"\",'Environmental SARF'!C121)","v":""},{"$f":"IF(C103=\"\",\"\",IF('Environmental SARF'!D121=\"\",'Environmental SARF'!$C$10,'Environmental SARF'!D121))","v":""},{"$f":"IF(B103=\"\",\"\",IF('Environmental SARF'!E121=\"\",\"\",'Environmental SARF'!E121))","v":""},{"$f":"IF(B103=\"\",\"\",IF('Environmental SARF'!F121=\"\",\"\",'Environmental SARF'!F121))","v":""},{"$f":"IF(B103=\"\",\"\",IF('Environmental SARF'!G121=\"\",\"\",'Environmental SARF'!G121))","v":""},{"$f":"IF(C103=\"\",\"\",IF('Environmental SARF'!$N$6=\"\",\"\",CONCATENATE('Environmental SARF'!$N$6,'Environmental SARF'!$O$6)))","v":""},{"$f":"IF(C103=\"\",\"\",IF('Environmental SARF'!$N$2=\"\",\"\",'Environmental SARF'!$N$2))","v":""},{"$f":"IF(C103=\"\",\"\",IF('Environmental SARF'!$N$4=\"\",NOW(),'Environmental SARF'!$N$4))","v":""},"",{"$f":"IF(C103=\"\",\"\", IF(AND(NOT(ISBLANK('Environmental SARF'!H121)),'Environmental SARF'!$F$8<>\"1) NA\",'Environmental SARF'!$F$8<>\"1) ...\"), \"   \"&CONCATENATE('Environmental SARF'!$H$18,'Environmental SARF'!$H$19),\"\") & IF(AND(NOT(ISBLANK('Environmental SARF'!I121)),'Environmental SARF'!$F$9<>\"2) NA\",'Environmental SARF'!$F$9<>\"2) ...\"), \"   \"&CONCATENATE('Environmental SARF'!$I$18,'Environmental SARF'!$I$19),\"\")& IF(AND(NOT(ISBLANK('Environmental SARF'!J121)),'Environmental SARF'!$F$10<>\"3) NA\",'Environmental SARF'!$F$10<>\"3) ...\"), \"   \"&CONCATENATE('Environmental SARF'!$J$18,'Environmental SARF'!$J$19),\"\") & IF(AND(NOT(ISBLANK('Environmental SARF'!K121)),'Environmental SARF'!$F$11<>\"4) NA\",'Environmental SARF'!$F$11<>\"4) ...\"), \"   \"&CONCATENATE('Environmental SARF'!$K$18,'Environmental SARF'!$K$19),\"\")& IF(AND(NOT(ISBLANK('Environmental SARF'!L121)),'Environmental SARF'!$F$12<>\"5) NA\",'Environmental SARF'!$F$12<>\"5) ...\"), \"   \"&CONCATENATE('Environmental SARF'!$L$18,'Environmental SARF'!$L$19),\"\")&IF(AND(NOT(ISBLANK('Environmental SARF'!M121)),'Environmental SARF'!$F$13<>\"6) NA\",'Environmental SARF'!$F$13<>\"6) ...\"), \"   \"&CONCATENATE('Environmental SARF'!$M$18,'Environmental SARF'!$M$19),\"\")&IF(AND(NOT(ISBLANK('Environmental SARF'!N121)),'Environmental SARF'!$F$14<>\"7) NA\",'Environmental SARF'!$F$14<>\"7) ...\"), \"   \"&CONCATENATE('Environmental SARF'!$N$18,'Environmental SARF'!$N$19),\"\") &IF(AND(NOT(ISBLANK('Environmental SARF'!O121)),'Environmental SARF'!$F$15<>\"8) NA\",'Environmental SARF'!$F$15<>\"8) ...\"), \"   \"&CONCATENATE('Environmental SARF'!$O$18,'Environmental SARF'!$O$19),\"\"))","v":""}]
[{"$f":"IF(C104=\"\",\"\",IF('Environmental SARF'!B122=\"\",\"\",'Environmental SARF'!B122))","v":""},"",{"$f":"IF('Environmental SARF'!C122=\"\",\"\",'Environmental SARF'!C122)","v":""},{"$f":"IF(C104=\"\",\"\",IF('Environmental SARF'!D122=\"\",'Environmental SARF'!$C$10,'Environmental SARF'!D122))","v":""},{"$f":"IF(B104=\"\",\"\",IF('Environmental SARF'!E122=\"\",\"\",'Environmental SARF'!E122))","v":""},{"$f":"IF(B104=\"\",\"\",IF('Environmental SARF'!F122=\"\",\"\",'Environmental SARF'!F122))","v":""},{"$f":"IF(B104=\"\",\"\",IF('Environmental SARF'!G122=\"\",\"\",'Environmental SARF'!G122))","v":""},{"$f":"IF(C104=\"\",\"\",IF('Environmental SARF'!$N$6=\"\",\"\",CONCATENATE('Environmental SARF'!$N$6,'Environmental SARF'!$O$6)))","v":""},{"$f":"IF(C104=\"\",\"\",IF('Environmental SARF'!$N$2=\"\",\"\",'Environmental SARF'!$N$2))","v":""},{"$f":"IF(C104=\"\",\"\",IF('Environmental SARF'!$N$4=\"\",NOW(),'Environmental SARF'!$N$4))","v":""},"",{"$f":"IF(C104=\"\",\"\", IF(AND(NOT(ISBLANK('Environmental SARF'!H122)),'Environmental SARF'!$F$8<>\"1) NA\",'Environmental SARF'!$F$8<>\"1) ...\"), \"   \"&CONCATENATE('Environmental SARF'!$H$18,'Environmental SARF'!$H$19),\"\") & IF(AND(NOT(ISBLANK('Environmental SARF'!I122)),'Environmental SARF'!$F$9<>\"2) NA\",'Environmental SARF'!$F$9<>\"2) ...\"), \"   \"&CONCATENATE('Environmental SARF'!$I$18,'Environmental SARF'!$I$19),\"\")& IF(AND(NOT(ISBLANK('Environmental SARF'!J122)),'Environmental SARF'!$F$10<>\"3) NA\",'Environmental SARF'!$F$10<>\"3) ...\"), \"   \"&CONCATENATE('Environmental SARF'!$J$18,'Environmental SARF'!$J$19),\"\") & IF(AND(NOT(ISBLANK('Environmental SARF'!K122)),'Environmental SARF'!$F$11<>\"4) NA\",'Environmental SARF'!$F$11<>\"4) ...\"), \"   \"&CONCATENATE('Environmental SARF'!$K$18,'Environmental SARF'!$K$19),\"\")& IF(AND(NOT(ISBLANK('Environmental SARF'!L122)),'Environmental SARF'!$F$12<>\"5) NA\",'Environmental SARF'!$F$12<>\"5) ...\"), \"   \"&CONCATENATE('Environmental SARF'!$L$18,'Environmental SARF'!$L$19),\"\")&IF(AND(NOT(ISBLANK('Environmental SARF'!M122)),'Environmental SARF'!$F$13<>\"6) NA\",'Environmental SARF'!$F$13<>\"6) ...\"), \"   \"&CONCATENATE('Environmental SARF'!$M$18,'Environmental SARF'!$M$19),\"\")&IF(AND(NOT(ISBLANK('Environmental SARF'!N122)),'Environmental SARF'!$F$14<>\"7) NA\",'Environmental SARF'!$F$14<>\"7) ...\"), \"   \"&CONCATENATE('Environmental SARF'!$N$18,'Environmental SARF'!$N$19),\"\") &IF(AND(NOT(ISBLANK('Environmental SARF'!O122)),'Environmental SARF'!$F$15<>\"8) NA\",'Environmental SARF'!$F$15<>\"8) ...\"), \"   \"&CONCATENATE('Environmental SARF'!$O$18,'Environmental SARF'!$O$19),\"\"))","v":""}]
[{"$f":"IF(C105=\"\",\"\",IF('Environmental SARF'!B123=\"\",\"\",'Environmental SARF'!B123))","v":""},"",{"$f":"IF('Environmental SARF'!C123=\"\",\"\",'Environmental SARF'!C123)","v":""},{"$f":"IF(C105=\"\",\"\",IF('Environmental SARF'!D123=\"\",'Environmental SARF'!$C$10,'Environmental SARF'!D123))","v":""},{"$f":"IF(B105=\"\",\"\",IF('Environmental SARF'!E123=\"\",\"\",'Environmental SARF'!E123))","v":""},{"$f":"IF(B105=\"\",\"\",IF('Environmental SARF'!F123=\"\",\"\",'Environmental SARF'!F123))","v":""},{"$f":"IF(B105=\"\",\"\",IF('Environmental SARF'!G123=\"\",\"\",'Environmental SARF'!G123))","v":""},{"$f":"IF(C105=\"\",\"\",IF('Environmental SARF'!$N$6=\"\",\"\",CONCATENATE('Environmental SARF'!$N$6,'Environmental SARF'!$O$6)))","v":""},{"$f":"IF(C105=\"\",\"\",IF('Environmental SARF'!$N$2=\"\",\"\",'Environmental SARF'!$N$2))","v":""},{"$f":"IF(C105=\"\",\"\",IF('Environmental SARF'!$N$4=\"\",NOW(),'Environmental SARF'!$N$4))","v":""},"",{"$f":"IF(C105=\"\",\"\", IF(AND(NOT(ISBLANK('Environmental SARF'!H123)),'Environmental SARF'!$F$8<>\"1) NA\",'Environmental SARF'!$F$8<>\"1) ...\"), \"   \"&CONCATENATE('Environmental SARF'!$H$18,'Environmental SARF'!$H$19),\"\") & IF(AND(NOT(ISBLANK('Environmental SARF'!I123)),'Environmental SARF'!$F$9<>\"2) NA\",'Environmental SARF'!$F$9<>\"2) ...\"), \"   \"&CONCATENATE('Environmental SARF'!$I$18,'Environmental SARF'!$I$19),\"\")& IF(AND(NOT(ISBLANK('Environmental SARF'!J123)),'Environmental SARF'!$F$10<>\"3) NA\",'Environmental SARF'!$F$10<>\"3) ...\"), \"   \"&CONCATENATE('Environmental SARF'!$J$18,'Environmental SARF'!$J$19),\"\") & IF(AND(NOT(ISBLANK('Environmental SARF'!K123)),'Environmental SARF'!$F$11<>\"4) NA\",'Environmental SARF'!$F$11<>\"4) ...\"), \"   \"&CONCATENATE('Environmental SARF'!$K$18,'Environmental SARF'!$K$19),\"\")& IF(AND(NOT(ISBLANK('Environmental SARF'!L123)),'Environmental SARF'!$F$12<>\"5) NA\",'Environmental SARF'!$F$12<>\"5) ...\"), \"   \"&CONCATENATE('Environmental SARF'!$L$18,'Environmental SARF'!$L$19),\"\")&IF(AND(NOT(ISBLANK('Environmental SARF'!M123)),'Environmental SARF'!$F$13<>\"6) NA\",'Environmental SARF'!$F$13<>\"6) ...\"), \"   \"&CONCATENATE('Environmental SARF'!$M$18,'Environmental SARF'!$M$19),\"\")&IF(AND(NOT(ISBLANK('Environmental SARF'!N123)),'Environmental SARF'!$F$14<>\"7) NA\",'Environmental SARF'!$F$14<>\"7) ...\"), \"   \"&CONCATENATE('Environmental SARF'!$N$18,'Environmental SARF'!$N$19),\"\") &IF(AND(NOT(ISBLANK('Environmental SARF'!O123)),'Environmental SARF'!$F$15<>\"8) NA\",'Environmental SARF'!$F$15<>\"8) ...\"), \"   \"&CONCATENATE('Environmental SARF'!$O$18,'Environmental SARF'!$O$19),\"\"))","v":""}]
[{"$f":"IF(C106=\"\",\"\",IF('Environmental SARF'!B124=\"\",\"\",'Environmental SARF'!B124))","v":""},"",{"$f":"IF('Environmental SARF'!C124=\"\",\"\",'Environmental SARF'!C124)","v":""},{"$f":"IF(C106=\"\",\"\",IF('Environmental SARF'!D124=\"\",'Environmental SARF'!$C$10,'Environmental SARF'!D124))","v":""},{"$f":"IF(B106=\"\",\"\",IF('Environmental SARF'!E124=\"\",\"\",'Environmental SARF'!E124))","v":""},{"$f":"IF(B106=\"\",\"\",IF('Environmental SARF'!F124=\"\",\"\",'Environmental SARF'!F124))","v":""},{"$f":"IF(B106=\"\",\"\",IF('Environmental SARF'!G124=\"\",\"\",'Environmental SARF'!G124))","v":""},{"$f":"IF(C106=\"\",\"\",IF('Environmental SARF'!$N$6=\"\",\"\",CONCATENATE('Environmental SARF'!$N$6,'Environmental SARF'!$O$6)))","v":""},{"$f":"IF(C106=\"\",\"\",IF('Environmental SARF'!$N$2=\"\",\"\",'Environmental SARF'!$N$2))","v":""},{"$f":"IF(C106=\"\",\"\",IF('Environmental SARF'!$N$4=\"\",NOW(),'Environmental SARF'!$N$4))","v":""},"",{"$f":"IF(C106=\"\",\"\", IF(AND(NOT(ISBLANK('Environmental SARF'!H124)),'Environmental SARF'!$F$8<>\"1) NA\",'Environmental SARF'!$F$8<>\"1) ...\"), \"   \"&CONCATENATE('Environmental SARF'!$H$18,'Environmental SARF'!$H$19),\"\") & IF(AND(NOT(ISBLANK('Environmental SARF'!I124)),'Environmental SARF'!$F$9<>\"2) NA\",'Environmental SARF'!$F$9<>\"2) ...\"), \"   \"&CONCATENATE('Environmental SARF'!$I$18,'Environmental SARF'!$I$19),\"\")& IF(AND(NOT(ISBLANK('Environmental SARF'!J124)),'Environmental SARF'!$F$10<>\"3) NA\",'Environmental SARF'!$F$10<>\"3) ...\"), \"   \"&CONCATENATE('Environmental SARF'!$J$18,'Environmental SARF'!$J$19),\"\") & IF(AND(NOT(ISBLANK('Environmental SARF'!K124)),'Environmental SARF'!$F$11<>\"4) NA\",'Environmental SARF'!$F$11<>\"4) ...\"), \"   \"&CONCATENATE('Environmental SARF'!$K$18,'Environmental SARF'!$K$19),\"\")& IF(AND(NOT(ISBLANK('Environmental SARF'!L124)),'Environmental SARF'!$F$12<>\"5) NA\",'Environmental SARF'!$F$12<>\"5) ...\"), \"   \"&CONCATENATE('Environmental SARF'!$L$18,'Environmental SARF'!$L$19),\"\")&IF(AND(NOT(ISBLANK('Environmental SARF'!M124)),'Environmental SARF'!$F$13<>\"6) NA\",'Environmental SARF'!$F$13<>\"6) ...\"), \"   \"&CONCATENATE('Environmental SARF'!$M$18,'Environmental SARF'!$M$19),\"\")&IF(AND(NOT(ISBLANK('Environmental SARF'!N124)),'Environmental SARF'!$F$14<>\"7) NA\",'Environmental SARF'!$F$14<>\"7) ...\"), \"   \"&CONCATENATE('Environmental SARF'!$N$18,'Environmental SARF'!$N$19),\"\") &IF(AND(NOT(ISBLANK('Environmental SARF'!O124)),'Environmental SARF'!$F$15<>\"8) NA\",'Environmental SARF'!$F$15<>\"8) ...\"), \"   \"&CONCATENATE('Environmental SARF'!$O$18,'Environmental SARF'!$O$19),\"\"))","v":""}]
[{"$f":"IF(C107=\"\",\"\",IF('Environmental SARF'!B125=\"\",\"\",'Environmental SARF'!B125))","v":""},"",{"$f":"IF('Environmental SARF'!C125=\"\",\"\",'Environmental SARF'!C125)","v":""},{"$f":"IF(C107=\"\",\"\",IF('Environmental SARF'!D125=\"\",'Environmental SARF'!$C$10,'Environmental SARF'!D125))","v":""},{"$f":"IF(B107=\"\",\"\",IF('Environmental SARF'!E125=\"\",\"\",'Environmental SARF'!E125))","v":""},{"$f":"IF(B107=\"\",\"\",IF('Environmental SARF'!F125=\"\",\"\",'Environmental SARF'!F125))","v":""},{"$f":"IF(B107=\"\",\"\",IF('Environmental SARF'!G125=\"\",\"\",'Environmental SARF'!G125))","v":""},{"$f":"IF(C107=\"\",\"\",IF('Environmental SARF'!$N$6=\"\",\"\",CONCATENATE('Environmental SARF'!$N$6,'Environmental SARF'!$O$6)))","v":""},{"$f":"IF(C107=\"\",\"\",IF('Environmental SARF'!$N$2=\"\",\"\",'Environmental SARF'!$N$2))","v":""},{"$f":"IF(C107=\"\",\"\",IF('Environmental SARF'!$N$4=\"\",NOW(),'Environmental SARF'!$N$4))","v":""},"",{"$f":"IF(C107=\"\",\"\", IF(AND(NOT(ISBLANK('Environmental SARF'!H125)),'Environmental SARF'!$F$8<>\"1) NA\",'Environmental SARF'!$F$8<>\"1) ...\"), \"   \"&CONCATENATE('Environmental SARF'!$H$18,'Environmental SARF'!$H$19),\"\") & IF(AND(NOT(ISBLANK('Environmental SARF'!I125)),'Environmental SARF'!$F$9<>\"2) NA\",'Environmental SARF'!$F$9<>\"2) ...\"), \"   \"&CONCATENATE('Environmental SARF'!$I$18,'Environmental SARF'!$I$19),\"\")& IF(AND(NOT(ISBLANK('Environmental SARF'!J125)),'Environmental SARF'!$F$10<>\"3) NA\",'Environmental SARF'!$F$10<>\"3) ...\"), \"   \"&CONCATENATE('Environmental SARF'!$J$18,'Environmental SARF'!$J$19),\"\") & IF(AND(NOT(ISBLANK('Environmental SARF'!K125)),'Environmental SARF'!$F$11<>\"4) NA\",'Environmental SARF'!$F$11<>\"4) ...\"), \"   \"&CONCATENATE('Environmental SARF'!$K$18,'Environmental SARF'!$K$19),\"\")& IF(AND(NOT(ISBLANK('Environmental SARF'!L125)),'Environmental SARF'!$F$12<>\"5) NA\",'Environmental SARF'!$F$12<>\"5) ...\"), \"   \"&CONCATENATE('Environmental SARF'!$L$18,'Environmental SARF'!$L$19),\"\")&IF(AND(NOT(ISBLANK('Environmental SARF'!M125)),'Environmental SARF'!$F$13<>\"6) NA\",'Environmental SARF'!$F$13<>\"6) ...\"), \"   \"&CONCATENATE('Environmental SARF'!$M$18,'Environmental SARF'!$M$19),\"\")&IF(AND(NOT(ISBLANK('Environmental SARF'!N125)),'Environmental SARF'!$F$14<>\"7) NA\",'Environmental SARF'!$F$14<>\"7) ...\"), \"   \"&CONCATENATE('Environmental SARF'!$N$18,'Environmental SARF'!$N$19),\"\") &IF(AND(NOT(ISBLANK('Environmental SARF'!O125)),'Environmental SARF'!$F$15<>\"8) NA\",'Environmental SARF'!$F$15<>\"8) ...\"), \"   \"&CONCATENATE('Environmental SARF'!$O$18,'Environmental SARF'!$O$19),\"\"))","v":""}]
[{"$f":"IF(C108=\"\",\"\",IF('Environmental SARF'!B126=\"\",\"\",'Environmental SARF'!B126))","v":""},"",{"$f":"IF('Environmental SARF'!C126=\"\",\"\",'Environmental SARF'!C126)","v":""},{"$f":"IF(C108=\"\",\"\",IF('Environmental SARF'!D126=\"\",'Environmental SARF'!$C$10,'Environmental SARF'!D126))","v":""},{"$f":"IF(B108=\"\",\"\",IF('Environmental SARF'!E126=\"\",\"\",'Environmental SARF'!E126))","v":""},{"$f":"IF(B108=\"\",\"\",IF('Environmental SARF'!F126=\"\",\"\",'Environmental SARF'!F126))","v":""},{"$f":"IF(B108=\"\",\"\",IF('Environmental SARF'!G126=\"\",\"\",'Environmental SARF'!G126))","v":""},{"$f":"IF(C108=\"\",\"\",IF('Environmental SARF'!$N$6=\"\",\"\",CONCATENATE('Environmental SARF'!$N$6,'Environmental SARF'!$O$6)))","v":""},{"$f":"IF(C108=\"\",\"\",IF('Environmental SARF'!$N$2=\"\",\"\",'Environmental SARF'!$N$2))","v":""},{"$f":"IF(C108=\"\",\"\",IF('Environmental SARF'!$N$4=\"\",NOW(),'Environmental SARF'!$N$4))","v":""},"",{"$f":"IF(C108=\"\",\"\", IF(AND(NOT(ISBLANK('Environmental SARF'!H126)),'Environmental SARF'!$F$8<>\"1) NA\",'Environmental SARF'!$F$8<>\"1) ...\"), \"   \"&CONCATENATE('Environmental SARF'!$H$18,'Environmental SARF'!$H$19),\"\") & IF(AND(NOT(ISBLANK('Environmental SARF'!I126)),'Environmental SARF'!$F$9<>\"2) NA\",'Environmental SARF'!$F$9<>\"2) ...\"), \"   \"&CONCATENATE('Environmental SARF'!$I$18,'Environmental SARF'!$I$19),\"\")& IF(AND(NOT(ISBLANK('Environmental SARF'!J126)),'Environmental SARF'!$F$10<>\"3) NA\",'Environmental SARF'!$F$10<>\"3) ...\"), \"   \"&CONCATENATE('Environmental SARF'!$J$18,'Environmental SARF'!$J$19),\"\") & IF(AND(NOT(ISBLANK('Environmental SARF'!K126)),'Environmental SARF'!$F$11<>\"4) NA\",'Environmental SARF'!$F$11<>\"4) ...\"), \"   \"&CONCATENATE('Environmental SARF'!$K$18,'Environmental SARF'!$K$19),\"\")& IF(AND(NOT(ISBLANK('Environmental SARF'!L126)),'Environmental SARF'!$F$12<>\"5) NA\",'Environmental SARF'!$F$12<>\"5) ...\"), \"   \"&CONCATENATE('Environmental SARF'!$L$18,'Environmental SARF'!$L$19),\"\")&IF(AND(NOT(ISBLANK('Environmental SARF'!M126)),'Environmental SARF'!$F$13<>\"6) NA\",'Environmental SARF'!$F$13<>\"6) ...\"), \"   \"&CONCATENATE('Environmental SARF'!$M$18,'Environmental SARF'!$M$19),\"\")&IF(AND(NOT(ISBLANK('Environmental SARF'!N126)),'Environmental SARF'!$F$14<>\"7) NA\",'Environmental SARF'!$F$14<>\"7) ...\"), \"   \"&CONCATENATE('Environmental SARF'!$N$18,'Environmental SARF'!$N$19),\"\") &IF(AND(NOT(ISBLANK('Environmental SARF'!O126)),'Environmental SARF'!$F$15<>\"8) NA\",'Environmental SARF'!$F$15<>\"8) ...\"), \"   \"&CONCATENATE('Environmental SARF'!$O$18,'Environmental SARF'!$O$19),\"\"))","v":""}]
[{"$f":"IF(C109=\"\",\"\",IF('Environmental SARF'!B127=\"\",\"\",'Environmental SARF'!B127))","v":""},"",{"$f":"IF('Environmental SARF'!C127=\"\",\"\",'Environmental SARF'!C127)","v":""},{"$f":"IF(C109=\"\",\"\",IF('Environmental SARF'!D127=\"\",'Environmental SARF'!$C$10,'Environmental SARF'!D127))","v":""},{"$f":"IF(B109=\"\",\"\",IF('Environmental SARF'!E127=\"\",\"\",'Environmental SARF'!E127))","v":""},{"$f":"IF(B109=\"\",\"\",IF('Environmental SARF'!F127=\"\",\"\",'Environmental SARF'!F127))","v":""},{"$f":"IF(B109=\"\",\"\",IF('Environmental SARF'!G127=\"\",\"\",'Environmental SARF'!G127))","v":""},{"$f":"IF(C109=\"\",\"\",IF('Environmental SARF'!$N$6=\"\",\"\",CONCATENATE('Environmental SARF'!$N$6,'Environmental SARF'!$O$6)))","v":""},{"$f":"IF(C109=\"\",\"\",IF('Environmental SARF'!$N$2=\"\",\"\",'Environmental SARF'!$N$2))","v":""},{"$f":"IF(C109=\"\",\"\",IF('Environmental SARF'!$N$4=\"\",NOW(),'Environmental SARF'!$N$4))","v":""},"",{"$f":"IF(C109=\"\",\"\", IF(AND(NOT(ISBLANK('Environmental SARF'!H127)),'Environmental SARF'!$F$8<>\"1) NA\",'Environmental SARF'!$F$8<>\"1) ...\"), \"   \"&CONCATENATE('Environmental SARF'!$H$18,'Environmental SARF'!$H$19),\"\") & IF(AND(NOT(ISBLANK('Environmental SARF'!I127)),'Environmental SARF'!$F$9<>\"2) NA\",'Environmental SARF'!$F$9<>\"2) ...\"), \"   \"&CONCATENATE('Environmental SARF'!$I$18,'Environmental SARF'!$I$19),\"\")& IF(AND(NOT(ISBLANK('Environmental SARF'!J127)),'Environmental SARF'!$F$10<>\"3) NA\",'Environmental SARF'!$F$10<>\"3) ...\"), \"   \"&CONCATENATE('Environmental SARF'!$J$18,'Environmental SARF'!$J$19),\"\") & IF(AND(NOT(ISBLANK('Environmental SARF'!K127)),'Environmental SARF'!$F$11<>\"4) NA\",'Environmental SARF'!$F$11<>\"4) ...\"), \"   \"&CONCATENATE('Environmental SARF'!$K$18,'Environmental SARF'!$K$19),\"\")& IF(AND(NOT(ISBLANK('Environmental SARF'!L127)),'Environmental SARF'!$F$12<>\"5) NA\",'Environmental SARF'!$F$12<>\"5) ...\"), \"   \"&CONCATENATE('Environmental SARF'!$L$18,'Environmental SARF'!$L$19),\"\")&IF(AND(NOT(ISBLANK('Environmental SARF'!M127)),'Environmental SARF'!$F$13<>\"6) NA\",'Environmental SARF'!$F$13<>\"6) ...\"), \"   \"&CONCATENATE('Environmental SARF'!$M$18,'Environmental SARF'!$M$19),\"\")&IF(AND(NOT(ISBLANK('Environmental SARF'!N127)),'Environmental SARF'!$F$14<>\"7) NA\",'Environmental SARF'!$F$14<>\"7) ...\"), \"   \"&CONCATENATE('Environmental SARF'!$N$18,'Environmental SARF'!$N$19),\"\") &IF(AND(NOT(ISBLANK('Environmental SARF'!O127)),'Environmental SARF'!$F$15<>\"8) NA\",'Environmental SARF'!$F$15<>\"8) ...\"), \"   \"&CONCATENATE('Environmental SARF'!$O$18,'Environmental SARF'!$O$19),\"\"))","v":""}]
[{"$f":"IF(C110=\"\",\"\",IF('Environmental SARF'!B128=\"\",\"\",'Environmental SARF'!B128))","v":""},"",{"$f":"IF('Environmental SARF'!C128=\"\",\"\",'Environmental SARF'!C128)","v":""},{"$f":"IF(C110=\"\",\"\",IF('Environmental SARF'!D128=\"\",'Environmental SARF'!$C$10,'Environmental SARF'!D128))","v":""},{"$f":"IF(B110=\"\",\"\",IF('Environmental SARF'!E128=\"\",\"\",'Environmental SARF'!E128))","v":""},{"$f":"IF(B110=\"\",\"\",IF('Environmental SARF'!F128=\"\",\"\",'Environmental SARF'!F128))","v":""},{"$f":"IF(B110=\"\",\"\",IF('Environmental SARF'!G128=\"\",\"\",'Environmental SARF'!G128))","v":""},{"$f":"IF(C110=\"\",\"\",IF('Environmental SARF'!$N$6=\"\",\"\",CONCATENATE('Environmental SARF'!$N$6,'Environmental SARF'!$O$6)))","v":""},{"$f":"IF(C110=\"\",\"\",IF('Environmental SARF'!$N$2=\"\",\"\",'Environmental SARF'!$N$2))","v":""},{"$f":"IF(C110=\"\",\"\",IF('Environmental SARF'!$N$4=\"\",NOW(),'Environmental SARF'!$N$4))","v":""},"",{"$f":"IF(C110=\"\",\"\", IF(AND(NOT(ISBLANK('Environmental SARF'!H128)),'Environmental SARF'!$F$8<>\"1) NA\",'Environmental SARF'!$F$8<>\"1) ...\"), \"   \"&CONCATENATE('Environmental SARF'!$H$18,'Environmental SARF'!$H$19),\"\") & IF(AND(NOT(ISBLANK('Environmental SARF'!I128)),'Environmental SARF'!$F$9<>\"2) NA\",'Environmental SARF'!$F$9<>\"2) ...\"), \"   \"&CONCATENATE('Environmental SARF'!$I$18,'Environmental SARF'!$I$19),\"\")& IF(AND(NOT(ISBLANK('Environmental SARF'!J128)),'Environmental SARF'!$F$10<>\"3) NA\",'Environmental SARF'!$F$10<>\"3) ...\"), \"   \"&CONCATENATE('Environmental SARF'!$J$18,'Environmental SARF'!$J$19),\"\") & IF(AND(NOT(ISBLANK('Environmental SARF'!K128)),'Environmental SARF'!$F$11<>\"4) NA\",'Environmental SARF'!$F$11<>\"4) ...\"), \"   \"&CONCATENATE('Environmental SARF'!$K$18,'Environmental SARF'!$K$19),\"\")& IF(AND(NOT(ISBLANK('Environmental SARF'!L128)),'Environmental SARF'!$F$12<>\"5) NA\",'Environmental SARF'!$F$12<>\"5) ...\"), \"   \"&CONCATENATE('Environmental SARF'!$L$18,'Environmental SARF'!$L$19),\"\")&IF(AND(NOT(ISBLANK('Environmental SARF'!M128)),'Environmental SARF'!$F$13<>\"6) NA\",'Environmental SARF'!$F$13<>\"6) ...\"), \"   \"&CONCATENATE('Environmental SARF'!$M$18,'Environmental SARF'!$M$19),\"\")&IF(AND(NOT(ISBLANK('Environmental SARF'!N128)),'Environmental SARF'!$F$14<>\"7) NA\",'Environmental SARF'!$F$14<>\"7) ...\"), \"   \"&CONCATENATE('Environmental SARF'!$N$18,'Environmental SARF'!$N$19),\"\") &IF(AND(NOT(ISBLANK('Environmental SARF'!O128)),'Environmental SARF'!$F$15<>\"8) NA\",'Environmental SARF'!$F$15<>\"8) ...\"), \"   \"&CONCATENATE('Environmental SARF'!$O$18,'Environmental SARF'!$O$19),\"\"))","v":""}]
[{"$f":"IF(C111=\"\",\"\",IF('Environmental SARF'!B129=\"\",\"\",'Environmental SARF'!B129))","v":""},"",{"$f":"IF('Environmental SARF'!C129=\"\",\"\",'Environmental SARF'!C129)","v":""},{"$f":"IF(C111=\"\",\"\",IF('Environmental SARF'!D129=\"\",'Environmental SARF'!$C$10,'Environmental SARF'!D129))","v":""},{"$f":"IF(B111=\"\",\"\",IF('Environmental SARF'!E129=\"\",\"\",'Environmental SARF'!E129))","v":""},{"$f":"IF(B111=\"\",\"\",IF('Environmental SARF'!F129=\"\",\"\",'Environmental SARF'!F129))","v":""},{"$f":"IF(B111=\"\",\"\",IF('Environmental SARF'!G129=\"\",\"\",'Environmental SARF'!G129))","v":""},{"$f":"IF(C111=\"\",\"\",IF('Environmental SARF'!$N$6=\"\",\"\",CONCATENATE('Environmental SARF'!$N$6,'Environmental SARF'!$O$6)))","v":""},{"$f":"IF(C111=\"\",\"\",IF('Environmental SARF'!$N$2=\"\",\"\",'Environmental SARF'!$N$2))","v":""},{"$f":"IF(C111=\"\",\"\",IF('Environmental SARF'!$N$4=\"\",NOW(),'Environmental SARF'!$N$4))","v":""},"",{"$f":"IF(C111=\"\",\"\", IF(AND(NOT(ISBLANK('Environmental SARF'!H129)),'Environmental SARF'!$F$8<>\"1) NA\",'Environmental SARF'!$F$8<>\"1) ...\"), \"   \"&CONCATENATE('Environmental SARF'!$H$18,'Environmental SARF'!$H$19),\"\") & IF(AND(NOT(ISBLANK('Environmental SARF'!I129)),'Environmental SARF'!$F$9<>\"2) NA\",'Environmental SARF'!$F$9<>\"2) ...\"), \"   \"&CONCATENATE('Environmental SARF'!$I$18,'Environmental SARF'!$I$19),\"\")& IF(AND(NOT(ISBLANK('Environmental SARF'!J129)),'Environmental SARF'!$F$10<>\"3) NA\",'Environmental SARF'!$F$10<>\"3) ...\"), \"   \"&CONCATENATE('Environmental SARF'!$J$18,'Environmental SARF'!$J$19),\"\") & IF(AND(NOT(ISBLANK('Environmental SARF'!K129)),'Environmental SARF'!$F$11<>\"4) NA\",'Environmental SARF'!$F$11<>\"4) ...\"), \"   \"&CONCATENATE('Environmental SARF'!$K$18,'Environmental SARF'!$K$19),\"\")& IF(AND(NOT(ISBLANK('Environmental SARF'!L129)),'Environmental SARF'!$F$12<>\"5) NA\",'Environmental SARF'!$F$12<>\"5) ...\"), \"   \"&CONCATENATE('Environmental SARF'!$L$18,'Environmental SARF'!$L$19),\"\")&IF(AND(NOT(ISBLANK('Environmental SARF'!M129)),'Environmental SARF'!$F$13<>\"6) NA\",'Environmental SARF'!$F$13<>\"6) ...\"), \"   \"&CONCATENATE('Environmental SARF'!$M$18,'Environmental SARF'!$M$19),\"\")&IF(AND(NOT(ISBLANK('Environmental SARF'!N129)),'Environmental SARF'!$F$14<>\"7) NA\",'Environmental SARF'!$F$14<>\"7) ...\"), \"   \"&CONCATENATE('Environmental SARF'!$N$18,'Environmental SARF'!$N$19),\"\") &IF(AND(NOT(ISBLANK('Environmental SARF'!O129)),'Environmental SARF'!$F$15<>\"8) NA\",'Environmental SARF'!$F$15<>\"8) ...\"), \"   \"&CONCATENATE('Environmental SARF'!$O$18,'Environmental SARF'!$O$19),\"\"))","v":""}]
[{"$f":"IF(C112=\"\",\"\",IF('Environmental SARF'!B130=\"\",\"\",'Environmental SARF'!B130))","v":""},"",{"$f":"IF('Environmental SARF'!C130=\"\",\"\",'Environmental SARF'!C130)","v":""},{"$f":"IF(C112=\"\",\"\",IF('Environmental SARF'!D130=\"\",'Environmental SARF'!$C$10,'Environmental SARF'!D130))","v":""},{"$f":"IF(B112=\"\",\"\",IF('Environmental SARF'!E130=\"\",\"\",'Environmental SARF'!E130))","v":""},{"$f":"IF(B112=\"\",\"\",IF('Environmental SARF'!F130=\"\",\"\",'Environmental SARF'!F130))","v":""},{"$f":"IF(B112=\"\",\"\",IF('Environmental SARF'!G130=\"\",\"\",'Environmental SARF'!G130))","v":""},{"$f":"IF(C112=\"\",\"\",IF('Environmental SARF'!$N$6=\"\",\"\",CONCATENATE('Environmental SARF'!$N$6,'Environmental SARF'!$O$6)))","v":""},{"$f":"IF(C112=\"\",\"\",IF('Environmental SARF'!$N$2=\"\",\"\",'Environmental SARF'!$N$2))","v":""},{"$f":"IF(C112=\"\",\"\",IF('Environmental SARF'!$N$4=\"\",NOW(),'Environmental SARF'!$N$4))","v":""},"",{"$f":"IF(C112=\"\",\"\", IF(AND(NOT(ISBLANK('Environmental SARF'!H130)),'Environmental SARF'!$F$8<>\"1) NA\",'Environmental SARF'!$F$8<>\"1) ...\"), \"   \"&CONCATENATE('Environmental SARF'!$H$18,'Environmental SARF'!$H$19),\"\") & IF(AND(NOT(ISBLANK('Environmental SARF'!I130)),'Environmental SARF'!$F$9<>\"2) NA\",'Environmental SARF'!$F$9<>\"2) ...\"), \"   \"&CONCATENATE('Environmental SARF'!$I$18,'Environmental SARF'!$I$19),\"\")& IF(AND(NOT(ISBLANK('Environmental SARF'!J130)),'Environmental SARF'!$F$10<>\"3) NA\",'Environmental SARF'!$F$10<>\"3) ...\"), \"   \"&CONCATENATE('Environmental SARF'!$J$18,'Environmental SARF'!$J$19),\"\") & IF(AND(NOT(ISBLANK('Environmental SARF'!K130)),'Environmental SARF'!$F$11<>\"4) NA\",'Environmental SARF'!$F$11<>\"4) ...\"), \"   \"&CONCATENATE('Environmental SARF'!$K$18,'Environmental SARF'!$K$19),\"\")& IF(AND(NOT(ISBLANK('Environmental SARF'!L130)),'Environmental SARF'!$F$12<>\"5) NA\",'Environmental SARF'!$F$12<>\"5) ...\"), \"   \"&CONCATENATE('Environmental SARF'!$L$18,'Environmental SARF'!$L$19),\"\")&IF(AND(NOT(ISBLANK('Environmental SARF'!M130)),'Environmental SARF'!$F$13<>\"6) NA\",'Environmental SARF'!$F$13<>\"6) ...\"), \"   \"&CONCATENATE('Environmental SARF'!$M$18,'Environmental SARF'!$M$19),\"\")&IF(AND(NOT(ISBLANK('Environmental SARF'!N130)),'Environmental SARF'!$F$14<>\"7) NA\",'Environmental SARF'!$F$14<>\"7) ...\"), \"   \"&CONCATENATE('Environmental SARF'!$N$18,'Environmental SARF'!$N$19),\"\") &IF(AND(NOT(ISBLANK('Environmental SARF'!O130)),'Environmental SARF'!$F$15<>\"8) NA\",'Environmental SARF'!$F$15<>\"8) ...\"), \"   \"&CONCATENATE('Environmental SARF'!$O$18,'Environmental SARF'!$O$19),\"\"))","v":""}]
[{"$f":"IF(C113=\"\",\"\",IF('Environmental SARF'!B131=\"\",\"\",'Environmental SARF'!B131))","v":""},"",{"$f":"IF('Environmental SARF'!C131=\"\",\"\",'Environmental SARF'!C131)","v":""},{"$f":"IF(C113=\"\",\"\",IF('Environmental SARF'!D131=\"\",'Environmental SARF'!$C$10,'Environmental SARF'!D131))","v":""},{"$f":"IF(B113=\"\",\"\",IF('Environmental SARF'!E131=\"\",\"\",'Environmental SARF'!E131))","v":""},{"$f":"IF(B113=\"\",\"\",IF('Environmental SARF'!F131=\"\",\"\",'Environmental SARF'!F131))","v":""},{"$f":"IF(B113=\"\",\"\",IF('Environmental SARF'!G131=\"\",\"\",'Environmental SARF'!G131))","v":""},{"$f":"IF(C113=\"\",\"\",IF('Environmental SARF'!$N$6=\"\",\"\",CONCATENATE('Environmental SARF'!$N$6,'Environmental SARF'!$O$6)))","v":""},{"$f":"IF(C113=\"\",\"\",IF('Environmental SARF'!$N$2=\"\",\"\",'Environmental SARF'!$N$2))","v":""},{"$f":"IF(C113=\"\",\"\",IF('Environmental SARF'!$N$4=\"\",NOW(),'Environmental SARF'!$N$4))","v":""},"",{"$f":"IF(C113=\"\",\"\", IF(AND(NOT(ISBLANK('Environmental SARF'!H131)),'Environmental SARF'!$F$8<>\"1) NA\",'Environmental SARF'!$F$8<>\"1) ...\"), \"   \"&CONCATENATE('Environmental SARF'!$H$18,'Environmental SARF'!$H$19),\"\") & IF(AND(NOT(ISBLANK('Environmental SARF'!I131)),'Environmental SARF'!$F$9<>\"2) NA\",'Environmental SARF'!$F$9<>\"2) ...\"), \"   \"&CONCATENATE('Environmental SARF'!$I$18,'Environmental SARF'!$I$19),\"\")& IF(AND(NOT(ISBLANK('Environmental SARF'!J131)),'Environmental SARF'!$F$10<>\"3) NA\",'Environmental SARF'!$F$10<>\"3) ...\"), \"   \"&CONCATENATE('Environmental SARF'!$J$18,'Environmental SARF'!$J$19),\"\") & IF(AND(NOT(ISBLANK('Environmental SARF'!K131)),'Environmental SARF'!$F$11<>\"4) NA\",'Environmental SARF'!$F$11<>\"4) ...\"), \"   \"&CONCATENATE('Environmental SARF'!$K$18,'Environmental SARF'!$K$19),\"\")& IF(AND(NOT(ISBLANK('Environmental SARF'!L131)),'Environmental SARF'!$F$12<>\"5) NA\",'Environmental SARF'!$F$12<>\"5) ...\"), \"   \"&CONCATENATE('Environmental SARF'!$L$18,'Environmental SARF'!$L$19),\"\")&IF(AND(NOT(ISBLANK('Environmental SARF'!M131)),'Environmental SARF'!$F$13<>\"6) NA\",'Environmental SARF'!$F$13<>\"6) ...\"), \"   \"&CONCATENATE('Environmental SARF'!$M$18,'Environmental SARF'!$M$19),\"\")&IF(AND(NOT(ISBLANK('Environmental SARF'!N131)),'Environmental SARF'!$F$14<>\"7) NA\",'Environmental SARF'!$F$14<>\"7) ...\"), \"   \"&CONCATENATE('Environmental SARF'!$N$18,'Environmental SARF'!$N$19),\"\") &IF(AND(NOT(ISBLANK('Environmental SARF'!O131)),'Environmental SARF'!$F$15<>\"8) NA\",'Environmental SARF'!$F$15<>\"8) ...\"), \"   \"&CONCATENATE('Environmental SARF'!$O$18,'Environmental SARF'!$O$19),\"\"))","v":""}]
[{"$f":"IF(C114=\"\",\"\",IF('Environmental SARF'!B132=\"\",\"\",'Environmental SARF'!B132))","v":""},"",{"$f":"IF('Environmental SARF'!C132=\"\",\"\",'Environmental SARF'!C132)","v":""},{"$f":"IF(C114=\"\",\"\",IF('Environmental SARF'!D132=\"\",'Environmental SARF'!$C$10,'Environmental SARF'!D132))","v":""},{"$f":"IF(B114=\"\",\"\",IF('Environmental SARF'!E132=\"\",\"\",'Environmental SARF'!E132))","v":""},{"$f":"IF(B114=\"\",\"\",IF('Environmental SARF'!F132=\"\",\"\",'Environmental SARF'!F132))","v":""},{"$f":"IF(B114=\"\",\"\",IF('Environmental SARF'!G132=\"\",\"\",'Environmental SARF'!G132))","v":""},{"$f":"IF(C114=\"\",\"\",IF('Environmental SARF'!$N$6=\"\",\"\",CONCATENATE('Environmental SARF'!$N$6,'Environmental SARF'!$O$6)))","v":""},{"$f":"IF(C114=\"\",\"\",IF('Environmental SARF'!$N$2=\"\",\"\",'Environmental SARF'!$N$2))","v":""},{"$f":"IF(C114=\"\",\"\",IF('Environmental SARF'!$N$4=\"\",NOW(),'Environmental SARF'!$N$4))","v":""},"",{"$f":"IF(C114=\"\",\"\", IF(AND(NOT(ISBLANK('Environmental SARF'!H132)),'Environmental SARF'!$F$8<>\"1) NA\",'Environmental SARF'!$F$8<>\"1) ...\"), \"   \"&CONCATENATE('Environmental SARF'!$H$18,'Environmental SARF'!$H$19),\"\") & IF(AND(NOT(ISBLANK('Environmental SARF'!I132)),'Environmental SARF'!$F$9<>\"2) NA\",'Environmental SARF'!$F$9<>\"2) ...\"), \"   \"&CONCATENATE('Environmental SARF'!$I$18,'Environmental SARF'!$I$19),\"\")& IF(AND(NOT(ISBLANK('Environmental SARF'!J132)),'Environmental SARF'!$F$10<>\"3) NA\",'Environmental SARF'!$F$10<>\"3) ...\"), \"   \"&CONCATENATE('Environmental SARF'!$J$18,'Environmental SARF'!$J$19),\"\") & IF(AND(NOT(ISBLANK('Environmental SARF'!K132)),'Environmental SARF'!$F$11<>\"4) NA\",'Environmental SARF'!$F$11<>\"4) ...\"), \"   \"&CONCATENATE('Environmental SARF'!$K$18,'Environmental SARF'!$K$19),\"\")& IF(AND(NOT(ISBLANK('Environmental SARF'!L132)),'Environmental SARF'!$F$12<>\"5) NA\",'Environmental SARF'!$F$12<>\"5) ...\"), \"   \"&CONCATENATE('Environmental SARF'!$L$18,'Environmental SARF'!$L$19),\"\")&IF(AND(NOT(ISBLANK('Environmental SARF'!M132)),'Environmental SARF'!$F$13<>\"6) NA\",'Environmental SARF'!$F$13<>\"6) ...\"), \"   \"&CONCATENATE('Environmental SARF'!$M$18,'Environmental SARF'!$M$19),\"\")&IF(AND(NOT(ISBLANK('Environmental SARF'!N132)),'Environmental SARF'!$F$14<>\"7) NA\",'Environmental SARF'!$F$14<>\"7) ...\"), \"   \"&CONCATENATE('Environmental SARF'!$N$18,'Environmental SARF'!$N$19),\"\") &IF(AND(NOT(ISBLANK('Environmental SARF'!O132)),'Environmental SARF'!$F$15<>\"8) NA\",'Environmental SARF'!$F$15<>\"8) ...\"), \"   \"&CONCATENATE('Environmental SARF'!$O$18,'Environmental SARF'!$O$19),\"\"))","v":""}]
[{"$f":"IF(C115=\"\",\"\",IF('Environmental SARF'!B133=\"\",\"\",'Environmental SARF'!B133))","v":""},"",{"$f":"IF('Environmental SARF'!C133=\"\",\"\",'Environmental SARF'!C133)","v":""},{"$f":"IF(C115=\"\",\"\",IF('Environmental SARF'!D133=\"\",'Environmental SARF'!$C$10,'Environmental SARF'!D133))","v":""},{"$f":"IF(B115=\"\",\"\",IF('Environmental SARF'!E133=\"\",\"\",'Environmental SARF'!E133))","v":""},{"$f":"IF(B115=\"\",\"\",IF('Environmental SARF'!F133=\"\",\"\",'Environmental SARF'!F133))","v":""},{"$f":"IF(B115=\"\",\"\",IF('Environmental SARF'!G133=\"\",\"\",'Environmental SARF'!G133))","v":""},{"$f":"IF(C115=\"\",\"\",IF('Environmental SARF'!$N$6=\"\",\"\",CONCATENATE('Environmental SARF'!$N$6,'Environmental SARF'!$O$6)))","v":""},{"$f":"IF(C115=\"\",\"\",IF('Environmental SARF'!$N$2=\"\",\"\",'Environmental SARF'!$N$2))","v":""},{"$f":"IF(C115=\"\",\"\",IF('Environmental SARF'!$N$4=\"\",NOW(),'Environmental SARF'!$N$4))","v":""},"",{"$f":"IF(C115=\"\",\"\", IF(AND(NOT(ISBLANK('Environmental SARF'!H133)),'Environmental SARF'!$F$8<>\"1) NA\",'Environmental SARF'!$F$8<>\"1) ...\"), \"   \"&CONCATENATE('Environmental SARF'!$H$18,'Environmental SARF'!$H$19),\"\") & IF(AND(NOT(ISBLANK('Environmental SARF'!I133)),'Environmental SARF'!$F$9<>\"2) NA\",'Environmental SARF'!$F$9<>\"2) ...\"), \"   \"&CONCATENATE('Environmental SARF'!$I$18,'Environmental SARF'!$I$19),\"\")& IF(AND(NOT(ISBLANK('Environmental SARF'!J133)),'Environmental SARF'!$F$10<>\"3) NA\",'Environmental SARF'!$F$10<>\"3) ...\"), \"   \"&CONCATENATE('Environmental SARF'!$J$18,'Environmental SARF'!$J$19),\"\") & IF(AND(NOT(ISBLANK('Environmental SARF'!K133)),'Environmental SARF'!$F$11<>\"4) NA\",'Environmental SARF'!$F$11<>\"4) ...\"), \"   \"&CONCATENATE('Environmental SARF'!$K$18,'Environmental SARF'!$K$19),\"\")& IF(AND(NOT(ISBLANK('Environmental SARF'!L133)),'Environmental SARF'!$F$12<>\"5) NA\",'Environmental SARF'!$F$12<>\"5) ...\"), \"   \"&CONCATENATE('Environmental SARF'!$L$18,'Environmental SARF'!$L$19),\"\")&IF(AND(NOT(ISBLANK('Environmental SARF'!M133)),'Environmental SARF'!$F$13<>\"6) NA\",'Environmental SARF'!$F$13<>\"6) ...\"), \"   \"&CONCATENATE('Environmental SARF'!$M$18,'Environmental SARF'!$M$19),\"\")&IF(AND(NOT(ISBLANK('Environmental SARF'!N133)),'Environmental SARF'!$F$14<>\"7) NA\",'Environmental SARF'!$F$14<>\"7) ...\"), \"   \"&CONCATENATE('Environmental SARF'!$N$18,'Environmental SARF'!$N$19),\"\") &IF(AND(NOT(ISBLANK('Environmental SARF'!O133)),'Environmental SARF'!$F$15<>\"8) NA\",'Environmental SARF'!$F$15<>\"8) ...\"), \"   \"&CONCATENATE('Environmental SARF'!$O$18,'Environmental SARF'!$O$19),\"\"))","v":""}]
[{"$f":"IF(C116=\"\",\"\",IF('Environmental SARF'!B134=\"\",\"\",'Environmental SARF'!B134))","v":""},"",{"$f":"IF('Environmental SARF'!C134=\"\",\"\",'Environmental SARF'!C134)","v":""},{"$f":"IF(C116=\"\",\"\",IF('Environmental SARF'!D134=\"\",'Environmental SARF'!$C$10,'Environmental SARF'!D134))","v":""},{"$f":"IF(B116=\"\",\"\",IF('Environmental SARF'!E134=\"\",\"\",'Environmental SARF'!E134))","v":""},{"$f":"IF(B116=\"\",\"\",IF('Environmental SARF'!F134=\"\",\"\",'Environmental SARF'!F134))","v":""},{"$f":"IF(B116=\"\",\"\",IF('Environmental SARF'!G134=\"\",\"\",'Environmental SARF'!G134))","v":""},{"$f":"IF(C116=\"\",\"\",IF('Environmental SARF'!$N$6=\"\",\"\",CONCATENATE('Environmental SARF'!$N$6,'Environmental SARF'!$O$6)))","v":""},{"$f":"IF(C116=\"\",\"\",IF('Environmental SARF'!$N$2=\"\",\"\",'Environmental SARF'!$N$2))","v":""},{"$f":"IF(C116=\"\",\"\",IF('Environmental SARF'!$N$4=\"\",NOW(),'Environmental SARF'!$N$4))","v":""},"",{"$f":"IF(C116=\"\",\"\", IF(AND(NOT(ISBLANK('Environmental SARF'!H134)),'Environmental SARF'!$F$8<>\"1) NA\",'Environmental SARF'!$F$8<>\"1) ...\"), \"   \"&CONCATENATE('Environmental SARF'!$H$18,'Environmental SARF'!$H$19),\"\") & IF(AND(NOT(ISBLANK('Environmental SARF'!I134)),'Environmental SARF'!$F$9<>\"2) NA\",'Environmental SARF'!$F$9<>\"2) ...\"), \"   \"&CONCATENATE('Environmental SARF'!$I$18,'Environmental SARF'!$I$19),\"\")& IF(AND(NOT(ISBLANK('Environmental SARF'!J134)),'Environmental SARF'!$F$10<>\"3) NA\",'Environmental SARF'!$F$10<>\"3) ...\"), \"   \"&CONCATENATE('Environmental SARF'!$J$18,'Environmental SARF'!$J$19),\"\") & IF(AND(NOT(ISBLANK('Environmental SARF'!K134)),'Environmental SARF'!$F$11<>\"4) NA\",'Environmental SARF'!$F$11<>\"4) ...\"), \"   \"&CONCATENATE('Environmental SARF'!$K$18,'Environmental SARF'!$K$19),\"\")& IF(AND(NOT(ISBLANK('Environmental SARF'!L134)),'Environmental SARF'!$F$12<>\"5) NA\",'Environmental SARF'!$F$12<>\"5) ...\"), \"   \"&CONCATENATE('Environmental SARF'!$L$18,'Environmental SARF'!$L$19),\"\")&IF(AND(NOT(ISBLANK('Environmental SARF'!M134)),'Environmental SARF'!$F$13<>\"6) NA\",'Environmental SARF'!$F$13<>\"6) ...\"), \"   \"&CONCATENATE('Environmental SARF'!$M$18,'Environmental SARF'!$M$19),\"\")&IF(AND(NOT(ISBLANK('Environmental SARF'!N134)),'Environmental SARF'!$F$14<>\"7) NA\",'Environmental SARF'!$F$14<>\"7) ...\"), \"   \"&CONCATENATE('Environmental SARF'!$N$18,'Environmental SARF'!$N$19),\"\") &IF(AND(NOT(ISBLANK('Environmental SARF'!O134)),'Environmental SARF'!$F$15<>\"8) NA\",'Environmental SARF'!$F$15<>\"8) ...\"), \"   \"&CONCATENATE('Environmental SARF'!$O$18,'Environmental SARF'!$O$19),\"\"))","v":""}]
[{"$f":"IF(C117=\"\",\"\",IF('Environmental SARF'!B135=\"\",\"\",'Environmental SARF'!B135))","v":""},"",{"$f":"IF('Environmental SARF'!C135=\"\",\"\",'Environmental SARF'!C135)","v":""},{"$f":"IF(C117=\"\",\"\",IF('Environmental SARF'!D135=\"\",'Environmental SARF'!$C$10,'Environmental SARF'!D135))","v":""},{"$f":"IF(B117=\"\",\"\",IF('Environmental SARF'!E135=\"\",\"\",'Environmental SARF'!E135))","v":""},{"$f":"IF(B117=\"\",\"\",IF('Environmental SARF'!F135=\"\",\"\",'Environmental SARF'!F135))","v":""},{"$f":"IF(B117=\"\",\"\",IF('Environmental SARF'!G135=\"\",\"\",'Environmental SARF'!G135))","v":""},{"$f":"IF(C117=\"\",\"\",IF('Environmental SARF'!$N$6=\"\",\"\",CONCATENATE('Environmental SARF'!$N$6,'Environmental SARF'!$O$6)))","v":""},{"$f":"IF(C117=\"\",\"\",IF('Environmental SARF'!$N$2=\"\",\"\",'Environmental SARF'!$N$2))","v":""},{"$f":"IF(C117=\"\",\"\",IF('Environmental SARF'!$N$4=\"\",NOW(),'Environmental SARF'!$N$4))","v":""},"",{"$f":"IF(C117=\"\",\"\", IF(AND(NOT(ISBLANK('Environmental SARF'!H135)),'Environmental SARF'!$F$8<>\"1) NA\",'Environmental SARF'!$F$8<>\"1) ...\"), \"   \"&CONCATENATE('Environmental SARF'!$H$18,'Environmental SARF'!$H$19),\"\") & IF(AND(NOT(ISBLANK('Environmental SARF'!I135)),'Environmental SARF'!$F$9<>\"2) NA\",'Environmental SARF'!$F$9<>\"2) ...\"), \"   \"&CONCATENATE('Environmental SARF'!$I$18,'Environmental SARF'!$I$19),\"\")& IF(AND(NOT(ISBLANK('Environmental SARF'!J135)),'Environmental SARF'!$F$10<>\"3) NA\",'Environmental SARF'!$F$10<>\"3) ...\"), \"   \"&CONCATENATE('Environmental SARF'!$J$18,'Environmental SARF'!$J$19),\"\") & IF(AND(NOT(ISBLANK('Environmental SARF'!K135)),'Environmental SARF'!$F$11<>\"4) NA\",'Environmental SARF'!$F$11<>\"4) ...\"), \"   \"&CONCATENATE('Environmental SARF'!$K$18,'Environmental SARF'!$K$19),\"\")& IF(AND(NOT(ISBLANK('Environmental SARF'!L135)),'Environmental SARF'!$F$12<>\"5) NA\",'Environmental SARF'!$F$12<>\"5) ...\"), \"   \"&CONCATENATE('Environmental SARF'!$L$18,'Environmental SARF'!$L$19),\"\")&IF(AND(NOT(ISBLANK('Environmental SARF'!M135)),'Environmental SARF'!$F$13<>\"6) NA\",'Environmental SARF'!$F$13<>\"6) ...\"), \"   \"&CONCATENATE('Environmental SARF'!$M$18,'Environmental SARF'!$M$19),\"\")&IF(AND(NOT(ISBLANK('Environmental SARF'!N135)),'Environmental SARF'!$F$14<>\"7) NA\",'Environmental SARF'!$F$14<>\"7) ...\"), \"   \"&CONCATENATE('Environmental SARF'!$N$18,'Environmental SARF'!$N$19),\"\") &IF(AND(NOT(ISBLANK('Environmental SARF'!O135)),'Environmental SARF'!$F$15<>\"8) NA\",'Environmental SARF'!$F$15<>\"8) ...\"), \"   \"&CONCATENATE('Environmental SARF'!$O$18,'Environmental SARF'!$O$19),\"\"))","v":""}]
[{"$f":"IF(C118=\"\",\"\",IF('Environmental SARF'!B136=\"\",\"\",'Environmental SARF'!B136))","v":""},"",{"$f":"IF('Environmental SARF'!C136=\"\",\"\",'Environmental SARF'!C136)","v":""},{"$f":"IF(C118=\"\",\"\",IF('Environmental SARF'!D136=\"\",'Environmental SARF'!$C$10,'Environmental SARF'!D136))","v":""},{"$f":"IF(B118=\"\",\"\",IF('Environmental SARF'!E136=\"\",\"\",'Environmental SARF'!E136))","v":""},{"$f":"IF(B118=\"\",\"\",IF('Environmental SARF'!F136=\"\",\"\",'Environmental SARF'!F136))","v":""},{"$f":"IF(B118=\"\",\"\",IF('Environmental SARF'!G136=\"\",\"\",'Environmental SARF'!G136))","v":""},{"$f":"IF(C118=\"\",\"\",IF('Environmental SARF'!$N$6=\"\",\"\",CONCATENATE('Environmental SARF'!$N$6,'Environmental SARF'!$O$6)))","v":""},{"$f":"IF(C118=\"\",\"\",IF('Environmental SARF'!$N$2=\"\",\"\",'Environmental SARF'!$N$2))","v":""},{"$f":"IF(C118=\"\",\"\",IF('Environmental SARF'!$N$4=\"\",NOW(),'Environmental SARF'!$N$4))","v":""},"",{"$f":"IF(C118=\"\",\"\", IF(AND(NOT(ISBLANK('Environmental SARF'!H136)),'Environmental SARF'!$F$8<>\"1) NA\",'Environmental SARF'!$F$8<>\"1) ...\"), \"   \"&CONCATENATE('Environmental SARF'!$H$18,'Environmental SARF'!$H$19),\"\") & IF(AND(NOT(ISBLANK('Environmental SARF'!I136)),'Environmental SARF'!$F$9<>\"2) NA\",'Environmental SARF'!$F$9<>\"2) ...\"), \"   \"&CONCATENATE('Environmental SARF'!$I$18,'Environmental SARF'!$I$19),\"\")& IF(AND(NOT(ISBLANK('Environmental SARF'!J136)),'Environmental SARF'!$F$10<>\"3) NA\",'Environmental SARF'!$F$10<>\"3) ...\"), \"   \"&CONCATENATE('Environmental SARF'!$J$18,'Environmental SARF'!$J$19),\"\") & IF(AND(NOT(ISBLANK('Environmental SARF'!K136)),'Environmental SARF'!$F$11<>\"4) NA\",'Environmental SARF'!$F$11<>\"4) ...\"), \"   \"&CONCATENATE('Environmental SARF'!$K$18,'Environmental SARF'!$K$19),\"\")& IF(AND(NOT(ISBLANK('Environmental SARF'!L136)),'Environmental SARF'!$F$12<>\"5) NA\",'Environmental SARF'!$F$12<>\"5) ...\"), \"   \"&CONCATENATE('Environmental SARF'!$L$18,'Environmental SARF'!$L$19),\"\")&IF(AND(NOT(ISBLANK('Environmental SARF'!M136)),'Environmental SARF'!$F$13<>\"6) NA\",'Environmental SARF'!$F$13<>\"6) ...\"), \"   \"&CONCATENATE('Environmental SARF'!$M$18,'Environmental SARF'!$M$19),\"\")&IF(AND(NOT(ISBLANK('Environmental SARF'!N136)),'Environmental SARF'!$F$14<>\"7) NA\",'Environmental SARF'!$F$14<>\"7) ...\"), \"   \"&CONCATENATE('Environmental SARF'!$N$18,'Environmental SARF'!$N$19),\"\") &IF(AND(NOT(ISBLANK('Environmental SARF'!O136)),'Environmental SARF'!$F$15<>\"8) NA\",'Environmental SARF'!$F$15<>\"8) ...\"), \"   \"&CONCATENATE('Environmental SARF'!$O$18,'Environmental SARF'!$O$19),\"\"))","v":""}]
[{"$f":"IF(C119=\"\",\"\",IF('Environmental SARF'!B137=\"\",\"\",'Environmental SARF'!B137))","v":""},"",{"$f":"IF('Environmental SARF'!C137=\"\",\"\",'Environmental SARF'!C137)","v":""},{"$f":"IF(C119=\"\",\"\",IF('Environmental SARF'!D137=\"\",'Environmental SARF'!$C$10,'Environmental SARF'!D137))","v":""},{"$f":"IF(B119=\"\",\"\",IF('Environmental SARF'!E137=\"\",\"\",'Environmental SARF'!E137))","v":""},{"$f":"IF(B119=\"\",\"\",IF('Environmental SARF'!F137=\"\",\"\",'Environmental SARF'!F137))","v":""},{"$f":"IF(B119=\"\",\"\",IF('Environmental SARF'!G137=\"\",\"\",'Environmental SARF'!G137))","v":""},{"$f":"IF(C119=\"\",\"\",IF('Environmental SARF'!$N$6=\"\",\"\",CONCATENATE('Environmental SARF'!$N$6,'Environmental SARF'!$O$6)))","v":""},{"$f":"IF(C119=\"\",\"\",IF('Environmental SARF'!$N$2=\"\",\"\",'Environmental SARF'!$N$2))","v":""},{"$f":"IF(C119=\"\",\"\",IF('Environmental SARF'!$N$4=\"\",NOW(),'Environmental SARF'!$N$4))","v":""},"",{"$f":"IF(C119=\"\",\"\", IF(AND(NOT(ISBLANK('Environmental SARF'!H137)),'Environmental SARF'!$F$8<>\"1) NA\",'Environmental SARF'!$F$8<>\"1) ...\"), \"   \"&CONCATENATE('Environmental SARF'!$H$18,'Environmental SARF'!$H$19),\"\") & IF(AND(NOT(ISBLANK('Environmental SARF'!I137)),'Environmental SARF'!$F$9<>\"2) NA\",'Environmental SARF'!$F$9<>\"2) ...\"), \"   \"&CONCATENATE('Environmental SARF'!$I$18,'Environmental SARF'!$I$19),\"\")& IF(AND(NOT(ISBLANK('Environmental SARF'!J137)),'Environmental SARF'!$F$10<>\"3) NA\",'Environmental SARF'!$F$10<>\"3) ...\"), \"   \"&CONCATENATE('Environmental SARF'!$J$18,'Environmental SARF'!$J$19),\"\") & IF(AND(NOT(ISBLANK('Environmental SARF'!K137)),'Environmental SARF'!$F$11<>\"4) NA\",'Environmental SARF'!$F$11<>\"4) ...\"), \"   \"&CONCATENATE('Environmental SARF'!$K$18,'Environmental SARF'!$K$19),\"\")& IF(AND(NOT(ISBLANK('Environmental SARF'!L137)),'Environmental SARF'!$F$12<>\"5) NA\",'Environmental SARF'!$F$12<>\"5) ...\"), \"   \"&CONCATENATE('Environmental SARF'!$L$18,'Environmental SARF'!$L$19),\"\")&IF(AND(NOT(ISBLANK('Environmental SARF'!M137)),'Environmental SARF'!$F$13<>\"6) NA\",'Environmental SARF'!$F$13<>\"6) ...\"), \"   \"&CONCATENATE('Environmental SARF'!$M$18,'Environmental SARF'!$M$19),\"\")&IF(AND(NOT(ISBLANK('Environmental SARF'!N137)),'Environmental SARF'!$F$14<>\"7) NA\",'Environmental SARF'!$F$14<>\"7) ...\"), \"   \"&CONCATENATE('Environmental SARF'!$N$18,'Environmental SARF'!$N$19),\"\") &IF(AND(NOT(ISBLANK('Environmental SARF'!O137)),'Environmental SARF'!$F$15<>\"8) NA\",'Environmental SARF'!$F$15<>\"8) ...\"), \"   \"&CONCATENATE('Environmental SARF'!$O$18,'Environmental SARF'!$O$19),\"\"))","v":""}]
[{"$f":"IF(C120=\"\",\"\",IF('Environmental SARF'!B138=\"\",\"\",'Environmental SARF'!B138))","v":""},"",{"$f":"IF('Environmental SARF'!C138=\"\",\"\",'Environmental SARF'!C138)","v":""},{"$f":"IF(C120=\"\",\"\",IF('Environmental SARF'!D138=\"\",'Environmental SARF'!$C$10,'Environmental SARF'!D138))","v":""},{"$f":"IF(B120=\"\",\"\",IF('Environmental SARF'!E138=\"\",\"\",'Environmental SARF'!E138))","v":""},{"$f":"IF(B120=\"\",\"\",IF('Environmental SARF'!F138=\"\",\"\",'Environmental SARF'!F138))","v":""},{"$f":"IF(B120=\"\",\"\",IF('Environmental SARF'!G138=\"\",\"\",'Environmental SARF'!G138))","v":""},{"$f":"IF(C120=\"\",\"\",IF('Environmental SARF'!$N$6=\"\",\"\",CONCATENATE('Environmental SARF'!$N$6,'Environmental SARF'!$O$6)))","v":""},{"$f":"IF(C120=\"\",\"\",IF('Environmental SARF'!$N$2=\"\",\"\",'Environmental SARF'!$N$2))","v":""},{"$f":"IF(C120=\"\",\"\",IF('Environmental SARF'!$N$4=\"\",NOW(),'Environmental SARF'!$N$4))","v":""},"",{"$f":"IF(C120=\"\",\"\", IF(AND(NOT(ISBLANK('Environmental SARF'!H138)),'Environmental SARF'!$F$8<>\"1) NA\",'Environmental SARF'!$F$8<>\"1) ...\"), \"   \"&CONCATENATE('Environmental SARF'!$H$18,'Environmental SARF'!$H$19),\"\") & IF(AND(NOT(ISBLANK('Environmental SARF'!I138)),'Environmental SARF'!$F$9<>\"2) NA\",'Environmental SARF'!$F$9<>\"2) ...\"), \"   \"&CONCATENATE('Environmental SARF'!$I$18,'Environmental SARF'!$I$19),\"\")& IF(AND(NOT(ISBLANK('Environmental SARF'!J138)),'Environmental SARF'!$F$10<>\"3) NA\",'Environmental SARF'!$F$10<>\"3) ...\"), \"   \"&CONCATENATE('Environmental SARF'!$J$18,'Environmental SARF'!$J$19),\"\") & IF(AND(NOT(ISBLANK('Environmental SARF'!K138)),'Environmental SARF'!$F$11<>\"4) NA\",'Environmental SARF'!$F$11<>\"4) ...\"), \"   \"&CONCATENATE('Environmental SARF'!$K$18,'Environmental SARF'!$K$19),\"\")& IF(AND(NOT(ISBLANK('Environmental SARF'!L138)),'Environmental SARF'!$F$12<>\"5) NA\",'Environmental SARF'!$F$12<>\"5) ...\"), \"   \"&CONCATENATE('Environmental SARF'!$L$18,'Environmental SARF'!$L$19),\"\")&IF(AND(NOT(ISBLANK('Environmental SARF'!M138)),'Environmental SARF'!$F$13<>\"6) NA\",'Environmental SARF'!$F$13<>\"6) ...\"), \"   \"&CONCATENATE('Environmental SARF'!$M$18,'Environmental SARF'!$M$19),\"\")&IF(AND(NOT(ISBLANK('Environmental SARF'!N138)),'Environmental SARF'!$F$14<>\"7) NA\",'Environmental SARF'!$F$14<>\"7) ...\"), \"   \"&CONCATENATE('Environmental SARF'!$N$18,'Environmental SARF'!$N$19),\"\") &IF(AND(NOT(ISBLANK('Environmental SARF'!O138)),'Environmental SARF'!$F$15<>\"8) NA\",'Environmental SARF'!$F$15<>\"8) ...\"), \"   \"&CONCATENATE('Environmental SARF'!$O$18,'Environmental SARF'!$O$19),\"\"))","v":""}]
[{"$f":"IF(C121=\"\",\"\",IF('Environmental SARF'!B139=\"\",\"\",'Environmental SARF'!B139))","v":""},"",{"$f":"IF('Environmental SARF'!C139=\"\",\"\",'Environmental SARF'!C139)","v":""},{"$f":"IF(C121=\"\",\"\",IF('Environmental SARF'!D139=\"\",'Environmental SARF'!$C$10,'Environmental SARF'!D139))","v":""},{"$f":"IF(B121=\"\",\"\",IF('Environmental SARF'!E139=\"\",\"\",'Environmental SARF'!E139))","v":""},{"$f":"IF(B121=\"\",\"\",IF('Environmental SARF'!F139=\"\",\"\",'Environmental SARF'!F139))","v":""},{"$f":"IF(B121=\"\",\"\",IF('Environmental SARF'!G139=\"\",\"\",'Environmental SARF'!G139))","v":""},{"$f":"IF(C121=\"\",\"\",IF('Environmental SARF'!$N$6=\"\",\"\",CONCATENATE('Environmental SARF'!$N$6,'Environmental SARF'!$O$6)))","v":""},{"$f":"IF(C121=\"\",\"\",IF('Environmental SARF'!$N$2=\"\",\"\",'Environmental SARF'!$N$2))","v":""},{"$f":"IF(C121=\"\",\"\",IF('Environmental SARF'!$N$4=\"\",NOW(),'Environmental SARF'!$N$4))","v":""},"",{"$f":"IF(C121=\"\",\"\", IF(AND(NOT(ISBLANK('Environmental SARF'!H139)),'Environmental SARF'!$F$8<>\"1) NA\",'Environmental SARF'!$F$8<>\"1) ...\"), \"   \"&CONCATENATE('Environmental SARF'!$H$18,'Environmental SARF'!$H$19),\"\") & IF(AND(NOT(ISBLANK('Environmental SARF'!I139)),'Environmental SARF'!$F$9<>\"2) NA\",'Environmental SARF'!$F$9<>\"2) ...\"), \"   \"&CONCATENATE('Environmental SARF'!$I$18,'Environmental SARF'!$I$19),\"\")& IF(AND(NOT(ISBLANK('Environmental SARF'!J139)),'Environmental SARF'!$F$10<>\"3) NA\",'Environmental SARF'!$F$10<>\"3) ...\"), \"   \"&CONCATENATE('Environmental SARF'!$J$18,'Environmental SARF'!$J$19),\"\") & IF(AND(NOT(ISBLANK('Environmental SARF'!K139)),'Environmental SARF'!$F$11<>\"4) NA\",'Environmental SARF'!$F$11<>\"4) ...\"), \"   \"&CONCATENATE('Environmental SARF'!$K$18,'Environmental SARF'!$K$19),\"\")& IF(AND(NOT(ISBLANK('Environmental SARF'!L139)),'Environmental SARF'!$F$12<>\"5) NA\",'Environmental SARF'!$F$12<>\"5) ...\"), \"   \"&CONCATENATE('Environmental SARF'!$L$18,'Environmental SARF'!$L$19),\"\")&IF(AND(NOT(ISBLANK('Environmental SARF'!M139)),'Environmental SARF'!$F$13<>\"6) NA\",'Environmental SARF'!$F$13<>\"6) ...\"), \"   \"&CONCATENATE('Environmental SARF'!$M$18,'Environmental SARF'!$M$19),\"\")&IF(AND(NOT(ISBLANK('Environmental SARF'!N139)),'Environmental SARF'!$F$14<>\"7) NA\",'Environmental SARF'!$F$14<>\"7) ...\"), \"   \"&CONCATENATE('Environmental SARF'!$N$18,'Environmental SARF'!$N$19),\"\") &IF(AND(NOT(ISBLANK('Environmental SARF'!O139)),'Environmental SARF'!$F$15<>\"8) NA\",'Environmental SARF'!$F$15<>\"8) ...\"), \"   \"&CONCATENATE('Environmental SARF'!$O$18,'Environmental SARF'!$O$19),\"\"))","v":""}]
[{"$f":"IF(C122=\"\",\"\",IF('Environmental SARF'!B140=\"\",\"\",'Environmental SARF'!B140))","v":""},"",{"$f":"IF('Environmental SARF'!C140=\"\",\"\",'Environmental SARF'!C140)","v":""},{"$f":"IF(C122=\"\",\"\",IF('Environmental SARF'!D140=\"\",'Environmental SARF'!$C$10,'Environmental SARF'!D140))","v":""},{"$f":"IF(B122=\"\",\"\",IF('Environmental SARF'!E140=\"\",\"\",'Environmental SARF'!E140))","v":""},{"$f":"IF(B122=\"\",\"\",IF('Environmental SARF'!F140=\"\",\"\",'Environmental SARF'!F140))","v":""},{"$f":"IF(B122=\"\",\"\",IF('Environmental SARF'!G140=\"\",\"\",'Environmental SARF'!G140))","v":""},{"$f":"IF(C122=\"\",\"\",IF('Environmental SARF'!$N$6=\"\",\"\",CONCATENATE('Environmental SARF'!$N$6,'Environmental SARF'!$O$6)))","v":""},{"$f":"IF(C122=\"\",\"\",IF('Environmental SARF'!$N$2=\"\",\"\",'Environmental SARF'!$N$2))","v":""},{"$f":"IF(C122=\"\",\"\",IF('Environmental SARF'!$N$4=\"\",NOW(),'Environmental SARF'!$N$4))","v":""},"",{"$f":"IF(C122=\"\",\"\", IF(AND(NOT(ISBLANK('Environmental SARF'!H140)),'Environmental SARF'!$F$8<>\"1) NA\",'Environmental SARF'!$F$8<>\"1) ...\"), \"   \"&CONCATENATE('Environmental SARF'!$H$18,'Environmental SARF'!$H$19),\"\") & IF(AND(NOT(ISBLANK('Environmental SARF'!I140)),'Environmental SARF'!$F$9<>\"2) NA\",'Environmental SARF'!$F$9<>\"2) ...\"), \"   \"&CONCATENATE('Environmental SARF'!$I$18,'Environmental SARF'!$I$19),\"\")& IF(AND(NOT(ISBLANK('Environmental SARF'!J140)),'Environmental SARF'!$F$10<>\"3) NA\",'Environmental SARF'!$F$10<>\"3) ...\"), \"   \"&CONCATENATE('Environmental SARF'!$J$18,'Environmental SARF'!$J$19),\"\") & IF(AND(NOT(ISBLANK('Environmental SARF'!K140)),'Environmental SARF'!$F$11<>\"4) NA\",'Environmental SARF'!$F$11<>\"4) ...\"), \"   \"&CONCATENATE('Environmental SARF'!$K$18,'Environmental SARF'!$K$19),\"\")& IF(AND(NOT(ISBLANK('Environmental SARF'!L140)),'Environmental SARF'!$F$12<>\"5) NA\",'Environmental SARF'!$F$12<>\"5) ...\"), \"   \"&CONCATENATE('Environmental SARF'!$L$18,'Environmental SARF'!$L$19),\"\")&IF(AND(NOT(ISBLANK('Environmental SARF'!M140)),'Environmental SARF'!$F$13<>\"6) NA\",'Environmental SARF'!$F$13<>\"6) ...\"), \"   \"&CONCATENATE('Environmental SARF'!$M$18,'Environmental SARF'!$M$19),\"\")&IF(AND(NOT(ISBLANK('Environmental SARF'!N140)),'Environmental SARF'!$F$14<>\"7) NA\",'Environmental SARF'!$F$14<>\"7) ...\"), \"   \"&CONCATENATE('Environmental SARF'!$N$18,'Environmental SARF'!$N$19),\"\") &IF(AND(NOT(ISBLANK('Environmental SARF'!O140)),'Environmental SARF'!$F$15<>\"8) NA\",'Environmental SARF'!$F$15<>\"8) ...\"), \"   \"&CONCATENATE('Environmental SARF'!$O$18,'Environmental SARF'!$O$19),\"\"))","v":""}]
[{"$f":"IF(C123=\"\",\"\",IF('Environmental SARF'!B141=\"\",\"\",'Environmental SARF'!B141))","v":""},"",{"$f":"IF('Environmental SARF'!C141=\"\",\"\",'Environmental SARF'!C141)","v":""},{"$f":"IF(C123=\"\",\"\",IF('Environmental SARF'!D141=\"\",'Environmental SARF'!$C$10,'Environmental SARF'!D141))","v":""},{"$f":"IF(B123=\"\",\"\",IF('Environmental SARF'!E141=\"\",\"\",'Environmental SARF'!E141))","v":""},{"$f":"IF(B123=\"\",\"\",IF('Environmental SARF'!F141=\"\",\"\",'Environmental SARF'!F141))","v":""},{"$f":"IF(B123=\"\",\"\",IF('Environmental SARF'!G141=\"\",\"\",'Environmental SARF'!G141))","v":""},{"$f":"IF(C123=\"\",\"\",IF('Environmental SARF'!$N$6=\"\",\"\",CONCATENATE('Environmental SARF'!$N$6,'Environmental SARF'!$O$6)))","v":""},{"$f":"IF(C123=\"\",\"\",IF('Environmental SARF'!$N$2=\"\",\"\",'Environmental SARF'!$N$2))","v":""},{"$f":"IF(C123=\"\",\"\",IF('Environmental SARF'!$N$4=\"\",NOW(),'Environmental SARF'!$N$4))","v":""},"",{"$f":"IF(C123=\"\",\"\", IF(AND(NOT(ISBLANK('Environmental SARF'!H141)),'Environmental SARF'!$F$8<>\"1) NA\",'Environmental SARF'!$F$8<>\"1) ...\"), \"   \"&CONCATENATE('Environmental SARF'!$H$18,'Environmental SARF'!$H$19),\"\") & IF(AND(NOT(ISBLANK('Environmental SARF'!I141)),'Environmental SARF'!$F$9<>\"2) NA\",'Environmental SARF'!$F$9<>\"2) ...\"), \"   \"&CONCATENATE('Environmental SARF'!$I$18,'Environmental SARF'!$I$19),\"\")& IF(AND(NOT(ISBLANK('Environmental SARF'!J141)),'Environmental SARF'!$F$10<>\"3) NA\",'Environmental SARF'!$F$10<>\"3) ...\"), \"   \"&CONCATENATE('Environmental SARF'!$J$18,'Environmental SARF'!$J$19),\"\") & IF(AND(NOT(ISBLANK('Environmental SARF'!K141)),'Environmental SARF'!$F$11<>\"4) NA\",'Environmental SARF'!$F$11<>\"4) ...\"), \"   \"&CONCATENATE('Environmental SARF'!$K$18,'Environmental SARF'!$K$19),\"\")& IF(AND(NOT(ISBLANK('Environmental SARF'!L141)),'Environmental SARF'!$F$12<>\"5) NA\",'Environmental SARF'!$F$12<>\"5) ...\"), \"   \"&CONCATENATE('Environmental SARF'!$L$18,'Environmental SARF'!$L$19),\"\")&IF(AND(NOT(ISBLANK('Environmental SARF'!M141)),'Environmental SARF'!$F$13<>\"6) NA\",'Environmental SARF'!$F$13<>\"6) ...\"), \"   \"&CONCATENATE('Environmental SARF'!$M$18,'Environmental SARF'!$M$19),\"\")&IF(AND(NOT(ISBLANK('Environmental SARF'!N141)),'Environmental SARF'!$F$14<>\"7) NA\",'Environmental SARF'!$F$14<>\"7) ...\"), \"   \"&CONCATENATE('Environmental SARF'!$N$18,'Environmental SARF'!$N$19),\"\") &IF(AND(NOT(ISBLANK('Environmental SARF'!O141)),'Environmental SARF'!$F$15<>\"8) NA\",'Environmental SARF'!$F$15<>\"8) ...\"), \"   \"&CONCATENATE('Environmental SARF'!$O$18,'Environmental SARF'!$O$19),\"\"))","v":""}]
[{"$f":"IF(C124=\"\",\"\",IF('Environmental SARF'!B142=\"\",\"\",'Environmental SARF'!B142))","v":""},"",{"$f":"IF('Environmental SARF'!C142=\"\",\"\",'Environmental SARF'!C142)","v":""},{"$f":"IF(C124=\"\",\"\",IF('Environmental SARF'!D142=\"\",'Environmental SARF'!$C$10,'Environmental SARF'!D142))","v":""},{"$f":"IF(B124=\"\",\"\",IF('Environmental SARF'!E142=\"\",\"\",'Environmental SARF'!E142))","v":""},{"$f":"IF(B124=\"\",\"\",IF('Environmental SARF'!F142=\"\",\"\",'Environmental SARF'!F142))","v":""},{"$f":"IF(B124=\"\",\"\",IF('Environmental SARF'!G142=\"\",\"\",'Environmental SARF'!G142))","v":""},{"$f":"IF(C124=\"\",\"\",IF('Environmental SARF'!$N$6=\"\",\"\",CONCATENATE('Environmental SARF'!$N$6,'Environmental SARF'!$O$6)))","v":""},{"$f":"IF(C124=\"\",\"\",IF('Environmental SARF'!$N$2=\"\",\"\",'Environmental SARF'!$N$2))","v":""},{"$f":"IF(C124=\"\",\"\",IF('Environmental SARF'!$N$4=\"\",NOW(),'Environmental SARF'!$N$4))","v":""},"",{"$f":"IF(C124=\"\",\"\", IF(AND(NOT(ISBLANK('Environmental SARF'!H142)),'Environmental SARF'!$F$8<>\"1) NA\",'Environmental SARF'!$F$8<>\"1) ...\"), \"   \"&CONCATENATE('Environmental SARF'!$H$18,'Environmental SARF'!$H$19),\"\") & IF(AND(NOT(ISBLANK('Environmental SARF'!I142)),'Environmental SARF'!$F$9<>\"2) NA\",'Environmental SARF'!$F$9<>\"2) ...\"), \"   \"&CONCATENATE('Environmental SARF'!$I$18,'Environmental SARF'!$I$19),\"\")& IF(AND(NOT(ISBLANK('Environmental SARF'!J142)),'Environmental SARF'!$F$10<>\"3) NA\",'Environmental SARF'!$F$10<>\"3) ...\"), \"   \"&CONCATENATE('Environmental SARF'!$J$18,'Environmental SARF'!$J$19),\"\") & IF(AND(NOT(ISBLANK('Environmental SARF'!K142)),'Environmental SARF'!$F$11<>\"4) NA\",'Environmental SARF'!$F$11<>\"4) ...\"), \"   \"&CONCATENATE('Environmental SARF'!$K$18,'Environmental SARF'!$K$19),\"\")& IF(AND(NOT(ISBLANK('Environmental SARF'!L142)),'Environmental SARF'!$F$12<>\"5) NA\",'Environmental SARF'!$F$12<>\"5) ...\"), \"   \"&CONCATENATE('Environmental SARF'!$L$18,'Environmental SARF'!$L$19),\"\")&IF(AND(NOT(ISBLANK('Environmental SARF'!M142)),'Environmental SARF'!$F$13<>\"6) NA\",'Environmental SARF'!$F$13<>\"6) ...\"), \"   \"&CONCATENATE('Environmental SARF'!$M$18,'Environmental SARF'!$M$19),\"\")&IF(AND(NOT(ISBLANK('Environmental SARF'!N142)),'Environmental SARF'!$F$14<>\"7) NA\",'Environmental SARF'!$F$14<>\"7) ...\"), \"   \"&CONCATENATE('Environmental SARF'!$N$18,'Environmental SARF'!$N$19),\"\") &IF(AND(NOT(ISBLANK('Environmental SARF'!O142)),'Environmental SARF'!$F$15<>\"8) NA\",'Environmental SARF'!$F$15<>\"8) ...\"), \"   \"&CONCATENATE('Environmental SARF'!$O$18,'Environmental SARF'!$O$19),\"\"))","v":""}]
[{"$f":"IF(C125=\"\",\"\",IF('Environmental SARF'!B143=\"\",\"\",'Environmental SARF'!B143))","v":""},"",{"$f":"IF('Environmental SARF'!C143=\"\",\"\",'Environmental SARF'!C143)","v":""},{"$f":"IF(C125=\"\",\"\",IF('Environmental SARF'!D143=\"\",'Environmental SARF'!$C$10,'Environmental SARF'!D143))","v":""},{"$f":"IF(B125=\"\",\"\",IF('Environmental SARF'!E143=\"\",\"\",'Environmental SARF'!E143))","v":""},{"$f":"IF(B125=\"\",\"\",IF('Environmental SARF'!F143=\"\",\"\",'Environmental SARF'!F143))","v":""},{"$f":"IF(B125=\"\",\"\",IF('Environmental SARF'!G143=\"\",\"\",'Environmental SARF'!G143))","v":""},{"$f":"IF(C125=\"\",\"\",IF('Environmental SARF'!$N$6=\"\",\"\",CONCATENATE('Environmental SARF'!$N$6,'Environmental SARF'!$O$6)))","v":""},{"$f":"IF(C125=\"\",\"\",IF('Environmental SARF'!$N$2=\"\",\"\",'Environmental SARF'!$N$2))","v":""},{"$f":"IF(C125=\"\",\"\",IF('Environmental SARF'!$N$4=\"\",NOW(),'Environmental SARF'!$N$4))","v":""},"",{"$f":"IF(C125=\"\",\"\", IF(AND(NOT(ISBLANK('Environmental SARF'!H143)),'Environmental SARF'!$F$8<>\"1) NA\",'Environmental SARF'!$F$8<>\"1) ...\"), \"   \"&CONCATENATE('Environmental SARF'!$H$18,'Environmental SARF'!$H$19),\"\") & IF(AND(NOT(ISBLANK('Environmental SARF'!I143)),'Environmental SARF'!$F$9<>\"2) NA\",'Environmental SARF'!$F$9<>\"2) ...\"), \"   \"&CONCATENATE('Environmental SARF'!$I$18,'Environmental SARF'!$I$19),\"\")& IF(AND(NOT(ISBLANK('Environmental SARF'!J143)),'Environmental SARF'!$F$10<>\"3) NA\",'Environmental SARF'!$F$10<>\"3) ...\"), \"   \"&CONCATENATE('Environmental SARF'!$J$18,'Environmental SARF'!$J$19),\"\") & IF(AND(NOT(ISBLANK('Environmental SARF'!K143)),'Environmental SARF'!$F$11<>\"4) NA\",'Environmental SARF'!$F$11<>\"4) ...\"), \"   \"&CONCATENATE('Environmental SARF'!$K$18,'Environmental SARF'!$K$19),\"\")& IF(AND(NOT(ISBLANK('Environmental SARF'!L143)),'Environmental SARF'!$F$12<>\"5) NA\",'Environmental SARF'!$F$12<>\"5) ...\"), \"   \"&CONCATENATE('Environmental SARF'!$L$18,'Environmental SARF'!$L$19),\"\")&IF(AND(NOT(ISBLANK('Environmental SARF'!M143)),'Environmental SARF'!$F$13<>\"6) NA\",'Environmental SARF'!$F$13<>\"6) ...\"), \"   \"&CONCATENATE('Environmental SARF'!$M$18,'Environmental SARF'!$M$19),\"\")&IF(AND(NOT(ISBLANK('Environmental SARF'!N143)),'Environmental SARF'!$F$14<>\"7) NA\",'Environmental SARF'!$F$14<>\"7) ...\"), \"   \"&CONCATENATE('Environmental SARF'!$N$18,'Environmental SARF'!$N$19),\"\") &IF(AND(NOT(ISBLANK('Environmental SARF'!O143)),'Environmental SARF'!$F$15<>\"8) NA\",'Environmental SARF'!$F$15<>\"8) ...\"), \"   \"&CONCATENATE('Environmental SARF'!$O$18,'Environmental SARF'!$O$19),\"\"))","v":""}]
[{"$f":"IF(C126=\"\",\"\",IF('Environmental SARF'!B144=\"\",\"\",'Environmental SARF'!B144))","v":""},"",{"$f":"IF('Environmental SARF'!C144=\"\",\"\",'Environmental SARF'!C144)","v":""},{"$f":"IF(C126=\"\",\"\",IF('Environmental SARF'!D144=\"\",'Environmental SARF'!$C$10,'Environmental SARF'!D144))","v":""},{"$f":"IF(B126=\"\",\"\",IF('Environmental SARF'!E144=\"\",\"\",'Environmental SARF'!E144))","v":""},{"$f":"IF(B126=\"\",\"\",IF('Environmental SARF'!F144=\"\",\"\",'Environmental SARF'!F144))","v":""},{"$f":"IF(B126=\"\",\"\",IF('Environmental SARF'!G144=\"\",\"\",'Environmental SARF'!G144))","v":""},{"$f":"IF(C126=\"\",\"\",IF('Environmental SARF'!$N$6=\"\",\"\",CONCATENATE('Environmental SARF'!$N$6,'Environmental SARF'!$O$6)))","v":""},{"$f":"IF(C126=\"\",\"\",IF('Environmental SARF'!$N$2=\"\",\"\",'Environmental SARF'!$N$2))","v":""},{"$f":"IF(C126=\"\",\"\",IF('Environmental SARF'!$N$4=\"\",NOW(),'Environmental SARF'!$N$4))","v":""},"",{"$f":"IF(C126=\"\",\"\", IF(AND(NOT(ISBLANK('Environmental SARF'!H144)),'Environmental SARF'!$F$8<>\"1) NA\",'Environmental SARF'!$F$8<>\"1) ...\"), \"   \"&CONCATENATE('Environmental SARF'!$H$18,'Environmental SARF'!$H$19),\"\") & IF(AND(NOT(ISBLANK('Environmental SARF'!I144)),'Environmental SARF'!$F$9<>\"2) NA\",'Environmental SARF'!$F$9<>\"2) ...\"), \"   \"&CONCATENATE('Environmental SARF'!$I$18,'Environmental SARF'!$I$19),\"\")& IF(AND(NOT(ISBLANK('Environmental SARF'!J144)),'Environmental SARF'!$F$10<>\"3) NA\",'Environmental SARF'!$F$10<>\"3) ...\"), \"   \"&CONCATENATE('Environmental SARF'!$J$18,'Environmental SARF'!$J$19),\"\") & IF(AND(NOT(ISBLANK('Environmental SARF'!K144)),'Environmental SARF'!$F$11<>\"4) NA\",'Environmental SARF'!$F$11<>\"4) ...\"), \"   \"&CONCATENATE('Environmental SARF'!$K$18,'Environmental SARF'!$K$19),\"\")& IF(AND(NOT(ISBLANK('Environmental SARF'!L144)),'Environmental SARF'!$F$12<>\"5) NA\",'Environmental SARF'!$F$12<>\"5) ...\"), \"   \"&CONCATENATE('Environmental SARF'!$L$18,'Environmental SARF'!$L$19),\"\")&IF(AND(NOT(ISBLANK('Environmental SARF'!M144)),'Environmental SARF'!$F$13<>\"6) NA\",'Environmental SARF'!$F$13<>\"6) ...\"), \"   \"&CONCATENATE('Environmental SARF'!$M$18,'Environmental SARF'!$M$19),\"\")&IF(AND(NOT(ISBLANK('Environmental SARF'!N144)),'Environmental SARF'!$F$14<>\"7) NA\",'Environmental SARF'!$F$14<>\"7) ...\"), \"   \"&CONCATENATE('Environmental SARF'!$N$18,'Environmental SARF'!$N$19),\"\") &IF(AND(NOT(ISBLANK('Environmental SARF'!O144)),'Environmental SARF'!$F$15<>\"8) NA\",'Environmental SARF'!$F$15<>\"8) ...\"), \"   \"&CONCATENATE('Environmental SARF'!$O$18,'Environmental SARF'!$O$19),\"\"))","v":""}]
[{"$f":"IF(C127=\"\",\"\",IF('Environmental SARF'!B145=\"\",\"\",'Environmental SARF'!B145))","v":""},"",{"$f":"IF('Environmental SARF'!C145=\"\",\"\",'Environmental SARF'!C145)","v":""},{"$f":"IF(C127=\"\",\"\",IF('Environmental SARF'!D145=\"\",'Environmental SARF'!$C$10,'Environmental SARF'!D145))","v":""},{"$f":"IF(B127=\"\",\"\",IF('Environmental SARF'!E145=\"\",\"\",'Environmental SARF'!E145))","v":""},{"$f":"IF(B127=\"\",\"\",IF('Environmental SARF'!F145=\"\",\"\",'Environmental SARF'!F145))","v":""},{"$f":"IF(B127=\"\",\"\",IF('Environmental SARF'!G145=\"\",\"\",'Environmental SARF'!G145))","v":""},{"$f":"IF(C127=\"\",\"\",IF('Environmental SARF'!$N$6=\"\",\"\",CONCATENATE('Environmental SARF'!$N$6,'Environmental SARF'!$O$6)))","v":""},{"$f":"IF(C127=\"\",\"\",IF('Environmental SARF'!$N$2=\"\",\"\",'Environmental SARF'!$N$2))","v":""},{"$f":"IF(C127=\"\",\"\",IF('Environmental SARF'!$N$4=\"\",NOW(),'Environmental SARF'!$N$4))","v":""},"",{"$f":"IF(C127=\"\",\"\", IF(AND(NOT(ISBLANK('Environmental SARF'!H145)),'Environmental SARF'!$F$8<>\"1) NA\",'Environmental SARF'!$F$8<>\"1) ...\"), \"   \"&CONCATENATE('Environmental SARF'!$H$18,'Environmental SARF'!$H$19),\"\") & IF(AND(NOT(ISBLANK('Environmental SARF'!I145)),'Environmental SARF'!$F$9<>\"2) NA\",'Environmental SARF'!$F$9<>\"2) ...\"), \"   \"&CONCATENATE('Environmental SARF'!$I$18,'Environmental SARF'!$I$19),\"\")& IF(AND(NOT(ISBLANK('Environmental SARF'!J145)),'Environmental SARF'!$F$10<>\"3) NA\",'Environmental SARF'!$F$10<>\"3) ...\"), \"   \"&CONCATENATE('Environmental SARF'!$J$18,'Environmental SARF'!$J$19),\"\") & IF(AND(NOT(ISBLANK('Environmental SARF'!K145)),'Environmental SARF'!$F$11<>\"4) NA\",'Environmental SARF'!$F$11<>\"4) ...\"), \"   \"&CONCATENATE('Environmental SARF'!$K$18,'Environmental SARF'!$K$19),\"\")& IF(AND(NOT(ISBLANK('Environmental SARF'!L145)),'Environmental SARF'!$F$12<>\"5) NA\",'Environmental SARF'!$F$12<>\"5) ...\"), \"   \"&CONCATENATE('Environmental SARF'!$L$18,'Environmental SARF'!$L$19),\"\")&IF(AND(NOT(ISBLANK('Environmental SARF'!M145)),'Environmental SARF'!$F$13<>\"6) NA\",'Environmental SARF'!$F$13<>\"6) ...\"), \"   \"&CONCATENATE('Environmental SARF'!$M$18,'Environmental SARF'!$M$19),\"\")&IF(AND(NOT(ISBLANK('Environmental SARF'!N145)),'Environmental SARF'!$F$14<>\"7) NA\",'Environmental SARF'!$F$14<>\"7) ...\"), \"   \"&CONCATENATE('Environmental SARF'!$N$18,'Environmental SARF'!$N$19),\"\") &IF(AND(NOT(ISBLANK('Environmental SARF'!O145)),'Environmental SARF'!$F$15<>\"8) NA\",'Environmental SARF'!$F$15<>\"8) ...\"), \"   \"&CONCATENATE('Environmental SARF'!$O$18,'Environmental SARF'!$O$19),\"\"))","v":""}]
[{"$f":"IF(C128=\"\",\"\",IF('Environmental SARF'!B146=\"\",\"\",'Environmental SARF'!B146))","v":""},"",{"$f":"IF('Environmental SARF'!C146=\"\",\"\",'Environmental SARF'!C146)","v":""},{"$f":"IF(C128=\"\",\"\",IF('Environmental SARF'!D146=\"\",'Environmental SARF'!$C$10,'Environmental SARF'!D146))","v":""},{"$f":"IF(B128=\"\",\"\",IF('Environmental SARF'!E146=\"\",\"\",'Environmental SARF'!E146))","v":""},{"$f":"IF(B128=\"\",\"\",IF('Environmental SARF'!F146=\"\",\"\",'Environmental SARF'!F146))","v":""},{"$f":"IF(B128=\"\",\"\",IF('Environmental SARF'!G146=\"\",\"\",'Environmental SARF'!G146))","v":""},{"$f":"IF(C128=\"\",\"\",IF('Environmental SARF'!$N$6=\"\",\"\",CONCATENATE('Environmental SARF'!$N$6,'Environmental SARF'!$O$6)))","v":""},{"$f":"IF(C128=\"\",\"\",IF('Environmental SARF'!$N$2=\"\",\"\",'Environmental SARF'!$N$2))","v":""},{"$f":"IF(C128=\"\",\"\",IF('Environmental SARF'!$N$4=\"\",NOW(),'Environmental SARF'!$N$4))","v":""},"",{"$f":"IF(C128=\"\",\"\", IF(AND(NOT(ISBLANK('Environmental SARF'!H146)),'Environmental SARF'!$F$8<>\"1) NA\",'Environmental SARF'!$F$8<>\"1) ...\"), \"   \"&CONCATENATE('Environmental SARF'!$H$18,'Environmental SARF'!$H$19),\"\") & IF(AND(NOT(ISBLANK('Environmental SARF'!I146)),'Environmental SARF'!$F$9<>\"2) NA\",'Environmental SARF'!$F$9<>\"2) ...\"), \"   \"&CONCATENATE('Environmental SARF'!$I$18,'Environmental SARF'!$I$19),\"\")& IF(AND(NOT(ISBLANK('Environmental SARF'!J146)),'Environmental SARF'!$F$10<>\"3) NA\",'Environmental SARF'!$F$10<>\"3) ...\"), \"   \"&CONCATENATE('Environmental SARF'!$J$18,'Environmental SARF'!$J$19),\"\") & IF(AND(NOT(ISBLANK('Environmental SARF'!K146)),'Environmental SARF'!$F$11<>\"4) NA\",'Environmental SARF'!$F$11<>\"4) ...\"), \"   \"&CONCATENATE('Environmental SARF'!$K$18,'Environmental SARF'!$K$19),\"\")& IF(AND(NOT(ISBLANK('Environmental SARF'!L146)),'Environmental SARF'!$F$12<>\"5) NA\",'Environmental SARF'!$F$12<>\"5) ...\"), \"   \"&CONCATENATE('Environmental SARF'!$L$18,'Environmental SARF'!$L$19),\"\")&IF(AND(NOT(ISBLANK('Environmental SARF'!M146)),'Environmental SARF'!$F$13<>\"6) NA\",'Environmental SARF'!$F$13<>\"6) ...\"), \"   \"&CONCATENATE('Environmental SARF'!$M$18,'Environmental SARF'!$M$19),\"\")&IF(AND(NOT(ISBLANK('Environmental SARF'!N146)),'Environmental SARF'!$F$14<>\"7) NA\",'Environmental SARF'!$F$14<>\"7) ...\"), \"   \"&CONCATENATE('Environmental SARF'!$N$18,'Environmental SARF'!$N$19),\"\") &IF(AND(NOT(ISBLANK('Environmental SARF'!O146)),'Environmental SARF'!$F$15<>\"8) NA\",'Environmental SARF'!$F$15<>\"8) ...\"), \"   \"&CONCATENATE('Environmental SARF'!$O$18,'Environmental SARF'!$O$19),\"\"))","v":""}]
[{"$f":"IF(C129=\"\",\"\",IF('Environmental SARF'!B147=\"\",\"\",'Environmental SARF'!B147))","v":""},"",{"$f":"IF('Environmental SARF'!C147=\"\",\"\",'Environmental SARF'!C147)","v":""},{"$f":"IF(C129=\"\",\"\",IF('Environmental SARF'!D147=\"\",'Environmental SARF'!$C$10,'Environmental SARF'!D147))","v":""},{"$f":"IF(B129=\"\",\"\",IF('Environmental SARF'!E147=\"\",\"\",'Environmental SARF'!E147))","v":""},{"$f":"IF(B129=\"\",\"\",IF('Environmental SARF'!F147=\"\",\"\",'Environmental SARF'!F147))","v":""},{"$f":"IF(B129=\"\",\"\",IF('Environmental SARF'!G147=\"\",\"\",'Environmental SARF'!G147))","v":""},{"$f":"IF(C129=\"\",\"\",IF('Environmental SARF'!$N$6=\"\",\"\",CONCATENATE('Environmental SARF'!$N$6,'Environmental SARF'!$O$6)))","v":""},{"$f":"IF(C129=\"\",\"\",IF('Environmental SARF'!$N$2=\"\",\"\",'Environmental SARF'!$N$2))","v":""},{"$f":"IF(C129=\"\",\"\",IF('Environmental SARF'!$N$4=\"\",NOW(),'Environmental SARF'!$N$4))","v":""},"",{"$f":"IF(C129=\"\",\"\", IF(AND(NOT(ISBLANK('Environmental SARF'!H147)),'Environmental SARF'!$F$8<>\"1) NA\",'Environmental SARF'!$F$8<>\"1) ...\"), \"   \"&CONCATENATE('Environmental SARF'!$H$18,'Environmental SARF'!$H$19),\"\") & IF(AND(NOT(ISBLANK('Environmental SARF'!I147)),'Environmental SARF'!$F$9<>\"2) NA\",'Environmental SARF'!$F$9<>\"2) ...\"), \"   \"&CONCATENATE('Environmental SARF'!$I$18,'Environmental SARF'!$I$19),\"\")& IF(AND(NOT(ISBLANK('Environmental SARF'!J147)),'Environmental SARF'!$F$10<>\"3) NA\",'Environmental SARF'!$F$10<>\"3) ...\"), \"   \"&CONCATENATE('Environmental SARF'!$J$18,'Environmental SARF'!$J$19),\"\") & IF(AND(NOT(ISBLANK('Environmental SARF'!K147)),'Environmental SARF'!$F$11<>\"4) NA\",'Environmental SARF'!$F$11<>\"4) ...\"), \"   \"&CONCATENATE('Environmental SARF'!$K$18,'Environmental SARF'!$K$19),\"\")& IF(AND(NOT(ISBLANK('Environmental SARF'!L147)),'Environmental SARF'!$F$12<>\"5) NA\",'Environmental SARF'!$F$12<>\"5) ...\"), \"   \"&CONCATENATE('Environmental SARF'!$L$18,'Environmental SARF'!$L$19),\"\")&IF(AND(NOT(ISBLANK('Environmental SARF'!M147)),'Environmental SARF'!$F$13<>\"6) NA\",'Environmental SARF'!$F$13<>\"6) ...\"), \"   \"&CONCATENATE('Environmental SARF'!$M$18,'Environmental SARF'!$M$19),\"\")&IF(AND(NOT(ISBLANK('Environmental SARF'!N147)),'Environmental SARF'!$F$14<>\"7) NA\",'Environmental SARF'!$F$14<>\"7) ...\"), \"   \"&CONCATENATE('Environmental SARF'!$N$18,'Environmental SARF'!$N$19),\"\") &IF(AND(NOT(ISBLANK('Environmental SARF'!O147)),'Environmental SARF'!$F$15<>\"8) NA\",'Environmental SARF'!$F$15<>\"8) ...\"), \"   \"&CONCATENATE('Environmental SARF'!$O$18,'Environmental SARF'!$O$19),\"\"))","v":""}]
[{"$f":"IF(C130=\"\",\"\",IF('Environmental SARF'!B148=\"\",\"\",'Environmental SARF'!B148))","v":""},"",{"$f":"IF('Environmental SARF'!C148=\"\",\"\",'Environmental SARF'!C148)","v":""},{"$f":"IF(C130=\"\",\"\",IF('Environmental SARF'!D148=\"\",'Environmental SARF'!$C$10,'Environmental SARF'!D148))","v":""},{"$f":"IF(B130=\"\",\"\",IF('Environmental SARF'!E148=\"\",\"\",'Environmental SARF'!E148))","v":""},{"$f":"IF(B130=\"\",\"\",IF('Environmental SARF'!F148=\"\",\"\",'Environmental SARF'!F148))","v":""},{"$f":"IF(B130=\"\",\"\",IF('Environmental SARF'!G148=\"\",\"\",'Environmental SARF'!G148))","v":""},{"$f":"IF(C130=\"\",\"\",IF('Environmental SARF'!$N$6=\"\",\"\",CONCATENATE('Environmental SARF'!$N$6,'Environmental SARF'!$O$6)))","v":""},{"$f":"IF(C130=\"\",\"\",IF('Environmental SARF'!$N$2=\"\",\"\",'Environmental SARF'!$N$2))","v":""},{"$f":"IF(C130=\"\",\"\",IF('Environmental SARF'!$N$4=\"\",NOW(),'Environmental SARF'!$N$4))","v":""},"",{"$f":"IF(C130=\"\",\"\", IF(AND(NOT(ISBLANK('Environmental SARF'!H148)),'Environmental SARF'!$F$8<>\"1) NA\",'Environmental SARF'!$F$8<>\"1) ...\"), \"   \"&CONCATENATE('Environmental SARF'!$H$18,'Environmental SARF'!$H$19),\"\") & IF(AND(NOT(ISBLANK('Environmental SARF'!I148)),'Environmental SARF'!$F$9<>\"2) NA\",'Environmental SARF'!$F$9<>\"2) ...\"), \"   \"&CONCATENATE('Environmental SARF'!$I$18,'Environmental SARF'!$I$19),\"\")& IF(AND(NOT(ISBLANK('Environmental SARF'!J148)),'Environmental SARF'!$F$10<>\"3) NA\",'Environmental SARF'!$F$10<>\"3) ...\"), \"   \"&CONCATENATE('Environmental SARF'!$J$18,'Environmental SARF'!$J$19),\"\") & IF(AND(NOT(ISBLANK('Environmental SARF'!K148)),'Environmental SARF'!$F$11<>\"4) NA\",'Environmental SARF'!$F$11<>\"4) ...\"), \"   \"&CONCATENATE('Environmental SARF'!$K$18,'Environmental SARF'!$K$19),\"\")& IF(AND(NOT(ISBLANK('Environmental SARF'!L148)),'Environmental SARF'!$F$12<>\"5) NA\",'Environmental SARF'!$F$12<>\"5) ...\"), \"   \"&CONCATENATE('Environmental SARF'!$L$18,'Environmental SARF'!$L$19),\"\")&IF(AND(NOT(ISBLANK('Environmental SARF'!M148)),'Environmental SARF'!$F$13<>\"6) NA\",'Environmental SARF'!$F$13<>\"6) ...\"), \"   \"&CONCATENATE('Environmental SARF'!$M$18,'Environmental SARF'!$M$19),\"\")&IF(AND(NOT(ISBLANK('Environmental SARF'!N148)),'Environmental SARF'!$F$14<>\"7) NA\",'Environmental SARF'!$F$14<>\"7) ...\"), \"   \"&CONCATENATE('Environmental SARF'!$N$18,'Environmental SARF'!$N$19),\"\") &IF(AND(NOT(ISBLANK('Environmental SARF'!O148)),'Environmental SARF'!$F$15<>\"8) NA\",'Environmental SARF'!$F$15<>\"8) ...\"), \"   \"&CONCATENATE('Environmental SARF'!$O$18,'Environmental SARF'!$O$19),\"\"))","v":""}]
[{"$f":"IF(C131=\"\",\"\",IF('Environmental SARF'!B149=\"\",\"\",'Environmental SARF'!B149))","v":""},{"$f":"IF(C131=\"\",\"\",\"Environmental\")","v":""},{"$f":"IF('Environmental SARF'!C149=\"\",\"\",'Environmental SARF'!C149)","v":""},{"$f":"IF(C131=\"\",\"\",IF('Environmental SARF'!D149=\"\",'Environmental SARF'!$C$10,'Environmental SARF'!D149))","v":""},{"$f":"IF(B131=\"\",\"\",IF('Environmental SARF'!E149=\"\",\"\",'Environmental SARF'!E149))","v":""},{"$f":"IF(B131=\"\",\"\",IF('Environmental SARF'!F149=\"\",\"\",'Environmental SARF'!F149))","v":""},{"$f":"IF(B131=\"\",\"\",IF('Environmental SARF'!G149=\"\",\"\",'Environmental SARF'!G149))","v":""},{"$f":"IF(C131=\"\",\"\",IF('Environmental SARF'!$N$6=\"\",\"\",CONCATENATE('Environmental SARF'!$N$6,'Environmental SARF'!$O$6)))","v":""},{"$f":"IF(C131=\"\",\"\",IF('Environmental SARF'!$N$2=\"\",\"\",'Environmental SARF'!$N$2))","v":""},{"$f":"IF(C131=\"\",\"\",IF('Environmental SARF'!$N$4=\"\",NOW(),'Environmental SARF'!$N$4))","v":""},{"$f":"IF(C131=\"\",\"\",NOW())","v":""},{"$f":"IF(C131=\"\",\"\", IF(AND(NOT(ISBLANK('Environmental SARF'!H149)),'Environmental SARF'!$F$8<>\"1) NA\",'Environmental SARF'!$F$8<>\"1) ...\"), \"   \"&CONCATENATE('Environmental SARF'!$H$18,'Environmental SARF'!$H$19),\"\") & IF(AND(NOT(ISBLANK('Environmental SARF'!I149)),'Environmental SARF'!$F$9<>\"2) NA\",'Environmental SARF'!$F$9<>\"2) ...\"), \"   \"&CONCATENATE('Environmental SARF'!$I$18,'Environmental SARF'!$I$19),\"\")& IF(AND(NOT(ISBLANK('Environmental SARF'!J149)),'Environmental SARF'!$F$10<>\"3) NA\",'Environmental SARF'!$F$10<>\"3) ...\"), \"   \"&CONCATENATE('Environmental SARF'!$J$18,'Environmental SARF'!$J$19),\"\") & IF(AND(NOT(ISBLANK('Environmental SARF'!K149)),'Environmental SARF'!$F$11<>\"4) NA\",'Environmental SARF'!$F$11<>\"4) ...\"), \"   \"&CONCATENATE('Environmental SARF'!$K$18,'Environmental SARF'!$K$19),\"\")& IF(AND(NOT(ISBLANK('Environmental SARF'!L149)),'Environmental SARF'!$F$12<>\"5) NA\",'Environmental SARF'!$F$12<>\"5) ...\"), \"   \"&CONCATENATE('Environmental SARF'!$L$18,'Environmental SARF'!$L$19),\"\")&IF(AND(NOT(ISBLANK('Environmental SARF'!M149)),'Environmental SARF'!$F$13<>\"6) NA\",'Environmental SARF'!$F$13<>\"6) ...\"), \"   \"&CONCATENATE('Environmental SARF'!$M$18,'Environmental SARF'!$M$19),\"\")&IF(AND(NOT(ISBLANK('Environmental SARF'!N149)),'Environmental SARF'!$F$14<>\"7) NA\",'Environmental SARF'!$F$14<>\"7) ...\"), \"   \"&CONCATENATE('Environmental SARF'!$N$18,'Environmental SARF'!$N$19),\"\") &IF(AND(NOT(ISBLANK('Environmental SARF'!O149)),'Environmental SARF'!$F$15<>\"8) NA\",'Environmental SARF'!$F$15<>\"8) ...\"), \"   \"&CONCATENATE('Environmental SARF'!$O$18,'Environmental SARF'!$O$19),\"\"))","v":""}]
[{"$f":"IF(C132=\"\",\"\",IF('Environmental SARF'!B150=\"\",\"\",'Environmental SARF'!B150))","v":""},"",{"$f":"IF('Environmental SARF'!C150=\"\",\"\",'Environmental SARF'!C150)","v":""},{"$f":"IF(C132=\"\",\"\",IF('Environmental SARF'!D150=\"\",'Environmental SARF'!$C$10,'Environmental SARF'!D150))","v":""},{"$f":"IF(B132=\"\",\"\",IF('Environmental SARF'!E150=\"\",\"\",'Environmental SARF'!E150))","v":""},{"$f":"IF(B132=\"\",\"\",IF('Environmental SARF'!F150=\"\",\"\",'Environmental SARF'!F150))","v":""},{"$f":"IF(B132=\"\",\"\",IF('Environmental SARF'!G150=\"\",\"\",'Environmental SARF'!G150))","v":""},{"$f":"IF(C132=\"\",\"\",IF('Environmental SARF'!$N$6=\"\",\"\",CONCATENATE('Environmental SARF'!$N$6,'Environmental SARF'!$O$6)))","v":""},{"$f":"IF(C132=\"\",\"\",IF('Environmental SARF'!$N$2=\"\",\"\",'Environmental SARF'!$N$2))","v":""},{"$f":"IF(C132=\"\",\"\",IF('Environmental SARF'!$N$4=\"\",NOW(),'Environmental SARF'!$N$4))","v":""},"",{"$f":"IF(C132=\"\",\"\", IF(AND(NOT(ISBLANK('Environmental SARF'!H150)),'Environmental SARF'!$F$8<>\"1) NA\",'Environmental SARF'!$F$8<>\"1) ...\"), \"   \"&CONCATENATE('Environmental SARF'!$H$18,'Environmental SARF'!$H$19),\"\") & IF(AND(NOT(ISBLANK('Environmental SARF'!I150)),'Environmental SARF'!$F$9<>\"2) NA\",'Environmental SARF'!$F$9<>\"2) ...\"), \"   \"&CONCATENATE('Environmental SARF'!$I$18,'Environmental SARF'!$I$19),\"\")& IF(AND(NOT(ISBLANK('Environmental SARF'!J150)),'Environmental SARF'!$F$10<>\"3) NA\",'Environmental SARF'!$F$10<>\"3) ...\"), \"   \"&CONCATENATE('Environmental SARF'!$J$18,'Environmental SARF'!$J$19),\"\") & IF(AND(NOT(ISBLANK('Environmental SARF'!K150)),'Environmental SARF'!$F$11<>\"4) NA\",'Environmental SARF'!$F$11<>\"4) ...\"), \"   \"&CONCATENATE('Environmental SARF'!$K$18,'Environmental SARF'!$K$19),\"\")& IF(AND(NOT(ISBLANK('Environmental SARF'!L150)),'Environmental SARF'!$F$12<>\"5) NA\",'Environmental SARF'!$F$12<>\"5) ...\"), \"   \"&CONCATENATE('Environmental SARF'!$L$18,'Environmental SARF'!$L$19),\"\")&IF(AND(NOT(ISBLANK('Environmental SARF'!M150)),'Environmental SARF'!$F$13<>\"6) NA\",'Environmental SARF'!$F$13<>\"6) ...\"), \"   \"&CONCATENATE('Environmental SARF'!$M$18,'Environmental SARF'!$M$19),\"\")&IF(AND(NOT(ISBLANK('Environmental SARF'!N150)),'Environmental SARF'!$F$14<>\"7) NA\",'Environmental SARF'!$F$14<>\"7) ...\"), \"   \"&CONCATENATE('Environmental SARF'!$N$18,'Environmental SARF'!$N$19),\"\") &IF(AND(NOT(ISBLANK('Environmental SARF'!O150)),'Environmental SARF'!$F$15<>\"8) NA\",'Environmental SARF'!$F$15<>\"8) ...\"), \"   \"&CONCATENATE('Environmental SARF'!$O$18,'Environmental SARF'!$O$19),\"\"))","v":""}]
[{"$f":"IF(C133=\"\",\"\",IF('Environmental SARF'!B151=\"\",\"\",'Environmental SARF'!B151))","v":""},"",{"$f":"IF('Environmental SARF'!C151=\"\",\"\",'Environmental SARF'!C151)","v":""},{"$f":"IF(C133=\"\",\"\",IF('Environmental SARF'!D151=\"\",'Environmental SARF'!$C$10,'Environmental SARF'!D151))","v":""},{"$f":"IF(B133=\"\",\"\",IF('Environmental SARF'!E151=\"\",\"\",'Environmental SARF'!E151))","v":""},{"$f":"IF(B133=\"\",\"\",IF('Environmental SARF'!F151=\"\",\"\",'Environmental SARF'!F151))","v":""},{"$f":"IF(B133=\"\",\"\",IF('Environmental SARF'!G151=\"\",\"\",'Environmental SARF'!G151))","v":""},{"$f":"IF(C133=\"\",\"\",IF('Environmental SARF'!$N$6=\"\",\"\",CONCATENATE('Environmental SARF'!$N$6,'Environmental SARF'!$O$6)))","v":""},{"$f":"IF(C133=\"\",\"\",IF('Environmental SARF'!$N$2=\"\",\"\",'Environmental SARF'!$N$2))","v":""},{"$f":"IF(C133=\"\",\"\",IF('Environmental SARF'!$N$4=\"\",NOW(),'Environmental SARF'!$N$4))","v":""},"",{"$f":"IF(C133=\"\",\"\", IF(AND(NOT(ISBLANK('Environmental SARF'!H151)),'Environmental SARF'!$F$8<>\"1) NA\",'Environmental SARF'!$F$8<>\"1) ...\"), \"   \"&CONCATENATE('Environmental SARF'!$H$18,'Environmental SARF'!$H$19),\"\") & IF(AND(NOT(ISBLANK('Environmental SARF'!I151)),'Environmental SARF'!$F$9<>\"2) NA\",'Environmental SARF'!$F$9<>\"2) ...\"), \"   \"&CONCATENATE('Environmental SARF'!$I$18,'Environmental SARF'!$I$19),\"\")& IF(AND(NOT(ISBLANK('Environmental SARF'!J151)),'Environmental SARF'!$F$10<>\"3) NA\",'Environmental SARF'!$F$10<>\"3) ...\"), \"   \"&CONCATENATE('Environmental SARF'!$J$18,'Environmental SARF'!$J$19),\"\") & IF(AND(NOT(ISBLANK('Environmental SARF'!K151)),'Environmental SARF'!$F$11<>\"4) NA\",'Environmental SARF'!$F$11<>\"4) ...\"), \"   \"&CONCATENATE('Environmental SARF'!$K$18,'Environmental SARF'!$K$19),\"\")& IF(AND(NOT(ISBLANK('Environmental SARF'!L151)),'Environmental SARF'!$F$12<>\"5) NA\",'Environmental SARF'!$F$12<>\"5) ...\"), \"   \"&CONCATENATE('Environmental SARF'!$L$18,'Environmental SARF'!$L$19),\"\")&IF(AND(NOT(ISBLANK('Environmental SARF'!M151)),'Environmental SARF'!$F$13<>\"6) NA\",'Environmental SARF'!$F$13<>\"6) ...\"), \"   \"&CONCATENATE('Environmental SARF'!$M$18,'Environmental SARF'!$M$19),\"\")&IF(AND(NOT(ISBLANK('Environmental SARF'!N151)),'Environmental SARF'!$F$14<>\"7) NA\",'Environmental SARF'!$F$14<>\"7) ...\"), \"   \"&CONCATENATE('Environmental SARF'!$N$18,'Environmental SARF'!$N$19),\"\") &IF(AND(NOT(ISBLANK('Environmental SARF'!O151)),'Environmental SARF'!$F$15<>\"8) NA\",'Environmental SARF'!$F$15<>\"8) ...\"), \"   \"&CONCATENATE('Environmental SARF'!$O$18,'Environmental SARF'!$O$19),\"\"))","v":""}]
[{"$f":"IF(C134=\"\",\"\",IF('Environmental SARF'!B152=\"\",\"\",'Environmental SARF'!B152))","v":""},"",{"$f":"IF('Environmental SARF'!C152=\"\",\"\",'Environmental SARF'!C152)","v":""},{"$f":"IF(C134=\"\",\"\",IF('Environmental SARF'!D152=\"\",'Environmental SARF'!$C$10,'Environmental SARF'!D152))","v":""},{"$f":"IF(B134=\"\",\"\",IF('Environmental SARF'!E152=\"\",\"\",'Environmental SARF'!E152))","v":""},{"$f":"IF(B134=\"\",\"\",IF('Environmental SARF'!F152=\"\",\"\",'Environmental SARF'!F152))","v":""},{"$f":"IF(B134=\"\",\"\",IF('Environmental SARF'!G152=\"\",\"\",'Environmental SARF'!G152))","v":""},{"$f":"IF(C134=\"\",\"\",IF('Environmental SARF'!$N$6=\"\",\"\",CONCATENATE('Environmental SARF'!$N$6,'Environmental SARF'!$O$6)))","v":""},{"$f":"IF(C134=\"\",\"\",IF('Environmental SARF'!$N$2=\"\",\"\",'Environmental SARF'!$N$2))","v":""},{"$f":"IF(C134=\"\",\"\",IF('Environmental SARF'!$N$4=\"\",NOW(),'Environmental SARF'!$N$4))","v":""},"",{"$f":"IF(C134=\"\",\"\", IF(AND(NOT(ISBLANK('Environmental SARF'!H152)),'Environmental SARF'!$F$8<>\"1) NA\",'Environmental SARF'!$F$8<>\"1) ...\"), \"   \"&CONCATENATE('Environmental SARF'!$H$18,'Environmental SARF'!$H$19),\"\") & IF(AND(NOT(ISBLANK('Environmental SARF'!I152)),'Environmental SARF'!$F$9<>\"2) NA\",'Environmental SARF'!$F$9<>\"2) ...\"), \"   \"&CONCATENATE('Environmental SARF'!$I$18,'Environmental SARF'!$I$19),\"\")& IF(AND(NOT(ISBLANK('Environmental SARF'!J152)),'Environmental SARF'!$F$10<>\"3) NA\",'Environmental SARF'!$F$10<>\"3) ...\"), \"   \"&CONCATENATE('Environmental SARF'!$J$18,'Environmental SARF'!$J$19),\"\") & IF(AND(NOT(ISBLANK('Environmental SARF'!K152)),'Environmental SARF'!$F$11<>\"4) NA\",'Environmental SARF'!$F$11<>\"4) ...\"), \"   \"&CONCATENATE('Environmental SARF'!$K$18,'Environmental SARF'!$K$19),\"\")& IF(AND(NOT(ISBLANK('Environmental SARF'!L152)),'Environmental SARF'!$F$12<>\"5) NA\",'Environmental SARF'!$F$12<>\"5) ...\"), \"   \"&CONCATENATE('Environmental SARF'!$L$18,'Environmental SARF'!$L$19),\"\")&IF(AND(NOT(ISBLANK('Environmental SARF'!M152)),'Environmental SARF'!$F$13<>\"6) NA\",'Environmental SARF'!$F$13<>\"6) ...\"), \"   \"&CONCATENATE('Environmental SARF'!$M$18,'Environmental SARF'!$M$19),\"\")&IF(AND(NOT(ISBLANK('Environmental SARF'!N152)),'Environmental SARF'!$F$14<>\"7) NA\",'Environmental SARF'!$F$14<>\"7) ...\"), \"   \"&CONCATENATE('Environmental SARF'!$N$18,'Environmental SARF'!$N$19),\"\") &IF(AND(NOT(ISBLANK('Environmental SARF'!O152)),'Environmental SARF'!$F$15<>\"8) NA\",'Environmental SARF'!$F$15<>\"8) ...\"), \"   \"&CONCATENATE('Environmental SARF'!$O$18,'Environmental SARF'!$O$19),\"\"))","v":""}]
[{"$f":"IF(C135=\"\",\"\",IF('Environmental SARF'!B153=\"\",\"\",'Environmental SARF'!B153))","v":""},"",{"$f":"IF('Environmental SARF'!C153=\"\",\"\",'Environmental SARF'!C153)","v":""},{"$f":"IF(C135=\"\",\"\",IF('Environmental SARF'!D153=\"\",'Environmental SARF'!$C$10,'Environmental SARF'!D153))","v":""},{"$f":"IF(B135=\"\",\"\",IF('Environmental SARF'!E153=\"\",\"\",'Environmental SARF'!E153))","v":""},{"$f":"IF(B135=\"\",\"\",IF('Environmental SARF'!F153=\"\",\"\",'Environmental SARF'!F153))","v":""},{"$f":"IF(B135=\"\",\"\",IF('Environmental SARF'!G153=\"\",\"\",'Environmental SARF'!G153))","v":""},{"$f":"IF(C135=\"\",\"\",IF('Environmental SARF'!$N$6=\"\",\"\",CONCATENATE('Environmental SARF'!$N$6,'Environmental SARF'!$O$6)))","v":""},{"$f":"IF(C135=\"\",\"\",IF('Environmental SARF'!$N$2=\"\",\"\",'Environmental SARF'!$N$2))","v":""},{"$f":"IF(C135=\"\",\"\",IF('Environmental SARF'!$N$4=\"\",NOW(),'Environmental SARF'!$N$4))","v":""},"",{"$f":"IF(C135=\"\",\"\", IF(AND(NOT(ISBLANK('Environmental SARF'!H153)),'Environmental SARF'!$F$8<>\"1) NA\",'Environmental SARF'!$F$8<>\"1) ...\"), \"   \"&CONCATENATE('Environmental SARF'!$H$18,'Environmental SARF'!$H$19),\"\") & IF(AND(NOT(ISBLANK('Environmental SARF'!I153)),'Environmental SARF'!$F$9<>\"2) NA\",'Environmental SARF'!$F$9<>\"2) ...\"), \"   \"&CONCATENATE('Environmental SARF'!$I$18,'Environmental SARF'!$I$19),\"\")& IF(AND(NOT(ISBLANK('Environmental SARF'!J153)),'Environmental SARF'!$F$10<>\"3) NA\",'Environmental SARF'!$F$10<>\"3) ...\"), \"   \"&CONCATENATE('Environmental SARF'!$J$18,'Environmental SARF'!$J$19),\"\") & IF(AND(NOT(ISBLANK('Environmental SARF'!K153)),'Environmental SARF'!$F$11<>\"4) NA\",'Environmental SARF'!$F$11<>\"4) ...\"), \"   \"&CONCATENATE('Environmental SARF'!$K$18,'Environmental SARF'!$K$19),\"\")& IF(AND(NOT(ISBLANK('Environmental SARF'!L153)),'Environmental SARF'!$F$12<>\"5) NA\",'Environmental SARF'!$F$12<>\"5) ...\"), \"   \"&CONCATENATE('Environmental SARF'!$L$18,'Environmental SARF'!$L$19),\"\")&IF(AND(NOT(ISBLANK('Environmental SARF'!M153)),'Environmental SARF'!$F$13<>\"6) NA\",'Environmental SARF'!$F$13<>\"6) ...\"), \"   \"&CONCATENATE('Environmental SARF'!$M$18,'Environmental SARF'!$M$19),\"\")&IF(AND(NOT(ISBLANK('Environmental SARF'!N153)),'Environmental SARF'!$F$14<>\"7) NA\",'Environmental SARF'!$F$14<>\"7) ...\"), \"   \"&CONCATENATE('Environmental SARF'!$N$18,'Environmental SARF'!$N$19),\"\") &IF(AND(NOT(ISBLANK('Environmental SARF'!O153)),'Environmental SARF'!$F$15<>\"8) NA\",'Environmental SARF'!$F$15<>\"8) ...\"), \"   \"&CONCATENATE('Environmental SARF'!$O$18,'Environmental SARF'!$O$19),\"\"))","v":""}]
[{"$f":"IF(C136=\"\",\"\",IF('Environmental SARF'!B154=\"\",\"\",'Environmental SARF'!B154))","v":""},"",{"$f":"IF('Environmental SARF'!C154=\"\",\"\",'Environmental SARF'!C154)","v":""},{"$f":"IF(C136=\"\",\"\",IF('Environmental SARF'!D154=\"\",'Environmental SARF'!$C$10,'Environmental SARF'!D154))","v":""},{"$f":"IF(B136=\"\",\"\",IF('Environmental SARF'!E154=\"\",\"\",'Environmental SARF'!E154))","v":""},{"$f":"IF(B136=\"\",\"\",IF('Environmental SARF'!F154=\"\",\"\",'Environmental SARF'!F154))","v":""},{"$f":"IF(B136=\"\",\"\",IF('Environmental SARF'!G154=\"\",\"\",'Environmental SARF'!G154))","v":""},{"$f":"IF(C136=\"\",\"\",IF('Environmental SARF'!$N$6=\"\",\"\",CONCATENATE('Environmental SARF'!$N$6,'Environmental SARF'!$O$6)))","v":""},{"$f":"IF(C136=\"\",\"\",IF('Environmental SARF'!$N$2=\"\",\"\",'Environmental SARF'!$N$2))","v":""},{"$f":"IF(C136=\"\",\"\",IF('Environmental SARF'!$N$4=\"\",NOW(),'Environmental SARF'!$N$4))","v":""},"",{"$f":"IF(C136=\"\",\"\", IF(AND(NOT(ISBLANK('Environmental SARF'!H154)),'Environmental SARF'!$F$8<>\"1) NA\",'Environmental SARF'!$F$8<>\"1) ...\"), \"   \"&CONCATENATE('Environmental SARF'!$H$18,'Environmental SARF'!$H$19),\"\") & IF(AND(NOT(ISBLANK('Environmental SARF'!I154)),'Environmental SARF'!$F$9<>\"2) NA\",'Environmental SARF'!$F$9<>\"2) ...\"), \"   \"&CONCATENATE('Environmental SARF'!$I$18,'Environmental SARF'!$I$19),\"\")& IF(AND(NOT(ISBLANK('Environmental SARF'!J154)),'Environmental SARF'!$F$10<>\"3) NA\",'Environmental SARF'!$F$10<>\"3) ...\"), \"   \"&CONCATENATE('Environmental SARF'!$J$18,'Environmental SARF'!$J$19),\"\") & IF(AND(NOT(ISBLANK('Environmental SARF'!K154)),'Environmental SARF'!$F$11<>\"4) NA\",'Environmental SARF'!$F$11<>\"4) ...\"), \"   \"&CONCATENATE('Environmental SARF'!$K$18,'Environmental SARF'!$K$19),\"\")& IF(AND(NOT(ISBLANK('Environmental SARF'!L154)),'Environmental SARF'!$F$12<>\"5) NA\",'Environmental SARF'!$F$12<>\"5) ...\"), \"   \"&CONCATENATE('Environmental SARF'!$L$18,'Environmental SARF'!$L$19),\"\")&IF(AND(NOT(ISBLANK('Environmental SARF'!M154)),'Environmental SARF'!$F$13<>\"6) NA\",'Environmental SARF'!$F$13<>\"6) ...\"), \"   \"&CONCATENATE('Environmental SARF'!$M$18,'Environmental SARF'!$M$19),\"\")&IF(AND(NOT(ISBLANK('Environmental SARF'!N154)),'Environmental SARF'!$F$14<>\"7) NA\",'Environmental SARF'!$F$14<>\"7) ...\"), \"   \"&CONCATENATE('Environmental SARF'!$N$18,'Environmental SARF'!$N$19),\"\") &IF(AND(NOT(ISBLANK('Environmental SARF'!O154)),'Environmental SARF'!$F$15<>\"8) NA\",'Environmental SARF'!$F$15<>\"8) ...\"), \"   \"&CONCATENATE('Environmental SARF'!$O$18,'Environmental SARF'!$O$19),\"\"))","v":""}]
[{"$f":"IF(C137=\"\",\"\",IF('Environmental SARF'!B155=\"\",\"\",'Environmental SARF'!B155))","v":""},"",{"$f":"IF('Environmental SARF'!C155=\"\",\"\",'Environmental SARF'!C155)","v":""},{"$f":"IF(C137=\"\",\"\",IF('Environmental SARF'!D155=\"\",'Environmental SARF'!$C$10,'Environmental SARF'!D155))","v":""},{"$f":"IF(B137=\"\",\"\",IF('Environmental SARF'!E155=\"\",\"\",'Environmental SARF'!E155))","v":""},{"$f":"IF(B137=\"\",\"\",IF('Environmental SARF'!F155=\"\",\"\",'Environmental SARF'!F155))","v":""},{"$f":"IF(B137=\"\",\"\",IF('Environmental SARF'!G155=\"\",\"\",'Environmental SARF'!G155))","v":""},{"$f":"IF(C137=\"\",\"\",IF('Environmental SARF'!$N$6=\"\",\"\",CONCATENATE('Environmental SARF'!$N$6,'Environmental SARF'!$O$6)))","v":""},{"$f":"IF(C137=\"\",\"\",IF('Environmental SARF'!$N$2=\"\",\"\",'Environmental SARF'!$N$2))","v":""},{"$f":"IF(C137=\"\",\"\",IF('Environmental SARF'!$N$4=\"\",NOW(),'Environmental SARF'!$N$4))","v":""},"",{"$f":"IF(C137=\"\",\"\", IF(AND(NOT(ISBLANK('Environmental SARF'!H155)),'Environmental SARF'!$F$8<>\"1) NA\",'Environmental SARF'!$F$8<>\"1) ...\"), \"   \"&CONCATENATE('Environmental SARF'!$H$18,'Environmental SARF'!$H$19),\"\") & IF(AND(NOT(ISBLANK('Environmental SARF'!I155)),'Environmental SARF'!$F$9<>\"2) NA\",'Environmental SARF'!$F$9<>\"2) ...\"), \"   \"&CONCATENATE('Environmental SARF'!$I$18,'Environmental SARF'!$I$19),\"\")& IF(AND(NOT(ISBLANK('Environmental SARF'!J155)),'Environmental SARF'!$F$10<>\"3) NA\",'Environmental SARF'!$F$10<>\"3) ...\"), \"   \"&CONCATENATE('Environmental SARF'!$J$18,'Environmental SARF'!$J$19),\"\") & IF(AND(NOT(ISBLANK('Environmental SARF'!K155)),'Environmental SARF'!$F$11<>\"4) NA\",'Environmental SARF'!$F$11<>\"4) ...\"), \"   \"&CONCATENATE('Environmental SARF'!$K$18,'Environmental SARF'!$K$19),\"\")& IF(AND(NOT(ISBLANK('Environmental SARF'!L155)),'Environmental SARF'!$F$12<>\"5) NA\",'Environmental SARF'!$F$12<>\"5) ...\"), \"   \"&CONCATENATE('Environmental SARF'!$L$18,'Environmental SARF'!$L$19),\"\")&IF(AND(NOT(ISBLANK('Environmental SARF'!M155)),'Environmental SARF'!$F$13<>\"6) NA\",'Environmental SARF'!$F$13<>\"6) ...\"), \"   \"&CONCATENATE('Environmental SARF'!$M$18,'Environmental SARF'!$M$19),\"\")&IF(AND(NOT(ISBLANK('Environmental SARF'!N155)),'Environmental SARF'!$F$14<>\"7) NA\",'Environmental SARF'!$F$14<>\"7) ...\"), \"   \"&CONCATENATE('Environmental SARF'!$N$18,'Environmental SARF'!$N$19),\"\") &IF(AND(NOT(ISBLANK('Environmental SARF'!O155)),'Environmental SARF'!$F$15<>\"8) NA\",'Environmental SARF'!$F$15<>\"8) ...\"), \"   \"&CONCATENATE('Environmental SARF'!$O$18,'Environmental SARF'!$O$19),\"\"))","v":""}]
[{"$f":"IF(C138=\"\",\"\",IF('Environmental SARF'!B156=\"\",\"\",'Environmental SARF'!B156))","v":""},"",{"$f":"IF('Environmental SARF'!C156=\"\",\"\",'Environmental SARF'!C156)","v":""},{"$f":"IF(C138=\"\",\"\",IF('Environmental SARF'!D156=\"\",'Environmental SARF'!$C$10,'Environmental SARF'!D156))","v":""},{"$f":"IF(B138=\"\",\"\",IF('Environmental SARF'!E156=\"\",\"\",'Environmental SARF'!E156))","v":""},{"$f":"IF(B138=\"\",\"\",IF('Environmental SARF'!F156=\"\",\"\",'Environmental SARF'!F156))","v":""},{"$f":"IF(B138=\"\",\"\",IF('Environmental SARF'!G156=\"\",\"\",'Environmental SARF'!G156))","v":""},{"$f":"IF(C138=\"\",\"\",IF('Environmental SARF'!$N$6=\"\",\"\",CONCATENATE('Environmental SARF'!$N$6,'Environmental SARF'!$O$6)))","v":""},{"$f":"IF(C138=\"\",\"\",IF('Environmental SARF'!$N$2=\"\",\"\",'Environmental SARF'!$N$2))","v":""},{"$f":"IF(C138=\"\",\"\",IF('Environmental SARF'!$N$4=\"\",NOW(),'Environmental SARF'!$N$4))","v":""},"",{"$f":"IF(C138=\"\",\"\", IF(AND(NOT(ISBLANK('Environmental SARF'!H156)),'Environmental SARF'!$F$8<>\"1) NA\",'Environmental SARF'!$F$8<>\"1) ...\"), \"   \"&CONCATENATE('Environmental SARF'!$H$18,'Environmental SARF'!$H$19),\"\") & IF(AND(NOT(ISBLANK('Environmental SARF'!I156)),'Environmental SARF'!$F$9<>\"2) NA\",'Environmental SARF'!$F$9<>\"2) ...\"), \"   \"&CONCATENATE('Environmental SARF'!$I$18,'Environmental SARF'!$I$19),\"\")& IF(AND(NOT(ISBLANK('Environmental SARF'!J156)),'Environmental SARF'!$F$10<>\"3) NA\",'Environmental SARF'!$F$10<>\"3) ...\"), \"   \"&CONCATENATE('Environmental SARF'!$J$18,'Environmental SARF'!$J$19),\"\") & IF(AND(NOT(ISBLANK('Environmental SARF'!K156)),'Environmental SARF'!$F$11<>\"4) NA\",'Environmental SARF'!$F$11<>\"4) ...\"), \"   \"&CONCATENATE('Environmental SARF'!$K$18,'Environmental SARF'!$K$19),\"\")& IF(AND(NOT(ISBLANK('Environmental SARF'!L156)),'Environmental SARF'!$F$12<>\"5) NA\",'Environmental SARF'!$F$12<>\"5) ...\"), \"   \"&CONCATENATE('Environmental SARF'!$L$18,'Environmental SARF'!$L$19),\"\")&IF(AND(NOT(ISBLANK('Environmental SARF'!M156)),'Environmental SARF'!$F$13<>\"6) NA\",'Environmental SARF'!$F$13<>\"6) ...\"), \"   \"&CONCATENATE('Environmental SARF'!$M$18,'Environmental SARF'!$M$19),\"\")&IF(AND(NOT(ISBLANK('Environmental SARF'!N156)),'Environmental SARF'!$F$14<>\"7) NA\",'Environmental SARF'!$F$14<>\"7) ...\"), \"   \"&CONCATENATE('Environmental SARF'!$N$18,'Environmental SARF'!$N$19),\"\") &IF(AND(NOT(ISBLANK('Environmental SARF'!O156)),'Environmental SARF'!$F$15<>\"8) NA\",'Environmental SARF'!$F$15<>\"8) ...\"), \"   \"&CONCATENATE('Environmental SARF'!$O$18,'Environmental SARF'!$O$19),\"\"))","v":""}]
[{"$f":"IF(C139=\"\",\"\",IF('Environmental SARF'!B157=\"\",\"\",'Environmental SARF'!B157))","v":""},"",{"$f":"IF('Environmental SARF'!C157=\"\",\"\",'Environmental SARF'!C157)","v":""},{"$f":"IF(C139=\"\",\"\",IF('Environmental SARF'!D157=\"\",'Environmental SARF'!$C$10,'Environmental SARF'!D157))","v":""},{"$f":"IF(B139=\"\",\"\",IF('Environmental SARF'!E157=\"\",\"\",'Environmental SARF'!E157))","v":""},{"$f":"IF(B139=\"\",\"\",IF('Environmental SARF'!F157=\"\",\"\",'Environmental SARF'!F157))","v":""},{"$f":"IF(B139=\"\",\"\",IF('Environmental SARF'!G157=\"\",\"\",'Environmental SARF'!G157))","v":""},{"$f":"IF(C139=\"\",\"\",IF('Environmental SARF'!$N$6=\"\",\"\",CONCATENATE('Environmental SARF'!$N$6,'Environmental SARF'!$O$6)))","v":""},{"$f":"IF(C139=\"\",\"\",IF('Environmental SARF'!$N$2=\"\",\"\",'Environmental SARF'!$N$2))","v":""},{"$f":"IF(C139=\"\",\"\",IF('Environmental SARF'!$N$4=\"\",NOW(),'Environmental SARF'!$N$4))","v":""},"",{"$f":"IF(C139=\"\",\"\", IF(AND(NOT(ISBLANK('Environmental SARF'!H157)),'Environmental SARF'!$F$8<>\"1) NA\",'Environmental SARF'!$F$8<>\"1) ...\"), \"   \"&CONCATENATE('Environmental SARF'!$H$18,'Environmental SARF'!$H$19),\"\") & IF(AND(NOT(ISBLANK('Environmental SARF'!I157)),'Environmental SARF'!$F$9<>\"2) NA\",'Environmental SARF'!$F$9<>\"2) ...\"), \"   \"&CONCATENATE('Environmental SARF'!$I$18,'Environmental SARF'!$I$19),\"\")& IF(AND(NOT(ISBLANK('Environmental SARF'!J157)),'Environmental SARF'!$F$10<>\"3) NA\",'Environmental SARF'!$F$10<>\"3) ...\"), \"   \"&CONCATENATE('Environmental SARF'!$J$18,'Environmental SARF'!$J$19),\"\") & IF(AND(NOT(ISBLANK('Environmental SARF'!K157)),'Environmental SARF'!$F$11<>\"4) NA\",'Environmental SARF'!$F$11<>\"4) ...\"), \"   \"&CONCATENATE('Environmental SARF'!$K$18,'Environmental SARF'!$K$19),\"\")& IF(AND(NOT(ISBLANK('Environmental SARF'!L157)),'Environmental SARF'!$F$12<>\"5) NA\",'Environmental SARF'!$F$12<>\"5) ...\"), \"   \"&CONCATENATE('Environmental SARF'!$L$18,'Environmental SARF'!$L$19),\"\")&IF(AND(NOT(ISBLANK('Environmental SARF'!M157)),'Environmental SARF'!$F$13<>\"6) NA\",'Environmental SARF'!$F$13<>\"6) ...\"), \"   \"&CONCATENATE('Environmental SARF'!$M$18,'Environmental SARF'!$M$19),\"\")&IF(AND(NOT(ISBLANK('Environmental SARF'!N157)),'Environmental SARF'!$F$14<>\"7) NA\",'Environmental SARF'!$F$14<>\"7) ...\"), \"   \"&CONCATENATE('Environmental SARF'!$N$18,'Environmental SARF'!$N$19),\"\") &IF(AND(NOT(ISBLANK('Environmental SARF'!O157)),'Environmental SARF'!$F$15<>\"8) NA\",'Environmental SARF'!$F$15<>\"8) ...\"), \"   \"&CONCATENATE('Environmental SARF'!$O$18,'Environmental SARF'!$O$19),\"\"))","v":""}]
[{"$f":"IF(C140=\"\",\"\",IF('Environmental SARF'!B158=\"\",\"\",'Environmental SARF'!B158))","v":""},"",{"$f":"IF('Environmental SARF'!C158=\"\",\"\",'Environmental SARF'!C158)","v":""},{"$f":"IF(C140=\"\",\"\",IF('Environmental SARF'!D158=\"\",'Environmental SARF'!$C$10,'Environmental SARF'!D158))","v":""},{"$f":"IF(B140=\"\",\"\",IF('Environmental SARF'!E158=\"\",\"\",'Environmental SARF'!E158))","v":""},{"$f":"IF(B140=\"\",\"\",IF('Environmental SARF'!F158=\"\",\"\",'Environmental SARF'!F158))","v":""},{"$f":"IF(B140=\"\",\"\",IF('Environmental SARF'!G158=\"\",\"\",'Environmental SARF'!G158))","v":""},{"$f":"IF(C140=\"\",\"\",IF('Environmental SARF'!$N$6=\"\",\"\",CONCATENATE('Environmental SARF'!$N$6,'Environmental SARF'!$O$6)))","v":""},{"$f":"IF(C140=\"\",\"\",IF('Environmental SARF'!$N$2=\"\",\"\",'Environmental SARF'!$N$2))","v":""},{"$f":"IF(C140=\"\",\"\",IF('Environmental SARF'!$N$4=\"\",NOW(),'Environmental SARF'!$N$4))","v":""},"",{"$f":"IF(C140=\"\",\"\", IF(AND(NOT(ISBLANK('Environmental SARF'!H158)),'Environmental SARF'!$F$8<>\"1) NA\",'Environmental SARF'!$F$8<>\"1) ...\"), \"   \"&CONCATENATE('Environmental SARF'!$H$18,'Environmental SARF'!$H$19),\"\") & IF(AND(NOT(ISBLANK('Environmental SARF'!I158)),'Environmental SARF'!$F$9<>\"2) NA\",'Environmental SARF'!$F$9<>\"2) ...\"), \"   \"&CONCATENATE('Environmental SARF'!$I$18,'Environmental SARF'!$I$19),\"\")& IF(AND(NOT(ISBLANK('Environmental SARF'!J158)),'Environmental SARF'!$F$10<>\"3) NA\",'Environmental SARF'!$F$10<>\"3) ...\"), \"   \"&CONCATENATE('Environmental SARF'!$J$18,'Environmental SARF'!$J$19),\"\") & IF(AND(NOT(ISBLANK('Environmental SARF'!K158)),'Environmental SARF'!$F$11<>\"4) NA\",'Environmental SARF'!$F$11<>\"4) ...\"), \"   \"&CONCATENATE('Environmental SARF'!$K$18,'Environmental SARF'!$K$19),\"\")& IF(AND(NOT(ISBLANK('Environmental SARF'!L158)),'Environmental SARF'!$F$12<>\"5) NA\",'Environmental SARF'!$F$12<>\"5) ...\"), \"   \"&CONCATENATE('Environmental SARF'!$L$18,'Environmental SARF'!$L$19),\"\")&IF(AND(NOT(ISBLANK('Environmental SARF'!M158)),'Environmental SARF'!$F$13<>\"6) NA\",'Environmental SARF'!$F$13<>\"6) ...\"), \"   \"&CONCATENATE('Environmental SARF'!$M$18,'Environmental SARF'!$M$19),\"\")&IF(AND(NOT(ISBLANK('Environmental SARF'!N158)),'Environmental SARF'!$F$14<>\"7) NA\",'Environmental SARF'!$F$14<>\"7) ...\"), \"   \"&CONCATENATE('Environmental SARF'!$N$18,'Environmental SARF'!$N$19),\"\") &IF(AND(NOT(ISBLANK('Environmental SARF'!O158)),'Environmental SARF'!$F$15<>\"8) NA\",'Environmental SARF'!$F$15<>\"8) ...\"), \"   \"&CONCATENATE('Environmental SARF'!$O$18,'Environmental SARF'!$O$19),\"\"))","v":""}]
[{"$f":"IF(C141=\"\",\"\",IF('Environmental SARF'!B159=\"\",\"\",'Environmental SARF'!B159))","v":""},"",{"$f":"IF('Environmental SARF'!C159=\"\",\"\",'Environmental SARF'!C159)","v":""},{"$f":"IF(C141=\"\",\"\",IF('Environmental SARF'!D159=\"\",'Environmental SARF'!$C$10,'Environmental SARF'!D159))","v":""},{"$f":"IF(B141=\"\",\"\",IF('Environmental SARF'!E159=\"\",\"\",'Environmental SARF'!E159))","v":""},{"$f":"IF(B141=\"\",\"\",IF('Environmental SARF'!F159=\"\",\"\",'Environmental SARF'!F159))","v":""},{"$f":"IF(B141=\"\",\"\",IF('Environmental SARF'!G159=\"\",\"\",'Environmental SARF'!G159))","v":""},{"$f":"IF(C141=\"\",\"\",IF('Environmental SARF'!$N$6=\"\",\"\",CONCATENATE('Environmental SARF'!$N$6,'Environmental SARF'!$O$6)))","v":""},{"$f":"IF(C141=\"\",\"\",IF('Environmental SARF'!$N$2=\"\",\"\",'Environmental SARF'!$N$2))","v":""},{"$f":"IF(C141=\"\",\"\",IF('Environmental SARF'!$N$4=\"\",NOW(),'Environmental SARF'!$N$4))","v":""},"",{"$f":"IF(C141=\"\",\"\", IF(AND(NOT(ISBLANK('Environmental SARF'!H159)),'Environmental SARF'!$F$8<>\"1) NA\",'Environmental SARF'!$F$8<>\"1) ...\"), \"   \"&CONCATENATE('Environmental SARF'!$H$18,'Environmental SARF'!$H$19),\"\") & IF(AND(NOT(ISBLANK('Environmental SARF'!I159)),'Environmental SARF'!$F$9<>\"2) NA\",'Environmental SARF'!$F$9<>\"2) ...\"), \"   \"&CONCATENATE('Environmental SARF'!$I$18,'Environmental SARF'!$I$19),\"\")& IF(AND(NOT(ISBLANK('Environmental SARF'!J159)),'Environmental SARF'!$F$10<>\"3) NA\",'Environmental SARF'!$F$10<>\"3) ...\"), \"   \"&CONCATENATE('Environmental SARF'!$J$18,'Environmental SARF'!$J$19),\"\") & IF(AND(NOT(ISBLANK('Environmental SARF'!K159)),'Environmental SARF'!$F$11<>\"4) NA\",'Environmental SARF'!$F$11<>\"4) ...\"), \"   \"&CONCATENATE('Environmental SARF'!$K$18,'Environmental SARF'!$K$19),\"\")& IF(AND(NOT(ISBLANK('Environmental SARF'!L159)),'Environmental SARF'!$F$12<>\"5) NA\",'Environmental SARF'!$F$12<>\"5) ...\"), \"   \"&CONCATENATE('Environmental SARF'!$L$18,'Environmental SARF'!$L$19),\"\")&IF(AND(NOT(ISBLANK('Environmental SARF'!M159)),'Environmental SARF'!$F$13<>\"6) NA\",'Environmental SARF'!$F$13<>\"6) ...\"), \"   \"&CONCATENATE('Environmental SARF'!$M$18,'Environmental SARF'!$M$19),\"\")&IF(AND(NOT(ISBLANK('Environmental SARF'!N159)),'Environmental SARF'!$F$14<>\"7) NA\",'Environmental SARF'!$F$14<>\"7) ...\"), \"   \"&CONCATENATE('Environmental SARF'!$N$18,'Environmental SARF'!$N$19),\"\") &IF(AND(NOT(ISBLANK('Environmental SARF'!O159)),'Environmental SARF'!$F$15<>\"8) NA\",'Environmental SARF'!$F$15<>\"8) ...\"), \"   \"&CONCATENATE('Environmental SARF'!$O$18,'Environmental SARF'!$O$19),\"\"))","v":""}]
[{"$f":"IF(C142=\"\",\"\",IF('Environmental SARF'!B160=\"\",\"\",'Environmental SARF'!B160))","v":""},"",{"$f":"IF('Environmental SARF'!C160=\"\",\"\",'Environmental SARF'!C160)","v":""},{"$f":"IF(C142=\"\",\"\",IF('Environmental SARF'!D160=\"\",'Environmental SARF'!$C$10,'Environmental SARF'!D160))","v":""},{"$f":"IF(B142=\"\",\"\",IF('Environmental SARF'!E160=\"\",\"\",'Environmental SARF'!E160))","v":""},{"$f":"IF(B142=\"\",\"\",IF('Environmental SARF'!F160=\"\",\"\",'Environmental SARF'!F160))","v":""},{"$f":"IF(B142=\"\",\"\",IF('Environmental SARF'!G160=\"\",\"\",'Environmental SARF'!G160))","v":""},{"$f":"IF(C142=\"\",\"\",IF('Environmental SARF'!$N$6=\"\",\"\",CONCATENATE('Environmental SARF'!$N$6,'Environmental SARF'!$O$6)))","v":""},{"$f":"IF(C142=\"\",\"\",IF('Environmental SARF'!$N$2=\"\",\"\",'Environmental SARF'!$N$2))","v":""},{"$f":"IF(C142=\"\",\"\",IF('Environmental SARF'!$N$4=\"\",NOW(),'Environmental SARF'!$N$4))","v":""},"",{"$f":"IF(C142=\"\",\"\", IF(AND(NOT(ISBLANK('Environmental SARF'!H160)),'Environmental SARF'!$F$8<>\"1) NA\",'Environmental SARF'!$F$8<>\"1) ...\"), \"   \"&CONCATENATE('Environmental SARF'!$H$18,'Environmental SARF'!$H$19),\"\") & IF(AND(NOT(ISBLANK('Environmental SARF'!I160)),'Environmental SARF'!$F$9<>\"2) NA\",'Environmental SARF'!$F$9<>\"2) ...\"), \"   \"&CONCATENATE('Environmental SARF'!$I$18,'Environmental SARF'!$I$19),\"\")& IF(AND(NOT(ISBLANK('Environmental SARF'!J160)),'Environmental SARF'!$F$10<>\"3) NA\",'Environmental SARF'!$F$10<>\"3) ...\"), \"   \"&CONCATENATE('Environmental SARF'!$J$18,'Environmental SARF'!$J$19),\"\") & IF(AND(NOT(ISBLANK('Environmental SARF'!K160)),'Environmental SARF'!$F$11<>\"4) NA\",'Environmental SARF'!$F$11<>\"4) ...\"), \"   \"&CONCATENATE('Environmental SARF'!$K$18,'Environmental SARF'!$K$19),\"\")& IF(AND(NOT(ISBLANK('Environmental SARF'!L160)),'Environmental SARF'!$F$12<>\"5) NA\",'Environmental SARF'!$F$12<>\"5) ...\"), \"   \"&CONCATENATE('Environmental SARF'!$L$18,'Environmental SARF'!$L$19),\"\")&IF(AND(NOT(ISBLANK('Environmental SARF'!M160)),'Environmental SARF'!$F$13<>\"6) NA\",'Environmental SARF'!$F$13<>\"6) ...\"), \"   \"&CONCATENATE('Environmental SARF'!$M$18,'Environmental SARF'!$M$19),\"\")&IF(AND(NOT(ISBLANK('Environmental SARF'!N160)),'Environmental SARF'!$F$14<>\"7) NA\",'Environmental SARF'!$F$14<>\"7) ...\"), \"   \"&CONCATENATE('Environmental SARF'!$N$18,'Environmental SARF'!$N$19),\"\") &IF(AND(NOT(ISBLANK('Environmental SARF'!O160)),'Environmental SARF'!$F$15<>\"8) NA\",'Environmental SARF'!$F$15<>\"8) ...\"), \"   \"&CONCATENATE('Environmental SARF'!$O$18,'Environmental SARF'!$O$19),\"\"))","v":""}]
[{"$f":"IF(C143=\"\",\"\",IF('Environmental SARF'!B161=\"\",\"\",'Environmental SARF'!B161))","v":""},"",{"$f":"IF('Environmental SARF'!C161=\"\",\"\",'Environmental SARF'!C161)","v":""},{"$f":"IF(C143=\"\",\"\",IF('Environmental SARF'!D161=\"\",'Environmental SARF'!$C$10,'Environmental SARF'!D161))","v":""},{"$f":"IF(B143=\"\",\"\",IF('Environmental SARF'!E161=\"\",\"\",'Environmental SARF'!E161))","v":""},{"$f":"IF(B143=\"\",\"\",IF('Environmental SARF'!F161=\"\",\"\",'Environmental SARF'!F161))","v":""},{"$f":"IF(B143=\"\",\"\",IF('Environmental SARF'!G161=\"\",\"\",'Environmental SARF'!G161))","v":""},{"$f":"IF(C143=\"\",\"\",IF('Environmental SARF'!$N$6=\"\",\"\",CONCATENATE('Environmental SARF'!$N$6,'Environmental SARF'!$O$6)))","v":""},{"$f":"IF(C143=\"\",\"\",IF('Environmental SARF'!$N$2=\"\",\"\",'Environmental SARF'!$N$2))","v":""},{"$f":"IF(C143=\"\",\"\",IF('Environmental SARF'!$N$4=\"\",NOW(),'Environmental SARF'!$N$4))","v":""},"",{"$f":"IF(C143=\"\",\"\", IF(AND(NOT(ISBLANK('Environmental SARF'!H161)),'Environmental SARF'!$F$8<>\"1) NA\",'Environmental SARF'!$F$8<>\"1) ...\"), \"   \"&CONCATENATE('Environmental SARF'!$H$18,'Environmental SARF'!$H$19),\"\") & IF(AND(NOT(ISBLANK('Environmental SARF'!I161)),'Environmental SARF'!$F$9<>\"2) NA\",'Environmental SARF'!$F$9<>\"2) ...\"), \"   \"&CONCATENATE('Environmental SARF'!$I$18,'Environmental SARF'!$I$19),\"\")& IF(AND(NOT(ISBLANK('Environmental SARF'!J161)),'Environmental SARF'!$F$10<>\"3) NA\",'Environmental SARF'!$F$10<>\"3) ...\"), \"   \"&CONCATENATE('Environmental SARF'!$J$18,'Environmental SARF'!$J$19),\"\") & IF(AND(NOT(ISBLANK('Environmental SARF'!K161)),'Environmental SARF'!$F$11<>\"4) NA\",'Environmental SARF'!$F$11<>\"4) ...\"), \"   \"&CONCATENATE('Environmental SARF'!$K$18,'Environmental SARF'!$K$19),\"\")& IF(AND(NOT(ISBLANK('Environmental SARF'!L161)),'Environmental SARF'!$F$12<>\"5) NA\",'Environmental SARF'!$F$12<>\"5) ...\"), \"   \"&CONCATENATE('Environmental SARF'!$L$18,'Environmental SARF'!$L$19),\"\")&IF(AND(NOT(ISBLANK('Environmental SARF'!M161)),'Environmental SARF'!$F$13<>\"6) NA\",'Environmental SARF'!$F$13<>\"6) ...\"), \"   \"&CONCATENATE('Environmental SARF'!$M$18,'Environmental SARF'!$M$19),\"\")&IF(AND(NOT(ISBLANK('Environmental SARF'!N161)),'Environmental SARF'!$F$14<>\"7) NA\",'Environmental SARF'!$F$14<>\"7) ...\"), \"   \"&CONCATENATE('Environmental SARF'!$N$18,'Environmental SARF'!$N$19),\"\") &IF(AND(NOT(ISBLANK('Environmental SARF'!O161)),'Environmental SARF'!$F$15<>\"8) NA\",'Environmental SARF'!$F$15<>\"8) ...\"), \"   \"&CONCATENATE('Environmental SARF'!$O$18,'Environmental SARF'!$O$19),\"\"))","v":""}]
[{"$f":"IF(C144=\"\",\"\",IF('Environmental SARF'!B162=\"\",\"\",'Environmental SARF'!B162))","v":""},"",{"$f":"IF('Environmental SARF'!C162=\"\",\"\",'Environmental SARF'!C162)","v":""},{"$f":"IF(C144=\"\",\"\",IF('Environmental SARF'!D162=\"\",'Environmental SARF'!$C$10,'Environmental SARF'!D162))","v":""},{"$f":"IF(B144=\"\",\"\",IF('Environmental SARF'!E162=\"\",\"\",'Environmental SARF'!E162))","v":""},{"$f":"IF(B144=\"\",\"\",IF('Environmental SARF'!F162=\"\",\"\",'Environmental SARF'!F162))","v":""},{"$f":"IF(B144=\"\",\"\",IF('Environmental SARF'!G162=\"\",\"\",'Environmental SARF'!G162))","v":""},{"$f":"IF(C144=\"\",\"\",IF('Environmental SARF'!$N$6=\"\",\"\",CONCATENATE('Environmental SARF'!$N$6,'Environmental SARF'!$O$6)))","v":""},{"$f":"IF(C144=\"\",\"\",IF('Environmental SARF'!$N$2=\"\",\"\",'Environmental SARF'!$N$2))","v":""},{"$f":"IF(C144=\"\",\"\",IF('Environmental SARF'!$N$4=\"\",NOW(),'Environmental SARF'!$N$4))","v":""},"",{"$f":"IF(C144=\"\",\"\", IF(AND(NOT(ISBLANK('Environmental SARF'!H162)),'Environmental SARF'!$F$8<>\"1) NA\",'Environmental SARF'!$F$8<>\"1) ...\"), \"   \"&CONCATENATE('Environmental SARF'!$H$18,'Environmental SARF'!$H$19),\"\") & IF(AND(NOT(ISBLANK('Environmental SARF'!I162)),'Environmental SARF'!$F$9<>\"2) NA\",'Environmental SARF'!$F$9<>\"2) ...\"), \"   \"&CONCATENATE('Environmental SARF'!$I$18,'Environmental SARF'!$I$19),\"\")& IF(AND(NOT(ISBLANK('Environmental SARF'!J162)),'Environmental SARF'!$F$10<>\"3) NA\",'Environmental SARF'!$F$10<>\"3) ...\"), \"   \"&CONCATENATE('Environmental SARF'!$J$18,'Environmental SARF'!$J$19),\"\") & IF(AND(NOT(ISBLANK('Environmental SARF'!K162)),'Environmental SARF'!$F$11<>\"4) NA\",'Environmental SARF'!$F$11<>\"4) ...\"), \"   \"&CONCATENATE('Environmental SARF'!$K$18,'Environmental SARF'!$K$19),\"\")& IF(AND(NOT(ISBLANK('Environmental SARF'!L162)),'Environmental SARF'!$F$12<>\"5) NA\",'Environmental SARF'!$F$12<>\"5) ...\"), \"   \"&CONCATENATE('Environmental SARF'!$L$18,'Environmental SARF'!$L$19),\"\")&IF(AND(NOT(ISBLANK('Environmental SARF'!M162)),'Environmental SARF'!$F$13<>\"6) NA\",'Environmental SARF'!$F$13<>\"6) ...\"), \"   \"&CONCATENATE('Environmental SARF'!$M$18,'Environmental SARF'!$M$19),\"\")&IF(AND(NOT(ISBLANK('Environmental SARF'!N162)),'Environmental SARF'!$F$14<>\"7) NA\",'Environmental SARF'!$F$14<>\"7) ...\"), \"   \"&CONCATENATE('Environmental SARF'!$N$18,'Environmental SARF'!$N$19),\"\") &IF(AND(NOT(ISBLANK('Environmental SARF'!O162)),'Environmental SARF'!$F$15<>\"8) NA\",'Environmental SARF'!$F$15<>\"8) ...\"), \"   \"&CONCATENATE('Environmental SARF'!$O$18,'Environmental SARF'!$O$19),\"\"))","v":""}]
[{"$f":"IF(C145=\"\",\"\",IF('Environmental SARF'!B163=\"\",\"\",'Environmental SARF'!B163))","v":""},"",{"$f":"IF('Environmental SARF'!C163=\"\",\"\",'Environmental SARF'!C163)","v":""},{"$f":"IF(C145=\"\",\"\",IF('Environmental SARF'!D163=\"\",'Environmental SARF'!$C$10,'Environmental SARF'!D163))","v":""},{"$f":"IF(B145=\"\",\"\",IF('Environmental SARF'!E163=\"\",\"\",'Environmental SARF'!E163))","v":""},{"$f":"IF(B145=\"\",\"\",IF('Environmental SARF'!F163=\"\",\"\",'Environmental SARF'!F163))","v":""},{"$f":"IF(B145=\"\",\"\",IF('Environmental SARF'!G163=\"\",\"\",'Environmental SARF'!G163))","v":""},{"$f":"IF(C145=\"\",\"\",IF('Environmental SARF'!$N$6=\"\",\"\",CONCATENATE('Environmental SARF'!$N$6,'Environmental SARF'!$O$6)))","v":""},{"$f":"IF(C145=\"\",\"\",IF('Environmental SARF'!$N$2=\"\",\"\",'Environmental SARF'!$N$2))","v":""},{"$f":"IF(C145=\"\",\"\",IF('Environmental SARF'!$N$4=\"\",NOW(),'Environmental SARF'!$N$4))","v":""},"",{"$f":"IF(C145=\"\",\"\", IF(AND(NOT(ISBLANK('Environmental SARF'!H163)),'Environmental SARF'!$F$8<>\"1) NA\",'Environmental SARF'!$F$8<>\"1) ...\"), \"   \"&CONCATENATE('Environmental SARF'!$H$18,'Environmental SARF'!$H$19),\"\") & IF(AND(NOT(ISBLANK('Environmental SARF'!I163)),'Environmental SARF'!$F$9<>\"2) NA\",'Environmental SARF'!$F$9<>\"2) ...\"), \"   \"&CONCATENATE('Environmental SARF'!$I$18,'Environmental SARF'!$I$19),\"\")& IF(AND(NOT(ISBLANK('Environmental SARF'!J163)),'Environmental SARF'!$F$10<>\"3) NA\",'Environmental SARF'!$F$10<>\"3) ...\"), \"   \"&CONCATENATE('Environmental SARF'!$J$18,'Environmental SARF'!$J$19),\"\") & IF(AND(NOT(ISBLANK('Environmental SARF'!K163)),'Environmental SARF'!$F$11<>\"4) NA\",'Environmental SARF'!$F$11<>\"4) ...\"), \"   \"&CONCATENATE('Environmental SARF'!$K$18,'Environmental SARF'!$K$19),\"\")& IF(AND(NOT(ISBLANK('Environmental SARF'!L163)),'Environmental SARF'!$F$12<>\"5) NA\",'Environmental SARF'!$F$12<>\"5) ...\"), \"   \"&CONCATENATE('Environmental SARF'!$L$18,'Environmental SARF'!$L$19),\"\")&IF(AND(NOT(ISBLANK('Environmental SARF'!M163)),'Environmental SARF'!$F$13<>\"6) NA\",'Environmental SARF'!$F$13<>\"6) ...\"), \"   \"&CONCATENATE('Environmental SARF'!$M$18,'Environmental SARF'!$M$19),\"\")&IF(AND(NOT(ISBLANK('Environmental SARF'!N163)),'Environmental SARF'!$F$14<>\"7) NA\",'Environmental SARF'!$F$14<>\"7) ...\"), \"   \"&CONCATENATE('Environmental SARF'!$N$18,'Environmental SARF'!$N$19),\"\") &IF(AND(NOT(ISBLANK('Environmental SARF'!O163)),'Environmental SARF'!$F$15<>\"8) NA\",'Environmental SARF'!$F$15<>\"8) ...\"), \"   \"&CONCATENATE('Environmental SARF'!$O$18,'Environmental SARF'!$O$19),\"\"))","v":""}]
[{"$f":"IF(C146=\"\",\"\",IF('Environmental SARF'!B164=\"\",\"\",'Environmental SARF'!B164))","v":""},"",{"$f":"IF('Environmental SARF'!C164=\"\",\"\",'Environmental SARF'!C164)","v":""},{"$f":"IF(C146=\"\",\"\",IF('Environmental SARF'!D164=\"\",'Environmental SARF'!$C$10,'Environmental SARF'!D164))","v":""},{"$f":"IF(B146=\"\",\"\",IF('Environmental SARF'!E164=\"\",\"\",'Environmental SARF'!E164))","v":""},{"$f":"IF(B146=\"\",\"\",IF('Environmental SARF'!F164=\"\",\"\",'Environmental SARF'!F164))","v":""},{"$f":"IF(B146=\"\",\"\",IF('Environmental SARF'!G164=\"\",\"\",'Environmental SARF'!G164))","v":""},{"$f":"IF(C146=\"\",\"\",IF('Environmental SARF'!$N$6=\"\",\"\",CONCATENATE('Environmental SARF'!$N$6,'Environmental SARF'!$O$6)))","v":""},{"$f":"IF(C146=\"\",\"\",IF('Environmental SARF'!$N$2=\"\",\"\",'Environmental SARF'!$N$2))","v":""},{"$f":"IF(C146=\"\",\"\",IF('Environmental SARF'!$N$4=\"\",NOW(),'Environmental SARF'!$N$4))","v":""},"",{"$f":"IF(C146=\"\",\"\", IF(AND(NOT(ISBLANK('Environmental SARF'!H164)),'Environmental SARF'!$F$8<>\"1) NA\",'Environmental SARF'!$F$8<>\"1) ...\"), \"   \"&CONCATENATE('Environmental SARF'!$H$18,'Environmental SARF'!$H$19),\"\") & IF(AND(NOT(ISBLANK('Environmental SARF'!I164)),'Environmental SARF'!$F$9<>\"2) NA\",'Environmental SARF'!$F$9<>\"2) ...\"), \"   \"&CONCATENATE('Environmental SARF'!$I$18,'Environmental SARF'!$I$19),\"\")& IF(AND(NOT(ISBLANK('Environmental SARF'!J164)),'Environmental SARF'!$F$10<>\"3) NA\",'Environmental SARF'!$F$10<>\"3) ...\"), \"   \"&CONCATENATE('Environmental SARF'!$J$18,'Environmental SARF'!$J$19),\"\") & IF(AND(NOT(ISBLANK('Environmental SARF'!K164)),'Environmental SARF'!$F$11<>\"4) NA\",'Environmental SARF'!$F$11<>\"4) ...\"), \"   \"&CONCATENATE('Environmental SARF'!$K$18,'Environmental SARF'!$K$19),\"\")& IF(AND(NOT(ISBLANK('Environmental SARF'!L164)),'Environmental SARF'!$F$12<>\"5) NA\",'Environmental SARF'!$F$12<>\"5) ...\"), \"   \"&CONCATENATE('Environmental SARF'!$L$18,'Environmental SARF'!$L$19),\"\")&IF(AND(NOT(ISBLANK('Environmental SARF'!M164)),'Environmental SARF'!$F$13<>\"6) NA\",'Environmental SARF'!$F$13<>\"6) ...\"), \"   \"&CONCATENATE('Environmental SARF'!$M$18,'Environmental SARF'!$M$19),\"\")&IF(AND(NOT(ISBLANK('Environmental SARF'!N164)),'Environmental SARF'!$F$14<>\"7) NA\",'Environmental SARF'!$F$14<>\"7) ...\"), \"   \"&CONCATENATE('Environmental SARF'!$N$18,'Environmental SARF'!$N$19),\"\") &IF(AND(NOT(ISBLANK('Environmental SARF'!O164)),'Environmental SARF'!$F$15<>\"8) NA\",'Environmental SARF'!$F$15<>\"8) ...\"), \"   \"&CONCATENATE('Environmental SARF'!$O$18,'Environmental SARF'!$O$19),\"\"))","v":""}]
[{"$f":"IF(C147=\"\",\"\",IF('Environmental SARF'!B165=\"\",\"\",'Environmental SARF'!B165))","v":""},"",{"$f":"IF('Environmental SARF'!C165=\"\",\"\",'Environmental SARF'!C165)","v":""},{"$f":"IF(C147=\"\",\"\",IF('Environmental SARF'!D165=\"\",'Environmental SARF'!$C$10,'Environmental SARF'!D165))","v":""},{"$f":"IF(B147=\"\",\"\",IF('Environmental SARF'!E165=\"\",\"\",'Environmental SARF'!E165))","v":""},{"$f":"IF(B147=\"\",\"\",IF('Environmental SARF'!F165=\"\",\"\",'Environmental SARF'!F165))","v":""},{"$f":"IF(B147=\"\",\"\",IF('Environmental SARF'!G165=\"\",\"\",'Environmental SARF'!G165))","v":""},{"$f":"IF(C147=\"\",\"\",IF('Environmental SARF'!$N$6=\"\",\"\",CONCATENATE('Environmental SARF'!$N$6,'Environmental SARF'!$O$6)))","v":""},{"$f":"IF(C147=\"\",\"\",IF('Environmental SARF'!$N$2=\"\",\"\",'Environmental SARF'!$N$2))","v":""},{"$f":"IF(C147=\"\",\"\",IF('Environmental SARF'!$N$4=\"\",NOW(),'Environmental SARF'!$N$4))","v":""},"",{"$f":"IF(C147=\"\",\"\", IF(AND(NOT(ISBLANK('Environmental SARF'!H165)),'Environmental SARF'!$F$8<>\"1) NA\",'Environmental SARF'!$F$8<>\"1) ...\"), \"   \"&CONCATENATE('Environmental SARF'!$H$18,'Environmental SARF'!$H$19),\"\") & IF(AND(NOT(ISBLANK('Environmental SARF'!I165)),'Environmental SARF'!$F$9<>\"2) NA\",'Environmental SARF'!$F$9<>\"2) ...\"), \"   \"&CONCATENATE('Environmental SARF'!$I$18,'Environmental SARF'!$I$19),\"\")& IF(AND(NOT(ISBLANK('Environmental SARF'!J165)),'Environmental SARF'!$F$10<>\"3) NA\",'Environmental SARF'!$F$10<>\"3) ...\"), \"   \"&CONCATENATE('Environmental SARF'!$J$18,'Environmental SARF'!$J$19),\"\") & IF(AND(NOT(ISBLANK('Environmental SARF'!K165)),'Environmental SARF'!$F$11<>\"4) NA\",'Environmental SARF'!$F$11<>\"4) ...\"), \"   \"&CONCATENATE('Environmental SARF'!$K$18,'Environmental SARF'!$K$19),\"\")& IF(AND(NOT(ISBLANK('Environmental SARF'!L165)),'Environmental SARF'!$F$12<>\"5) NA\",'Environmental SARF'!$F$12<>\"5) ...\"), \"   \"&CONCATENATE('Environmental SARF'!$L$18,'Environmental SARF'!$L$19),\"\")&IF(AND(NOT(ISBLANK('Environmental SARF'!M165)),'Environmental SARF'!$F$13<>\"6) NA\",'Environmental SARF'!$F$13<>\"6) ...\"), \"   \"&CONCATENATE('Environmental SARF'!$M$18,'Environmental SARF'!$M$19),\"\")&IF(AND(NOT(ISBLANK('Environmental SARF'!N165)),'Environmental SARF'!$F$14<>\"7) NA\",'Environmental SARF'!$F$14<>\"7) ...\"), \"   \"&CONCATENATE('Environmental SARF'!$N$18,'Environmental SARF'!$N$19),\"\") &IF(AND(NOT(ISBLANK('Environmental SARF'!O165)),'Environmental SARF'!$F$15<>\"8) NA\",'Environmental SARF'!$F$15<>\"8) ...\"), \"   \"&CONCATENATE('Environmental SARF'!$O$18,'Environmental SARF'!$O$19),\"\"))","v":""}]
[{"$f":"IF(C148=\"\",\"\",IF('Environmental SARF'!B166=\"\",\"\",'Environmental SARF'!B166))","v":""},"",{"$f":"IF('Environmental SARF'!C166=\"\",\"\",'Environmental SARF'!C166)","v":""},{"$f":"IF(C148=\"\",\"\",IF('Environmental SARF'!D166=\"\",'Environmental SARF'!$C$10,'Environmental SARF'!D166))","v":""},{"$f":"IF(B148=\"\",\"\",IF('Environmental SARF'!E166=\"\",\"\",'Environmental SARF'!E166))","v":""},{"$f":"IF(B148=\"\",\"\",IF('Environmental SARF'!F166=\"\",\"\",'Environmental SARF'!F166))","v":""},{"$f":"IF(B148=\"\",\"\",IF('Environmental SARF'!G166=\"\",\"\",'Environmental SARF'!G166))","v":""},{"$f":"IF(C148=\"\",\"\",IF('Environmental SARF'!$N$6=\"\",\"\",CONCATENATE('Environmental SARF'!$N$6,'Environmental SARF'!$O$6)))","v":""},{"$f":"IF(C148=\"\",\"\",IF('Environmental SARF'!$N$2=\"\",\"\",'Environmental SARF'!$N$2))","v":""},{"$f":"IF(C148=\"\",\"\",IF('Environmental SARF'!$N$4=\"\",NOW(),'Environmental SARF'!$N$4))","v":""},"",{"$f":"IF(C148=\"\",\"\", IF(AND(NOT(ISBLANK('Environmental SARF'!H166)),'Environmental SARF'!$F$8<>\"1) NA\",'Environmental SARF'!$F$8<>\"1) ...\"), \"   \"&CONCATENATE('Environmental SARF'!$H$18,'Environmental SARF'!$H$19),\"\") & IF(AND(NOT(ISBLANK('Environmental SARF'!I166)),'Environmental SARF'!$F$9<>\"2) NA\",'Environmental SARF'!$F$9<>\"2) ...\"), \"   \"&CONCATENATE('Environmental SARF'!$I$18,'Environmental SARF'!$I$19),\"\")& IF(AND(NOT(ISBLANK('Environmental SARF'!J166)),'Environmental SARF'!$F$10<>\"3) NA\",'Environmental SARF'!$F$10<>\"3) ...\"), \"   \"&CONCATENATE('Environmental SARF'!$J$18,'Environmental SARF'!$J$19),\"\") & IF(AND(NOT(ISBLANK('Environmental SARF'!K166)),'Environmental SARF'!$F$11<>\"4) NA\",'Environmental SARF'!$F$11<>\"4) ...\"), \"   \"&CONCATENATE('Environmental SARF'!$K$18,'Environmental SARF'!$K$19),\"\")& IF(AND(NOT(ISBLANK('Environmental SARF'!L166)),'Environmental SARF'!$F$12<>\"5) NA\",'Environmental SARF'!$F$12<>\"5) ...\"), \"   \"&CONCATENATE('Environmental SARF'!$L$18,'Environmental SARF'!$L$19),\"\")&IF(AND(NOT(ISBLANK('Environmental SARF'!M166)),'Environmental SARF'!$F$13<>\"6) NA\",'Environmental SARF'!$F$13<>\"6) ...\"), \"   \"&CONCATENATE('Environmental SARF'!$M$18,'Environmental SARF'!$M$19),\"\")&IF(AND(NOT(ISBLANK('Environmental SARF'!N166)),'Environmental SARF'!$F$14<>\"7) NA\",'Environmental SARF'!$F$14<>\"7) ...\"), \"   \"&CONCATENATE('Environmental SARF'!$N$18,'Environmental SARF'!$N$19),\"\") &IF(AND(NOT(ISBLANK('Environmental SARF'!O166)),'Environmental SARF'!$F$15<>\"8) NA\",'Environmental SARF'!$F$15<>\"8) ...\"), \"   \"&CONCATENATE('Environmental SARF'!$O$18,'Environmental SARF'!$O$19),\"\"))","v":""}]
[{"$f":"IF(C149=\"\",\"\",IF('Environmental SARF'!B167=\"\",\"\",'Environmental SARF'!B167))","v":""},"",{"$f":"IF('Environmental SARF'!C167=\"\",\"\",'Environmental SARF'!C167)","v":""},{"$f":"IF(C149=\"\",\"\",IF('Environmental SARF'!D167=\"\",'Environmental SARF'!$C$10,'Environmental SARF'!D167))","v":""},{"$f":"IF(B149=\"\",\"\",IF('Environmental SARF'!E167=\"\",\"\",'Environmental SARF'!E167))","v":""},{"$f":"IF(B149=\"\",\"\",IF('Environmental SARF'!F167=\"\",\"\",'Environmental SARF'!F167))","v":""},{"$f":"IF(B149=\"\",\"\",IF('Environmental SARF'!G167=\"\",\"\",'Environmental SARF'!G167))","v":""},{"$f":"IF(C149=\"\",\"\",IF('Environmental SARF'!$N$6=\"\",\"\",CONCATENATE('Environmental SARF'!$N$6,'Environmental SARF'!$O$6)))","v":""},{"$f":"IF(C149=\"\",\"\",IF('Environmental SARF'!$N$2=\"\",\"\",'Environmental SARF'!$N$2))","v":""},{"$f":"IF(C149=\"\",\"\",IF('Environmental SARF'!$N$4=\"\",NOW(),'Environmental SARF'!$N$4))","v":""},"",{"$f":"IF(C149=\"\",\"\", IF(AND(NOT(ISBLANK('Environmental SARF'!H167)),'Environmental SARF'!$F$8<>\"1) NA\",'Environmental SARF'!$F$8<>\"1) ...\"), \"   \"&CONCATENATE('Environmental SARF'!$H$18,'Environmental SARF'!$H$19),\"\") & IF(AND(NOT(ISBLANK('Environmental SARF'!I167)),'Environmental SARF'!$F$9<>\"2) NA\",'Environmental SARF'!$F$9<>\"2) ...\"), \"   \"&CONCATENATE('Environmental SARF'!$I$18,'Environmental SARF'!$I$19),\"\")& IF(AND(NOT(ISBLANK('Environmental SARF'!J167)),'Environmental SARF'!$F$10<>\"3) NA\",'Environmental SARF'!$F$10<>\"3) ...\"), \"   \"&CONCATENATE('Environmental SARF'!$J$18,'Environmental SARF'!$J$19),\"\") & IF(AND(NOT(ISBLANK('Environmental SARF'!K167)),'Environmental SARF'!$F$11<>\"4) NA\",'Environmental SARF'!$F$11<>\"4) ...\"), \"   \"&CONCATENATE('Environmental SARF'!$K$18,'Environmental SARF'!$K$19),\"\")& IF(AND(NOT(ISBLANK('Environmental SARF'!L167)),'Environmental SARF'!$F$12<>\"5) NA\",'Environmental SARF'!$F$12<>\"5) ...\"), \"   \"&CONCATENATE('Environmental SARF'!$L$18,'Environmental SARF'!$L$19),\"\")&IF(AND(NOT(ISBLANK('Environmental SARF'!M167)),'Environmental SARF'!$F$13<>\"6) NA\",'Environmental SARF'!$F$13<>\"6) ...\"), \"   \"&CONCATENATE('Environmental SARF'!$M$18,'Environmental SARF'!$M$19),\"\")&IF(AND(NOT(ISBLANK('Environmental SARF'!N167)),'Environmental SARF'!$F$14<>\"7) NA\",'Environmental SARF'!$F$14<>\"7) ...\"), \"   \"&CONCATENATE('Environmental SARF'!$N$18,'Environmental SARF'!$N$19),\"\") &IF(AND(NOT(ISBLANK('Environmental SARF'!O167)),'Environmental SARF'!$F$15<>\"8) NA\",'Environmental SARF'!$F$15<>\"8) ...\"), \"   \"&CONCATENATE('Environmental SARF'!$O$18,'Environmental SARF'!$O$19),\"\"))","v":""}]
[{"$f":"IF(C150=\"\",\"\",IF('Environmental SARF'!B168=\"\",\"\",'Environmental SARF'!B168))","v":""},"",{"$f":"IF('Environmental SARF'!C168=\"\",\"\",'Environmental SARF'!C168)","v":""},{"$f":"IF(C150=\"\",\"\",IF('Environmental SARF'!D168=\"\",'Environmental SARF'!$C$10,'Environmental SARF'!D168))","v":""},{"$f":"IF(B150=\"\",\"\",IF('Environmental SARF'!E168=\"\",\"\",'Environmental SARF'!E168))","v":""},{"$f":"IF(B150=\"\",\"\",IF('Environmental SARF'!F168=\"\",\"\",'Environmental SARF'!F168))","v":""},{"$f":"IF(B150=\"\",\"\",IF('Environmental SARF'!G168=\"\",\"\",'Environmental SARF'!G168))","v":""},{"$f":"IF(C150=\"\",\"\",IF('Environmental SARF'!$N$6=\"\",\"\",CONCATENATE('Environmental SARF'!$N$6,'Environmental SARF'!$O$6)))","v":""},{"$f":"IF(C150=\"\",\"\",IF('Environmental SARF'!$N$2=\"\",\"\",'Environmental SARF'!$N$2))","v":""},{"$f":"IF(C150=\"\",\"\",IF('Environmental SARF'!$N$4=\"\",NOW(),'Environmental SARF'!$N$4))","v":""},"",{"$f":"IF(C150=\"\",\"\", IF(AND(NOT(ISBLANK('Environmental SARF'!H168)),'Environmental SARF'!$F$8<>\"1) NA\",'Environmental SARF'!$F$8<>\"1) ...\"), \"   \"&CONCATENATE('Environmental SARF'!$H$18,'Environmental SARF'!$H$19),\"\") & IF(AND(NOT(ISBLANK('Environmental SARF'!I168)),'Environmental SARF'!$F$9<>\"2) NA\",'Environmental SARF'!$F$9<>\"2) ...\"), \"   \"&CONCATENATE('Environmental SARF'!$I$18,'Environmental SARF'!$I$19),\"\")& IF(AND(NOT(ISBLANK('Environmental SARF'!J168)),'Environmental SARF'!$F$10<>\"3) NA\",'Environmental SARF'!$F$10<>\"3) ...\"), \"   \"&CONCATENATE('Environmental SARF'!$J$18,'Environmental SARF'!$J$19),\"\") & IF(AND(NOT(ISBLANK('Environmental SARF'!K168)),'Environmental SARF'!$F$11<>\"4) NA\",'Environmental SARF'!$F$11<>\"4) ...\"), \"   \"&CONCATENATE('Environmental SARF'!$K$18,'Environmental SARF'!$K$19),\"\")& IF(AND(NOT(ISBLANK('Environmental SARF'!L168)),'Environmental SARF'!$F$12<>\"5) NA\",'Environmental SARF'!$F$12<>\"5) ...\"), \"   \"&CONCATENATE('Environmental SARF'!$L$18,'Environmental SARF'!$L$19),\"\")&IF(AND(NOT(ISBLANK('Environmental SARF'!M168)),'Environmental SARF'!$F$13<>\"6) NA\",'Environmental SARF'!$F$13<>\"6) ...\"), \"   \"&CONCATENATE('Environmental SARF'!$M$18,'Environmental SARF'!$M$19),\"\")&IF(AND(NOT(ISBLANK('Environmental SARF'!N168)),'Environmental SARF'!$F$14<>\"7) NA\",'Environmental SARF'!$F$14<>\"7) ...\"), \"   \"&CONCATENATE('Environmental SARF'!$N$18,'Environmental SARF'!$N$19),\"\") &IF(AND(NOT(ISBLANK('Environmental SARF'!O168)),'Environmental SARF'!$F$15<>\"8) NA\",'Environmental SARF'!$F$15<>\"8) ...\"), \"   \"&CONCATENATE('Environmental SARF'!$O$18,'Environmental SARF'!$O$19),\"\"))","v":""}]
[{"$f":"IF(C151=\"\",\"\",IF('Environmental SARF'!B169=\"\",\"\",'Environmental SARF'!B169))","v":""},"",{"$f":"IF('Environmental SARF'!C169=\"\",\"\",'Environmental SARF'!C169)","v":""},{"$f":"IF(C151=\"\",\"\",IF('Environmental SARF'!D169=\"\",'Environmental SARF'!$C$10,'Environmental SARF'!D169))","v":""},{"$f":"IF(B151=\"\",\"\",IF('Environmental SARF'!E169=\"\",\"\",'Environmental SARF'!E169))","v":""},{"$f":"IF(B151=\"\",\"\",IF('Environmental SARF'!F169=\"\",\"\",'Environmental SARF'!F169))","v":""},{"$f":"IF(B151=\"\",\"\",IF('Environmental SARF'!G169=\"\",\"\",'Environmental SARF'!G169))","v":""},{"$f":"IF(C151=\"\",\"\",IF('Environmental SARF'!$N$6=\"\",\"\",CONCATENATE('Environmental SARF'!$N$6,'Environmental SARF'!$O$6)))","v":""},{"$f":"IF(C151=\"\",\"\",IF('Environmental SARF'!$N$2=\"\",\"\",'Environmental SARF'!$N$2))","v":""},{"$f":"IF(C151=\"\",\"\",IF('Environmental SARF'!$N$4=\"\",NOW(),'Environmental SARF'!$N$4))","v":""},"",{"$f":"IF(C151=\"\",\"\", IF(AND(NOT(ISBLANK('Environmental SARF'!H169)),'Environmental SARF'!$F$8<>\"1) NA\",'Environmental SARF'!$F$8<>\"1) ...\"), \"   \"&CONCATENATE('Environmental SARF'!$H$18,'Environmental SARF'!$H$19),\"\") & IF(AND(NOT(ISBLANK('Environmental SARF'!I169)),'Environmental SARF'!$F$9<>\"2) NA\",'Environmental SARF'!$F$9<>\"2) ...\"), \"   \"&CONCATENATE('Environmental SARF'!$I$18,'Environmental SARF'!$I$19),\"\")& IF(AND(NOT(ISBLANK('Environmental SARF'!J169)),'Environmental SARF'!$F$10<>\"3) NA\",'Environmental SARF'!$F$10<>\"3) ...\"), \"   \"&CONCATENATE('Environmental SARF'!$J$18,'Environmental SARF'!$J$19),\"\") & IF(AND(NOT(ISBLANK('Environmental SARF'!K169)),'Environmental SARF'!$F$11<>\"4) NA\",'Environmental SARF'!$F$11<>\"4) ...\"), \"   \"&CONCATENATE('Environmental SARF'!$K$18,'Environmental SARF'!$K$19),\"\")& IF(AND(NOT(ISBLANK('Environmental SARF'!L169)),'Environmental SARF'!$F$12<>\"5) NA\",'Environmental SARF'!$F$12<>\"5) ...\"), \"   \"&CONCATENATE('Environmental SARF'!$L$18,'Environmental SARF'!$L$19),\"\")&IF(AND(NOT(ISBLANK('Environmental SARF'!M169)),'Environmental SARF'!$F$13<>\"6) NA\",'Environmental SARF'!$F$13<>\"6) ...\"), \"   \"&CONCATENATE('Environmental SARF'!$M$18,'Environmental SARF'!$M$19),\"\")&IF(AND(NOT(ISBLANK('Environmental SARF'!N169)),'Environmental SARF'!$F$14<>\"7) NA\",'Environmental SARF'!$F$14<>\"7) ...\"), \"   \"&CONCATENATE('Environmental SARF'!$N$18,'Environmental SARF'!$N$19),\"\") &IF(AND(NOT(ISBLANK('Environmental SARF'!O169)),'Environmental SARF'!$F$15<>\"8) NA\",'Environmental SARF'!$F$15<>\"8) ...\"), \"   \"&CONCATENATE('Environmental SARF'!$O$18,'Environmental SARF'!$O$19),\"\"))","v":""}]
[{"$f":"IF(C152=\"\",\"\",IF('Environmental SARF'!B170=\"\",\"\",'Environmental SARF'!B170))","v":""},"",{"$f":"IF('Environmental SARF'!C170=\"\",\"\",'Environmental SARF'!C170)","v":""},{"$f":"IF(C152=\"\",\"\",IF('Environmental SARF'!D170=\"\",'Environmental SARF'!$C$10,'Environmental SARF'!D170))","v":""},{"$f":"IF(B152=\"\",\"\",IF('Environmental SARF'!E170=\"\",\"\",'Environmental SARF'!E170))","v":""},{"$f":"IF(B152=\"\",\"\",IF('Environmental SARF'!F170=\"\",\"\",'Environmental SARF'!F170))","v":""},{"$f":"IF(B152=\"\",\"\",IF('Environmental SARF'!G170=\"\",\"\",'Environmental SARF'!G170))","v":""},{"$f":"IF(C152=\"\",\"\",IF('Environmental SARF'!$N$6=\"\",\"\",CONCATENATE('Environmental SARF'!$N$6,'Environmental SARF'!$O$6)))","v":""},{"$f":"IF(C152=\"\",\"\",IF('Environmental SARF'!$N$2=\"\",\"\",'Environmental SARF'!$N$2))","v":""},{"$f":"IF(C152=\"\",\"\",IF('Environmental SARF'!$N$4=\"\",NOW(),'Environmental SARF'!$N$4))","v":""},"",{"$f":"IF(C152=\"\",\"\", IF(AND(NOT(ISBLANK('Environmental SARF'!H170)),'Environmental SARF'!$F$8<>\"1) NA\",'Environmental SARF'!$F$8<>\"1) ...\"), \"   \"&CONCATENATE('Environmental SARF'!$H$18,'Environmental SARF'!$H$19),\"\") & IF(AND(NOT(ISBLANK('Environmental SARF'!I170)),'Environmental SARF'!$F$9<>\"2) NA\",'Environmental SARF'!$F$9<>\"2) ...\"), \"   \"&CONCATENATE('Environmental SARF'!$I$18,'Environmental SARF'!$I$19),\"\")& IF(AND(NOT(ISBLANK('Environmental SARF'!J170)),'Environmental SARF'!$F$10<>\"3) NA\",'Environmental SARF'!$F$10<>\"3) ...\"), \"   \"&CONCATENATE('Environmental SARF'!$J$18,'Environmental SARF'!$J$19),\"\") & IF(AND(NOT(ISBLANK('Environmental SARF'!K170)),'Environmental SARF'!$F$11<>\"4) NA\",'Environmental SARF'!$F$11<>\"4) ...\"), \"   \"&CONCATENATE('Environmental SARF'!$K$18,'Environmental SARF'!$K$19),\"\")& IF(AND(NOT(ISBLANK('Environmental SARF'!L170)),'Environmental SARF'!$F$12<>\"5) NA\",'Environmental SARF'!$F$12<>\"5) ...\"), \"   \"&CONCATENATE('Environmental SARF'!$L$18,'Environmental SARF'!$L$19),\"\")&IF(AND(NOT(ISBLANK('Environmental SARF'!M170)),'Environmental SARF'!$F$13<>\"6) NA\",'Environmental SARF'!$F$13<>\"6) ...\"), \"   \"&CONCATENATE('Environmental SARF'!$M$18,'Environmental SARF'!$M$19),\"\")&IF(AND(NOT(ISBLANK('Environmental SARF'!N170)),'Environmental SARF'!$F$14<>\"7) NA\",'Environmental SARF'!$F$14<>\"7) ...\"), \"   \"&CONCATENATE('Environmental SARF'!$N$18,'Environmental SARF'!$N$19),\"\") &IF(AND(NOT(ISBLANK('Environmental SARF'!O170)),'Environmental SARF'!$F$15<>\"8) NA\",'Environmental SARF'!$F$15<>\"8) ...\"), \"   \"&CONCATENATE('Environmental SARF'!$O$18,'Environmental SARF'!$O$19),\"\"))","v":""}]
[{"$f":"IF(C153=\"\",\"\",IF('Environmental SARF'!B171=\"\",\"\",'Environmental SARF'!B171))","v":""},"",{"$f":"IF('Environmental SARF'!C171=\"\",\"\",'Environmental SARF'!C171)","v":""},{"$f":"IF(C153=\"\",\"\",IF('Environmental SARF'!D171=\"\",'Environmental SARF'!$C$10,'Environmental SARF'!D171))","v":""},{"$f":"IF(B153=\"\",\"\",IF('Environmental SARF'!E171=\"\",\"\",'Environmental SARF'!E171))","v":""},{"$f":"IF(B153=\"\",\"\",IF('Environmental SARF'!F171=\"\",\"\",'Environmental SARF'!F171))","v":""},{"$f":"IF(B153=\"\",\"\",IF('Environmental SARF'!G171=\"\",\"\",'Environmental SARF'!G171))","v":""},{"$f":"IF(C153=\"\",\"\",IF('Environmental SARF'!$N$6=\"\",\"\",CONCATENATE('Environmental SARF'!$N$6,'Environmental SARF'!$O$6)))","v":""},{"$f":"IF(C153=\"\",\"\",IF('Environmental SARF'!$N$2=\"\",\"\",'Environmental SARF'!$N$2))","v":""},{"$f":"IF(C153=\"\",\"\",IF('Environmental SARF'!$N$4=\"\",NOW(),'Environmental SARF'!$N$4))","v":""},"",{"$f":"IF(C153=\"\",\"\", IF(AND(NOT(ISBLANK('Environmental SARF'!H171)),'Environmental SARF'!$F$8<>\"1) NA\",'Environmental SARF'!$F$8<>\"1) ...\"), \"   \"&CONCATENATE('Environmental SARF'!$H$18,'Environmental SARF'!$H$19),\"\") & IF(AND(NOT(ISBLANK('Environmental SARF'!I171)),'Environmental SARF'!$F$9<>\"2) NA\",'Environmental SARF'!$F$9<>\"2) ...\"), \"   \"&CONCATENATE('Environmental SARF'!$I$18,'Environmental SARF'!$I$19),\"\")& IF(AND(NOT(ISBLANK('Environmental SARF'!J171)),'Environmental SARF'!$F$10<>\"3) NA\",'Environmental SARF'!$F$10<>\"3) ...\"), \"   \"&CONCATENATE('Environmental SARF'!$J$18,'Environmental SARF'!$J$19),\"\") & IF(AND(NOT(ISBLANK('Environmental SARF'!K171)),'Environmental SARF'!$F$11<>\"4) NA\",'Environmental SARF'!$F$11<>\"4) ...\"), \"   \"&CONCATENATE('Environmental SARF'!$K$18,'Environmental SARF'!$K$19),\"\")& IF(AND(NOT(ISBLANK('Environmental SARF'!L171)),'Environmental SARF'!$F$12<>\"5) NA\",'Environmental SARF'!$F$12<>\"5) ...\"), \"   \"&CONCATENATE('Environmental SARF'!$L$18,'Environmental SARF'!$L$19),\"\")&IF(AND(NOT(ISBLANK('Environmental SARF'!M171)),'Environmental SARF'!$F$13<>\"6) NA\",'Environmental SARF'!$F$13<>\"6) ...\"), \"   \"&CONCATENATE('Environmental SARF'!$M$18,'Environmental SARF'!$M$19),\"\")&IF(AND(NOT(ISBLANK('Environmental SARF'!N171)),'Environmental SARF'!$F$14<>\"7) NA\",'Environmental SARF'!$F$14<>\"7) ...\"), \"   \"&CONCATENATE('Environmental SARF'!$N$18,'Environmental SARF'!$N$19),\"\") &IF(AND(NOT(ISBLANK('Environmental SARF'!O171)),'Environmental SARF'!$F$15<>\"8) NA\",'Environmental SARF'!$F$15<>\"8) ...\"), \"   \"&CONCATENATE('Environmental SARF'!$O$18,'Environmental SARF'!$O$19),\"\"))","v":""}]
[{"$f":"IF(C154=\"\",\"\",IF('Environmental SARF'!B172=\"\",\"\",'Environmental SARF'!B172))","v":""},"",{"$f":"IF('Environmental SARF'!C172=\"\",\"\",'Environmental SARF'!C172)","v":""},{"$f":"IF(C154=\"\",\"\",IF('Environmental SARF'!D172=\"\",'Environmental SARF'!$C$10,'Environmental SARF'!D172))","v":""},{"$f":"IF(B154=\"\",\"\",IF('Environmental SARF'!E172=\"\",\"\",'Environmental SARF'!E172))","v":""},{"$f":"IF(B154=\"\",\"\",IF('Environmental SARF'!F172=\"\",\"\",'Environmental SARF'!F172))","v":""},{"$f":"IF(B154=\"\",\"\",IF('Environmental SARF'!G172=\"\",\"\",'Environmental SARF'!G172))","v":""},{"$f":"IF(C154=\"\",\"\",IF('Environmental SARF'!$N$6=\"\",\"\",CONCATENATE('Environmental SARF'!$N$6,'Environmental SARF'!$O$6)))","v":""},{"$f":"IF(C154=\"\",\"\",IF('Environmental SARF'!$N$2=\"\",\"\",'Environmental SARF'!$N$2))","v":""},{"$f":"IF(C154=\"\",\"\",IF('Environmental SARF'!$N$4=\"\",NOW(),'Environmental SARF'!$N$4))","v":""},"",{"$f":"IF(C154=\"\",\"\", IF(AND(NOT(ISBLANK('Environmental SARF'!H172)),'Environmental SARF'!$F$8<>\"1) NA\",'Environmental SARF'!$F$8<>\"1) ...\"), \"   \"&CONCATENATE('Environmental SARF'!$H$18,'Environmental SARF'!$H$19),\"\") & IF(AND(NOT(ISBLANK('Environmental SARF'!I172)),'Environmental SARF'!$F$9<>\"2) NA\",'Environmental SARF'!$F$9<>\"2) ...\"), \"   \"&CONCATENATE('Environmental SARF'!$I$18,'Environmental SARF'!$I$19),\"\")& IF(AND(NOT(ISBLANK('Environmental SARF'!J172)),'Environmental SARF'!$F$10<>\"3) NA\",'Environmental SARF'!$F$10<>\"3) ...\"), \"   \"&CONCATENATE('Environmental SARF'!$J$18,'Environmental SARF'!$J$19),\"\") & IF(AND(NOT(ISBLANK('Environmental SARF'!K172)),'Environmental SARF'!$F$11<>\"4) NA\",'Environmental SARF'!$F$11<>\"4) ...\"), \"   \"&CONCATENATE('Environmental SARF'!$K$18,'Environmental SARF'!$K$19),\"\")& IF(AND(NOT(ISBLANK('Environmental SARF'!L172)),'Environmental SARF'!$F$12<>\"5) NA\",'Environmental SARF'!$F$12<>\"5) ...\"), \"   \"&CONCATENATE('Environmental SARF'!$L$18,'Environmental SARF'!$L$19),\"\")&IF(AND(NOT(ISBLANK('Environmental SARF'!M172)),'Environmental SARF'!$F$13<>\"6) NA\",'Environmental SARF'!$F$13<>\"6) ...\"), \"   \"&CONCATENATE('Environmental SARF'!$M$18,'Environmental SARF'!$M$19),\"\")&IF(AND(NOT(ISBLANK('Environmental SARF'!N172)),'Environmental SARF'!$F$14<>\"7) NA\",'Environmental SARF'!$F$14<>\"7) ...\"), \"   \"&CONCATENATE('Environmental SARF'!$N$18,'Environmental SARF'!$N$19),\"\") &IF(AND(NOT(ISBLANK('Environmental SARF'!O172)),'Environmental SARF'!$F$15<>\"8) NA\",'Environmental SARF'!$F$15<>\"8) ...\"), \"   \"&CONCATENATE('Environmental SARF'!$O$18,'Environmental SARF'!$O$19),\"\"))","v":""}]
[{"$f":"IF(C155=\"\",\"\",IF('Environmental SARF'!B173=\"\",\"\",'Environmental SARF'!B173))","v":""},"",{"$f":"IF('Environmental SARF'!C173=\"\",\"\",'Environmental SARF'!C173)","v":""},{"$f":"IF(C155=\"\",\"\",IF('Environmental SARF'!D173=\"\",'Environmental SARF'!$C$10,'Environmental SARF'!D173))","v":""},{"$f":"IF(B155=\"\",\"\",IF('Environmental SARF'!E173=\"\",\"\",'Environmental SARF'!E173))","v":""},{"$f":"IF(B155=\"\",\"\",IF('Environmental SARF'!F173=\"\",\"\",'Environmental SARF'!F173))","v":""},{"$f":"IF(B155=\"\",\"\",IF('Environmental SARF'!G173=\"\",\"\",'Environmental SARF'!G173))","v":""},{"$f":"IF(C155=\"\",\"\",IF('Environmental SARF'!$N$6=\"\",\"\",CONCATENATE('Environmental SARF'!$N$6,'Environmental SARF'!$O$6)))","v":""},{"$f":"IF(C155=\"\",\"\",IF('Environmental SARF'!$N$2=\"\",\"\",'Environmental SARF'!$N$2))","v":""},{"$f":"IF(C155=\"\",\"\",IF('Environmental SARF'!$N$4=\"\",NOW(),'Environmental SARF'!$N$4))","v":""},"",{"$f":"IF(C155=\"\",\"\", IF(AND(NOT(ISBLANK('Environmental SARF'!H173)),'Environmental SARF'!$F$8<>\"1) NA\",'Environmental SARF'!$F$8<>\"1) ...\"), \"   \"&CONCATENATE('Environmental SARF'!$H$18,'Environmental SARF'!$H$19),\"\") & IF(AND(NOT(ISBLANK('Environmental SARF'!I173)),'Environmental SARF'!$F$9<>\"2) NA\",'Environmental SARF'!$F$9<>\"2) ...\"), \"   \"&CONCATENATE('Environmental SARF'!$I$18,'Environmental SARF'!$I$19),\"\")& IF(AND(NOT(ISBLANK('Environmental SARF'!J173)),'Environmental SARF'!$F$10<>\"3) NA\",'Environmental SARF'!$F$10<>\"3) ...\"), \"   \"&CONCATENATE('Environmental SARF'!$J$18,'Environmental SARF'!$J$19),\"\") & IF(AND(NOT(ISBLANK('Environmental SARF'!K173)),'Environmental SARF'!$F$11<>\"4) NA\",'Environmental SARF'!$F$11<>\"4) ...\"), \"   \"&CONCATENATE('Environmental SARF'!$K$18,'Environmental SARF'!$K$19),\"\")& IF(AND(NOT(ISBLANK('Environmental SARF'!L173)),'Environmental SARF'!$F$12<>\"5) NA\",'Environmental SARF'!$F$12<>\"5) ...\"), \"   \"&CONCATENATE('Environmental SARF'!$L$18,'Environmental SARF'!$L$19),\"\")&IF(AND(NOT(ISBLANK('Environmental SARF'!M173)),'Environmental SARF'!$F$13<>\"6) NA\",'Environmental SARF'!$F$13<>\"6) ...\"), \"   \"&CONCATENATE('Environmental SARF'!$M$18,'Environmental SARF'!$M$19),\"\")&IF(AND(NOT(ISBLANK('Environmental SARF'!N173)),'Environmental SARF'!$F$14<>\"7) NA\",'Environmental SARF'!$F$14<>\"7) ...\"), \"   \"&CONCATENATE('Environmental SARF'!$N$18,'Environmental SARF'!$N$19),\"\") &IF(AND(NOT(ISBLANK('Environmental SARF'!O173)),'Environmental SARF'!$F$15<>\"8) NA\",'Environmental SARF'!$F$15<>\"8) ...\"), \"   \"&CONCATENATE('Environmental SARF'!$O$18,'Environmental SARF'!$O$19),\"\"))","v":""}]
[{"$f":"IF(C156=\"\",\"\",IF('Environmental SARF'!B174=\"\",\"\",'Environmental SARF'!B174))","v":""},"",{"$f":"IF('Environmental SARF'!C174=\"\",\"\",'Environmental SARF'!C174)","v":""},{"$f":"IF(C156=\"\",\"\",IF('Environmental SARF'!D174=\"\",'Environmental SARF'!$C$10,'Environmental SARF'!D174))","v":""},{"$f":"IF(B156=\"\",\"\",IF('Environmental SARF'!E174=\"\",\"\",'Environmental SARF'!E174))","v":""},{"$f":"IF(B156=\"\",\"\",IF('Environmental SARF'!F174=\"\",\"\",'Environmental SARF'!F174))","v":""},{"$f":"IF(B156=\"\",\"\",IF('Environmental SARF'!G174=\"\",\"\",'Environmental SARF'!G174))","v":""},{"$f":"IF(C156=\"\",\"\",IF('Environmental SARF'!$N$6=\"\",\"\",CONCATENATE('Environmental SARF'!$N$6,'Environmental SARF'!$O$6)))","v":""},{"$f":"IF(C156=\"\",\"\",IF('Environmental SARF'!$N$2=\"\",\"\",'Environmental SARF'!$N$2))","v":""},{"$f":"IF(C156=\"\",\"\",IF('Environmental SARF'!$N$4=\"\",NOW(),'Environmental SARF'!$N$4))","v":""},"",{"$f":"IF(C156=\"\",\"\", IF(AND(NOT(ISBLANK('Environmental SARF'!H174)),'Environmental SARF'!$F$8<>\"1) NA\",'Environmental SARF'!$F$8<>\"1) ...\"), \"   \"&CONCATENATE('Environmental SARF'!$H$18,'Environmental SARF'!$H$19),\"\") & IF(AND(NOT(ISBLANK('Environmental SARF'!I174)),'Environmental SARF'!$F$9<>\"2) NA\",'Environmental SARF'!$F$9<>\"2) ...\"), \"   \"&CONCATENATE('Environmental SARF'!$I$18,'Environmental SARF'!$I$19),\"\")& IF(AND(NOT(ISBLANK('Environmental SARF'!J174)),'Environmental SARF'!$F$10<>\"3) NA\",'Environmental SARF'!$F$10<>\"3) ...\"), \"   \"&CONCATENATE('Environmental SARF'!$J$18,'Environmental SARF'!$J$19),\"\") & IF(AND(NOT(ISBLANK('Environmental SARF'!K174)),'Environmental SARF'!$F$11<>\"4) NA\",'Environmental SARF'!$F$11<>\"4) ...\"), \"   \"&CONCATENATE('Environmental SARF'!$K$18,'Environmental SARF'!$K$19),\"\")& IF(AND(NOT(ISBLANK('Environmental SARF'!L174)),'Environmental SARF'!$F$12<>\"5) NA\",'Environmental SARF'!$F$12<>\"5) ...\"), \"   \"&CONCATENATE('Environmental SARF'!$L$18,'Environmental SARF'!$L$19),\"\")&IF(AND(NOT(ISBLANK('Environmental SARF'!M174)),'Environmental SARF'!$F$13<>\"6) NA\",'Environmental SARF'!$F$13<>\"6) ...\"), \"   \"&CONCATENATE('Environmental SARF'!$M$18,'Environmental SARF'!$M$19),\"\")&IF(AND(NOT(ISBLANK('Environmental SARF'!N174)),'Environmental SARF'!$F$14<>\"7) NA\",'Environmental SARF'!$F$14<>\"7) ...\"), \"   \"&CONCATENATE('Environmental SARF'!$N$18,'Environmental SARF'!$N$19),\"\") &IF(AND(NOT(ISBLANK('Environmental SARF'!O174)),'Environmental SARF'!$F$15<>\"8) NA\",'Environmental SARF'!$F$15<>\"8) ...\"), \"   \"&CONCATENATE('Environmental SARF'!$O$18,'Environmental SARF'!$O$19),\"\"))","v":""}]
[{"$f":"IF(C157=\"\",\"\",IF('Environmental SARF'!B175=\"\",\"\",'Environmental SARF'!B175))","v":""},"",{"$f":"IF('Environmental SARF'!C175=\"\",\"\",'Environmental SARF'!C175)","v":""},{"$f":"IF(C157=\"\",\"\",IF('Environmental SARF'!D175=\"\",'Environmental SARF'!$C$10,'Environmental SARF'!D175))","v":""},{"$f":"IF(B157=\"\",\"\",IF('Environmental SARF'!E175=\"\",\"\",'Environmental SARF'!E175))","v":""},{"$f":"IF(B157=\"\",\"\",IF('Environmental SARF'!F175=\"\",\"\",'Environmental SARF'!F175))","v":""},{"$f":"IF(B157=\"\",\"\",IF('Environmental SARF'!G175=\"\",\"\",'Environmental SARF'!G175))","v":""},{"$f":"IF(C157=\"\",\"\",IF('Environmental SARF'!$N$6=\"\",\"\",CONCATENATE('Environmental SARF'!$N$6,'Environmental SARF'!$O$6)))","v":""},{"$f":"IF(C157=\"\",\"\",IF('Environmental SARF'!$N$2=\"\",\"\",'Environmental SARF'!$N$2))","v":""},{"$f":"IF(C157=\"\",\"\",IF('Environmental SARF'!$N$4=\"\",NOW(),'Environmental SARF'!$N$4))","v":""},"",{"$f":"IF(C157=\"\",\"\", IF(AND(NOT(ISBLANK('Environmental SARF'!H175)),'Environmental SARF'!$F$8<>\"1) NA\",'Environmental SARF'!$F$8<>\"1) ...\"), \"   \"&CONCATENATE('Environmental SARF'!$H$18,'Environmental SARF'!$H$19),\"\") & IF(AND(NOT(ISBLANK('Environmental SARF'!I175)),'Environmental SARF'!$F$9<>\"2) NA\",'Environmental SARF'!$F$9<>\"2) ...\"), \"   \"&CONCATENATE('Environmental SARF'!$I$18,'Environmental SARF'!$I$19),\"\")& IF(AND(NOT(ISBLANK('Environmental SARF'!J175)),'Environmental SARF'!$F$10<>\"3) NA\",'Environmental SARF'!$F$10<>\"3) ...\"), \"   \"&CONCATENATE('Environmental SARF'!$J$18,'Environmental SARF'!$J$19),\"\") & IF(AND(NOT(ISBLANK('Environmental SARF'!K175)),'Environmental SARF'!$F$11<>\"4) NA\",'Environmental SARF'!$F$11<>\"4) ...\"), \"   \"&CONCATENATE('Environmental SARF'!$K$18,'Environmental SARF'!$K$19),\"\")& IF(AND(NOT(ISBLANK('Environmental SARF'!L175)),'Environmental SARF'!$F$12<>\"5) NA\",'Environmental SARF'!$F$12<>\"5) ...\"), \"   \"&CONCATENATE('Environmental SARF'!$L$18,'Environmental SARF'!$L$19),\"\")&IF(AND(NOT(ISBLANK('Environmental SARF'!M175)),'Environmental SARF'!$F$13<>\"6) NA\",'Environmental SARF'!$F$13<>\"6) ...\"), \"   \"&CONCATENATE('Environmental SARF'!$M$18,'Environmental SARF'!$M$19),\"\")&IF(AND(NOT(ISBLANK('Environmental SARF'!N175)),'Environmental SARF'!$F$14<>\"7) NA\",'Environmental SARF'!$F$14<>\"7) ...\"), \"   \"&CONCATENATE('Environmental SARF'!$N$18,'Environmental SARF'!$N$19),\"\") &IF(AND(NOT(ISBLANK('Environmental SARF'!O175)),'Environmental SARF'!$F$15<>\"8) NA\",'Environmental SARF'!$F$15<>\"8) ...\"), \"   \"&CONCATENATE('Environmental SARF'!$O$18,'Environmental SARF'!$O$19),\"\"))","v":""}]
[{"$f":"IF(C158=\"\",\"\",IF('Environmental SARF'!B176=\"\",\"\",'Environmental SARF'!B176))","v":""},"",{"$f":"IF('Environmental SARF'!C176=\"\",\"\",'Environmental SARF'!C176)","v":""},{"$f":"IF(C158=\"\",\"\",IF('Environmental SARF'!D176=\"\",'Environmental SARF'!$C$10,'Environmental SARF'!D176))","v":""},{"$f":"IF(B158=\"\",\"\",IF('Environmental SARF'!E176=\"\",\"\",'Environmental SARF'!E176))","v":""},{"$f":"IF(B158=\"\",\"\",IF('Environmental SARF'!F176=\"\",\"\",'Environmental SARF'!F176))","v":""},{"$f":"IF(B158=\"\",\"\",IF('Environmental SARF'!G176=\"\",\"\",'Environmental SARF'!G176))","v":""},{"$f":"IF(C158=\"\",\"\",IF('Environmental SARF'!$N$6=\"\",\"\",CONCATENATE('Environmental SARF'!$N$6,'Environmental SARF'!$O$6)))","v":""},{"$f":"IF(C158=\"\",\"\",IF('Environmental SARF'!$N$2=\"\",\"\",'Environmental SARF'!$N$2))","v":""},{"$f":"IF(C158=\"\",\"\",IF('Environmental SARF'!$N$4=\"\",NOW(),'Environmental SARF'!$N$4))","v":""},"",{"$f":"IF(C158=\"\",\"\", IF(AND(NOT(ISBLANK('Environmental SARF'!H176)),'Environmental SARF'!$F$8<>\"1) NA\",'Environmental SARF'!$F$8<>\"1) ...\"), \"   \"&CONCATENATE('Environmental SARF'!$H$18,'Environmental SARF'!$H$19),\"\") & IF(AND(NOT(ISBLANK('Environmental SARF'!I176)),'Environmental SARF'!$F$9<>\"2) NA\",'Environmental SARF'!$F$9<>\"2) ...\"), \"   \"&CONCATENATE('Environmental SARF'!$I$18,'Environmental SARF'!$I$19),\"\")& IF(AND(NOT(ISBLANK('Environmental SARF'!J176)),'Environmental SARF'!$F$10<>\"3) NA\",'Environmental SARF'!$F$10<>\"3) ...\"), \"   \"&CONCATENATE('Environmental SARF'!$J$18,'Environmental SARF'!$J$19),\"\") & IF(AND(NOT(ISBLANK('Environmental SARF'!K176)),'Environmental SARF'!$F$11<>\"4) NA\",'Environmental SARF'!$F$11<>\"4) ...\"), \"   \"&CONCATENATE('Environmental SARF'!$K$18,'Environmental SARF'!$K$19),\"\")& IF(AND(NOT(ISBLANK('Environmental SARF'!L176)),'Environmental SARF'!$F$12<>\"5) NA\",'Environmental SARF'!$F$12<>\"5) ...\"), \"   \"&CONCATENATE('Environmental SARF'!$L$18,'Environmental SARF'!$L$19),\"\")&IF(AND(NOT(ISBLANK('Environmental SARF'!M176)),'Environmental SARF'!$F$13<>\"6) NA\",'Environmental SARF'!$F$13<>\"6) ...\"), \"   \"&CONCATENATE('Environmental SARF'!$M$18,'Environmental SARF'!$M$19),\"\")&IF(AND(NOT(ISBLANK('Environmental SARF'!N176)),'Environmental SARF'!$F$14<>\"7) NA\",'Environmental SARF'!$F$14<>\"7) ...\"), \"   \"&CONCATENATE('Environmental SARF'!$N$18,'Environmental SARF'!$N$19),\"\") &IF(AND(NOT(ISBLANK('Environmental SARF'!O176)),'Environmental SARF'!$F$15<>\"8) NA\",'Environmental SARF'!$F$15<>\"8) ...\"), \"   \"&CONCATENATE('Environmental SARF'!$O$18,'Environmental SARF'!$O$19),\"\"))","v":""}]
[{"$f":"IF(C159=\"\",\"\",IF('Environmental SARF'!B177=\"\",\"\",'Environmental SARF'!B177))","v":""},"",{"$f":"IF('Environmental SARF'!C177=\"\",\"\",'Environmental SARF'!C177)","v":""},{"$f":"IF(C159=\"\",\"\",IF('Environmental SARF'!D177=\"\",'Environmental SARF'!$C$10,'Environmental SARF'!D177))","v":""},{"$f":"IF(B159=\"\",\"\",IF('Environmental SARF'!E177=\"\",\"\",'Environmental SARF'!E177))","v":""},{"$f":"IF(B159=\"\",\"\",IF('Environmental SARF'!F177=\"\",\"\",'Environmental SARF'!F177))","v":""},{"$f":"IF(B159=\"\",\"\",IF('Environmental SARF'!G177=\"\",\"\",'Environmental SARF'!G177))","v":""},{"$f":"IF(C159=\"\",\"\",IF('Environmental SARF'!$N$6=\"\",\"\",CONCATENATE('Environmental SARF'!$N$6,'Environmental SARF'!$O$6)))","v":""},{"$f":"IF(C159=\"\",\"\",IF('Environmental SARF'!$N$2=\"\",\"\",'Environmental SARF'!$N$2))","v":""},{"$f":"IF(C159=\"\",\"\",IF('Environmental SARF'!$N$4=\"\",NOW(),'Environmental SARF'!$N$4))","v":""},"",{"$f":"IF(C159=\"\",\"\", IF(AND(NOT(ISBLANK('Environmental SARF'!H177)),'Environmental SARF'!$F$8<>\"1) NA\",'Environmental SARF'!$F$8<>\"1) ...\"), \"   \"&CONCATENATE('Environmental SARF'!$H$18,'Environmental SARF'!$H$19),\"\") & IF(AND(NOT(ISBLANK('Environmental SARF'!I177)),'Environmental SARF'!$F$9<>\"2) NA\",'Environmental SARF'!$F$9<>\"2) ...\"), \"   \"&CONCATENATE('Environmental SARF'!$I$18,'Environmental SARF'!$I$19),\"\")& IF(AND(NOT(ISBLANK('Environmental SARF'!J177)),'Environmental SARF'!$F$10<>\"3) NA\",'Environmental SARF'!$F$10<>\"3) ...\"), \"   \"&CONCATENATE('Environmental SARF'!$J$18,'Environmental SARF'!$J$19),\"\") & IF(AND(NOT(ISBLANK('Environmental SARF'!K177)),'Environmental SARF'!$F$11<>\"4) NA\",'Environmental SARF'!$F$11<>\"4) ...\"), \"   \"&CONCATENATE('Environmental SARF'!$K$18,'Environmental SARF'!$K$19),\"\")& IF(AND(NOT(ISBLANK('Environmental SARF'!L177)),'Environmental SARF'!$F$12<>\"5) NA\",'Environmental SARF'!$F$12<>\"5) ...\"), \"   \"&CONCATENATE('Environmental SARF'!$L$18,'Environmental SARF'!$L$19),\"\")&IF(AND(NOT(ISBLANK('Environmental SARF'!M177)),'Environmental SARF'!$F$13<>\"6) NA\",'Environmental SARF'!$F$13<>\"6) ...\"), \"   \"&CONCATENATE('Environmental SARF'!$M$18,'Environmental SARF'!$M$19),\"\")&IF(AND(NOT(ISBLANK('Environmental SARF'!N177)),'Environmental SARF'!$F$14<>\"7) NA\",'Environmental SARF'!$F$14<>\"7) ...\"), \"   \"&CONCATENATE('Environmental SARF'!$N$18,'Environmental SARF'!$N$19),\"\") &IF(AND(NOT(ISBLANK('Environmental SARF'!O177)),'Environmental SARF'!$F$15<>\"8) NA\",'Environmental SARF'!$F$15<>\"8) ...\"), \"   \"&CONCATENATE('Environmental SARF'!$O$18,'Environmental SARF'!$O$19),\"\"))","v":""}]
[{"$f":"IF(C160=\"\",\"\",IF('Environmental SARF'!B178=\"\",\"\",'Environmental SARF'!B178))","v":""},"",{"$f":"IF('Environmental SARF'!C178=\"\",\"\",'Environmental SARF'!C178)","v":""},{"$f":"IF(C160=\"\",\"\",IF('Environmental SARF'!D178=\"\",'Environmental SARF'!$C$10,'Environmental SARF'!D178))","v":""},{"$f":"IF(B160=\"\",\"\",IF('Environmental SARF'!E178=\"\",\"\",'Environmental SARF'!E178))","v":""},{"$f":"IF(B160=\"\",\"\",IF('Environmental SARF'!F178=\"\",\"\",'Environmental SARF'!F178))","v":""},{"$f":"IF(B160=\"\",\"\",IF('Environmental SARF'!G178=\"\",\"\",'Environmental SARF'!G178))","v":""},{"$f":"IF(C160=\"\",\"\",IF('Environmental SARF'!$N$6=\"\",\"\",CONCATENATE('Environmental SARF'!$N$6,'Environmental SARF'!$O$6)))","v":""},{"$f":"IF(C160=\"\",\"\",IF('Environmental SARF'!$N$2=\"\",\"\",'Environmental SARF'!$N$2))","v":""},{"$f":"IF(C160=\"\",\"\",IF('Environmental SARF'!$N$4=\"\",NOW(),'Environmental SARF'!$N$4))","v":""},"",{"$f":"IF(C160=\"\",\"\", IF(AND(NOT(ISBLANK('Environmental SARF'!H178)),'Environmental SARF'!$F$8<>\"1) NA\",'Environmental SARF'!$F$8<>\"1) ...\"), \"   \"&CONCATENATE('Environmental SARF'!$H$18,'Environmental SARF'!$H$19),\"\") & IF(AND(NOT(ISBLANK('Environmental SARF'!I178)),'Environmental SARF'!$F$9<>\"2) NA\",'Environmental SARF'!$F$9<>\"2) ...\"), \"   \"&CONCATENATE('Environmental SARF'!$I$18,'Environmental SARF'!$I$19),\"\")& IF(AND(NOT(ISBLANK('Environmental SARF'!J178)),'Environmental SARF'!$F$10<>\"3) NA\",'Environmental SARF'!$F$10<>\"3) ...\"), \"   \"&CONCATENATE('Environmental SARF'!$J$18,'Environmental SARF'!$J$19),\"\") & IF(AND(NOT(ISBLANK('Environmental SARF'!K178)),'Environmental SARF'!$F$11<>\"4) NA\",'Environmental SARF'!$F$11<>\"4) ...\"), \"   \"&CONCATENATE('Environmental SARF'!$K$18,'Environmental SARF'!$K$19),\"\")& IF(AND(NOT(ISBLANK('Environmental SARF'!L178)),'Environmental SARF'!$F$12<>\"5) NA\",'Environmental SARF'!$F$12<>\"5) ...\"), \"   \"&CONCATENATE('Environmental SARF'!$L$18,'Environmental SARF'!$L$19),\"\")&IF(AND(NOT(ISBLANK('Environmental SARF'!M178)),'Environmental SARF'!$F$13<>\"6) NA\",'Environmental SARF'!$F$13<>\"6) ...\"), \"   \"&CONCATENATE('Environmental SARF'!$M$18,'Environmental SARF'!$M$19),\"\")&IF(AND(NOT(ISBLANK('Environmental SARF'!N178)),'Environmental SARF'!$F$14<>\"7) NA\",'Environmental SARF'!$F$14<>\"7) ...\"), \"   \"&CONCATENATE('Environmental SARF'!$N$18,'Environmental SARF'!$N$19),\"\") &IF(AND(NOT(ISBLANK('Environmental SARF'!O178)),'Environmental SARF'!$F$15<>\"8) NA\",'Environmental SARF'!$F$15<>\"8) ...\"), \"   \"&CONCATENATE('Environmental SARF'!$O$18,'Environmental SARF'!$O$19),\"\"))","v":""}]
[{"$f":"IF(C161=\"\",\"\",IF('Environmental SARF'!B179=\"\",\"\",'Environmental SARF'!B179))","v":""},"",{"$f":"IF('Environmental SARF'!C179=\"\",\"\",'Environmental SARF'!C179)","v":""},{"$f":"IF(C161=\"\",\"\",IF('Environmental SARF'!D179=\"\",'Environmental SARF'!$C$10,'Environmental SARF'!D179))","v":""},{"$f":"IF(B161=\"\",\"\",IF('Environmental SARF'!E179=\"\",\"\",'Environmental SARF'!E179))","v":""},{"$f":"IF(B161=\"\",\"\",IF('Environmental SARF'!F179=\"\",\"\",'Environmental SARF'!F179))","v":""},{"$f":"IF(B161=\"\",\"\",IF('Environmental SARF'!G179=\"\",\"\",'Environmental SARF'!G179))","v":""},{"$f":"IF(C161=\"\",\"\",IF('Environmental SARF'!$N$6=\"\",\"\",CONCATENATE('Environmental SARF'!$N$6,'Environmental SARF'!$O$6)))","v":""},{"$f":"IF(C161=\"\",\"\",IF('Environmental SARF'!$N$2=\"\",\"\",'Environmental SARF'!$N$2))","v":""},{"$f":"IF(C161=\"\",\"\",IF('Environmental SARF'!$N$4=\"\",NOW(),'Environmental SARF'!$N$4))","v":""},"",{"$f":"IF(C161=\"\",\"\", IF(AND(NOT(ISBLANK('Environmental SARF'!H179)),'Environmental SARF'!$F$8<>\"1) NA\",'Environmental SARF'!$F$8<>\"1) ...\"), \"   \"&CONCATENATE('Environmental SARF'!$H$18,'Environmental SARF'!$H$19),\"\") & IF(AND(NOT(ISBLANK('Environmental SARF'!I179)),'Environmental SARF'!$F$9<>\"2) NA\",'Environmental SARF'!$F$9<>\"2) ...\"), \"   \"&CONCATENATE('Environmental SARF'!$I$18,'Environmental SARF'!$I$19),\"\")& IF(AND(NOT(ISBLANK('Environmental SARF'!J179)),'Environmental SARF'!$F$10<>\"3) NA\",'Environmental SARF'!$F$10<>\"3) ...\"), \"   \"&CONCATENATE('Environmental SARF'!$J$18,'Environmental SARF'!$J$19),\"\") & IF(AND(NOT(ISBLANK('Environmental SARF'!K179)),'Environmental SARF'!$F$11<>\"4) NA\",'Environmental SARF'!$F$11<>\"4) ...\"), \"   \"&CONCATENATE('Environmental SARF'!$K$18,'Environmental SARF'!$K$19),\"\")& IF(AND(NOT(ISBLANK('Environmental SARF'!L179)),'Environmental SARF'!$F$12<>\"5) NA\",'Environmental SARF'!$F$12<>\"5) ...\"), \"   \"&CONCATENATE('Environmental SARF'!$L$18,'Environmental SARF'!$L$19),\"\")&IF(AND(NOT(ISBLANK('Environmental SARF'!M179)),'Environmental SARF'!$F$13<>\"6) NA\",'Environmental SARF'!$F$13<>\"6) ...\"), \"   \"&CONCATENATE('Environmental SARF'!$M$18,'Environmental SARF'!$M$19),\"\")&IF(AND(NOT(ISBLANK('Environmental SARF'!N179)),'Environmental SARF'!$F$14<>\"7) NA\",'Environmental SARF'!$F$14<>\"7) ...\"), \"   \"&CONCATENATE('Environmental SARF'!$N$18,'Environmental SARF'!$N$19),\"\") &IF(AND(NOT(ISBLANK('Environmental SARF'!O179)),'Environmental SARF'!$F$15<>\"8) NA\",'Environmental SARF'!$F$15<>\"8) ...\"), \"   \"&CONCATENATE('Environmental SARF'!$O$18,'Environmental SARF'!$O$19),\"\"))","v":""}]
[{"$f":"IF(C162=\"\",\"\",IF('Environmental SARF'!B180=\"\",\"\",'Environmental SARF'!B180))","v":""},"",{"$f":"IF('Environmental SARF'!C180=\"\",\"\",'Environmental SARF'!C180)","v":""},{"$f":"IF(C162=\"\",\"\",IF('Environmental SARF'!D180=\"\",'Environmental SARF'!$C$10,'Environmental SARF'!D180))","v":""},{"$f":"IF(B162=\"\",\"\",IF('Environmental SARF'!E180=\"\",\"\",'Environmental SARF'!E180))","v":""},{"$f":"IF(B162=\"\",\"\",IF('Environmental SARF'!F180=\"\",\"\",'Environmental SARF'!F180))","v":""},{"$f":"IF(B162=\"\",\"\",IF('Environmental SARF'!G180=\"\",\"\",'Environmental SARF'!G180))","v":""},{"$f":"IF(C162=\"\",\"\",IF('Environmental SARF'!$N$6=\"\",\"\",CONCATENATE('Environmental SARF'!$N$6,'Environmental SARF'!$O$6)))","v":""},{"$f":"IF(C162=\"\",\"\",IF('Environmental SARF'!$N$2=\"\",\"\",'Environmental SARF'!$N$2))","v":""},{"$f":"IF(C162=\"\",\"\",IF('Environmental SARF'!$N$4=\"\",NOW(),'Environmental SARF'!$N$4))","v":""},"",{"$f":"IF(C162=\"\",\"\", IF(AND(NOT(ISBLANK('Environmental SARF'!H180)),'Environmental SARF'!$F$8<>\"1) NA\",'Environmental SARF'!$F$8<>\"1) ...\"), \"   \"&CONCATENATE('Environmental SARF'!$H$18,'Environmental SARF'!$H$19),\"\") & IF(AND(NOT(ISBLANK('Environmental SARF'!I180)),'Environmental SARF'!$F$9<>\"2) NA\",'Environmental SARF'!$F$9<>\"2) ...\"), \"   \"&CONCATENATE('Environmental SARF'!$I$18,'Environmental SARF'!$I$19),\"\")& IF(AND(NOT(ISBLANK('Environmental SARF'!J180)),'Environmental SARF'!$F$10<>\"3) NA\",'Environmental SARF'!$F$10<>\"3) ...\"), \"   \"&CONCATENATE('Environmental SARF'!$J$18,'Environmental SARF'!$J$19),\"\") & IF(AND(NOT(ISBLANK('Environmental SARF'!K180)),'Environmental SARF'!$F$11<>\"4) NA\",'Environmental SARF'!$F$11<>\"4) ...\"), \"   \"&CONCATENATE('Environmental SARF'!$K$18,'Environmental SARF'!$K$19),\"\")& IF(AND(NOT(ISBLANK('Environmental SARF'!L180)),'Environmental SARF'!$F$12<>\"5) NA\",'Environmental SARF'!$F$12<>\"5) ...\"), \"   \"&CONCATENATE('Environmental SARF'!$L$18,'Environmental SARF'!$L$19),\"\")&IF(AND(NOT(ISBLANK('Environmental SARF'!M180)),'Environmental SARF'!$F$13<>\"6) NA\",'Environmental SARF'!$F$13<>\"6) ...\"), \"   \"&CONCATENATE('Environmental SARF'!$M$18,'Environmental SARF'!$M$19),\"\")&IF(AND(NOT(ISBLANK('Environmental SARF'!N180)),'Environmental SARF'!$F$14<>\"7) NA\",'Environmental SARF'!$F$14<>\"7) ...\"), \"   \"&CONCATENATE('Environmental SARF'!$N$18,'Environmental SARF'!$N$19),\"\") &IF(AND(NOT(ISBLANK('Environmental SARF'!O180)),'Environmental SARF'!$F$15<>\"8) NA\",'Environmental SARF'!$F$15<>\"8) ...\"), \"   \"&CONCATENATE('Environmental SARF'!$O$18,'Environmental SARF'!$O$19),\"\"))","v":""}]
[{"$f":"IF(C163=\"\",\"\",IF('Environmental SARF'!B181=\"\",\"\",'Environmental SARF'!B181))","v":""},"",{"$f":"IF('Environmental SARF'!C181=\"\",\"\",'Environmental SARF'!C181)","v":""},{"$f":"IF(C163=\"\",\"\",IF('Environmental SARF'!D181=\"\",'Environmental SARF'!$C$10,'Environmental SARF'!D181))","v":""},{"$f":"IF(B163=\"\",\"\",IF('Environmental SARF'!E181=\"\",\"\",'Environmental SARF'!E181))","v":""},{"$f":"IF(B163=\"\",\"\",IF('Environmental SARF'!F181=\"\",\"\",'Environmental SARF'!F181))","v":""},{"$f":"IF(B163=\"\",\"\",IF('Environmental SARF'!G181=\"\",\"\",'Environmental SARF'!G181))","v":""},{"$f":"IF(C163=\"\",\"\",IF('Environmental SARF'!$N$6=\"\",\"\",CONCATENATE('Environmental SARF'!$N$6,'Environmental SARF'!$O$6)))","v":""},{"$f":"IF(C163=\"\",\"\",IF('Environmental SARF'!$N$2=\"\",\"\",'Environmental SARF'!$N$2))","v":""},{"$f":"IF(C163=\"\",\"\",IF('Environmental SARF'!$N$4=\"\",NOW(),'Environmental SARF'!$N$4))","v":""},"",{"$f":"IF(C163=\"\",\"\", IF(AND(NOT(ISBLANK('Environmental SARF'!H181)),'Environmental SARF'!$F$8<>\"1) NA\",'Environmental SARF'!$F$8<>\"1) ...\"), \"   \"&CONCATENATE('Environmental SARF'!$H$18,'Environmental SARF'!$H$19),\"\") & IF(AND(NOT(ISBLANK('Environmental SARF'!I181)),'Environmental SARF'!$F$9<>\"2) NA\",'Environmental SARF'!$F$9<>\"2) ...\"), \"   \"&CONCATENATE('Environmental SARF'!$I$18,'Environmental SARF'!$I$19),\"\")& IF(AND(NOT(ISBLANK('Environmental SARF'!J181)),'Environmental SARF'!$F$10<>\"3) NA\",'Environmental SARF'!$F$10<>\"3) ...\"), \"   \"&CONCATENATE('Environmental SARF'!$J$18,'Environmental SARF'!$J$19),\"\") & IF(AND(NOT(ISBLANK('Environmental SARF'!K181)),'Environmental SARF'!$F$11<>\"4) NA\",'Environmental SARF'!$F$11<>\"4) ...\"), \"   \"&CONCATENATE('Environmental SARF'!$K$18,'Environmental SARF'!$K$19),\"\")& IF(AND(NOT(ISBLANK('Environmental SARF'!L181)),'Environmental SARF'!$F$12<>\"5) NA\",'Environmental SARF'!$F$12<>\"5) ...\"), \"   \"&CONCATENATE('Environmental SARF'!$L$18,'Environmental SARF'!$L$19),\"\")&IF(AND(NOT(ISBLANK('Environmental SARF'!M181)),'Environmental SARF'!$F$13<>\"6) NA\",'Environmental SARF'!$F$13<>\"6) ...\"), \"   \"&CONCATENATE('Environmental SARF'!$M$18,'Environmental SARF'!$M$19),\"\")&IF(AND(NOT(ISBLANK('Environmental SARF'!N181)),'Environmental SARF'!$F$14<>\"7) NA\",'Environmental SARF'!$F$14<>\"7) ...\"), \"   \"&CONCATENATE('Environmental SARF'!$N$18,'Environmental SARF'!$N$19),\"\") &IF(AND(NOT(ISBLANK('Environmental SARF'!O181)),'Environmental SARF'!$F$15<>\"8) NA\",'Environmental SARF'!$F$15<>\"8) ...\"), \"   \"&CONCATENATE('Environmental SARF'!$O$18,'Environmental SARF'!$O$19),\"\"))","v":""}]
[{"$f":"IF(C164=\"\",\"\",IF('Environmental SARF'!B182=\"\",\"\",'Environmental SARF'!B182))","v":""},"",{"$f":"IF('Environmental SARF'!C182=\"\",\"\",'Environmental SARF'!C182)","v":""},{"$f":"IF(C164=\"\",\"\",IF('Environmental SARF'!D182=\"\",'Environmental SARF'!$C$10,'Environmental SARF'!D182))","v":""},{"$f":"IF(B164=\"\",\"\",IF('Environmental SARF'!E182=\"\",\"\",'Environmental SARF'!E182))","v":""},{"$f":"IF(B164=\"\",\"\",IF('Environmental SARF'!F182=\"\",\"\",'Environmental SARF'!F182))","v":""},{"$f":"IF(B164=\"\",\"\",IF('Environmental SARF'!G182=\"\",\"\",'Environmental SARF'!G182))","v":""},{"$f":"IF(C164=\"\",\"\",IF('Environmental SARF'!$N$6=\"\",\"\",CONCATENATE('Environmental SARF'!$N$6,'Environmental SARF'!$O$6)))","v":""},{"$f":"IF(C164=\"\",\"\",IF('Environmental SARF'!$N$2=\"\",\"\",'Environmental SARF'!$N$2))","v":""},{"$f":"IF(C164=\"\",\"\",IF('Environmental SARF'!$N$4=\"\",NOW(),'Environmental SARF'!$N$4))","v":""},"",{"$f":"IF(C164=\"\",\"\", IF(AND(NOT(ISBLANK('Environmental SARF'!H182)),'Environmental SARF'!$F$8<>\"1) NA\",'Environmental SARF'!$F$8<>\"1) ...\"), \"   \"&CONCATENATE('Environmental SARF'!$H$18,'Environmental SARF'!$H$19),\"\") & IF(AND(NOT(ISBLANK('Environmental SARF'!I182)),'Environmental SARF'!$F$9<>\"2) NA\",'Environmental SARF'!$F$9<>\"2) ...\"), \"   \"&CONCATENATE('Environmental SARF'!$I$18,'Environmental SARF'!$I$19),\"\")& IF(AND(NOT(ISBLANK('Environmental SARF'!J182)),'Environmental SARF'!$F$10<>\"3) NA\",'Environmental SARF'!$F$10<>\"3) ...\"), \"   \"&CONCATENATE('Environmental SARF'!$J$18,'Environmental SARF'!$J$19),\"\") & IF(AND(NOT(ISBLANK('Environmental SARF'!K182)),'Environmental SARF'!$F$11<>\"4) NA\",'Environmental SARF'!$F$11<>\"4) ...\"), \"   \"&CONCATENATE('Environmental SARF'!$K$18,'Environmental SARF'!$K$19),\"\")& IF(AND(NOT(ISBLANK('Environmental SARF'!L182)),'Environmental SARF'!$F$12<>\"5) NA\",'Environmental SARF'!$F$12<>\"5) ...\"), \"   \"&CONCATENATE('Environmental SARF'!$L$18,'Environmental SARF'!$L$19),\"\")&IF(AND(NOT(ISBLANK('Environmental SARF'!M182)),'Environmental SARF'!$F$13<>\"6) NA\",'Environmental SARF'!$F$13<>\"6) ...\"), \"   \"&CONCATENATE('Environmental SARF'!$M$18,'Environmental SARF'!$M$19),\"\")&IF(AND(NOT(ISBLANK('Environmental SARF'!N182)),'Environmental SARF'!$F$14<>\"7) NA\",'Environmental SARF'!$F$14<>\"7) ...\"), \"   \"&CONCATENATE('Environmental SARF'!$N$18,'Environmental SARF'!$N$19),\"\") &IF(AND(NOT(ISBLANK('Environmental SARF'!O182)),'Environmental SARF'!$F$15<>\"8) NA\",'Environmental SARF'!$F$15<>\"8) ...\"), \"   \"&CONCATENATE('Environmental SARF'!$O$18,'Environmental SARF'!$O$19),\"\"))","v":""}]
[{"$f":"IF(C165=\"\",\"\",IF('Environmental SARF'!B183=\"\",\"\",'Environmental SARF'!B183))","v":""},"",{"$f":"IF('Environmental SARF'!C183=\"\",\"\",'Environmental SARF'!C183)","v":""},{"$f":"IF(C165=\"\",\"\",IF('Environmental SARF'!D183=\"\",'Environmental SARF'!$C$10,'Environmental SARF'!D183))","v":""},{"$f":"IF(B165=\"\",\"\",IF('Environmental SARF'!E183=\"\",\"\",'Environmental SARF'!E183))","v":""},{"$f":"IF(B165=\"\",\"\",IF('Environmental SARF'!F183=\"\",\"\",'Environmental SARF'!F183))","v":""},{"$f":"IF(B165=\"\",\"\",IF('Environmental SARF'!G183=\"\",\"\",'Environmental SARF'!G183))","v":""},{"$f":"IF(C165=\"\",\"\",IF('Environmental SARF'!$N$6=\"\",\"\",CONCATENATE('Environmental SARF'!$N$6,'Environmental SARF'!$O$6)))","v":""},{"$f":"IF(C165=\"\",\"\",IF('Environmental SARF'!$N$2=\"\",\"\",'Environmental SARF'!$N$2))","v":""},{"$f":"IF(C165=\"\",\"\",IF('Environmental SARF'!$N$4=\"\",NOW(),'Environmental SARF'!$N$4))","v":""},"",{"$f":"IF(C165=\"\",\"\", IF(AND(NOT(ISBLANK('Environmental SARF'!H183)),'Environmental SARF'!$F$8<>\"1) NA\",'Environmental SARF'!$F$8<>\"1) ...\"), \"   \"&CONCATENATE('Environmental SARF'!$H$18,'Environmental SARF'!$H$19),\"\") & IF(AND(NOT(ISBLANK('Environmental SARF'!I183)),'Environmental SARF'!$F$9<>\"2) NA\",'Environmental SARF'!$F$9<>\"2) ...\"), \"   \"&CONCATENATE('Environmental SARF'!$I$18,'Environmental SARF'!$I$19),\"\")& IF(AND(NOT(ISBLANK('Environmental SARF'!J183)),'Environmental SARF'!$F$10<>\"3) NA\",'Environmental SARF'!$F$10<>\"3) ...\"), \"   \"&CONCATENATE('Environmental SARF'!$J$18,'Environmental SARF'!$J$19),\"\") & IF(AND(NOT(ISBLANK('Environmental SARF'!K183)),'Environmental SARF'!$F$11<>\"4) NA\",'Environmental SARF'!$F$11<>\"4) ...\"), \"   \"&CONCATENATE('Environmental SARF'!$K$18,'Environmental SARF'!$K$19),\"\")& IF(AND(NOT(ISBLANK('Environmental SARF'!L183)),'Environmental SARF'!$F$12<>\"5) NA\",'Environmental SARF'!$F$12<>\"5) ...\"), \"   \"&CONCATENATE('Environmental SARF'!$L$18,'Environmental SARF'!$L$19),\"\")&IF(AND(NOT(ISBLANK('Environmental SARF'!M183)),'Environmental SARF'!$F$13<>\"6) NA\",'Environmental SARF'!$F$13<>\"6) ...\"), \"   \"&CONCATENATE('Environmental SARF'!$M$18,'Environmental SARF'!$M$19),\"\")&IF(AND(NOT(ISBLANK('Environmental SARF'!N183)),'Environmental SARF'!$F$14<>\"7) NA\",'Environmental SARF'!$F$14<>\"7) ...\"), \"   \"&CONCATENATE('Environmental SARF'!$N$18,'Environmental SARF'!$N$19),\"\") &IF(AND(NOT(ISBLANK('Environmental SARF'!O183)),'Environmental SARF'!$F$15<>\"8) NA\",'Environmental SARF'!$F$15<>\"8) ...\"), \"   \"&CONCATENATE('Environmental SARF'!$O$18,'Environmental SARF'!$O$19),\"\"))","v":""}]
[{"$f":"IF(C166=\"\",\"\",IF('Environmental SARF'!B184=\"\",\"\",'Environmental SARF'!B184))","v":""},"",{"$f":"IF('Environmental SARF'!C184=\"\",\"\",'Environmental SARF'!C184)","v":""},{"$f":"IF(C166=\"\",\"\",IF('Environmental SARF'!D184=\"\",'Environmental SARF'!$C$10,'Environmental SARF'!D184))","v":""},{"$f":"IF(B166=\"\",\"\",IF('Environmental SARF'!E184=\"\",\"\",'Environmental SARF'!E184))","v":""},{"$f":"IF(B166=\"\",\"\",IF('Environmental SARF'!F184=\"\",\"\",'Environmental SARF'!F184))","v":""},{"$f":"IF(B166=\"\",\"\",IF('Environmental SARF'!G184=\"\",\"\",'Environmental SARF'!G184))","v":""},{"$f":"IF(C166=\"\",\"\",IF('Environmental SARF'!$N$6=\"\",\"\",CONCATENATE('Environmental SARF'!$N$6,'Environmental SARF'!$O$6)))","v":""},{"$f":"IF(C166=\"\",\"\",IF('Environmental SARF'!$N$2=\"\",\"\",'Environmental SARF'!$N$2))","v":""},{"$f":"IF(C166=\"\",\"\",IF('Environmental SARF'!$N$4=\"\",NOW(),'Environmental SARF'!$N$4))","v":""},"",{"$f":"IF(C166=\"\",\"\", IF(AND(NOT(ISBLANK('Environmental SARF'!H184)),'Environmental SARF'!$F$8<>\"1) NA\",'Environmental SARF'!$F$8<>\"1) ...\"), \"   \"&CONCATENATE('Environmental SARF'!$H$18,'Environmental SARF'!$H$19),\"\") & IF(AND(NOT(ISBLANK('Environmental SARF'!I184)),'Environmental SARF'!$F$9<>\"2) NA\",'Environmental SARF'!$F$9<>\"2) ...\"), \"   \"&CONCATENATE('Environmental SARF'!$I$18,'Environmental SARF'!$I$19),\"\")& IF(AND(NOT(ISBLANK('Environmental SARF'!J184)),'Environmental SARF'!$F$10<>\"3) NA\",'Environmental SARF'!$F$10<>\"3) ...\"), \"   \"&CONCATENATE('Environmental SARF'!$J$18,'Environmental SARF'!$J$19),\"\") & IF(AND(NOT(ISBLANK('Environmental SARF'!K184)),'Environmental SARF'!$F$11<>\"4) NA\",'Environmental SARF'!$F$11<>\"4) ...\"), \"   \"&CONCATENATE('Environmental SARF'!$K$18,'Environmental SARF'!$K$19),\"\")& IF(AND(NOT(ISBLANK('Environmental SARF'!L184)),'Environmental SARF'!$F$12<>\"5) NA\",'Environmental SARF'!$F$12<>\"5) ...\"), \"   \"&CONCATENATE('Environmental SARF'!$L$18,'Environmental SARF'!$L$19),\"\")&IF(AND(NOT(ISBLANK('Environmental SARF'!M184)),'Environmental SARF'!$F$13<>\"6) NA\",'Environmental SARF'!$F$13<>\"6) ...\"), \"   \"&CONCATENATE('Environmental SARF'!$M$18,'Environmental SARF'!$M$19),\"\")&IF(AND(NOT(ISBLANK('Environmental SARF'!N184)),'Environmental SARF'!$F$14<>\"7) NA\",'Environmental SARF'!$F$14<>\"7) ...\"), \"   \"&CONCATENATE('Environmental SARF'!$N$18,'Environmental SARF'!$N$19),\"\") &IF(AND(NOT(ISBLANK('Environmental SARF'!O184)),'Environmental SARF'!$F$15<>\"8) NA\",'Environmental SARF'!$F$15<>\"8) ...\"), \"   \"&CONCATENATE('Environmental SARF'!$O$18,'Environmental SARF'!$O$19),\"\"))","v":""}]
[{"$f":"IF(C167=\"\",\"\",IF('Environmental SARF'!B185=\"\",\"\",'Environmental SARF'!B185))","v":""},"",{"$f":"IF('Environmental SARF'!C185=\"\",\"\",'Environmental SARF'!C185)","v":""},{"$f":"IF(C167=\"\",\"\",IF('Environmental SARF'!D185=\"\",'Environmental SARF'!$C$10,'Environmental SARF'!D185))","v":""},{"$f":"IF(B167=\"\",\"\",IF('Environmental SARF'!E185=\"\",\"\",'Environmental SARF'!E185))","v":""},{"$f":"IF(B167=\"\",\"\",IF('Environmental SARF'!F185=\"\",\"\",'Environmental SARF'!F185))","v":""},{"$f":"IF(B167=\"\",\"\",IF('Environmental SARF'!G185=\"\",\"\",'Environmental SARF'!G185))","v":""},{"$f":"IF(C167=\"\",\"\",IF('Environmental SARF'!$N$6=\"\",\"\",CONCATENATE('Environmental SARF'!$N$6,'Environmental SARF'!$O$6)))","v":""},{"$f":"IF(C167=\"\",\"\",IF('Environmental SARF'!$N$2=\"\",\"\",'Environmental SARF'!$N$2))","v":""},{"$f":"IF(C167=\"\",\"\",IF('Environmental SARF'!$N$4=\"\",NOW(),'Environmental SARF'!$N$4))","v":""},"",{"$f":"IF(C167=\"\",\"\", IF(AND(NOT(ISBLANK('Environmental SARF'!H185)),'Environmental SARF'!$F$8<>\"1) NA\",'Environmental SARF'!$F$8<>\"1) ...\"), \"   \"&CONCATENATE('Environmental SARF'!$H$18,'Environmental SARF'!$H$19),\"\") & IF(AND(NOT(ISBLANK('Environmental SARF'!I185)),'Environmental SARF'!$F$9<>\"2) NA\",'Environmental SARF'!$F$9<>\"2) ...\"), \"   \"&CONCATENATE('Environmental SARF'!$I$18,'Environmental SARF'!$I$19),\"\")& IF(AND(NOT(ISBLANK('Environmental SARF'!J185)),'Environmental SARF'!$F$10<>\"3) NA\",'Environmental SARF'!$F$10<>\"3) ...\"), \"   \"&CONCATENATE('Environmental SARF'!$J$18,'Environmental SARF'!$J$19),\"\") & IF(AND(NOT(ISBLANK('Environmental SARF'!K185)),'Environmental SARF'!$F$11<>\"4) NA\",'Environmental SARF'!$F$11<>\"4) ...\"), \"   \"&CONCATENATE('Environmental SARF'!$K$18,'Environmental SARF'!$K$19),\"\")& IF(AND(NOT(ISBLANK('Environmental SARF'!L185)),'Environmental SARF'!$F$12<>\"5) NA\",'Environmental SARF'!$F$12<>\"5) ...\"), \"   \"&CONCATENATE('Environmental SARF'!$L$18,'Environmental SARF'!$L$19),\"\")&IF(AND(NOT(ISBLANK('Environmental SARF'!M185)),'Environmental SARF'!$F$13<>\"6) NA\",'Environmental SARF'!$F$13<>\"6) ...\"), \"   \"&CONCATENATE('Environmental SARF'!$M$18,'Environmental SARF'!$M$19),\"\")&IF(AND(NOT(ISBLANK('Environmental SARF'!N185)),'Environmental SARF'!$F$14<>\"7) NA\",'Environmental SARF'!$F$14<>\"7) ...\"), \"   \"&CONCATENATE('Environmental SARF'!$N$18,'Environmental SARF'!$N$19),\"\") &IF(AND(NOT(ISBLANK('Environmental SARF'!O185)),'Environmental SARF'!$F$15<>\"8) NA\",'Environmental SARF'!$F$15<>\"8) ...\"), \"   \"&CONCATENATE('Environmental SARF'!$O$18,'Environmental SARF'!$O$19),\"\"))","v":""}]
[{"$f":"IF(C168=\"\",\"\",IF('Environmental SARF'!B186=\"\",\"\",'Environmental SARF'!B186))","v":""},"",{"$f":"IF('Environmental SARF'!C186=\"\",\"\",'Environmental SARF'!C186)","v":""},{"$f":"IF(C168=\"\",\"\",IF('Environmental SARF'!D186=\"\",'Environmental SARF'!$C$10,'Environmental SARF'!D186))","v":""},{"$f":"IF(B168=\"\",\"\",IF('Environmental SARF'!E186=\"\",\"\",'Environmental SARF'!E186))","v":""},{"$f":"IF(B168=\"\",\"\",IF('Environmental SARF'!F186=\"\",\"\",'Environmental SARF'!F186))","v":""},{"$f":"IF(B168=\"\",\"\",IF('Environmental SARF'!G186=\"\",\"\",'Environmental SARF'!G186))","v":""},{"$f":"IF(C168=\"\",\"\",IF('Environmental SARF'!$N$6=\"\",\"\",CONCATENATE('Environmental SARF'!$N$6,'Environmental SARF'!$O$6)))","v":""},{"$f":"IF(C168=\"\",\"\",IF('Environmental SARF'!$N$2=\"\",\"\",'Environmental SARF'!$N$2))","v":""},{"$f":"IF(C168=\"\",\"\",IF('Environmental SARF'!$N$4=\"\",NOW(),'Environmental SARF'!$N$4))","v":""},"",{"$f":"IF(C168=\"\",\"\", IF(AND(NOT(ISBLANK('Environmental SARF'!H186)),'Environmental SARF'!$F$8<>\"1) NA\",'Environmental SARF'!$F$8<>\"1) ...\"), \"   \"&CONCATENATE('Environmental SARF'!$H$18,'Environmental SARF'!$H$19),\"\") & IF(AND(NOT(ISBLANK('Environmental SARF'!I186)),'Environmental SARF'!$F$9<>\"2) NA\",'Environmental SARF'!$F$9<>\"2) ...\"), \"   \"&CONCATENATE('Environmental SARF'!$I$18,'Environmental SARF'!$I$19),\"\")& IF(AND(NOT(ISBLANK('Environmental SARF'!J186)),'Environmental SARF'!$F$10<>\"3) NA\",'Environmental SARF'!$F$10<>\"3) ...\"), \"   \"&CONCATENATE('Environmental SARF'!$J$18,'Environmental SARF'!$J$19),\"\") & IF(AND(NOT(ISBLANK('Environmental SARF'!K186)),'Environmental SARF'!$F$11<>\"4) NA\",'Environmental SARF'!$F$11<>\"4) ...\"), \"   \"&CONCATENATE('Environmental SARF'!$K$18,'Environmental SARF'!$K$19),\"\")& IF(AND(NOT(ISBLANK('Environmental SARF'!L186)),'Environmental SARF'!$F$12<>\"5) NA\",'Environmental SARF'!$F$12<>\"5) ...\"), \"   \"&CONCATENATE('Environmental SARF'!$L$18,'Environmental SARF'!$L$19),\"\")&IF(AND(NOT(ISBLANK('Environmental SARF'!M186)),'Environmental SARF'!$F$13<>\"6) NA\",'Environmental SARF'!$F$13<>\"6) ...\"), \"   \"&CONCATENATE('Environmental SARF'!$M$18,'Environmental SARF'!$M$19),\"\")&IF(AND(NOT(ISBLANK('Environmental SARF'!N186)),'Environmental SARF'!$F$14<>\"7) NA\",'Environmental SARF'!$F$14<>\"7) ...\"), \"   \"&CONCATENATE('Environmental SARF'!$N$18,'Environmental SARF'!$N$19),\"\") &IF(AND(NOT(ISBLANK('Environmental SARF'!O186)),'Environmental SARF'!$F$15<>\"8) NA\",'Environmental SARF'!$F$15<>\"8) ...\"), \"   \"&CONCATENATE('Environmental SARF'!$O$18,'Environmental SARF'!$O$19),\"\"))","v":""}]
[{"$f":"IF(C169=\"\",\"\",IF('Environmental SARF'!B187=\"\",\"\",'Environmental SARF'!B187))","v":""},"",{"$f":"IF('Environmental SARF'!C187=\"\",\"\",'Environmental SARF'!C187)","v":""},{"$f":"IF(C169=\"\",\"\",IF('Environmental SARF'!D187=\"\",'Environmental SARF'!$C$10,'Environmental SARF'!D187))","v":""},{"$f":"IF(B169=\"\",\"\",IF('Environmental SARF'!E187=\"\",\"\",'Environmental SARF'!E187))","v":""},{"$f":"IF(B169=\"\",\"\",IF('Environmental SARF'!F187=\"\",\"\",'Environmental SARF'!F187))","v":""},{"$f":"IF(B169=\"\",\"\",IF('Environmental SARF'!G187=\"\",\"\",'Environmental SARF'!G187))","v":""},{"$f":"IF(C169=\"\",\"\",IF('Environmental SARF'!$N$6=\"\",\"\",CONCATENATE('Environmental SARF'!$N$6,'Environmental SARF'!$O$6)))","v":""},{"$f":"IF(C169=\"\",\"\",IF('Environmental SARF'!$N$2=\"\",\"\",'Environmental SARF'!$N$2))","v":""},{"$f":"IF(C169=\"\",\"\",IF('Environmental SARF'!$N$4=\"\",NOW(),'Environmental SARF'!$N$4))","v":""},"",{"$f":"IF(C169=\"\",\"\", IF(AND(NOT(ISBLANK('Environmental SARF'!H187)),'Environmental SARF'!$F$8<>\"1) NA\",'Environmental SARF'!$F$8<>\"1) ...\"), \"   \"&CONCATENATE('Environmental SARF'!$H$18,'Environmental SARF'!$H$19),\"\") & IF(AND(NOT(ISBLANK('Environmental SARF'!I187)),'Environmental SARF'!$F$9<>\"2) NA\",'Environmental SARF'!$F$9<>\"2) ...\"), \"   \"&CONCATENATE('Environmental SARF'!$I$18,'Environmental SARF'!$I$19),\"\")& IF(AND(NOT(ISBLANK('Environmental SARF'!J187)),'Environmental SARF'!$F$10<>\"3) NA\",'Environmental SARF'!$F$10<>\"3) ...\"), \"   \"&CONCATENATE('Environmental SARF'!$J$18,'Environmental SARF'!$J$19),\"\") & IF(AND(NOT(ISBLANK('Environmental SARF'!K187)),'Environmental SARF'!$F$11<>\"4) NA\",'Environmental SARF'!$F$11<>\"4) ...\"), \"   \"&CONCATENATE('Environmental SARF'!$K$18,'Environmental SARF'!$K$19),\"\")& IF(AND(NOT(ISBLANK('Environmental SARF'!L187)),'Environmental SARF'!$F$12<>\"5) NA\",'Environmental SARF'!$F$12<>\"5) ...\"), \"   \"&CONCATENATE('Environmental SARF'!$L$18,'Environmental SARF'!$L$19),\"\")&IF(AND(NOT(ISBLANK('Environmental SARF'!M187)),'Environmental SARF'!$F$13<>\"6) NA\",'Environmental SARF'!$F$13<>\"6) ...\"), \"   \"&CONCATENATE('Environmental SARF'!$M$18,'Environmental SARF'!$M$19),\"\")&IF(AND(NOT(ISBLANK('Environmental SARF'!N187)),'Environmental SARF'!$F$14<>\"7) NA\",'Environmental SARF'!$F$14<>\"7) ...\"), \"   \"&CONCATENATE('Environmental SARF'!$N$18,'Environmental SARF'!$N$19),\"\") &IF(AND(NOT(ISBLANK('Environmental SARF'!O187)),'Environmental SARF'!$F$15<>\"8) NA\",'Environmental SARF'!$F$15<>\"8) ...\"), \"   \"&CONCATENATE('Environmental SARF'!$O$18,'Environmental SARF'!$O$19),\"\"))","v":""}]
[{"$f":"IF(C170=\"\",\"\",IF('Environmental SARF'!B188=\"\",\"\",'Environmental SARF'!B188))","v":""},"",{"$f":"IF('Environmental SARF'!C188=\"\",\"\",'Environmental SARF'!C188)","v":""},{"$f":"IF(C170=\"\",\"\",IF('Environmental SARF'!D188=\"\",'Environmental SARF'!$C$10,'Environmental SARF'!D188))","v":""},{"$f":"IF(B170=\"\",\"\",IF('Environmental SARF'!E188=\"\",\"\",'Environmental SARF'!E188))","v":""},{"$f":"IF(B170=\"\",\"\",IF('Environmental SARF'!F188=\"\",\"\",'Environmental SARF'!F188))","v":""},{"$f":"IF(B170=\"\",\"\",IF('Environmental SARF'!G188=\"\",\"\",'Environmental SARF'!G188))","v":""},{"$f":"IF(C170=\"\",\"\",IF('Environmental SARF'!$N$6=\"\",\"\",CONCATENATE('Environmental SARF'!$N$6,'Environmental SARF'!$O$6)))","v":""},{"$f":"IF(C170=\"\",\"\",IF('Environmental SARF'!$N$2=\"\",\"\",'Environmental SARF'!$N$2))","v":""},{"$f":"IF(C170=\"\",\"\",IF('Environmental SARF'!$N$4=\"\",NOW(),'Environmental SARF'!$N$4))","v":""},"",{"$f":"IF(C170=\"\",\"\", IF(AND(NOT(ISBLANK('Environmental SARF'!H188)),'Environmental SARF'!$F$8<>\"1) NA\",'Environmental SARF'!$F$8<>\"1) ...\"), \"   \"&CONCATENATE('Environmental SARF'!$H$18,'Environmental SARF'!$H$19),\"\") & IF(AND(NOT(ISBLANK('Environmental SARF'!I188)),'Environmental SARF'!$F$9<>\"2) NA\",'Environmental SARF'!$F$9<>\"2) ...\"), \"   \"&CONCATENATE('Environmental SARF'!$I$18,'Environmental SARF'!$I$19),\"\")& IF(AND(NOT(ISBLANK('Environmental SARF'!J188)),'Environmental SARF'!$F$10<>\"3) NA\",'Environmental SARF'!$F$10<>\"3) ...\"), \"   \"&CONCATENATE('Environmental SARF'!$J$18,'Environmental SARF'!$J$19),\"\") & IF(AND(NOT(ISBLANK('Environmental SARF'!K188)),'Environmental SARF'!$F$11<>\"4) NA\",'Environmental SARF'!$F$11<>\"4) ...\"), \"   \"&CONCATENATE('Environmental SARF'!$K$18,'Environmental SARF'!$K$19),\"\")& IF(AND(NOT(ISBLANK('Environmental SARF'!L188)),'Environmental SARF'!$F$12<>\"5) NA\",'Environmental SARF'!$F$12<>\"5) ...\"), \"   \"&CONCATENATE('Environmental SARF'!$L$18,'Environmental SARF'!$L$19),\"\")&IF(AND(NOT(ISBLANK('Environmental SARF'!M188)),'Environmental SARF'!$F$13<>\"6) NA\",'Environmental SARF'!$F$13<>\"6) ...\"), \"   \"&CONCATENATE('Environmental SARF'!$M$18,'Environmental SARF'!$M$19),\"\")&IF(AND(NOT(ISBLANK('Environmental SARF'!N188)),'Environmental SARF'!$F$14<>\"7) NA\",'Environmental SARF'!$F$14<>\"7) ...\"), \"   \"&CONCATENATE('Environmental SARF'!$N$18,'Environmental SARF'!$N$19),\"\") &IF(AND(NOT(ISBLANK('Environmental SARF'!O188)),'Environmental SARF'!$F$15<>\"8) NA\",'Environmental SARF'!$F$15<>\"8) ...\"), \"   \"&CONCATENATE('Environmental SARF'!$O$18,'Environmental SARF'!$O$19),\"\"))","v":""}]
[{"$f":"IF(C171=\"\",\"\",IF('Environmental SARF'!B189=\"\",\"\",'Environmental SARF'!B189))","v":""},"",{"$f":"IF('Environmental SARF'!C189=\"\",\"\",'Environmental SARF'!C189)","v":""},{"$f":"IF(C171=\"\",\"\",IF('Environmental SARF'!D189=\"\",'Environmental SARF'!$C$10,'Environmental SARF'!D189))","v":""},{"$f":"IF(B171=\"\",\"\",IF('Environmental SARF'!E189=\"\",\"\",'Environmental SARF'!E189))","v":""},{"$f":"IF(B171=\"\",\"\",IF('Environmental SARF'!F189=\"\",\"\",'Environmental SARF'!F189))","v":""},{"$f":"IF(B171=\"\",\"\",IF('Environmental SARF'!G189=\"\",\"\",'Environmental SARF'!G189))","v":""},{"$f":"IF(C171=\"\",\"\",IF('Environmental SARF'!$N$6=\"\",\"\",CONCATENATE('Environmental SARF'!$N$6,'Environmental SARF'!$O$6)))","v":""},{"$f":"IF(C171=\"\",\"\",IF('Environmental SARF'!$N$2=\"\",\"\",'Environmental SARF'!$N$2))","v":""},{"$f":"IF(C171=\"\",\"\",IF('Environmental SARF'!$N$4=\"\",NOW(),'Environmental SARF'!$N$4))","v":""},"",{"$f":"IF(C171=\"\",\"\", IF(AND(NOT(ISBLANK('Environmental SARF'!H189)),'Environmental SARF'!$F$8<>\"1) NA\",'Environmental SARF'!$F$8<>\"1) ...\"), \"   \"&CONCATENATE('Environmental SARF'!$H$18,'Environmental SARF'!$H$19),\"\") & IF(AND(NOT(ISBLANK('Environmental SARF'!I189)),'Environmental SARF'!$F$9<>\"2) NA\",'Environmental SARF'!$F$9<>\"2) ...\"), \"   \"&CONCATENATE('Environmental SARF'!$I$18,'Environmental SARF'!$I$19),\"\")& IF(AND(NOT(ISBLANK('Environmental SARF'!J189)),'Environmental SARF'!$F$10<>\"3) NA\",'Environmental SARF'!$F$10<>\"3) ...\"), \"   \"&CONCATENATE('Environmental SARF'!$J$18,'Environmental SARF'!$J$19),\"\") & IF(AND(NOT(ISBLANK('Environmental SARF'!K189)),'Environmental SARF'!$F$11<>\"4) NA\",'Environmental SARF'!$F$11<>\"4) ...\"), \"   \"&CONCATENATE('Environmental SARF'!$K$18,'Environmental SARF'!$K$19),\"\")& IF(AND(NOT(ISBLANK('Environmental SARF'!L189)),'Environmental SARF'!$F$12<>\"5) NA\",'Environmental SARF'!$F$12<>\"5) ...\"), \"   \"&CONCATENATE('Environmental SARF'!$L$18,'Environmental SARF'!$L$19),\"\")&IF(AND(NOT(ISBLANK('Environmental SARF'!M189)),'Environmental SARF'!$F$13<>\"6) NA\",'Environmental SARF'!$F$13<>\"6) ...\"), \"   \"&CONCATENATE('Environmental SARF'!$M$18,'Environmental SARF'!$M$19),\"\")&IF(AND(NOT(ISBLANK('Environmental SARF'!N189)),'Environmental SARF'!$F$14<>\"7) NA\",'Environmental SARF'!$F$14<>\"7) ...\"), \"   \"&CONCATENATE('Environmental SARF'!$N$18,'Environmental SARF'!$N$19),\"\") &IF(AND(NOT(ISBLANK('Environmental SARF'!O189)),'Environmental SARF'!$F$15<>\"8) NA\",'Environmental SARF'!$F$15<>\"8) ...\"), \"   \"&CONCATENATE('Environmental SARF'!$O$18,'Environmental SARF'!$O$19),\"\"))","v":""}]
[{"$f":"IF(C172=\"\",\"\",IF('Environmental SARF'!B190=\"\",\"\",'Environmental SARF'!B190))","v":""},"",{"$f":"IF('Environmental SARF'!C190=\"\",\"\",'Environmental SARF'!C190)","v":""},{"$f":"IF(C172=\"\",\"\",IF('Environmental SARF'!D190=\"\",'Environmental SARF'!$C$10,'Environmental SARF'!D190))","v":""},{"$f":"IF(B172=\"\",\"\",IF('Environmental SARF'!E190=\"\",\"\",'Environmental SARF'!E190))","v":""},{"$f":"IF(B172=\"\",\"\",IF('Environmental SARF'!F190=\"\",\"\",'Environmental SARF'!F190))","v":""},{"$f":"IF(B172=\"\",\"\",IF('Environmental SARF'!G190=\"\",\"\",'Environmental SARF'!G190))","v":""},{"$f":"IF(C172=\"\",\"\",IF('Environmental SARF'!$N$6=\"\",\"\",CONCATENATE('Environmental SARF'!$N$6,'Environmental SARF'!$O$6)))","v":""},{"$f":"IF(C172=\"\",\"\",IF('Environmental SARF'!$N$2=\"\",\"\",'Environmental SARF'!$N$2))","v":""},{"$f":"IF(C172=\"\",\"\",IF('Environmental SARF'!$N$4=\"\",NOW(),'Environmental SARF'!$N$4))","v":""},"",{"$f":"IF(C172=\"\",\"\", IF(AND(NOT(ISBLANK('Environmental SARF'!H190)),'Environmental SARF'!$F$8<>\"1) NA\",'Environmental SARF'!$F$8<>\"1) ...\"), \"   \"&CONCATENATE('Environmental SARF'!$H$18,'Environmental SARF'!$H$19),\"\") & IF(AND(NOT(ISBLANK('Environmental SARF'!I190)),'Environmental SARF'!$F$9<>\"2) NA\",'Environmental SARF'!$F$9<>\"2) ...\"), \"   \"&CONCATENATE('Environmental SARF'!$I$18,'Environmental SARF'!$I$19),\"\")& IF(AND(NOT(ISBLANK('Environmental SARF'!J190)),'Environmental SARF'!$F$10<>\"3) NA\",'Environmental SARF'!$F$10<>\"3) ...\"), \"   \"&CONCATENATE('Environmental SARF'!$J$18,'Environmental SARF'!$J$19),\"\") & IF(AND(NOT(ISBLANK('Environmental SARF'!K190)),'Environmental SARF'!$F$11<>\"4) NA\",'Environmental SARF'!$F$11<>\"4) ...\"), \"   \"&CONCATENATE('Environmental SARF'!$K$18,'Environmental SARF'!$K$19),\"\")& IF(AND(NOT(ISBLANK('Environmental SARF'!L190)),'Environmental SARF'!$F$12<>\"5) NA\",'Environmental SARF'!$F$12<>\"5) ...\"), \"   \"&CONCATENATE('Environmental SARF'!$L$18,'Environmental SARF'!$L$19),\"\")&IF(AND(NOT(ISBLANK('Environmental SARF'!M190)),'Environmental SARF'!$F$13<>\"6) NA\",'Environmental SARF'!$F$13<>\"6) ...\"), \"   \"&CONCATENATE('Environmental SARF'!$M$18,'Environmental SARF'!$M$19),\"\")&IF(AND(NOT(ISBLANK('Environmental SARF'!N190)),'Environmental SARF'!$F$14<>\"7) NA\",'Environmental SARF'!$F$14<>\"7) ...\"), \"   \"&CONCATENATE('Environmental SARF'!$N$18,'Environmental SARF'!$N$19),\"\") &IF(AND(NOT(ISBLANK('Environmental SARF'!O190)),'Environmental SARF'!$F$15<>\"8) NA\",'Environmental SARF'!$F$15<>\"8) ...\"), \"   \"&CONCATENATE('Environmental SARF'!$O$18,'Environmental SARF'!$O$19),\"\"))","v":""}]
[{"$f":"IF(C173=\"\",\"\",IF('Environmental SARF'!B191=\"\",\"\",'Environmental SARF'!B191))","v":""},"",{"$f":"IF('Environmental SARF'!C191=\"\",\"\",'Environmental SARF'!C191)","v":""},{"$f":"IF(C173=\"\",\"\",IF('Environmental SARF'!D191=\"\",'Environmental SARF'!$C$10,'Environmental SARF'!D191))","v":""},{"$f":"IF(B173=\"\",\"\",IF('Environmental SARF'!E191=\"\",\"\",'Environmental SARF'!E191))","v":""},{"$f":"IF(B173=\"\",\"\",IF('Environmental SARF'!F191=\"\",\"\",'Environmental SARF'!F191))","v":""},{"$f":"IF(B173=\"\",\"\",IF('Environmental SARF'!G191=\"\",\"\",'Environmental SARF'!G191))","v":""},{"$f":"IF(C173=\"\",\"\",IF('Environmental SARF'!$N$6=\"\",\"\",CONCATENATE('Environmental SARF'!$N$6,'Environmental SARF'!$O$6)))","v":""},{"$f":"IF(C173=\"\",\"\",IF('Environmental SARF'!$N$2=\"\",\"\",'Environmental SARF'!$N$2))","v":""},{"$f":"IF(C173=\"\",\"\",IF('Environmental SARF'!$N$4=\"\",NOW(),'Environmental SARF'!$N$4))","v":""},"",{"$f":"IF(C173=\"\",\"\", IF(AND(NOT(ISBLANK('Environmental SARF'!H191)),'Environmental SARF'!$F$8<>\"1) NA\",'Environmental SARF'!$F$8<>\"1) ...\"), \"   \"&CONCATENATE('Environmental SARF'!$H$18,'Environmental SARF'!$H$19),\"\") & IF(AND(NOT(ISBLANK('Environmental SARF'!I191)),'Environmental SARF'!$F$9<>\"2) NA\",'Environmental SARF'!$F$9<>\"2) ...\"), \"   \"&CONCATENATE('Environmental SARF'!$I$18,'Environmental SARF'!$I$19),\"\")& IF(AND(NOT(ISBLANK('Environmental SARF'!J191)),'Environmental SARF'!$F$10<>\"3) NA\",'Environmental SARF'!$F$10<>\"3) ...\"), \"   \"&CONCATENATE('Environmental SARF'!$J$18,'Environmental SARF'!$J$19),\"\") & IF(AND(NOT(ISBLANK('Environmental SARF'!K191)),'Environmental SARF'!$F$11<>\"4) NA\",'Environmental SARF'!$F$11<>\"4) ...\"), \"   \"&CONCATENATE('Environmental SARF'!$K$18,'Environmental SARF'!$K$19),\"\")& IF(AND(NOT(ISBLANK('Environmental SARF'!L191)),'Environmental SARF'!$F$12<>\"5) NA\",'Environmental SARF'!$F$12<>\"5) ...\"), \"   \"&CONCATENATE('Environmental SARF'!$L$18,'Environmental SARF'!$L$19),\"\")&IF(AND(NOT(ISBLANK('Environmental SARF'!M191)),'Environmental SARF'!$F$13<>\"6) NA\",'Environmental SARF'!$F$13<>\"6) ...\"), \"   \"&CONCATENATE('Environmental SARF'!$M$18,'Environmental SARF'!$M$19),\"\")&IF(AND(NOT(ISBLANK('Environmental SARF'!N191)),'Environmental SARF'!$F$14<>\"7) NA\",'Environmental SARF'!$F$14<>\"7) ...\"), \"   \"&CONCATENATE('Environmental SARF'!$N$18,'Environmental SARF'!$N$19),\"\") &IF(AND(NOT(ISBLANK('Environmental SARF'!O191)),'Environmental SARF'!$F$15<>\"8) NA\",'Environmental SARF'!$F$15<>\"8) ...\"), \"   \"&CONCATENATE('Environmental SARF'!$O$18,'Environmental SARF'!$O$19),\"\"))","v":""}]
[{"$f":"IF(C174=\"\",\"\",IF('Environmental SARF'!B192=\"\",\"\",'Environmental SARF'!B192))","v":""},"",{"$f":"IF('Environmental SARF'!C192=\"\",\"\",'Environmental SARF'!C192)","v":""},{"$f":"IF(C174=\"\",\"\",IF('Environmental SARF'!D192=\"\",'Environmental SARF'!$C$10,'Environmental SARF'!D192))","v":""},{"$f":"IF(B174=\"\",\"\",IF('Environmental SARF'!E192=\"\",\"\",'Environmental SARF'!E192))","v":""},{"$f":"IF(B174=\"\",\"\",IF('Environmental SARF'!F192=\"\",\"\",'Environmental SARF'!F192))","v":""},{"$f":"IF(B174=\"\",\"\",IF('Environmental SARF'!G192=\"\",\"\",'Environmental SARF'!G192))","v":""},{"$f":"IF(C174=\"\",\"\",IF('Environmental SARF'!$N$6=\"\",\"\",CONCATENATE('Environmental SARF'!$N$6,'Environmental SARF'!$O$6)))","v":""},{"$f":"IF(C174=\"\",\"\",IF('Environmental SARF'!$N$2=\"\",\"\",'Environmental SARF'!$N$2))","v":""},{"$f":"IF(C174=\"\",\"\",IF('Environmental SARF'!$N$4=\"\",NOW(),'Environmental SARF'!$N$4))","v":""},"",{"$f":"IF(C174=\"\",\"\", IF(AND(NOT(ISBLANK('Environmental SARF'!H192)),'Environmental SARF'!$F$8<>\"1) NA\",'Environmental SARF'!$F$8<>\"1) ...\"), \"   \"&CONCATENATE('Environmental SARF'!$H$18,'Environmental SARF'!$H$19),\"\") & IF(AND(NOT(ISBLANK('Environmental SARF'!I192)),'Environmental SARF'!$F$9<>\"2) NA\",'Environmental SARF'!$F$9<>\"2) ...\"), \"   \"&CONCATENATE('Environmental SARF'!$I$18,'Environmental SARF'!$I$19),\"\")& IF(AND(NOT(ISBLANK('Environmental SARF'!J192)),'Environmental SARF'!$F$10<>\"3) NA\",'Environmental SARF'!$F$10<>\"3) ...\"), \"   \"&CONCATENATE('Environmental SARF'!$J$18,'Environmental SARF'!$J$19),\"\") & IF(AND(NOT(ISBLANK('Environmental SARF'!K192)),'Environmental SARF'!$F$11<>\"4) NA\",'Environmental SARF'!$F$11<>\"4) ...\"), \"   \"&CONCATENATE('Environmental SARF'!$K$18,'Environmental SARF'!$K$19),\"\")& IF(AND(NOT(ISBLANK('Environmental SARF'!L192)),'Environmental SARF'!$F$12<>\"5) NA\",'Environmental SARF'!$F$12<>\"5) ...\"), \"   \"&CONCATENATE('Environmental SARF'!$L$18,'Environmental SARF'!$L$19),\"\")&IF(AND(NOT(ISBLANK('Environmental SARF'!M192)),'Environmental SARF'!$F$13<>\"6) NA\",'Environmental SARF'!$F$13<>\"6) ...\"), \"   \"&CONCATENATE('Environmental SARF'!$M$18,'Environmental SARF'!$M$19),\"\")&IF(AND(NOT(ISBLANK('Environmental SARF'!N192)),'Environmental SARF'!$F$14<>\"7) NA\",'Environmental SARF'!$F$14<>\"7) ...\"), \"   \"&CONCATENATE('Environmental SARF'!$N$18,'Environmental SARF'!$N$19),\"\") &IF(AND(NOT(ISBLANK('Environmental SARF'!O192)),'Environmental SARF'!$F$15<>\"8) NA\",'Environmental SARF'!$F$15<>\"8) ...\"), \"   \"&CONCATENATE('Environmental SARF'!$O$18,'Environmental SARF'!$O$19),\"\"))","v":""}]
[{"$f":"IF(C175=\"\",\"\",IF('Environmental SARF'!B193=\"\",\"\",'Environmental SARF'!B193))","v":""},"",{"$f":"IF('Environmental SARF'!C193=\"\",\"\",'Environmental SARF'!C193)","v":""},{"$f":"IF(C175=\"\",\"\",IF('Environmental SARF'!D193=\"\",'Environmental SARF'!$C$10,'Environmental SARF'!D193))","v":""},{"$f":"IF(B175=\"\",\"\",IF('Environmental SARF'!E193=\"\",\"\",'Environmental SARF'!E193))","v":""},{"$f":"IF(B175=\"\",\"\",IF('Environmental SARF'!F193=\"\",\"\",'Environmental SARF'!F193))","v":""},{"$f":"IF(B175=\"\",\"\",IF('Environmental SARF'!G193=\"\",\"\",'Environmental SARF'!G193))","v":""},{"$f":"IF(C175=\"\",\"\",IF('Environmental SARF'!$N$6=\"\",\"\",CONCATENATE('Environmental SARF'!$N$6,'Environmental SARF'!$O$6)))","v":""},{"$f":"IF(C175=\"\",\"\",IF('Environmental SARF'!$N$2=\"\",\"\",'Environmental SARF'!$N$2))","v":""},{"$f":"IF(C175=\"\",\"\",IF('Environmental SARF'!$N$4=\"\",NOW(),'Environmental SARF'!$N$4))","v":""},"",{"$f":"IF(C175=\"\",\"\", IF(AND(NOT(ISBLANK('Environmental SARF'!H193)),'Environmental SARF'!$F$8<>\"1) NA\",'Environmental SARF'!$F$8<>\"1) ...\"), \"   \"&CONCATENATE('Environmental SARF'!$H$18,'Environmental SARF'!$H$19),\"\") & IF(AND(NOT(ISBLANK('Environmental SARF'!I193)),'Environmental SARF'!$F$9<>\"2) NA\",'Environmental SARF'!$F$9<>\"2) ...\"), \"   \"&CONCATENATE('Environmental SARF'!$I$18,'Environmental SARF'!$I$19),\"\")& IF(AND(NOT(ISBLANK('Environmental SARF'!J193)),'Environmental SARF'!$F$10<>\"3) NA\",'Environmental SARF'!$F$10<>\"3) ...\"), \"   \"&CONCATENATE('Environmental SARF'!$J$18,'Environmental SARF'!$J$19),\"\") & IF(AND(NOT(ISBLANK('Environmental SARF'!K193)),'Environmental SARF'!$F$11<>\"4) NA\",'Environmental SARF'!$F$11<>\"4) ...\"), \"   \"&CONCATENATE('Environmental SARF'!$K$18,'Environmental SARF'!$K$19),\"\")& IF(AND(NOT(ISBLANK('Environmental SARF'!L193)),'Environmental SARF'!$F$12<>\"5) NA\",'Environmental SARF'!$F$12<>\"5) ...\"), \"   \"&CONCATENATE('Environmental SARF'!$L$18,'Environmental SARF'!$L$19),\"\")&IF(AND(NOT(ISBLANK('Environmental SARF'!M193)),'Environmental SARF'!$F$13<>\"6) NA\",'Environmental SARF'!$F$13<>\"6) ...\"), \"   \"&CONCATENATE('Environmental SARF'!$M$18,'Environmental SARF'!$M$19),\"\")&IF(AND(NOT(ISBLANK('Environmental SARF'!N193)),'Environmental SARF'!$F$14<>\"7) NA\",'Environmental SARF'!$F$14<>\"7) ...\"), \"   \"&CONCATENATE('Environmental SARF'!$N$18,'Environmental SARF'!$N$19),\"\") &IF(AND(NOT(ISBLANK('Environmental SARF'!O193)),'Environmental SARF'!$F$15<>\"8) NA\",'Environmental SARF'!$F$15<>\"8) ...\"), \"   \"&CONCATENATE('Environmental SARF'!$O$18,'Environmental SARF'!$O$19),\"\"))","v":""}]
[{"$f":"IF(C176=\"\",\"\",IF('Environmental SARF'!B194=\"\",\"\",'Environmental SARF'!B194))","v":""},"",{"$f":"IF('Environmental SARF'!C194=\"\",\"\",'Environmental SARF'!C194)","v":""},{"$f":"IF(C176=\"\",\"\",IF('Environmental SARF'!D194=\"\",'Environmental SARF'!$C$10,'Environmental SARF'!D194))","v":""},{"$f":"IF(B176=\"\",\"\",IF('Environmental SARF'!E194=\"\",\"\",'Environmental SARF'!E194))","v":""},{"$f":"IF(B176=\"\",\"\",IF('Environmental SARF'!F194=\"\",\"\",'Environmental SARF'!F194))","v":""},{"$f":"IF(B176=\"\",\"\",IF('Environmental SARF'!G194=\"\",\"\",'Environmental SARF'!G194))","v":""},{"$f":"IF(C176=\"\",\"\",IF('Environmental SARF'!$N$6=\"\",\"\",CONCATENATE('Environmental SARF'!$N$6,'Environmental SARF'!$O$6)))","v":""},{"$f":"IF(C176=\"\",\"\",IF('Environmental SARF'!$N$2=\"\",\"\",'Environmental SARF'!$N$2))","v":""},{"$f":"IF(C176=\"\",\"\",IF('Environmental SARF'!$N$4=\"\",NOW(),'Environmental SARF'!$N$4))","v":""},"",{"$f":"IF(C176=\"\",\"\", IF(AND(NOT(ISBLANK('Environmental SARF'!H194)),'Environmental SARF'!$F$8<>\"1) NA\",'Environmental SARF'!$F$8<>\"1) ...\"), \"   \"&CONCATENATE('Environmental SARF'!$H$18,'Environmental SARF'!$H$19),\"\") & IF(AND(NOT(ISBLANK('Environmental SARF'!I194)),'Environmental SARF'!$F$9<>\"2) NA\",'Environmental SARF'!$F$9<>\"2) ...\"), \"   \"&CONCATENATE('Environmental SARF'!$I$18,'Environmental SARF'!$I$19),\"\")& IF(AND(NOT(ISBLANK('Environmental SARF'!J194)),'Environmental SARF'!$F$10<>\"3) NA\",'Environmental SARF'!$F$10<>\"3) ...\"), \"   \"&CONCATENATE('Environmental SARF'!$J$18,'Environmental SARF'!$J$19),\"\") & IF(AND(NOT(ISBLANK('Environmental SARF'!K194)),'Environmental SARF'!$F$11<>\"4) NA\",'Environmental SARF'!$F$11<>\"4) ...\"), \"   \"&CONCATENATE('Environmental SARF'!$K$18,'Environmental SARF'!$K$19),\"\")& IF(AND(NOT(ISBLANK('Environmental SARF'!L194)),'Environmental SARF'!$F$12<>\"5) NA\",'Environmental SARF'!$F$12<>\"5) ...\"), \"   \"&CONCATENATE('Environmental SARF'!$L$18,'Environmental SARF'!$L$19),\"\")&IF(AND(NOT(ISBLANK('Environmental SARF'!M194)),'Environmental SARF'!$F$13<>\"6) NA\",'Environmental SARF'!$F$13<>\"6) ...\"), \"   \"&CONCATENATE('Environmental SARF'!$M$18,'Environmental SARF'!$M$19),\"\")&IF(AND(NOT(ISBLANK('Environmental SARF'!N194)),'Environmental SARF'!$F$14<>\"7) NA\",'Environmental SARF'!$F$14<>\"7) ...\"), \"   \"&CONCATENATE('Environmental SARF'!$N$18,'Environmental SARF'!$N$19),\"\") &IF(AND(NOT(ISBLANK('Environmental SARF'!O194)),'Environmental SARF'!$F$15<>\"8) NA\",'Environmental SARF'!$F$15<>\"8) ...\"), \"   \"&CONCATENATE('Environmental SARF'!$O$18,'Environmental SARF'!$O$19),\"\"))","v":""}]
[{"$f":"IF(C177=\"\",\"\",IF('Environmental SARF'!B195=\"\",\"\",'Environmental SARF'!B195))","v":""},"",{"$f":"IF('Environmental SARF'!C195=\"\",\"\",'Environmental SARF'!C195)","v":""},{"$f":"IF(C177=\"\",\"\",IF('Environmental SARF'!D195=\"\",'Environmental SARF'!$C$10,'Environmental SARF'!D195))","v":""},{"$f":"IF(B177=\"\",\"\",IF('Environmental SARF'!E195=\"\",\"\",'Environmental SARF'!E195))","v":""},{"$f":"IF(B177=\"\",\"\",IF('Environmental SARF'!F195=\"\",\"\",'Environmental SARF'!F195))","v":""},{"$f":"IF(B177=\"\",\"\",IF('Environmental SARF'!G195=\"\",\"\",'Environmental SARF'!G195))","v":""},{"$f":"IF(C177=\"\",\"\",IF('Environmental SARF'!$N$6=\"\",\"\",CONCATENATE('Environmental SARF'!$N$6,'Environmental SARF'!$O$6)))","v":""},{"$f":"IF(C177=\"\",\"\",IF('Environmental SARF'!$N$2=\"\",\"\",'Environmental SARF'!$N$2))","v":""},{"$f":"IF(C177=\"\",\"\",IF('Environmental SARF'!$N$4=\"\",NOW(),'Environmental SARF'!$N$4))","v":""},"",{"$f":"IF(C177=\"\",\"\", IF(AND(NOT(ISBLANK('Environmental SARF'!H195)),'Environmental SARF'!$F$8<>\"1) NA\",'Environmental SARF'!$F$8<>\"1) ...\"), \"   \"&CONCATENATE('Environmental SARF'!$H$18,'Environmental SARF'!$H$19),\"\") & IF(AND(NOT(ISBLANK('Environmental SARF'!I195)),'Environmental SARF'!$F$9<>\"2) NA\",'Environmental SARF'!$F$9<>\"2) ...\"), \"   \"&CONCATENATE('Environmental SARF'!$I$18,'Environmental SARF'!$I$19),\"\")& IF(AND(NOT(ISBLANK('Environmental SARF'!J195)),'Environmental SARF'!$F$10<>\"3) NA\",'Environmental SARF'!$F$10<>\"3) ...\"), \"   \"&CONCATENATE('Environmental SARF'!$J$18,'Environmental SARF'!$J$19),\"\") & IF(AND(NOT(ISBLANK('Environmental SARF'!K195)),'Environmental SARF'!$F$11<>\"4) NA\",'Environmental SARF'!$F$11<>\"4) ...\"), \"   \"&CONCATENATE('Environmental SARF'!$K$18,'Environmental SARF'!$K$19),\"\")& IF(AND(NOT(ISBLANK('Environmental SARF'!L195)),'Environmental SARF'!$F$12<>\"5) NA\",'Environmental SARF'!$F$12<>\"5) ...\"), \"   \"&CONCATENATE('Environmental SARF'!$L$18,'Environmental SARF'!$L$19),\"\")&IF(AND(NOT(ISBLANK('Environmental SARF'!M195)),'Environmental SARF'!$F$13<>\"6) NA\",'Environmental SARF'!$F$13<>\"6) ...\"), \"   \"&CONCATENATE('Environmental SARF'!$M$18,'Environmental SARF'!$M$19),\"\")&IF(AND(NOT(ISBLANK('Environmental SARF'!N195)),'Environmental SARF'!$F$14<>\"7) NA\",'Environmental SARF'!$F$14<>\"7) ...\"), \"   \"&CONCATENATE('Environmental SARF'!$N$18,'Environmental SARF'!$N$19),\"\") &IF(AND(NOT(ISBLANK('Environmental SARF'!O195)),'Environmental SARF'!$F$15<>\"8) NA\",'Environmental SARF'!$F$15<>\"8) ...\"), \"   \"&CONCATENATE('Environmental SARF'!$O$18,'Environmental SARF'!$O$19),\"\"))","v":""}]
[{"$f":"IF(C178=\"\",\"\",IF('Environmental SARF'!B196=\"\",\"\",'Environmental SARF'!B196))","v":""},"",{"$f":"IF('Environmental SARF'!C196=\"\",\"\",'Environmental SARF'!C196)","v":""},{"$f":"IF(C178=\"\",\"\",IF('Environmental SARF'!D196=\"\",'Environmental SARF'!$C$10,'Environmental SARF'!D196))","v":""},{"$f":"IF(B178=\"\",\"\",IF('Environmental SARF'!E196=\"\",\"\",'Environmental SARF'!E196))","v":""},{"$f":"IF(B178=\"\",\"\",IF('Environmental SARF'!F196=\"\",\"\",'Environmental SARF'!F196))","v":""},{"$f":"IF(B178=\"\",\"\",IF('Environmental SARF'!G196=\"\",\"\",'Environmental SARF'!G196))","v":""},{"$f":"IF(C178=\"\",\"\",IF('Environmental SARF'!$N$6=\"\",\"\",CONCATENATE('Environmental SARF'!$N$6,'Environmental SARF'!$O$6)))","v":""},{"$f":"IF(C178=\"\",\"\",IF('Environmental SARF'!$N$2=\"\",\"\",'Environmental SARF'!$N$2))","v":""},{"$f":"IF(C178=\"\",\"\",IF('Environmental SARF'!$N$4=\"\",NOW(),'Environmental SARF'!$N$4))","v":""},"",{"$f":"IF(C178=\"\",\"\", IF(AND(NOT(ISBLANK('Environmental SARF'!H196)),'Environmental SARF'!$F$8<>\"1) NA\",'Environmental SARF'!$F$8<>\"1) ...\"), \"   \"&CONCATENATE('Environmental SARF'!$H$18,'Environmental SARF'!$H$19),\"\") & IF(AND(NOT(ISBLANK('Environmental SARF'!I196)),'Environmental SARF'!$F$9<>\"2) NA\",'Environmental SARF'!$F$9<>\"2) ...\"), \"   \"&CONCATENATE('Environmental SARF'!$I$18,'Environmental SARF'!$I$19),\"\")& IF(AND(NOT(ISBLANK('Environmental SARF'!J196)),'Environmental SARF'!$F$10<>\"3) NA\",'Environmental SARF'!$F$10<>\"3) ...\"), \"   \"&CONCATENATE('Environmental SARF'!$J$18,'Environmental SARF'!$J$19),\"\") & IF(AND(NOT(ISBLANK('Environmental SARF'!K196)),'Environmental SARF'!$F$11<>\"4) NA\",'Environmental SARF'!$F$11<>\"4) ...\"), \"   \"&CONCATENATE('Environmental SARF'!$K$18,'Environmental SARF'!$K$19),\"\")& IF(AND(NOT(ISBLANK('Environmental SARF'!L196)),'Environmental SARF'!$F$12<>\"5) NA\",'Environmental SARF'!$F$12<>\"5) ...\"), \"   \"&CONCATENATE('Environmental SARF'!$L$18,'Environmental SARF'!$L$19),\"\")&IF(AND(NOT(ISBLANK('Environmental SARF'!M196)),'Environmental SARF'!$F$13<>\"6) NA\",'Environmental SARF'!$F$13<>\"6) ...\"), \"   \"&CONCATENATE('Environmental SARF'!$M$18,'Environmental SARF'!$M$19),\"\")&IF(AND(NOT(ISBLANK('Environmental SARF'!N196)),'Environmental SARF'!$F$14<>\"7) NA\",'Environmental SARF'!$F$14<>\"7) ...\"), \"   \"&CONCATENATE('Environmental SARF'!$N$18,'Environmental SARF'!$N$19),\"\") &IF(AND(NOT(ISBLANK('Environmental SARF'!O196)),'Environmental SARF'!$F$15<>\"8) NA\",'Environmental SARF'!$F$15<>\"8) ...\"), \"   \"&CONCATENATE('Environmental SARF'!$O$18,'Environmental SARF'!$O$19),\"\"))","v":""}]
[{"$f":"IF(C179=\"\",\"\",IF('Environmental SARF'!B197=\"\",\"\",'Environmental SARF'!B197))","v":""},"",{"$f":"IF('Environmental SARF'!C197=\"\",\"\",'Environmental SARF'!C197)","v":""},{"$f":"IF(C179=\"\",\"\",IF('Environmental SARF'!D197=\"\",'Environmental SARF'!$C$10,'Environmental SARF'!D197))","v":""},{"$f":"IF(B179=\"\",\"\",IF('Environmental SARF'!E197=\"\",\"\",'Environmental SARF'!E197))","v":""},{"$f":"IF(B179=\"\",\"\",IF('Environmental SARF'!F197=\"\",\"\",'Environmental SARF'!F197))","v":""},{"$f":"IF(B179=\"\",\"\",IF('Environmental SARF'!G197=\"\",\"\",'Environmental SARF'!G197))","v":""},{"$f":"IF(C179=\"\",\"\",IF('Environmental SARF'!$N$6=\"\",\"\",CONCATENATE('Environmental SARF'!$N$6,'Environmental SARF'!$O$6)))","v":""},{"$f":"IF(C179=\"\",\"\",IF('Environmental SARF'!$N$2=\"\",\"\",'Environmental SARF'!$N$2))","v":""},{"$f":"IF(C179=\"\",\"\",IF('Environmental SARF'!$N$4=\"\",NOW(),'Environmental SARF'!$N$4))","v":""},"",{"$f":"IF(C179=\"\",\"\", IF(AND(NOT(ISBLANK('Environmental SARF'!H197)),'Environmental SARF'!$F$8<>\"1) NA\",'Environmental SARF'!$F$8<>\"1) ...\"), \"   \"&CONCATENATE('Environmental SARF'!$H$18,'Environmental SARF'!$H$19),\"\") & IF(AND(NOT(ISBLANK('Environmental SARF'!I197)),'Environmental SARF'!$F$9<>\"2) NA\",'Environmental SARF'!$F$9<>\"2) ...\"), \"   \"&CONCATENATE('Environmental SARF'!$I$18,'Environmental SARF'!$I$19),\"\")& IF(AND(NOT(ISBLANK('Environmental SARF'!J197)),'Environmental SARF'!$F$10<>\"3) NA\",'Environmental SARF'!$F$10<>\"3) ...\"), \"   \"&CONCATENATE('Environmental SARF'!$J$18,'Environmental SARF'!$J$19),\"\") & IF(AND(NOT(ISBLANK('Environmental SARF'!K197)),'Environmental SARF'!$F$11<>\"4) NA\",'Environmental SARF'!$F$11<>\"4) ...\"), \"   \"&CONCATENATE('Environmental SARF'!$K$18,'Environmental SARF'!$K$19),\"\")& IF(AND(NOT(ISBLANK('Environmental SARF'!L197)),'Environmental SARF'!$F$12<>\"5) NA\",'Environmental SARF'!$F$12<>\"5) ...\"), \"   \"&CONCATENATE('Environmental SARF'!$L$18,'Environmental SARF'!$L$19),\"\")&IF(AND(NOT(ISBLANK('Environmental SARF'!M197)),'Environmental SARF'!$F$13<>\"6) NA\",'Environmental SARF'!$F$13<>\"6) ...\"), \"   \"&CONCATENATE('Environmental SARF'!$M$18,'Environmental SARF'!$M$19),\"\")&IF(AND(NOT(ISBLANK('Environmental SARF'!N197)),'Environmental SARF'!$F$14<>\"7) NA\",'Environmental SARF'!$F$14<>\"7) ...\"), \"   \"&CONCATENATE('Environmental SARF'!$N$18,'Environmental SARF'!$N$19),\"\") &IF(AND(NOT(ISBLANK('Environmental SARF'!O197)),'Environmental SARF'!$F$15<>\"8) NA\",'Environmental SARF'!$F$15<>\"8) ...\"), \"   \"&CONCATENATE('Environmental SARF'!$O$18,'Environmental SARF'!$O$19),\"\"))","v":""}]
[{"$f":"IF(C180=\"\",\"\",IF('Environmental SARF'!B198=\"\",\"\",'Environmental SARF'!B198))","v":""},"",{"$f":"IF('Environmental SARF'!C198=\"\",\"\",'Environmental SARF'!C198)","v":""},{"$f":"IF(C180=\"\",\"\",IF('Environmental SARF'!D198=\"\",'Environmental SARF'!$C$10,'Environmental SARF'!D198))","v":""},{"$f":"IF(B180=\"\",\"\",IF('Environmental SARF'!E198=\"\",\"\",'Environmental SARF'!E198))","v":""},{"$f":"IF(B180=\"\",\"\",IF('Environmental SARF'!F198=\"\",\"\",'Environmental SARF'!F198))","v":""},{"$f":"IF(B180=\"\",\"\",IF('Environmental SARF'!G198=\"\",\"\",'Environmental SARF'!G198))","v":""},{"$f":"IF(C180=\"\",\"\",IF('Environmental SARF'!$N$6=\"\",\"\",CONCATENATE('Environmental SARF'!$N$6,'Environmental SARF'!$O$6)))","v":""},{"$f":"IF(C180=\"\",\"\",IF('Environmental SARF'!$N$2=\"\",\"\",'Environmental SARF'!$N$2))","v":""},{"$f":"IF(C180=\"\",\"\",IF('Environmental SARF'!$N$4=\"\",NOW(),'Environmental SARF'!$N$4))","v":""},"",{"$f":"IF(C180=\"\",\"\", IF(AND(NOT(ISBLANK('Environmental SARF'!H198)),'Environmental SARF'!$F$8<>\"1) NA\",'Environmental SARF'!$F$8<>\"1) ...\"), \"   \"&CONCATENATE('Environmental SARF'!$H$18,'Environmental SARF'!$H$19),\"\") & IF(AND(NOT(ISBLANK('Environmental SARF'!I198)),'Environmental SARF'!$F$9<>\"2) NA\",'Environmental SARF'!$F$9<>\"2) ...\"), \"   \"&CONCATENATE('Environmental SARF'!$I$18,'Environmental SARF'!$I$19),\"\")& IF(AND(NOT(ISBLANK('Environmental SARF'!J198)),'Environmental SARF'!$F$10<>\"3) NA\",'Environmental SARF'!$F$10<>\"3) ...\"), \"   \"&CONCATENATE('Environmental SARF'!$J$18,'Environmental SARF'!$J$19),\"\") & IF(AND(NOT(ISBLANK('Environmental SARF'!K198)),'Environmental SARF'!$F$11<>\"4) NA\",'Environmental SARF'!$F$11<>\"4) ...\"), \"   \"&CONCATENATE('Environmental SARF'!$K$18,'Environmental SARF'!$K$19),\"\")& IF(AND(NOT(ISBLANK('Environmental SARF'!L198)),'Environmental SARF'!$F$12<>\"5) NA\",'Environmental SARF'!$F$12<>\"5) ...\"), \"   \"&CONCATENATE('Environmental SARF'!$L$18,'Environmental SARF'!$L$19),\"\")&IF(AND(NOT(ISBLANK('Environmental SARF'!M198)),'Environmental SARF'!$F$13<>\"6) NA\",'Environmental SARF'!$F$13<>\"6) ...\"), \"   \"&CONCATENATE('Environmental SARF'!$M$18,'Environmental SARF'!$M$19),\"\")&IF(AND(NOT(ISBLANK('Environmental SARF'!N198)),'Environmental SARF'!$F$14<>\"7) NA\",'Environmental SARF'!$F$14<>\"7) ...\"), \"   \"&CONCATENATE('Environmental SARF'!$N$18,'Environmental SARF'!$N$19),\"\") &IF(AND(NOT(ISBLANK('Environmental SARF'!O198)),'Environmental SARF'!$F$15<>\"8) NA\",'Environmental SARF'!$F$15<>\"8) ...\"), \"   \"&CONCATENATE('Environmental SARF'!$O$18,'Environmental SARF'!$O$19),\"\"))","v":""}]
[{"$f":"IF(C181=\"\",\"\",IF('Environmental SARF'!B199=\"\",\"\",'Environmental SARF'!B199))","v":""},"",{"$f":"IF('Environmental SARF'!C199=\"\",\"\",'Environmental SARF'!C199)","v":""},{"$f":"IF(C181=\"\",\"\",IF('Environmental SARF'!D199=\"\",'Environmental SARF'!$C$10,'Environmental SARF'!D199))","v":""},{"$f":"IF(B181=\"\",\"\",IF('Environmental SARF'!E199=\"\",\"\",'Environmental SARF'!E199))","v":""},{"$f":"IF(B181=\"\",\"\",IF('Environmental SARF'!F199=\"\",\"\",'Environmental SARF'!F199))","v":""},{"$f":"IF(B181=\"\",\"\",IF('Environmental SARF'!G199=\"\",\"\",'Environmental SARF'!G199))","v":""},{"$f":"IF(C181=\"\",\"\",IF('Environmental SARF'!$N$6=\"\",\"\",CONCATENATE('Environmental SARF'!$N$6,'Environmental SARF'!$O$6)))","v":""},{"$f":"IF(C181=\"\",\"\",IF('Environmental SARF'!$N$2=\"\",\"\",'Environmental SARF'!$N$2))","v":""},{"$f":"IF(C181=\"\",\"\",IF('Environmental SARF'!$N$4=\"\",NOW(),'Environmental SARF'!$N$4))","v":""},"",{"$f":"IF(C181=\"\",\"\", IF(AND(NOT(ISBLANK('Environmental SARF'!H199)),'Environmental SARF'!$F$8<>\"1) NA\",'Environmental SARF'!$F$8<>\"1) ...\"), \"   \"&CONCATENATE('Environmental SARF'!$H$18,'Environmental SARF'!$H$19),\"\") & IF(AND(NOT(ISBLANK('Environmental SARF'!I199)),'Environmental SARF'!$F$9<>\"2) NA\",'Environmental SARF'!$F$9<>\"2) ...\"), \"   \"&CONCATENATE('Environmental SARF'!$I$18,'Environmental SARF'!$I$19),\"\")& IF(AND(NOT(ISBLANK('Environmental SARF'!J199)),'Environmental SARF'!$F$10<>\"3) NA\",'Environmental SARF'!$F$10<>\"3) ...\"), \"   \"&CONCATENATE('Environmental SARF'!$J$18,'Environmental SARF'!$J$19),\"\") & IF(AND(NOT(ISBLANK('Environmental SARF'!K199)),'Environmental SARF'!$F$11<>\"4) NA\",'Environmental SARF'!$F$11<>\"4) ...\"), \"   \"&CONCATENATE('Environmental SARF'!$K$18,'Environmental SARF'!$K$19),\"\")& IF(AND(NOT(ISBLANK('Environmental SARF'!L199)),'Environmental SARF'!$F$12<>\"5) NA\",'Environmental SARF'!$F$12<>\"5) ...\"), \"   \"&CONCATENATE('Environmental SARF'!$L$18,'Environmental SARF'!$L$19),\"\")&IF(AND(NOT(ISBLANK('Environmental SARF'!M199)),'Environmental SARF'!$F$13<>\"6) NA\",'Environmental SARF'!$F$13<>\"6) ...\"), \"   \"&CONCATENATE('Environmental SARF'!$M$18,'Environmental SARF'!$M$19),\"\")&IF(AND(NOT(ISBLANK('Environmental SARF'!N199)),'Environmental SARF'!$F$14<>\"7) NA\",'Environmental SARF'!$F$14<>\"7) ...\"), \"   \"&CONCATENATE('Environmental SARF'!$N$18,'Environmental SARF'!$N$19),\"\") &IF(AND(NOT(ISBLANK('Environmental SARF'!O199)),'Environmental SARF'!$F$15<>\"8) NA\",'Environmental SARF'!$F$15<>\"8) ...\"), \"   \"&CONCATENATE('Environmental SARF'!$O$18,'Environmental SARF'!$O$19),\"\"))","v":""}]
[{"$f":"IF(C182=\"\",\"\",IF('Environmental SARF'!B200=\"\",\"\",'Environmental SARF'!B200))","v":""},"",{"$f":"IF('Environmental SARF'!C200=\"\",\"\",'Environmental SARF'!C200)","v":""},{"$f":"IF(C182=\"\",\"\",IF('Environmental SARF'!D200=\"\",'Environmental SARF'!$C$10,'Environmental SARF'!D200))","v":""},{"$f":"IF(B182=\"\",\"\",IF('Environmental SARF'!E200=\"\",\"\",'Environmental SARF'!E200))","v":""},{"$f":"IF(B182=\"\",\"\",IF('Environmental SARF'!F200=\"\",\"\",'Environmental SARF'!F200))","v":""},{"$f":"IF(B182=\"\",\"\",IF('Environmental SARF'!G200=\"\",\"\",'Environmental SARF'!G200))","v":""},{"$f":"IF(C182=\"\",\"\",IF('Environmental SARF'!$N$6=\"\",\"\",CONCATENATE('Environmental SARF'!$N$6,'Environmental SARF'!$O$6)))","v":""},{"$f":"IF(C182=\"\",\"\",IF('Environmental SARF'!$N$2=\"\",\"\",'Environmental SARF'!$N$2))","v":""},{"$f":"IF(C182=\"\",\"\",IF('Environmental SARF'!$N$4=\"\",NOW(),'Environmental SARF'!$N$4))","v":""},"",{"$f":"IF(C182=\"\",\"\", IF(AND(NOT(ISBLANK('Environmental SARF'!H200)),'Environmental SARF'!$F$8<>\"1) NA\",'Environmental SARF'!$F$8<>\"1) ...\"), \"   \"&CONCATENATE('Environmental SARF'!$H$18,'Environmental SARF'!$H$19),\"\") & IF(AND(NOT(ISBLANK('Environmental SARF'!I200)),'Environmental SARF'!$F$9<>\"2) NA\",'Environmental SARF'!$F$9<>\"2) ...\"), \"   \"&CONCATENATE('Environmental SARF'!$I$18,'Environmental SARF'!$I$19),\"\")& IF(AND(NOT(ISBLANK('Environmental SARF'!J200)),'Environmental SARF'!$F$10<>\"3) NA\",'Environmental SARF'!$F$10<>\"3) ...\"), \"   \"&CONCATENATE('Environmental SARF'!$J$18,'Environmental SARF'!$J$19),\"\") & IF(AND(NOT(ISBLANK('Environmental SARF'!K200)),'Environmental SARF'!$F$11<>\"4) NA\",'Environmental SARF'!$F$11<>\"4) ...\"), \"   \"&CONCATENATE('Environmental SARF'!$K$18,'Environmental SARF'!$K$19),\"\")& IF(AND(NOT(ISBLANK('Environmental SARF'!L200)),'Environmental SARF'!$F$12<>\"5) NA\",'Environmental SARF'!$F$12<>\"5) ...\"), \"   \"&CONCATENATE('Environmental SARF'!$L$18,'Environmental SARF'!$L$19),\"\")&IF(AND(NOT(ISBLANK('Environmental SARF'!M200)),'Environmental SARF'!$F$13<>\"6) NA\",'Environmental SARF'!$F$13<>\"6) ...\"), \"   \"&CONCATENATE('Environmental SARF'!$M$18,'Environmental SARF'!$M$19),\"\")&IF(AND(NOT(ISBLANK('Environmental SARF'!N200)),'Environmental SARF'!$F$14<>\"7) NA\",'Environmental SARF'!$F$14<>\"7) ...\"), \"   \"&CONCATENATE('Environmental SARF'!$N$18,'Environmental SARF'!$N$19),\"\") &IF(AND(NOT(ISBLANK('Environmental SARF'!O200)),'Environmental SARF'!$F$15<>\"8) NA\",'Environmental SARF'!$F$15<>\"8) ...\"), \"   \"&CONCATENATE('Environmental SARF'!$O$18,'Environmental SARF'!$O$19),\"\"))","v":""}]
[{"$f":"IF(C183=\"\",\"\",IF('Environmental SARF'!B201=\"\",\"\",'Environmental SARF'!B201))","v":""},"",{"$f":"IF('Environmental SARF'!C201=\"\",\"\",'Environmental SARF'!C201)","v":""},{"$f":"IF(C183=\"\",\"\",IF('Environmental SARF'!D201=\"\",'Environmental SARF'!$C$10,'Environmental SARF'!D201))","v":""},{"$f":"IF(B183=\"\",\"\",IF('Environmental SARF'!E201=\"\",\"\",'Environmental SARF'!E201))","v":""},{"$f":"IF(B183=\"\",\"\",IF('Environmental SARF'!F201=\"\",\"\",'Environmental SARF'!F201))","v":""},{"$f":"IF(B183=\"\",\"\",IF('Environmental SARF'!G201=\"\",\"\",'Environmental SARF'!G201))","v":""},{"$f":"IF(C183=\"\",\"\",IF('Environmental SARF'!$N$6=\"\",\"\",CONCATENATE('Environmental SARF'!$N$6,'Environmental SARF'!$O$6)))","v":""},{"$f":"IF(C183=\"\",\"\",IF('Environmental SARF'!$N$2=\"\",\"\",'Environmental SARF'!$N$2))","v":""},{"$f":"IF(C183=\"\",\"\",IF('Environmental SARF'!$N$4=\"\",NOW(),'Environmental SARF'!$N$4))","v":""},"",{"$f":"IF(C183=\"\",\"\", IF(AND(NOT(ISBLANK('Environmental SARF'!H201)),'Environmental SARF'!$F$8<>\"1) NA\",'Environmental SARF'!$F$8<>\"1) ...\"), \"   \"&CONCATENATE('Environmental SARF'!$H$18,'Environmental SARF'!$H$19),\"\") & IF(AND(NOT(ISBLANK('Environmental SARF'!I201)),'Environmental SARF'!$F$9<>\"2) NA\",'Environmental SARF'!$F$9<>\"2) ...\"), \"   \"&CONCATENATE('Environmental SARF'!$I$18,'Environmental SARF'!$I$19),\"\")& IF(AND(NOT(ISBLANK('Environmental SARF'!J201)),'Environmental SARF'!$F$10<>\"3) NA\",'Environmental SARF'!$F$10<>\"3) ...\"), \"   \"&CONCATENATE('Environmental SARF'!$J$18,'Environmental SARF'!$J$19),\"\") & IF(AND(NOT(ISBLANK('Environmental SARF'!K201)),'Environmental SARF'!$F$11<>\"4) NA\",'Environmental SARF'!$F$11<>\"4) ...\"), \"   \"&CONCATENATE('Environmental SARF'!$K$18,'Environmental SARF'!$K$19),\"\")& IF(AND(NOT(ISBLANK('Environmental SARF'!L201)),'Environmental SARF'!$F$12<>\"5) NA\",'Environmental SARF'!$F$12<>\"5) ...\"), \"   \"&CONCATENATE('Environmental SARF'!$L$18,'Environmental SARF'!$L$19),\"\")&IF(AND(NOT(ISBLANK('Environmental SARF'!M201)),'Environmental SARF'!$F$13<>\"6) NA\",'Environmental SARF'!$F$13<>\"6) ...\"), \"   \"&CONCATENATE('Environmental SARF'!$M$18,'Environmental SARF'!$M$19),\"\")&IF(AND(NOT(ISBLANK('Environmental SARF'!N201)),'Environmental SARF'!$F$14<>\"7) NA\",'Environmental SARF'!$F$14<>\"7) ...\"), \"   \"&CONCATENATE('Environmental SARF'!$N$18,'Environmental SARF'!$N$19),\"\") &IF(AND(NOT(ISBLANK('Environmental SARF'!O201)),'Environmental SARF'!$F$15<>\"8) NA\",'Environmental SARF'!$F$15<>\"8) ...\"), \"   \"&CONCATENATE('Environmental SARF'!$O$18,'Environmental SARF'!$O$19),\"\"))","v":""}]
[{"$f":"IF(C184=\"\",\"\",IF('Environmental SARF'!B202=\"\",\"\",'Environmental SARF'!B202))","v":""},"",{"$f":"IF('Environmental SARF'!C202=\"\",\"\",'Environmental SARF'!C202)","v":""},{"$f":"IF(C184=\"\",\"\",IF('Environmental SARF'!D202=\"\",'Environmental SARF'!$C$10,'Environmental SARF'!D202))","v":""},{"$f":"IF(B184=\"\",\"\",IF('Environmental SARF'!E202=\"\",\"\",'Environmental SARF'!E202))","v":""},{"$f":"IF(B184=\"\",\"\",IF('Environmental SARF'!F202=\"\",\"\",'Environmental SARF'!F202))","v":""},{"$f":"IF(B184=\"\",\"\",IF('Environmental SARF'!G202=\"\",\"\",'Environmental SARF'!G202))","v":""},{"$f":"IF(C184=\"\",\"\",IF('Environmental SARF'!$N$6=\"\",\"\",CONCATENATE('Environmental SARF'!$N$6,'Environmental SARF'!$O$6)))","v":""},{"$f":"IF(C184=\"\",\"\",IF('Environmental SARF'!$N$2=\"\",\"\",'Environmental SARF'!$N$2))","v":""},{"$f":"IF(C184=\"\",\"\",IF('Environmental SARF'!$N$4=\"\",NOW(),'Environmental SARF'!$N$4))","v":""},"",{"$f":"IF(C184=\"\",\"\", IF(AND(NOT(ISBLANK('Environmental SARF'!H202)),'Environmental SARF'!$F$8<>\"1) NA\",'Environmental SARF'!$F$8<>\"1) ...\"), \"   \"&CONCATENATE('Environmental SARF'!$H$18,'Environmental SARF'!$H$19),\"\") & IF(AND(NOT(ISBLANK('Environmental SARF'!I202)),'Environmental SARF'!$F$9<>\"2) NA\",'Environmental SARF'!$F$9<>\"2) ...\"), \"   \"&CONCATENATE('Environmental SARF'!$I$18,'Environmental SARF'!$I$19),\"\")& IF(AND(NOT(ISBLANK('Environmental SARF'!J202)),'Environmental SARF'!$F$10<>\"3) NA\",'Environmental SARF'!$F$10<>\"3) ...\"), \"   \"&CONCATENATE('Environmental SARF'!$J$18,'Environmental SARF'!$J$19),\"\") & IF(AND(NOT(ISBLANK('Environmental SARF'!K202)),'Environmental SARF'!$F$11<>\"4) NA\",'Environmental SARF'!$F$11<>\"4) ...\"), \"   \"&CONCATENATE('Environmental SARF'!$K$18,'Environmental SARF'!$K$19),\"\")& IF(AND(NOT(ISBLANK('Environmental SARF'!L202)),'Environmental SARF'!$F$12<>\"5) NA\",'Environmental SARF'!$F$12<>\"5) ...\"), \"   \"&CONCATENATE('Environmental SARF'!$L$18,'Environmental SARF'!$L$19),\"\")&IF(AND(NOT(ISBLANK('Environmental SARF'!M202)),'Environmental SARF'!$F$13<>\"6) NA\",'Environmental SARF'!$F$13<>\"6) ...\"), \"   \"&CONCATENATE('Environmental SARF'!$M$18,'Environmental SARF'!$M$19),\"\")&IF(AND(NOT(ISBLANK('Environmental SARF'!N202)),'Environmental SARF'!$F$14<>\"7) NA\",'Environmental SARF'!$F$14<>\"7) ...\"), \"   \"&CONCATENATE('Environmental SARF'!$N$18,'Environmental SARF'!$N$19),\"\") &IF(AND(NOT(ISBLANK('Environmental SARF'!O202)),'Environmental SARF'!$F$15<>\"8) NA\",'Environmental SARF'!$F$15<>\"8) ...\"), \"   \"&CONCATENATE('Environmental SARF'!$O$18,'Environmental SARF'!$O$19),\"\"))","v":""}]
[{"$f":"IF(C185=\"\",\"\",IF('Environmental SARF'!B203=\"\",\"\",'Environmental SARF'!B203))","v":""},"",{"$f":"IF('Environmental SARF'!C203=\"\",\"\",'Environmental SARF'!C203)","v":""},{"$f":"IF(C185=\"\",\"\",IF('Environmental SARF'!D203=\"\",'Environmental SARF'!$C$10,'Environmental SARF'!D203))","v":""},{"$f":"IF(B185=\"\",\"\",IF('Environmental SARF'!E203=\"\",\"\",'Environmental SARF'!E203))","v":""},{"$f":"IF(B185=\"\",\"\",IF('Environmental SARF'!F203=\"\",\"\",'Environmental SARF'!F203))","v":""},{"$f":"IF(B185=\"\",\"\",IF('Environmental SARF'!G203=\"\",\"\",'Environmental SARF'!G203))","v":""},{"$f":"IF(C185=\"\",\"\",IF('Environmental SARF'!$N$6=\"\",\"\",CONCATENATE('Environmental SARF'!$N$6,'Environmental SARF'!$O$6)))","v":""},{"$f":"IF(C185=\"\",\"\",IF('Environmental SARF'!$N$2=\"\",\"\",'Environmental SARF'!$N$2))","v":""},{"$f":"IF(C185=\"\",\"\",IF('Environmental SARF'!$N$4=\"\",NOW(),'Environmental SARF'!$N$4))","v":""},"",{"$f":"IF(C185=\"\",\"\", IF(AND(NOT(ISBLANK('Environmental SARF'!H203)),'Environmental SARF'!$F$8<>\"1) NA\",'Environmental SARF'!$F$8<>\"1) ...\"), \"   \"&CONCATENATE('Environmental SARF'!$H$18,'Environmental SARF'!$H$19),\"\") & IF(AND(NOT(ISBLANK('Environmental SARF'!I203)),'Environmental SARF'!$F$9<>\"2) NA\",'Environmental SARF'!$F$9<>\"2) ...\"), \"   \"&CONCATENATE('Environmental SARF'!$I$18,'Environmental SARF'!$I$19),\"\")& IF(AND(NOT(ISBLANK('Environmental SARF'!J203)),'Environmental SARF'!$F$10<>\"3) NA\",'Environmental SARF'!$F$10<>\"3) ...\"), \"   \"&CONCATENATE('Environmental SARF'!$J$18,'Environmental SARF'!$J$19),\"\") & IF(AND(NOT(ISBLANK('Environmental SARF'!K203)),'Environmental SARF'!$F$11<>\"4) NA\",'Environmental SARF'!$F$11<>\"4) ...\"), \"   \"&CONCATENATE('Environmental SARF'!$K$18,'Environmental SARF'!$K$19),\"\")& IF(AND(NOT(ISBLANK('Environmental SARF'!L203)),'Environmental SARF'!$F$12<>\"5) NA\",'Environmental SARF'!$F$12<>\"5) ...\"), \"   \"&CONCATENATE('Environmental SARF'!$L$18,'Environmental SARF'!$L$19),\"\")&IF(AND(NOT(ISBLANK('Environmental SARF'!M203)),'Environmental SARF'!$F$13<>\"6) NA\",'Environmental SARF'!$F$13<>\"6) ...\"), \"   \"&CONCATENATE('Environmental SARF'!$M$18,'Environmental SARF'!$M$19),\"\")&IF(AND(NOT(ISBLANK('Environmental SARF'!N203)),'Environmental SARF'!$F$14<>\"7) NA\",'Environmental SARF'!$F$14<>\"7) ...\"), \"   \"&CONCATENATE('Environmental SARF'!$N$18,'Environmental SARF'!$N$19),\"\") &IF(AND(NOT(ISBLANK('Environmental SARF'!O203)),'Environmental SARF'!$F$15<>\"8) NA\",'Environmental SARF'!$F$15<>\"8) ...\"), \"   \"&CONCATENATE('Environmental SARF'!$O$18,'Environmental SARF'!$O$19),\"\"))","v":""}]
[{"$f":"IF(C186=\"\",\"\",IF('Environmental SARF'!B204=\"\",\"\",'Environmental SARF'!B204))","v":""},"",{"$f":"IF('Environmental SARF'!C204=\"\",\"\",'Environmental SARF'!C204)","v":""},{"$f":"IF(C186=\"\",\"\",IF('Environmental SARF'!D204=\"\",'Environmental SARF'!$C$10,'Environmental SARF'!D204))","v":""},{"$f":"IF(B186=\"\",\"\",IF('Environmental SARF'!E204=\"\",\"\",'Environmental SARF'!E204))","v":""},{"$f":"IF(B186=\"\",\"\",IF('Environmental SARF'!F204=\"\",\"\",'Environmental SARF'!F204))","v":""},{"$f":"IF(B186=\"\",\"\",IF('Environmental SARF'!G204=\"\",\"\",'Environmental SARF'!G204))","v":""},{"$f":"IF(C186=\"\",\"\",IF('Environmental SARF'!$N$6=\"\",\"\",CONCATENATE('Environmental SARF'!$N$6,'Environmental SARF'!$O$6)))","v":""},{"$f":"IF(C186=\"\",\"\",IF('Environmental SARF'!$N$2=\"\",\"\",'Environmental SARF'!$N$2))","v":""},{"$f":"IF(C186=\"\",\"\",IF('Environmental SARF'!$N$4=\"\",NOW(),'Environmental SARF'!$N$4))","v":""},"",{"$f":"IF(C186=\"\",\"\", IF(AND(NOT(ISBLANK('Environmental SARF'!H204)),'Environmental SARF'!$F$8<>\"1) NA\",'Environmental SARF'!$F$8<>\"1) ...\"), \"   \"&CONCATENATE('Environmental SARF'!$H$18,'Environmental SARF'!$H$19),\"\") & IF(AND(NOT(ISBLANK('Environmental SARF'!I204)),'Environmental SARF'!$F$9<>\"2) NA\",'Environmental SARF'!$F$9<>\"2) ...\"), \"   \"&CONCATENATE('Environmental SARF'!$I$18,'Environmental SARF'!$I$19),\"\")& IF(AND(NOT(ISBLANK('Environmental SARF'!J204)),'Environmental SARF'!$F$10<>\"3) NA\",'Environmental SARF'!$F$10<>\"3) ...\"), \"   \"&CONCATENATE('Environmental SARF'!$J$18,'Environmental SARF'!$J$19),\"\") & IF(AND(NOT(ISBLANK('Environmental SARF'!K204)),'Environmental SARF'!$F$11<>\"4) NA\",'Environmental SARF'!$F$11<>\"4) ...\"), \"   \"&CONCATENATE('Environmental SARF'!$K$18,'Environmental SARF'!$K$19),\"\")& IF(AND(NOT(ISBLANK('Environmental SARF'!L204)),'Environmental SARF'!$F$12<>\"5) NA\",'Environmental SARF'!$F$12<>\"5) ...\"), \"   \"&CONCATENATE('Environmental SARF'!$L$18,'Environmental SARF'!$L$19),\"\")&IF(AND(NOT(ISBLANK('Environmental SARF'!M204)),'Environmental SARF'!$F$13<>\"6) NA\",'Environmental SARF'!$F$13<>\"6) ...\"), \"   \"&CONCATENATE('Environmental SARF'!$M$18,'Environmental SARF'!$M$19),\"\")&IF(AND(NOT(ISBLANK('Environmental SARF'!N204)),'Environmental SARF'!$F$14<>\"7) NA\",'Environmental SARF'!$F$14<>\"7) ...\"), \"   \"&CONCATENATE('Environmental SARF'!$N$18,'Environmental SARF'!$N$19),\"\") &IF(AND(NOT(ISBLANK('Environmental SARF'!O204)),'Environmental SARF'!$F$15<>\"8) NA\",'Environmental SARF'!$F$15<>\"8) ...\"), \"   \"&CONCATENATE('Environmental SARF'!$O$18,'Environmental SARF'!$O$19),\"\"))","v":""}]
[{"$f":"IF(C187=\"\",\"\",IF('Environmental SARF'!B205=\"\",\"\",'Environmental SARF'!B205))","v":""},"",{"$f":"IF('Environmental SARF'!C205=\"\",\"\",'Environmental SARF'!C205)","v":""},{"$f":"IF(C187=\"\",\"\",IF('Environmental SARF'!D205=\"\",'Environmental SARF'!$C$10,'Environmental SARF'!D205))","v":""},{"$f":"IF(B187=\"\",\"\",IF('Environmental SARF'!E205=\"\",\"\",'Environmental SARF'!E205))","v":""},{"$f":"IF(B187=\"\",\"\",IF('Environmental SARF'!F205=\"\",\"\",'Environmental SARF'!F205))","v":""},{"$f":"IF(B187=\"\",\"\",IF('Environmental SARF'!G205=\"\",\"\",'Environmental SARF'!G205))","v":""},{"$f":"IF(C187=\"\",\"\",IF('Environmental SARF'!$N$6=\"\",\"\",CONCATENATE('Environmental SARF'!$N$6,'Environmental SARF'!$O$6)))","v":""},{"$f":"IF(C187=\"\",\"\",IF('Environmental SARF'!$N$2=\"\",\"\",'Environmental SARF'!$N$2))","v":""},{"$f":"IF(C187=\"\",\"\",IF('Environmental SARF'!$N$4=\"\",NOW(),'Environmental SARF'!$N$4))","v":""},"",{"$f":"IF(C187=\"\",\"\", IF(AND(NOT(ISBLANK('Environmental SARF'!H205)),'Environmental SARF'!$F$8<>\"1) NA\",'Environmental SARF'!$F$8<>\"1) ...\"), \"   \"&CONCATENATE('Environmental SARF'!$H$18,'Environmental SARF'!$H$19),\"\") & IF(AND(NOT(ISBLANK('Environmental SARF'!I205)),'Environmental SARF'!$F$9<>\"2) NA\",'Environmental SARF'!$F$9<>\"2) ...\"), \"   \"&CONCATENATE('Environmental SARF'!$I$18,'Environmental SARF'!$I$19),\"\")& IF(AND(NOT(ISBLANK('Environmental SARF'!J205)),'Environmental SARF'!$F$10<>\"3) NA\",'Environmental SARF'!$F$10<>\"3) ...\"), \"   \"&CONCATENATE('Environmental SARF'!$J$18,'Environmental SARF'!$J$19),\"\") & IF(AND(NOT(ISBLANK('Environmental SARF'!K205)),'Environmental SARF'!$F$11<>\"4) NA\",'Environmental SARF'!$F$11<>\"4) ...\"), \"   \"&CONCATENATE('Environmental SARF'!$K$18,'Environmental SARF'!$K$19),\"\")& IF(AND(NOT(ISBLANK('Environmental SARF'!L205)),'Environmental SARF'!$F$12<>\"5) NA\",'Environmental SARF'!$F$12<>\"5) ...\"), \"   \"&CONCATENATE('Environmental SARF'!$L$18,'Environmental SARF'!$L$19),\"\")&IF(AND(NOT(ISBLANK('Environmental SARF'!M205)),'Environmental SARF'!$F$13<>\"6) NA\",'Environmental SARF'!$F$13<>\"6) ...\"), \"   \"&CONCATENATE('Environmental SARF'!$M$18,'Environmental SARF'!$M$19),\"\")&IF(AND(NOT(ISBLANK('Environmental SARF'!N205)),'Environmental SARF'!$F$14<>\"7) NA\",'Environmental SARF'!$F$14<>\"7) ...\"), \"   \"&CONCATENATE('Environmental SARF'!$N$18,'Environmental SARF'!$N$19),\"\") &IF(AND(NOT(ISBLANK('Environmental SARF'!O205)),'Environmental SARF'!$F$15<>\"8) NA\",'Environmental SARF'!$F$15<>\"8) ...\"), \"   \"&CONCATENATE('Environmental SARF'!$O$18,'Environmental SARF'!$O$19),\"\"))","v":""}]
[{"$f":"IF(C188=\"\",\"\",IF('Environmental SARF'!B206=\"\",\"\",'Environmental SARF'!B206))","v":""},"",{"$f":"IF('Environmental SARF'!C206=\"\",\"\",'Environmental SARF'!C206)","v":""},{"$f":"IF(C188=\"\",\"\",IF('Environmental SARF'!D206=\"\",'Environmental SARF'!$C$10,'Environmental SARF'!D206))","v":""},{"$f":"IF(B188=\"\",\"\",IF('Environmental SARF'!E206=\"\",\"\",'Environmental SARF'!E206))","v":""},{"$f":"IF(B188=\"\",\"\",IF('Environmental SARF'!F206=\"\",\"\",'Environmental SARF'!F206))","v":""},{"$f":"IF(B188=\"\",\"\",IF('Environmental SARF'!G206=\"\",\"\",'Environmental SARF'!G206))","v":""},{"$f":"IF(C188=\"\",\"\",IF('Environmental SARF'!$N$6=\"\",\"\",CONCATENATE('Environmental SARF'!$N$6,'Environmental SARF'!$O$6)))","v":""},{"$f":"IF(C188=\"\",\"\",IF('Environmental SARF'!$N$2=\"\",\"\",'Environmental SARF'!$N$2))","v":""},{"$f":"IF(C188=\"\",\"\",IF('Environmental SARF'!$N$4=\"\",NOW(),'Environmental SARF'!$N$4))","v":""},"",{"$f":"IF(C188=\"\",\"\", IF(AND(NOT(ISBLANK('Environmental SARF'!H206)),'Environmental SARF'!$F$8<>\"1) NA\",'Environmental SARF'!$F$8<>\"1) ...\"), \"   \"&CONCATENATE('Environmental SARF'!$H$18,'Environmental SARF'!$H$19),\"\") & IF(AND(NOT(ISBLANK('Environmental SARF'!I206)),'Environmental SARF'!$F$9<>\"2) NA\",'Environmental SARF'!$F$9<>\"2) ...\"), \"   \"&CONCATENATE('Environmental SARF'!$I$18,'Environmental SARF'!$I$19),\"\")& IF(AND(NOT(ISBLANK('Environmental SARF'!J206)),'Environmental SARF'!$F$10<>\"3) NA\",'Environmental SARF'!$F$10<>\"3) ...\"), \"   \"&CONCATENATE('Environmental SARF'!$J$18,'Environmental SARF'!$J$19),\"\") & IF(AND(NOT(ISBLANK('Environmental SARF'!K206)),'Environmental SARF'!$F$11<>\"4) NA\",'Environmental SARF'!$F$11<>\"4) ...\"), \"   \"&CONCATENATE('Environmental SARF'!$K$18,'Environmental SARF'!$K$19),\"\")& IF(AND(NOT(ISBLANK('Environmental SARF'!L206)),'Environmental SARF'!$F$12<>\"5) NA\",'Environmental SARF'!$F$12<>\"5) ...\"), \"   \"&CONCATENATE('Environmental SARF'!$L$18,'Environmental SARF'!$L$19),\"\")&IF(AND(NOT(ISBLANK('Environmental SARF'!M206)),'Environmental SARF'!$F$13<>\"6) NA\",'Environmental SARF'!$F$13<>\"6) ...\"), \"   \"&CONCATENATE('Environmental SARF'!$M$18,'Environmental SARF'!$M$19),\"\")&IF(AND(NOT(ISBLANK('Environmental SARF'!N206)),'Environmental SARF'!$F$14<>\"7) NA\",'Environmental SARF'!$F$14<>\"7) ...\"), \"   \"&CONCATENATE('Environmental SARF'!$N$18,'Environmental SARF'!$N$19),\"\") &IF(AND(NOT(ISBLANK('Environmental SARF'!O206)),'Environmental SARF'!$F$15<>\"8) NA\",'Environmental SARF'!$F$15<>\"8) ...\"), \"   \"&CONCATENATE('Environmental SARF'!$O$18,'Environmental SARF'!$O$19),\"\"))","v":""}]
[{"$f":"IF(C189=\"\",\"\",IF('Environmental SARF'!B207=\"\",\"\",'Environmental SARF'!B207))","v":""},"",{"$f":"IF('Environmental SARF'!C207=\"\",\"\",'Environmental SARF'!C207)","v":""},{"$f":"IF(C189=\"\",\"\",IF('Environmental SARF'!D207=\"\",'Environmental SARF'!$C$10,'Environmental SARF'!D207))","v":""},{"$f":"IF(B189=\"\",\"\",IF('Environmental SARF'!E207=\"\",\"\",'Environmental SARF'!E207))","v":""},{"$f":"IF(B189=\"\",\"\",IF('Environmental SARF'!F207=\"\",\"\",'Environmental SARF'!F207))","v":""},{"$f":"IF(B189=\"\",\"\",IF('Environmental SARF'!G207=\"\",\"\",'Environmental SARF'!G207))","v":""},{"$f":"IF(C189=\"\",\"\",IF('Environmental SARF'!$N$6=\"\",\"\",CONCATENATE('Environmental SARF'!$N$6,'Environmental SARF'!$O$6)))","v":""},{"$f":"IF(C189=\"\",\"\",IF('Environmental SARF'!$N$2=\"\",\"\",'Environmental SARF'!$N$2))","v":""},{"$f":"IF(C189=\"\",\"\",IF('Environmental SARF'!$N$4=\"\",NOW(),'Environmental SARF'!$N$4))","v":""},"",{"$f":"IF(C189=\"\",\"\", IF(AND(NOT(ISBLANK('Environmental SARF'!H207)),'Environmental SARF'!$F$8<>\"1) NA\",'Environmental SARF'!$F$8<>\"1) ...\"), \"   \"&CONCATENATE('Environmental SARF'!$H$18,'Environmental SARF'!$H$19),\"\") & IF(AND(NOT(ISBLANK('Environmental SARF'!I207)),'Environmental SARF'!$F$9<>\"2) NA\",'Environmental SARF'!$F$9<>\"2) ...\"), \"   \"&CONCATENATE('Environmental SARF'!$I$18,'Environmental SARF'!$I$19),\"\")& IF(AND(NOT(ISBLANK('Environmental SARF'!J207)),'Environmental SARF'!$F$10<>\"3) NA\",'Environmental SARF'!$F$10<>\"3) ...\"), \"   \"&CONCATENATE('Environmental SARF'!$J$18,'Environmental SARF'!$J$19),\"\") & IF(AND(NOT(ISBLANK('Environmental SARF'!K207)),'Environmental SARF'!$F$11<>\"4) NA\",'Environmental SARF'!$F$11<>\"4) ...\"), \"   \"&CONCATENATE('Environmental SARF'!$K$18,'Environmental SARF'!$K$19),\"\")& IF(AND(NOT(ISBLANK('Environmental SARF'!L207)),'Environmental SARF'!$F$12<>\"5) NA\",'Environmental SARF'!$F$12<>\"5) ...\"), \"   \"&CONCATENATE('Environmental SARF'!$L$18,'Environmental SARF'!$L$19),\"\")&IF(AND(NOT(ISBLANK('Environmental SARF'!M207)),'Environmental SARF'!$F$13<>\"6) NA\",'Environmental SARF'!$F$13<>\"6) ...\"), \"   \"&CONCATENATE('Environmental SARF'!$M$18,'Environmental SARF'!$M$19),\"\")&IF(AND(NOT(ISBLANK('Environmental SARF'!N207)),'Environmental SARF'!$F$14<>\"7) NA\",'Environmental SARF'!$F$14<>\"7) ...\"), \"   \"&CONCATENATE('Environmental SARF'!$N$18,'Environmental SARF'!$N$19),\"\") &IF(AND(NOT(ISBLANK('Environmental SARF'!O207)),'Environmental SARF'!$F$15<>\"8) NA\",'Environmental SARF'!$F$15<>\"8) ...\"), \"   \"&CONCATENATE('Environmental SARF'!$O$18,'Environmental SARF'!$O$19),\"\"))","v":""}]
[{"$f":"IF(C190=\"\",\"\",IF('Environmental SARF'!B208=\"\",\"\",'Environmental SARF'!B208))","v":""},"",{"$f":"IF('Environmental SARF'!C208=\"\",\"\",'Environmental SARF'!C208)","v":""},{"$f":"IF(C190=\"\",\"\",IF('Environmental SARF'!D208=\"\",'Environmental SARF'!$C$10,'Environmental SARF'!D208))","v":""},{"$f":"IF(B190=\"\",\"\",IF('Environmental SARF'!E208=\"\",\"\",'Environmental SARF'!E208))","v":""},{"$f":"IF(B190=\"\",\"\",IF('Environmental SARF'!F208=\"\",\"\",'Environmental SARF'!F208))","v":""},{"$f":"IF(B190=\"\",\"\",IF('Environmental SARF'!G208=\"\",\"\",'Environmental SARF'!G208))","v":""},{"$f":"IF(C190=\"\",\"\",IF('Environmental SARF'!$N$6=\"\",\"\",CONCATENATE('Environmental SARF'!$N$6,'Environmental SARF'!$O$6)))","v":""},{"$f":"IF(C190=\"\",\"\",IF('Environmental SARF'!$N$2=\"\",\"\",'Environmental SARF'!$N$2))","v":""},{"$f":"IF(C190=\"\",\"\",IF('Environmental SARF'!$N$4=\"\",NOW(),'Environmental SARF'!$N$4))","v":""},"",{"$f":"IF(C190=\"\",\"\", IF(AND(NOT(ISBLANK('Environmental SARF'!H208)),'Environmental SARF'!$F$8<>\"1) NA\",'Environmental SARF'!$F$8<>\"1) ...\"), \"   \"&CONCATENATE('Environmental SARF'!$H$18,'Environmental SARF'!$H$19),\"\") & IF(AND(NOT(ISBLANK('Environmental SARF'!I208)),'Environmental SARF'!$F$9<>\"2) NA\",'Environmental SARF'!$F$9<>\"2) ...\"), \"   \"&CONCATENATE('Environmental SARF'!$I$18,'Environmental SARF'!$I$19),\"\")& IF(AND(NOT(ISBLANK('Environmental SARF'!J208)),'Environmental SARF'!$F$10<>\"3) NA\",'Environmental SARF'!$F$10<>\"3) ...\"), \"   \"&CONCATENATE('Environmental SARF'!$J$18,'Environmental SARF'!$J$19),\"\") & IF(AND(NOT(ISBLANK('Environmental SARF'!K208)),'Environmental SARF'!$F$11<>\"4) NA\",'Environmental SARF'!$F$11<>\"4) ...\"), \"   \"&CONCATENATE('Environmental SARF'!$K$18,'Environmental SARF'!$K$19),\"\")& IF(AND(NOT(ISBLANK('Environmental SARF'!L208)),'Environmental SARF'!$F$12<>\"5) NA\",'Environmental SARF'!$F$12<>\"5) ...\"), \"   \"&CONCATENATE('Environmental SARF'!$L$18,'Environmental SARF'!$L$19),\"\")&IF(AND(NOT(ISBLANK('Environmental SARF'!M208)),'Environmental SARF'!$F$13<>\"6) NA\",'Environmental SARF'!$F$13<>\"6) ...\"), \"   \"&CONCATENATE('Environmental SARF'!$M$18,'Environmental SARF'!$M$19),\"\")&IF(AND(NOT(ISBLANK('Environmental SARF'!N208)),'Environmental SARF'!$F$14<>\"7) NA\",'Environmental SARF'!$F$14<>\"7) ...\"), \"   \"&CONCATENATE('Environmental SARF'!$N$18,'Environmental SARF'!$N$19),\"\") &IF(AND(NOT(ISBLANK('Environmental SARF'!O208)),'Environmental SARF'!$F$15<>\"8) NA\",'Environmental SARF'!$F$15<>\"8) ...\"), \"   \"&CONCATENATE('Environmental SARF'!$O$18,'Environmental SARF'!$O$19),\"\"))","v":""}]
[{"$f":"IF(C191=\"\",\"\",IF('Environmental SARF'!B209=\"\",\"\",'Environmental SARF'!B209))","v":""},"",{"$f":"IF('Environmental SARF'!C209=\"\",\"\",'Environmental SARF'!C209)","v":""},{"$f":"IF(C191=\"\",\"\",IF('Environmental SARF'!D209=\"\",'Environmental SARF'!$C$10,'Environmental SARF'!D209))","v":""},{"$f":"IF(B191=\"\",\"\",IF('Environmental SARF'!E209=\"\",\"\",'Environmental SARF'!E209))","v":""},{"$f":"IF(B191=\"\",\"\",IF('Environmental SARF'!F209=\"\",\"\",'Environmental SARF'!F209))","v":""},{"$f":"IF(B191=\"\",\"\",IF('Environmental SARF'!G209=\"\",\"\",'Environmental SARF'!G209))","v":""},{"$f":"IF(C191=\"\",\"\",IF('Environmental SARF'!$N$6=\"\",\"\",CONCATENATE('Environmental SARF'!$N$6,'Environmental SARF'!$O$6)))","v":""},{"$f":"IF(C191=\"\",\"\",IF('Environmental SARF'!$N$2=\"\",\"\",'Environmental SARF'!$N$2))","v":""},{"$f":"IF(C191=\"\",\"\",IF('Environmental SARF'!$N$4=\"\",NOW(),'Environmental SARF'!$N$4))","v":""},"",{"$f":"IF(C191=\"\",\"\", IF(AND(NOT(ISBLANK('Environmental SARF'!H209)),'Environmental SARF'!$F$8<>\"1) NA\",'Environmental SARF'!$F$8<>\"1) ...\"), \"   \"&CONCATENATE('Environmental SARF'!$H$18,'Environmental SARF'!$H$19),\"\") & IF(AND(NOT(ISBLANK('Environmental SARF'!I209)),'Environmental SARF'!$F$9<>\"2) NA\",'Environmental SARF'!$F$9<>\"2) ...\"), \"   \"&CONCATENATE('Environmental SARF'!$I$18,'Environmental SARF'!$I$19),\"\")& IF(AND(NOT(ISBLANK('Environmental SARF'!J209)),'Environmental SARF'!$F$10<>\"3) NA\",'Environmental SARF'!$F$10<>\"3) ...\"), \"   \"&CONCATENATE('Environmental SARF'!$J$18,'Environmental SARF'!$J$19),\"\") & IF(AND(NOT(ISBLANK('Environmental SARF'!K209)),'Environmental SARF'!$F$11<>\"4) NA\",'Environmental SARF'!$F$11<>\"4) ...\"), \"   \"&CONCATENATE('Environmental SARF'!$K$18,'Environmental SARF'!$K$19),\"\")& IF(AND(NOT(ISBLANK('Environmental SARF'!L209)),'Environmental SARF'!$F$12<>\"5) NA\",'Environmental SARF'!$F$12<>\"5) ...\"), \"   \"&CONCATENATE('Environmental SARF'!$L$18,'Environmental SARF'!$L$19),\"\")&IF(AND(NOT(ISBLANK('Environmental SARF'!M209)),'Environmental SARF'!$F$13<>\"6) NA\",'Environmental SARF'!$F$13<>\"6) ...\"), \"   \"&CONCATENATE('Environmental SARF'!$M$18,'Environmental SARF'!$M$19),\"\")&IF(AND(NOT(ISBLANK('Environmental SARF'!N209)),'Environmental SARF'!$F$14<>\"7) NA\",'Environmental SARF'!$F$14<>\"7) ...\"), \"   \"&CONCATENATE('Environmental SARF'!$N$18,'Environmental SARF'!$N$19),\"\") &IF(AND(NOT(ISBLANK('Environmental SARF'!O209)),'Environmental SARF'!$F$15<>\"8) NA\",'Environmental SARF'!$F$15<>\"8) ...\"), \"   \"&CONCATENATE('Environmental SARF'!$O$18,'Environmental SARF'!$O$19),\"\"))","v":""}]
[{"$f":"IF(C192=\"\",\"\",IF('Environmental SARF'!B210=\"\",\"\",'Environmental SARF'!B210))","v":""},"",{"$f":"IF('Environmental SARF'!C210=\"\",\"\",'Environmental SARF'!C210)","v":""},{"$f":"IF(C192=\"\",\"\",IF('Environmental SARF'!D210=\"\",'Environmental SARF'!$C$10,'Environmental SARF'!D210))","v":""},{"$f":"IF(B192=\"\",\"\",IF('Environmental SARF'!E210=\"\",\"\",'Environmental SARF'!E210))","v":""},{"$f":"IF(B192=\"\",\"\",IF('Environmental SARF'!F210=\"\",\"\",'Environmental SARF'!F210))","v":""},{"$f":"IF(B192=\"\",\"\",IF('Environmental SARF'!G210=\"\",\"\",'Environmental SARF'!G210))","v":""},{"$f":"IF(C192=\"\",\"\",IF('Environmental SARF'!$N$6=\"\",\"\",CONCATENATE('Environmental SARF'!$N$6,'Environmental SARF'!$O$6)))","v":""},{"$f":"IF(C192=\"\",\"\",IF('Environmental SARF'!$N$2=\"\",\"\",'Environmental SARF'!$N$2))","v":""},{"$f":"IF(C192=\"\",\"\",IF('Environmental SARF'!$N$4=\"\",NOW(),'Environmental SARF'!$N$4))","v":""},"",{"$f":"IF(C192=\"\",\"\", IF(AND(NOT(ISBLANK('Environmental SARF'!H210)),'Environmental SARF'!$F$8<>\"1) NA\",'Environmental SARF'!$F$8<>\"1) ...\"), \"   \"&CONCATENATE('Environmental SARF'!$H$18,'Environmental SARF'!$H$19),\"\") & IF(AND(NOT(ISBLANK('Environmental SARF'!I210)),'Environmental SARF'!$F$9<>\"2) NA\",'Environmental SARF'!$F$9<>\"2) ...\"), \"   \"&CONCATENATE('Environmental SARF'!$I$18,'Environmental SARF'!$I$19),\"\")& IF(AND(NOT(ISBLANK('Environmental SARF'!J210)),'Environmental SARF'!$F$10<>\"3) NA\",'Environmental SARF'!$F$10<>\"3) ...\"), \"   \"&CONCATENATE('Environmental SARF'!$J$18,'Environmental SARF'!$J$19),\"\") & IF(AND(NOT(ISBLANK('Environmental SARF'!K210)),'Environmental SARF'!$F$11<>\"4) NA\",'Environmental SARF'!$F$11<>\"4) ...\"), \"   \"&CONCATENATE('Environmental SARF'!$K$18,'Environmental SARF'!$K$19),\"\")& IF(AND(NOT(ISBLANK('Environmental SARF'!L210)),'Environmental SARF'!$F$12<>\"5) NA\",'Environmental SARF'!$F$12<>\"5) ...\"), \"   \"&CONCATENATE('Environmental SARF'!$L$18,'Environmental SARF'!$L$19),\"\")&IF(AND(NOT(ISBLANK('Environmental SARF'!M210)),'Environmental SARF'!$F$13<>\"6) NA\",'Environmental SARF'!$F$13<>\"6) ...\"), \"   \"&CONCATENATE('Environmental SARF'!$M$18,'Environmental SARF'!$M$19),\"\")&IF(AND(NOT(ISBLANK('Environmental SARF'!N210)),'Environmental SARF'!$F$14<>\"7) NA\",'Environmental SARF'!$F$14<>\"7) ...\"), \"   \"&CONCATENATE('Environmental SARF'!$N$18,'Environmental SARF'!$N$19),\"\") &IF(AND(NOT(ISBLANK('Environmental SARF'!O210)),'Environmental SARF'!$F$15<>\"8) NA\",'Environmental SARF'!$F$15<>\"8) ...\"), \"   \"&CONCATENATE('Environmental SARF'!$O$18,'Environmental SARF'!$O$19),\"\"))","v":""}]
[{"$f":"IF(C193=\"\",\"\",IF('Environmental SARF'!B211=\"\",\"\",'Environmental SARF'!B211))","v":""},"",{"$f":"IF('Environmental SARF'!C211=\"\",\"\",'Environmental SARF'!C211)","v":""},{"$f":"IF(C193=\"\",\"\",IF('Environmental SARF'!D211=\"\",'Environmental SARF'!$C$10,'Environmental SARF'!D211))","v":""},{"$f":"IF(B193=\"\",\"\",IF('Environmental SARF'!E211=\"\",\"\",'Environmental SARF'!E211))","v":""},{"$f":"IF(B193=\"\",\"\",IF('Environmental SARF'!F211=\"\",\"\",'Environmental SARF'!F211))","v":""},{"$f":"IF(B193=\"\",\"\",IF('Environmental SARF'!G211=\"\",\"\",'Environmental SARF'!G211))","v":""},{"$f":"IF(C193=\"\",\"\",IF('Environmental SARF'!$N$6=\"\",\"\",CONCATENATE('Environmental SARF'!$N$6,'Environmental SARF'!$O$6)))","v":""},{"$f":"IF(C193=\"\",\"\",IF('Environmental SARF'!$N$2=\"\",\"\",'Environmental SARF'!$N$2))","v":""},{"$f":"IF(C193=\"\",\"\",IF('Environmental SARF'!$N$4=\"\",NOW(),'Environmental SARF'!$N$4))","v":""},"",{"$f":"IF(C193=\"\",\"\", IF(AND(NOT(ISBLANK('Environmental SARF'!H211)),'Environmental SARF'!$F$8<>\"1) NA\",'Environmental SARF'!$F$8<>\"1) ...\"), \"   \"&CONCATENATE('Environmental SARF'!$H$18,'Environmental SARF'!$H$19),\"\") & IF(AND(NOT(ISBLANK('Environmental SARF'!I211)),'Environmental SARF'!$F$9<>\"2) NA\",'Environmental SARF'!$F$9<>\"2) ...\"), \"   \"&CONCATENATE('Environmental SARF'!$I$18,'Environmental SARF'!$I$19),\"\")& IF(AND(NOT(ISBLANK('Environmental SARF'!J211)),'Environmental SARF'!$F$10<>\"3) NA\",'Environmental SARF'!$F$10<>\"3) ...\"), \"   \"&CONCATENATE('Environmental SARF'!$J$18,'Environmental SARF'!$J$19),\"\") & IF(AND(NOT(ISBLANK('Environmental SARF'!K211)),'Environmental SARF'!$F$11<>\"4) NA\",'Environmental SARF'!$F$11<>\"4) ...\"), \"   \"&CONCATENATE('Environmental SARF'!$K$18,'Environmental SARF'!$K$19),\"\")& IF(AND(NOT(ISBLANK('Environmental SARF'!L211)),'Environmental SARF'!$F$12<>\"5) NA\",'Environmental SARF'!$F$12<>\"5) ...\"), \"   \"&CONCATENATE('Environmental SARF'!$L$18,'Environmental SARF'!$L$19),\"\")&IF(AND(NOT(ISBLANK('Environmental SARF'!M211)),'Environmental SARF'!$F$13<>\"6) NA\",'Environmental SARF'!$F$13<>\"6) ...\"), \"   \"&CONCATENATE('Environmental SARF'!$M$18,'Environmental SARF'!$M$19),\"\")&IF(AND(NOT(ISBLANK('Environmental SARF'!N211)),'Environmental SARF'!$F$14<>\"7) NA\",'Environmental SARF'!$F$14<>\"7) ...\"), \"   \"&CONCATENATE('Environmental SARF'!$N$18,'Environmental SARF'!$N$19),\"\") &IF(AND(NOT(ISBLANK('Environmental SARF'!O211)),'Environmental SARF'!$F$15<>\"8) NA\",'Environmental SARF'!$F$15<>\"8) ...\"), \"   \"&CONCATENATE('Environmental SARF'!$O$18,'Environmental SARF'!$O$19),\"\"))","v":""}]
[{"$f":"IF(C194=\"\",\"\",IF('Environmental SARF'!B212=\"\",\"\",'Environmental SARF'!B212))","v":""},"",{"$f":"IF('Environmental SARF'!C212=\"\",\"\",'Environmental SARF'!C212)","v":""},{"$f":"IF(C194=\"\",\"\",IF('Environmental SARF'!D212=\"\",'Environmental SARF'!$C$10,'Environmental SARF'!D212))","v":""},{"$f":"IF(B194=\"\",\"\",IF('Environmental SARF'!E212=\"\",\"\",'Environmental SARF'!E212))","v":""},{"$f":"IF(B194=\"\",\"\",IF('Environmental SARF'!F212=\"\",\"\",'Environmental SARF'!F212))","v":""},{"$f":"IF(B194=\"\",\"\",IF('Environmental SARF'!G212=\"\",\"\",'Environmental SARF'!G212))","v":""},{"$f":"IF(C194=\"\",\"\",IF('Environmental SARF'!$N$6=\"\",\"\",CONCATENATE('Environmental SARF'!$N$6,'Environmental SARF'!$O$6)))","v":""},{"$f":"IF(C194=\"\",\"\",IF('Environmental SARF'!$N$2=\"\",\"\",'Environmental SARF'!$N$2))","v":""},{"$f":"IF(C194=\"\",\"\",IF('Environmental SARF'!$N$4=\"\",NOW(),'Environmental SARF'!$N$4))","v":""},"",{"$f":"IF(C194=\"\",\"\", IF(AND(NOT(ISBLANK('Environmental SARF'!H212)),'Environmental SARF'!$F$8<>\"1) NA\",'Environmental SARF'!$F$8<>\"1) ...\"), \"   \"&CONCATENATE('Environmental SARF'!$H$18,'Environmental SARF'!$H$19),\"\") & IF(AND(NOT(ISBLANK('Environmental SARF'!I212)),'Environmental SARF'!$F$9<>\"2) NA\",'Environmental SARF'!$F$9<>\"2) ...\"), \"   \"&CONCATENATE('Environmental SARF'!$I$18,'Environmental SARF'!$I$19),\"\")& IF(AND(NOT(ISBLANK('Environmental SARF'!J212)),'Environmental SARF'!$F$10<>\"3) NA\",'Environmental SARF'!$F$10<>\"3) ...\"), \"   \"&CONCATENATE('Environmental SARF'!$J$18,'Environmental SARF'!$J$19),\"\") & IF(AND(NOT(ISBLANK('Environmental SARF'!K212)),'Environmental SARF'!$F$11<>\"4) NA\",'Environmental SARF'!$F$11<>\"4) ...\"), \"   \"&CONCATENATE('Environmental SARF'!$K$18,'Environmental SARF'!$K$19),\"\")& IF(AND(NOT(ISBLANK('Environmental SARF'!L212)),'Environmental SARF'!$F$12<>\"5) NA\",'Environmental SARF'!$F$12<>\"5) ...\"), \"   \"&CONCATENATE('Environmental SARF'!$L$18,'Environmental SARF'!$L$19),\"\")&IF(AND(NOT(ISBLANK('Environmental SARF'!M212)),'Environmental SARF'!$F$13<>\"6) NA\",'Environmental SARF'!$F$13<>\"6) ...\"), \"   \"&CONCATENATE('Environmental SARF'!$M$18,'Environmental SARF'!$M$19),\"\")&IF(AND(NOT(ISBLANK('Environmental SARF'!N212)),'Environmental SARF'!$F$14<>\"7) NA\",'Environmental SARF'!$F$14<>\"7) ...\"), \"   \"&CONCATENATE('Environmental SARF'!$N$18,'Environmental SARF'!$N$19),\"\") &IF(AND(NOT(ISBLANK('Environmental SARF'!O212)),'Environmental SARF'!$F$15<>\"8) NA\",'Environmental SARF'!$F$15<>\"8) ...\"), \"   \"&CONCATENATE('Environmental SARF'!$O$18,'Environmental SARF'!$O$19),\"\"))","v":""}]
[{"$f":"IF(C195=\"\",\"\",IF('Environmental SARF'!B213=\"\",\"\",'Environmental SARF'!B213))","v":""},{"$f":"IF(C195=\"\",\"\",\"Environmental\")","v":""},{"$f":"IF('Environmental SARF'!C213=\"\",\"\",'Environmental SARF'!C213)","v":""},{"$f":"IF(C195=\"\",\"\",IF('Environmental SARF'!D213=\"\",'Environmental SARF'!$C$10,'Environmental SARF'!D213))","v":""},{"$f":"IF(B195=\"\",\"\",IF('Environmental SARF'!E213=\"\",\"\",'Environmental SARF'!E213))","v":""},{"$f":"IF(B195=\"\",\"\",IF('Environmental SARF'!F213=\"\",\"\",'Environmental SARF'!F213))","v":""},{"$f":"IF(B195=\"\",\"\",IF('Environmental SARF'!G213=\"\",\"\",'Environmental SARF'!G213))","v":""},{"$f":"IF(C195=\"\",\"\",IF('Environmental SARF'!$N$6=\"\",\"\",CONCATENATE('Environmental SARF'!$N$6,'Environmental SARF'!$O$6)))","v":""},{"$f":"IF(C195=\"\",\"\",IF('Environmental SARF'!$N$2=\"\",\"\",'Environmental SARF'!$N$2))","v":""},{"$f":"IF(C195=\"\",\"\",IF('Environmental SARF'!$N$4=\"\",NOW(),'Environmental SARF'!$N$4))","v":""},{"$f":"IF(C195=\"\",\"\",NOW())","v":""},{"$f":"IF(C195=\"\",\"\", IF(AND(NOT(ISBLANK('Environmental SARF'!H213)),'Environmental SARF'!$F$8<>\"1) NA\",'Environmental SARF'!$F$8<>\"1) ...\"), \"   \"&CONCATENATE('Environmental SARF'!$H$18,'Environmental SARF'!$H$19),\"\") & IF(AND(NOT(ISBLANK('Environmental SARF'!I213)),'Environmental SARF'!$F$9<>\"2) NA\",'Environmental SARF'!$F$9<>\"2) ...\"), \"   \"&CONCATENATE('Environmental SARF'!$I$18,'Environmental SARF'!$I$19),\"\")& IF(AND(NOT(ISBLANK('Environmental SARF'!J213)),'Environmental SARF'!$F$10<>\"3) NA\",'Environmental SARF'!$F$10<>\"3) ...\"), \"   \"&CONCATENATE('Environmental SARF'!$J$18,'Environmental SARF'!$J$19),\"\") & IF(AND(NOT(ISBLANK('Environmental SARF'!K213)),'Environmental SARF'!$F$11<>\"4) NA\",'Environmental SARF'!$F$11<>\"4) ...\"), \"   \"&CONCATENATE('Environmental SARF'!$K$18,'Environmental SARF'!$K$19),\"\")& IF(AND(NOT(ISBLANK('Environmental SARF'!L213)),'Environmental SARF'!$F$12<>\"5) NA\",'Environmental SARF'!$F$12<>\"5) ...\"), \"   \"&CONCATENATE('Environmental SARF'!$L$18,'Environmental SARF'!$L$19),\"\")&IF(AND(NOT(ISBLANK('Environmental SARF'!M213)),'Environmental SARF'!$F$13<>\"6) NA\",'Environmental SARF'!$F$13<>\"6) ...\"), \"   \"&CONCATENATE('Environmental SARF'!$M$18,'Environmental SARF'!$M$19),\"\")&IF(AND(NOT(ISBLANK('Environmental SARF'!N213)),'Environmental SARF'!$F$14<>\"7) NA\",'Environmental SARF'!$F$14<>\"7) ...\"), \"   \"&CONCATENATE('Environmental SARF'!$N$18,'Environmental SARF'!$N$19),\"\") &IF(AND(NOT(ISBLANK('Environmental SARF'!O213)),'Environmental SARF'!$F$15<>\"8) NA\",'Environmental SARF'!$F$15<>\"8) ...\"), \"   \"&CONCATENATE('Environmental SARF'!$O$18,'Environmental SARF'!$O$19),\"\"))","v":""}]
[{"$f":"IF(C196=\"\",\"\",IF('Environmental SARF'!B214=\"\",\"\",'Environmental SARF'!B214))","v":""},"",{"$f":"IF('Environmental SARF'!C214=\"\",\"\",'Environmental SARF'!C214)","v":""},{"$f":"IF(C196=\"\",\"\",IF('Environmental SARF'!D214=\"\",'Environmental SARF'!$C$10,'Environmental SARF'!D214))","v":""},{"$f":"IF(B196=\"\",\"\",IF('Environmental SARF'!E214=\"\",\"\",'Environmental SARF'!E214))","v":""},{"$f":"IF(B196=\"\",\"\",IF('Environmental SARF'!F214=\"\",\"\",'Environmental SARF'!F214))","v":""},{"$f":"IF(B196=\"\",\"\",IF('Environmental SARF'!G214=\"\",\"\",'Environmental SARF'!G214))","v":""},{"$f":"IF(C196=\"\",\"\",IF('Environmental SARF'!$N$6=\"\",\"\",CONCATENATE('Environmental SARF'!$N$6,'Environmental SARF'!$O$6)))","v":""},{"$f":"IF(C196=\"\",\"\",IF('Environmental SARF'!$N$2=\"\",\"\",'Environmental SARF'!$N$2))","v":""},{"$f":"IF(C196=\"\",\"\",IF('Environmental SARF'!$N$4=\"\",NOW(),'Environmental SARF'!$N$4))","v":""},"",{"$f":"IF(C196=\"\",\"\", IF(AND(NOT(ISBLANK('Environmental SARF'!H214)),'Environmental SARF'!$F$8<>\"1) NA\",'Environmental SARF'!$F$8<>\"1) ...\"), \"   \"&CONCATENATE('Environmental SARF'!$H$18,'Environmental SARF'!$H$19),\"\") & IF(AND(NOT(ISBLANK('Environmental SARF'!I214)),'Environmental SARF'!$F$9<>\"2) NA\",'Environmental SARF'!$F$9<>\"2) ...\"), \"   \"&CONCATENATE('Environmental SARF'!$I$18,'Environmental SARF'!$I$19),\"\")& IF(AND(NOT(ISBLANK('Environmental SARF'!J214)),'Environmental SARF'!$F$10<>\"3) NA\",'Environmental SARF'!$F$10<>\"3) ...\"), \"   \"&CONCATENATE('Environmental SARF'!$J$18,'Environmental SARF'!$J$19),\"\") & IF(AND(NOT(ISBLANK('Environmental SARF'!K214)),'Environmental SARF'!$F$11<>\"4) NA\",'Environmental SARF'!$F$11<>\"4) ...\"), \"   \"&CONCATENATE('Environmental SARF'!$K$18,'Environmental SARF'!$K$19),\"\")& IF(AND(NOT(ISBLANK('Environmental SARF'!L214)),'Environmental SARF'!$F$12<>\"5) NA\",'Environmental SARF'!$F$12<>\"5) ...\"), \"   \"&CONCATENATE('Environmental SARF'!$L$18,'Environmental SARF'!$L$19),\"\")&IF(AND(NOT(ISBLANK('Environmental SARF'!M214)),'Environmental SARF'!$F$13<>\"6) NA\",'Environmental SARF'!$F$13<>\"6) ...\"), \"   \"&CONCATENATE('Environmental SARF'!$M$18,'Environmental SARF'!$M$19),\"\")&IF(AND(NOT(ISBLANK('Environmental SARF'!N214)),'Environmental SARF'!$F$14<>\"7) NA\",'Environmental SARF'!$F$14<>\"7) ...\"), \"   \"&CONCATENATE('Environmental SARF'!$N$18,'Environmental SARF'!$N$19),\"\") &IF(AND(NOT(ISBLANK('Environmental SARF'!O214)),'Environmental SARF'!$F$15<>\"8) NA\",'Environmental SARF'!$F$15<>\"8) ...\"), \"   \"&CONCATENATE('Environmental SARF'!$O$18,'Environmental SARF'!$O$19),\"\"))","v":""}]
[{"$f":"IF(C197=\"\",\"\",IF('Environmental SARF'!B215=\"\",\"\",'Environmental SARF'!B215))","v":""},"",{"$f":"IF('Environmental SARF'!C215=\"\",\"\",'Environmental SARF'!C215)","v":""},{"$f":"IF(C197=\"\",\"\",IF('Environmental SARF'!D215=\"\",'Environmental SARF'!$C$10,'Environmental SARF'!D215))","v":""},{"$f":"IF(B197=\"\",\"\",IF('Environmental SARF'!E215=\"\",\"\",'Environmental SARF'!E215))","v":""},{"$f":"IF(B197=\"\",\"\",IF('Environmental SARF'!F215=\"\",\"\",'Environmental SARF'!F215))","v":""},{"$f":"IF(B197=\"\",\"\",IF('Environmental SARF'!G215=\"\",\"\",'Environmental SARF'!G215))","v":""},{"$f":"IF(C197=\"\",\"\",IF('Environmental SARF'!$N$6=\"\",\"\",CONCATENATE('Environmental SARF'!$N$6,'Environmental SARF'!$O$6)))","v":""},{"$f":"IF(C197=\"\",\"\",IF('Environmental SARF'!$N$2=\"\",\"\",'Environmental SARF'!$N$2))","v":""},{"$f":"IF(C197=\"\",\"\",IF('Environmental SARF'!$N$4=\"\",NOW(),'Environmental SARF'!$N$4))","v":""},"",{"$f":"IF(C197=\"\",\"\", IF(AND(NOT(ISBLANK('Environmental SARF'!H215)),'Environmental SARF'!$F$8<>\"1) NA\",'Environmental SARF'!$F$8<>\"1) ...\"), \"   \"&CONCATENATE('Environmental SARF'!$H$18,'Environmental SARF'!$H$19),\"\") & IF(AND(NOT(ISBLANK('Environmental SARF'!I215)),'Environmental SARF'!$F$9<>\"2) NA\",'Environmental SARF'!$F$9<>\"2) ...\"), \"   \"&CONCATENATE('Environmental SARF'!$I$18,'Environmental SARF'!$I$19),\"\")& IF(AND(NOT(ISBLANK('Environmental SARF'!J215)),'Environmental SARF'!$F$10<>\"3) NA\",'Environmental SARF'!$F$10<>\"3) ...\"), \"   \"&CONCATENATE('Environmental SARF'!$J$18,'Environmental SARF'!$J$19),\"\") & IF(AND(NOT(ISBLANK('Environmental SARF'!K215)),'Environmental SARF'!$F$11<>\"4) NA\",'Environmental SARF'!$F$11<>\"4) ...\"), \"   \"&CONCATENATE('Environmental SARF'!$K$18,'Environmental SARF'!$K$19),\"\")& IF(AND(NOT(ISBLANK('Environmental SARF'!L215)),'Environmental SARF'!$F$12<>\"5) NA\",'Environmental SARF'!$F$12<>\"5) ...\"), \"   \"&CONCATENATE('Environmental SARF'!$L$18,'Environmental SARF'!$L$19),\"\")&IF(AND(NOT(ISBLANK('Environmental SARF'!M215)),'Environmental SARF'!$F$13<>\"6) NA\",'Environmental SARF'!$F$13<>\"6) ...\"), \"   \"&CONCATENATE('Environmental SARF'!$M$18,'Environmental SARF'!$M$19),\"\")&IF(AND(NOT(ISBLANK('Environmental SARF'!N215)),'Environmental SARF'!$F$14<>\"7) NA\",'Environmental SARF'!$F$14<>\"7) ...\"), \"   \"&CONCATENATE('Environmental SARF'!$N$18,'Environmental SARF'!$N$19),\"\") &IF(AND(NOT(ISBLANK('Environmental SARF'!O215)),'Environmental SARF'!$F$15<>\"8) NA\",'Environmental SARF'!$F$15<>\"8) ...\"), \"   \"&CONCATENATE('Environmental SARF'!$O$18,'Environmental SARF'!$O$19),\"\"))","v":""}]
[{"$f":"IF(C198=\"\",\"\",IF('Environmental SARF'!B216=\"\",\"\",'Environmental SARF'!B216))","v":""},"",{"$f":"IF('Environmental SARF'!C216=\"\",\"\",'Environmental SARF'!C216)","v":""},{"$f":"IF(C198=\"\",\"\",IF('Environmental SARF'!D216=\"\",'Environmental SARF'!$C$10,'Environmental SARF'!D216))","v":""},{"$f":"IF(B198=\"\",\"\",IF('Environmental SARF'!E216=\"\",\"\",'Environmental SARF'!E216))","v":""},{"$f":"IF(B198=\"\",\"\",IF('Environmental SARF'!F216=\"\",\"\",'Environmental SARF'!F216))","v":""},{"$f":"IF(B198=\"\",\"\",IF('Environmental SARF'!G216=\"\",\"\",'Environmental SARF'!G216))","v":""},{"$f":"IF(C198=\"\",\"\",IF('Environmental SARF'!$N$6=\"\",\"\",CONCATENATE('Environmental SARF'!$N$6,'Environmental SARF'!$O$6)))","v":""},{"$f":"IF(C198=\"\",\"\",IF('Environmental SARF'!$N$2=\"\",\"\",'Environmental SARF'!$N$2))","v":""},{"$f":"IF(C198=\"\",\"\",IF('Environmental SARF'!$N$4=\"\",NOW(),'Environmental SARF'!$N$4))","v":""},"",{"$f":"IF(C198=\"\",\"\", IF(AND(NOT(ISBLANK('Environmental SARF'!H216)),'Environmental SARF'!$F$8<>\"1) NA\",'Environmental SARF'!$F$8<>\"1) ...\"), \"   \"&CONCATENATE('Environmental SARF'!$H$18,'Environmental SARF'!$H$19),\"\") & IF(AND(NOT(ISBLANK('Environmental SARF'!I216)),'Environmental SARF'!$F$9<>\"2) NA\",'Environmental SARF'!$F$9<>\"2) ...\"), \"   \"&CONCATENATE('Environmental SARF'!$I$18,'Environmental SARF'!$I$19),\"\")& IF(AND(NOT(ISBLANK('Environmental SARF'!J216)),'Environmental SARF'!$F$10<>\"3) NA\",'Environmental SARF'!$F$10<>\"3) ...\"), \"   \"&CONCATENATE('Environmental SARF'!$J$18,'Environmental SARF'!$J$19),\"\") & IF(AND(NOT(ISBLANK('Environmental SARF'!K216)),'Environmental SARF'!$F$11<>\"4) NA\",'Environmental SARF'!$F$11<>\"4) ...\"), \"   \"&CONCATENATE('Environmental SARF'!$K$18,'Environmental SARF'!$K$19),\"\")& IF(AND(NOT(ISBLANK('Environmental SARF'!L216)),'Environmental SARF'!$F$12<>\"5) NA\",'Environmental SARF'!$F$12<>\"5) ...\"), \"   \"&CONCATENATE('Environmental SARF'!$L$18,'Environmental SARF'!$L$19),\"\")&IF(AND(NOT(ISBLANK('Environmental SARF'!M216)),'Environmental SARF'!$F$13<>\"6) NA\",'Environmental SARF'!$F$13<>\"6) ...\"), \"   \"&CONCATENATE('Environmental SARF'!$M$18,'Environmental SARF'!$M$19),\"\")&IF(AND(NOT(ISBLANK('Environmental SARF'!N216)),'Environmental SARF'!$F$14<>\"7) NA\",'Environmental SARF'!$F$14<>\"7) ...\"), \"   \"&CONCATENATE('Environmental SARF'!$N$18,'Environmental SARF'!$N$19),\"\") &IF(AND(NOT(ISBLANK('Environmental SARF'!O216)),'Environmental SARF'!$F$15<>\"8) NA\",'Environmental SARF'!$F$15<>\"8) ...\"), \"   \"&CONCATENATE('Environmental SARF'!$O$18,'Environmental SARF'!$O$19),\"\"))","v":""}]
[{"$f":"IF(C199=\"\",\"\",IF('Environmental SARF'!B217=\"\",\"\",'Environmental SARF'!B217))","v":""},"",{"$f":"IF('Environmental SARF'!C217=\"\",\"\",'Environmental SARF'!C217)","v":""},{"$f":"IF(C199=\"\",\"\",IF('Environmental SARF'!D217=\"\",'Environmental SARF'!$C$10,'Environmental SARF'!D217))","v":""},{"$f":"IF(B199=\"\",\"\",IF('Environmental SARF'!E217=\"\",\"\",'Environmental SARF'!E217))","v":""},{"$f":"IF(B199=\"\",\"\",IF('Environmental SARF'!F217=\"\",\"\",'Environmental SARF'!F217))","v":""},{"$f":"IF(B199=\"\",\"\",IF('Environmental SARF'!G217=\"\",\"\",'Environmental SARF'!G217))","v":""},{"$f":"IF(C199=\"\",\"\",IF('Environmental SARF'!$N$6=\"\",\"\",CONCATENATE('Environmental SARF'!$N$6,'Environmental SARF'!$O$6)))","v":""},{"$f":"IF(C199=\"\",\"\",IF('Environmental SARF'!$N$2=\"\",\"\",'Environmental SARF'!$N$2))","v":""},{"$f":"IF(C199=\"\",\"\",IF('Environmental SARF'!$N$4=\"\",NOW(),'Environmental SARF'!$N$4))","v":""},"",{"$f":"IF(C199=\"\",\"\", IF(AND(NOT(ISBLANK('Environmental SARF'!H217)),'Environmental SARF'!$F$8<>\"1) NA\",'Environmental SARF'!$F$8<>\"1) ...\"), \"   \"&CONCATENATE('Environmental SARF'!$H$18,'Environmental SARF'!$H$19),\"\") & IF(AND(NOT(ISBLANK('Environmental SARF'!I217)),'Environmental SARF'!$F$9<>\"2) NA\",'Environmental SARF'!$F$9<>\"2) ...\"), \"   \"&CONCATENATE('Environmental SARF'!$I$18,'Environmental SARF'!$I$19),\"\")& IF(AND(NOT(ISBLANK('Environmental SARF'!J217)),'Environmental SARF'!$F$10<>\"3) NA\",'Environmental SARF'!$F$10<>\"3) ...\"), \"   \"&CONCATENATE('Environmental SARF'!$J$18,'Environmental SARF'!$J$19),\"\") & IF(AND(NOT(ISBLANK('Environmental SARF'!K217)),'Environmental SARF'!$F$11<>\"4) NA\",'Environmental SARF'!$F$11<>\"4) ...\"), \"   \"&CONCATENATE('Environmental SARF'!$K$18,'Environmental SARF'!$K$19),\"\")& IF(AND(NOT(ISBLANK('Environmental SARF'!L217)),'Environmental SARF'!$F$12<>\"5) NA\",'Environmental SARF'!$F$12<>\"5) ...\"), \"   \"&CONCATENATE('Environmental SARF'!$L$18,'Environmental SARF'!$L$19),\"\")&IF(AND(NOT(ISBLANK('Environmental SARF'!M217)),'Environmental SARF'!$F$13<>\"6) NA\",'Environmental SARF'!$F$13<>\"6) ...\"), \"   \"&CONCATENATE('Environmental SARF'!$M$18,'Environmental SARF'!$M$19),\"\")&IF(AND(NOT(ISBLANK('Environmental SARF'!N217)),'Environmental SARF'!$F$14<>\"7) NA\",'Environmental SARF'!$F$14<>\"7) ...\"), \"   \"&CONCATENATE('Environmental SARF'!$N$18,'Environmental SARF'!$N$19),\"\") &IF(AND(NOT(ISBLANK('Environmental SARF'!O217)),'Environmental SARF'!$F$15<>\"8) NA\",'Environmental SARF'!$F$15<>\"8) ...\"), \"   \"&CONCATENATE('Environmental SARF'!$O$18,'Environmental SARF'!$O$19),\"\"))","v":""}]
[{"$f":"IF(C200=\"\",\"\",IF('Environmental SARF'!B218=\"\",\"\",'Environmental SARF'!B218))","v":""},"",{"$f":"IF('Environmental SARF'!C218=\"\",\"\",'Environmental SARF'!C218)","v":""},{"$f":"IF(C200=\"\",\"\",IF('Environmental SARF'!D218=\"\",'Environmental SARF'!$C$10,'Environmental SARF'!D218))","v":""},{"$f":"IF(B200=\"\",\"\",IF('Environmental SARF'!E218=\"\",\"\",'Environmental SARF'!E218))","v":""},{"$f":"IF(B200=\"\",\"\",IF('Environmental SARF'!F218=\"\",\"\",'Environmental SARF'!F218))","v":""},{"$f":"IF(B200=\"\",\"\",IF('Environmental SARF'!G218=\"\",\"\",'Environmental SARF'!G218))","v":""},{"$f":"IF(C200=\"\",\"\",IF('Environmental SARF'!$N$6=\"\",\"\",CONCATENATE('Environmental SARF'!$N$6,'Environmental SARF'!$O$6)))","v":""},{"$f":"IF(C200=\"\",\"\",IF('Environmental SARF'!$N$2=\"\",\"\",'Environmental SARF'!$N$2))","v":""},{"$f":"IF(C200=\"\",\"\",IF('Environmental SARF'!$N$4=\"\",NOW(),'Environmental SARF'!$N$4))","v":""},"",{"$f":"IF(C200=\"\",\"\", IF(AND(NOT(ISBLANK('Environmental SARF'!H218)),'Environmental SARF'!$F$8<>\"1) NA\",'Environmental SARF'!$F$8<>\"1) ...\"), \"   \"&CONCATENATE('Environmental SARF'!$H$18,'Environmental SARF'!$H$19),\"\") & IF(AND(NOT(ISBLANK('Environmental SARF'!I218)),'Environmental SARF'!$F$9<>\"2) NA\",'Environmental SARF'!$F$9<>\"2) ...\"), \"   \"&CONCATENATE('Environmental SARF'!$I$18,'Environmental SARF'!$I$19),\"\")& IF(AND(NOT(ISBLANK('Environmental SARF'!J218)),'Environmental SARF'!$F$10<>\"3) NA\",'Environmental SARF'!$F$10<>\"3) ...\"), \"   \"&CONCATENATE('Environmental SARF'!$J$18,'Environmental SARF'!$J$19),\"\") & IF(AND(NOT(ISBLANK('Environmental SARF'!K218)),'Environmental SARF'!$F$11<>\"4) NA\",'Environmental SARF'!$F$11<>\"4) ...\"), \"   \"&CONCATENATE('Environmental SARF'!$K$18,'Environmental SARF'!$K$19),\"\")& IF(AND(NOT(ISBLANK('Environmental SARF'!L218)),'Environmental SARF'!$F$12<>\"5) NA\",'Environmental SARF'!$F$12<>\"5) ...\"), \"   \"&CONCATENATE('Environmental SARF'!$L$18,'Environmental SARF'!$L$19),\"\")&IF(AND(NOT(ISBLANK('Environmental SARF'!M218)),'Environmental SARF'!$F$13<>\"6) NA\",'Environmental SARF'!$F$13<>\"6) ...\"), \"   \"&CONCATENATE('Environmental SARF'!$M$18,'Environmental SARF'!$M$19),\"\")&IF(AND(NOT(ISBLANK('Environmental SARF'!N218)),'Environmental SARF'!$F$14<>\"7) NA\",'Environmental SARF'!$F$14<>\"7) ...\"), \"   \"&CONCATENATE('Environmental SARF'!$N$18,'Environmental SARF'!$N$19),\"\") &IF(AND(NOT(ISBLANK('Environmental SARF'!O218)),'Environmental SARF'!$F$15<>\"8) NA\",'Environmental SARF'!$F$15<>\"8) ...\"), \"   \"&CONCATENATE('Environmental SARF'!$O$18,'Environmental SARF'!$O$19),\"\"))","v":""}]
[{"$f":"IF(C201=\"\",\"\",IF('Environmental SARF'!B219=\"\",\"\",'Environmental SARF'!B219))","v":""},"",{"$f":"IF('Environmental SARF'!C219=\"\",\"\",'Environmental SARF'!C219)","v":""},{"$f":"IF(C201=\"\",\"\",IF('Environmental SARF'!D219=\"\",'Environmental SARF'!$C$10,'Environmental SARF'!D219))","v":""},{"$f":"IF(B201=\"\",\"\",IF('Environmental SARF'!E219=\"\",\"\",'Environmental SARF'!E219))","v":""},{"$f":"IF(B201=\"\",\"\",IF('Environmental SARF'!F219=\"\",\"\",'Environmental SARF'!F219))","v":""},{"$f":"IF(B201=\"\",\"\",IF('Environmental SARF'!G219=\"\",\"\",'Environmental SARF'!G219))","v":""},{"$f":"IF(C201=\"\",\"\",IF('Environmental SARF'!$N$6=\"\",\"\",CONCATENATE('Environmental SARF'!$N$6,'Environmental SARF'!$O$6)))","v":""},{"$f":"IF(C201=\"\",\"\",IF('Environmental SARF'!$N$2=\"\",\"\",'Environmental SARF'!$N$2))","v":""},{"$f":"IF(C201=\"\",\"\",IF('Environmental SARF'!$N$4=\"\",NOW(),'Environmental SARF'!$N$4))","v":""},"",{"$f":"IF(C201=\"\",\"\", IF(AND(NOT(ISBLANK('Environmental SARF'!H219)),'Environmental SARF'!$F$8<>\"1) NA\",'Environmental SARF'!$F$8<>\"1) ...\"), \"   \"&CONCATENATE('Environmental SARF'!$H$18,'Environmental SARF'!$H$19),\"\") & IF(AND(NOT(ISBLANK('Environmental SARF'!I219)),'Environmental SARF'!$F$9<>\"2) NA\",'Environmental SARF'!$F$9<>\"2) ...\"), \"   \"&CONCATENATE('Environmental SARF'!$I$18,'Environmental SARF'!$I$19),\"\")& IF(AND(NOT(ISBLANK('Environmental SARF'!J219)),'Environmental SARF'!$F$10<>\"3) NA\",'Environmental SARF'!$F$10<>\"3) ...\"), \"   \"&CONCATENATE('Environmental SARF'!$J$18,'Environmental SARF'!$J$19),\"\") & IF(AND(NOT(ISBLANK('Environmental SARF'!K219)),'Environmental SARF'!$F$11<>\"4) NA\",'Environmental SARF'!$F$11<>\"4) ...\"), \"   \"&CONCATENATE('Environmental SARF'!$K$18,'Environmental SARF'!$K$19),\"\")& IF(AND(NOT(ISBLANK('Environmental SARF'!L219)),'Environmental SARF'!$F$12<>\"5) NA\",'Environmental SARF'!$F$12<>\"5) ...\"), \"   \"&CONCATENATE('Environmental SARF'!$L$18,'Environmental SARF'!$L$19),\"\")&IF(AND(NOT(ISBLANK('Environmental SARF'!M219)),'Environmental SARF'!$F$13<>\"6) NA\",'Environmental SARF'!$F$13<>\"6) ...\"), \"   \"&CONCATENATE('Environmental SARF'!$M$18,'Environmental SARF'!$M$19),\"\")&IF(AND(NOT(ISBLANK('Environmental SARF'!N219)),'Environmental SARF'!$F$14<>\"7) NA\",'Environmental SARF'!$F$14<>\"7) ...\"), \"   \"&CONCATENATE('Environmental SARF'!$N$18,'Environmental SARF'!$N$19),\"\") &IF(AND(NOT(ISBLANK('Environmental SARF'!O219)),'Environmental SARF'!$F$15<>\"8) NA\",'Environmental SARF'!$F$15<>\"8) ...\"), \"   \"&CONCATENATE('Environmental SARF'!$O$18,'Environmental SARF'!$O$19),\"\"))","v":""}]

{"sheet":"Background DropDowns","index":4,"n_rows":45,"n_cols":75,"rows_kept":45,"cut":false,"hidden":true,"merged":[]}
["Type","Quan","Qual","Chem","Orgnlptc","Allergen","Almond","Brazil","Casein","Cashew","Coconut","Crust","Egg","Gliadin","Gluten","Hazel","Macadmi","Peanut","Pecan","Pine","Pist","Sesame","Soy","Milk","Walnut","CL","Hardness","Na","pH","Salt","TSS","Organo","Campy","COLIql","ECO157","ECql","EHEC","FecCOLI","LG","LM","PCT","SAL","STEC","Shigella","AB","AnAPC25","AnAPC35","AnAPC7","APC25","APC32","APC35","APC7","APRM","APRY","B.cereus","C.perf","COLI","COLI32","EB","EC","Fec.COLI","LAB","Leuco","M","Os.APC25","Os.APC35","Os.M","Os.Y","Pseud.sp","Sp.MAe","Sp.MAn","StaphA","Strept","TYMC","Y"]
["Quan",{"$f":"IFERROR(INDEX(PTable[2-Test],MATCH(0,IF(B$1=PTable[1-Type],COUNTIF(B$1:B1,PTable[2-Test]), \"\"),0)),\"\")","v":"AB"},{"$f":"IFERROR(INDEX(PTable[2-Test],MATCH(0,IF(C$1=PTable[1-Type],COUNTIF(C$1:C1,PTable[2-Test]), \"\"),0)),\"\")","v":"Campy"},{"$f":"IFERROR(INDEX(PTable[2-Test],MATCH(0,IF(D$1=PTable[1-Type],COUNTIF(D$1:D1,PTable[2-Test]), \"\"),0)),\"\")","v":"Cl"},{"$f":"IFERROR(INDEX(PTable[2-Test],MATCH(0,IF(E$1=PTable[1-Type],COUNTIF(E$1:E1,PTable[2-Test]), \"\"),0)),\"\")","v":"Organo"},{"$f":"IFERROR(INDEX(PTable[2-Test],MATCH(0,IF(F$1=PTable[1-Type],COUNTIF(F$1:F1,PTable[2-Test]), \"\"),0)),\"\")","v":"Almond"},{"$f":"IFERROR(INDEX(PTable[3-Method],MATCH(0,IF(G$1=PTable[2-Test],COUNTIF(G$1:G1,PTable[3-Method]), \"\"),0)),\"\")","v":"MicrobioS"},{"$f":"IFERROR(INDEX(PTable[3-Method],MATCH(0,IF(H$1=PTable[2-Test],COUNTIF(H$1:H1,PTable[3-Method]), \"\"),0)),\"\")","v":"MicrobioS"},{"$f":"IFERROR(INDEX(PTable[3-Method],MATCH(0,IF(I$1=PTable[2-Test],COUNTIF(I$1:I1,PTable[3-Method]), \"\"),0)),\"\")","v":"MicrobioS"},{"$f":"IFERROR(INDEX(PTable[3-Method],MATCH(0,IF(J$1=PTable[2-Test],COUNTIF(J$1:J1,PTable[3-Method]), \"\"),0)),\"\")","v":"MicrobioS"},{"$f":"IFERROR(INDEX(PTable[3-Method],MATCH(0,IF(K$1=PTable[2-Test],COUNTIF(K$1:K1,PTable[3-Method]), \"\"),0)),\"\")","v":"MicrobioS"},{"$f":"IFERROR(INDEX(PTable[3-Method],MATCH(0,IF(L$1=PTable[2-Test],COUNTIF(L$1:L1,PTable[3-Method]), \"\"),0)),\"\")","v":"MicrobioS"},{"$f":"IFERROR(INDEX(PTable[3-Method],MATCH(0,IF(M$1=PTable[2-Test],COUNTIF(M$1:M1,PTable[3-Method]), \"\"),0)),\"\")","v":"MicrobioS"},{"$f":"IFERROR(INDEX(PTable[3-Method],MATCH(0,IF(N$1=PTable[2-Test],COUNTIF(N$1:N1,PTable[3-Method]), \"\"),0)),\"\")","v":"Veratox"},{"$f":"IFERROR(INDEX(PTable[3-Method],MATCH(0,IF(O$1=PTable[2-Test],COUNTIF(O$1:O1,PTable[3-Method]), \"\"),0)),\"\")","v":"MicrobioS"},{"$f":"IFERROR(INDEX(PTable[3-Method],MATCH(0,IF(P$1=PTable[2-Test],COUNTIF(P$1:P1,PTable[3-Method]), \"\"),0)),\"\")","v":"MicrobioS"},{"$f":"IFERROR(INDEX(PTable[3-Method],MATCH(0,IF(Q$1=PTable[2-Test],COUNTIF(Q$1:Q1,PTable[3-Method]), \"\"),0)),\"\")","v":"MicrobioS"},{"$f":"IFERROR(INDEX(PTable[3-Method],MATCH(0,IF(R$1=PTable[2-Test],COUNTIF(R$1:R1,PTable[3-Method]), \"\"),0)),\"\")","v":"MicrobioS"},{"$f":"IFERROR(INDEX(PTable[3-Method],MATCH(0,IF(S$1=PTable[2-Test],COUNTIF(S$1:S1,PTable[3-Method]), \"\"),0)),\"\")","v":"MicrobioS"},{"$f":"IFERROR(INDEX(PTable[3-Method],MATCH(0,IF(T$1=PTable[2-Test],COUNTIF(T$1:T1,PTable[3-Method]), \"\"),0)),\"\")","v":"MicrobioS"},{"$f":"IFERROR(INDEX(PTable[3-Method],MATCH(0,IF(U$1=PTable[2-Test],COUNTIF(U$1:U1,PTable[3-Method]), \"\"),0)),\"\")","v":"MicrobioS"},{"$f":"IFERROR(INDEX(PTable[3-Method],MATCH(0,IF(V$1=PTable[2-Test],COUNTIF(V$1:V1,PTable[3-Method]), \"\"),0)),\"\")","v":"MicrobioS"},{"$f":"IFERROR(INDEX(PTable[3-Method],MATCH(0,IF(W$1=PTable[2-Test],COUNTIF(W$1:W1,PTable[3-Method]), \"\"),0)),\"\")","v":"MicrobioS"},{"$f":"IFERROR(INDEX(PTable[3-Method],MATCH(0,IF(X$1=PTable[2-Test],COUNTIF(X$1:X1,PTable[3-Method]), \"\"),0)),\"\")","v":"MicrobioS"},{"$f":"IFERROR(INDEX(PTable[3-Method],MATCH(0,IF(Y$1=PTable[2-Test],COUNTIF(Y$1:Y1,PTable[3-Method]), \"\"),0)),\"\")","v":"MicrobioS"},{"$f":"IFERROR(INDEX(PTable[3-Method],MATCH(0,IF(Z$1=PTable[2-Test],COUNTIF(Z$1:Z1,PTable[3-Method]), \"\"),0)),\"\")","v":"comb"},{"$f":"IFERROR(INDEX(PTable[3-Method],MATCH(0,IF(AA$1=PTable[2-Test],COUNTIF(AA$1:AA1,PTable[3-Method]), \"\"),0)),\"\")","v":"Ca"},{"$f":"IFERROR(INDEX(PTable[3-Method],MATCH(0,IF(AB$1=PTable[2-Test],COUNTIF(AB$1:AB1,PTable[3-Method]), \"\"),0)),\"\")","v":"AOAC"},{"$f":"IFERROR(INDEX(PTable[3-Method],MATCH(0,IF(AC$1=PTable[2-Test],COUNTIF(AC$1:AC1,PTable[3-Method]), \"\"),0)),\"\")","v":"AOAC"},{"$f":"IFERROR(INDEX(PTable[3-Method],MATCH(0,IF(AD$1=PTable[2-Test],COUNTIF(AD$1:AD1,PTable[3-Method]), \"\"),0)),\"\")","v":"AOAC"},{"$f":"IFERROR(INDEX(PTable[3-Method],MATCH(0,IF(AE$1=PTable[2-Test],COUNTIF(AE$1:AE1,PTable[3-Method]), \"\"),0)),\"\")","v":"SMEWW"},{"$f":"IFERROR(INDEX(PTable[3-Method],MATCH(0,IF(AF$1=PTable[2-Test],COUNTIF(AF$1:AF1,PTable[3-Method]), \"\"),0)),\"\")","v":"Color"},{"$f":"IFERROR(INDEX(PTable[3-Method],MATCH(0,IF(AG$1=PTable[2-Test],COUNTIF(AG$1:AG1,PTable[3-Method]), \"\"),0)),\"\")","v":"PCR1mL"},{"$f":"IFERROR(INDEX(PTable[3-Method],MATCH(0,IF(AH$1=PTable[2-Test],COUNTIF(AH$1:AH1,PTable[3-Method]), \"\"),0)),\"\")","v":"mSMEW"},{"$f":"IFERROR(INDEX(PTable[3-Method],MATCH(0,IF(AI$1=PTable[2-Test],COUNTIF(AI$1:AI1,PTable[3-Method]), \"\"),0)),\"\")","v":"PCRs"},{"$f":"IFERROR(INDEX(PTable[3-Method],MATCH(0,IF(AJ$1=PTable[2-Test],COUNTIF(AJ$1:AJ1,PTable[3-Method]), \"\"),0)),\"\")","v":"mSMEW"},{"$f":"IFERROR(INDEX(PTable[3-Method],MATCH(0,IF(AK$1=PTable[2-Test],COUNTIF(AK$1:AK1,PTable[3-Method]), \"\"),0)),\"\")","v":"PCRs"},{"$f":"IFERROR(INDEX(PTable[3-Method],MATCH(0,IF(AL$1=PTable[2-Test],COUNTIF(AL$1:AL1,PTable[3-Method]), \"\"),0)),\"\")","v":"mSMEW"},{"$f":"IFERROR(INDEX(PTable[3-Method],MATCH(0,IF(AM$1=PTable[2-Test],COUNTIF(AM$1:AM1,PTable[3-Method]), \"\"),0)),\"\")","v":"mB24Esa"},{"$f":"IFERROR(INDEX(PTable[3-Method],MATCH(0,IF(AN$1=PTable[2-Test],COUNTIF(AN$1:AN1,PTable[3-Method]), \"\"),0)),\"\")","v":"FDAs"},{"$f":"IFERROR(INDEX(PTable[3-Method],MATCH(0,IF(AO$1=PTable[2-Test],COUNTIF(AO$1:AO1,PTable[3-Method]), \"\"),0)),\"\")","v":"GNGPm3"},{"$f":"IFERROR(INDEX(PTable[3-Method],MATCH(0,IF(AP$1=PTable[2-Test],COUNTIF(AP$1:AP1,PTable[3-Method]), \"\"),0)),\"\")","v":"BAX30mL"},{"$f":"IFERROR(INDEX(PTable[3-Method],MATCH(0,IF(AQ$1=PTable[2-Test],COUNTIF(AQ$1:AQ1,PTable[3-Method]), \"\"),0)),\"\")","v":"PCRs"},{"$f":"IFERROR(INDEX(PTable[3-Method],MATCH(0,IF(AR$1=PTable[2-Test],COUNTIF(AR$1:AR1,PTable[3-Method]), \"\"),0)),\"\")","v":"mFDAs"},{"$f":"IFERROR(INDEX(PTable[3-Method],MATCH(0,IF(AS$1=PTable[2-Test],COUNTIF(AS$1:AS1,PTable[3-Method]), \"\"),0)),\"\")","v":"LMFMmL"},{"$f":"IFERROR(INDEX(PTable[3-Method],MATCH(0,IF(AT$1=PTable[2-Test],COUNTIF(AT$1:AT1,PTable[3-Method]), \"\"),0)),\"\")","v":"mCMEFm"},{"$f":"IFERROR(INDEX(PTable[3-Method],MATCH(0,IF(AU$1=PTable[2-Test],COUNTIF(AU$1:AU1,PTable[3-Method]), \"\"),0)),\"\")","v":"mCMEFm"},{"$f":"IFERROR(INDEX(PTable[3-Method],MATCH(0,IF(AV$1=PTable[2-Test],COUNTIF(AV$1:AV1,PTable[3-Method]), \"\"),0)),\"\")","v":"mCMEFm"},{"$f":"IFERROR(INDEX(PTable[3-Method],MATCH(0,IF(AW$1=PTable[2-Test],COUNTIF(AW$1:AW1,PTable[3-Method]), \"\"),0)),\"\")","v":"AECMEF"},{"$f":"IFERROR(INDEX(PTable[3-Method],MATCH(0,IF(AX$1=PTable[2-Test],COUNTIF(AX$1:AX1,PTable[3-Method]), \"\"),0)),\"\")","v":"MFmL"},{"$f":"IFERROR(INDEX(PTable[3-Method],MATCH(0,IF(AY$1=PTable[2-Test],COUNTIF(AY$1:AY1,PTable[3-Method]), \"\"),0)),\"\")","v":"AECMEF"},{"$f":"IFERROR(INDEX(PTable[3-Method],MATCH(0,IF(AZ$1=PTable[2-Test],COUNTIF(AZ$1:AZ1,PTable[3-Method]), \"\"),0)),\"\")","v":"mCMFm"},{"$f":"IFERROR(INDEX(PTable[3-Method],MATCH(0,IF(BA$1=PTable[2-Test],COUNTIF(BA$1:BA1,PTable[3-Method]), \"\"),0)),\"\")","v":"mCMFmL"},{"$f":"IFERROR(INDEX(PTable[3-Method],MATCH(0,IF(BB$1=PTable[2-Test],COUNTIF(BB$1:BB1,PTable[3-Method]), \"\"),0)),\"\")","v":"mCMFmL"},{"$f":"IFERROR(INDEX(PTable[3-Method],MATCH(0,IF(BC$1=PTable[2-Test],COUNTIF(BC$1:BC1,PTable[3-Method]), \"\"),0)),\"\")","v":"mFDAmL"},{"$f":"IFERROR(INDEX(PTable[3-Method],MATCH(0,IF(BD$1=PTable[2-Test],COUNTIF(BD$1:BD1,PTable[3-Method]), \"\"),0)),\"\")","v":"mFDAmL"},{"$f":"IFERROR(INDEX(PTable[3-Method],MATCH(0,IF(BE$1=PTable[2-Test],COUNTIF(BE$1:BE1,PTable[3-Method]), \"\"),0)),\"\")","v":"FDAmpM"},{"$f":"IFERROR(INDEX(PTable[3-Method],MATCH(0,IF(BF$1=PTable[2-Test],COUNTIF(BF$1:BF1,PTable[3-Method]), \"\"),0)),\"\")","v":"mSMDPm"},{"$f":"IFERROR(INDEX(PTable[3-Method],MATCH(0,IF(BG$1=PTable[2-Test],COUNTIF(BG$1:BG1,PTable[3-Method]), \"\"),0)),\"\")","v":"mCMFmL"},{"$f":"IFERROR(INDEX(PTable[3-Method],MATCH(0,IF(BH$1=PTable[2-Test],COUNTIF(BH$1:BH1,PTable[3-Method]), \"\"),0)),\"\")","v":"FDAmpM"},{"$f":"IFERROR(INDEX(PTable[3-Method],MATCH(0,IF(BI$1=PTable[2-Test],COUNTIF(BI$1:BI1,PTable[3-Method]), \"\"),0)),\"\")","v":"FDAmpm"},{"$f":"IFERROR(INDEX(PTable[3-Method],MATCH(0,IF(BJ$1=PTable[2-Test],COUNTIF(BJ$1:BJ1,PTable[3-Method]), \"\"),0)),\"\")","v":"mCMFmL"},{"$f":"IFERROR(INDEX(PTable[3-Method],MATCH(0,IF(BK$1=PTable[2-Test],COUNTIF(BK$1:BK1,PTable[3-Method]), \"\"),0)),\"\")","v":"mCMFmL"},{"$f":"IFERROR(INDEX(PTable[3-Method],MATCH(0,IF(BL$1=PTable[2-Test],COUNTIF(BL$1:BL1,PTable[3-Method]), \"\"),0)),\"\")","v":"AECMEF"},{"$f":"IFERROR(INDEX(PTable[3-Method],MATCH(0,IF(BM$1=PTable[2-Test],COUNTIF(BM$1:BM1,PTable[3-Method]), \"\"),0)),\"\")","v":"mCMFmL"},{"$f":"IFERROR(INDEX(PTable[3-Method],MATCH(0,IF(BN$1=PTable[2-Test],COUNTIF(BN$1:BN1,PTable[3-Method]), \"\"),0)),\"\")","v":"mFDAmL"},{"$f":"IFERROR(INDEX(PTable[3-Method],MATCH(0,IF(BO$1=PTable[2-Test],COUNTIF(BO$1:BO1,PTable[3-Method]), \"\"),0)),\"\")","v":"mFDAmL"},{"$f":"IFERROR(INDEX(PTable[3-Method],MATCH(0,IF(BP$1=PTable[2-Test],COUNTIF(BP$1:BP1,PTable[3-Method]), \"\"),0)),\"\")","v":"mFDAmL"},{"$f":"IFERROR(INDEX(PTable[3-Method],MATCH(0,IF(BQ$1=PTable[2-Test],COUNTIF(BQ$1:BQ1,PTable[3-Method]), \"\"),0)),\"\")","v":"mCMFmL"},{"$f":"IFERROR(INDEX(PTable[3-Method],MATCH(0,IF(BR$1=PTable[2-Test],COUNTIF(BR$1:BR1,PTable[3-Method]), \"\"),0)),\"\")","v":"mCMFmL"},{"$f":"IFERROR(INDEX(PTable[3-Method],MATCH(0,IF(BS$1=PTable[2-Test],COUNTIF(BS$1:BS1,PTable[3-Method]), \"\"),0)),\"\")","v":"mCMEF"},{"$f":"IFERROR(INDEX(PTable[3-Method],MATCH(0,IF(BT$1=PTable[2-Test],COUNTIF(BT$1:BT1,PTable[3-Method]), \"\"),0)),\"\")","v":"mFDAmL"},{"$f":"IFERROR(INDEX(PTable[3-Method],MATCH(0,IF(BU$1=PTable[2-Test],COUNTIF(BU$1:BU1,PTable[3-Method]), \"\"),0)),\"\")","v":"CMFmL"},{"$f":"IFERROR(INDEX(PTable[3-Method],MATCH(0,IF(BV$1=PTable[2-Test],COUNTIF(BV$1:BV1,PTable[3-Method]), \"\"),0)),\"\")","v":"mUSPmL"},{"$f":"IFERROR(INDEX(PTable[3-Method],MATCH(0,IF(BW$1=PTable[2-Test],COUNTIF(BW$1:BW1,PTable[3-Method]), \"\"),0)),\"\")","v":"AECMEF"}]
["Qual",{"$f":"IFERROR(INDEX(PTable[2-Test],MATCH(0,IF(B$1=PTable[1-Type],COUNTIF(B$1:B2,PTable[2-Test]), \"\"),0)),\"\")","v":"AnAPC25"},{"$f":"IFERROR(INDEX(PTable[2-Test],MATCH(0,IF(C$1=PTable[1-Type],COUNTIF(C$1:C2,PTable[2-Test]), \"\"),0)),\"\")","v":"COLIql"},{"$f":"IFERROR(INDEX(PTable[2-Test],MATCH(0,IF(D$1=PTable[1-Type],COUNTIF(D$1:D2,PTable[2-Test]), \"\"),0)),\"\")","v":"Hardness"},{"$f":"IFERROR(INDEX(PTable[2-Test],MATCH(0,IF(E$1=PTable[1-Type],COUNTIF(E$1:E2,PTable[2-Test]), \"\"),0)),\"\")","v":""},{"$f":"IFERROR(INDEX(PTable[2-Test],MATCH(0,IF(F$1=PTable[1-Type],COUNTIF(F$1:F2,PTable[2-Test]), \"\"),0)),\"\")","v":"Brazil"},{"$f":"IFERROR(INDEX(PTable[3-Method],MATCH(0,IF(G$1=PTable[2-Test],COUNTIF(G$1:G2,PTable[3-Method]), \"\"),0)),\"\")","v":""},{"$f":"IFERROR(INDEX(PTable[3-Method],MATCH(0,IF(H$1=PTable[2-Test],COUNTIF(H$1:H2,PTable[3-Method]), \"\"),0)),\"\")","v":""},{"$f":"IFERROR(INDEX(PTable[3-Method],MATCH(0,IF(I$1=PTable[2-Test],COUNTIF(I$1:I2,PTable[3-Method]), \"\"),0)),\"\")","v":""},{"$f":"IFERROR(INDEX(PTable[3-Method],MATCH(0,IF(J$1=PTable[2-Test],COUNTIF(J$1:J2,PTable[3-Method]), \"\"),0)),\"\")","v":""},{"$f":"IFERROR(INDEX(PTable[3-Method],MATCH(0,IF(K$1=PTable[2-Test],COUNTIF(K$1:K2,PTable[3-Method]), \"\"),0)),\"\")","v":""},{"$f":"IFERROR(INDEX(PTable[3-Method],MATCH(0,IF(L$1=PTable[2-Test],COUNTIF(L$1:L2,PTable[3-Method]), \"\"),0)),\"\")","v":""},{"$f":"IFERROR(INDEX(PTable[3-Method],MATCH(0,IF(M$1=PTable[2-Test],COUNTIF(M$1:M2,PTable[3-Method]), \"\"),0)),\"\")","v":""},{"$f":"IFERROR(INDEX(PTable[3-Method],MATCH(0,IF(N$1=PTable[2-Test],COUNTIF(N$1:N2,PTable[3-Method]), \"\"),0)),\"\")","v":""},{"$f":"IFERROR(INDEX(PTable[3-Method],MATCH(0,IF(O$1=PTable[2-Test],COUNTIF(O$1:O2,PTable[3-Method]), \"\"),0)),\"\")","v":""},{"$f":"IFERROR(INDEX(PTable[3-Method],MATCH(0,IF(P$1=PTable[2-Test],COUNTIF(P$1:P2,PTable[3-Method]), \"\"),0)),\"\")","v":""},{"$f":"IFERROR(INDEX(PTable[3-Method],MATCH(0,IF(Q$1=PTable[2-Test],COUNTIF(Q$1:Q2,PTable[3-Method]), \"\"),0)),\"\")","v":""},{"$f":"IFERROR(INDEX(PTable[3-Method],MATCH(0,IF(R$1=PTable[2-Test],COUNTIF(R$1:R2,PTable[3-Method]), \"\"),0)),\"\")","v":""},{"$f":"IFERROR(INDEX(PTable[3-Method],MATCH(0,IF(S$1=PTable[2-Test],COUNTIF(S$1:S2,PTable[3-Method]), \"\"),0)),\"\")","v":""},{"$f":"IFERROR(INDEX(PTable[3-Method],MATCH(0,IF(T$1=PTable[2-Test],COUNTIF(T$1:T2,PTable[3-Method]), \"\"),0)),\"\")","v":""},{"$f":"IFERROR(INDEX(PTable[3-Method],MATCH(0,IF(U$1=PTable[2-Test],COUNTIF(U$1:U2,PTable[3-Method]), \"\"),0)),\"\")","v":""},{"$f":"IFERROR(INDEX(PTable[3-Method],MATCH(0,IF(V$1=PTable[2-Test],COUNTIF(V$1:V2,PTable[3-Method]), \"\"),0)),\"\")","v":""},{"$f":"IFERROR(INDEX(PTable[3-Method],MATCH(0,IF(W$1=PTable[2-Test],COUNTIF(W$1:W2,PTable[3-Method]), \"\"),0)),\"\")","v":""},{"$f":"IFERROR(INDEX(PTable[3-Method],MATCH(0,IF(X$1=PTable[2-Test],COUNTIF(X$1:X2,PTable[3-Method]), \"\"),0)),\"\")","v":""},{"$f":"IFERROR(INDEX(PTable[3-Method],MATCH(0,IF(Y$1=PTable[2-Test],COUNTIF(Y$1:Y2,PTable[3-Method]), \"\"),0)),\"\")","v":""},{"$f":"IFERROR(INDEX(PTable[3-Method],MATCH(0,IF(Z$1=PTable[2-Test],COUNTIF(Z$1:Z2,PTable[3-Method]), \"\"),0)),\"\")","v":"free"},{"$f":"IFERROR(INDEX(PTable[3-Method],MATCH(0,IF(AA$1=PTable[2-Test],COUNTIF(AA$1:AA2,PTable[3-Method]), \"\"),0)),\"\")","v":"Mg"},{"$f":"IFERROR(INDEX(PTable[3-Method],MATCH(0,IF(AB$1=PTable[2-Test],COUNTIF(AB$1:AB2,PTable[3-Method]), \"\"),0)),\"\")","v":""},{"$f":"IFERROR(INDEX(PTable[3-Method],MATCH(0,IF(AC$1=PTable[2-Test],COUNTIF(AC$1:AC2,PTable[3-Method]), \"\"),0)),\"\")","v":""},{"$f":"IFERROR(INDEX(PTable[3-Method],MATCH(0,IF(AD$1=PTable[2-Test],COUNTIF(AD$1:AD2,PTable[3-Method]), \"\"),0)),\"\")","v":""},{"$f":"IFERROR(INDEX(PTable[3-Method],MATCH(0,IF(AE$1=PTable[2-Test],COUNTIF(AE$1:AE2,PTable[3-Method]), \"\"),0)),\"\")","v":""},{"$f":"IFERROR(INDEX(PTable[3-Method],MATCH(0,IF(AF$1=PTable[2-Test],COUNTIF(AF$1:AF2,PTable[3-Method]), \"\"),0)),\"\")","v":"Odor"},{"$f":"IFERROR(INDEX(PTable[3-Method],MATCH(0,IF(AG$1=PTable[2-Test],COUNTIF(AG$1:AG2,PTable[3-Method]), \"\"),0)),\"\")","v":"PCRs"},{"$f":"IFERROR(INDEX(PTable[3-Method],MATCH(0,IF(AH$1=PTable[2-Test],COUNTIF(AH$1:AH2,PTable[3-Method]), \"\"),0)),\"\")","v":""},{"$f":"IFERROR(INDEX(PTable[3-Method],MATCH(0,IF(AI$1=PTable[2-Test],COUNTIF(AI$1:AI2,PTable[3-Method]), \"\"),0)),\"\")","v":"PCRsam"},{"$f":"IFERROR(INDEX(PTable[3-Method],MATCH(0,IF(AJ$1=PTable[2-Test],COUNTIF(AJ$1:AJ2,PTable[3-Method]), \"\"),0)),\"\")","v":""},{"$f":"IFERROR(INDEX(PTable[3-Method],MATCH(0,IF(AK$1=PTable[2-Test],COUNTIF(AK$1:AK2,PTable[3-Method]), \"\"),0)),\"\")","v":""},{"$f":"IFERROR(INDEX(PTable[3-Method],MATCH(0,IF(AL$1=PTable[2-Test],COUNTIF(AL$1:AL2,PTable[3-Method]), \"\"),0)),\"\")","v":""},{"$f":"IFERROR(INDEX(PTable[3-Method],MATCH(0,IF(AM$1=PTable[2-Test],COUNTIF(AM$1:AM2,PTable[3-Method]), \"\"),0)),\"\")","v":"mBAXs"},{"$f":"IFERROR(INDEX(PTable[3-Method],MATCH(0,IF(AN$1=PTable[2-Test],COUNTIF(AN$1:AN2,PTable[3-Method]), \"\"),0)),\"\")","v":"mBesam"},{"$f":"IFERROR(INDEX(PTable[3-Method],MATCH(0,IF(AO$1=PTable[2-Test],COUNTIF(AO$1:AO2,PTable[3-Method]), \"\"),0)),\"\")","v":"GNGPs"},{"$f":"IFERROR(INDEX(PTable[3-Method],MATCH(0,IF(AP$1=PTable[2-Test],COUNTIF(AP$1:AP2,PTable[3-Method]), \"\"),0)),\"\")","v":"mBXs"},{"$f":"IFERROR(INDEX(PTable[3-Method],MATCH(0,IF(AQ$1=PTable[2-Test],COUNTIF(AQ$1:AQ2,PTable[3-Method]), \"\"),0)),\"\")","v":""},{"$f":"IFERROR(INDEX(PTable[3-Method],MATCH(0,IF(AR$1=PTable[2-Test],COUNTIF(AR$1:AR2,PTable[3-Method]), \"\"),0)),\"\")","v":""},{"$f":"IFERROR(INDEX(PTable[3-Method],MATCH(0,IF(AS$1=PTable[2-Test],COUNTIF(AS$1:AS2,PTable[3-Method]), \"\"),0)),\"\")","v":"LMFMs"},{"$f":"IFERROR(INDEX(PTable[3-Method],MATCH(0,IF(AT$1=PTable[2-Test],COUNTIF(AT$1:AT2,PTable[3-Method]), \"\"),0)),\"\")","v":"mCMEFs"},{"$f":"IFERROR(INDEX(PTable[3-Method],MATCH(0,IF(AU$1=PTable[2-Test],COUNTIF(AU$1:AU2,PTable[3-Method]), \"\"),0)),\"\")","v":"mCMEFs"},{"$f":"IFERROR(INDEX(PTable[3-Method],MATCH(0,IF(AV$1=PTable[2-Test],COUNTIF(AV$1:AV2,PTable[3-Method]), \"\"),0)),\"\")","v":"mCMEFs"},{"$f":"IFERROR(INDEX(PTable[3-Method],MATCH(0,IF(AW$1=PTable[2-Test],COUNTIF(AW$1:AW2,PTable[3-Method]), \"\"),0)),\"\")","v":"mCMEFm"},{"$f":"IFERROR(INDEX(PTable[3-Method],MATCH(0,IF(AX$1=PTable[2-Test],COUNTIF(AX$1:AX2,PTable[3-Method]), \"\"),0)),\"\")","v":"MFs"},{"$f":"IFERROR(INDEX(PTable[3-Method],MATCH(0,IF(AY$1=PTable[2-Test],COUNTIF(AY$1:AY2,PTable[3-Method]), \"\"),0)),\"\")","v":"mFDAmL"},{"$f":"IFERROR(INDEX(PTable[3-Method],MATCH(0,IF(AZ$1=PTable[2-Test],COUNTIF(AZ$1:AZ2,PTable[3-Method]), \"\"),0)),\"\")","v":"mCMFs"},{"$f":"IFERROR(INDEX(PTable[3-Method],MATCH(0,IF(BA$1=PTable[2-Test],COUNTIF(BA$1:BA2,PTable[3-Method]), \"\"),0)),\"\")","v":"mCMFs"},{"$f":"IFERROR(INDEX(PTable[3-Method],MATCH(0,IF(BB$1=PTable[2-Test],COUNTIF(BB$1:BB2,PTable[3-Method]), \"\"),0)),\"\")","v":"mCMFs"},{"$f":"IFERROR(INDEX(PTable[3-Method],MATCH(0,IF(BC$1=PTable[2-Test],COUNTIF(BC$1:BC2,PTable[3-Method]), \"\"),0)),\"\")","v":"mFDAs"},{"$f":"IFERROR(INDEX(PTable[3-Method],MATCH(0,IF(BD$1=PTable[2-Test],COUNTIF(BD$1:BD2,PTable[3-Method]), \"\"),0)),\"\")","v":"mFDAs"},{"$f":"IFERROR(INDEX(PTable[3-Method],MATCH(0,IF(BE$1=PTable[2-Test],COUNTIF(BE$1:BE2,PTable[3-Method]), \"\"),0)),\"\")","v":"mFDAmL"},{"$f":"IFERROR(INDEX(PTable[3-Method],MATCH(0,IF(BF$1=PTable[2-Test],COUNTIF(BF$1:BF2,PTable[3-Method]), \"\"),0)),\"\")","v":"mSMDPs"},{"$f":"IFERROR(INDEX(PTable[3-Method],MATCH(0,IF(BG$1=PTable[2-Test],COUNTIF(BG$1:BG2,PTable[3-Method]), \"\"),0)),\"\")","v":"mCMFs"},{"$f":"IFERROR(INDEX(PTable[3-Method],MATCH(0,IF(BH$1=PTable[2-Test],COUNTIF(BH$1:BH2,PTable[3-Method]), \"\"),0)),\"\")","v":"mFDAcm2"},{"$f":"IFERROR(INDEX(PTable[3-Method],MATCH(0,IF(BI$1=PTable[2-Test],COUNTIF(BI$1:BI2,PTable[3-Method]), \"\"),0)),\"\")","v":"mFDmpm"},{"$f":"IFERROR(INDEX(PTable[3-Method],MATCH(0,IF(BJ$1=PTable[2-Test],COUNTIF(BJ$1:BJ2,PTable[3-Method]), \"\"),0)),\"\")","v":"mCMFs"},{"$f":"IFERROR(INDEX(PTable[3-Method],MATCH(0,IF(BK$1=PTable[2-Test],COUNTIF(BK$1:BK2,PTable[3-Method]), \"\"),0)),\"\")","v":"mCMFs"},{"$f":"IFERROR(INDEX(PTable[3-Method],MATCH(0,IF(BL$1=PTable[2-Test],COUNTIF(BL$1:BL2,PTable[3-Method]), \"\"),0)),\"\")","v":"AECMEF6"},{"$f":"IFERROR(INDEX(PTable[3-Method],MATCH(0,IF(BM$1=PTable[2-Test],COUNTIF(BM$1:BM2,PTable[3-Method]), \"\"),0)),\"\")","v":"mCMFs"},{"$f":"IFERROR(INDEX(PTable[3-Method],MATCH(0,IF(BN$1=PTable[2-Test],COUNTIF(BN$1:BN2,PTable[3-Method]), \"\"),0)),\"\")","v":"mFDAs"},{"$f":"IFERROR(INDEX(PTable[3-Method],MATCH(0,IF(BO$1=PTable[2-Test],COUNTIF(BO$1:BO2,PTable[3-Method]), \"\"),0)),\"\")","v":"mFDAs"},{"$f":"IFERROR(INDEX(PTable[3-Method],MATCH(0,IF(BP$1=PTable[2-Test],COUNTIF(BP$1:BP2,PTable[3-Method]), \"\"),0)),\"\")","v":"mFDAs"},{"$f":"IFERROR(INDEX(PTable[3-Method],MATCH(0,IF(BQ$1=PTable[2-Test],COUNTIF(BQ$1:BQ2,PTable[3-Method]), \"\"),0)),\"\")","v":"mCMFs"},{"$f":"IFERROR(INDEX(PTable[3-Method],MATCH(0,IF(BR$1=PTable[2-Test],COUNTIF(BR$1:BR2,PTable[3-Method]), \"\"),0)),\"\")","v":""},{"$f":"IFERROR(INDEX(PTable[3-Method],MATCH(0,IF(BS$1=PTable[2-Test],COUNTIF(BS$1:BS2,PTable[3-Method]), \"\"),0)),\"\")","v":""},{"$f":"IFERROR(INDEX(PTable[3-Method],MATCH(0,IF(BT$1=PTable[2-Test],COUNTIF(BT$1:BT2,PTable[3-Method]), \"\"),0)),\"\")","v":"mFDAs"},{"$f":"IFERROR(INDEX(PTable[3-Method],MATCH(0,IF(BU$1=PTable[2-Test],COUNTIF(BU$1:BU2,PTable[3-Method]), \"\"),0)),\"\")","v":"CMFs"},{"$f":"IFERROR(INDEX(PTable[3-Method],MATCH(0,IF(BV$1=PTable[2-Test],COUNTIF(BV$1:BV2,PTable[3-Method]), \"\"),0)),\"\")","v":"mUSPs"},{"$f":"IFERROR(INDEX(PTable[3-Method],MATCH(0,IF(BW$1=PTable[2-Test],COUNTIF(BW$1:BW2,PTable[3-Method]), \"\"),0)),\"\")","v":"AECMEF6"}]
["Chem",{"$f":"IFERROR(INDEX(PTable[2-Test],MATCH(0,IF(B$1=PTable[1-Type],COUNTIF(B$1:B3,PTable[2-Test]), \"\"),0)),\"\")","v":"AnAPC35"},{"$f":"IFERROR(INDEX(PTable[2-Test],MATCH(0,IF(C$1=PTable[1-Type],COUNTIF(C$1:C3,PTable[2-Test]), \"\"),0)),\"\")","v":"ECO157"},{"$f":"IFERROR(INDEX(PTable[2-Test],MATCH(0,IF(D$1=PTable[1-Type],COUNTIF(D$1:D3,PTable[2-Test]), \"\"),0)),\"\")","v":"Na"},{"$f":"IFERROR(INDEX(PTable[2-Test],MATCH(0,IF(E$1=PTable[1-Type],COUNTIF(E$1:E3,PTable[2-Test]), \"\"),0)),\"\")","v":""},{"$f":"IFERROR(INDEX(PTable[2-Test],MATCH(0,IF(F$1=PTable[1-Type],COUNTIF(F$1:F3,PTable[2-Test]), \"\"),0)),\"\")","v":"Casein"},{"$f":"IFERROR(INDEX(PTable[3-Method],MATCH(0,IF(G$1=PTable[2-Test],COUNTIF(G$1:G3,PTable[3-Method]), \"\"),0)),\"\")","v":""},{"$f":"IFERROR(INDEX(PTable[3-Method],MATCH(0,IF(H$1=PTable[2-Test],COUNTIF(H$1:H3,PTable[3-Method]), \"\"),0)),\"\")","v":""},{"$f":"IFERROR(INDEX(PTable[3-Method],MATCH(0,IF(I$1=PTable[2-Test],COUNTIF(I$1:I3,PTable[3-Method]), \"\"),0)),\"\")","v":""},{"$f":"IFERROR(INDEX(PTable[3-Method],MATCH(0,IF(J$1=PTable[2-Test],COUNTIF(J$1:J3,PTable[3-Method]), \"\"),0)),\"\")","v":""},{"$f":"IFERROR(INDEX(PTable[3-Method],MATCH(0,IF(K$1=PTable[2-Test],COUNTIF(K$1:K3,PTable[3-Method]), \"\"),0)),\"\")","v":""},{"$f":"IFERROR(INDEX(PTable[3-Method],MATCH(0,IF(L$1=PTable[2-Test],COUNTIF(L$1:L3,PTable[3-Method]), \"\"),0)),\"\")","v":""},{"$f":"IFERROR(INDEX(PTable[3-Method],MATCH(0,IF(M$1=PTable[2-Test],COUNTIF(M$1:M3,PTable[3-Method]), \"\"),0)),\"\")","v":""},{"$f":"IFERROR(INDEX(PTable[3-Method],MATCH(0,IF(N$1=PTable[2-Test],COUNTIF(N$1:N3,PTable[3-Method]), \"\"),0)),\"\")","v":""},{"$f":"IFERROR(INDEX(PTable[3-Method],MATCH(0,IF(O$1=PTable[2-Test],COUNTIF(O$1:O3,PTable[3-Method]), \"\"),0)),\"\")","v":""},{"$f":"IFERROR(INDEX(PTable[3-Method],MATCH(0,IF(P$1=PTable[2-Test],COUNTIF(P$1:P3,PTable[3-Method]), \"\"),0)),\"\")","v":""},{"$f":"IFERROR(INDEX(PTable[3-Method],MATCH(0,IF(Q$1=PTable[2-Test],COUNTIF(Q$1:Q3,PTable[3-Method]), \"\"),0)),\"\")","v":""},{"$f":"IFERROR(INDEX(PTable[3-Method],MATCH(0,IF(R$1=PTable[2-Test],COUNTIF(R$1:R3,PTable[3-Method]), \"\"),0)),\"\")","v":""},{"$f":"IFERROR(INDEX(PTable[3-Method],MATCH(0,IF(S$1=PTable[2-Test],COUNTIF(S$1:S3,PTable[3-Method]), \"\"),0)),\"\")","v":""},{"$f":"IFERROR(INDEX(PTable[3-Method],MATCH(0,IF(T$1=PTable[2-Test],COUNTIF(T$1:T3,PTable[3-Method]), \"\"),0)),\"\")","v":""},{"$f":"IFERROR(INDEX(PTable[3-Method],MATCH(0,IF(U$1=PTable[2-Test],COUNTIF(U$1:U3,PTable[3-Method]), \"\"),0)),\"\")","v":""},{"$f":"IFERROR(INDEX(PTable[3-Method],MATCH(0,IF(V$1=PTable[2-Test],COUNTIF(V$1:V3,PTable[3-Method]), \"\"),0)),\"\")","v":""},{"$f":"IFERROR(INDEX(PTable[3-Method],MATCH(0,IF(W$1=PTable[2-Test],COUNTIF(W$1:W3,PTable[3-Method]), \"\"),0)),\"\")","v":""},{"$f":"IFERROR(INDEX(PTable[3-Method],MATCH(0,IF(X$1=PTable[2-Test],COUNTIF(X$1:X3,PTable[3-Method]), \"\"),0)),\"\")","v":""},{"$f":"IFERROR(INDEX(PTable[3-Method],MATCH(0,IF(Y$1=PTable[2-Test],COUNTIF(Y$1:Y3,PTable[3-Method]), \"\"),0)),\"\")","v":""},{"$f":"IFERROR(INDEX(PTable[3-Method],MATCH(0,IF(Z$1=PTable[2-Test],COUNTIF(Z$1:Z3,PTable[3-Method]), \"\"),0)),\"\")","v":"total"},{"$f":"IFERROR(INDEX(PTable[3-Method],MATCH(0,IF(AA$1=PTable[2-Test],COUNTIF(AA$1:AA3,PTable[3-Method]), \"\"),0)),\"\")","v":"total"},{"$f":"IFERROR(INDEX(PTable[3-Method],MATCH(0,IF(AB$1=PTable[2-Test],COUNTIF(AB$1:AB3,PTable[3-Method]), \"\"),0)),\"\")","v":""},{"$f":"IFERROR(INDEX(PTable[3-Method],MATCH(0,IF(AC$1=PTable[2-Test],COUNTIF(AC$1:AC3,PTable[3-Method]), \"\"),0)),\"\")","v":""},{"$f":"IFERROR(INDEX(PTable[3-Method],MATCH(0,IF(AD$1=PTable[2-Test],COUNTIF(AD$1:AD3,PTable[3-Method]), \"\"),0)),\"\")","v":""},{"$f":"IFERROR(INDEX(PTable[3-Method],MATCH(0,IF(AE$1=PTable[2-Test],COUNTIF(AE$1:AE3,PTable[3-Method]), \"\"),0)),\"\")","v":""},{"$f":"IFERROR(INDEX(PTable[3-Method],MATCH(0,IF(AF$1=PTable[2-Test],COUNTIF(AF$1:AF3,PTable[3-Method]), \"\"),0)),\"\")","v":"Taste"},{"$f":"IFERROR(INDEX(PTable[3-Method],MATCH(0,IF(AG$1=PTable[2-Test],COUNTIF(AG$1:AG3,PTable[3-Method]), \"\"),0)),\"\")","v":""},{"$f":"IFERROR(INDEX(PTable[3-Method],MATCH(0,IF(AH$1=PTable[2-Test],COUNTIF(AH$1:AH3,PTable[3-Method]), \"\"),0)),\"\")","v":""},{"$f":"IFERROR(INDEX(PTable[3-Method],MATCH(0,IF(AI$1=PTable[2-Test],COUNTIF(AI$1:AI3,PTable[3-Method]), \"\"),0)),\"\")","v":""},{"$f":"IFERROR(INDEX(PTable[3-Method],MATCH(0,IF(AJ$1=PTable[2-Test],COUNTIF(AJ$1:AJ3,PTable[3-Method]), \"\"),0)),\"\")","v":""},{"$f":"IFERROR(INDEX(PTable[3-Method],MATCH(0,IF(AK$1=PTable[2-Test],COUNTIF(AK$1:AK3,PTable[3-Method]), \"\"),0)),\"\")","v":""},{"$f":"IFERROR(INDEX(PTable[3-Method],MATCH(0,IF(AL$1=PTable[2-Test],COUNTIF(AL$1:AL3,PTable[3-Method]), \"\"),0)),\"\")","v":""},{"$f":"IFERROR(INDEX(PTable[3-Method],MATCH(0,IF(AM$1=PTable[2-Test],COUNTIF(AM$1:AM3,PTable[3-Method]), \"\"),0)),\"\")","v":"mBX24Es"},{"$f":"IFERROR(INDEX(PTable[3-Method],MATCH(0,IF(AN$1=PTable[2-Test],COUNTIF(AN$1:AN3,PTable[3-Method]), \"\"),0)),\"\")","v":"mBX24Es"},{"$f":"IFERROR(INDEX(PTable[3-Method],MATCH(0,IF(AO$1=PTable[2-Test],COUNTIF(AO$1:AO3,PTable[3-Method]), \"\"),0)),\"\")","v":"GNOm3"},{"$f":"IFERROR(INDEX(PTable[3-Method],MATCH(0,IF(AP$1=PTable[2-Test],COUNTIF(AP$1:AP3,PTable[3-Method]), \"\"),0)),\"\")","v":"mBXsam"},{"$f":"IFERROR(INDEX(PTable[3-Method],MATCH(0,IF(AQ$1=PTable[2-Test],COUNTIF(AQ$1:AQ3,PTable[3-Method]), \"\"),0)),\"\")","v":""},{"$f":"IFERROR(INDEX(PTable[3-Method],MATCH(0,IF(AR$1=PTable[2-Test],COUNTIF(AR$1:AR3,PTable[3-Method]), \"\"),0)),\"\")","v":""},{"$f":"IFERROR(INDEX(PTable[3-Method],MATCH(0,IF(AS$1=PTable[2-Test],COUNTIF(AS$1:AS3,PTable[3-Method]), \"\"),0)),\"\")","v":""},{"$f":"IFERROR(INDEX(PTable[3-Method],MATCH(0,IF(AT$1=PTable[2-Test],COUNTIF(AT$1:AT3,PTable[3-Method]), \"\"),0)),\"\")","v":""},{"$f":"IFERROR(INDEX(PTable[3-Method],MATCH(0,IF(AU$1=PTable[2-Test],COUNTIF(AU$1:AU3,PTable[3-Method]), \"\"),0)),\"\")","v":""},{"$f":"IFERROR(INDEX(PTable[3-Method],MATCH(0,IF(AV$1=PTable[2-Test],COUNTIF(AV$1:AV3,PTable[3-Method]), \"\"),0)),\"\")","v":""},{"$f":"IFERROR(INDEX(PTable[3-Method],MATCH(0,IF(AW$1=PTable[2-Test],COUNTIF(AW$1:AW3,PTable[3-Method]), \"\"),0)),\"\")","v":"mCMEFs"},{"$f":"IFERROR(INDEX(PTable[3-Method],MATCH(0,IF(AX$1=PTable[2-Test],COUNTIF(AX$1:AX3,PTable[3-Method]), \"\"),0)),\"\")","v":"mSMDPm"},{"$f":"IFERROR(INDEX(PTable[3-Method],MATCH(0,IF(AY$1=PTable[2-Test],COUNTIF(AY$1:AY3,PTable[3-Method]), \"\"),0)),\"\")","v":"mFDAs"},{"$f":"IFERROR(INDEX(PTable[3-Method],MATCH(0,IF(AZ$1=PTable[2-Test],COUNTIF(AZ$1:AZ3,PTable[3-Method]), \"\"),0)),\"\")","v":"MFmL"},{"$f":"IFERROR(INDEX(PTable[3-Method],MATCH(0,IF(BA$1=PTable[2-Test],COUNTIF(BA$1:BA3,PTable[3-Method]), \"\"),0)),\"\")","v":""},{"$f":"IFERROR(INDEX(PTable[3-Method],MATCH(0,IF(BB$1=PTable[2-Test],COUNTIF(BB$1:BB3,PTable[3-Method]), \"\"),0)),\"\")","v":""},{"$f":"IFERROR(INDEX(PTable[3-Method],MATCH(0,IF(BC$1=PTable[2-Test],COUNTIF(BC$1:BC3,PTable[3-Method]), \"\"),0)),\"\")","v":""},{"$f":"IFERROR(INDEX(PTable[3-Method],MATCH(0,IF(BD$1=PTable[2-Test],COUNTIF(BD$1:BD3,PTable[3-Method]), \"\"),0)),\"\")","v":""},{"$f":"IFERROR(INDEX(PTable[3-Method],MATCH(0,IF(BE$1=PTable[2-Test],COUNTIF(BE$1:BE3,PTable[3-Method]), \"\"),0)),\"\")","v":"mFDAs"},{"$f":"IFERROR(INDEX(PTable[3-Method],MATCH(0,IF(BF$1=PTable[2-Test],COUNTIF(BF$1:BF3,PTable[3-Method]), \"\"),0)),\"\")","v":"PFmL"},{"$f":"IFERROR(INDEX(PTable[3-Method],MATCH(0,IF(BG$1=PTable[2-Test],COUNTIF(BG$1:BG3,PTable[3-Method]), \"\"),0)),\"\")","v":"PFmL"},{"$f":"IFERROR(INDEX(PTable[3-Method],MATCH(0,IF(BH$1=PTable[2-Test],COUNTIF(BH$1:BH3,PTable[3-Method]), \"\"),0)),\"\")","v":"mFDAmL"},{"$f":"IFERROR(INDEX(PTable[3-Method],MATCH(0,IF(BI$1=PTable[2-Test],COUNTIF(BI$1:BI3,PTable[3-Method]), \"\"),0)),\"\")","v":"mSMWtn"},{"$f":"IFERROR(INDEX(PTable[3-Method],MATCH(0,IF(BJ$1=PTable[2-Test],COUNTIF(BJ$1:BJ3,PTable[3-Method]), \"\"),0)),\"\")","v":""},{"$f":"IFERROR(INDEX(PTable[3-Method],MATCH(0,IF(BK$1=PTable[2-Test],COUNTIF(BK$1:BK3,PTable[3-Method]), \"\"),0)),\"\")","v":""},{"$f":"IFERROR(INDEX(PTable[3-Method],MATCH(0,IF(BL$1=PTable[2-Test],COUNTIF(BL$1:BL3,PTable[3-Method]), \"\"),0)),\"\")","v":"AECMEF7"},{"$f":"IFERROR(INDEX(PTable[3-Method],MATCH(0,IF(BM$1=PTable[2-Test],COUNTIF(BM$1:BM3,PTable[3-Method]), \"\"),0)),\"\")","v":""},{"$f":"IFERROR(INDEX(PTable[3-Method],MATCH(0,IF(BN$1=PTable[2-Test],COUNTIF(BN$1:BN3,PTable[3-Method]), \"\"),0)),\"\")","v":""},{"$f":"IFERROR(INDEX(PTable[3-Method],MATCH(0,IF(BO$1=PTable[2-Test],COUNTIF(BO$1:BO3,PTable[3-Method]), \"\"),0)),\"\")","v":""},{"$f":"IFERROR(INDEX(PTable[3-Method],MATCH(0,IF(BP$1=PTable[2-Test],COUNTIF(BP$1:BP3,PTable[3-Method]), \"\"),0)),\"\")","v":""},{"$f":"IFERROR(INDEX(PTable[3-Method],MATCH(0,IF(BQ$1=PTable[2-Test],COUNTIF(BQ$1:BQ3,PTable[3-Method]), \"\"),0)),\"\")","v":""},{"$f":"IFERROR(INDEX(PTable[3-Method],MATCH(0,IF(BR$1=PTable[2-Test],COUNTIF(BR$1:BR3,PTable[3-Method]), \"\"),0)),\"\")","v":""},{"$f":"IFERROR(INDEX(PTable[3-Method],MATCH(0,IF(BS$1=PTable[2-Test],COUNTIF(BS$1:BS3,PTable[3-Method]), \"\"),0)),\"\")","v":""},{"$f":"IFERROR(INDEX(PTable[3-Method],MATCH(0,IF(BT$1=PTable[2-Test],COUNTIF(BT$1:BT3,PTable[3-Method]), \"\"),0)),\"\")","v":"PFmL"},{"$f":"IFERROR(INDEX(PTable[3-Method],MATCH(0,IF(BU$1=PTable[2-Test],COUNTIF(BU$1:BU3,PTable[3-Method]), \"\"),0)),\"\")","v":""},{"$f":"IFERROR(INDEX(PTable[3-Method],MATCH(0,IF(BV$1=PTable[2-Test],COUNTIF(BV$1:BV3,PTable[3-Method]), \"\"),0)),\"\")","v":""},{"$f":"IFERROR(INDEX(PTable[3-Method],MATCH(0,IF(BW$1=PTable[2-Test],COUNTIF(BW$1:BW3,PTable[3-Method]), \"\"),0)),\"\")","v":"AECMEF7"}]
["Allergen",{"$f":"IFERROR(INDEX(PTable[2-Test],MATCH(0,IF(B$1=PTable[1-Type],COUNTIF(B$1:B4,PTable[2-Test]), \"\"),0)),\"\")","v":"AnAPC7"},{"$f":"IFERROR(INDEX(PTable[2-Test],MATCH(0,IF(C$1=PTable[1-Type],COUNTIF(C$1:C4,PTable[2-Test]), \"\"),0)),\"\")","v":"ECql"},{"$f":"IFERROR(INDEX(PTable[2-Test],MATCH(0,IF(D$1=PTable[1-Type],COUNTIF(D$1:D4,PTable[2-Test]), \"\"),0)),\"\")","v":"pH"},{"$f":"IFERROR(INDEX(PTable[2-Test],MATCH(0,IF(E$1=PTable[1-Type],COUNTIF(E$1:E4,PTable[2-Test]), \"\"),0)),\"\")","v":""},{"$f":"IFERROR(INDEX(PTable[2-Test],MATCH(0,IF(F$1=PTable[1-Type],COUNTIF(F$1:F4,PTable[2-Test]), \"\"),0)),\"\")","v":"Cashew"},{"$f":"IFERROR(INDEX(PTable[3-Method],MATCH(0,IF(G$1=PTable[2-Test],COUNTIF(G$1:G4,PTable[3-Method]), \"\"),0)),\"\")","v":""},{"$f":"IFERROR(INDEX(PTable[3-Method],MATCH(0,IF(H$1=PTable[2-Test],COUNTIF(H$1:H4,PTable[3-Method]), \"\"),0)),\"\")","v":""},{"$f":"IFERROR(INDEX(PTable[3-Method],MATCH(0,IF(I$1=PTable[2-Test],COUNTIF(I$1:I4,PTable[3-Method]), \"\"),0)),\"\")","v":""},{"$f":"IFERROR(INDEX(PTable[3-Method],MATCH(0,IF(J$1=PTable[2-Test],COUNTIF(J$1:J4,PTable[3-Method]), \"\"),0)),\"\")","v":""},{"$f":"IFERROR(INDEX(PTable[3-Method],MATCH(0,IF(K$1=PTable[2-Test],COUNTIF(K$1:K4,PTable[3-Method]), \"\"),0)),\"\")","v":""},{"$f":"IFERROR(INDEX(PTable[3-Method],MATCH(0,IF(L$1=PTable[2-Test],COUNTIF(L$1:L4,PTable[3-Method]), \"\"),0)),\"\")","v":""},{"$f":"IFERROR(INDEX(PTable[3-Method],MATCH(0,IF(M$1=PTable[2-Test],COUNTIF(M$1:M4,PTable[3-Method]), \"\"),0)),\"\")","v":""},{"$f":"IFERROR(INDEX(PTable[3-Method],MATCH(0,IF(N$1=PTable[2-Test],COUNTIF(N$1:N4,PTable[3-Method]), \"\"),0)),\"\")","v":""},{"$f":"IFERROR(INDEX(PTable[3-Method],MATCH(0,IF(O$1=PTable[2-Test],COUNTIF(O$1:O4,PTable[3-Method]), \"\"),0)),\"\")","v":""},{"$f":"IFERROR(INDEX(PTable[3-Method],MATCH(0,IF(P$1=PTable[2-Test],COUNTIF(P$1:P4,PTable[3-Method]), \"\"),0)),\"\")","v":""},{"$f":"IFERROR(INDEX(PTable[3-Method],MATCH(0,IF(Q$1=PTable[2-Test],COUNTIF(Q$1:Q4,PTable[3-Method]), \"\"),0)),\"\")","v":""},{"$f":"IFERROR(INDEX(PTable[3-Method],MATCH(0,IF(R$1=PTable[2-Test],COUNTIF(R$1:R4,PTable[3-Method]), \"\"),0)),\"\")","v":""},{"$f":"IFERROR(INDEX(PTable[3-Method],MATCH(0,IF(S$1=PTable[2-Test],COUNTIF(S$1:S4,PTable[3-Method]), \"\"),0)),\"\")","v":""},{"$f":"IFERROR(INDEX(PTable[3-Method],MATCH(0,IF(T$1=PTable[2-Test],COUNTIF(T$1:T4,PTable[3-Method]), \"\"),0)),\"\")","v":""},{"$f":"IFERROR(INDEX(PTable[3-Method],MATCH(0,IF(U$1=PTable[2-Test],COUNTIF(U$1:U4,PTable[3-Method]), \"\"),0)),\"\")","v":""},{"$f":"IFERROR(INDEX(PTable[3-Method],MATCH(0,IF(V$1=PTable[2-Test],COUNTIF(V$1:V4,PTable[3-Method]), \"\"),0)),\"\")","v":""},{"$f":"IFERROR(INDEX(PTable[3-Method],MATCH(0,IF(W$1=PTable[2-Test],COUNTIF(W$1:W4,PTable[3-Method]), \"\"),0)),\"\")","v":""},{"$f":"IFERROR(INDEX(PTable[3-Method],MATCH(0,IF(X$1=PTable[2-Test],COUNTIF(X$1:X4,PTable[3-Method]), \"\"),0)),\"\")","v":""},{"$f":"IFERROR(INDEX(PTable[3-Method],MATCH(0,IF(Y$1=PTable[2-Test],COUNTIF(Y$1:Y4,PTable[3-Method]), \"\"),0)),\"\")","v":""},{"$f":"IFERROR(INDEX(PTable[3-Method],MATCH(0,IF(Z$1=PTable[2-Test],COUNTIF(Z$1:Z4,PTable[3-Method]), \"\"),0)),\"\")","v":""},{"$f":"IFERROR(INDEX(PTable[3-Method],MATCH(0,IF(AA$1=PTable[2-Test],COUNTIF(AA$1:AA4,PTable[3-Method]), \"\"),0)),\"\")","v":""},{"$f":"IFERROR(INDEX(PTable[3-Method],MATCH(0,IF(AB$1=PTable[2-Test],COUNTIF(AB$1:AB4,PTable[3-Method]), \"\"),0)),\"\")","v":""},{"$f":"IFERROR(INDEX(PTable[3-Method],MATCH(0,IF(AC$1=PTable[2-Test],COUNTIF(AC$1:AC4,PTable[3-Method]), \"\"),0)),\"\")","v":""},{"$f":"IFERROR(INDEX(PTable[3-Method],MATCH(0,IF(AD$1=PTable[2-Test],COUNTIF(AD$1:AD4,PTable[3-Method]), \"\"),0)),\"\")","v":""},{"$f":"IFERROR(INDEX(PTable[3-Method],MATCH(0,IF(AE$1=PTable[2-Test],COUNTIF(AE$1:AE4,PTable[3-Method]), \"\"),0)),\"\")","v":""},{"$f":"IFERROR(INDEX(PTable[3-Method],MATCH(0,IF(AF$1=PTable[2-Test],COUNTIF(AF$1:AF4,PTable[3-Method]), \"\"),0)),\"\")","v":""},{"$f":"IFERROR(INDEX(PTable[3-Method],MATCH(0,IF(AG$1=PTable[2-Test],COUNTIF(AG$1:AG4,PTable[3-Method]), \"\"),0)),\"\")","v":""},{"$f":"IFERROR(INDEX(PTable[3-Method],MATCH(0,IF(AH$1=PTable[2-Test],COUNTIF(AH$1:AH4,PTable[3-Method]), \"\"),0)),\"\")","v":""},{"$f":"IFERROR(INDEX(PTable[3-Method],MATCH(0,IF(AI$1=PTable[2-Test],COUNTIF(AI$1:AI4,PTable[3-Method]), \"\"),0)),\"\")","v":""},{"$f":"IFERROR(INDEX(PTable[3-Method],MATCH(0,IF(AJ$1=PTable[2-Test],COUNTIF(AJ$1:AJ4,PTable[3-Method]), \"\"),0)),\"\")","v":""},{"$f":"IFERROR(INDEX(PTable[3-Method],MATCH(0,IF(AK$1=PTable[2-Test],COUNTIF(AK$1:AK4,PTable[3-Method]), \"\"),0)),\"\")","v":""},{"$f":"IFERROR(INDEX(PTable[3-Method],MATCH(0,IF(AL$1=PTable[2-Test],COUNTIF(AL$1:AL4,PTable[3-Method]), \"\"),0)),\"\")","v":""},{"$f":"IFERROR(INDEX(PTable[3-Method],MATCH(0,IF(AM$1=PTable[2-Test],COUNTIF(AM$1:AM4,PTable[3-Method]), \"\"),0)),\"\")","v":"mFDAs"},{"$f":"IFERROR(INDEX(PTable[3-Method],MATCH(0,IF(AN$1=PTable[2-Test],COUNTIF(AN$1:AN4,PTable[3-Method]), \"\"),0)),\"\")","v":"mBXs"},{"$f":"IFERROR(INDEX(PTable[3-Method],MATCH(0,IF(AO$1=PTable[2-Test],COUNTIF(AO$1:AO4,PTable[3-Method]), \"\"),0)),\"\")","v":"GNOs"},{"$f":"IFERROR(INDEX(PTable[3-Method],MATCH(0,IF(AP$1=PTable[2-Test],COUNTIF(AP$1:AP4,PTable[3-Method]), \"\"),0)),\"\")","v":"mFD375m"},{"$f":"IFERROR(INDEX(PTable[3-Method],MATCH(0,IF(AQ$1=PTable[2-Test],COUNTIF(AQ$1:AQ4,PTable[3-Method]), \"\"),0)),\"\")","v":""},{"$f":"IFERROR(INDEX(PTable[3-Method],MATCH(0,IF(AR$1=PTable[2-Test],COUNTIF(AR$1:AR4,PTable[3-Method]), \"\"),0)),\"\")","v":""},{"$f":"IFERROR(INDEX(PTable[3-Method],MATCH(0,IF(AS$1=PTable[2-Test],COUNTIF(AS$1:AS4,PTable[3-Method]), \"\"),0)),\"\")","v":""},{"$f":"IFERROR(INDEX(PTable[3-Method],MATCH(0,IF(AT$1=PTable[2-Test],COUNTIF(AT$1:AT4,PTable[3-Method]), \"\"),0)),\"\")","v":""},{"$f":"IFERROR(INDEX(PTable[3-Method],MATCH(0,IF(AU$1=PTable[2-Test],COUNTIF(AU$1:AU4,PTable[3-Method]), \"\"),0)),\"\")","v":""},{"$f":"IFERROR(INDEX(PTable[3-Method],MATCH(0,IF(AV$1=PTable[2-Test],COUNTIF(AV$1:AV4,PTable[3-Method]), \"\"),0)),\"\")","v":""},{"$f":"IFERROR(INDEX(PTable[3-Method],MATCH(0,IF(AW$1=PTable[2-Test],COUNTIF(AW$1:AW4,PTable[3-Method]), \"\"),0)),\"\")","v":"MFm3"},{"$f":"IFERROR(INDEX(PTable[3-Method],MATCH(0,IF(AX$1=PTable[2-Test],COUNTIF(AX$1:AX4,PTable[3-Method]), \"\"),0)),\"\")","v":"mSMDPs"},{"$f":"IFERROR(INDEX(PTable[3-Method],MATCH(0,IF(AY$1=PTable[2-Test],COUNTIF(AY$1:AY4,PTable[3-Method]), \"\"),0)),\"\")","v":"MFmL"},{"$f":"IFERROR(INDEX(PTable[3-Method],MATCH(0,IF(AZ$1=PTable[2-Test],COUNTIF(AZ$1:AZ4,PTable[3-Method]), \"\"),0)),\"\")","v":"MFs"},{"$f":"IFERROR(INDEX(PTable[3-Method],MATCH(0,IF(BA$1=PTable[2-Test],COUNTIF(BA$1:BA4,PTable[3-Method]), \"\"),0)),\"\")","v":""},{"$f":"IFERROR(INDEX(PTable[3-Method],MATCH(0,IF(BB$1=PTable[2-Test],COUNTIF(BB$1:BB4,PTable[3-Method]), \"\"),0)),\"\")","v":""},{"$f":"IFERROR(INDEX(PTable[3-Method],MATCH(0,IF(BC$1=PTable[2-Test],COUNTIF(BC$1:BC4,PTable[3-Method]), \"\"),0)),\"\")","v":""},{"$f":"IFERROR(INDEX(PTable[3-Method],MATCH(0,IF(BD$1=PTable[2-Test],COUNTIF(BD$1:BD4,PTable[3-Method]), \"\"),0)),\"\")","v":""},{"$f":"IFERROR(INDEX(PTable[3-Method],MATCH(0,IF(BE$1=PTable[2-Test],COUNTIF(BE$1:BE4,PTable[3-Method]), \"\"),0)),\"\")","v":"mFDmpM"},{"$f":"IFERROR(INDEX(PTable[3-Method],MATCH(0,IF(BF$1=PTable[2-Test],COUNTIF(BF$1:BF4,PTable[3-Method]), \"\"),0)),\"\")","v":"PFs"},{"$f":"IFERROR(INDEX(PTable[3-Method],MATCH(0,IF(BG$1=PTable[2-Test],COUNTIF(BG$1:BG4,PTable[3-Method]), \"\"),0)),\"\")","v":"PFs"},{"$f":"IFERROR(INDEX(PTable[3-Method],MATCH(0,IF(BH$1=PTable[2-Test],COUNTIF(BH$1:BH4,PTable[3-Method]), \"\"),0)),\"\")","v":"mFDAmpM"},{"$f":"IFERROR(INDEX(PTable[3-Method],MATCH(0,IF(BI$1=PTable[2-Test],COUNTIF(BI$1:BI4,PTable[3-Method]), \"\"),0)),\"\")","v":""},{"$f":"IFERROR(INDEX(PTable[3-Method],MATCH(0,IF(BJ$1=PTable[2-Test],COUNTIF(BJ$1:BJ4,PTable[3-Method]), \"\"),0)),\"\")","v":""},{"$f":"IFERROR(INDEX(PTable[3-Method],MATCH(0,IF(BK$1=PTable[2-Test],COUNTIF(BK$1:BK4,PTable[3-Method]), \"\"),0)),\"\")","v":""},{"$f":"IFERROR(INDEX(PTable[3-Method],MATCH(0,IF(BL$1=PTable[2-Test],COUNTIF(BL$1:BL4,PTable[3-Method]), \"\"),0)),\"\")","v":"FDAmL"},{"$f":"IFERROR(INDEX(PTable[3-Method],MATCH(0,IF(BM$1=PTable[2-Test],COUNTIF(BM$1:BM4,PTable[3-Method]), \"\"),0)),\"\")","v":""},{"$f":"IFERROR(INDEX(PTable[3-Method],MATCH(0,IF(BN$1=PTable[2-Test],COUNTIF(BN$1:BN4,PTable[3-Method]), \"\"),0)),\"\")","v":""},{"$f":"IFERROR(INDEX(PTable[3-Method],MATCH(0,IF(BO$1=PTable[2-Test],COUNTIF(BO$1:BO4,PTable[3-Method]), \"\"),0)),\"\")","v":""},{"$f":"IFERROR(INDEX(PTable[3-Method],MATCH(0,IF(BP$1=PTable[2-Test],COUNTIF(BP$1:BP4,PTable[3-Method]), \"\"),0)),\"\")","v":""},{"$f":"IFERROR(INDEX(PTable[3-Method],MATCH(0,IF(BQ$1=PTable[2-Test],COUNTIF(BQ$1:BQ4,PTable[3-Method]), \"\"),0)),\"\")","v":""},{"$f":"IFERROR(INDEX(PTable[3-Method],MATCH(0,IF(BR$1=PTable[2-Test],COUNTIF(BR$1:BR4,PTable[3-Method]), \"\"),0)),\"\")","v":""},{"$f":"IFERROR(INDEX(PTable[3-Method],MATCH(0,IF(BS$1=PTable[2-Test],COUNTIF(BS$1:BS4,PTable[3-Method]), \"\"),0)),\"\")","v":""},{"$f":"IFERROR(INDEX(PTable[3-Method],MATCH(0,IF(BT$1=PTable[2-Test],COUNTIF(BT$1:BT4,PTable[3-Method]), \"\"),0)),\"\")","v":"PFswab"},{"$f":"IFERROR(INDEX(PTable[3-Method],MATCH(0,IF(BU$1=PTable[2-Test],COUNTIF(BU$1:BU4,PTable[3-Method]), \"\"),0)),\"\")","v":""},{"$f":"IFERROR(INDEX(PTable[3-Method],MATCH(0,IF(BV$1=PTable[2-Test],COUNTIF(BV$1:BV4,PTable[3-Method]), \"\"),0)),\"\")","v":""},{"$f":"IFERROR(INDEX(PTable[3-Method],MATCH(0,IF(BW$1=PTable[2-Test],COUNTIF(BW$1:BW4,PTable[3-Method]), \"\"),0)),\"\")","v":"FDAmL"}]
["Orgnlptc",{"$f":"IFERROR(INDEX(PTable[2-Test],MATCH(0,IF(B$1=PTable[1-Type],COUNTIF(B$1:B5,PTable[2-Test]), \"\"),0)),\"\")","v":"APC25"},{"$f":"IFERROR(INDEX(PTable[2-Test],MATCH(0,IF(C$1=PTable[1-Type],COUNTIF(C$1:C5,PTable[2-Test]), \"\"),0)),\"\")","v":"EHEC"},{"$f":"IFERROR(INDEX(PTable[2-Test],MATCH(0,IF(D$1=PTable[1-Type],COUNTIF(D$1:D5,PTable[2-Test]), \"\"),0)),\"\")","v":"Salt"},{"$f":"IFERROR(INDEX(PTable[2-Test],MATCH(0,IF(E$1=PTable[1-Type],COUNTIF(E$1:E5,PTable[2-Test]), \"\"),0)),\"\")","v":""},{"$f":"IFERROR(INDEX(PTable[2-Test],MATCH(0,IF(F$1=PTable[1-Type],COUNTIF(F$1:F5,PTable[2-Test]), \"\"),0)),\"\")","v":"Coconut"},{"$f":"IFERROR(INDEX(PTable[3-Method],MATCH(0,IF(G$1=PTable[2-Test],COUNTIF(G$1:G5,PTable[3-Method]), \"\"),0)),\"\")","v":""},{"$f":"IFERROR(INDEX(PTable[3-Method],MATCH(0,IF(H$1=PTable[2-Test],COUNTIF(H$1:H5,PTable[3-Method]), \"\"),0)),\"\")","v":""},{"$f":"IFERROR(INDEX(PTable[3-Method],MATCH(0,IF(I$1=PTable[2-Test],COUNTIF(I$1:I5,PTable[3-Method]), \"\"),0)),\"\")","v":""},{"$f":"IFERROR(INDEX(PTable[3-Method],MATCH(0,IF(J$1=PTable[2-Test],COUNTIF(J$1:J5,PTable[3-Method]), \"\"),0)),\"\")","v":""},{"$f":"IFERROR(INDEX(PTable[3-Method],MATCH(0,IF(K$1=PTable[2-Test],COUNTIF(K$1:K5,PTable[3-Method]), \"\"),0)),\"\")","v":""},{"$f":"IFERROR(INDEX(PTable[3-Method],MATCH(0,IF(L$1=PTable[2-Test],COUNTIF(L$1:L5,PTable[3-Method]), \"\"),0)),\"\")","v":""},{"$f":"IFERROR(INDEX(PTable[3-Method],MATCH(0,IF(M$1=PTable[2-Test],COUNTIF(M$1:M5,PTable[3-Method]), \"\"),0)),\"\")","v":""},{"$f":"IFERROR(INDEX(PTable[3-Method],MATCH(0,IF(N$1=PTable[2-Test],COUNTIF(N$1:N5,PTable[3-Method]), \"\"),0)),\"\")","v":""},{"$f":"IFERROR(INDEX(PTable[3-Method],MATCH(0,IF(O$1=PTable[2-Test],COUNTIF(O$1:O5,PTable[3-Method]), \"\"),0)),\"\")","v":""},{"$f":"IFERROR(INDEX(PTable[3-Method],MATCH(0,IF(P$1=PTable[2-Test],COUNTIF(P$1:P5,PTable[3-Method]), \"\"),0)),\"\")","v":""},{"$f":"IFERROR(INDEX(PTable[3-Method],MATCH(0,IF(Q$1=PTable[2-Test],COUNTIF(Q$1:Q5,PTable[3-Method]), \"\"),0)),\"\")","v":""},{"$f":"IFERROR(INDEX(PTable[3-Method],MATCH(0,IF(R$1=PTable[2-Test],COUNTIF(R$1:R5,PTable[3-Method]), \"\"),0)),\"\")","v":""},{"$f":"IFERROR(INDEX(PTable[3-Method],MATCH(0,IF(S$1=PTable[2-Test],COUNTIF(S$1:S5,PTable[3-Method]), \"\"),0)),\"\")","v":""},{"$f":"IFERROR(INDEX(PTable[3-Method],MATCH(0,IF(T$1=PTable[2-Test],COUNTIF(T$1:T5,PTable[3-Method]), \"\"),0)),\"\")","v":""},{"$f":"IFERROR(INDEX(PTable[3-Method],MATCH(0,IF(U$1=PTable[2-Test],COUNTIF(U$1:U5,PTable[3-Method]), \"\"),0)),\"\")","v":""},{"$f":"IFERROR(INDEX(PTable[3-Method],MATCH(0,IF(V$1=PTable[2-Test],COUNTIF(V$1:V5,PTable[3-Method]), \"\"),0)),\"\")","v":""},{"$f":"IFERROR(INDEX(PTable[3-Method],MATCH(0,IF(W$1=PTable[2-Test],COUNTIF(W$1:W5,PTable[3-Method]), \"\"),0)),\"\")","v":""},{"$f":"IFERROR(INDEX(PTable[3-Method],MATCH(0,IF(X$1=PTable[2-Test],COUNTIF(X$1:X5,PTable[3-Method]), \"\"),0)),\"\")","v":""},{"$f":"IFERROR(INDEX(PTable[3-Method],MATCH(0,IF(Y$1=PTable[2-Test],COUNTIF(Y$1:Y5,PTable[3-Method]), \"\"),0)),\"\")","v":""},{"$f":"IFERROR(INDEX(PTable[3-Method],MATCH(0,IF(Z$1=PTable[2-Test],COUNTIF(Z$1:Z5,PTable[3-Method]), \"\"),0)),\"\")","v":""},{"$f":"IFERROR(INDEX(PTable[3-Method],MATCH(0,IF(AA$1=PTable[2-Test],COUNTIF(AA$1:AA5,PTable[3-Method]), \"\"),0)),\"\")","v":""},{"$f":"IFERROR(INDEX(PTable[3-Method],MATCH(0,IF(AB$1=PTable[2-Test],COUNTIF(AB$1:AB5,PTable[3-Method]), \"\"),0)),\"\")","v":""},{"$f":"IFERROR(INDEX(PTable[3-Method],MATCH(0,IF(AC$1=PTable[2-Test],COUNTIF(AC$1:AC5,PTable[3-Method]), \"\"),0)),\"\")","v":""},{"$f":"IFERROR(INDEX(PTable[3-Method],MATCH(0,IF(AD$1=PTable[2-Test],COUNTIF(AD$1:AD5,PTable[3-Method]), \"\"),0)),\"\")","v":""},{"$f":"IFERROR(INDEX(PTable[3-Method],MATCH(0,IF(AE$1=PTable[2-Test],COUNTIF(AE$1:AE5,PTable[3-Method]), \"\"),0)),\"\")","v":""},{"$f":"IFERROR(INDEX(PTable[3-Method],MATCH(0,IF(AF$1=PTable[2-Test],COUNTIF(AF$1:AF5,PTable[3-Method]), \"\"),0)),\"\")","v":""},{"$f":"IFERROR(INDEX(PTable[3-Method],MATCH(0,IF(AG$1=PTable[2-Test],COUNTIF(AG$1:AG5,PTable[3-Method]), \"\"),0)),\"\")","v":""},{"$f":"IFERROR(INDEX(PTable[3-Method],MATCH(0,IF(AH$1=PTable[2-Test],COUNTIF(AH$1:AH5,PTable[3-Method]), \"\"),0)),\"\")","v":""},{"$f":"IFERROR(INDEX(PTable[3-Method],MATCH(0,IF(AI$1=PTable[2-Test],COUNTIF(AI$1:AI5,PTable[3-Method]), \"\"),0)),\"\")","v":""},{"$f":"IFERROR(INDEX(PTable[3-Method],MATCH(0,IF(AJ$1=PTable[2-Test],COUNTIF(AJ$1:AJ5,PTable[3-Method]), \"\"),0)),\"\")","v":""},{"$f":"IFERROR(INDEX(PTable[3-Method],MATCH(0,IF(AK$1=PTable[2-Test],COUNTIF(AK$1:AK5,PTable[3-Method]), \"\"),0)),\"\")","v":""},{"$f":"IFERROR(INDEX(PTable[3-Method],MATCH(0,IF(AL$1=PTable[2-Test],COUNTIF(AL$1:AL5,PTable[3-Method]), \"\"),0)),\"\")","v":""},{"$f":"IFERROR(INDEX(PTable[3-Method],MATCH(0,IF(AM$1=PTable[2-Test],COUNTIF(AM$1:AM5,PTable[3-Method]), \"\"),0)),\"\")","v":"mUSDAs"},{"$f":"IFERROR(INDEX(PTable[3-Method],MATCH(0,IF(AN$1=PTable[2-Test],COUNTIF(AN$1:AN5,PTable[3-Method]), \"\"),0)),\"\")","v":"mBXsam"},{"$f":"IFERROR(INDEX(PTable[3-Method],MATCH(0,IF(AO$1=PTable[2-Test],COUNTIF(AO$1:AO5,PTable[3-Method]), \"\"),0)),\"\")","v":"GPOm3"},{"$f":"IFERROR(INDEX(PTable[3-Method],MATCH(0,IF(AP$1=PTable[2-Test],COUNTIF(AP$1:AP5,PTable[3-Method]), \"\"),0)),\"\")","v":"mFDAs"},{"$f":"IFERROR(INDEX(PTable[3-Method],MATCH(0,IF(AQ$1=PTable[2-Test],COUNTIF(AQ$1:AQ5,PTable[3-Method]), \"\"),0)),\"\")","v":""},{"$f":"IFERROR(INDEX(PTable[3-Method],MATCH(0,IF(AR$1=PTable[2-Test],COUNTIF(AR$1:AR5,PTable[3-Method]), \"\"),0)),\"\")","v":""},{"$f":"IFERROR(INDEX(PTable[3-Method],MATCH(0,IF(AS$1=PTable[2-Test],COUNTIF(AS$1:AS5,PTable[3-Method]), \"\"),0)),\"\")","v":""},{"$f":"IFERROR(INDEX(PTable[3-Method],MATCH(0,IF(AT$1=PTable[2-Test],COUNTIF(AT$1:AT5,PTable[3-Method]), \"\"),0)),\"\")","v":""},{"$f":"IFERROR(INDEX(PTable[3-Method],MATCH(0,IF(AU$1=PTable[2-Test],COUNTIF(AU$1:AU5,PTable[3-Method]), \"\"),0)),\"\")","v":""},{"$f":"IFERROR(INDEX(PTable[3-Method],MATCH(0,IF(AV$1=PTable[2-Test],COUNTIF(AV$1:AV5,PTable[3-Method]), \"\"),0)),\"\")","v":""},{"$f":"IFERROR(INDEX(PTable[3-Method],MATCH(0,IF(AW$1=PTable[2-Test],COUNTIF(AW$1:AW5,PTable[3-Method]), \"\"),0)),\"\")","v":"MFmL"},{"$f":"IFERROR(INDEX(PTable[3-Method],MATCH(0,IF(AX$1=PTable[2-Test],COUNTIF(AX$1:AX5,PTable[3-Method]), \"\"),0)),\"\")","v":""},{"$f":"IFERROR(INDEX(PTable[3-Method],MATCH(0,IF(AY$1=PTable[2-Test],COUNTIF(AY$1:AY5,PTable[3-Method]), \"\"),0)),\"\")","v":"MFs"},{"$f":"IFERROR(INDEX(PTable[3-Method],MATCH(0,IF(AZ$1=PTable[2-Test],COUNTIF(AZ$1:AZ5,PTable[3-Method]), \"\"),0)),\"\")","v":""},{"$f":"IFERROR(INDEX(PTable[3-Method],MATCH(0,IF(BA$1=PTable[2-Test],COUNTIF(BA$1:BA5,PTable[3-Method]), \"\"),0)),\"\")","v":""},{"$f":"IFERROR(INDEX(PTable[3-Method],MATCH(0,IF(BB$1=PTable[2-Test],COUNTIF(BB$1:BB5,PTable[3-Method]), \"\"),0)),\"\")","v":""},{"$f":"IFERROR(INDEX(PTable[3-Method],MATCH(0,IF(BC$1=PTable[2-Test],COUNTIF(BC$1:BC5,PTable[3-Method]), \"\"),0)),\"\")","v":""},{"$f":"IFERROR(INDEX(PTable[3-Method],MATCH(0,IF(BD$1=PTable[2-Test],COUNTIF(BD$1:BD5,PTable[3-Method]), \"\"),0)),\"\")","v":""},{"$f":"IFERROR(INDEX(PTable[3-Method],MATCH(0,IF(BE$1=PTable[2-Test],COUNTIF(BE$1:BE5,PTable[3-Method]), \"\"),0)),\"\")","v":"MFmL"},{"$f":"IFERROR(INDEX(PTable[3-Method],MATCH(0,IF(BF$1=PTable[2-Test],COUNTIF(BF$1:BF5,PTable[3-Method]), \"\"),0)),\"\")","v":""},{"$f":"IFERROR(INDEX(PTable[3-Method],MATCH(0,IF(BG$1=PTable[2-Test],COUNTIF(BG$1:BG5,PTable[3-Method]), \"\"),0)),\"\")","v":""},{"$f":"IFERROR(INDEX(PTable[3-Method],MATCH(0,IF(BH$1=PTable[2-Test],COUNTIF(BH$1:BH5,PTable[3-Method]), \"\"),0)),\"\")","v":"mFDAs"},{"$f":"IFERROR(INDEX(PTable[3-Method],MATCH(0,IF(BI$1=PTable[2-Test],COUNTIF(BI$1:BI5,PTable[3-Method]), \"\"),0)),\"\")","v":""},{"$f":"IFERROR(INDEX(PTable[3-Method],MATCH(0,IF(BJ$1=PTable[2-Test],COUNTIF(BJ$1:BJ5,PTable[3-Method]), \"\"),0)),\"\")","v":""},{"$f":"IFERROR(INDEX(PTable[3-Method],MATCH(0,IF(BK$1=PTable[2-Test],COUNTIF(BK$1:BK5,PTable[3-Method]), \"\"),0)),\"\")","v":""},{"$f":"IFERROR(INDEX(PTable[3-Method],MATCH(0,IF(BL$1=PTable[2-Test],COUNTIF(BL$1:BL5,PTable[3-Method]), \"\"),0)),\"\")","v":"mCMFrod"},{"$f":"IFERROR(INDEX(PTable[3-Method],MATCH(0,IF(BM$1=PTable[2-Test],COUNTIF(BM$1:BM5,PTable[3-Method]), \"\"),0)),\"\")","v":""},{"$f":"IFERROR(INDEX(PTable[3-Method],MATCH(0,IF(BN$1=PTable[2-Test],COUNTIF(BN$1:BN5,PTable[3-Method]), \"\"),0)),\"\")","v":""},{"$f":"IFERROR(INDEX(PTable[3-Method],MATCH(0,IF(BO$1=PTable[2-Test],COUNTIF(BO$1:BO5,PTable[3-Method]), \"\"),0)),\"\")","v":""},{"$f":"IFERROR(INDEX(PTable[3-Method],MATCH(0,IF(BP$1=PTable[2-Test],COUNTIF(BP$1:BP5,PTable[3-Method]), \"\"),0)),\"\")","v":""},{"$f":"IFERROR(INDEX(PTable[3-Method],MATCH(0,IF(BQ$1=PTable[2-Test],COUNTIF(BQ$1:BQ5,PTable[3-Method]), \"\"),0)),\"\")","v":""},{"$f":"IFERROR(INDEX(PTable[3-Method],MATCH(0,IF(BR$1=PTable[2-Test],COUNTIF(BR$1:BR5,PTable[3-Method]), \"\"),0)),\"\")","v":""},{"$f":"IFERROR(INDEX(PTable[3-Method],MATCH(0,IF(BS$1=PTable[2-Test],COUNTIF(BS$1:BS5,PTable[3-Method]), \"\"),0)),\"\")","v":""},{"$f":"IFERROR(INDEX(PTable[3-Method],MATCH(0,IF(BT$1=PTable[2-Test],COUNTIF(BT$1:BT5,PTable[3-Method]), \"\"),0)),\"\")","v":""},{"$f":"IFERROR(INDEX(PTable[3-Method],MATCH(0,IF(BU$1=PTable[2-Test],COUNTIF(BU$1:BU5,PTable[3-Method]), \"\"),0)),\"\")","v":""},{"$f":"IFERROR(INDEX(PTable[3-Method],MATCH(0,IF(BV$1=PTable[2-Test],COUNTIF(BV$1:BV5,PTable[3-Method]), \"\"),0)),\"\")","v":""},{"$f":"IFERROR(INDEX(PTable[3-Method],MATCH(0,IF(BW$1=PTable[2-Test],COUNTIF(BW$1:BW5,PTable[3-Method]), \"\"),0)),\"\")","v":"mCMFrod"}]
["Other",{"$f":"IFERROR(INDEX(PTable[2-Test],MATCH(0,IF(B$1=PTable[1-Type],COUNTIF(B$1:B6,PTable[2-Test]), \"\"),0)),\"\")","v":"APC32"},{"$f":"IFERROR(INDEX(PTable[2-Test],MATCH(0,IF(C$1=PTable[1-Type],COUNTIF(C$1:C6,PTable[2-Test]), \"\"),0)),\"\")","v":"FecCOLI"},{"$f":"IFERROR(INDEX(PTable[2-Test],MATCH(0,IF(D$1=PTable[1-Type],COUNTIF(D$1:D6,PTable[2-Test]), \"\"),0)),\"\")","v":"TSS"},{"$f":"IFERROR(INDEX(PTable[2-Test],MATCH(0,IF(E$1=PTable[1-Type],COUNTIF(E$1:E6,PTable[2-Test]), \"\"),0)),\"\")","v":""},{"$f":"IFERROR(INDEX(PTable[2-Test],MATCH(0,IF(F$1=PTable[1-Type],COUNTIF(F$1:F6,PTable[2-Test]), \"\"),0)),\"\")","v":"Crust"},{"$f":"IFERROR(INDEX(PTable[3-Method],MATCH(0,IF(G$1=PTable[2-Test],COUNTIF(G$1:G6,PTable[3-Method]), \"\"),0)),\"\")","v":""},{"$f":"IFERROR(INDEX(PTable[3-Method],MATCH(0,IF(H$1=PTable[2-Test],COUNTIF(H$1:H6,PTable[3-Method]), \"\"),0)),\"\")","v":""},{"$f":"IFERROR(INDEX(PTable[3-Method],MATCH(0,IF(I$1=PTable[2-Test],COUNTIF(I$1:I6,PTable[3-Method]), \"\"),0)),\"\")","v":""},{"$f":"IFERROR(INDEX(PTable[3-Method],MATCH(0,IF(J$1=PTable[2-Test],COUNTIF(J$1:J6,PTable[3-Method]), \"\"),0)),\"\")","v":""},{"$f":"IFERROR(INDEX(PTable[3-Method],MATCH(0,IF(K$1=PTable[2-Test],COUNTIF(K$1:K6,PTable[3-Method]), \"\"),0)),\"\")","v":""},{"$f":"IFERROR(INDEX(PTable[3-Method],MATCH(0,IF(L$1=PTable[2-Test],COUNTIF(L$1:L6,PTable[3-Method]), \"\"),0)),\"\")","v":""},{"$f":"IFERROR(INDEX(PTable[3-Method],MATCH(0,IF(M$1=PTable[2-Test],COUNTIF(M$1:M6,PTable[3-Method]), \"\"),0)),\"\")","v":""},{"$f":"IFERROR(INDEX(PTable[3-Method],MATCH(0,IF(N$1=PTable[2-Test],COUNTIF(N$1:N6,PTable[3-Method]), \"\"),0)),\"\")","v":""},{"$f":"IFERROR(INDEX(PTable[3-Method],MATCH(0,IF(O$1=PTable[2-Test],COUNTIF(O$1:O6,PTable[3-Method]), \"\"),0)),\"\")","v":""},{"$f":"IFERROR(INDEX(PTable[3-Method],MATCH(0,IF(P$1=PTable[2-Test],COUNTIF(P$1:P6,PTable[3-Method]), \"\"),0)),\"\")","v":""},{"$f":"IFERROR(INDEX(PTable[3-Method],MATCH(0,IF(Q$1=PTable[2-Test],COUNTIF(Q$1:Q6,PTable[3-Method]), \"\"),0)),\"\")","v":""},{"$f":"IFERROR(INDEX(PTable[3-Method],MATCH(0,IF(R$1=PTable[2-Test],COUNTIF(R$1:R6,PTable[3-Method]), \"\"),0)),\"\")","v":""},{"$f":"IFERROR(INDEX(PTable[3-Method],MATCH(0,IF(S$1=PTable[2-Test],COUNTIF(S$1:S6,PTable[3-Method]), \"\"),0)),\"\")","v":""},{"$f":"IFERROR(INDEX(PTable[3-Method],MATCH(0,IF(T$1=PTable[2-Test],COUNTIF(T$1:T6,PTable[3-Method]), \"\"),0)),\"\")","v":""},{"$f":"IFERROR(INDEX(PTable[3-Method],MATCH(0,IF(U$1=PTable[2-Test],COUNTIF(U$1:U6,PTable[3-Method]), \"\"),0)),\"\")","v":""},{"$f":"IFERROR(INDEX(PTable[3-Method],MATCH(0,IF(V$1=PTable[2-Test],COUNTIF(V$1:V6,PTable[3-Method]), \"\"),0)),\"\")","v":""},{"$f":"IFERROR(INDEX(PTable[3-Method],MATCH(0,IF(W$1=PTable[2-Test],COUNTIF(W$1:W6,PTable[3-Method]), \"\"),0)),\"\")","v":""},{"$f":"IFERROR(INDEX(PTable[3-Method],MATCH(0,IF(X$1=PTable[2-Test],COUNTIF(X$1:X6,PTable[3-Method]), \"\"),0)),\"\")","v":""},{"$f":"IFERROR(INDEX(PTable[3-Method],MATCH(0,IF(Y$1=PTable[2-Test],COUNTIF(Y$1:Y6,PTable[3-Method]), \"\"),0)),\"\")","v":""},{"$f":"IFERROR(INDEX(PTable[3-Method],MATCH(0,IF(Z$1=PTable[2-Test],COUNTIF(Z$1:Z6,PTable[3-Method]), \"\"),0)),\"\")","v":""},{"$f":"IFERROR(INDEX(PTable[3-Method],MATCH(0,IF(AA$1=PTable[2-Test],COUNTIF(AA$1:AA6,PTable[3-Method]), \"\"),0)),\"\")","v":""},{"$f":"IFERROR(INDEX(PTable[3-Method],MATCH(0,IF(AB$1=PTable[2-Test],COUNTIF(AB$1:AB6,PTable[3-Method]), \"\"),0)),\"\")","v":""},{"$f":"IFERROR(INDEX(PTable[3-Method],MATCH(0,IF(AC$1=PTable[2-Test],COUNTIF(AC$1:AC6,PTable[3-Method]), \"\"),0)),\"\")","v":""},{"$f":"IFERROR(INDEX(PTable[3-Method],MATCH(0,IF(AD$1=PTable[2-Test],COUNTIF(AD$1:AD6,PTable[3-Method]), \"\"),0)),\"\")","v":""},{"$f":"IFERROR(INDEX(PTable[3-Method],MATCH(0,IF(AE$1=PTable[2-Test],COUNTIF(AE$1:AE6,PTable[3-Method]), \"\"),0)),\"\")","v":""},{"$f":"IFERROR(INDEX(PTable[3-Method],MATCH(0,IF(AF$1=PTable[2-Test],COUNTIF(AF$1:AF6,PTable[3-Method]), \"\"),0)),\"\")","v":""},{"$f":"IFERROR(INDEX(PTable[3-Method],MATCH(0,IF(AG$1=PTable[2-Test],COUNTIF(AG$1:AG6,PTable[3-Method]), \"\"),0)),\"\")","v":""},{"$f":"IFERROR(INDEX(PTable[3-Method],MATCH(0,IF(AH$1=PTable[2-Test],COUNTIF(AH$1:AH6,PTable[3-Method]), \"\"),0)),\"\")","v":""},{"$f":"IFERROR(INDEX(PTable[3-Method],MATCH(0,IF(AI$1=PTable[2-Test],COUNTIF(AI$1:AI6,PTable[3-Method]), \"\"),0)),\"\")","v":""},{"$f":"IFERROR(INDEX(PTable[3-Method],MATCH(0,IF(AJ$1=PTable[2-Test],COUNTIF(AJ$1:AJ6,PTable[3-Method]), \"\"),0)),\"\")","v":""},{"$f":"IFERROR(INDEX(PTable[3-Method],MATCH(0,IF(AK$1=PTable[2-Test],COUNTIF(AK$1:AK6,PTable[3-Method]), \"\"),0)),\"\")","v":""},{"$f":"IFERROR(INDEX(PTable[3-Method],MATCH(0,IF(AL$1=PTable[2-Test],COUNTIF(AL$1:AL6,PTable[3-Method]), \"\"),0)),\"\")","v":""},{"$f":"IFERROR(INDEX(PTable[3-Method],MATCH(0,IF(AM$1=PTable[2-Test],COUNTIF(AM$1:AM6,PTable[3-Method]), \"\"),0)),\"\")","v":"mUSsam"},{"$f":"IFERROR(INDEX(PTable[3-Method],MATCH(0,IF(AN$1=PTable[2-Test],COUNTIF(AN$1:AN6,PTable[3-Method]), \"\"),0)),\"\")","v":"mFDAs"},{"$f":"IFERROR(INDEX(PTable[3-Method],MATCH(0,IF(AO$1=PTable[2-Test],COUNTIF(AO$1:AO6,PTable[3-Method]), \"\"),0)),\"\")","v":"GPOs"},{"$f":"IFERROR(INDEX(PTable[3-Method],MATCH(0,IF(AP$1=PTable[2-Test],COUNTIF(AP$1:AP6,PTable[3-Method]), \"\"),0)),\"\")","v":"mFDsam"},{"$f":"IFERROR(INDEX(PTable[3-Method],MATCH(0,IF(AQ$1=PTable[2-Test],COUNTIF(AQ$1:AQ6,PTable[3-Method]), \"\"),0)),\"\")","v":""},{"$f":"IFERROR(INDEX(PTable[3-Method],MATCH(0,IF(AR$1=PTable[2-Test],COUNTIF(AR$1:AR6,PTable[3-Method]), \"\"),0)),\"\")","v":""},{"$f":"IFERROR(INDEX(PTable[3-Method],MATCH(0,IF(AS$1=PTable[2-Test],COUNTIF(AS$1:AS6,PTable[3-Method]), \"\"),0)),\"\")","v":""},{"$f":"IFERROR(INDEX(PTable[3-Method],MATCH(0,IF(AT$1=PTable[2-Test],COUNTIF(AT$1:AT6,PTable[3-Method]), \"\"),0)),\"\")","v":""},{"$f":"IFERROR(INDEX(PTable[3-Method],MATCH(0,IF(AU$1=PTable[2-Test],COUNTIF(AU$1:AU6,PTable[3-Method]), \"\"),0)),\"\")","v":""},{"$f":"IFERROR(INDEX(PTable[3-Method],MATCH(0,IF(AV$1=PTable[2-Test],COUNTIF(AV$1:AV6,PTable[3-Method]), \"\"),0)),\"\")","v":""},{"$f":"IFERROR(INDEX(PTable[3-Method],MATCH(0,IF(AW$1=PTable[2-Test],COUNTIF(AW$1:AW6,PTable[3-Method]), \"\"),0)),\"\")","v":"MFs"},{"$f":"IFERROR(INDEX(PTable[3-Method],MATCH(0,IF(AX$1=PTable[2-Test],COUNTIF(AX$1:AX6,PTable[3-Method]), \"\"),0)),\"\")","v":""},{"$f":"IFERROR(INDEX(PTable[3-Method],MATCH(0,IF(AY$1=PTable[2-Test],COUNTIF(AY$1:AY6,PTable[3-Method]), \"\"),0)),\"\")","v":"mSMWm"},{"$f":"IFERROR(INDEX(PTable[3-Method],MATCH(0,IF(AZ$1=PTable[2-Test],COUNTIF(AZ$1:AZ6,PTable[3-Method]), \"\"),0)),\"\")","v":""},{"$f":"IFERROR(INDEX(PTable[3-Method],MATCH(0,IF(BA$1=PTable[2-Test],COUNTIF(BA$1:BA6,PTable[3-Method]), \"\"),0)),\"\")","v":""},{"$f":"IFERROR(INDEX(PTable[3-Method],MATCH(0,IF(BB$1=PTable[2-Test],COUNTIF(BB$1:BB6,PTable[3-Method]), \"\"),0)),\"\")","v":""},{"$f":"IFERROR(INDEX(PTable[3-Method],MATCH(0,IF(BC$1=PTable[2-Test],COUNTIF(BC$1:BC6,PTable[3-Method]), \"\"),0)),\"\")","v":""},{"$f":"IFERROR(INDEX(PTable[3-Method],MATCH(0,IF(BD$1=PTable[2-Test],COUNTIF(BD$1:BD6,PTable[3-Method]), \"\"),0)),\"\")","v":""},{"$f":"IFERROR(INDEX(PTable[3-Method],MATCH(0,IF(BE$1=PTable[2-Test],COUNTIF(BE$1:BE6,PTable[3-Method]), \"\"),0)),\"\")","v":"MFs"},{"$f":"IFERROR(INDEX(PTable[3-Method],MATCH(0,IF(BF$1=PTable[2-Test],COUNTIF(BF$1:BF6,PTable[3-Method]), \"\"),0)),\"\")","v":""},{"$f":"IFERROR(INDEX(PTable[3-Method],MATCH(0,IF(BG$1=PTable[2-Test],COUNTIF(BG$1:BG6,PTable[3-Method]), \"\"),0)),\"\")","v":""},{"$f":"IFERROR(INDEX(PTable[3-Method],MATCH(0,IF(BH$1=PTable[2-Test],COUNTIF(BH$1:BH6,PTable[3-Method]), \"\"),0)),\"\")","v":"MFmL"},{"$f":"IFERROR(INDEX(PTable[3-Method],MATCH(0,IF(BI$1=PTable[2-Test],COUNTIF(BI$1:BI6,PTable[3-Method]), \"\"),0)),\"\")","v":""},{"$f":"IFERROR(INDEX(PTable[3-Method],MATCH(0,IF(BJ$1=PTable[2-Test],COUNTIF(BJ$1:BJ6,PTable[3-Method]), \"\"),0)),\"\")","v":""},{"$f":"IFERROR(INDEX(PTable[3-Method],MATCH(0,IF(BK$1=PTable[2-Test],COUNTIF(BK$1:BK6,PTable[3-Method]), \"\"),0)),\"\")","v":""},{"$f":"IFERROR(INDEX(PTable[3-Method],MATCH(0,IF(BL$1=PTable[2-Test],COUNTIF(BL$1:BL6,PTable[3-Method]), \"\"),0)),\"\")","v":"mFDAmL"},{"$f":"IFERROR(INDEX(PTable[3-Method],MATCH(0,IF(BM$1=PTable[2-Test],COUNTIF(BM$1:BM6,PTable[3-Method]), \"\"),0)),\"\")","v":""},{"$f":"IFERROR(INDEX(PTable[3-Method],MATCH(0,IF(BN$1=PTable[2-Test],COUNTIF(BN$1:BN6,PTable[3-Method]), \"\"),0)),\"\")","v":""},{"$f":"IFERROR(INDEX(PTable[3-Method],MATCH(0,IF(BO$1=PTable[2-Test],COUNTIF(BO$1:BO6,PTable[3-Method]), \"\"),0)),\"\")","v":""},{"$f":"IFERROR(INDEX(PTable[3-Method],MATCH(0,IF(BP$1=PTable[2-Test],COUNTIF(BP$1:BP6,PTable[3-Method]), \"\"),0)),\"\")","v":""},{"$f":"IFERROR(INDEX(PTable[3-Method],MATCH(0,IF(BQ$1=PTable[2-Test],COUNTIF(BQ$1:BQ6,PTable[3-Method]), \"\"),0)),\"\")","v":""},{"$f":"IFERROR(INDEX(PTable[3-Method],MATCH(0,IF(BR$1=PTable[2-Test],COUNTIF(BR$1:BR6,PTable[3-Method]), \"\"),0)),\"\")","v":""},{"$f":"IFERROR(INDEX(PTable[3-Method],MATCH(0,IF(BS$1=PTable[2-Test],COUNTIF(BS$1:BS6,PTable[3-Method]), \"\"),0)),\"\")","v":""},{"$f":"IFERROR(INDEX(PTable[3-Method],MATCH(0,IF(BT$1=PTable[2-Test],COUNTIF(BT$1:BT6,PTable[3-Method]), \"\"),0)),\"\")","v":""},{"$f":"IFERROR(INDEX(PTable[3-Method],MATCH(0,IF(BU$1=PTable[2-Test],COUNTIF(BU$1:BU6,PTable[3-Method]), \"\"),0)),\"\")","v":""},{"$f":"IFERROR(INDEX(PTable[3-Method],MATCH(0,IF(BV$1=PTable[2-Test],COUNTIF(BV$1:BV6,PTable[3-Method]), \"\"),0)),\"\")","v":""},{"$f":"IFERROR(INDEX(PTable[3-Method],MATCH(0,IF(BW$1=PTable[2-Test],COUNTIF(BW$1:BW6,PTable[3-Method]), \"\"),0)),\"\")","v":"mFDAmL"}]
[null,{"$f":"IFERROR(INDEX(PTable[2-Test],MATCH(0,IF(B$1=PTable[1-Type],COUNTIF(B$1:B7,PTable[2-Test]), \"\"),0)),\"\")","v":"APC35"},{"$f":"IFERROR(INDEX(PTable[2-Test],MATCH(0,IF(C$1=PTable[1-Type],COUNTIF(C$1:C7,PTable[2-Test]), \"\"),0)),\"\")","v":"LG"},{"$f":"IFERROR(INDEX(PTable[2-Test],MATCH(0,IF(D$1=PTable[1-Type],COUNTIF(D$1:D7,PTable[2-Test]), \"\"),0)),\"\")","v":""},{"$f":"IFERROR(INDEX(PTable[2-Test],MATCH(0,IF(E$1=PTable[1-Type],COUNTIF(E$1:E7,PTable[2-Test]), \"\"),0)),\"\")","v":""},{"$f":"IFERROR(INDEX(PTable[2-Test],MATCH(0,IF(F$1=PTable[1-Type],COUNTIF(F$1:F7,PTable[2-Test]), \"\"),0)),\"\")","v":"Egg"},{"$f":"IFERROR(INDEX(PTable[3-Method],MATCH(0,IF(G$1=PTable[2-Test],COUNTIF(G$1:G7,PTable[3-Method]), \"\"),0)),\"\")","v":""},{"$f":"IFERROR(INDEX(PTable[3-Method],MATCH(0,IF(H$1=PTable[2-Test],COUNTIF(H$1:H7,PTable[3-Method]), \"\"),0)),\"\")","v":""},{"$f":"IFERROR(INDEX(PTable[3-Method],MATCH(0,IF(I$1=PTable[2-Test],COUNTIF(I$1:I7,PTable[3-Method]), \"\"),0)),\"\")","v":""},{"$f":"IFERROR(INDEX(PTable[3-Method],MATCH(0,IF(J$1=PTable[2-Test],COUNTIF(J$1:J7,PTable[3-Method]), \"\"),0)),\"\")","v":""},{"$f":"IFERROR(INDEX(PTable[3-Method],MATCH(0,IF(K$1=PTable[2-Test],COUNTIF(K$1:K7,PTable[3-Method]), \"\"),0)),\"\")","v":""},{"$f":"IFERROR(INDEX(PTable[3-Method],MATCH(0,IF(L$1=PTable[2-Test],COUNTIF(L$1:L7,PTable[3-Method]), \"\"),0)),\"\")","v":""},{"$f":"IFERROR(INDEX(PTable[3-Method],MATCH(0,IF(M$1=PTable[2-Test],COUNTIF(M$1:M7,PTable[3-Method]), \"\"),0)),\"\")","v":""},{"$f":"IFERROR(INDEX(PTable[3-Method],MATCH(0,IF(N$1=PTable[2-Test],COUNTIF(N$1:N7,PTable[3-Method]), \"\"),0)),\"\")","v":""},{"$f":"IFERROR(INDEX(PTable[3-Method],MATCH(0,IF(O$1=PTable[2-Test],COUNTIF(O$1:O7,PTable[3-Method]), \"\"),0)),\"\")","v":""},{"$f":"IFERROR(INDEX(PTable[3-Method],MATCH(0,IF(P$1=PTable[2-Test],COUNTIF(P$1:P7,PTable[3-Method]), \"\"),0)),\"\")","v":""},{"$f":"IFERROR(INDEX(PTable[3-Method],MATCH(0,IF(Q$1=PTable[2-Test],COUNTIF(Q$1:Q7,PTable[3-Method]), \"\"),0)),\"\")","v":""},{"$f":"IFERROR(INDEX(PTable[3-Method],MATCH(0,IF(R$1=PTable[2-Test],COUNTIF(R$1:R7,PTable[3-Method]), \"\"),0)),\"\")","v":""},{"$f":"IFERROR(INDEX(PTable[3-Method],MATCH(0,IF(S$1=PTable[2-Test],COUNTIF(S$1:S7,PTable[3-Method]), \"\"),0)),\"\")","v":""},{"$f":"IFERROR(INDEX(PTable[3-Method],MATCH(0,IF(T$1=PTable[2-Test],COUNTIF(T$1:T7,PTable[3-Method]), \"\"),0)),\"\")","v":""},{"$f":"IFERROR(INDEX(PTable[3-Method],MATCH(0,IF(U$1=PTable[2-Test],COUNTIF(U$1:U7,PTable[3-Method]), \"\"),0)),\"\")","v":""},{"$f":"IFERROR(INDEX(PTable[3-Method],MATCH(0,IF(V$1=PTable[2-Test],COUNTIF(V$1:V7,PTable[3-Method]), \"\"),0)),\"\")","v":""},{"$f":"IFERROR(INDEX(PTable[3-Method],MATCH(0,IF(W$1=PTable[2-Test],COUNTIF(W$1:W7,PTable[3-Method]), \"\"),0)),\"\")","v":""},{"$f":"IFERROR(INDEX(PTable[3-Method],MATCH(0,IF(X$1=PTable[2-Test],COUNTIF(X$1:X7,PTable[3-Method]), \"\"),0)),\"\")","v":""},{"$f":"IFERROR(INDEX(PTable[3-Method],MATCH(0,IF(Y$1=PTable[2-Test],COUNTIF(Y$1:Y7,PTable[3-Method]), \"\"),0)),\"\")","v":""},{"$f":"IFERROR(INDEX(PTable[3-Method],MATCH(0,IF(Z$1=PTable[2-Test],COUNTIF(Z$1:Z7,PTable[3-Method]), \"\"),0)),\"\")","v":""},{"$f":"IFERROR(INDEX(PTable[3-Method],MATCH(0,IF(AA$1=PTable[2-Test],COUNTIF(AA$1:AA7,PTable[3-Method]), \"\"),0)),\"\")","v":""},{"$f":"IFERROR(INDEX(PTable[3-Method],MATCH(0,IF(AB$1=PTable[2-Test],COUNTIF(AB$1:AB7,PTable[3-Method]), \"\"),0)),\"\")","v":""},{"$f":"IFERROR(INDEX(PTable[3-Method],MATCH(0,IF(AC$1=PTable[2-Test],COUNTIF(AC$1:AC7,PTable[3-Method]), \"\"),0)),\"\")","v":""},{"$f":"IFERROR(INDEX(PTable[3-Method],MATCH(0,IF(AD$1=PTable[2-Test],COUNTIF(AD$1:AD7,PTable[3-Method]), \"\"),0)),\"\")","v":""},{"$f":"IFERROR(INDEX(PTable[3-Method],MATCH(0,IF(AE$1=PTable[2-Test],COUNTIF(AE$1:AE7,PTable[3-Method]), \"\"),0)),\"\")","v":""},{"$f":"IFERROR(INDEX(PTable[3-Method],MATCH(0,IF(AF$1=PTable[2-Test],COUNTIF(AF$1:AF7,PTable[3-Method]), \"\"),0)),\"\")","v":""},{"$f":"IFERROR(INDEX(PTable[3-Method],MATCH(0,IF(AG$1=PTable[2-Test],COUNTIF(AG$1:AG7,PTable[3-Method]), \"\"),0)),\"\")","v":""},{"$f":"IFERROR(INDEX(PTable[3-Method],MATCH(0,IF(AH$1=PTable[2-Test],COUNTIF(AH$1:AH7,PTable[3-Method]), \"\"),0)),\"\")","v":""},{"$f":"IFERROR(INDEX(PTable[3-Method],MATCH(0,IF(AI$1=PTable[2-Test],COUNTIF(AI$1:AI7,PTable[3-Method]), \"\"),0)),\"\")","v":""},{"$f":"IFERROR(INDEX(PTable[3-Method],MATCH(0,IF(AJ$1=PTable[2-Test],COUNTIF(AJ$1:AJ7,PTable[3-Method]), \"\"),0)),\"\")","v":""},{"$f":"IFERROR(INDEX(PTable[3-Method],MATCH(0,IF(AK$1=PTable[2-Test],COUNTIF(AK$1:AK7,PTable[3-Method]), \"\"),0)),\"\")","v":""},{"$f":"IFERROR(INDEX(PTable[3-Method],MATCH(0,IF(AL$1=PTable[2-Test],COUNTIF(AL$1:AL7,PTable[3-Method]), \"\"),0)),\"\")","v":""},{"$f":"IFERROR(INDEX(PTable[3-Method],MATCH(0,IF(AM$1=PTable[2-Test],COUNTIF(AM$1:AM7,PTable[3-Method]), \"\"),0)),\"\")","v":"PCRm3"},{"$f":"IFERROR(INDEX(PTable[3-Method],MATCH(0,IF(AN$1=PTable[2-Test],COUNTIF(AN$1:AN7,PTable[3-Method]), \"\"),0)),\"\")","v":"mUSs"},{"$f":"IFERROR(INDEX(PTable[3-Method],MATCH(0,IF(AO$1=PTable[2-Test],COUNTIF(AO$1:AO7,PTable[3-Method]), \"\"),0)),\"\")","v":"LGmi"},{"$f":"IFERROR(INDEX(PTable[3-Method],MATCH(0,IF(AP$1=PTable[2-Test],COUNTIF(AP$1:AP7,PTable[3-Method]), \"\"),0)),\"\")","v":"PCR30mL"},{"$f":"IFERROR(INDEX(PTable[3-Method],MATCH(0,IF(AQ$1=PTable[2-Test],COUNTIF(AQ$1:AQ7,PTable[3-Method]), \"\"),0)),\"\")","v":""},{"$f":"IFERROR(INDEX(PTable[3-Method],MATCH(0,IF(AR$1=PTable[2-Test],COUNTIF(AR$1:AR7,PTable[3-Method]), \"\"),0)),\"\")","v":""},{"$f":"IFERROR(INDEX(PTable[3-Method],MATCH(0,IF(AS$1=PTable[2-Test],COUNTIF(AS$1:AS7,PTable[3-Method]), \"\"),0)),\"\")","v":""},{"$f":"IFERROR(INDEX(PTable[3-Method],MATCH(0,IF(AT$1=PTable[2-Test],COUNTIF(AT$1:AT7,PTable[3-Method]), \"\"),0)),\"\")","v":""},{"$f":"IFERROR(INDEX(PTable[3-Method],MATCH(0,IF(AU$1=PTable[2-Test],COUNTIF(AU$1:AU7,PTable[3-Method]), \"\"),0)),\"\")","v":""},{"$f":"IFERROR(INDEX(PTable[3-Method],MATCH(0,IF(AV$1=PTable[2-Test],COUNTIF(AV$1:AV7,PTable[3-Method]), \"\"),0)),\"\")","v":""},{"$f":"IFERROR(INDEX(PTable[3-Method],MATCH(0,IF(AW$1=PTable[2-Test],COUNTIF(AW$1:AW7,PTable[3-Method]), \"\"),0)),\"\")","v":""},{"$f":"IFERROR(INDEX(PTable[3-Method],MATCH(0,IF(AX$1=PTable[2-Test],COUNTIF(AX$1:AX7,PTable[3-Method]), \"\"),0)),\"\")","v":""},{"$f":"IFERROR(INDEX(PTable[3-Method],MATCH(0,IF(AY$1=PTable[2-Test],COUNTIF(AY$1:AY7,PTable[3-Method]), \"\"),0)),\"\")","v":"mUSPmL"},{"$f":"IFERROR(INDEX(PTable[3-Method],MATCH(0,IF(AZ$1=PTable[2-Test],COUNTIF(AZ$1:AZ7,PTable[3-Method]), \"\"),0)),\"\")","v":""},{"$f":"IFERROR(INDEX(PTable[3-Method],MATCH(0,IF(BA$1=PTable[2-Test],COUNTIF(BA$1:BA7,PTable[3-Method]), \"\"),0)),\"\")","v":""},{"$f":"IFERROR(INDEX(PTable[3-Method],MATCH(0,IF(BB$1=PTable[2-Test],COUNTIF(BB$1:BB7,PTable[3-Method]), \"\"),0)),\"\")","v":""},{"$f":"IFERROR(INDEX(PTable[3-Method],MATCH(0,IF(BC$1=PTable[2-Test],COUNTIF(BC$1:BC7,PTable[3-Method]), \"\"),0)),\"\")","v":""},{"$f":"IFERROR(INDEX(PTable[3-Method],MATCH(0,IF(BD$1=PTable[2-Test],COUNTIF(BD$1:BD7,PTable[3-Method]), \"\"),0)),\"\")","v":""},{"$f":"IFERROR(INDEX(PTable[3-Method],MATCH(0,IF(BE$1=PTable[2-Test],COUNTIF(BE$1:BE7,PTable[3-Method]), \"\"),0)),\"\")","v":"mSMW10"},{"$f":"IFERROR(INDEX(PTable[3-Method],MATCH(0,IF(BF$1=PTable[2-Test],COUNTIF(BF$1:BF7,PTable[3-Method]), \"\"),0)),\"\")","v":""},{"$f":"IFERROR(INDEX(PTable[3-Method],MATCH(0,IF(BG$1=PTable[2-Test],COUNTIF(BG$1:BG7,PTable[3-Method]), \"\"),0)),\"\")","v":""},{"$f":"IFERROR(INDEX(PTable[3-Method],MATCH(0,IF(BH$1=PTable[2-Test],COUNTIF(BH$1:BH7,PTable[3-Method]), \"\"),0)),\"\")","v":"MFs"},{"$f":"IFERROR(INDEX(PTable[3-Method],MATCH(0,IF(BI$1=PTable[2-Test],COUNTIF(BI$1:BI7,PTable[3-Method]), \"\"),0)),\"\")","v":""},{"$f":"IFERROR(INDEX(PTable[3-Method],MATCH(0,IF(BJ$1=PTable[2-Test],COUNTIF(BJ$1:BJ7,PTable[3-Method]), \"\"),0)),\"\")","v":""},{"$f":"IFERROR(INDEX(PTable[3-Method],MATCH(0,IF(BK$1=PTable[2-Test],COUNTIF(BK$1:BK7,PTable[3-Method]), \"\"),0)),\"\")","v":""},{"$f":"IFERROR(INDEX(PTable[3-Method],MATCH(0,IF(BL$1=PTable[2-Test],COUNTIF(BL$1:BL7,PTable[3-Method]), \"\"),0)),\"\")","v":"mFDAs"},{"$f":"IFERROR(INDEX(PTable[3-Method],MATCH(0,IF(BM$1=PTable[2-Test],COUNTIF(BM$1:BM7,PTable[3-Method]), \"\"),0)),\"\")","v":""},{"$f":"IFERROR(INDEX(PTable[3-Method],MATCH(0,IF(BN$1=PTable[2-Test],COUNTIF(BN$1:BN7,PTable[3-Method]), \"\"),0)),\"\")","v":""},{"$f":"IFERROR(INDEX(PTable[3-Method],MATCH(0,IF(BO$1=PTable[2-Test],COUNTIF(BO$1:BO7,PTable[3-Method]), \"\"),0)),\"\")","v":""},{"$f":"IFERROR(INDEX(PTable[3-Method],MATCH(0,IF(BP$1=PTable[2-Test],COUNTIF(BP$1:BP7,PTable[3-Method]), \"\"),0)),\"\")","v":""},{"$f":"IFERROR(INDEX(PTable[3-Method],MATCH(0,IF(BQ$1=PTable[2-Test],COUNTIF(BQ$1:BQ7,PTable[3-Method]), \"\"),0)),\"\")","v":""},{"$f":"IFERROR(INDEX(PTable[3-Method],MATCH(0,IF(BR$1=PTable[2-Test],COUNTIF(BR$1:BR7,PTable[3-Method]), \"\"),0)),\"\")","v":""},{"$f":"IFERROR(INDEX(PTable[3-Method],MATCH(0,IF(BS$1=PTable[2-Test],COUNTIF(BS$1:BS7,PTable[3-Method]), \"\"),0)),\"\")","v":""},{"$f":"IFERROR(INDEX(PTable[3-Method],MATCH(0,IF(BT$1=PTable[2-Test],COUNTIF(BT$1:BT7,PTable[3-Method]), \"\"),0)),\"\")","v":""},{"$f":"IFERROR(INDEX(PTable[3-Method],MATCH(0,IF(BU$1=PTable[2-Test],COUNTIF(BU$1:BU7,PTable[3-Method]), \"\"),0)),\"\")","v":""},{"$f":"IFERROR(INDEX(PTable[3-Method],MATCH(0,IF(BV$1=PTable[2-Test],COUNTIF(BV$1:BV7,PTable[3-Method]), \"\"),0)),\"\")","v":""},{"$f":"IFERROR(INDEX(PTable[3-Method],MATCH(0,IF(BW$1=PTable[2-Test],COUNTIF(BW$1:BW7,PTable[3-Method]), \"\"),0)),\"\")","v":"mFDAs"}]
[null,{"$f":"IFERROR(INDEX(PTable[2-Test],MATCH(0,IF(B$1=PTable[1-Type],COUNTIF(B$1:B8,PTable[2-Test]), \"\"),0)),\"\")","v":"APC7"},{"$f":"IFERROR(INDEX(PTable[2-Test],MATCH(0,IF(C$1=PTable[1-Type],COUNTIF(C$1:C8,PTable[2-Test]), \"\"),0)),\"\")","v":"LM"},{"$f":"IFERROR(INDEX(PTable[2-Test],MATCH(0,IF(D$1=PTable[1-Type],COUNTIF(D$1:D8,PTable[2-Test]), \"\"),0)),\"\")","v":""},{"$f":"IFERROR(INDEX(PTable[2-Test],MATCH(0,IF(E$1=PTable[1-Type],COUNTIF(E$1:E8,PTable[2-Test]), \"\"),0)),\"\")","v":""},{"$f":"IFERROR(INDEX(PTable[2-Test],MATCH(0,IF(F$1=PTable[1-Type],COUNTIF(F$1:F8,PTable[2-Test]), \"\"),0)),\"\")","v":"Gliadin"},{"$f":"IFERROR(INDEX(PTable[3-Method],MATCH(0,IF(G$1=PTable[2-Test],COUNTIF(G$1:G8,PTable[3-Method]), \"\"),0)),\"\")","v":""},{"$f":"IFERROR(INDEX(PTable[3-Method],MATCH(0,IF(H$1=PTable[2-Test],COUNTIF(H$1:H8,PTable[3-Method]), \"\"),0)),\"\")","v":""},{"$f":"IFERROR(INDEX(PTable[3-Method],MATCH(0,IF(I$1=PTable[2-Test],COUNTIF(I$1:I8,PTable[3-Method]), \"\"),0)),\"\")","v":""},{"$f":"IFERROR(INDEX(PTable[3-Method],MATCH(0,IF(J$1=PTable[2-Test],COUNTIF(J$1:J8,PTable[3-Method]), \"\"),0)),\"\")","v":""},{"$f":"IFERROR(INDEX(PTable[3-Method],MATCH(0,IF(K$1=PTable[2-Test],COUNTIF(K$1:K8,PTable[3-Method]), \"\"),0)),\"\")","v":""},{"$f":"IFERROR(INDEX(PTable[3-Method],MATCH(0,IF(L$1=PTable[2-Test],COUNTIF(L$1:L8,PTable[3-Method]), \"\"),0)),\"\")","v":""},{"$f":"IFERROR(INDEX(PTable[3-Method],MATCH(0,IF(M$1=PTable[2-Test],COUNTIF(M$1:M8,PTable[3-Method]), \"\"),0)),\"\")","v":""},{"$f":"IFERROR(INDEX(PTable[3-Method],MATCH(0,IF(N$1=PTable[2-Test],COUNTIF(N$1:N8,PTable[3-Method]), \"\"),0)),\"\")","v":""},{"$f":"IFERROR(INDEX(PTable[3-Method],MATCH(0,IF(O$1=PTable[2-Test],COUNTIF(O$1:O8,PTable[3-Method]), \"\"),0)),\"\")","v":""},{"$f":"IFERROR(INDEX(PTable[3-Method],MATCH(0,IF(P$1=PTable[2-Test],COUNTIF(P$1:P8,PTable[3-Method]), \"\"),0)),\"\")","v":""},{"$f":"IFERROR(INDEX(PTable[3-Method],MATCH(0,IF(Q$1=PTable[2-Test],COUNTIF(Q$1:Q8,PTable[3-Method]), \"\"),0)),\"\")","v":""},{"$f":"IFERROR(INDEX(PTable[3-Method],MATCH(0,IF(R$1=PTable[2-Test],COUNTIF(R$1:R8,PTable[3-Method]), \"\"),0)),\"\")","v":""},{"$f":"IFERROR(INDEX(PTable[3-Method],MATCH(0,IF(S$1=PTable[2-Test],COUNTIF(S$1:S8,PTable[3-Method]), \"\"),0)),\"\")","v":""},{"$f":"IFERROR(INDEX(PTable[3-Method],MATCH(0,IF(T$1=PTable[2-Test],COUNTIF(T$1:T8,PTable[3-Method]), \"\"),0)),\"\")","v":""},{"$f":"IFERROR(INDEX(PTable[3-Method],MATCH(0,IF(U$1=PTable[2-Test],COUNTIF(U$1:U8,PTable[3-Method]), \"\"),0)),\"\")","v":""},{"$f":"IFERROR(INDEX(PTable[3-Method],MATCH(0,IF(V$1=PTable[2-Test],COUNTIF(V$1:V8,PTable[3-Method]), \"\"),0)),\"\")","v":""},{"$f":"IFERROR(INDEX(PTable[3-Method],MATCH(0,IF(W$1=PTable[2-Test],COUNTIF(W$1:W8,PTable[3-Method]), \"\"),0)),\"\")","v":""},{"$f":"IFERROR(INDEX(PTable[3-Method],MATCH(0,IF(X$1=PTable[2-Test],COUNTIF(X$1:X8,PTable[3-Method]), \"\"),0)),\"\")","v":""},{"$f":"IFERROR(INDEX(PTable[3-Method],MATCH(0,IF(Y$1=PTable[2-Test],COUNTIF(Y$1:Y8,PTable[3-Method]), \"\"),0)),\"\")","v":""},{"$f":"IFERROR(INDEX(PTable[3-Method],MATCH(0,IF(Z$1=PTable[2-Test],COUNTIF(Z$1:Z8,PTable[3-Method]), \"\"),0)),\"\")","v":""},{"$f":"IFERROR(INDEX(PTable[3-Method],MATCH(0,IF(AA$1=PTable[2-Test],COUNTIF(AA$1:AA8,PTable[3-Method]), \"\"),0)),\"\")","v":""},{"$f":"IFERROR(INDEX(PTable[3-Method],MATCH(0,IF(AB$1=PTable[2-Test],COUNTIF(AB$1:AB8,PTable[3-Method]), \"\"),0)),\"\")","v":""},{"$f":"IFERROR(INDEX(PTable[3-Method],MATCH(0,IF(AC$1=PTable[2-Test],COUNTIF(AC$1:AC8,PTable[3-Method]), \"\"),0)),\"\")","v":""},{"$f":"IFERROR(INDEX(PTable[3-Method],MATCH(0,IF(AD$1=PTable[2-Test],COUNTIF(AD$1:AD8,PTable[3-Method]), \"\"),0)),\"\")","v":""},{"$f":"IFERROR(INDEX(PTable[3-Method],MATCH(0,IF(AE$1=PTable[2-Test],COUNTIF(AE$1:AE8,PTable[3-Method]), \"\"),0)),\"\")","v":""},{"$f":"IFERROR(INDEX(PTable[3-Method],MATCH(0,IF(AF$1=PTable[2-Test],COUNTIF(AF$1:AF8,PTable[3-Method]), \"\"),0)),\"\")","v":""},{"$f":"IFERROR(INDEX(PTable[3-Method],MATCH(0,IF(AG$1=PTable[2-Test],COUNTIF(AG$1:AG8,PTable[3-Method]), \"\"),0)),\"\")","v":""},{"$f":"IFERROR(INDEX(PTable[3-Method],MATCH(0,IF(AH$1=PTable[2-Test],COUNTIF(AH$1:AH8,PTable[3-Method]), \"\"),0)),\"\")","v":""},{"$f":"IFERROR(INDEX(PTable[3-Method],MATCH(0,IF(AI$1=PTable[2-Test],COUNTIF(AI$1:AI8,PTable[3-Method]), \"\"),0)),\"\")","v":""},{"$f":"IFERROR(INDEX(PTable[3-Method],MATCH(0,IF(AJ$1=PTable[2-Test],COUNTIF(AJ$1:AJ8,PTable[3-Method]), \"\"),0)),\"\")","v":""},{"$f":"IFERROR(INDEX(PTable[3-Method],MATCH(0,IF(AK$1=PTable[2-Test],COUNTIF(AK$1:AK8,PTable[3-Method]), \"\"),0)),\"\")","v":""},{"$f":"IFERROR(INDEX(PTable[3-Method],MATCH(0,IF(AL$1=PTable[2-Test],COUNTIF(AL$1:AL8,PTable[3-Method]), \"\"),0)),\"\")","v":""},{"$f":"IFERROR(INDEX(PTable[3-Method],MATCH(0,IF(AM$1=PTable[2-Test],COUNTIF(AM$1:AM8,PTable[3-Method]), \"\"),0)),\"\")","v":"PCRs"},{"$f":"IFERROR(INDEX(PTable[3-Method],MATCH(0,IF(AN$1=PTable[2-Test],COUNTIF(AN$1:AN8,PTable[3-Method]), \"\"),0)),\"\")","v":"mUSsam"},{"$f":"IFERROR(INDEX(PTable[3-Method],MATCH(0,IF(AO$1=PTable[2-Test],COUNTIF(AO$1:AO8,PTable[3-Method]), \"\"),0)),\"\")","v":"LMmi"},{"$f":"IFERROR(INDEX(PTable[3-Method],MATCH(0,IF(AP$1=PTable[2-Test],COUNTIF(AP$1:AP8,PTable[3-Method]), \"\"),0)),\"\")","v":"PCRs"},{"$f":"IFERROR(INDEX(PTable[3-Method],MATCH(0,IF(AQ$1=PTable[2-Test],COUNTIF(AQ$1:AQ8,PTable[3-Method]), \"\"),0)),\"\")","v":""},{"$f":"IFERROR(INDEX(PTable[3-Method],MATCH(0,IF(AR$1=PTable[2-Test],COUNTIF(AR$1:AR8,PTable[3-Method]), \"\"),0)),\"\")","v":""},{"$f":"IFERROR(INDEX(PTable[3-Method],MATCH(0,IF(AS$1=PTable[2-Test],COUNTIF(AS$1:AS8,PTable[3-Method]), \"\"),0)),\"\")","v":""},{"$f":"IFERROR(INDEX(PTable[3-Method],MATCH(0,IF(AT$1=PTable[2-Test],COUNTIF(AT$1:AT8,PTable[3-Method]), \"\"),0)),\"\")","v":""},{"$f":"IFERROR(INDEX(PTable[3-Method],MATCH(0,IF(AU$1=PTable[2-Test],COUNTIF(AU$1:AU8,PTable[3-Method]), \"\"),0)),\"\")","v":""},{"$f":"IFERROR(INDEX(PTable[3-Method],MATCH(0,IF(AV$1=PTable[2-Test],COUNTIF(AV$1:AV8,PTable[3-Method]), \"\"),0)),\"\")","v":""},{"$f":"IFERROR(INDEX(PTable[3-Method],MATCH(0,IF(AW$1=PTable[2-Test],COUNTIF(AW$1:AW8,PTable[3-Method]), \"\"),0)),\"\")","v":""},{"$f":"IFERROR(INDEX(PTable[3-Method],MATCH(0,IF(AX$1=PTable[2-Test],COUNTIF(AX$1:AX8,PTable[3-Method]), \"\"),0)),\"\")","v":""},{"$f":"IFERROR(INDEX(PTable[3-Method],MATCH(0,IF(AY$1=PTable[2-Test],COUNTIF(AY$1:AY8,PTable[3-Method]), \"\"),0)),\"\")","v":"mUSPs"},{"$f":"IFERROR(INDEX(PTable[3-Method],MATCH(0,IF(AZ$1=PTable[2-Test],COUNTIF(AZ$1:AZ8,PTable[3-Method]), \"\"),0)),\"\")","v":""},{"$f":"IFERROR(INDEX(PTable[3-Method],MATCH(0,IF(BA$1=PTable[2-Test],COUNTIF(BA$1:BA8,PTable[3-Method]), \"\"),0)),\"\")","v":""},{"$f":"IFERROR(INDEX(PTable[3-Method],MATCH(0,IF(BB$1=PTable[2-Test],COUNTIF(BB$1:BB8,PTable[3-Method]), \"\"),0)),\"\")","v":""},{"$f":"IFERROR(INDEX(PTable[3-Method],MATCH(0,IF(BC$1=PTable[2-Test],COUNTIF(BC$1:BC8,PTable[3-Method]), \"\"),0)),\"\")","v":""},{"$f":"IFERROR(INDEX(PTable[3-Method],MATCH(0,IF(BD$1=PTable[2-Test],COUNTIF(BD$1:BD8,PTable[3-Method]), \"\"),0)),\"\")","v":""},{"$f":"IFERROR(INDEX(PTable[3-Method],MATCH(0,IF(BE$1=PTable[2-Test],COUNTIF(BE$1:BE8,PTable[3-Method]), \"\"),0)),\"\")","v":""},{"$f":"IFERROR(INDEX(PTable[3-Method],MATCH(0,IF(BF$1=PTable[2-Test],COUNTIF(BF$1:BF8,PTable[3-Method]), \"\"),0)),\"\")","v":""},{"$f":"IFERROR(INDEX(PTable[3-Method],MATCH(0,IF(BG$1=PTable[2-Test],COUNTIF(BG$1:BG8,PTable[3-Method]), \"\"),0)),\"\")","v":""},{"$f":"IFERROR(INDEX(PTable[3-Method],MATCH(0,IF(BH$1=PTable[2-Test],COUNTIF(BH$1:BH8,PTable[3-Method]), \"\"),0)),\"\")","v":"mSMDPm"},{"$f":"IFERROR(INDEX(PTable[3-Method],MATCH(0,IF(BI$1=PTable[2-Test],COUNTIF(BI$1:BI8,PTable[3-Method]), \"\"),0)),\"\")","v":""},{"$f":"IFERROR(INDEX(PTable[3-Method],MATCH(0,IF(BJ$1=PTable[2-Test],COUNTIF(BJ$1:BJ8,PTable[3-Method]), \"\"),0)),\"\")","v":""},{"$f":"IFERROR(INDEX(PTable[3-Method],MATCH(0,IF(BK$1=PTable[2-Test],COUNTIF(BK$1:BK8,PTable[3-Method]), \"\"),0)),\"\")","v":""},{"$f":"IFERROR(INDEX(PTable[3-Method],MATCH(0,IF(BL$1=PTable[2-Test],COUNTIF(BL$1:BL8,PTable[3-Method]), \"\"),0)),\"\")","v":"MFm3"},{"$f":"IFERROR(INDEX(PTable[3-Method],MATCH(0,IF(BM$1=PTable[2-Test],COUNTIF(BM$1:BM8,PTable[3-Method]), \"\"),0)),\"\")","v":""},{"$f":"IFERROR(INDEX(PTable[3-Method],MATCH(0,IF(BN$1=PTable[2-Test],COUNTIF(BN$1:BN8,PTable[3-Method]), \"\"),0)),\"\")","v":""},{"$f":"IFERROR(INDEX(PTable[3-Method],MATCH(0,IF(BO$1=PTable[2-Test],COUNTIF(BO$1:BO8,PTable[3-Method]), \"\"),0)),\"\")","v":""},{"$f":"IFERROR(INDEX(PTable[3-Method],MATCH(0,IF(BP$1=PTable[2-Test],COUNTIF(BP$1:BP8,PTable[3-Method]), \"\"),0)),\"\")","v":""},{"$f":"IFERROR(INDEX(PTable[3-Method],MATCH(0,IF(BQ$1=PTable[2-Test],COUNTIF(BQ$1:BQ8,PTable[3-Method]), \"\"),0)),\"\")","v":""},{"$f":"IFERROR(INDEX(PTable[3-Method],MATCH(0,IF(BR$1=PTable[2-Test],COUNTIF(BR$1:BR8,PTable[3-Method]), \"\"),0)),\"\")","v":""},{"$f":"IFERROR(INDEX(PTable[3-Method],MATCH(0,IF(BS$1=PTable[2-Test],COUNTIF(BS$1:BS8,PTable[3-Method]), \"\"),0)),\"\")","v":""},{"$f":"IFERROR(INDEX(PTable[3-Method],MATCH(0,IF(BT$1=PTable[2-Test],COUNTIF(BT$1:BT8,PTable[3-Method]), \"\"),0)),\"\")","v":""},{"$f":"IFERROR(INDEX(PTable[3-Method],MATCH(0,IF(BU$1=PTable[2-Test],COUNTIF(BU$1:BU8,PTable[3-Method]), \"\"),0)),\"\")","v":""},{"$f":"IFERROR(INDEX(PTable[3-Method],MATCH(0,IF(BV$1=PTable[2-Test],COUNTIF(BV$1:BV8,PTable[3-Method]), \"\"),0)),\"\")","v":""},{"$f":"IFERROR(INDEX(PTable[3-Method],MATCH(0,IF(BW$1=PTable[2-Test],COUNTIF(BW$1:BW8,PTable[3-Method]), \"\"),0)),\"\")","v":"MFm3"}]
[null,{"$f":"IFERROR(INDEX(PTable[2-Test],MATCH(0,IF(B$1=PTable[1-Type],COUNTIF(B$1:B9,PTable[2-Test]), \"\"),0)),\"\")","v":"APRM"},{"$f":"IFERROR(INDEX(PTable[2-Test],MATCH(0,IF(C$1=PTable[1-Type],COUNTIF(C$1:C9,PTable[2-Test]), \"\"),0)),\"\")","v":"PCT"},{"$f":"IFERROR(INDEX(PTable[2-Test],MATCH(0,IF(D$1=PTable[1-Type],COUNTIF(D$1:D9,PTable[2-Test]), \"\"),0)),\"\")","v":""},{"$f":"IFERROR(INDEX(PTable[2-Test],MATCH(0,IF(E$1=PTable[1-Type],COUNTIF(E$1:E9,PTable[2-Test]), \"\"),0)),\"\")","v":""},{"$f":"IFERROR(INDEX(PTable[2-Test],MATCH(0,IF(F$1=PTable[1-Type],COUNTIF(F$1:F9,PTable[2-Test]), \"\"),0)),\"\")","v":"Gluten"},{"$f":"IFERROR(INDEX(PTable[3-Method],MATCH(0,IF(G$1=PTable[2-Test],COUNTIF(G$1:G9,PTable[3-Method]), \"\"),0)),\"\")","v":""},{"$f":"IFERROR(INDEX(PTable[3-Method],MATCH(0,IF(H$1=PTable[2-Test],COUNTIF(H$1:H9,PTable[3-Method]), \"\"),0)),\"\")","v":""},{"$f":"IFERROR(INDEX(PTable[3-Method],MATCH(0,IF(I$1=PTable[2-Test],COUNTIF(I$1:I9,PTable[3-Method]), \"\"),0)),\"\")","v":""},{"$f":"IFERROR(INDEX(PTable[3-Method],MATCH(0,IF(J$1=PTable[2-Test],COUNTIF(J$1:J9,PTable[3-Method]), \"\"),0)),\"\")","v":""},{"$f":"IFERROR(INDEX(PTable[3-Method],MATCH(0,IF(K$1=PTable[2-Test],COUNTIF(K$1:K9,PTable[3-Method]), \"\"),0)),\"\")","v":""},{"$f":"IFERROR(INDEX(PTable[3-Method],MATCH(0,IF(L$1=PTable[2-Test],COUNTIF(L$1:L9,PTable[3-Method]), \"\"),0)),\"\")","v":""},{"$f":"IFERROR(INDEX(PTable[3-Method],MATCH(0,IF(M$1=PTable[2-Test],COUNTIF(M$1:M9,PTable[3-Method]), \"\"),0)),\"\")","v":""},{"$f":"IFERROR(INDEX(PTable[3-Method],MATCH(0,IF(N$1=PTable[2-Test],COUNTIF(N$1:N9,PTable[3-Method]), \"\"),0)),\"\")","v":""},{"$f":"IFERROR(INDEX(PTable[3-Method],MATCH(0,IF(O$1=PTable[2-Test],COUNTIF(O$1:O9,PTable[3-Method]), \"\"),0)),\"\")","v":""},{"$f":"IFERROR(INDEX(PTable[3-Method],MATCH(0,IF(P$1=PTable[2-Test],COUNTIF(P$1:P9,PTable[3-Method]), \"\"),0)),\"\")","v":""},{"$f":"IFERROR(INDEX(PTable[3-Method],MATCH(0,IF(Q$1=PTable[2-Test],COUNTIF(Q$1:Q9,PTable[3-Method]), \"\"),0)),\"\")","v":""},{"$f":"IFERROR(INDEX(PTable[3-Method],MATCH(0,IF(R$1=PTable[2-Test],COUNTIF(R$1:R9,PTable[3-Method]), \"\"),0)),\"\")","v":""},{"$f":"IFERROR(INDEX(PTable[3-Method],MATCH(0,IF(S$1=PTable[2-Test],COUNTIF(S$1:S9,PTable[3-Method]), \"\"),0)),\"\")","v":""},{"$f":"IFERROR(INDEX(PTable[3-Method],MATCH(0,IF(T$1=PTable[2-Test],COUNTIF(T$1:T9,PTable[3-Method]), \"\"),0)),\"\")","v":""},{"$f":"IFERROR(INDEX(PTable[3-Method],MATCH(0,IF(U$1=PTable[2-Test],COUNTIF(U$1:U9,PTable[3-Method]), \"\"),0)),\"\")","v":""},{"$f":"IFERROR(INDEX(PTable[3-Method],MATCH(0,IF(V$1=PTable[2-Test],COUNTIF(V$1:V9,PTable[3-Method]), \"\"),0)),\"\")","v":""},{"$f":"IFERROR(INDEX(PTable[3-Method],MATCH(0,IF(W$1=PTable[2-Test],COUNTIF(W$1:W9,PTable[3-Method]), \"\"),0)),\"\")","v":""},{"$f":"IFERROR(INDEX(PTable[3-Method],MATCH(0,IF(X$1=PTable[2-Test],COUNTIF(X$1:X9,PTable[3-Method]), \"\"),0)),\"\")","v":""},{"$f":"IFERROR(INDEX(PTable[3-Method],MATCH(0,IF(Y$1=PTable[2-Test],COUNTIF(Y$1:Y9,PTable[3-Method]), \"\"),0)),\"\")","v":""},{"$f":"IFERROR(INDEX(PTable[3-Method],MATCH(0,IF(Z$1=PTable[2-Test],COUNTIF(Z$1:Z9,PTable[3-Method]), \"\"),0)),\"\")","v":""},{"$f":"IFERROR(INDEX(PTable[3-Method],MATCH(0,IF(AA$1=PTable[2-Test],COUNTIF(AA$1:AA9,PTable[3-Method]), \"\"),0)),\"\")","v":""},{"$f":"IFERROR(INDEX(PTable[3-Method],MATCH(0,IF(AB$1=PTable[2-Test],COUNTIF(AB$1:AB9,PTable[3-Method]), \"\"),0)),\"\")","v":""},{"$f":"IFERROR(INDEX(PTable[3-Method],MATCH(0,IF(AC$1=PTable[2-Test],COUNTIF(AC$1:AC9,PTable[3-Method]), \"\"),0)),\"\")","v":""},{"$f":"IFERROR(INDEX(PTable[3-Method],MATCH(0,IF(AD$1=PTable[2-Test],COUNTIF(AD$1:AD9,PTable[3-Method]), \"\"),0)),\"\")","v":""},{"$f":"IFERROR(INDEX(PTable[3-Method],MATCH(0,IF(AE$1=PTable[2-Test],COUNTIF(AE$1:AE9,PTable[3-Method]), \"\"),0)),\"\")","v":""},{"$f":"IFERROR(INDEX(PTable[3-Method],MATCH(0,IF(AF$1=PTable[2-Test],COUNTIF(AF$1:AF9,PTable[3-Method]), \"\"),0)),\"\")","v":""},{"$f":"IFERROR(INDEX(PTable[3-Method],MATCH(0,IF(AG$1=PTable[2-Test],COUNTIF(AG$1:AG9,PTable[3-Method]), \"\"),0)),\"\")","v":""},{"$f":"IFERROR(INDEX(PTable[3-Method],MATCH(0,IF(AH$1=PTable[2-Test],COUNTIF(AH$1:AH9,PTable[3-Method]), \"\"),0)),\"\")","v":""},{"$f":"IFERROR(INDEX(PTable[3-Method],MATCH(0,IF(AI$1=PTable[2-Test],COUNTIF(AI$1:AI9,PTable[3-Method]), \"\"),0)),\"\")","v":""},{"$f":"IFERROR(INDEX(PTable[3-Method],MATCH(0,IF(AJ$1=PTable[2-Test],COUNTIF(AJ$1:AJ9,PTable[3-Method]), \"\"),0)),\"\")","v":""},{"$f":"IFERROR(INDEX(PTable[3-Method],MATCH(0,IF(AK$1=PTable[2-Test],COUNTIF(AK$1:AK9,PTable[3-Method]), \"\"),0)),\"\")","v":""},{"$f":"IFERROR(INDEX(PTable[3-Method],MATCH(0,IF(AL$1=PTable[2-Test],COUNTIF(AL$1:AL9,PTable[3-Method]), \"\"),0)),\"\")","v":""},{"$f":"IFERROR(INDEX(PTable[3-Method],MATCH(0,IF(AM$1=PTable[2-Test],COUNTIF(AM$1:AM9,PTable[3-Method]), \"\"),0)),\"\")","v":"PCRsam"},{"$f":"IFERROR(INDEX(PTable[3-Method],MATCH(0,IF(AN$1=PTable[2-Test],COUNTIF(AN$1:AN9,PTable[3-Method]), \"\"),0)),\"\")","v":"PCRs"},{"$f":"IFERROR(INDEX(PTable[3-Method],MATCH(0,IF(AO$1=PTable[2-Test],COUNTIF(AO$1:AO9,PTable[3-Method]), \"\"),0)),\"\")","v":"SALmi"},{"$f":"IFERROR(INDEX(PTable[3-Method],MATCH(0,IF(AP$1=PTable[2-Test],COUNTIF(AP$1:AP9,PTable[3-Method]), \"\"),0)),\"\")","v":"PCRsam"},{"$f":"IFERROR(INDEX(PTable[3-Method],MATCH(0,IF(AQ$1=PTable[2-Test],COUNTIF(AQ$1:AQ9,PTable[3-Method]), \"\"),0)),\"\")","v":""},{"$f":"IFERROR(INDEX(PTable[3-Method],MATCH(0,IF(AR$1=PTable[2-Test],COUNTIF(AR$1:AR9,PTable[3-Method]), \"\"),0)),\"\")","v":""},{"$f":"IFERROR(INDEX(PTable[3-Method],MATCH(0,IF(AS$1=PTable[2-Test],COUNTIF(AS$1:AS9,PTable[3-Method]), \"\"),0)),\"\")","v":""},{"$f":"IFERROR(INDEX(PTable[3-Method],MATCH(0,IF(AT$1=PTable[2-Test],COUNTIF(AT$1:AT9,PTable[3-Method]), \"\"),0)),\"\")","v":""},{"$f":"IFERROR(INDEX(PTable[3-Method],MATCH(0,IF(AU$1=PTable[2-Test],COUNTIF(AU$1:AU9,PTable[3-Method]), \"\"),0)),\"\")","v":""},{"$f":"IFERROR(INDEX(PTable[3-Method],MATCH(0,IF(AV$1=PTable[2-Test],COUNTIF(AV$1:AV9,PTable[3-Method]), \"\"),0)),\"\")","v":""},{"$f":"IFERROR(INDEX(PTable[3-Method],MATCH(0,IF(AW$1=PTable[2-Test],COUNTIF(AW$1:AW9,PTable[3-Method]), \"\"),0)),\"\")","v":""},{"$f":"IFERROR(INDEX(PTable[3-Method],MATCH(0,IF(AX$1=PTable[2-Test],COUNTIF(AX$1:AX9,PTable[3-Method]), \"\"),0)),\"\")","v":""},{"$f":"IFERROR(INDEX(PTable[3-Method],MATCH(0,IF(AY$1=PTable[2-Test],COUNTIF(AY$1:AY9,PTable[3-Method]), \"\"),0)),\"\")","v":""},{"$f":"IFERROR(INDEX(PTable[3-Method],MATCH(0,IF(AZ$1=PTable[2-Test],COUNTIF(AZ$1:AZ9,PTable[3-Method]), \"\"),0)),\"\")","v":""},{"$f":"IFERROR(INDEX(PTable[3-Method],MATCH(0,IF(BA$1=PTable[2-Test],COUNTIF(BA$1:BA9,PTable[3-Method]), \"\"),0)),\"\")","v":""},{"$f":"IFERROR(INDEX(PTable[3-Method],MATCH(0,IF(BB$1=PTable[2-Test],COUNTIF(BB$1:BB9,PTable[3-Method]), \"\"),0)),\"\")","v":""},{"$f":"IFERROR(INDEX(PTable[3-Method],MATCH(0,IF(BC$1=PTable[2-Test],COUNTIF(BC$1:BC9,PTable[3-Method]), \"\"),0)),\"\")","v":""},{"$f":"IFERROR(INDEX(PTable[3-Method],MATCH(0,IF(BD$1=PTable[2-Test],COUNTIF(BD$1:BD9,PTable[3-Method]), \"\"),0)),\"\")","v":""},{"$f":"IFERROR(INDEX(PTable[3-Method],MATCH(0,IF(BE$1=PTable[2-Test],COUNTIF(BE$1:BE9,PTable[3-Method]), \"\"),0)),\"\")","v":""},{"$f":"IFERROR(INDEX(PTable[3-Method],MATCH(0,IF(BF$1=PTable[2-Test],COUNTIF(BF$1:BF9,PTable[3-Method]), \"\"),0)),\"\")","v":""},{"$f":"IFERROR(INDEX(PTable[3-Method],MATCH(0,IF(BG$1=PTable[2-Test],COUNTIF(BG$1:BG9,PTable[3-Method]), \"\"),0)),\"\")","v":""},{"$f":"IFERROR(INDEX(PTable[3-Method],MATCH(0,IF(BH$1=PTable[2-Test],COUNTIF(BH$1:BH9,PTable[3-Method]), \"\"),0)),\"\")","v":"mSMDPs"},{"$f":"IFERROR(INDEX(PTable[3-Method],MATCH(0,IF(BI$1=PTable[2-Test],COUNTIF(BI$1:BI9,PTable[3-Method]), \"\"),0)),\"\")","v":""},{"$f":"IFERROR(INDEX(PTable[3-Method],MATCH(0,IF(BJ$1=PTable[2-Test],COUNTIF(BJ$1:BJ9,PTable[3-Method]), \"\"),0)),\"\")","v":""},{"$f":"IFERROR(INDEX(PTable[3-Method],MATCH(0,IF(BK$1=PTable[2-Test],COUNTIF(BK$1:BK9,PTable[3-Method]), \"\"),0)),\"\")","v":""},{"$f":"IFERROR(INDEX(PTable[3-Method],MATCH(0,IF(BL$1=PTable[2-Test],COUNTIF(BL$1:BL9,PTable[3-Method]), \"\"),0)),\"\")","v":"MFmL"},{"$f":"IFERROR(INDEX(PTable[3-Method],MATCH(0,IF(BM$1=PTable[2-Test],COUNTIF(BM$1:BM9,PTable[3-Method]), \"\"),0)),\"\")","v":""},{"$f":"IFERROR(INDEX(PTable[3-Method],MATCH(0,IF(BN$1=PTable[2-Test],COUNTIF(BN$1:BN9,PTable[3-Method]), \"\"),0)),\"\")","v":""},{"$f":"IFERROR(INDEX(PTable[3-Method],MATCH(0,IF(BO$1=PTable[2-Test],COUNTIF(BO$1:BO9,PTable[3-Method]), \"\"),0)),\"\")","v":""},{"$f":"IFERROR(INDEX(PTable[3-Method],MATCH(0,IF(BP$1=PTable[2-Test],COUNTIF(BP$1:BP9,PTable[3-Method]), \"\"),0)),\"\")","v":""},{"$f":"IFERROR(INDEX(PTable[3-Method],MATCH(0,IF(BQ$1=PTable[2-Test],COUNTIF(BQ$1:BQ9,PTable[3-Method]), \"\"),0)),\"\")","v":""},{"$f":"IFERROR(INDEX(PTable[3-Method],MATCH(0,IF(BR$1=PTable[2-Test],COUNTIF(BR$1:BR9,PTable[3-Method]), \"\"),0)),\"\")","v":""},{"$f":"IFERROR(INDEX(PTable[3-Method],MATCH(0,IF(BS$1=PTable[2-Test],COUNTIF(BS$1:BS9,PTable[3-Method]), \"\"),0)),\"\")","v":""},{"$f":"IFERROR(INDEX(PTable[3-Method],MATCH(0,IF(BT$1=PTable[2-Test],COUNTIF(BT$1:BT9,PTable[3-Method]), \"\"),0)),\"\")","v":""},{"$f":"IFERROR(INDEX(PTable[3-Method],MATCH(0,IF(BU$1=PTable[2-Test],COUNTIF(BU$1:BU9,PTable[3-Method]), \"\"),0)),\"\")","v":""},{"$f":"IFERROR(INDEX(PTable[3-Method],MATCH(0,IF(BV$1=PTable[2-Test],COUNTIF(BV$1:BV9,PTable[3-Method]), \"\"),0)),\"\")","v":""},{"$f":"IFERROR(INDEX(PTable[3-Method],MATCH(0,IF(BW$1=PTable[2-Test],COUNTIF(BW$1:BW9,PTable[3-Method]), \"\"),0)),\"\")","v":"MFmL"}]
[null,{"$f":"IFERROR(INDEX(PTable[2-Test],MATCH(0,IF(B$1=PTable[1-Type],COUNTIF(B$1:B10,PTable[2-Test]), \"\"),0)),\"\")","v":"APRY"},{"$f":"IFERROR(INDEX(PTable[2-Test],MATCH(0,IF(C$1=PTable[1-Type],COUNTIF(C$1:C10,PTable[2-Test]), \"\"),0)),\"\")","v":"SAL"},{"$f":"IFERROR(INDEX(PTable[2-Test],MATCH(0,IF(D$1=PTable[1-Type],COUNTIF(D$1:D10,PTable[2-Test]), \"\"),0)),\"\")","v":""},{"$f":"IFERROR(INDEX(PTable[2-Test],MATCH(0,IF(E$1=PTable[1-Type],COUNTIF(E$1:E10,PTable[2-Test]), \"\"),0)),\"\")","v":""},{"$f":"IFERROR(INDEX(PTable[2-Test],MATCH(0,IF(F$1=PTable[1-Type],COUNTIF(F$1:F10,PTable[2-Test]), \"\"),0)),\"\")","v":"Hazel"},{"$f":"IFERROR(INDEX(PTable[3-Method],MATCH(0,IF(G$1=PTable[2-Test],COUNTIF(G$1:G10,PTable[3-Method]), \"\"),0)),\"\")","v":""},{"$f":"IFERROR(INDEX(PTable[3-Method],MATCH(0,IF(H$1=PTable[2-Test],COUNTIF(H$1:H10,PTable[3-Method]), \"\"),0)),\"\")","v":""},{"$f":"IFERROR(INDEX(PTable[3-Method],MATCH(0,IF(I$1=PTable[2-Test],COUNTIF(I$1:I10,PTable[3-Method]), \"\"),0)),\"\")","v":""},{"$f":"IFERROR(INDEX(PTable[3-Method],MATCH(0,IF(J$1=PTable[2-Test],COUNTIF(J$1:J10,PTable[3-Method]), \"\"),0)),\"\")","v":""},{"$f":"IFERROR(INDEX(PTable[3-Method],MATCH(0,IF(K$1=PTable[2-Test],COUNTIF(K$1:K10,PTable[3-Method]), \"\"),0)),\"\")","v":""},{"$f":"IFERROR(INDEX(PTable[3-Method],MATCH(0,IF(L$1=PTable[2-Test],COUNTIF(L$1:L10,PTable[3-Method]), \"\"),0)),\"\")","v":""},{"$f":"IFERROR(INDEX(PTable[3-Method],MATCH(0,IF(M$1=PTable[2-Test],COUNTIF(M$1:M10,PTable[3-Method]), \"\"),0)),\"\")","v":""},{"$f":"IFERROR(INDEX(PTable[3-Method],MATCH(0,IF(N$1=PTable[2-Test],COUNTIF(N$1:N10,PTable[3-Method]), \"\"),0)),\"\")","v":""},{"$f":"IFERROR(INDEX(PTable[3-Method],MATCH(0,IF(O$1=PTable[2-Test],COUNTIF(O$1:O10,PTable[3-Method]), \"\"),0)),\"\")","v":""},{"$f":"IFERROR(INDEX(PTable[3-Method],MATCH(0,IF(P$1=PTable[2-Test],COUNTIF(P$1:P10,PTable[3-Method]), \"\"),0)),\"\")","v":""},{"$f":"IFERROR(INDEX(PTable[3-Method],MATCH(0,IF(Q$1=PTable[2-Test],COUNTIF(Q$1:Q10,PTable[3-Method]), \"\"),0)),\"\")","v":""},{"$f":"IFERROR(INDEX(PTable[3-Method],MATCH(0,IF(R$1=PTable[2-Test],COUNTIF(R$1:R10,PTable[3-Method]), \"\"),0)),\"\")","v":""},{"$f":"IFERROR(INDEX(PTable[3-Method],MATCH(0,IF(S$1=PTable[2-Test],COUNTIF(S$1:S10,PTable[3-Method]), \"\"),0)),\"\")","v":""},{"$f":"IFERROR(INDEX(PTable[3-Method],MATCH(0,IF(T$1=PTable[2-Test],COUNTIF(T$1:T10,PTable[3-Method]), \"\"),0)),\"\")","v":""},{"$f":"IFERROR(INDEX(PTable[3-Method],MATCH(0,IF(U$1=PTable[2-Test],COUNTIF(U$1:U10,PTable[3-Method]), \"\"),0)),\"\")","v":""},{"$f":"IFERROR(INDEX(PTable[3-Method],MATCH(0,IF(V$1=PTable[2-Test],COUNTIF(V$1:V10,PTable[3-Method]), \"\"),0)),\"\")","v":""},{"$f":"IFERROR(INDEX(PTable[3-Method],MATCH(0,IF(W$1=PTable[2-Test],COUNTIF(W$1:W10,PTable[3-Method]), \"\"),0)),\"\")","v":""},{"$f":"IFERROR(INDEX(PTable[3-Method],MATCH(0,IF(X$1=PTable[2-Test],COUNTIF(X$1:X10,PTable[3-Method]), \"\"),0)),\"\")","v":""},{"$f":"IFERROR(INDEX(PTable[3-Method],MATCH(0,IF(Y$1=PTable[2-Test],COUNTIF(Y$1:Y10,PTable[3-Method]), \"\"),0)),\"\")","v":""},{"$f":"IFERROR(INDEX(PTable[3-Method],MATCH(0,IF(Z$1=PTable[2-Test],COUNTIF(Z$1:Z10,PTable[3-Method]), \"\"),0)),\"\")","v":""},{"$f":"IFERROR(INDEX(PTable[3-Method],MATCH(0,IF(AA$1=PTable[2-Test],COUNTIF(AA$1:AA10,PTable[3-Method]), \"\"),0)),\"\")","v":""},{"$f":"IFERROR(INDEX(PTable[3-Method],MATCH(0,IF(AB$1=PTable[2-Test],COUNTIF(AB$1:AB10,PTable[3-Method]), \"\"),0)),\"\")","v":""},{"$f":"IFERROR(INDEX(PTable[3-Method],MATCH(0,IF(AC$1=PTable[2-Test],COUNTIF(AC$1:AC10,PTable[3-Method]), \"\"),0)),\"\")","v":""},{"$f":"IFERROR(INDEX(PTable[3-Method],MATCH(0,IF(AD$1=PTable[2-Test],COUNTIF(AD$1:AD10,PTable[3-Method]), \"\"),0)),\"\")","v":""},{"$f":"IFERROR(INDEX(PTable[3-Method],MATCH(0,IF(AE$1=PTable[2-Test],COUNTIF(AE$1:AE10,PTable[3-Method]), \"\"),0)),\"\")","v":""},{"$f":"IFERROR(INDEX(PTable[3-Method],MATCH(0,IF(AF$1=PTable[2-Test],COUNTIF(AF$1:AF10,PTable[3-Method]), \"\"),0)),\"\")","v":""},{"$f":"IFERROR(INDEX(PTable[3-Method],MATCH(0,IF(AG$1=PTable[2-Test],COUNTIF(AG$1:AG10,PTable[3-Method]), \"\"),0)),\"\")","v":""},{"$f":"IFERROR(INDEX(PTable[3-Method],MATCH(0,IF(AH$1=PTable[2-Test],COUNTIF(AH$1:AH10,PTable[3-Method]), \"\"),0)),\"\")","v":""},{"$f":"IFERROR(INDEX(PTable[3-Method],MATCH(0,IF(AI$1=PTable[2-Test],COUNTIF(AI$1:AI10,PTable[3-Method]), \"\"),0)),\"\")","v":""},{"$f":"IFERROR(INDEX(PTable[3-Method],MATCH(0,IF(AJ$1=PTable[2-Test],COUNTIF(AJ$1:AJ10,PTable[3-Method]), \"\"),0)),\"\")","v":""},{"$f":"IFERROR(INDEX(PTable[3-Method],MATCH(0,IF(AK$1=PTable[2-Test],COUNTIF(AK$1:AK10,PTable[3-Method]), \"\"),0)),\"\")","v":""},{"$f":"IFERROR(INDEX(PTable[3-Method],MATCH(0,IF(AL$1=PTable[2-Test],COUNTIF(AL$1:AL10,PTable[3-Method]), \"\"),0)),\"\")","v":""},{"$f":"IFERROR(INDEX(PTable[3-Method],MATCH(0,IF(AM$1=PTable[2-Test],COUNTIF(AM$1:AM10,PTable[3-Method]), \"\"),0)),\"\")","v":""},{"$f":"IFERROR(INDEX(PTable[3-Method],MATCH(0,IF(AN$1=PTable[2-Test],COUNTIF(AN$1:AN10,PTable[3-Method]), \"\"),0)),\"\")","v":"PCRsam"},{"$f":"IFERROR(INDEX(PTable[3-Method],MATCH(0,IF(AO$1=PTable[2-Test],COUNTIF(AO$1:AO10,PTable[3-Method]), \"\"),0)),\"\")","v":"STECmi"},{"$f":"IFERROR(INDEX(PTable[3-Method],MATCH(0,IF(AP$1=PTable[2-Test],COUNTIF(AP$1:AP10,PTable[3-Method]), \"\"),0)),\"\")","v":"USDswab"},{"$f":"IFERROR(INDEX(PTable[3-Method],MATCH(0,IF(AQ$1=PTable[2-Test],COUNTIF(AQ$1:AQ10,PTable[3-Method]), \"\"),0)),\"\")","v":""},{"$f":"IFERROR(INDEX(PTable[3-Method],MATCH(0,IF(AR$1=PTable[2-Test],COUNTIF(AR$1:AR10,PTable[3-Method]), \"\"),0)),\"\")","v":""},{"$f":"IFERROR(INDEX(PTable[3-Method],MATCH(0,IF(AS$1=PTable[2-Test],COUNTIF(AS$1:AS10,PTable[3-Method]), \"\"),0)),\"\")","v":""},{"$f":"IFERROR(INDEX(PTable[3-Method],MATCH(0,IF(AT$1=PTable[2-Test],COUNTIF(AT$1:AT10,PTable[3-Method]), \"\"),0)),\"\")","v":""},{"$f":"IFERROR(INDEX(PTable[3-Method],MATCH(0,IF(AU$1=PTable[2-Test],COUNTIF(AU$1:AU10,PTable[3-Method]), \"\"),0)),\"\")","v":""},{"$f":"IFERROR(INDEX(PTable[3-Method],MATCH(0,IF(AV$1=PTable[2-Test],COUNTIF(AV$1:AV10,PTable[3-Method]), \"\"),0)),\"\")","v":""},{"$f":"IFERROR(INDEX(PTable[3-Method],MATCH(0,IF(AW$1=PTable[2-Test],COUNTIF(AW$1:AW10,PTable[3-Method]), \"\"),0)),\"\")","v":""},{"$f":"IFERROR(INDEX(PTable[3-Method],MATCH(0,IF(AX$1=PTable[2-Test],COUNTIF(AX$1:AX10,PTable[3-Method]), \"\"),0)),\"\")","v":""},{"$f":"IFERROR(INDEX(PTable[3-Method],MATCH(0,IF(AY$1=PTable[2-Test],COUNTIF(AY$1:AY10,PTable[3-Method]), \"\"),0)),\"\")","v":""},{"$f":"IFERROR(INDEX(PTable[3-Method],MATCH(0,IF(AZ$1=PTable[2-Test],COUNTIF(AZ$1:AZ10,PTable[3-Method]), \"\"),0)),\"\")","v":""},{"$f":"IFERROR(INDEX(PTable[3-Method],MATCH(0,IF(BA$1=PTable[2-Test],COUNTIF(BA$1:BA10,PTable[3-Method]), \"\"),0)),\"\")","v":""},{"$f":"IFERROR(INDEX(PTable[3-Method],MATCH(0,IF(BB$1=PTable[2-Test],COUNTIF(BB$1:BB10,PTable[3-Method]), \"\"),0)),\"\")","v":""},{"$f":"IFERROR(INDEX(PTable[3-Method],MATCH(0,IF(BC$1=PTable[2-Test],COUNTIF(BC$1:BC10,PTable[3-Method]), \"\"),0)),\"\")","v":""},{"$f":"IFERROR(INDEX(PTable[3-Method],MATCH(0,IF(BD$1=PTable[2-Test],COUNTIF(BD$1:BD10,PTable[3-Method]), \"\"),0)),\"\")","v":""},{"$f":"IFERROR(INDEX(PTable[3-Method],MATCH(0,IF(BE$1=PTable[2-Test],COUNTIF(BE$1:BE10,PTable[3-Method]), \"\"),0)),\"\")","v":""},{"$f":"IFERROR(INDEX(PTable[3-Method],MATCH(0,IF(BF$1=PTable[2-Test],COUNTIF(BF$1:BF10,PTable[3-Method]), \"\"),0)),\"\")","v":""},{"$f":"IFERROR(INDEX(PTable[3-Method],MATCH(0,IF(BG$1=PTable[2-Test],COUNTIF(BG$1:BG10,PTable[3-Method]), \"\"),0)),\"\")","v":""},{"$f":"IFERROR(INDEX(PTable[3-Method],MATCH(0,IF(BH$1=PTable[2-Test],COUNTIF(BH$1:BH10,PTable[3-Method]), \"\"),0)),\"\")","v":"mSMWtn"},{"$f":"IFERROR(INDEX(PTable[3-Method],MATCH(0,IF(BI$1=PTable[2-Test],COUNTIF(BI$1:BI10,PTable[3-Method]), \"\"),0)),\"\")","v":""},{"$f":"IFERROR(INDEX(PTable[3-Method],MATCH(0,IF(BJ$1=PTable[2-Test],COUNTIF(BJ$1:BJ10,PTable[3-Method]), \"\"),0)),\"\")","v":""},{"$f":"IFERROR(INDEX(PTable[3-Method],MATCH(0,IF(BK$1=PTable[2-Test],COUNTIF(BK$1:BK10,PTable[3-Method]), \"\"),0)),\"\")","v":""},{"$f":"IFERROR(INDEX(PTable[3-Method],MATCH(0,IF(BL$1=PTable[2-Test],COUNTIF(BL$1:BL10,PTable[3-Method]), \"\"),0)),\"\")","v":"MFs"},{"$f":"IFERROR(INDEX(PTable[3-Method],MATCH(0,IF(BM$1=PTable[2-Test],COUNTIF(BM$1:BM10,PTable[3-Method]), \"\"),0)),\"\")","v":""},{"$f":"IFERROR(INDEX(PTable[3-Method],MATCH(0,IF(BN$1=PTable[2-Test],COUNTIF(BN$1:BN10,PTable[3-Method]), \"\"),0)),\"\")","v":""},{"$f":"IFERROR(INDEX(PTable[3-Method],MATCH(0,IF(BO$1=PTable[2-Test],COUNTIF(BO$1:BO10,PTable[3-Method]), \"\"),0)),\"\")","v":""},{"$f":"IFERROR(INDEX(PTable[3-Method],MATCH(0,IF(BP$1=PTable[2-Test],COUNTIF(BP$1:BP10,PTable[3-Method]), \"\"),0)),\"\")","v":""},{"$f":"IFERROR(INDEX(PTable[3-Method],MATCH(0,IF(BQ$1=PTable[2-Test],COUNTIF(BQ$1:BQ10,PTable[3-Method]), \"\"),0)),\"\")","v":""},{"$f":"IFERROR(INDEX(PTable[3-Method],MATCH(0,IF(BR$1=PTable[2-Test],COUNTIF(BR$1:BR10,PTable[3-Method]), \"\"),0)),\"\")","v":""},{"$f":"IFERROR(INDEX(PTable[3-Method],MATCH(0,IF(BS$1=PTable[2-Test],COUNTIF(BS$1:BS10,PTable[3-Method]), \"\"),0)),\"\")","v":""},{"$f":"IFERROR(INDEX(PTable[3-Method],MATCH(0,IF(BT$1=PTable[2-Test],COUNTIF(BT$1:BT10,PTable[3-Method]), \"\"),0)),\"\")","v":""},{"$f":"IFERROR(INDEX(PTable[3-Method],MATCH(0,IF(BU$1=PTable[2-Test],COUNTIF(BU$1:BU10,PTable[3-Method]), \"\"),0)),\"\")","v":""},{"$f":"IFERROR(INDEX(PTable[3-Method],MATCH(0,IF(BV$1=PTable[2-Test],COUNTIF(BV$1:BV10,PTable[3-Method]), \"\"),0)),\"\")","v":""},{"$f":"IFERROR(INDEX(PTable[3-Method],MATCH(0,IF(BW$1=PTable[2-Test],COUNTIF(BW$1:BW10,PTable[3-Method]), \"\"),0)),\"\")","v":"MFs"}]
[null,{"$f":"IFERROR(INDEX(PTable[2-Test],MATCH(0,IF(B$1=PTable[1-Type],COUNTIF(B$1:B11,PTable[2-Test]), \"\"),0)),\"\")","v":"B.cereus"},{"$f":"IFERROR(INDEX(PTable[2-Test],MATCH(0,IF(C$1=PTable[1-Type],COUNTIF(C$1:C11,PTable[2-Test]), \"\"),0)),\"\")","v":"Shigella"},{"$f":"IFERROR(INDEX(PTable[2-Test],MATCH(0,IF(D$1=PTable[1-Type],COUNTIF(D$1:D11,PTable[2-Test]), \"\"),0)),\"\")","v":""},{"$f":"IFERROR(INDEX(PTable[2-Test],MATCH(0,IF(E$1=PTable[1-Type],COUNTIF(E$1:E11,PTable[2-Test]), \"\"),0)),\"\")","v":""},{"$f":"IFERROR(INDEX(PTable[2-Test],MATCH(0,IF(F$1=PTable[1-Type],COUNTIF(F$1:F11,PTable[2-Test]), \"\"),0)),\"\")","v":"Macadmi"},{"$f":"IFERROR(INDEX(PTable[3-Method],MATCH(0,IF(G$1=PTable[2-Test],COUNTIF(G$1:G11,PTable[3-Method]), \"\"),0)),\"\")","v":""},{"$f":"IFERROR(INDEX(PTable[3-Method],MATCH(0,IF(H$1=PTable[2-Test],COUNTIF(H$1:H11,PTable[3-Method]), \"\"),0)),\"\")","v":""},{"$f":"IFERROR(INDEX(PTable[3-Method],MATCH(0,IF(I$1=PTable[2-Test],COUNTIF(I$1:I11,PTable[3-Method]), \"\"),0)),\"\")","v":""},{"$f":"IFERROR(INDEX(PTable[3-Method],MATCH(0,IF(J$1=PTable[2-Test],COUNTIF(J$1:J11,PTable[3-Method]), \"\"),0)),\"\")","v":""},{"$f":"IFERROR(INDEX(PTable[3-Method],MATCH(0,IF(K$1=PTable[2-Test],COUNTIF(K$1:K11,PTable[3-Method]), \"\"),0)),\"\")","v":""},{"$f":"IFERROR(INDEX(PTable[3-Method],MATCH(0,IF(L$1=PTable[2-Test],COUNTIF(L$1:L11,PTable[3-Method]), \"\"),0)),\"\")","v":""},{"$f":"IFERROR(INDEX(PTable[3-Method],MATCH(0,IF(M$1=PTable[2-Test],COUNTIF(M$1:M11,PTable[3-Method]), \"\"),0)),\"\")","v":""},{"$f":"IFERROR(INDEX(PTable[3-Method],MATCH(0,IF(N$1=PTable[2-Test],COUNTIF(N$1:N11,PTable[3-Method]), \"\"),0)),\"\")","v":""},{"$f":"IFERROR(INDEX(PTable[3-Method],MATCH(0,IF(O$1=PTable[2-Test],COUNTIF(O$1:O11,PTable[3-Method]), \"\"),0)),\"\")","v":""},{"$f":"IFERROR(INDEX(PTable[3-Method],MATCH(0,IF(P$1=PTable[2-Test],COUNTIF(P$1:P11,PTable[3-Method]), \"\"),0)),\"\")","v":""},{"$f":"IFERROR(INDEX(PTable[3-Method],MATCH(0,IF(Q$1=PTable[2-Test],COUNTIF(Q$1:Q11,PTable[3-Method]), \"\"),0)),\"\")","v":""},{"$f":"IFERROR(INDEX(PTable[3-Method],MATCH(0,IF(R$1=PTable[2-Test],COUNTIF(R$1:R11,PTable[3-Method]), \"\"),0)),\"\")","v":""},{"$f":"IFERROR(INDEX(PTable[3-Method],MATCH(0,IF(S$1=PTable[2-Test],COUNTIF(S$1:S11,PTable[3-Method]), \"\"),0)),\"\")","v":""},{"$f":"IFERROR(INDEX(PTable[3-Method],MATCH(0,IF(T$1=PTable[2-Test],COUNTIF(T$1:T11,PTable[3-Method]), \"\"),0)),\"\")","v":""},{"$f":"IFERROR(INDEX(PTable[3-Method],MATCH(0,IF(U$1=PTable[2-Test],COUNTIF(U$1:U11,PTable[3-Method]), \"\"),0)),\"\")","v":""},{"$f":"IFERROR(INDEX(PTable[3-Method],MATCH(0,IF(V$1=PTable[2-Test],COUNTIF(V$1:V11,PTable[3-Method]), \"\"),0)),\"\")","v":""},{"$f":"IFERROR(INDEX(PTable[3-Method],MATCH(0,IF(W$1=PTable[2-Test],COUNTIF(W$1:W11,PTable[3-Method]), \"\"),0)),\"\")","v":""},{"$f":"IFERROR(INDEX(PTable[3-Method],MATCH(0,IF(X$1=PTable[2-Test],COUNTIF(X$1:X11,PTable[3-Method]), \"\"),0)),\"\")","v":""},{"$f":"IFERROR(INDEX(PTable[3-Method],MATCH(0,IF(Y$1=PTable[2-Test],COUNTIF(Y$1:Y11,PTable[3-Method]), \"\"),0)),\"\")","v":""},{"$f":"IFERROR(INDEX(PTable[3-Method],MATCH(0,IF(Z$1=PTable[2-Test],COUNTIF(Z$1:Z11,PTable[3-Method]), \"\"),0)),\"\")","v":""},{"$f":"IFERROR(INDEX(PTable[3-Method],MATCH(0,IF(AA$1=PTable[2-Test],COUNTIF(AA$1:AA11,PTable[3-Method]), \"\"),0)),\"\")","v":""},{"$f":"IFERROR(INDEX(PTable[3-Method],MATCH(0,IF(AB$1=PTable[2-Test],COUNTIF(AB$1:AB11,PTable[3-Method]), \"\"),0)),\"\")","v":""},{"$f":"IFERROR(INDEX(PTable[3-Method],MATCH(0,IF(AC$1=PTable[2-Test],COUNTIF(AC$1:AC11,PTable[3-Method]), \"\"),0)),\"\")","v":""},{"$f":"IFERROR(INDEX(PTable[3-Method],MATCH(0,IF(AD$1=PTable[2-Test],COUNTIF(AD$1:AD11,PTable[3-Method]), \"\"),0)),\"\")","v":""},{"$f":"IFERROR(INDEX(PTable[3-Method],MATCH(0,IF(AE$1=PTable[2-Test],COUNTIF(AE$1:AE11,PTable[3-Method]), \"\"),0)),\"\")","v":""},{"$f":"IFERROR(INDEX(PTable[3-Method],MATCH(0,IF(AF$1=PTable[2-Test],COUNTIF(AF$1:AF11,PTable[3-Method]), \"\"),0)),\"\")","v":""},{"$f":"IFERROR(INDEX(PTable[3-Method],MATCH(0,IF(AG$1=PTable[2-Test],COUNTIF(AG$1:AG11,PTable[3-Method]), \"\"),0)),\"\")","v":""},{"$f":"IFERROR(INDEX(PTable[3-Method],MATCH(0,IF(AH$1=PTable[2-Test],COUNTIF(AH$1:AH11,PTable[3-Method]), \"\"),0)),\"\")","v":""},{"$f":"IFERROR(INDEX(PTable[3-Method],MATCH(0,IF(AI$1=PTable[2-Test],COUNTIF(AI$1:AI11,PTable[3-Method]), \"\"),0)),\"\")","v":""},{"$f":"IFERROR(INDEX(PTable[3-Method],MATCH(0,IF(AJ$1=PTable[2-Test],COUNTIF(AJ$1:AJ11,PTable[3-Method]), \"\"),0)),\"\")","v":""},{"$f":"IFERROR(INDEX(PTable[3-Method],MATCH(0,IF(AK$1=PTable[2-Test],COUNTIF(AK$1:AK11,PTable[3-Method]), \"\"),0)),\"\")","v":""},{"$f":"IFERROR(INDEX(PTable[3-Method],MATCH(0,IF(AL$1=PTable[2-Test],COUNTIF(AL$1:AL11,PTable[3-Method]), \"\"),0)),\"\")","v":""},{"$f":"IFERROR(INDEX(PTable[3-Method],MATCH(0,IF(AM$1=PTable[2-Test],COUNTIF(AM$1:AM11,PTable[3-Method]), \"\"),0)),\"\")","v":""},{"$f":"IFERROR(INDEX(PTable[3-Method],MATCH(0,IF(AN$1=PTable[2-Test],COUNTIF(AN$1:AN11,PTable[3-Method]), \"\"),0)),\"\")","v":""},{"$f":"IFERROR(INDEX(PTable[3-Method],MATCH(0,IF(AO$1=PTable[2-Test],COUNTIF(AO$1:AO11,PTable[3-Method]), \"\"),0)),\"\")","v":""},{"$f":"IFERROR(INDEX(PTable[3-Method],MATCH(0,IF(AP$1=PTable[2-Test],COUNTIF(AP$1:AP11,PTable[3-Method]), \"\"),0)),\"\")","v":""},{"$f":"IFERROR(INDEX(PTable[3-Method],MATCH(0,IF(AQ$1=PTable[2-Test],COUNTIF(AQ$1:AQ11,PTable[3-Method]), \"\"),0)),\"\")","v":""},{"$f":"IFERROR(INDEX(PTable[3-Method],MATCH(0,IF(AR$1=PTable[2-Test],COUNTIF(AR$1:AR11,PTable[3-Method]), \"\"),0)),\"\")","v":""},{"$f":"IFERROR(INDEX(PTable[3-Method],MATCH(0,IF(AS$1=PTable[2-Test],COUNTIF(AS$1:AS11,PTable[3-Method]), \"\"),0)),\"\")","v":""},{"$f":"IFERROR(INDEX(PTable[3-Method],MATCH(0,IF(AT$1=PTable[2-Test],COUNTIF(AT$1:AT11,PTable[3-Method]), \"\"),0)),\"\")","v":""},{"$f":"IFERROR(INDEX(PTable[3-Method],MATCH(0,IF(AU$1=PTable[2-Test],COUNTIF(AU$1:AU11,PTable[3-Method]), \"\"),0)),\"\")","v":""},{"$f":"IFERROR(INDEX(PTable[3-Method],MATCH(0,IF(AV$1=PTable[2-Test],COUNTIF(AV$1:AV11,PTable[3-Method]), \"\"),0)),\"\")","v":""},{"$f":"IFERROR(INDEX(PTable[3-Method],MATCH(0,IF(AW$1=PTable[2-Test],COUNTIF(AW$1:AW11,PTable[3-Method]), \"\"),0)),\"\")","v":""},{"$f":"IFERROR(INDEX(PTable[3-Method],MATCH(0,IF(AX$1=PTable[2-Test],COUNTIF(AX$1:AX11,PTable[3-Method]), \"\"),0)),\"\")","v":""},{"$f":"IFERROR(INDEX(PTable[3-Method],MATCH(0,IF(AY$1=PTable[2-Test],COUNTIF(AY$1:AY11,PTable[3-Method]), \"\"),0)),\"\")","v":""},{"$f":"IFERROR(INDEX(PTable[3-Method],MATCH(0,IF(AZ$1=PTable[2-Test],COUNTIF(AZ$1:AZ11,PTable[3-Method]), \"\"),0)),\"\")","v":""},{"$f":"IFERROR(INDEX(PTable[3-Method],MATCH(0,IF(BA$1=PTable[2-Test],COUNTIF(BA$1:BA11,PTable[3-Method]), \"\"),0)),\"\")","v":""},{"$f":"IFERROR(INDEX(PTable[3-Method],MATCH(0,IF(BB$1=PTable[2-Test],COUNTIF(BB$1:BB11,PTable[3-Method]), \"\"),0)),\"\")","v":""},{"$f":"IFERROR(INDEX(PTable[3-Method],MATCH(0,IF(BC$1=PTable[2-Test],COUNTIF(BC$1:BC11,PTable[3-Method]), \"\"),0)),\"\")","v":""},{"$f":"IFERROR(INDEX(PTable[3-Method],MATCH(0,IF(BD$1=PTable[2-Test],COUNTIF(BD$1:BD11,PTable[3-Method]), \"\"),0)),\"\")","v":""},{"$f":"IFERROR(INDEX(PTable[3-Method],MATCH(0,IF(BE$1=PTable[2-Test],COUNTIF(BE$1:BE11,PTable[3-Method]), \"\"),0)),\"\")","v":""},{"$f":"IFERROR(INDEX(PTable[3-Method],MATCH(0,IF(BF$1=PTable[2-Test],COUNTIF(BF$1:BF11,PTable[3-Method]), \"\"),0)),\"\")","v":""},{"$f":"IFERROR(INDEX(PTable[3-Method],MATCH(0,IF(BG$1=PTable[2-Test],COUNTIF(BG$1:BG11,PTable[3-Method]), \"\"),0)),\"\")","v":""},{"$f":"IFERROR(INDEX(PTable[3-Method],MATCH(0,IF(BH$1=PTable[2-Test],COUNTIF(BH$1:BH11,PTable[3-Method]), \"\"),0)),\"\")","v":""},{"$f":"IFERROR(INDEX(PTable[3-Method],MATCH(0,IF(BI$1=PTable[2-Test],COUNTIF(BI$1:BI11,PTable[3-Method]), \"\"),0)),\"\")","v":""},{"$f":"IFERROR(INDEX(PTable[3-Method],MATCH(0,IF(BJ$1=PTable[2-Test],COUNTIF(BJ$1:BJ11,PTable[3-Method]), \"\"),0)),\"\")","v":""},{"$f":"IFERROR(INDEX(PTable[3-Method],MATCH(0,IF(BK$1=PTable[2-Test],COUNTIF(BK$1:BK11,PTable[3-Method]), \"\"),0)),\"\")","v":""},{"$f":"IFERROR(INDEX(PTable[3-Method],MATCH(0,IF(BL$1=PTable[2-Test],COUNTIF(BL$1:BL11,PTable[3-Method]), \"\"),0)),\"\")","v":"mUSPmL"},{"$f":"IFERROR(INDEX(PTable[3-Method],MATCH(0,IF(BM$1=PTable[2-Test],COUNTIF(BM$1:BM11,PTable[3-Method]), \"\"),0)),\"\")","v":""},{"$f":"IFERROR(INDEX(PTable[3-Method],MATCH(0,IF(BN$1=PTable[2-Test],COUNTIF(BN$1:BN11,PTable[3-Method]), \"\"),0)),\"\")","v":""},{"$f":"IFERROR(INDEX(PTable[3-Method],MATCH(0,IF(BO$1=PTable[2-Test],COUNTIF(BO$1:BO11,PTable[3-Method]), \"\"),0)),\"\")","v":""},{"$f":"IFERROR(INDEX(PTable[3-Method],MATCH(0,IF(BP$1=PTable[2-Test],COUNTIF(BP$1:BP11,PTable[3-Method]), \"\"),0)),\"\")","v":""},{"$f":"IFERROR(INDEX(PTable[3-Method],MATCH(0,IF(BQ$1=PTable[2-Test],COUNTIF(BQ$1:BQ11,PTable[3-Method]), \"\"),0)),\"\")","v":""},{"$f":"IFERROR(INDEX(PTable[3-Method],MATCH(0,IF(BR$1=PTable[2-Test],COUNTIF(BR$1:BR11,PTable[3-Method]), \"\"),0)),\"\")","v":""},{"$f":"IFERROR(INDEX(PTable[3-Method],MATCH(0,IF(BS$1=PTable[2-Test],COUNTIF(BS$1:BS11,PTable[3-Method]), \"\"),0)),\"\")","v":""},{"$f":"IFERROR(INDEX(PTable[3-Method],MATCH(0,IF(BT$1=PTable[2-Test],COUNTIF(BT$1:BT11,PTable[3-Method]), \"\"),0)),\"\")","v":""},{"$f":"IFERROR(INDEX(PTable[3-Method],MATCH(0,IF(BU$1=PTable[2-Test],COUNTIF(BU$1:BU11,PTable[3-Method]), \"\"),0)),\"\")","v":""},{"$f":"IFERROR(INDEX(PTable[3-Method],MATCH(0,IF(BV$1=PTable[2-Test],COUNTIF(BV$1:BV11,PTable[3-Method]), \"\"),0)),\"\")","v":""},{"$f":"IFERROR(INDEX(PTable[3-Method],MATCH(0,IF(BW$1=PTable[2-Test],COUNTIF(BW$1:BW11,PTable[3-Method]), \"\"),0)),\"\")","v":"mUSPmL"}]
[null,{"$f":"IFERROR(INDEX(PTable[2-Test],MATCH(0,IF(B$1=PTable[1-Type],COUNTIF(B$1:B12,PTable[2-Test]), \"\"),0)),\"\")","v":"C.perf"},{"$f":"IFERROR(INDEX(PTable[2-Test],MATCH(0,IF(C$1=PTable[1-Type],COUNTIF(C$1:C12,PTable[2-Test]), \"\"),0)),\"\")","v":"STEC"},{"$f":"IFERROR(INDEX(PTable[2-Test],MATCH(0,IF(D$1=PTable[1-Type],COUNTIF(D$1:D12,PTable[2-Test]), \"\"),0)),\"\")","v":""},{"$f":"IFERROR(INDEX(PTable[2-Test],MATCH(0,IF(E$1=PTable[1-Type],COUNTIF(E$1:E12,PTable[2-Test]), \"\"),0)),\"\")","v":""},{"$f":"IFERROR(INDEX(PTable[2-Test],MATCH(0,IF(F$1=PTable[1-Type],COUNTIF(F$1:F12,PTable[2-Test]), \"\"),0)),\"\")","v":"Milk"},{"$f":"IFERROR(INDEX(PTable[3-Method],MATCH(0,IF(G$1=PTable[2-Test],COUNTIF(G$1:G12,PTable[3-Method]), \"\"),0)),\"\")","v":""},{"$f":"IFERROR(INDEX(PTable[3-Method],MATCH(0,IF(H$1=PTable[2-Test],COUNTIF(H$1:H12,PTable[3-Method]), \"\"),0)),\"\")","v":""},{"$f":"IFERROR(INDEX(PTable[3-Method],MATCH(0,IF(I$1=PTable[2-Test],COUNTIF(I$1:I12,PTable[3-Method]), \"\"),0)),\"\")","v":""},{"$f":"IFERROR(INDEX(PTable[3-Method],MATCH(0,IF(J$1=PTable[2-Test],COUNTIF(J$1:J12,PTable[3-Method]), \"\"),0)),\"\")","v":""},{"$f":"IFERROR(INDEX(PTable[3-Method],MATCH(0,IF(K$1=PTable[2-Test],COUNTIF(K$1:K12,PTable[3-Method]), \"\"),0)),\"\")","v":""},{"$f":"IFERROR(INDEX(PTable[3-Method],MATCH(0,IF(L$1=PTable[2-Test],COUNTIF(L$1:L12,PTable[3-Method]), \"\"),0)),\"\")","v":""},{"$f":"IFERROR(INDEX(PTable[3-Method],MATCH(0,IF(M$1=PTable[2-Test],COUNTIF(M$1:M12,PTable[3-Method]), \"\"),0)),\"\")","v":""},{"$f":"IFERROR(INDEX(PTable[3-Method],MATCH(0,IF(N$1=PTable[2-Test],COUNTIF(N$1:N12,PTable[3-Method]), \"\"),0)),\"\")","v":""},{"$f":"IFERROR(INDEX(PTable[3-Method],MATCH(0,IF(O$1=PTable[2-Test],COUNTIF(O$1:O12,PTable[3-Method]), \"\"),0)),\"\")","v":""},{"$f":"IFERROR(INDEX(PTable[3-Method],MATCH(0,IF(P$1=PTable[2-Test],COUNTIF(P$1:P12,PTable[3-Method]), \"\"),0)),\"\")","v":""},{"$f":"IFERROR(INDEX(PTable[3-Method],MATCH(0,IF(Q$1=PTable[2-Test],COUNTIF(Q$1:Q12,PTable[3-Method]), \"\"),0)),\"\")","v":""},{"$f":"IFERROR(INDEX(PTable[3-Method],MATCH(0,IF(R$1=PTable[2-Test],COUNTIF(R$1:R12,PTable[3-Method]), \"\"),0)),\"\")","v":""},{"$f":"IFERROR(INDEX(PTable[3-Method],MATCH(0,IF(S$1=PTable[2-Test],COUNTIF(S$1:S12,PTable[3-Method]), \"\"),0)),\"\")","v":""},{"$f":"IFERROR(INDEX(PTable[3-Method],MATCH(0,IF(T$1=PTable[2-Test],COUNTIF(T$1:T12,PTable[3-Method]), \"\"),0)),\"\")","v":""},{"$f":"IFERROR(INDEX(PTable[3-Method],MATCH(0,IF(U$1=PTable[2-Test],COUNTIF(U$1:U12,PTable[3-Method]), \"\"),0)),\"\")","v":""},{"$f":"IFERROR(INDEX(PTable[3-Method],MATCH(0,IF(V$1=PTable[2-Test],COUNTIF(V$1:V12,PTable[3-Method]), \"\"),0)),\"\")","v":""},{"$f":"IFERROR(INDEX(PTable[3-Method],MATCH(0,IF(W$1=PTable[2-Test],COUNTIF(W$1:W12,PTable[3-Method]), \"\"),0)),\"\")","v":""},{"$f":"IFERROR(INDEX(PTable[3-Method],MATCH(0,IF(X$1=PTable[2-Test],COUNTIF(X$1:X12,PTable[3-Method]), \"\"),0)),\"\")","v":""},{"$f":"IFERROR(INDEX(PTable[3-Method],MATCH(0,IF(Y$1=PTable[2-Test],COUNTIF(Y$1:Y12,PTable[3-Method]), \"\"),0)),\"\")","v":""},{"$f":"IFERROR(INDEX(PTable[3-Method],MATCH(0,IF(Z$1=PTable[2-Test],COUNTIF(Z$1:Z12,PTable[3-Method]), \"\"),0)),\"\")","v":""},{"$f":"IFERROR(INDEX(PTable[3-Method],MATCH(0,IF(AA$1=PTable[2-Test],COUNTIF(AA$1:AA12,PTable[3-Method]), \"\"),0)),\"\")","v":""},{"$f":"IFERROR(INDEX(PTable[3-Method],MATCH(0,IF(AB$1=PTable[2-Test],COUNTIF(AB$1:AB12,PTable[3-Method]), \"\"),0)),\"\")","v":""},{"$f":"IFERROR(INDEX(PTable[3-Method],MATCH(0,IF(AC$1=PTable[2-Test],COUNTIF(AC$1:AC12,PTable[3-Method]), \"\"),0)),\"\")","v":""},{"$f":"IFERROR(INDEX(PTable[3-Method],MATCH(0,IF(AD$1=PTable[2-Test],COUNTIF(AD$1:AD12,PTable[3-Method]), \"\"),0)),\"\")","v":""},{"$f":"IFERROR(INDEX(PTable[3-Method],MATCH(0,IF(AE$1=PTable[2-Test],COUNTIF(AE$1:AE12,PTable[3-Method]), \"\"),0)),\"\")","v":""},{"$f":"IFERROR(INDEX(PTable[3-Method],MATCH(0,IF(AF$1=PTable[2-Test],COUNTIF(AF$1:AF12,PTable[3-Method]), \"\"),0)),\"\")","v":""},{"$f":"IFERROR(INDEX(PTable[3-Method],MATCH(0,IF(AG$1=PTable[2-Test],COUNTIF(AG$1:AG12,PTable[3-Method]), \"\"),0)),\"\")","v":""},{"$f":"IFERROR(INDEX(PTable[3-Method],MATCH(0,IF(AH$1=PTable[2-Test],COUNTIF(AH$1:AH12,PTable[3-Method]), \"\"),0)),\"\")","v":""},{"$f":"IFERROR(INDEX(PTable[3-Method],MATCH(0,IF(AI$1=PTable[2-Test],COUNTIF(AI$1:AI12,PTable[3-Method]), \"\"),0)),\"\")","v":""},{"$f":"IFERROR(INDEX(PTable[3-Method],MATCH(0,IF(AJ$1=PTable[2-Test],COUNTIF(AJ$1:AJ12,PTable[3-Method]), \"\"),0)),\"\")","v":""},{"$f":"IFERROR(INDEX(PTable[3-Method],MATCH(0,IF(AK$1=PTable[2-Test],COUNTIF(AK$1:AK12,PTable[3-Method]), \"\"),0)),\"\")","v":""},{"$f":"IFERROR(INDEX(PTable[3-Method],MATCH(0,IF(AL$1=PTable[2-Test],COUNTIF(AL$1:AL12,PTable[3-Method]), \"\"),0)),\"\")","v":""},{"$f":"IFERROR(INDEX(PTable[3-Method],MATCH(0,IF(AM$1=PTable[2-Test],COUNTIF(AM$1:AM12,PTable[3-Method]), \"\"),0)),\"\")","v":""},{"$f":"IFERROR(INDEX(PTable[3-Method],MATCH(0,IF(AN$1=PTable[2-Test],COUNTIF(AN$1:AN12,PTable[3-Method]), \"\"),0)),\"\")","v":""},{"$f":"IFERROR(INDEX(PTable[3-Method],MATCH(0,IF(AO$1=PTable[2-Test],COUNTIF(AO$1:AO12,PTable[3-Method]), \"\"),0)),\"\")","v":""},{"$f":"IFERROR(INDEX(PTable[3-Method],MATCH(0,IF(AP$1=PTable[2-Test],COUNTIF(AP$1:AP12,PTable[3-Method]), \"\"),0)),\"\")","v":""},{"$f":"IFERROR(INDEX(PTable[3-Method],MATCH(0,IF(AQ$1=PTable[2-Test],COUNTIF(AQ$1:AQ12,PTable[3-Method]), \"\"),0)),\"\")","v":""},{"$f":"IFERROR(INDEX(PTable[3-Method],MATCH(0,IF(AR$1=PTable[2-Test],COUNTIF(AR$1:AR12,PTable[3-Method]), \"\"),0)),\"\")","v":""},{"$f":"IFERROR(INDEX(PTable[3-Method],MATCH(0,IF(AS$1=PTable[2-Test],COUNTIF(AS$1:AS12,PTable[3-Method]), \"\"),0)),\"\")","v":""},{"$f":"IFERROR(INDEX(PTable[3-Method],MATCH(0,IF(AT$1=PTable[2-Test],COUNTIF(AT$1:AT12,PTable[3-Method]), \"\"),0)),\"\")","v":""},{"$f":"IFERROR(INDEX(PTable[3-Method],MATCH(0,IF(AU$1=PTable[2-Test],COUNTIF(AU$1:AU12,PTable[3-Method]), \"\"),0)),\"\")","v":""},{"$f":"IFERROR(INDEX(PTable[3-Method],MATCH(0,IF(AV$1=PTable[2-Test],COUNTIF(AV$1:AV12,PTable[3-Method]), \"\"),0)),\"\")","v":""},{"$f":"IFERROR(INDEX(PTable[3-Method],MATCH(0,IF(AW$1=PTable[2-Test],COUNTIF(AW$1:AW12,PTable[3-Method]), \"\"),0)),\"\")","v":""},{"$f":"IFERROR(INDEX(PTable[3-Method],MATCH(0,IF(AX$1=PTable[2-Test],COUNTIF(AX$1:AX12,PTable[3-Method]), \"\"),0)),\"\")","v":""},{"$f":"IFERROR(INDEX(PTable[3-Method],MATCH(0,IF(AY$1=PTable[2-Test],COUNTIF(AY$1:AY12,PTable[3-Method]), \"\"),0)),\"\")","v":""},{"$f":"IFERROR(INDEX(PTable[3-Method],MATCH(0,IF(AZ$1=PTable[2-Test],COUNTIF(AZ$1:AZ12,PTable[3-Method]), \"\"),0)),\"\")","v":""},{"$f":"IFERROR(INDEX(PTable[3-Method],MATCH(0,IF(BA$1=PTable[2-Test],COUNTIF(BA$1:BA12,PTable[3-Method]), \"\"),0)),\"\")","v":""},{"$f":"IFERROR(INDEX(PTable[3-Method],MATCH(0,IF(BB$1=PTable[2-Test],COUNTIF(BB$1:BB12,PTable[3-Method]), \"\"),0)),\"\")","v":""},{"$f":"IFERROR(INDEX(PTable[3-Method],MATCH(0,IF(BC$1=PTable[2-Test],COUNTIF(BC$1:BC12,PTable[3-Method]), \"\"),0)),\"\")","v":""},{"$f":"IFERROR(INDEX(PTable[3-Method],MATCH(0,IF(BD$1=PTable[2-Test],COUNTIF(BD$1:BD12,PTable[3-Method]), \"\"),0)),\"\")","v":""},{"$f":"IFERROR(INDEX(PTable[3-Method],MATCH(0,IF(BE$1=PTable[2-Test],COUNTIF(BE$1:BE12,PTable[3-Method]), \"\"),0)),\"\")","v":""},{"$f":"IFERROR(INDEX(PTable[3-Method],MATCH(0,IF(BF$1=PTable[2-Test],COUNTIF(BF$1:BF12,PTable[3-Method]), \"\"),0)),\"\")","v":""},{"$f":"IFERROR(INDEX(PTable[3-Method],MATCH(0,IF(BG$1=PTable[2-Test],COUNTIF(BG$1:BG12,PTable[3-Method]), \"\"),0)),\"\")","v":""},{"$f":"IFERROR(INDEX(PTable[3-Method],MATCH(0,IF(BH$1=PTable[2-Test],COUNTIF(BH$1:BH12,PTable[3-Method]), \"\"),0)),\"\")","v":""},{"$f":"IFERROR(INDEX(PTable[3-Method],MATCH(0,IF(BI$1=PTable[2-Test],COUNTIF(BI$1:BI12,PTable[3-Method]), \"\"),0)),\"\")","v":""},{"$f":"IFERROR(INDEX(PTable[3-Method],MATCH(0,IF(BJ$1=PTable[2-Test],COUNTIF(BJ$1:BJ12,PTable[3-Method]), \"\"),0)),\"\")","v":""},{"$f":"IFERROR(INDEX(PTable[3-Method],MATCH(0,IF(BK$1=PTable[2-Test],COUNTIF(BK$1:BK12,PTable[3-Method]), \"\"),0)),\"\")","v":""},{"$f":"IFERROR(INDEX(PTable[3-Method],MATCH(0,IF(BL$1=PTable[2-Test],COUNTIF(BL$1:BL12,PTable[3-Method]), \"\"),0)),\"\")","v":"mUSPs"},{"$f":"IFERROR(INDEX(PTable[3-Method],MATCH(0,IF(BM$1=PTable[2-Test],COUNTIF(BM$1:BM12,PTable[3-Method]), \"\"),0)),\"\")","v":""},{"$f":"IFERROR(INDEX(PTable[3-Method],MATCH(0,IF(BN$1=PTable[2-Test],COUNTIF(BN$1:BN12,PTable[3-Method]), \"\"),0)),\"\")","v":""},{"$f":"IFERROR(INDEX(PTable[3-Method],MATCH(0,IF(BO$1=PTable[2-Test],COUNTIF(BO$1:BO12,PTable[3-Method]), \"\"),0)),\"\")","v":""},{"$f":"IFERROR(INDEX(PTable[3-Method],MATCH(0,IF(BP$1=PTable[2-Test],COUNTIF(BP$1:BP12,PTable[3-Method]), \"\"),0)),\"\")","v":""},{"$f":"IFERROR(INDEX(PTable[3-Method],MATCH(0,IF(BQ$1=PTable[2-Test],COUNTIF(BQ$1:BQ12,PTable[3-Method]), \"\"),0)),\"\")","v":""},{"$f":"IFERROR(INDEX(PTable[3-Method],MATCH(0,IF(BR$1=PTable[2-Test],COUNTIF(BR$1:BR12,PTable[3-Method]), \"\"),0)),\"\")","v":""},{"$f":"IFERROR(INDEX(PTable[3-Method],MATCH(0,IF(BS$1=PTable[2-Test],COUNTIF(BS$1:BS12,PTable[3-Method]), \"\"),0)),\"\")","v":""},{"$f":"IFERROR(INDEX(PTable[3-Method],MATCH(0,IF(BT$1=PTable[2-Test],COUNTIF(BT$1:BT12,PTable[3-Method]), \"\"),0)),\"\")","v":""},{"$f":"IFERROR(INDEX(PTable[3-Method],MATCH(0,IF(BU$1=PTable[2-Test],COUNTIF(BU$1:BU12,PTable[3-Method]), \"\"),0)),\"\")","v":""},{"$f":"IFERROR(INDEX(PTable[3-Method],MATCH(0,IF(BV$1=PTable[2-Test],COUNTIF(BV$1:BV12,PTable[3-Method]), \"\"),0)),\"\")","v":""},{"$f":"IFERROR(INDEX(PTable[3-Method],MATCH(0,IF(BW$1=PTable[2-Test],COUNTIF(BW$1:BW12,PTable[3-Method]), \"\"),0)),\"\")","v":"mUSPs"}]
[null,{"$f":"IFERROR(INDEX(PTable[2-Test],MATCH(0,IF(B$1=PTable[1-Type],COUNTIF(B$1:B13,PTable[2-Test]), \"\"),0)),\"\")","v":"COLI"},{"$f":"IFERROR(INDEX(PTable[2-Test],MATCH(0,IF(C$1=PTable[1-Type],COUNTIF(C$1:C13,PTable[2-Test]), \"\"),0)),\"\")","v":""},{"$f":"IFERROR(INDEX(PTable[2-Test],MATCH(0,IF(D$1=PTable[1-Type],COUNTIF(D$1:D13,PTable[2-Test]), \"\"),0)),\"\")","v":""},{"$f":"IFERROR(INDEX(PTable[2-Test],MATCH(0,IF(E$1=PTable[1-Type],COUNTIF(E$1:E13,PTable[2-Test]), \"\"),0)),\"\")","v":""},{"$f":"IFERROR(INDEX(PTable[2-Test],MATCH(0,IF(F$1=PTable[1-Type],COUNTIF(F$1:F13,PTable[2-Test]), \"\"),0)),\"\")","v":"Peanut"},{"$f":"IFERROR(INDEX(PTable[3-Method],MATCH(0,IF(G$1=PTable[2-Test],COUNTIF(G$1:G13,PTable[3-Method]), \"\"),0)),\"\")","v":""},{"$f":"IFERROR(INDEX(PTable[3-Method],MATCH(0,IF(H$1=PTable[2-Test],COUNTIF(H$1:H13,PTable[3-Method]), \"\"),0)),\"\")","v":""},{"$f":"IFERROR(INDEX(PTable[3-Method],MATCH(0,IF(I$1=PTable[2-Test],COUNTIF(I$1:I13,PTable[3-Method]), \"\"),0)),\"\")","v":""},{"$f":"IFERROR(INDEX(PTable[3-Method],MATCH(0,IF(J$1=PTable[2-Test],COUNTIF(J$1:J13,PTable[3-Method]), \"\"),0)),\"\")","v":""},{"$f":"IFERROR(INDEX(PTable[3-Method],MATCH(0,IF(K$1=PTable[2-Test],COUNTIF(K$1:K13,PTable[3-Method]), \"\"),0)),\"\")","v":""},{"$f":"IFERROR(INDEX(PTable[3-Method],MATCH(0,IF(L$1=PTable[2-Test],COUNTIF(L$1:L13,PTable[3-Method]), \"\"),0)),\"\")","v":""},{"$f":"IFERROR(INDEX(PTable[3-Method],MATCH(0,IF(M$1=PTable[2-Test],COUNTIF(M$1:M13,PTable[3-Method]), \"\"),0)),\"\")","v":""},{"$f":"IFERROR(INDEX(PTable[3-Method],MATCH(0,IF(N$1=PTable[2-Test],COUNTIF(N$1:N13,PTable[3-Method]), \"\"),0)),\"\")","v":""},{"$f":"IFERROR(INDEX(PTable[3-Method],MATCH(0,IF(O$1=PTable[2-Test],COUNTIF(O$1:O13,PTable[3-Method]), \"\"),0)),\"\")","v":""},{"$f":"IFERROR(INDEX(PTable[3-Method],MATCH(0,IF(P$1=PTable[2-Test],COUNTIF(P$1:P13,PTable[3-Method]), \"\"),0)),\"\")","v":""},{"$f":"IFERROR(INDEX(PTable[3-Method],MATCH(0,IF(Q$1=PTable[2-Test],COUNTIF(Q$1:Q13,PTable[3-Method]), \"\"),0)),\"\")","v":""},{"$f":"IFERROR(INDEX(PTable[3-Method],MATCH(0,IF(R$1=PTable[2-Test],COUNTIF(R$1:R13,PTable[3-Method]), \"\"),0)),\"\")","v":""},{"$f":"IFERROR(INDEX(PTable[3-Method],MATCH(0,IF(S$1=PTable[2-Test],COUNTIF(S$1:S13,PTable[3-Method]), \"\"),0)),\"\")","v":""},{"$f":"IFERROR(INDEX(PTable[3-Method],MATCH(0,IF(T$1=PTable[2-Test],COUNTIF(T$1:T13,PTable[3-Method]), \"\"),0)),\"\")","v":""},{"$f":"IFERROR(INDEX(PTable[3-Method],MATCH(0,IF(U$1=PTable[2-Test],COUNTIF(U$1:U13,PTable[3-Method]), \"\"),0)),\"\")","v":""},{"$f":"IFERROR(INDEX(PTable[3-Method],MATCH(0,IF(V$1=PTable[2-Test],COUNTIF(V$1:V13,PTable[3-Method]), \"\"),0)),\"\")","v":""},{"$f":"IFERROR(INDEX(PTable[3-Method],MATCH(0,IF(W$1=PTable[2-Test],COUNTIF(W$1:W13,PTable[3-Method]), \"\"),0)),\"\")","v":""},{"$f":"IFERROR(INDEX(PTable[3-Method],MATCH(0,IF(X$1=PTable[2-Test],COUNTIF(X$1:X13,PTable[3-Method]), \"\"),0)),\"\")","v":""},{"$f":"IFERROR(INDEX(PTable[3-Method],MATCH(0,IF(Y$1=PTable[2-Test],COUNTIF(Y$1:Y13,PTable[3-Method]), \"\"),0)),\"\")","v":""},{"$f":"IFERROR(INDEX(PTable[3-Method],MATCH(0,IF(Z$1=PTable[2-Test],COUNTIF(Z$1:Z13,PTable[3-Method]), \"\"),0)),\"\")","v":""},{"$f":"IFERROR(INDEX(PTable[3-Method],MATCH(0,IF(AA$1=PTable[2-Test],COUNTIF(AA$1:AA13,PTable[3-Method]), \"\"),0)),\"\")","v":""},{"$f":"IFERROR(INDEX(PTable[3-Method],MATCH(0,IF(AB$1=PTable[2-Test],COUNTIF(AB$1:AB13,PTable[3-Method]), \"\"),0)),\"\")","v":""},{"$f":"IFERROR(INDEX(PTable[3-Method],MATCH(0,IF(AC$1=PTable[2-Test],COUNTIF(AC$1:AC13,PTable[3-Method]), \"\"),0)),\"\")","v":""},{"$f":"IFERROR(INDEX(PTable[3-Method],MATCH(0,IF(AD$1=PTable[2-Test],COUNTIF(AD$1:AD13,PTable[3-Method]), \"\"),0)),\"\")","v":""},{"$f":"IFERROR(INDEX(PTable[3-Method],MATCH(0,IF(AE$1=PTable[2-Test],COUNTIF(AE$1:AE13,PTable[3-Method]), \"\"),0)),\"\")","v":""},{"$f":"IFERROR(INDEX(PTable[3-Method],MATCH(0,IF(AF$1=PTable[2-Test],COUNTIF(AF$1:AF13,PTable[3-Method]), \"\"),0)),\"\")","v":""},{"$f":"IFERROR(INDEX(PTable[3-Method],MATCH(0,IF(AG$1=PTable[2-Test],COUNTIF(AG$1:AG13,PTable[3-Method]), \"\"),0)),\"\")","v":""},{"$f":"IFERROR(INDEX(PTable[3-Method],MATCH(0,IF(AH$1=PTable[2-Test],COUNTIF(AH$1:AH13,PTable[3-Method]), \"\"),0)),\"\")","v":""},{"$f":"IFERROR(INDEX(PTable[3-Method],MATCH(0,IF(AI$1=PTable[2-Test],COUNTIF(AI$1:AI13,PTable[3-Method]), \"\"),0)),\"\")","v":""},{"$f":"IFERROR(INDEX(PTable[3-Method],MATCH(0,IF(AJ$1=PTable[2-Test],COUNTIF(AJ$1:AJ13,PTable[3-Method]), \"\"),0)),\"\")","v":""},{"$f":"IFERROR(INDEX(PTable[3-Method],MATCH(0,IF(AK$1=PTable[2-Test],COUNTIF(AK$1:AK13,PTable[3-Method]), \"\"),0)),\"\")","v":""},{"$f":"IFERROR(INDEX(PTable[3-Method],MATCH(0,IF(AL$1=PTable[2-Test],COUNTIF(AL$1:AL13,PTable[3-Method]), \"\"),0)),\"\")","v":""},{"$f":"IFERROR(INDEX(PTable[3-Method],MATCH(0,IF(AM$1=PTable[2-Test],COUNTIF(AM$1:AM13,PTable[3-Method]), \"\"),0)),\"\")","v":""},{"$f":"IFERROR(INDEX(PTable[3-Method],MATCH(0,IF(AN$1=PTable[2-Test],COUNTIF(AN$1:AN13,PTable[3-Method]), \"\"),0)),\"\")","v":""},{"$f":"IFERROR(INDEX(PTable[3-Method],MATCH(0,IF(AO$1=PTable[2-Test],COUNTIF(AO$1:AO13,PTable[3-Method]), \"\"),0)),\"\")","v":""},{"$f":"IFERROR(INDEX(PTable[3-Method],MATCH(0,IF(AP$1=PTable[2-Test],COUNTIF(AP$1:AP13,PTable[3-Method]), \"\"),0)),\"\")","v":""},{"$f":"IFERROR(INDEX(PTable[3-Method],MATCH(0,IF(AQ$1=PTable[2-Test],COUNTIF(AQ$1:AQ13,PTable[3-Method]), \"\"),0)),\"\")","v":""},{"$f":"IFERROR(INDEX(PTable[3-Method],MATCH(0,IF(AR$1=PTable[2-Test],COUNTIF(AR$1:AR13,PTable[3-Method]), \"\"),0)),\"\")","v":""},{"$f":"IFERROR(INDEX(PTable[3-Method],MATCH(0,IF(AS$1=PTable[2-Test],COUNTIF(AS$1:AS13,PTable[3-Method]), \"\"),0)),\"\")","v":""},{"$f":"IFERROR(INDEX(PTable[3-Method],MATCH(0,IF(AT$1=PTable[2-Test],COUNTIF(AT$1:AT13,PTable[3-Method]), \"\"),0)),\"\")","v":""},{"$f":"IFERROR(INDEX(PTable[3-Method],MATCH(0,IF(AU$1=PTable[2-Test],COUNTIF(AU$1:AU13,PTable[3-Method]), \"\"),0)),\"\")","v":""},{"$f":"IFERROR(INDEX(PTable[3-Method],MATCH(0,IF(AV$1=PTable[2-Test],COUNTIF(AV$1:AV13,PTable[3-Method]), \"\"),0)),\"\")","v":""},{"$f":"IFERROR(INDEX(PTable[3-Method],MATCH(0,IF(AW$1=PTable[2-Test],COUNTIF(AW$1:AW13,PTable[3-Method]), \"\"),0)),\"\")","v":""},{"$f":"IFERROR(INDEX(PTable[3-Method],MATCH(0,IF(AX$1=PTable[2-Test],COUNTIF(AX$1:AX13,PTable[3-Method]), \"\"),0)),\"\")","v":""},{"$f":"IFERROR(INDEX(PTable[3-Method],MATCH(0,IF(AY$1=PTable[2-Test],COUNTIF(AY$1:AY13,PTable[3-Method]), \"\"),0)),\"\")","v":""},{"$f":"IFERROR(INDEX(PTable[3-Method],MATCH(0,IF(AZ$1=PTable[2-Test],COUNTIF(AZ$1:AZ13,PTable[3-Method]), \"\"),0)),\"\")","v":""},{"$f":"IFERROR(INDEX(PTable[3-Method],MATCH(0,IF(BA$1=PTable[2-Test],COUNTIF(BA$1:BA13,PTable[3-Method]), \"\"),0)),\"\")","v":""},{"$f":"IFERROR(INDEX(PTable[3-Method],MATCH(0,IF(BB$1=PTable[2-Test],COUNTIF(BB$1:BB13,PTable[3-Method]), \"\"),0)),\"\")","v":""},{"$f":"IFERROR(INDEX(PTable[3-Method],MATCH(0,IF(BC$1=PTable[2-Test],COUNTIF(BC$1:BC13,PTable[3-Method]), \"\"),0)),\"\")","v":""},{"$f":"IFERROR(INDEX(PTable[3-Method],MATCH(0,IF(BD$1=PTable[2-Test],COUNTIF(BD$1:BD13,PTable[3-Method]), \"\"),0)),\"\")","v":""},{"$f":"IFERROR(INDEX(PTable[3-Method],MATCH(0,IF(BE$1=PTable[2-Test],COUNTIF(BE$1:BE13,PTable[3-Method]), \"\"),0)),\"\")","v":""},{"$f":"IFERROR(INDEX(PTable[3-Method],MATCH(0,IF(BF$1=PTable[2-Test],COUNTIF(BF$1:BF13,PTable[3-Method]), \"\"),0)),\"\")","v":""},{"$f":"IFERROR(INDEX(PTable[3-Method],MATCH(0,IF(BG$1=PTable[2-Test],COUNTIF(BG$1:BG13,PTable[3-Method]), \"\"),0)),\"\")","v":""},{"$f":"IFERROR(INDEX(PTable[3-Method],MATCH(0,IF(BH$1=PTable[2-Test],COUNTIF(BH$1:BH13,PTable[3-Method]), \"\"),0)),\"\")","v":""},{"$f":"IFERROR(INDEX(PTable[3-Method],MATCH(0,IF(BI$1=PTable[2-Test],COUNTIF(BI$1:BI13,PTable[3-Method]), \"\"),0)),\"\")","v":""},{"$f":"IFERROR(INDEX(PTable[3-Method],MATCH(0,IF(BJ$1=PTable[2-Test],COUNTIF(BJ$1:BJ13,PTable[3-Method]), \"\"),0)),\"\")","v":""},{"$f":"IFERROR(INDEX(PTable[3-Method],MATCH(0,IF(BK$1=PTable[2-Test],COUNTIF(BK$1:BK13,PTable[3-Method]), \"\"),0)),\"\")","v":""},{"$f":"IFERROR(INDEX(PTable[3-Method],MATCH(0,IF(BL$1=PTable[2-Test],COUNTIF(BL$1:BL13,PTable[3-Method]), \"\"),0)),\"\")","v":""},{"$f":"IFERROR(INDEX(PTable[3-Method],MATCH(0,IF(BM$1=PTable[2-Test],COUNTIF(BM$1:BM13,PTable[3-Method]), \"\"),0)),\"\")","v":""},{"$f":"IFERROR(INDEX(PTable[3-Method],MATCH(0,IF(BN$1=PTable[2-Test],COUNTIF(BN$1:BN13,PTable[3-Method]), \"\"),0)),\"\")","v":""},{"$f":"IFERROR(INDEX(PTable[3-Method],MATCH(0,IF(BO$1=PTable[2-Test],COUNTIF(BO$1:BO13,PTable[3-Method]), \"\"),0)),\"\")","v":""},{"$f":"IFERROR(INDEX(PTable[3-Method],MATCH(0,IF(BP$1=PTable[2-Test],COUNTIF(BP$1:BP13,PTable[3-Method]), \"\"),0)),\"\")","v":""},{"$f":"IFERROR(INDEX(PTable[3-Method],MATCH(0,IF(BQ$1=PTable[2-Test],COUNTIF(BQ$1:BQ13,PTable[3-Method]), \"\"),0)),\"\")","v":""},{"$f":"IFERROR(INDEX(PTable[3-Method],MATCH(0,IF(BR$1=PTable[2-Test],COUNTIF(BR$1:BR13,PTable[3-Method]), \"\"),0)),\"\")","v":""},{"$f":"IFERROR(INDEX(PTable[3-Method],MATCH(0,IF(BS$1=PTable[2-Test],COUNTIF(BS$1:BS13,PTable[3-Method]), \"\"),0)),\"\")","v":""},{"$f":"IFERROR(INDEX(PTable[3-Method],MATCH(0,IF(BT$1=PTable[2-Test],COUNTIF(BT$1:BT13,PTable[3-Method]), \"\"),0)),\"\")","v":""},{"$f":"IFERROR(INDEX(PTable[3-Method],MATCH(0,IF(BU$1=PTable[2-Test],COUNTIF(BU$1:BU13,PTable[3-Method]), \"\"),0)),\"\")","v":""},{"$f":"IFERROR(INDEX(PTable[3-Method],MATCH(0,IF(BV$1=PTable[2-Test],COUNTIF(BV$1:BV13,PTable[3-Method]), \"\"),0)),\"\")","v":""},{"$f":"IFERROR(INDEX(PTable[3-Method],MATCH(0,IF(BW$1=PTable[2-Test],COUNTIF(BW$1:BW13,PTable[3-Method]), \"\"),0)),\"\")","v":""}]
[null,{"$f":"IFERROR(INDEX(PTable[2-Test],MATCH(0,IF(B$1=PTable[1-Type],COUNTIF(B$1:B14,PTable[2-Test]), \"\"),0)),\"\")","v":"COLI32"},{"$f":"IFERROR(INDEX(PTable[2-Test],MATCH(0,IF(C$1=PTable[1-Type],COUNTIF(C$1:C14,PTable[2-Test]), \"\"),0)),\"\")","v":""},{"$f":"IFERROR(INDEX(PTable[2-Test],MATCH(0,IF(D$1=PTable[1-Type],COUNTIF(D$1:D14,PTable[2-Test]), \"\"),0)),\"\")","v":""},{"$f":"IFERROR(INDEX(PTable[2-Test],MATCH(0,IF(E$1=PTable[1-Type],COUNTIF(E$1:E14,PTable[2-Test]), \"\"),0)),\"\")","v":""},{"$f":"IFERROR(INDEX(PTable[2-Test],MATCH(0,IF(F$1=PTable[1-Type],COUNTIF(F$1:F14,PTable[2-Test]), \"\"),0)),\"\")","v":"Pecan"}]
[null,{"$f":"IFERROR(INDEX(PTable[2-Test],MATCH(0,IF(B$1=PTable[1-Type],COUNTIF(B$1:B15,PTable[2-Test]), \"\"),0)),\"\")","v":"EB"},{"$f":"IFERROR(INDEX(PTable[2-Test],MATCH(0,IF(C$1=PTable[1-Type],COUNTIF(C$1:C15,PTable[2-Test]), \"\"),0)),\"\")","v":""},{"$f":"IFERROR(INDEX(PTable[2-Test],MATCH(0,IF(D$1=PTable[1-Type],COUNTIF(D$1:D15,PTable[2-Test]), \"\"),0)),\"\")","v":""},{"$f":"IFERROR(INDEX(PTable[2-Test],MATCH(0,IF(E$1=PTable[1-Type],COUNTIF(E$1:E15,PTable[2-Test]), \"\"),0)),\"\")","v":""},{"$f":"IFERROR(INDEX(PTable[2-Test],MATCH(0,IF(F$1=PTable[1-Type],COUNTIF(F$1:F15,PTable[2-Test]), \"\"),0)),\"\")","v":"Pine"}]
[null,{"$f":"IFERROR(INDEX(PTable[2-Test],MATCH(0,IF(B$1=PTable[1-Type],COUNTIF(B$1:B16,PTable[2-Test]), \"\"),0)),\"\")","v":"EC"},{"$f":"IFERROR(INDEX(PTable[2-Test],MATCH(0,IF(C$1=PTable[1-Type],COUNTIF(C$1:C16,PTable[2-Test]), \"\"),0)),\"\")","v":""},{"$f":"IFERROR(INDEX(PTable[2-Test],MATCH(0,IF(D$1=PTable[1-Type],COUNTIF(D$1:D16,PTable[2-Test]), \"\"),0)),\"\")","v":""},{"$f":"IFERROR(INDEX(PTable[2-Test],MATCH(0,IF(E$1=PTable[1-Type],COUNTIF(E$1:E16,PTable[2-Test]), \"\"),0)),\"\")","v":""},{"$f":"IFERROR(INDEX(PTable[2-Test],MATCH(0,IF(F$1=PTable[1-Type],COUNTIF(F$1:F16,PTable[2-Test]), \"\"),0)),\"\")","v":"Pist"}]
[null,{"$f":"IFERROR(INDEX(PTable[2-Test],MATCH(0,IF(B$1=PTable[1-Type],COUNTIF(B$1:B17,PTable[2-Test]), \"\"),0)),\"\")","v":"Fec.COLI"},{"$f":"IFERROR(INDEX(PTable[2-Test],MATCH(0,IF(C$1=PTable[1-Type],COUNTIF(C$1:C17,PTable[2-Test]), \"\"),0)),\"\")","v":""},{"$f":"IFERROR(INDEX(PTable[2-Test],MATCH(0,IF(D$1=PTable[1-Type],COUNTIF(D$1:D17,PTable[2-Test]), \"\"),0)),\"\")","v":""},{"$f":"IFERROR(INDEX(PTable[2-Test],MATCH(0,IF(E$1=PTable[1-Type],COUNTIF(E$1:E17,PTable[2-Test]), \"\"),0)),\"\")","v":""},{"$f":"IFERROR(INDEX(PTable[2-Test],MATCH(0,IF(F$1=PTable[1-Type],COUNTIF(F$1:F17,PTable[2-Test]), \"\"),0)),\"\")","v":"Sesame"}]
[null,{"$f":"IFERROR(INDEX(PTable[2-Test],MATCH(0,IF(B$1=PTable[1-Type],COUNTIF(B$1:B18,PTable[2-Test]), \"\"),0)),\"\")","v":"LAB"},{"$f":"IFERROR(INDEX(PTable[2-Test],MATCH(0,IF(C$1=PTable[1-Type],COUNTIF(C$1:C18,PTable[2-Test]), \"\"),0)),\"\")","v":""},{"$f":"IFERROR(INDEX(PTable[2-Test],MATCH(0,IF(D$1=PTable[1-Type],COUNTIF(D$1:D18,PTable[2-Test]), \"\"),0)),\"\")","v":""},{"$f":"IFERROR(INDEX(PTable[2-Test],MATCH(0,IF(E$1=PTable[1-Type],COUNTIF(E$1:E18,PTable[2-Test]), \"\"),0)),\"\")","v":""},{"$f":"IFERROR(INDEX(PTable[2-Test],MATCH(0,IF(F$1=PTable[1-Type],COUNTIF(F$1:F18,PTable[2-Test]), \"\"),0)),\"\")","v":"Soy"}]
[null,{"$f":"IFERROR(INDEX(PTable[2-Test],MATCH(0,IF(B$1=PTable[1-Type],COUNTIF(B$1:B19,PTable[2-Test]), \"\"),0)),\"\")","v":"Leuco"},{"$f":"IFERROR(INDEX(PTable[2-Test],MATCH(0,IF(C$1=PTable[1-Type],COUNTIF(C$1:C19,PTable[2-Test]), \"\"),0)),\"\")","v":""},{"$f":"IFERROR(INDEX(PTable[2-Test],MATCH(0,IF(D$1=PTable[1-Type],COUNTIF(D$1:D19,PTable[2-Test]), \"\"),0)),\"\")","v":""},{"$f":"IFERROR(INDEX(PTable[2-Test],MATCH(0,IF(E$1=PTable[1-Type],COUNTIF(E$1:E19,PTable[2-Test]), \"\"),0)),\"\")","v":""},{"$f":"IFERROR(INDEX(PTable[2-Test],MATCH(0,IF(F$1=PTable[1-Type],COUNTIF(F$1:F19,PTable[2-Test]), \"\"),0)),\"\")","v":"Walnut"}]
[null,{"$f":"IFERROR(INDEX(PTable[2-Test],MATCH(0,IF(B$1=PTable[1-Type],COUNTIF(B$1:B20,PTable[2-Test]), \"\"),0)),\"\")","v":"M"},{"$f":"IFERROR(INDEX(PTable[2-Test],MATCH(0,IF(C$1=PTable[1-Type],COUNTIF(C$1:C20,PTable[2-Test]), \"\"),0)),\"\")","v":""},{"$f":"IFERROR(INDEX(PTable[2-Test],MATCH(0,IF(D$1=PTable[1-Type],COUNTIF(D$1:D20,PTable[2-Test]), \"\"),0)),\"\")","v":""},{"$f":"IFERROR(INDEX(PTable[2-Test],MATCH(0,IF(E$1=PTable[1-Type],COUNTIF(E$1:E20,PTable[2-Test]), \"\"),0)),\"\")","v":""},{"$f":"IFERROR(INDEX(PTable[2-Test],MATCH(0,IF(F$1=PTable[1-Type],COUNTIF(F$1:F20,PTable[2-Test]), \"\"),0)),\"\")","v":""}]
[null,{"$f":"IFERROR(INDEX(PTable[2-Test],MATCH(0,IF(B$1=PTable[1-Type],COUNTIF(B$1:B21,PTable[2-Test]), \"\"),0)),\"\")","v":"Os.APC25"},{"$f":"IFERROR(INDEX(PTable[2-Test],MATCH(0,IF(C$1=PTable[1-Type],COUNTIF(C$1:C21,PTable[2-Test]), \"\"),0)),\"\")","v":""},{"$f":"IFERROR(INDEX(PTable[2-Test],MATCH(0,IF(D$1=PTable[1-Type],COUNTIF(D$1:D21,PTable[2-Test]), \"\"),0)),\"\")","v":""},{"$f":"IFERROR(INDEX(PTable[2-Test],MATCH(0,IF(E$1=PTable[1-Type],COUNTIF(E$1:E21,PTable[2-Test]), \"\"),0)),\"\")","v":""},{"$f":"IFERROR(INDEX(PTable[2-Test],MATCH(0,IF(F$1=PTable[1-Type],COUNTIF(F$1:F21,PTable[2-Test]), \"\"),0)),\"\")","v":""}]
[null,{"$f":"IFERROR(INDEX(PTable[2-Test],MATCH(0,IF(B$1=PTable[1-Type],COUNTIF(B$1:B22,PTable[2-Test]), \"\"),0)),\"\")","v":"Os.APC35"},{"$f":"IFERROR(INDEX(PTable[2-Test],MATCH(0,IF(C$1=PTable[1-Type],COUNTIF(C$1:C22,PTable[2-Test]), \"\"),0)),\"\")","v":""},{"$f":"IFERROR(INDEX(PTable[2-Test],MATCH(0,IF(D$1=PTable[1-Type],COUNTIF(D$1:D22,PTable[2-Test]), \"\"),0)),\"\")","v":""},{"$f":"IFERROR(INDEX(PTable[2-Test],MATCH(0,IF(E$1=PTable[1-Type],COUNTIF(E$1:E22,PTable[2-Test]), \"\"),0)),\"\")","v":""},{"$f":"IFERROR(INDEX(PTable[2-Test],MATCH(0,IF(F$1=PTable[1-Type],COUNTIF(F$1:F22,PTable[2-Test]), \"\"),0)),\"\")","v":""}]
[null,{"$f":"IFERROR(INDEX(PTable[2-Test],MATCH(0,IF(B$1=PTable[1-Type],COUNTIF(B$1:B23,PTable[2-Test]), \"\"),0)),\"\")","v":"Os.M"},{"$f":"IFERROR(INDEX(PTable[2-Test],MATCH(0,IF(C$1=PTable[1-Type],COUNTIF(C$1:C23,PTable[2-Test]), \"\"),0)),\"\")","v":""},{"$f":"IFERROR(INDEX(PTable[2-Test],MATCH(0,IF(D$1=PTable[1-Type],COUNTIF(D$1:D23,PTable[2-Test]), \"\"),0)),\"\")","v":""},{"$f":"IFERROR(INDEX(PTable[2-Test],MATCH(0,IF(E$1=PTable[1-Type],COUNTIF(E$1:E23,PTable[2-Test]), \"\"),0)),\"\")","v":""},{"$f":"IFERROR(INDEX(PTable[2-Test],MATCH(0,IF(F$1=PTable[1-Type],COUNTIF(F$1:F23,PTable[2-Test]), \"\"),0)),\"\")","v":""}]
[null,{"$f":"IFERROR(INDEX(PTable[2-Test],MATCH(0,IF(B$1=PTable[1-Type],COUNTIF(B$1:B24,PTable[2-Test]), \"\"),0)),\"\")","v":"Os.Y"},{"$f":"IFERROR(INDEX(PTable[2-Test],MATCH(0,IF(C$1=PTable[1-Type],COUNTIF(C$1:C24,PTable[2-Test]), \"\"),0)),\"\")","v":""},{"$f":"IFERROR(INDEX(PTable[2-Test],MATCH(0,IF(D$1=PTable[1-Type],COUNTIF(D$1:D24,PTable[2-Test]), \"\"),0)),\"\")","v":""},{"$f":"IFERROR(INDEX(PTable[2-Test],MATCH(0,IF(E$1=PTable[1-Type],COUNTIF(E$1:E24,PTable[2-Test]), \"\"),0)),\"\")","v":""},{"$f":"IFERROR(INDEX(PTable[2-Test],MATCH(0,IF(F$1=PTable[1-Type],COUNTIF(F$1:F24,PTable[2-Test]), \"\"),0)),\"\")","v":""}]
[null,{"$f":"IFERROR(INDEX(PTable[2-Test],MATCH(0,IF(B$1=PTable[1-Type],COUNTIF(B$1:B25,PTable[2-Test]), \"\"),0)),\"\")","v":"Pseud.sp"},{"$f":"IFERROR(INDEX(PTable[2-Test],MATCH(0,IF(C$1=PTable[1-Type],COUNTIF(C$1:C25,PTable[2-Test]), \"\"),0)),\"\")","v":""},{"$f":"IFERROR(INDEX(PTable[2-Test],MATCH(0,IF(D$1=PTable[1-Type],COUNTIF(D$1:D25,PTable[2-Test]), \"\"),0)),\"\")","v":""},{"$f":"IFERROR(INDEX(PTable[2-Test],MATCH(0,IF(E$1=PTable[1-Type],COUNTIF(E$1:E25,PTable[2-Test]), \"\"),0)),\"\")","v":""},{"$f":"IFERROR(INDEX(PTable[2-Test],MATCH(0,IF(F$1=PTable[1-Type],COUNTIF(F$1:F25,PTable[2-Test]), \"\"),0)),\"\")","v":""}]
[null,{"$f":"IFERROR(INDEX(PTable[2-Test],MATCH(0,IF(B$1=PTable[1-Type],COUNTIF(B$1:B26,PTable[2-Test]), \"\"),0)),\"\")","v":"Sp.MAe"},{"$f":"IFERROR(INDEX(PTable[2-Test],MATCH(0,IF(C$1=PTable[1-Type],COUNTIF(C$1:C26,PTable[2-Test]), \"\"),0)),\"\")","v":""},{"$f":"IFERROR(INDEX(PTable[2-Test],MATCH(0,IF(D$1=PTable[1-Type],COUNTIF(D$1:D26,PTable[2-Test]), \"\"),0)),\"\")","v":""},{"$f":"IFERROR(INDEX(PTable[2-Test],MATCH(0,IF(E$1=PTable[1-Type],COUNTIF(E$1:E26,PTable[2-Test]), \"\"),0)),\"\")","v":""},{"$f":"IFERROR(INDEX(PTable[2-Test],MATCH(0,IF(F$1=PTable[1-Type],COUNTIF(F$1:F26,PTable[2-Test]), \"\"),0)),\"\")","v":""}]
[null,{"$f":"IFERROR(INDEX(PTable[2-Test],MATCH(0,IF(B$1=PTable[1-Type],COUNTIF(B$1:B27,PTable[2-Test]), \"\"),0)),\"\")","v":"Sp.MAn"},{"$f":"IFERROR(INDEX(PTable[2-Test],MATCH(0,IF(C$1=PTable[1-Type],COUNTIF(C$1:C27,PTable[2-Test]), \"\"),0)),\"\")","v":""},{"$f":"IFERROR(INDEX(PTable[2-Test],MATCH(0,IF(D$1=PTable[1-Type],COUNTIF(D$1:D27,PTable[2-Test]), \"\"),0)),\"\")","v":""},{"$f":"IFERROR(INDEX(PTable[2-Test],MATCH(0,IF(E$1=PTable[1-Type],COUNTIF(E$1:E27,PTable[2-Test]), \"\"),0)),\"\")","v":""},{"$f":"IFERROR(INDEX(PTable[2-Test],MATCH(0,IF(F$1=PTable[1-Type],COUNTIF(F$1:F27,PTable[2-Test]), \"\"),0)),\"\")","v":""}]
[null,{"$f":"IFERROR(INDEX(PTable[2-Test],MATCH(0,IF(B$1=PTable[1-Type],COUNTIF(B$1:B28,PTable[2-Test]), \"\"),0)),\"\")","v":"StaphA"},{"$f":"IFERROR(INDEX(PTable[2-Test],MATCH(0,IF(C$1=PTable[1-Type],COUNTIF(C$1:C28,PTable[2-Test]), \"\"),0)),\"\")","v":""},{"$f":"IFERROR(INDEX(PTable[2-Test],MATCH(0,IF(D$1=PTable[1-Type],COUNTIF(D$1:D28,PTable[2-Test]), \"\"),0)),\"\")","v":""},{"$f":"IFERROR(INDEX(PTable[2-Test],MATCH(0,IF(E$1=PTable[1-Type],COUNTIF(E$1:E28,PTable[2-Test]), \"\"),0)),\"\")","v":""},{"$f":"IFERROR(INDEX(PTable[2-Test],MATCH(0,IF(F$1=PTable[1-Type],COUNTIF(F$1:F28,PTable[2-Test]), \"\"),0)),\"\")","v":""}]
[null,{"$f":"IFERROR(INDEX(PTable[2-Test],MATCH(0,IF(B$1=PTable[1-Type],COUNTIF(B$1:B29,PTable[2-Test]), \"\"),0)),\"\")","v":"Strept"},{"$f":"IFERROR(INDEX(PTable[2-Test],MATCH(0,IF(C$1=PTable[1-Type],COUNTIF(C$1:C29,PTable[2-Test]), \"\"),0)),\"\")","v":""},{"$f":"IFERROR(INDEX(PTable[2-Test],MATCH(0,IF(D$1=PTable[1-Type],COUNTIF(D$1:D29,PTable[2-Test]), \"\"),0)),\"\")","v":""},{"$f":"IFERROR(INDEX(PTable[2-Test],MATCH(0,IF(E$1=PTable[1-Type],COUNTIF(E$1:E29,PTable[2-Test]), \"\"),0)),\"\")","v":""},{"$f":"IFERROR(INDEX(PTable[2-Test],MATCH(0,IF(F$1=PTable[1-Type],COUNTIF(F$1:F29,PTable[2-Test]), \"\"),0)),\"\")","v":""}]
[null,{"$f":"IFERROR(INDEX(PTable[2-Test],MATCH(0,IF(B$1=PTable[1-Type],COUNTIF(B$1:B30,PTable[2-Test]), \"\"),0)),\"\")","v":"TYMC"},{"$f":"IFERROR(INDEX(PTable[2-Test],MATCH(0,IF(C$1=PTable[1-Type],COUNTIF(C$1:C30,PTable[2-Test]), \"\"),0)),\"\")","v":""},{"$f":"IFERROR(INDEX(PTable[2-Test],MATCH(0,IF(D$1=PTable[1-Type],COUNTIF(D$1:D30,PTable[2-Test]), \"\"),0)),\"\")","v":""},{"$f":"IFERROR(INDEX(PTable[2-Test],MATCH(0,IF(E$1=PTable[1-Type],COUNTIF(E$1:E30,PTable[2-Test]), \"\"),0)),\"\")","v":""},{"$f":"IFERROR(INDEX(PTable[2-Test],MATCH(0,IF(F$1=PTable[1-Type],COUNTIF(F$1:F30,PTable[2-Test]), \"\"),0)),\"\")","v":""}]
[null,{"$f":"IFERROR(INDEX(PTable[2-Test],MATCH(0,IF(B$1=PTable[1-Type],COUNTIF(B$1:B31,PTable[2-Test]), \"\"),0)),\"\")","v":"Y"},{"$f":"IFERROR(INDEX(PTable[2-Test],MATCH(0,IF(C$1=PTable[1-Type],COUNTIF(C$1:C31,PTable[2-Test]), \"\"),0)),\"\")","v":""},{"$f":"IFERROR(INDEX(PTable[2-Test],MATCH(0,IF(D$1=PTable[1-Type],COUNTIF(D$1:D31,PTable[2-Test]), \"\"),0)),\"\")","v":""},{"$f":"IFERROR(INDEX(PTable[2-Test],MATCH(0,IF(E$1=PTable[1-Type],COUNTIF(E$1:E31,PTable[2-Test]), \"\"),0)),\"\")","v":""},{"$f":"IFERROR(INDEX(PTable[2-Test],MATCH(0,IF(F$1=PTable[1-Type],COUNTIF(F$1:F31,PTable[2-Test]), \"\"),0)),\"\")","v":""}]
[null,{"$f":"IFERROR(INDEX(PTable[2-Test],MATCH(0,IF(B$1=PTable[1-Type],COUNTIF(B$1:B32,PTable[2-Test]), \"\"),0)),\"\")","v":""},{"$f":"IFERROR(INDEX(PTable[2-Test],MATCH(0,IF(C$1=PTable[1-Type],COUNTIF(C$1:C32,PTable[2-Test]), \"\"),0)),\"\")","v":""},{"$f":"IFERROR(INDEX(PTable[2-Test],MATCH(0,IF(D$1=PTable[1-Type],COUNTIF(D$1:D32,PTable[2-Test]), \"\"),0)),\"\")","v":""},{"$f":"IFERROR(INDEX(PTable[2-Test],MATCH(0,IF(E$1=PTable[1-Type],COUNTIF(E$1:E32,PTable[2-Test]), \"\"),0)),\"\")","v":""},{"$f":"IFERROR(INDEX(PTable[2-Test],MATCH(0,IF(F$1=PTable[1-Type],COUNTIF(F$1:F32,PTable[2-Test]), \"\"),0)),\"\")","v":""}]
[null,{"$f":"IFERROR(INDEX(PTable[2-Test],MATCH(0,IF(B$1=PTable[1-Type],COUNTIF(B$1:B33,PTable[2-Test]), \"\"),0)),\"\")","v":""},{"$f":"IFERROR(INDEX(PTable[2-Test],MATCH(0,IF(C$1=PTable[1-Type],COUNTIF(C$1:C33,PTable[2-Test]), \"\"),0)),\"\")","v":""},{"$f":"IFERROR(INDEX(PTable[2-Test],MATCH(0,IF(D$1=PTable[1-Type],COUNTIF(D$1:D33,PTable[2-Test]), \"\"),0)),\"\")","v":""},{"$f":"IFERROR(INDEX(PTable[2-Test],MATCH(0,IF(E$1=PTable[1-Type],COUNTIF(E$1:E33,PTable[2-Test]), \"\"),0)),\"\")","v":""},{"$f":"IFERROR(INDEX(PTable[2-Test],MATCH(0,IF(F$1=PTable[1-Type],COUNTIF(F$1:F33,PTable[2-Test]), \"\"),0)),\"\")","v":""}]
[null,{"$f":"IFERROR(INDEX(PTable[2-Test],MATCH(0,IF(B$1=PTable[1-Type],COUNTIF(B$1:B34,PTable[2-Test]), \"\"),0)),\"\")","v":""},{"$f":"IFERROR(INDEX(PTable[2-Test],MATCH(0,IF(C$1=PTable[1-Type],COUNTIF(C$1:C34,PTable[2-Test]), \"\"),0)),\"\")","v":""},{"$f":"IFERROR(INDEX(PTable[2-Test],MATCH(0,IF(D$1=PTable[1-Type],COUNTIF(D$1:D34,PTable[2-Test]), \"\"),0)),\"\")","v":""},{"$f":"IFERROR(INDEX(PTable[2-Test],MATCH(0,IF(E$1=PTable[1-Type],COUNTIF(E$1:E34,PTable[2-Test]), \"\"),0)),\"\")","v":""},{"$f":"IFERROR(INDEX(PTable[2-Test],MATCH(0,IF(F$1=PTable[1-Type],COUNTIF(F$1:F34,PTable[2-Test]), \"\"),0)),\"\")","v":""}]
[null,{"$f":"IFERROR(INDEX(PTable[2-Test],MATCH(0,IF(B$1=PTable[1-Type],COUNTIF(B$1:B35,PTable[2-Test]), \"\"),0)),\"\")","v":""},{"$f":"IFERROR(INDEX(PTable[2-Test],MATCH(0,IF(C$1=PTable[1-Type],COUNTIF(C$1:C35,PTable[2-Test]), \"\"),0)),\"\")","v":""},{"$f":"IFERROR(INDEX(PTable[2-Test],MATCH(0,IF(D$1=PTable[1-Type],COUNTIF(D$1:D35,PTable[2-Test]), \"\"),0)),\"\")","v":""},{"$f":"IFERROR(INDEX(PTable[2-Test],MATCH(0,IF(E$1=PTable[1-Type],COUNTIF(E$1:E35,PTable[2-Test]), \"\"),0)),\"\")","v":""},{"$f":"IFERROR(INDEX(PTable[2-Test],MATCH(0,IF(F$1=PTable[1-Type],COUNTIF(F$1:F35,PTable[2-Test]), \"\"),0)),\"\")","v":""}]
[null,{"$f":"IFERROR(INDEX(PTable[2-Test],MATCH(0,IF(B$1=PTable[1-Type],COUNTIF(B$1:B36,PTable[2-Test]), \"\"),0)),\"\")","v":""},{"$f":"IFERROR(INDEX(PTable[2-Test],MATCH(0,IF(C$1=PTable[1-Type],COUNTIF(C$1:C36,PTable[2-Test]), \"\"),0)),\"\")","v":""},{"$f":"IFERROR(INDEX(PTable[2-Test],MATCH(0,IF(D$1=PTable[1-Type],COUNTIF(D$1:D36,PTable[2-Test]), \"\"),0)),\"\")","v":""},{"$f":"IFERROR(INDEX(PTable[2-Test],MATCH(0,IF(E$1=PTable[1-Type],COUNTIF(E$1:E36,PTable[2-Test]), \"\"),0)),\"\")","v":""},{"$f":"IFERROR(INDEX(PTable[2-Test],MATCH(0,IF(F$1=PTable[1-Type],COUNTIF(F$1:F36,PTable[2-Test]), \"\"),0)),\"\")","v":""}]
[null,{"$f":"IFERROR(INDEX(PTable[2-Test],MATCH(0,IF(B$1=PTable[1-Type],COUNTIF(B$1:B37,PTable[2-Test]), \"\"),0)),\"\")","v":""},{"$f":"IFERROR(INDEX(PTable[2-Test],MATCH(0,IF(C$1=PTable[1-Type],COUNTIF(C$1:C37,PTable[2-Test]), \"\"),0)),\"\")","v":""},{"$f":"IFERROR(INDEX(PTable[2-Test],MATCH(0,IF(D$1=PTable[1-Type],COUNTIF(D$1:D37,PTable[2-Test]), \"\"),0)),\"\")","v":""},{"$f":"IFERROR(INDEX(PTable[2-Test],MATCH(0,IF(E$1=PTable[1-Type],COUNTIF(E$1:E37,PTable[2-Test]), \"\"),0)),\"\")","v":""},{"$f":"IFERROR(INDEX(PTable[2-Test],MATCH(0,IF(F$1=PTable[1-Type],COUNTIF(F$1:F37,PTable[2-Test]), \"\"),0)),\"\")","v":""}]
[null,{"$f":"IFERROR(INDEX(PTable[2-Test],MATCH(0,IF(B$1=PTable[1-Type],COUNTIF(B$1:B38,PTable[2-Test]), \"\"),0)),\"\")","v":""},{"$f":"IFERROR(INDEX(PTable[2-Test],MATCH(0,IF(C$1=PTable[1-Type],COUNTIF(C$1:C38,PTable[2-Test]), \"\"),0)),\"\")","v":""},{"$f":"IFERROR(INDEX(PTable[2-Test],MATCH(0,IF(D$1=PTable[1-Type],COUNTIF(D$1:D38,PTable[2-Test]), \"\"),0)),\"\")","v":""},{"$f":"IFERROR(INDEX(PTable[2-Test],MATCH(0,IF(E$1=PTable[1-Type],COUNTIF(E$1:E38,PTable[2-Test]), \"\"),0)),\"\")","v":""},{"$f":"IFERROR(INDEX(PTable[2-Test],MATCH(0,IF(F$1=PTable[1-Type],COUNTIF(F$1:F38,PTable[2-Test]), \"\"),0)),\"\")","v":""}]
[null,{"$f":"IFERROR(INDEX(PTable[2-Test],MATCH(0,IF(B$1=PTable[1-Type],COUNTIF(B$1:B39,PTable[2-Test]), \"\"),0)),\"\")","v":""},{"$f":"IFERROR(INDEX(PTable[2-Test],MATCH(0,IF(C$1=PTable[1-Type],COUNTIF(C$1:C39,PTable[2-Test]), \"\"),0)),\"\")","v":""},{"$f":"IFERROR(INDEX(PTable[2-Test],MATCH(0,IF(D$1=PTable[1-Type],COUNTIF(D$1:D39,PTable[2-Test]), \"\"),0)),\"\")","v":""},{"$f":"IFERROR(INDEX(PTable[2-Test],MATCH(0,IF(E$1=PTable[1-Type],COUNTIF(E$1:E39,PTable[2-Test]), \"\"),0)),\"\")","v":""},{"$f":"IFERROR(INDEX(PTable[2-Test],MATCH(0,IF(F$1=PTable[1-Type],COUNTIF(F$1:F39,PTable[2-Test]), \"\"),0)),\"\")","v":""}]
[null,{"$f":"IFERROR(INDEX(PTable[2-Test],MATCH(0,IF(B$1=PTable[1-Type],COUNTIF(B$1:B40,PTable[2-Test]), \"\"),0)),\"\")","v":""},{"$f":"IFERROR(INDEX(PTable[2-Test],MATCH(0,IF(C$1=PTable[1-Type],COUNTIF(C$1:C40,PTable[2-Test]), \"\"),0)),\"\")","v":""},{"$f":"IFERROR(INDEX(PTable[2-Test],MATCH(0,IF(D$1=PTable[1-Type],COUNTIF(D$1:D40,PTable[2-Test]), \"\"),0)),\"\")","v":""},{"$f":"IFERROR(INDEX(PTable[2-Test],MATCH(0,IF(E$1=PTable[1-Type],COUNTIF(E$1:E40,PTable[2-Test]), \"\"),0)),\"\")","v":""},{"$f":"IFERROR(INDEX(PTable[2-Test],MATCH(0,IF(F$1=PTable[1-Type],COUNTIF(F$1:F40,PTable[2-Test]), \"\"),0)),\"\")","v":""}]
[null,{"$f":"IFERROR(INDEX(PTable[2-Test],MATCH(0,IF(B$1=PTable[1-Type],COUNTIF(B$1:B41,PTable[2-Test]), \"\"),0)),\"\")","v":""},{"$f":"IFERROR(INDEX(PTable[2-Test],MATCH(0,IF(C$1=PTable[1-Type],COUNTIF(C$1:C41,PTable[2-Test]), \"\"),0)),\"\")","v":""},{"$f":"IFERROR(INDEX(PTable[2-Test],MATCH(0,IF(D$1=PTable[1-Type],COUNTIF(D$1:D41,PTable[2-Test]), \"\"),0)),\"\")","v":""},{"$f":"IFERROR(INDEX(PTable[2-Test],MATCH(0,IF(E$1=PTable[1-Type],COUNTIF(E$1:E41,PTable[2-Test]), \"\"),0)),\"\")","v":""},{"$f":"IFERROR(INDEX(PTable[2-Test],MATCH(0,IF(F$1=PTable[1-Type],COUNTIF(F$1:F41,PTable[2-Test]), \"\"),0)),\"\")","v":""}]
[]
["Do Not Delete"]
["See Instruction"]